Workbook

Sheet TTL
B5: 1 | D5: =SUM('1:12'!C5) -> 425.50302 | E5: =SUM('1:12'!D5) -> 8682.1259 | F5: =SUM('1:12'!E5) -> 0 | G5: =SUM('1:12'!F5) -> 255.57077 | H5: =SUM('1:12'!G5) -> 0 | I5: =SUM('1:12'!H5) -> 0 | J5: =SUM('1:12'!I5) -> 0 | K5: =SUM('1:12'!J5) -> 0 | L5: =SUM(D5:H5) -> 9363.1997 | M5: 1
B6: =+B5+1 -> 2 | D6: -425.50302 | E6: -8681.85 | F6: 0 | G6: -256.01 | H6: 0 | I6: 0 | J6: 0 | K6: 0 | L6: =SUM(D6:H6) -> -9363.363 | M6: 2
B7: =+B6+1 -> 3 | D7: =SUM('1:12'!C7) -> 0 | E7: =SUM('1:12'!D7) -> 3666.5924 | F7: =SUM('1:12'!E7) -> 0 | G7: =SUM('1:12'!F7)-'10'!F7 -> 12685.16 | H7: =SUM('1:12'!G7) -> 0 | I7: =SUM('1:12'!H7) -> 0 | J7: =SUM('1:12'!I7) -> 0 | K7: =SUM('1:12'!J7) -> 0 | L7: =SUM(D7:H7) -> 16351.752 | M7: 1
B8: =+B7+1 -> 4 | D8: 0 | E8: -3666.59 | F8: 0 | G8: -12685.16 | H8: 0 | I8: 0 | J8: 0 | K8: 0 | L8: =SUM(D8:H8) -> -16351.75 | M8: 2
B9: =+B8+1 -> 5 | D9: =SUM('1:12'!C9) -> 748.69765 | E9: =SUM('1:12'!D9) -> 1186.1881 | F9: =SUM('1:12'!E9) -> 0 | G9: =SUM('1:12'!F9) -> 324.75811 | H9: =SUM('1:12'!G9) -> 0 | I9: =SUM('1:12'!H9) -> 0 | J9: =SUM('1:12'!I9) -> 0 | K9: =SUM('1:12'!J9) -> 0 | L9: =SUM(D9:H9) -> 2259.6438 | M9: 1
B10: =+B9+1 -> 6 | D10: -748.69765 | E10: -1185.9 | F10: 0 | G10: -324.76 | H10: 0 | I10: 0 | J10: 0 | K10: 0 | L10: =SUM(D10:H10) -> -2259.3576 | M10: 2
B11: =+B10+1 -> 7 | D11: =SUM('1:12'!C11) -> 0 | E11: =SUM('1:12'!D11) -> 24202.455 | F11: =SUM('1:12'!E11) -> 0 | G11: =SUM('1:12'!F11) -> 119.78127 | H11: =SUM('1:12'!G11) -> 1738 | I11: =SUM('1:12'!H11) -> 40590 | J11: =SUM('1:12'!I11) -> -7032.6178 | K11: =SUM('1:12'!J11) -> 0 | L11: =SUM(D11:H11) -> 26060.237 | M11: 1
B12: =+B11+1 -> 8 | D12: -3176 | E12: -21025.65 | F12: 0 | G12: -119.82 | H12: -1738 | I12: -40590 | J12: -7032.96 | K12: 0 | L12: =SUM(D12:H12) -> -26059.47 | M12: 2
B13: =+B12+1 -> 9 | D13: =SUM('1:12'!C13) -> 839.91203 | E13: =SUM('1:12'!D13) -> 13653.754 | F13: =SUM('1:12'!E13) -> 531.08237 | G13: =SUM('1:12'!F13) -> 8203.2693 | H13: =SUM('1:12'!G13) -> 9220.2687 | I13: =SUM('1:12'!H13) -> 86035.504 | J13: =SUM('1:12'!I13) -> 0 | K13: =SUM('1:12'!J13) -> 0 | L13: =SUM(D13:H13) -> 32448.286 | M13: 1
B14: =+B13+1 -> 10 | D14: -840.07856 | E14: -13652.974 | F14: -531.08237 | G14: -8202.688 | H14: -9219.79 | I14: -86035.79 | J14: 0 | K14: 0 | L14: =SUM(D14:H14) -> -32446.613 | M14: 2
B15: =+B14+1 -> 11 | D15: =SUM('1:12'!C15) -> 25.151 | E15: =SUM('1:12'!D15) -> 4 | F15: =SUM('1:12'!E15) -> 0 | G15: =SUM('1:12'!F15) -> 0 | H15: =SUM('1:12'!G15) -> 0 | I15: =SUM('1:12'!H15) -> 0 | J15: =SUM('1:12'!I15) -> 0 | K15: =SUM('1:12'!J15) -> 0 | L15: =SUM(D15:H15) -> 29.151 | M15: 1
B16: =+B15+1 -> 12 | D16: -25.15 | E16: -4 | F16: 0 | G16: 0 | H16: 0 | I16: 0 | J16: 0 | K16: 0 | L16: =SUM(D16:H16) -> -29.15 | M16: 2
B17: =+B16+1 -> 13 | D17: =SUM('1:12'!C17) -> 152.60331 | E17: =SUM('1:12'!D17) -> 2173.2243 | F17: =SUM('1:12'!E17) -> 0 | G17: =SUM('1:12'!F17) -> 12631.65 | H17: =SUM('1:12'!G17) -> 35044.288 | I17: =SUM('1:12'!H17) -> 332336.94 | J17: =SUM('1:12'!I17) -> 0 | K17: =SUM('1:12'!J17) -> 0 | L17: =SUM(D17:H17) -> 50001.766 | M17: 1
B18: =+B17+1 -> 14 | D18: -152.60331 | E18: -2173.217 | F18: 0 | G18: -12631.9 | H18: -35044 | I18: -332337 | J18: 0 | K18: 0 | L18: =SUM(D18:H18) -> -50001.72 | M18: 2
B19: =+B18+1 -> 15 | D19: =SUM('1:12'!C19) -> 4599.9283 | E19: =SUM('1:12'!D19) -> 117175.04 | F19: =SUM('1:12'!E19) -> 512.68611 | G19: =SUM('1:12'!F19) -> 3463.4841 | H19: =SUM('1:12'!G19) -> 1798880 | I19: =SUM('1:12'!H19) -> 20028550 | J19: =SUM('1:12'!I19) -> 0 | K19: =SUM('1:12'!J19) -> 0 | L19: =SUM(D19:H19) -> 1924631.1 | M19: 1
B20: =+B19+1 -> 16 | D20: -4599.9283 | E20: -117174.97 | F20: -512.68611 | G20: -3463 | H20: -1798880 | I20: -20028550 | J20: 0 | K20: 0 | L20: =SUM(D20:H20) -> -1924630.6 | M20: 2
B21: =+B20+1 -> 17 | D21: =SUM('1:12'!C21) -> 69147.298 | E21: =SUM('1:12'!D21) -> 3177.662 | F21: =SUM('1:12'!E21) -> 5464.6548 | G21: =SUM('1:12'!F21) -> 132 | H21: =SUM('1:12'!G21) -> 0 | I21: =SUM('1:12'!H21) -> 0 | J21: =SUM('1:12'!I21) -> 0 | K21: =SUM('1:12'!J21) -> 0 | L21: =SUM(D21:H21) -> 77921.615 | M21: 1
B22: =+B21+1 -> 18 | D22: -69147.298 | E22: -3178.11 | F22: -126 | G22: -132 | H22: 0 | I22: 0 | J22: 0 | K22: 0 | L22: =SUM(D22:H22) -> -72583.408 | M22: 2
B23: =+B22+1 -> 19 | D23: =SUM('1:12'!C23) -> 37872 | E23: =SUM('1:12'!D23) -> 51187.746 | F23: =SUM('1:12'!E23) -> 66 | G23: =SUM('1:12'!F23) -> 9374.6772 | H23: =SUM('1:12'!G23) -> 0 | I23: =SUM('1:12'!H23) -> 0 | J23: =SUM('1:12'!I23) -> 0 | K23: =SUM('1:12'!J23) -> 0 | L23: =SUM(D23:H23) -> 98500.424 | M23: 1
B24: =+B23+1 -> 20 | D24: -37872 | E24: -51187.75 | F24: -66 | G24: -9374.68 | H24: 0 | I24: 0 | J24: 0 | K24: 0 | L24: =SUM(D24:H24) -> -98500.43 | M24: 2
B25: =+B24+1 -> 21 | D25: =SUM('1:12'!C25) -> 3523.5212 | E25: =SUM('1:12'!D25) -> 189620.82 | F25: =SUM('1:12'!E25) -> 4839.1883 | G25: =SUM('1:12'!F25) -> 751.74297 | H25: =SUM('1:12'!G25) -> 0 | I25: =SUM('1:12'!H25) -> 6660.2244 | J25: =SUM('1:12'!I25) -> 0 | K25: =SUM('1:12'!J25) -> 117755 | L25: =SUM(D25:H25) -> 198735.27 | M25: 1
B26: =+B25+1 -> 22 | D26: -3523.1172 | E26: -189621.61 | F26: -4839.1883 | G26: -751.615 | H26: 0 | I26: -6660 | J26: 0 | K26: 117755 | L26: =SUM(D26:H26) -> -198735.54 | M26: 2
B27: =+B26+1 -> 23 | D27: =SUM('1:12'!C27) -> 0 | E27: =SUM('1:12'!D27) -> 180623.29 | F27: =SUM('1:12'!E27) -> 0 | G27: =SUM('1:12'!F27) -> 0 | H27: =SUM('1:12'!G27) -> 0 | I27: =SUM('1:12'!H27) -> 0 | J27: =SUM('1:12'!I27) -> 0 | K27: =SUM('1:12'!J27) -> 0 | L27: =SUM(D27:H27) -> 180623.29 | M27: 1
B28: =+B27+1 -> 24 | D28: 0 | E28: -180623.12 | F28: 0 | G28: 0 | H28: 0 | I28: 0 | J28: 0 | K28: 0 | L28: =SUM(D28:H28) -> -180623.12 | M28: 2
C30: TTL 1 | D30: =SUMIF($M$5:$M$28,1,D$5:D$28) -> 117334.61 | E30: =SUMIF($M$5:$M$28,1,E$5:E$28) -> 595352.89 | F30: =SUMIF($M$5:$M$28,1,F$5:F$28) -> 11413.612 | G30: =SUMIF($M$5:$M$28,1,G$5:G$28) -> 47942.094 | H30: =SUMIF($M$5:$M$28,1,H$5:H$28) -> 1844882.6 | I30: =SUMIF($M$5:$M$28,1,I$5:I$28) -> 20494173 | J30: =SUMIF($M$5:$M$28,1,J$5:J$28) -> -7032.6178 | K30: =SUMIF($M$5:$M$28,1,K$5:K$28) -> 117755 | L30: =SUMIF($M$5:$M$28,1,L$5:L$28) -> 2616925.8
C31: TTL 2 | D31: =SUMIF($M$5:$M$28,2,D$5:D$28) -> -120510.38 | E31: =SUMIF($M$5:$M$28,2,E$5:E$28) -> -592175.75 | F31: =SUMIF($M$5:$M$28,2,F$5:F$28) -> -6074.9568 | G31: =SUMIF($M$5:$M$28,2,G$5:G$28) -> -47941.633 | H31: =SUMIF($M$5:$M$28,2,H$5:H$28) -> -1844881.8 | I31: =SUMIF($M$5:$M$28,2,I$5:I$28) -> -20494173 | J31: =SUMIF($M$5:$M$28,2,J$5:J$28) -> -7032.96 | K31: =SUMIF($M$5:$M$28,2,K$5:K$28) -> 117755 | L31: =SUMIF($M$5:$M$28,2,L$5:L$28) -> -2611584.5
C32: DIFF | D32: =D30+D31 -> -3175.7616 | E32: =E30+E31 -> 3177.1407 | F32: =F30+F31 -> 5338.6548 | G32: =G30+G31 -> 0.46089 | H32: =H30+H31 -> 0.7665 | I32: =I30+I31 -> -0.1182 | J32: =J30-J31 -> 0.34223 | K32: =K30-K31 -> 0 | L32: =L30+L31 -> 5341.2613

Sheet 1
A5: 1 | L5: 1
A6: =+A5+1 -> 2 | L6: 2
A7: =+A6+1 -> 3 | L7: 1
A8: =+A7+1 -> 4 | L8: 2
A9: =+A8+1 -> 5 | L9: 1
A10: =+A9+1 -> 6 | L10: 2
A11: =+A10+1 -> 7 | L11: 1
A12: =+A11+1 -> 8 | L12: 2
A13: =+A12+1 -> 9 | L13: 1
A14: =+A13+1 -> 10 | L14: 2
A15: =+A14+1 -> 11 | L15: 1
A16: =+A15+1 -> 12 | L16: 2
A17: =+A16+1 -> 13 | L17: 1
... A28: =+A27+1 -> 24 | L28: 2

Sheet 2
A5: 1 | C5: 0 | D5: 0 | E5: 0 | F5: 0 | G5: 0 | H5: 0 | I5: 0 | J5: 0 | K5: 0 | L5: 1
A6: =+A5+1 -> 2 | C6: -425.50302 | D6: -8681.85 | E6: 0 | F6: -256.01 | G6: 0 | H6: 0 | I6: 0 | J6: 0 | K6: -9363.363 | L6: 2
A7: =+A6+1 -> 3 | C7: 0 | D7: 0 | E7: 0 | F7: 0 | G7: 0 | H7: 0 | I7: 0 | J7: 0 | K7: 0 | L7: 1
A8: =+A7+1 -> 4 | C8: 0 | D8: -3666.59 | E8: 0 | F8: -12685.16 | G8: 0 | H8: 0 | I8: 0 | J8: 0 | K8: -16351.75 | L8: 2
A9: =+A8+1 -> 5 | C9: 0 | D9: 0 | E9: 0 | F9: 0 | G9: 0 | H9: 0 | I9: 0 | J9: 0 | K9: 0 | L9: 1
A10: =+A9+1 -> 6 | C10: -748.69765 | D10: -1185.9 | E10: 0 | F10: -324.76 | G10: 0 | H10: 0 | I10: 0 | J10: 0 | K10: -2259.3576 | L10: 2
A11: =+A10+1 -> 7 | C11: 0 | D11: 0 | E11: 0 | F11: 0 | G11: 0 | H11: 0 | I11: 0 | J11: 0 | K11: 0 | L11: 1
A12: =+A11+1 -> 8 | C12: -3176 | D12: -21025.65 | E12: 0 | F12: -119.82 | G12: -1738 | H12: -40590 | I12: -7032.96 | J12: 0 | K12: -26059.47 | L12: 2
A13: =+A12+1 -> 9 | C13: 0 | D13: 0 | E13: 0 | F13: 0 | G13: 0 | H13: 0 | I13: 0 | J13: 0 | K13: 0 | L13: 1
A14: =+A13+1 -> 10 | C14: -840.07856 | D14: -13652.974 | E14: -531.08237 | F14: -8202.688 | G14: -9219.79 | H14: -86035.79 | I14: 0 | J14: 0 | K14: -32446.613 | L14: 2
A15: =+A14+1 -> 11 | C15: 0 | D15: 0 | E15: 0 | F15: 0 | G15: 0 | H15: 0 | I15: 0 | J15: 0 | K15: 0 | L15: 1
A16: =+A15+1 -> 12 | C16: -25.15 | D16: -4 | E16: 0 | F16: 0 | G16: 0 | H16: 0 | I16: 0 | J16: 0 | K16: -29.15 | L16: 2
A17: =+A16+1 -> 13 | C17: 0 | D17: 0 | E17: 0 | F17: 0 | G17: 0 | H17: 0 | I17: 0 | J17: 0 | K17: 0 | L17: 1
... A28: =+A27+1 -> 24 | C28: 0 | D28: -180623.12 | E28: 0 | F28: 0 | G28: 0 | H28: 0 | I28: 0 | J28: 0 | K28: -180623.12 | L28: 2

Sheet 3
A5: 1 | C5: 0 | D5: 0 | E5: 0 | F5: 0 | G5: 0 | H5: 0 | I5: 0 | J5: 0 | K5: 0 | L5: 1
A6: =+A5+1 -> 2 | C6: -425.50302 | D6: -8681.85 | E6: 0 | F6: -256.01 | G6: 0 | H6: 0 | I6: 0 | J6: 0 | K6: -9363.363 | L6: 2
A7: =+A6+1 -> 3 | C7: 0 | D7: 0 | E7: 0 | F7: 0 | G7: 0 | H7: 0 | I7: 0 | J7: 0 | K7: 0 | L7: 1
A8: =+A7+1 -> 4 | C8: 0 | D8: -3666.59 | E8: 0 | F8: -12685.16 | G8: 0 | H8: 0 | I8: 0 | J8: 0 | K8: -16351.75 | L8: 2
A9: =+A8+1 -> 5 | C9: 0 | D9: 0 | E9: 0 | F9: 0 | G9: 0 | H9: 0 | I9: 0 | J9: 0 | K9: 0 | L9: 1
A10: =+A9+1 -> 6 | C10: -748.69765 | D10: -1185.9 | E10: 0 | F10: -324.76 | G10: 0 | H10: 0 | I10: 0 | J10: 0 | K10: -2259.3576 | L10: 2
A11: =+A10+1 -> 7 | C11: 0 | D11: 3176.2024 | E11: 0 | F11: 0 | G11: 0 | H11: 0 | I11: -6.95964 | J11: 0 | K11: 3176.2024 | L11: 1
A12: =+A11+1 -> 8 | C12: -3176 | D12: -21025.65 | E12: 0 | F12: -119.82 | G12: -1738 | H12: -40590 | I12: -7032.96 | J12: 0 | K12: -26059.47 | L12: 2
A13: =+A12+1 -> 9 | C13: 59.76115 | D13: 409.90709 | E13: 0 | F13: 0 | G13: 450 | H13: 1517 | I13: 0 | J13: 0 | K13: 919.66824 | L13: 1
A14: =+A13+1 -> 10 | C14: -840.07856 | D14: -13652.974 | E14: -531.08237 | F14: -8202.688 | G14: -9219.79 | H14: -86035.79 | I14: 0 | J14: 0 | K14: -32446.613 | L14: 2
A15: =+A14+1 -> 11 | C15: 0 | D15: 0 | E15: 0 | F15: 0 | G15: 0 | H15: 0 | I15: 0 | J15: 0 | K15: 0 | L15: 1
A16: =+A15+1 -> 12 | C16: -25.15 | D16: -4 | E16: 0 | F16: 0 | G16: 0 | H16: 0 | I16: 0 | J16: 0 | K16: -29.15 | L16: 2
A17: =+A16+1 -> 13 | C17: 0 | D17: 246.32288 | E17: 0 | F17: 10 | G17: 0 | H17: 0 | I17: 0 | J17: 0 | K17: 256.32288 | L17: 1
... A28: =+A27+1 -> 24 | C28: 0 | D28: -180623.12 | E28: 0 | F28: 0 | G28: 0 | H28: 0 | I28: 0 | J28: 0 | K28: -180623.12 | L28: 2

Sheet 4
A5: 1 | C5: 0 | D5: 4255.8547 | E5: 0 | F5: 113.0094 | G5: 0 | H5: 0 | I5: 0 | J5: 0 | K5: 4368.8641 | L5: 1
A6: =+A5+1 -> 2 | C6: -425.50302 | D6: -8681.85 | E6: 0 | F6: -256.01 | G6: 0 | H6: 0 | I6: 0 | J6: 0 | K6: -9363.363 | L6: 2
A7: =+A6+1 -> 3 | C7: 0 | D7: 3666.5924 | E7: 0 | F7: 317.15989 | G7: 0 | H7: 0 | I7: 0 | J7: 0 | K7: 3983.7523 | L7: 1
A8: =+A7+1 -> 4 | C8: 0 | D8: -3666.59 | E8: 0 | F8: -12685.16 | G8: 0 | H8: 0 | I8: 0 | J8: 0 | K8: -16351.75 | L8: 2
A9: =+A8+1 -> 5 | C9: 0 | D9: 30.9 | E9: 0 | F9: 324.75811 | G9: 0 | H9: 0 | I9: 0 | J9: 0 | K9: 355.65811 | L9: 1
A10: =+A9+1 -> 6 | C10: -748.69765 | D10: -1185.9 | E10: 0 | F10: -324.76 | G10: 0 | H10: 0 | I10: 0 | J10: 0 | K10: -2259.3576 | L10: 2
A11: =+A10+1 -> 7 | C11: 0 | D11: 2544.6478 | E11: 0 | F11: 16.81781 | G11: 0 | H11: 0 | I11: 0 | J11: 0 | K11: 2561.4657 | L11: 1
A12: =+A11+1 -> 8 | C12: -3176 | D12: -21025.65 | E12: 0 | F12: -119.82 | G12: -1738 | H12: -40590 | I12: -7032.96 | J12: 0 | K12: -26059.47 | L12: 2
A13: =+A12+1 -> 9 | C13: 0 | D13: 368.11945 | E13: 0 | F13: 37.21429 | G13: 9.789 | H13: 1434.789 | I13: 0 | J13: 0 | K13: 415.12274 | L13: 1
A14: =+A13+1 -> 10 | C14: -840.07856 | D14: -13652.974 | E14: -531.08237 | F14: -8202.688 | G14: -9219.79 | H14: -86035.79 | I14: 0 | J14: 0 | K14: -32446.613 | L14: 2
A15: =+A14+1 -> 11 | C15: 25.151 | D15: 0 | E15: 0 | F15: 0 | G15: 0 | H15: 0 | I15: 0 | J15: 0 | K15: 25.151 | L15: 1
A16: =+A15+1 -> 12 | C16: -25.15 | D16: -4 | E16: 0 | F16: 0 | G16: 0 | H16: 0 | I16: 0 | J16: 0 | K16: -29.15 | L16: 2
A17: =+A16+1 -> 13 | C17: 0 | D17: 483.614 | E17: 0 | F17: 201.9 | G17: 0 | H17: 0 | I17: 0 | J17: 0 | K17: 685.514 | L17: 1
... A28: =+A27+1 -> 24 | C28: 0 | D28: -180623.12 | E28: 0 | F28: 0 | G28: 0 | H28: 0 | I28: 0 | J28: 0 | K28: -180623.12 | L28: 2

Sheet a retirer 
A1: Collecte des Dépenses Environnementales (en k devises) | D1: =TTL!#REF! -> #REF!
A3: Nom de l'Entité / Filiale : | C3: PEI | G3: TOTAL Dépenses
A4: Nom du valideur : | G4: =B22+C22+D22+E22+F22 -> 0
A7: DOMAINES | B7: Charges d'exploitation | D7: Dépenses capitalisées (investissements) | F7: Dotations aux provisions | G7: Provisions constituées | H7: Valorisation des déchets | I7: Evaluation des pertes de production (en MWh)
B8: Etudes | C8: Charges hors études | D8: Etudes | E8: Investissements hors études
A9: 1 - Protection de l'air ambiant
A10: 1.2 - Limitation des émissions de gaz à effet de serre
A11: 2 - Gestion des eaux usées
A12: 3 - Gestion des déchets
A13: 4 - Protection et assainissement du sol, des eaux souterraines et des eaux de surface
A14: 5 - Lutte contre le bruit et les vibrations
A15: 6 - Protection de la biodiversité et du paysage
A16: 7 - Protection contre les rayonnements
A17: 8 - Recherche & Développement
A18: 9 - Autres activités de protection de l'environnement
A19: dont les taxes
A20: 10 - Dépenses liées à la Maîtrise de la Demande d'Energie
B21: =B9+B11+B12+B13+B14+B15+B16+B17+B18+B20 -> 0 | E21: 5338.6548
A22: TOTAL | B22: =B9+B11+B12+B13+B14+B15+B16+B17+B18+B20+B10 -> 0 | C22: =C9+C11+C12+C13+C14+C15+C16+C17+C18+C20+C10 -> 0 | D22: =D9+D11+D12+D13+D14+D15+D16+D17+D18+D20+D10 -> 0 | E22: =E9+E11+E12+E13+E14+E15+E16+E17+E18+E20+E10 -> 0 | F22: =F9+F11+F12+F13+F14+F15+F16+F17+F18+F20+F10 -> 0 | G22: =G9+G11+G12+G13+G14+G15+G16+G17+G18+G20+G10 -> 0 | H22: =H12 -> 0 | I22: =I18 -> 0

Sheet 5
A5: 1 | C5: 0 | D5: 0 | E5: 0 | F5: 0 | G5: 0 | H5: 0 | I5: 0 | J5: 0 | K5: 0 | L5: 1
A6: =+A5+1 -> 2 | C6: -425.50302 | D6: -8681.85 | E6: 0 | F6: -256.01 | G6: 0 | H6: 0 | I6: 0 | J6: 0 | K6: -9363.363 | L6: 2
A7: =+A6+1 -> 3 | C7: 0 | D7: 0 | E7: 0 | F7: 0 | G7: 0 | H7: 0 | I7: 0 | J7: 0 | K7: 0 | L7: 1
A8: =+A7+1 -> 4 | C8: 0 | D8: -3666.59 | E8: 0 | F8: -12685.16 | G8: 0 | H8: 0 | I8: 0 | J8: 0 | K8: -16351.75 | L8: 2
A9: =+A8+1 -> 5 | C9: 0 | D9: 0 | E9: 0 | F9: 0 | G9: 0 | H9: 0 | I9: 0 | J9: 0 | K9: 0 | L9: 1
A10: =+A9+1 -> 6 | C10: -748.69765 | D10: -1185.9 | E10: 0 | F10: -324.76 | G10: 0 | H10: 0 | I10: 0 | J10: 0 | K10: -2259.3576 | L10: 2
A11: =+A10+1 -> 7 | C11: 0 | D11: 0 | E11: 0 | F11: 0 | G11: 0 | H11: 0 | I11: 0 | J11: 0 | K11: 0 | L11: 1
A12: =+A11+1 -> 8 | C12: -3176 | D12: -21025.65 | E12: 0 | F12: -119.82 | G12: -1738 | H12: -40590 | I12: -7032.96 | J12: 0 | K12: -26059.47 | L12: 2
A13: =+A12+1 -> 9 | C13: 0 | D13: 0 | E13: 0 | F13: 0 | G13: 0 | H13: 0 | I13: 0 | J13: 0 | K13: 0 | L13: 1
A14: =+A13+1 -> 10 | C14: -840.07856 | D14: -13652.974 | E14: -531.08237 | F14: -8202.688 | G14: -9219.79 | H14: -86035.79 | I14: 0 | J14: 0 | K14: -32446.613 | L14: 2
A15: =+A14+1 -> 11 | C15: 0 | D15: 0 | E15: 0 | F15: 0 | G15: 0 | H15: 0 | I15: 0 | J15: 0 | K15: 0 | L15: 1
A16: =+A15+1 -> 12 | C16: -25.15 | D16: -4 | E16: 0 | F16: 0 | G16: 0 | H16: 0 | I16: 0 | J16: 0 | K16: -29.15 | L16: 2
A17: =+A16+1 -> 13 | C17: 0 | D17: 0 | E17: 0 | F17: 0 | G17: 0 | H17: 0 | I17: 0 | J17: 0 | K17: 0 | L17: 1
... A28: =+A27+1 -> 24 | C28: 0 | D28: -180623.12 | E28: 0 | F28: 0 | G28: 0 | H28: 0 | I28: 0 | J28: 0 | K28: -180623.12 | L28: 2

Sheet 6
A5: 1 | C5: 425.50302 | D5: 0 | E5: 0 | F5: 0 | G5: 0 | H5: 0 | I5: 0 | J5: 0 | K5: 425.50302 | L5: 1
A6: =+A5+1 -> 2 | C6: -425.50302 | D6: -8681.85 | E6: 0 | F6: -256.01 | G6: 0 | H6: 0 | I6: 0 | J6: 0 | K6: -9363.363 | L6: 2
A7: =+A6+1 -> 3 | C7: 0 | D7: 0 | E7: 0 | F7: 0 | G7: 0 | H7: 0 | I7: 0 | J7: 0 | K7: 0 | L7: 1
A8: =+A7+1 -> 4 | C8: 0 | D8: -3666.59 | E8: 0 | F8: -12685.16 | G8: 0 | H8: 0 | I8: 0 | J8: 0 | K8: -16351.75 | L8: 2
A9: =+A8+1 -> 5 | C9: 748.69765 | D9: 0 | E9: 0 | F9: 0 | G9: 0 | H9: 0 | I9: 0 | J9: 0 | K9: 748.69765 | L9: 1
A10: =+A9+1 -> 6 | C10: -748.69765 | D10: -1185.9 | E10: 0 | F10: -324.76 | G10: 0 | H10: 0 | I10: 0 | J10: 0 | K10: -2259.3576 | L10: 2
A11: =+A10+1 -> 7 | C11: 0 | D11: 0 | E11: 0 | F11: 0 | G11: 0 | H11: 0 | I11: 0 | J11: 0 | K11: 0 | L11: 1
A12: =+A11+1 -> 8 | C12: -3176 | D12: -21025.65 | E12: 0 | F12: -119.82 | G12: -1738 | H12: -40590 | I12: -7032.96 | J12: 0 | K12: -26059.47 | L12: 2
A13: =+A12+1 -> 9 | C13: 746.31856 | D13: 0 | E13: 531.08237 | F13: 0 | G13: 0 | H13: 0 | I13: 0 | J13: 0 | K13: 1277.4009 | L13: 1
A14: =+A13+1 -> 10 | C14: -840.07856 | D14: -13652.974 | E14: -531.08237 | F14: -8202.688 | G14: -9219.79 | H14: -86035.79 | I14: 0 | J14: 0 | K14: -32446.613 | L14: 2
A15: =+A14+1 -> 11 | C15: 0 | D15: 0 | E15: 0 | F15: 0 | G15: 0 | H15: 0 | I15: 0 | J15: 0 | K15: 0 | L15: 1
A16: =+A15+1 -> 12 | C16: -25.15 | D16: -4 | E16: 0 | F16: 0 | G16: 0 | H16: 0 | I16: 0 | J16: 0 | K16: -29.15 | L16: 2
A17: =+A16+1 -> 13 | C17: 152.60331 | D17: 0 | E17: 0 | F17: 0 | G17: 0 | H17: 0 | I17: 0 | J17: 0 | K17: 152.60331 | L17: 1
... A28: =+A27+1 -> 24 | C28: 0 | D28: -180623.12 | E28: 0 | F28: 0 | G28: 0 | H28: 0 | I28: 0 | J28: 0 | K28: -180623.12 | L28: 2

Sheet 7
A5: 1 | C5: 0 | D5: 0 | E5: 0 | F5: 0 | G5: 0 | H5: 0 | I5: 0 | J5: 0 | K5: 0 | L5: 1
A6: =+A5+1 -> 2 | C6: -425.50302 | D6: -8681.85 | E6: 0 | F6: -256.01 | G6: 0 | H6: 0 | I6: 0 | J6: 0 | K6: -9363.363 | L6: 2
A7: =+A6+1 -> 3 | C7: 0 | D7: 0 | E7: 0 | F7: 0 | G7: 0 | H7: 0 | I7: 0 | J7: 0 | K7: 0 | L7: 1
A8: =+A7+1 -> 4 | C8: 0 | D8: -3666.59 | E8: 0 | F8: -12685.16 | G8: 0 | H8: 0 | I8: 0 | J8: 0 | K8: -16351.75 | L8: 2
A9: =+A8+1 -> 5 | C9: 0 | D9: 0 | E9: 0 | F9: 0 | G9: 0 | H9: 0 | I9: 0 | J9: 0 | K9: 0 | L9: 1
A10: =+A9+1 -> 6 | C10: -748.69765 | D10: -1185.9 | E10: 0 | F10: -324.76 | G10: 0 | H10: 0 | I10: 0 | J10: 0 | K10: -2259.3576 | L10: 2
A11: =+A10+1 -> 7 | C11: 0 | D11: 0 | E11: 0 | F11: 0 | G11: 0 | H11: 0 | I11: 0 | J11: 0 | K11: 0 | L11: 1
A12: =+A11+1 -> 8 | C12: -3176 | D12: -21025.65 | E12: 0 | F12: -119.82 | G12: -1738 | H12: -40590 | I12: -7032.96 | J12: 0 | K12: -26059.47 | L12: 2
A13: =+A12+1 -> 9 | C13: 0 | D13: 0 | E13: 0 | F13: 0 | G13: 0 | H13: 0 | I13: 0 | J13: 0 | K13: 0 | L13: 1
A14: =+A13+1 -> 10 | C14: -840.07856 | D14: -13652.974 | E14: -531.08237 | F14: -8202.688 | G14: -9219.79 | H14: -86035.79 | I14: 0 | J14: 0 | K14: -32446.613 | L14: 2
A15: =+A14+1 -> 11 | C15: 0 | D15: 0 | E15: 0 | F15: 0 | G15: 0 | H15: 0 | I15: 0 | J15: 0 | K15: 0 | L15: 1
A16: =+A15+1 -> 12 | C16: -25.15 | D16: -4 | E16: 0 | F16: 0 | G16: 0 | H16: 0 | I16: 0 | J16: 0 | K16: -29.15 | L16: 2
A17: =+A16+1 -> 13 | C17: 0 | D17: 0 | E17: 0 | F17: 0 | G17: 0 | H17: 0 | I17: 0 | J17: 0 | K17: 0 | L17: 1
... A28: =+A27+1 -> 24 | C28: 0 | D28: -180623.12 | E28: 0 | F28: 0 | G28: 0 | H28: 0 | I28: 0 | J28: 0 | K28: -180623.12 | L28: 2

Sheet 8
A5: 1 | C5: 0 | D5: 0 | E5: 0 | F5: 0 | G5: 0 | H5: 0 | I5: 0 | J5: 0 | K5: 0 | L5: 1
A6: =+A5+1 -> 2 | C6: -425.50302 | D6: -8681.85 | E6: 0 | F6: -256.01 | G6: 0 | H6: 0 | I6: 0 | J6: 0 | K6: -9363.363 | L6: 2
A7: =+A6+1 -> 3 | C7: 0 | D7: 0 | E7: 0 | F7: 0 | G7: 0 | H7: 0 | I7: 0 | J7: 0 | K7: 0 | L7: 1
A8: =+A7+1 -> 4 | C8: 0 | D8: -3666.59 | E8: 0 | F8: -12685.16 | G8: 0 | H8: 0 | I8: 0 | J8: 0 | K8: -16351.75 | L8: 2
A9: =+A8+1 -> 5 | C9: 0 | D9: 0 | E9: 0 | F9: 0 | G9: 0 | H9: 0 | I9: 0 | J9: 0 | K9: 0 | L9: 1
A10: =+A9+1 -> 6 | C10: -748.69765 | D10: -1185.9 | E10: 0 | F10: -324.76 | G10: 0 | H10: 0 | I10: 0 | J10: 0 | K10: -2259.3576 | L10: 2
A11: =+A10+1 -> 7 | C11: 0 | D11: 0 | E11: 0 | F11: 0 | G11: 0 | H11: 0 | I11: 0 | J11: 0 | K11: 0 | L11: 1
A12: =+A11+1 -> 8 | C12: -3176 | D12: -21025.65 | E12: 0 | F12: -119.82 | G12: -1738 | H12: -40590 | I12: -7032.96 | J12: 0 | K12: -26059.47 | L12: 2
A13: =+A12+1 -> 9 | C13: 0 | D13: 780.9441 | E13: 0 | F13: 6496.4781 | G13: 0 | H13: 0 | I13: 0 | J13: 0 | K13: 7277.4222 | L13: 1
A14: =+A13+1 -> 10 | C14: -840.07856 | D14: -13652.974 | E14: -531.08237 | F14: -8202.688 | G14: -9219.79 | H14: -86035.79 | I14: 0 | J14: 0 | K14: -32446.613 | L14: 2
A15: =+A14+1 -> 11 | C15: 0 | D15: 0 | E15: 0 | F15: 0 | G15: 0 | H15: 0 | I15: 0 | J15: 0 | K15: 0 | L15: 1
A16: =+A15+1 -> 12 | C16: -25.15 | D16: -4 | E16: 0 | F16: 0 | G16: 0 | H16: 0 | I16: 0 | J16: 0 | K16: -29.15 | L16: 2
A17: =+A16+1 -> 13 | C17: 0 | D17: 1065.2875 | E17: 0 | F17: 0 | G17: 0 | H17: 0 | I17: 0 | J17: 0 | K17: 1065.2875 | L17: 1
... A28: =+A27+1 -> 24 | C28: 0 | D28: -180623.12 | E28: 0 | F28: 0 | G28: 0 | H28: 0 | I28: 0 | J28: 0 | K28: -180623.12 | L28: 2

Sheet 9
A5: 1 | C5: 0 | D5: 2 | E5: 0 | F5: 0 | G5: 0 | H5: 0 | I5: 0 | J5: 0 | K5: 2 | L5: 1
A6: =+A5+1 -> 2 | C6: -425.50302 | D6: -8681.85 | E6: 0 | F6: -256.01 | G6: 0 | H6: 0 | I6: 0 | J6: 0 | K6: -9363.363 | L6: 2
A7: =+A6+1 -> 3 | C7: 0 | D7: 0 | E7: 0 | F7: 0 | G7: 0 | H7: 0 | I7: 0 | J7: 0 | K7: 0 | L7: 1
A8: =+A7+1 -> 4 | C8: 0 | D8: -3666.59 | E8: 0 | F8: -12685.16 | G8: 0 | H8: 0 | I8: 0 | J8: 0 | K8: -16351.75 | L8: 2
A9: =+A8+1 -> 5 | C9: 0 | D9: 0 | E9: 0 | F9: 0 | G9: 0 | H9: 0 | I9: 0 | J9: 0 | K9: 0 | L9: 1
A10: =+A9+1 -> 6 | C10: -748.69765 | D10: -1185.9 | E10: 0 | F10: -324.76 | G10: 0 | H10: 0 | I10: 0 | J10: 0 | K10: -2259.3576 | L10: 2
A11: =+A10+1 -> 7 | C11: 0 | D11: 0 | E11: 0 | F11: 0 | G11: 1738 | H11: 40590 | I11: 0 | J11: 0 | K11: 1738 | L11: 1
A12: =+A11+1 -> 8 | C12: -3176 | D12: -21025.65 | E12: 0 | F12: -119.82 | G12: -1738 | H12: -40590 | I12: -7032.96 | J12: 0 | K12: -26059.47 | L12: 2
A13: =+A12+1 -> 9 | C13: 0 | D13: 84 | E13: 0 | F13: 0 | G13: 0 | H13: 0 | I13: 0 | J13: 0 | K13: 84 | L13: 1
A14: =+A13+1 -> 10 | C14: -840.07856 | D14: -13652.974 | E14: -531.08237 | F14: -8202.688 | G14: -9219.79 | H14: -86035.79 | I14: 0 | J14: 0 | K14: -32446.613 | L14: 2
A15: =+A14+1 -> 11 | C15: 0 | D15: 0 | E15: 0 | F15: 0 | G15: 0 | H15: 0 | I15: 0 | J15: 0 | K15: 0 | L15: 1
A16: =+A15+1 -> 12 | C16: -25.15 | D16: -4 | E16: 0 | F16: 0 | G16: 0 | H16: 0 | I16: 0 | J16: 0 | K16: -29.15 | L16: 2
A17: =+A16+1 -> 13 | C17: 0 | D17: 378 | E17: 0 | F17: 11730 | G17: 0 | H17: 0 | I17: 0 | J17: 0 | K17: 12108 | L17: 1
... A28: =+A27+1 -> 24 | C28: 0 | D28: -180623.12 | E28: 0 | F28: 0 | G28: 0 | H28: 0 | I28: 0 | J28: 0 | K28: -180623.12 | L28: 2

Sheet 10
A5: 1 | C5: 0 | D5: 0 | E5: 0 | F5: 142.56137 | G5: 0 | H5: 0 | I5: 0 | J5: 0 | K5: 142.56137 | L5: 1
A6: =+A5+1 -> 2 | C6: -425.50302 | D6: -8681.85 | E6: 0 | F6: -256.01 | G6: 0 | H6: 0 | I6: 0 | J6: 0 | K6: -9363.363 | L6: 2
A7: =+A6+1 -> 3 | C7: 0 | D7: 0 | E7: 0 | F7: 142.56137 | G7: 0 | H7: 0 | I7: 0 | J7: 0 | K7: 0 | L7: 1
A8: =+A7+1 -> 4 | C8: 0 | D8: -3666.59 | E8: 0 | F8: -12685.16 | G8: 0 | H8: 0 | I8: 0 | J8: 0 | K8: -16351.75 | L8: 2
A9: =+A8+1 -> 5 | C9: 0 | D9: 1155.2881 | E9: 0 | F9: 0 | G9: 0 | H9: 0 | I9: 0 | J9: 0 | K9: 1155.2881 | L9: 1
A10: =+A9+1 -> 6 | C10: -748.69765 | D10: -1185.9 | E10: 0 | F10: -324.76 | G10: 0 | H10: 0 | I10: 0 | J10: 0 | K10: -2259.3576 | L10: 2
A11: =+A10+1 -> 7 | C11: 0 | D11: 14832.271 | E11: 0 | F11: 0 | G11: 0 | H11: 0 | I11: 0 | J11: 0 | K11: 14832.271 | L11: 1
A12: =+A11+1 -> 8 | C12: -3176 | D12: -21025.65 | E12: 0 | F12: -119.82 | G12: -1738 | H12: -40590 | I12: -7032.96 | J12: 0 | K12: -26059.47 | L12: 2
A13: =+A12+1 -> 9 | C13: 0 | D13: 11599.34 | E13: 0 | F13: 1644.3693 | G13: 0 | H13: 0 | I13: 0 | J13: 0 | K13: 13243.709 | L13: 1
A14: =+A13+1 -> 10 | C14: -840.07856 | D14: -13652.974 | E14: -531.08237 | F14: -8202.688 | G14: -9219.79 | H14: -86035.79 | I14: 0 | J14: 0 | K14: -32446.613 | L14: 2
A15: =+A14+1 -> 11 | C15: 0 | D15: 0 | E15: 0 | F15: 0 | G15: 0 | H15: 0 | I15: 0 | J15: 0 | K15: 0 | L15: 1
A16: =+A15+1 -> 12 | C16: -25.15 | D16: -4 | E16: 0 | F16: 0 | G16: 0 | H16: 0 | I16: 0 | J16: 0 | K16: -29.15 | L16: 2
A17: =+A16+1 -> 13 | C17: 0 | D17: 0 | E17: 0 | F17: 0 | G17: 0 | H17: 0 | I17: 0 | J17: 0 | K17: 0 | L17: 1
... A28: =+A27+1 -> 24 | C28: 0 | D28: -180623.12 | E28: 0 | F28: 0 | G28: 0 | H28: 0 | I28: 0 | J28: 0 | K28: -180623.12 | L28: 2

Sheet 11
A5: 1 | C5: 0 | D5: 4424.2712 | E5: 0 | F5: 0 | G5: 0 | H5: 0 | I5: 0 | J5: 0 | K5: 4424.2712 | L5: 1
A6: =+A5+1 -> 2 | C6: -425.50302 | D6: -8681.85 | E6: 0 | F6: -256.01 | G6: 0 | H6: 0 | I6: 0 | J6: 0 | K6: -9363.363 | L6: 2
A7: =+A6+1 -> 3 | C7: 0 | D7: 0 | E7: 0 | F7: 12368 | G7: 0 | H7: 0 | I7: 0 | J7: 0 | K7: 12368 | L7: 1
A8: =+A7+1 -> 4 | C8: 0 | D8: -3666.59 | E8: 0 | F8: -12685.16 | G8: 0 | H8: 0 | I8: 0 | J8: 0 | K8: -16351.75 | L8: 2
A9: =+A8+1 -> 5 | C9: 0 | D9: 0 | E9: 0 | F9: 0 | G9: 0 | H9: 0 | I9: 0 | J9: 0 | K9: 0 | L9: 1
A10: =+A9+1 -> 6 | C10: -748.69765 | D10: -1185.9 | E10: 0 | F10: -324.76 | G10: 0 | H10: 0 | I10: 0 | J10: 0 | K10: -2259.3576 | L10: 2
A11: =+A10+1 -> 7 | C11: 0 | D11: 3649.3335 | E11: 0 | F11: 102.96346 | G11: 0 | H11: 0 | I11: -7025.6581 | J11: 0 | K11: 3752.297 | L11: 1
A12: =+A11+1 -> 8 | C12: -3176 | D12: -21025.65 | E12: 0 | F12: -119.82 | G12: -1738 | H12: -40590 | I12: -7032.96 | J12: 0 | K12: -26059.47 | L12: 2
A13: =+A12+1 -> 9 | C13: 33.83232 | D13: 411.44327 | E13: 0 | F13: 25.20757 | G13: 8760.4797 | H13: 83083.715 | I13: 0 | J13: 0 | K13: 9230.9629 | L13: 1
A14: =+A13+1 -> 10 | C14: -840.07856 | D14: -13652.974 | E14: -531.08237 | F14: -8202.688 | G14: -9219.79 | H14: -86035.79 | I14: 0 | J14: 0 | K14: -32446.613 | L14: 2
A15: =+A14+1 -> 11 | C15: 0 | D15: 4 | E15: 0 | F15: 0 | G15: 0 | H15: 0 | I15: 0 | J15: 0 | K15: 4 | L15: 1
A16: =+A15+1 -> 12 | C16: -25.15 | D16: -4 | E16: 0 | F16: 0 | G16: 0 | H16: 0 | I16: 0 | J16: 0 | K16: -29.15 | L16: 2
A17: =+A16+1 -> 13 | C17: 0 | D17: 0 | E17: 0 | F17: 689.75021 | G17: 35044.288 | H17: 332336.94 | I17: 0 | J17: 0 | K17: 35734.038 | L17: 1
... A28: =+A27+1 -> 24 | C28: 0 | D28: -180623.12 | E28: 0 | F28: 0 | G28: 0 | H28: 0 | I28: 0 | J28: 0 | K28: -180623.12 | L28: 2

Sheet 12
A5: 1 | L5: 1
A6: =+A5+1 -> 2 | L6: 2
A7: =+A6+1 -> 3 | L7: 1
A8: =+A7+1 -> 4 | L8: 2
A9: =+A8+1 -> 5 | L9: 1
A10: =+A9+1 -> 6 | L10: 2
A11: =+A10+1 -> 7 | L11: 1
A12: =+A11+1 -> 8 | L12: 2
A13: =+A12+1 -> 9 | L13: 1
A14: =+A13+1 -> 10 | L14: 2
A15: =+A14+1 -> 11 | L15: 1
A16: =+A15+1 -> 12 | L16: 2
A17: =+A16+1 -> 13 | L17: 1
... A28: =+A27+1 -> 24 | L28: 2
