Workbook

Sheet Qlik
A1: N° du dossier | B1: Période Année Mois | C1: Section | D1: N° tiers | E1: Nom | F1: Prénom | G1: Date début affectation | H1: Date fin affectation | I1: N° Volet | J1: Date début volet | K1: Date fin volet | L1: Date de naissance | M1: Age | N1: Typologie | O1: Etat civil | P1: Sexe | Q1: Nationalité | R1: Pays de Naissance | S1: Ville de naissance | T1: Canton de naissance | U1: Ville d'origine | V1: Canton d'origine | W1: Date d'arrivée à Genève | X1: Permis | Y1: Profession | Z1: Date de décès | AA1: Lieu du décès | AB1: Date fin d'activité | AC1: N° AVS | AD1: N° NNSS | AE1: N° AI | AF1: N° SPC individuel | AG1: N° SPC familial | AH1: N° HG | AI1: N° référence AFC | AJ1: N° contribuable | AK1: N° au TT | AL1: Tél 1 | AM1: Type Tél 1 | AN1: Tél 2 | AO1: Type Tél 2 | AP1: Tél 3 | AQ1: Type Tél 3 | AR1: Tél 4 | AS1: Type Tél 4 | AT1: Courriel | AU1: C/O | AV1: Rue, Numéro | AW1: Immeuble | AX1: Case postale | AY1: Code postal | AZ1: Ville | BA1: Canton | BB1: Pays | BC1: Dernière date de modification | BD1: Dernier modificateur | BE1: Date de création | BF1: Créateur
A2: 6 | B2: 201705 | C2: Adulte-Section A | D2: 12343 | E2: Brunner | F2: Hans Rudolf | G2: 39141 | I2: 0000000601 | J2: 39965 | L2: 14637 | M2: 77 | O2: Célibataire | P2: Masculin | Q2: Suisse | R2: Suisse | S2: St Gall | T2: Saint-Gall | U2: Hemberg | V2: Saint-Gall | W2: 29577 | AC2: 222.40.127.117 | AD2: 756 5859 3444 13 | AF2: 294323 | AG2: 294323 | AI2: R13 172 564 | AJ2: 222 40 127 0 | AK2: 309271881 | AM2: Téléphone fixe | AO2: Téléphone portable | AQ2: Bip | AS2: Fax | AV2: Av. de l'Ermitage 1 | AY2: 1224 | AZ2: CHENE-BOUGERIES | BA2: Genève | BB2: Suisse | BC2: 41382.429 | BD2: MAUNICED | BE2: 39965
A3: 58 | B3: 201705 | C3: Adulte-Section A | D3: 13257 | E3: Marcos | F3: Carmen | G3: 34291 | I3: 0000005801 | J3: 39965 | L3: 23205 | M3: 53 | O3: Célibataire | P3: Féminin | Q3: Espagnol | R3: Espagne | S3: Barcelone | W3: 28352 | X3: Permis d'établissement C | AC3: 630.63.713.157 | AD3: 756 5335 9957 64 | AF3: 259845 | AG3: 259845 | AI3: R11 257 099 | AJ3: 630 63 713 0 | AK3: 843412359 | AM3: Téléphone fixe | AO3: Téléphone portable | AQ3: Bip | AS3: Fax | AU3: EPI Résidence Cavour | AV3: Rue Cavour 15 | AY3: 1203 | AZ3: GENEVE | BA3: Genève | BB3: Suisse | BC3: 41416.521 | BD3: MURAD | BE3: 39965
A4: 125 | B4: 201705 | C4: Adulte-Section A | D4: 13479 | E4: Paccot | F4: Christiane Françoise | G4: 37645 | I4: 0000012501 | J4: 39965 | L4: 17675 | M4: 69 | O4: Célibataire | P4: Féminin | Q4: Suisse | R4: Suisse | S4: Genève | T4: Genève | U4: Genève | V4: Genève | W4: 17675 | AC4: 700.48.653.144 | AD4: 756 2890 3184 96 | AF4: 461584 | AG4: 461584 | AI4: R10 629 528 | AJ4: 700 48 653 0 | AK4: 410400152 | AM4: Téléphone fixe | AO4: Téléphone portable | AQ4: Bip | AS4: Fax | AV4: Ch. Mouille-Galand 2E | AY4: 1214 | AZ4: VERNIER | BA4: Genève | BB4: Suisse | BC4: 42807.683 | BD4: BRENTINIG | BE4: 39965
A5: 160 | B5: 201705 | C5: Adulte-Section C | D5: 13167 | E5: Laurent | F5: Thierry Jean | G5: 34275 | I5: 0000016001 | J5: 39965 | L5: 24249 | M5: 51 | O5: Célibataire | P5: Masculin | Q5: Suisse | R5: Suisse | S5: Lausanne | T5: Vaud | U5: Fey | V5: Vaud | W5: 30407 | AC5: 583.66.253.112 | AD5: 756 9640 9860 97 | AF5: 263060 | AG5: 263060 | AI5: R12 184 648 | AJ5: 583 66 253 0 | AK5: 198852570 | AM5: Téléphone fixe | AO5: Téléphone portable | AQ5: Bip | AS5: Fax | AU5: Home Claire-Fontaine | AV5: Rte de Chêne 80B | AY5: 1224 | AZ5: CHENE-BOUGERIES | BA5: Genève | BB5: Suisse | BC5: 42902.618 | BD5: PILRODESOUSAA | BE5: 39965
A6: 162 | B6: 201705 | C6: Adulte-Section A | D6: 13385 | E6: Moser | F6: Alexandra Grace | G6: 37035 | I6: 0000016201 | J6: 39965 | L6: 30249 | M6: 34 | O6: Célibataire | P6: Féminin | Q6: Suisse | R6: Suisse | S6: Sorengo | T6: Tessin | U6: Trüllikon | V6: Zürich | W6: 30538 | AC6: 665.82.825.115 | AD6: 756 5592 1771 18 | AF6: 326728 | AG6: 326728 | AI6: R11 761 663 | AJ6: 665 82 825 0 | AK6: 608214455 | AM6: Téléphone fixe | AO6: Téléphone portable | AQ6: Bip | AS6: Fax | AU6: Aigues-Vertes | AV6: Rte de Chèvre 29 | AY6: 1233 | AZ6: BERNEX | BA6: Genève | BB6: Suisse | BC6: 41299.306 | BD6: INTCTI | BE6: 39965
A7: 334 | B7: 201705 | C7: Adulte-Section B | D7: 13704 | E7: Rossier | F7: Isabelle Henriette | G7: 34290 | I7: 0000033401 | J7: 39965 | L7: 23283 | M7: 53 | O7: Célibataire | P7: Féminin | Q7: Suisse | R7: Suisse | S7: Genève | T7: Genève | U7: Bussigny | V7: Vaud | W7: 23283 | AC7: 759.63.791.119 | AD7: 756 0414 4347 45 | AF7: 194298 | AG7: 194298 | AI7: R11 100 425 | AJ7: 759 63 791 0 | AK7: 482328589 | AM7: Téléphone fixe | AO7: Téléphone portable | AQ7: Bip | AS7: Fax | BC7: 42808.489 | BD7: ASCARIZMA | BE7: 39965
A8: 1373 | B8: 201705 | C8: Adulte-Section C | D8: 13624 | E8: Quirici | F8: Giovanni | G8: 38933 | I8: 0000137301 | J8: 39965 | L8: 15749 | M8: 74 | O8: Célibataire | P8: Masculin | Q8: Suisse | R8: Italie | S8: Borgonoro | U8: Bidogno | V8: Tessin | W8: 34516 | AC8: 724.43.143.212 | AD8: 756 4402 6379 34 | AF8: 306344 | AG8: 306344 | AI8: R10 480 619 | AJ8: 724 43 143 0 | AK8: 504722517 | AM8: Téléphone fixe | AO8: Téléphone portable | AQ8: Bip | AS8: Fax | AU8: Maison des Champs | AV8: Rte de Pré-Lauret 5 | AY8: 1233 | AZ8: BERNEX | BA8: Genève | BB8: Suisse | BC8: 41299.306 | BD8: INTCTI | BE8: 39965
A9: 1381 | B9: 201705 | C9: Adulte-Section C | D9: 13266 | E9: Marquis | F9: Adeline Charlotte Cécile | G9: 38954 | I9: 0000138101 | J9: 39965 | L9: 32267 | M9: 29 | O9: Célibataire | P9: Féminin | Q9: Suisse | R9: Suisse | S9: Genève | T9: Genève | U9: Genève | V9: Genève | W9: 32267 | AC9: 631.88.635.115 | AD9: 756 7334 3128 01 | AF9: 495672 | AG9: 493741 | AI9: R26 323 762 | AJ9: 631 88 635 0 | AK9: 611292505 | AM9: Téléphone fixe | AO9: Téléphone portable | AQ9: Bip | AS9: Fax | AV9: Rue Hoffmann 14 | AY9: 1202 | AZ9: GENEVE | BA9: Genève | BB9: Suisse | BC9: 42458.484 | BD9: FERRARAS | BE9: 39965
A10: 16805 | B10: 201705 | C10: Adulte-Section A | D10: 88236 | E10: Rossi | F10: Melanie Sara Anna | G10: 41984 | I10: 0001680501 | J10: 41944 | L10: 30480 | M10: 34 | O10: Célibataire | P10: Féminin | Q10: Suisse | R10: Suisse | S10: Chêne-Bougeries | U10: Poschiavo | V10: Grisons | W10: 38379 | X10: Attestation d'établissement | AD10: 756 7757 6113 69 | AF10: 663462 | AG10: 664968 | AK10: 516440989 | AM10: Téléphone portable | AN10: 076 623 63 64 | AO10: Téléphone portable | AQ10: Bip | AS10: Fax | AV10: Quai du Cheval Blanc 1 | AY10: 1227 | AZ10: Carouge | BA10: Genève | BB10: Suisse | BC10: 42744.486 | BD10: PERLOTTID | BE10: 41543.68 | BF10: GALLAYS

Sheet Lieu-vie
A1: Personne suivie | B1: Dossier | C1: SSS Dossier | D1: Hébergeur | E1: Typologie hébergeur | F1: Typologie site | G1: Lieu d'hébergement | H1: Type | I1: Date de début de placement | J1: Date de fin de placement | K1: Mandataire placement | L1: Courrier | M1: Confidentiel | N1: Nombre de jours/semaine | O1: Autres informations | P1: Parents | Q1: Numéro Gestionnaire | R1: Gestionnaire | S1: Volet Financier - Statut | T1: Info placement
A2: Brunner Hans Rudolf, 27.01.1940_6 | B2: 6 | C2: Adulte - Adulte-SOC - Adulte-Section A | D2: Sans hébergeur | G2: Av. de l'Ermitage 1, 1224 CHENE-BOUGERIES | H2: Principal | I2: 42006 | K2: TMin | L2: Adresse courrier | N2: 0 | P2: Mère: Bianchin Rösli, 03.06.1920 (Autorité parentale) | Q2: 242 | R2: Bonhomme Catherine | S2: 0000000601 - Actif
A3: Marcos Carmen, 13.07.1963_58 | B3: 58 | C3: Adulte - Adulte-SOC - Adulte-Section A | D3: Residence Cavour | E3: Foyer adulte | F3: Foyer adulte | G3: Rue Cavour 15, 1203 GENEVE | H3: Principal | I3: 41421 | K3: TMin | L3: Adresse courrier | N3: 0 | P3: Père: Marcos-Lopez Antonio (Autorité parentale) - Mère: Davila Murrieta Elena, 20.03.1928 (Autorité parentale) | Q3: 257 | R3: Ly Sieu-Chou | S3: 0000005801 - Actif
A4: Marcos Carmen, 13.07.1963_58 | B4: 58 | C4: Adulte - Adulte-SOC - Adulte-Section A | D4: Sans hébergeur | G4: c/o : EPI-Résidence Train Bleu Rue Ferrier 7, 1202 Genève | H4: Principal | I4: 40728 | J4: 41420 | K4: TMin | P4: Père: Marcos-Lopez Antonio (Autorité parentale) - Mère: Davila Murrieta Elena, 20.03.1928 (Autorité parentale) | Q4: 257 | R4: Ly Sieu-Chou | S4: 0000005801 - Actif
A5: Marcos Carmen, 13.07.1963_58 | B5: 58 | C5: Adulte - Adulte-SOC - Adulte-Section A | D5: Sans hébergeur | G5: c/o : La Maison des Champs Rte du Pré-Lauret 5, 1233 Bernex | H5: Principal | I5: 35760 | J5: 40727 | K5: TMin | P5: Père: Marcos-Lopez Antonio (Autorité parentale) - Mère: Davila Murrieta Elena, 20.03.1928 (Autorité parentale) | Q5: 257 | R5: Ly Sieu-Chou | S5: 0000005801 - Actif
A6: Paccot Christiane Françoise, 22.05.1948_125 | B6: 125 | C6: Adulte - Adulte-SOC - Adulte-Section A | D6: Sans hébergeur | G6: Ch. Mouille-Galand 2E, 1214 VERNIER | H6: Principal | I6: 42101 | K6: TMin | L6: Adresse courrier | N6: 0 | P6: Père: Paccot René Pierre, 09.08.1913 (Autorité parentale) - Mère: Paccot Suzanne Nelly, 27.02.1916 (Autorité parentale) | Q6: 242 | R6: Bonhomme Catherine | S6: 0000012501 - Actif
A7: Laurent Thierry Jean, 22.05.1966_160 | B7: 160 | C7: Adulte - Adulte-SOC - Adulte-Section C | D7: Fondation Ensemble Claire-Fontaine | E7: Foyer adulte | F7: Foyer adulte | G7: Rte de Chêne 80B, 1224 CHENE-BOUGERIES | H7: Principal | I7: 42010 | K7: TMin | L7: Adresse courrier | N7: 0 | P7: Père: Laurent Armand Roger Alois, 12.04.1939 (Autorité parentale) - Mère: Laurent Janine Françoise, 21.05.1939 (Autorité parentale) | Q7: 468 | R7: Berbati Besim | S7: 0000016001 - Actif
A8: Moser Alexandra Grace, 25.10.1982_162 | B8: 162 | C8: Adulte - Adulte-SOC - Adulte-Section A | D8: Fondation Aigues-Vertes | E8: Foyer adulte | F8: Foyer adulte | G8: Rte de Chèvres 29, 1233 BERNEX | H8: Principal | I8: 42011 | K8: TMin | L8: Adresse courrier | N8: 0 | P8: Père: Balde Amadou Moctar, 26.12.1945 (Autorité parentale) - Mère: Moser Josette Evelyne Sophie, 11.11.1949 (Autorité parentale) | Q8: 258 | R8: Meister Catherine | S8: 0000016201 - Actif
A9: Rossier Isabelle Henriette, 29.09.1963_334 | B9: 334 | C9: Adulte - Adulte-SOC - Adulte-Section B | D9: Ems Le Leman | E9: EMS | F9: EMS | G9: Rte d'Hermance 30, 1222 VESENAZ | H9: Principal | I9: 42695 | K9: TMin | L9: Adresse courrier | N9: 0 | P9: Père: Rossier André (Autorité parentale) - Mère: Rossier Jacqueline (Autorité parentale) | Q9: 370 | R9: Lutete André | S9: 0000033401 - Actif
A10: Rossier Isabelle Henriette, 29.09.1963_334 | B10: 334 | C10: Adulte - Adulte-SOC - Adulte-Section B | D10: Residence De La Combe | E10: Foyer adulte | F10: Foyer adulte | G10: c/o : Residence De La Combe Rte d'Hermance 63, 1245 COLLONGE-BELLERIVE | H10: Principal | I10: 42341 | J10: 42491 | K10: TMin | N10: 0 | O10: Complément : résidence Le Léman | P10: Père: Rossier André (Autorité parentale) - Mère: Rossier Jacqueline (Autorité parentale) | Q10: 370 | R10: Lutete André | S10: 0000033401 - Actif
A11: Rossier Isabelle Henriette, 29.09.1963_334 | B11: 334 | C11: Adulte - Adulte-SOC - Adulte-Section B | D11: Sans hébergeur | G11: c/o : EPI La Combe Rte d'Hermance 63, 1245 COLLONGE-BELLERIVE | H11: Principal | I11: 42058 | J11: 42340 | K11: TMin | N11: 0 | P11: Père: Rossier André (Autorité parentale) - Mère: Rossier Jacqueline (Autorité parentale) | Q11: 370 | R11: Lutete André | S11: 0000033401 - Actif
A12: Quirici Giovanni, 12.02.1943_1373 | B12: 1373 | C12: Adulte - Adulte-SOC - Adulte-Section C | D12: Association Thais Maison Des Champs | E12: Foyer adulte | F12: Foyer adulte | G12: Rue des Bossons 31, 1213 ONEX | H12: Principal | I12: 38139 | K12: TMin | L12: Adresse courrier | N12: 0 | P12: Mère: Quirici Lina, 07.01.1911 (Autorité parentale) - Père: Quirici Luigi (Autorité parentale) | Q12: 441 | R12: Cirlini Françoise | S12: 0000137301 - Actif
A13: Marquis Adeline Charlotte Cécile, 04.05.1988_1381 | B13: 1381 | C13: Adulte - Adulte-SOC - Adulte-Section C | D13: Sans hébergeur | G13: Rue Hoffmann 14, 1202 GENEVE | H13: Principal | I13: 42090 | K13: TMin | L13: Adresse courrier | N13: 0 | P13: Père: Marquis Claude-André, 05.06.1946 - Mère: Marquis Yvonne Marcelle, 12.12.1949 | Q13: 444 | R13: Baki Nourredine | S13: 0000138101 - Actif
A14: Rossi Melanie Sara Anna, 13.06.1983_16805 | B14: 16805 | C14: Adulte - Adulte-SOC - Adulte-Section A | D14: Sans hébergeur | G14: Quai Cheval Blanc 1, 1227 Carouge | H14: Principal | I14: 42415 | K14: TMin | L14: Adresse courrier | N14: 0 | O14: Code accès/Étage : 7721 | P14: Père: Rossi Daniel, 03.08.1957 | Q14: 257 | R14: Ly Sieu-Chou | S14: 0001680501 - Actif
A15: Rossi Melanie Sara Anna, 13.06.1983_16805 | B15: 16805 | C15: Adulte - Adulte-SOC - Adulte-Section A | D15: Sans hébergeur | G15: Rue Henri-Veyrassat 6, 1202 GENEVE | H15: Principal | I15: 41984 | J15: 42414 | K15: TMin | N15: 0 | P15: Père: Rossi Daniel, 03.08.1957 | Q15: 257 | R15: Ly Sieu-Chou | S15: 0001680501 - Actif

Sheet Balance
A2: 42935 | G2: Nbre dossiers actifs (Figé) | I2: =COUNTIF($E$7:$E$56951,"Actif") -> 9 | J2: Nbre dossiers clot.en cours (Figé) | L2: =COUNTIF($E$7:$E$56951,"Clôture en cours") -> 0 | M2: Total des dossiers (Figé) | O2: =I2+L2 -> 9
A3: TOTAUX DU FILTRE EN NOMBRE DE DOSSIERS | G3: =SUBTOTAL(3,G$7:G$61958) -> 9 | H3: =SUBTOTAL(3,H$7:H$61958) -> 9 | I3: =SUBTOTAL(3,I$7:I$61958) -> 9 | J3: =SUBTOTAL(3,J$7:J$61958) -> 9 | K3: =SUBTOTAL(3,K$7:K$61958) -> 9 | L3: =SUBTOTAL(3,L$7:L$61958) -> 9 | M3: =SUBTOTAL(3,M$7:M$61958) -> 9 | N3: =SUBTOTAL(3,N$7:N$61958) -> 9 | O3: =SUBTOTAL(3,O$7:O$61958) -> 9
A4: TOTAUX DU FILTRE EN CHF | G4: =SUBTOTAL(9,G$7:G$61958) -> 48294.77 | H4: =SUBTOTAL(9,H$7:H$61958) -> 3960.1 | I4: =SUBTOTAL(9,I$7:I$61958) -> 0 | J4: =SUBTOTAL(9,J$7:J$61958) -> 813.1 | K4: =SUBTOTAL(9,K$7:K$61958) -> 38496.35 | L4: =SUBTOTAL(9,L$7:L$61958) -> 10611.52 | M4: =SUBTOTAL(9,M$7:M$61958) -> 100944.19 | N4: =SUBTOTAL(9,N$7:N$61958) -> 1893.11 | O4: =SUBTOTAL(9,O$7:O$61958) -> 1
A6: N° Gestionnaire | B6: Personne Suivi | C6: Date de décès / relève | D6: N° Volet | E6: Statut VF | F6: Financeur | G6: Solde C/C (1) | H6: Encaissé à lettrer | I6: A encaisser HG (*) (2) | J6: A encaisser autres (3) | K6: A payer (4) | L6: Total Disponible = 1+2+3-4 | M6: Solde compte bancaire gérés par service (3) | N6: Solde compte bancaire géré par pupille | O6: Titres Immeubles Inventaires
A7: 242 | B7: Brunner Hans Rudolf | D7: 0000000601 | E7: Actif | F7: SPC | G7: 10018.17 | H7: 0 | I7: 0 | J7: 0 | K7: 4774.1 | L7: 5244.07 | M7: 0 | N7: 470.5 | O7: 0
A8: 242 | B8: Paccot Christiane Françoise | D8: 0000012501 | E8: Actif | F8: SPC | G8: 5213.3 | H8: 0 | I8: 0 | J8: 527.65 | K8: 323.45 | L8: 5417.5 | M8: 16640.5 | N8: 1287.5 | O8: 0
A9: 257 | B9: Marcos Carmen | D9: 0000005801 | E9: Actif | F9: SPC | G9: 9644 | H9: 188.55 | I9: 0 | J9: 90 | K9: 18973.2 | L9: -9239.2 | M9: 0 | N9: -10 | O9: 1
A10: 257 | B10: Rossi Melanie Sara Anna | D10: 0001680501 | E10: Actif | F10: SPC | G10: 1118.3 | H10: 0 | I10: 0 | J10: 82.5 | K10: 165.05 | L10: 1035.75 | M10: 3900.25 | N10: -5.64 | O10: 0
A11: 258 | B11: Moser Alexandra Grace | D11: 0000016201 | E11: Actif | F11: SPC | G11: 268.35 | H11: 0 | I11: 0 | J11: 0 | K11: 0 | L11: 268.35 | M11: 26511.45 | N11: 0 | O11: 0
A12: 370 | B12: Rossier Isabelle Henriette | D12: 0000033401 | E12: Actif | F12: SPC | G12: 5836.05 | H12: 0 | I12: 0 | J12: 0 | K12: 211.5 | L12: 5624.55 | M12: 20398.64 | N12: 0 | O12: 0
A13: 441 | B13: Quirici Giovanni | D13: 0000137301 | E13: Actif | F13: SPC | G13: 7162.65 | H13: 1573.85 | I13: 0 | J13: 70 | K13: 7602.85 | L13: -370.2 | M13: 5081.2 | N13: 0 | O13: 0
A14: 444 | B14: Marquis Adeline Charlotte Cécile | D14: 0000138101 | E14: Actif | F14: SPC | G14: 2594.8 | H14: 2197.7 | I14: 0 | J14: 11.55 | K14: 125.5 | L14: 2480.85 | M14: 17486.75 | N14: 150.75 | O14: 0
A15: 468 | B15: Laurent Thierry Jean | D15: 0000016001 | E15: Actif | F15: SPC | G15: 6439.15 | H15: 0 | I15: 0 | J15: 31.4 | K15: 6320.7 | L15: 149.85 | M15: 10925.4 | N15: 0 | O15: 0

Sheet LAMal
A2: 1 | B2: 2 | C2: 3 | D2: 4 | E2: 5 | F2: 6 | G2: 7 | H2: 8 | I2: 9 | J2: 10 | K2: 11 | L2: 12 | M2: 13 | N2: 14 | O2: 15 | P2: 16 | Q2: 17 | R2: 18 | S2: 19 | T2: 20 | U2: 21 | V2: 22 | W2: 23 | X2: 24 | Y2: 25 | Z2: 26 | AA2: 27 | AB2: 28 | AC2: 29 | AD2: 30 | AE2: 31 | AF2: 32 | AG2: 33 | AH2: 34 | AI2: 35 | AJ2: 36 | AK2: 37
A8: Dossier | B8: Statut dossier | C8: Volet financier | D8: Personne suivie | E8: Responsables | F8: id CM | G8: N° Police contrat/N° Assuré | H8: Date début | I8: Date fin | J8: Fournisseur | K8: Description | L8: Id Prime | M8: Rubrique | N8: N°Police individuelle/N°Assuré | O8: LAMAL | P8: LCA | Q8: LAA | R8: Bénéficiaire | S8: Date début prime | T8: Date fin prime | U8: Date fin théorique | V8: Prime | W8: Franchise | X8: Montant rattrapage | Y8: Date saisie | Z8: Description prime | AA8: Id déduction | AB8: Rubrique déduction | AC8: Montant déduction | AD8: Date début déduction | AE8: Date fin déduction | AF8: Date fin théorique déduction | AG8: Montant rattrapage déduction | AH8: Date sasie déduction | AI8: Description déduction | AJ8: Nouveau dossiers | AK8: Bénéficiaire | AL8: test
A9: 6 | B9: Actif | C9: 0000000601 | D9: Brunner Hans Rudolf 27.01.1940 | E9: Bonhomme-Catherine-242-CBE, Essaka-Flora-42-FES | F9: 40069 | G9: 1289033 | H9: 42736 | J9: Mutuel Assurance Maladie S.A Martigny1920_0 | K9: OK pour changement | L9: 95394 | M9: Assurance maladie - LAMal | N9: 12889033 | O9: Oui | P9: Non | Q9: Non | R9: Brunner Hans Rudolf 27-JAN-40 | S9: 42736 | T9: 43100 | U9: 43100 | V9: 577 | W9: 300 | X9: 0 | Y9: 42712.45 | AA9: 20322 | AB9: Déduction subside SAM | AC9: 554 | AD9: 42736 | AE9: 43100 | AF9: 43100 | AG9: 0 | AH9: 42712.451 | AJ9: =VLOOKUP(A9,'Tab.-Job'!A:A,1,FALSE) -> 6 | AK9: =LEFT(D9,LEN(D9)-10)&TEXT(SUBSTITUTE(SUBSTITUTE(SUBSTITUTE(RIGHT(R9,9),"DEC","DÉC"),"FEV","FÉV"),"AOU","AOÛ"),"jj.mm.aaaa") -> Brunner Hans Rudolf 27.01.1940 | AL9: =EXACT(D9,AK9) -> TRUE
A10: 6 | B10: Actif | C10: 0000000601 | D10: Brunner Hans Rudolf 27.01.1940 | E10: Bonhomme-Catherine-242-CBE, Essaka-Flora-42-FES | F10: 40069 | G10: 1289033 | H10: 42736 | J10: Mutuel Assurance Maladie S.A Martigny1920_0 | K10: OK pour changement | L10: 95394 | M10: Assurance maladie - LAMal | N10: 12889033 | O10: Oui | P10: Non | Q10: Non | R10: Brunner Hans Rudolf 27-JAN-40 | S10: 42736 | T10: 43100 | U10: 43100 | V10: 577 | W10: 300 | X10: 0 | Y10: 42712.45 | AA10: 20324 | AB10: Déduction primes et taxes - Ass.mal. | AC10: 5.65 | AD10: 42736 | AE10: 43100 | AF10: 43100 | AG10: 0 | AH10: 42712.451 | AJ10: =VLOOKUP(A10,'Tab.-Job'!A:A,1,FALSE) -> 6 | AK10: =LEFT(D10,LEN(D10)-10)&TEXT(SUBSTITUTE(SUBSTITUTE(SUBSTITUTE(RIGHT(R10,9),"DEC","DÉC"),"FEV","FÉV"),"AOU","AOÛ"),"jj.mm.aaaa") -> Brunner Hans Rudolf 27.01.1940 | AL10: =EXACT(D10,AK10) -> TRUE
A11: 58 | B11: Actif | C11: 0000005801 | D11: Marcos Carmen 13.07.1963 | E11: Ly-Sieu-Chou-257-SCL, Badaoui-Yasmine-YBA, Dederding-Elodie-57-EDG | F11: 41303 | G11: 36.68867-5 | H11: 42736 | J11: Sanitas Assurance Maladie Zurich8021_1 | K11: Ok pour changement | L11: 98795 | M11: Assurance maladie - LAMal | O11: Oui | P11: Non | Q11: Non | R11: Marcos Carmen 13-JUL-63 | S11: 42736 | T11: 43100 | U11: 43100 | V11: 530.9 | W11: 300 | X11: 0 | Y11: 42758.743 | AA11: 22989 | AB11: Déduction primes et taxes - Ass.mal. | AC11: 5.65 | AD11: 42736 | AE11: 43100 | AF11: 43100 | AG11: 0 | AH11: 42758.743 | AJ11: =VLOOKUP(A11,'Tab.-Job'!A:A,1,FALSE) -> 58 | AK11: =LEFT(D11,LEN(D11)-10)&TEXT(SUBSTITUTE(SUBSTITUTE(SUBSTITUTE(RIGHT(R11,9),"DEC","DÉC"),"FEV","FÉV"),"AOU","AOÛ"),"jj.mm.aaaa") -> Marcos Carmen 13.07.1963 | AL11: =EXACT(D11,AK11) -> TRUE
A12: 58 | B12: Actif | C12: 0000005801 | D12: Marcos Carmen 13.07.1963 | E12: Ly-Sieu-Chou-257-SCL, Badaoui-Yasmine-YBA, Dederding-Elodie-57-EDG | F12: 41303 | G12: 36.68867-5 | H12: 42736 | J12: Sanitas Assurance Maladie Zurich8021_1 | K12: Ok pour changement | L12: 98795 | M12: Assurance maladie - LAMal | O12: Oui | P12: Non | Q12: Non | R12: Marcos Carmen 13-JUL-63 | S12: 42736 | T12: 43100 | U12: 43100 | V12: 530.9 | W12: 300 | X12: 0 | Y12: 42758.743 | AA12: 22990 | AB12: Déduction subside SAM | AC12: 525.25 | AD12: 42736 | AE12: 43100 | AF12: 43100 | AG12: 0 | AH12: 42758.743 | AJ12: =VLOOKUP(A12,'Tab.-Job'!A:A,1,FALSE) -> 58 | AK12: =LEFT(D12,LEN(D12)-10)&TEXT(SUBSTITUTE(SUBSTITUTE(SUBSTITUTE(RIGHT(R12,9),"DEC","DÉC"),"FEV","FÉV"),"AOU","AOÛ"),"jj.mm.aaaa") -> Marcos Carmen 13.07.1963 | AL12: =EXACT(D12,AK12) -> TRUE
A13: 125 | B13: Actif | C13: 0000012501 | D13: Paccot Christiane Françoise 22.05.1948 | E13: Bonhomme-Catherine-242-CBE, Essaka-Flora-42-FES | F13: 40896 | G13: 228412 | H13: 42736 | J13: Mutuel Assurance Maladie S.A Martigny1920_0 | K13: NON, PP ne veut pas, épargne OK | L13: 97770 | M13: Assurance maladie - LAMal | N13: 228412 | O13: Oui | P13: Non | Q13: Non | R13: Paccot Christiane Françoise 22-MAI-48 | S13: 42736 | T13: 43100 | U13: 43100 | V13: 577 | W13: 300 | X13: 0 | Y13: 42740.383 | AA13: 22145 | AB13: Déduction subside SAM | AC13: 554 | AD13: 42736 | AE13: 43100 | AF13: 43100 | AG13: 0 | AH13: 42740.384 | AJ13: =VLOOKUP(A13,'Tab.-Job'!A:A,1,FALSE) -> 125 | AK13: =LEFT(D13,LEN(D13)-10)&TEXT(SUBSTITUTE(SUBSTITUTE(SUBSTITUTE(RIGHT(R13,9),"DEC","DÉC"),"FEV","FÉV"),"AOU","AOÛ"),"jj.mm.aaaa") -> Paccot Christiane Françoise 22.05.1948 | AL13: =EXACT(D13,AK13) -> TRUE
A14: 125 | B14: Actif | C14: 0000012501 | D14: Paccot Christiane Françoise 22.05.1948 | E14: Bonhomme-Catherine-242-CBE, Essaka-Flora-42-FES | F14: 40896 | G14: 228412 | H14: 42736 | J14: Mutuel Assurance Maladie S.A Martigny1920_0 | K14: NON, PP ne veut pas, épargne OK | L14: 97770 | M14: Assurance maladie - LAMal | N14: 228412 | O14: Oui | P14: Non | Q14: Non | R14: Paccot Christiane Françoise 22-MAI-48 | S14: 42736 | T14: 43100 | U14: 43100 | V14: 577 | W14: 300 | X14: 0 | Y14: 42740.383 | AA14: 22146 | AB14: Déduction primes et taxes - Ass.mal. | AC14: 5.65 | AD14: 42736 | AE14: 43100 | AF14: 43100 | AG14: 0 | AH14: 42740.384 | AJ14: =VLOOKUP(A14,'Tab.-Job'!A:A,1,FALSE) -> 125 | AK14: =LEFT(D14,LEN(D14)-10)&TEXT(SUBSTITUTE(SUBSTITUTE(SUBSTITUTE(RIGHT(R14,9),"DEC","DÉC"),"FEV","FÉV"),"AOU","AOÛ"),"jj.mm.aaaa") -> Paccot Christiane Françoise 22.05.1948 | AL14: =EXACT(D14,AK14) -> TRUE
A15: 160 | B15: Actif | C15: 0000016001 | D15: Laurent Thierry Jean 22.05.1966 | E15: Marto Rodari-Isabel-906-IMR, Berbati-Besim-468-BBI, Francavilla-Sophie-68-SOF | F15: 36467 | G15: 36.70369-2.001 | H15: 42370 | J15: Sanitas Assurance Maladie Zurich8021_2 | K15: ok pour changement | L15: 97704 | M15: Assurance maladie - LAMal | O15: Oui | P15: Non | Q15: Non | R15: Laurent Thierry Jean 22-MAI-66 | S15: 42736 | T15: 43100 | U15: 43100 | V15: 530.9 | W15: 300 | X15: 0 | Y15: 42739.663 | AA15: 22125 | AB15: Déduction primes et taxes - Ass.mal. | AC15: 5.65 | AD15: 42736 | AE15: 43100 | AF15: 43100 | AG15: 0 | AH15: 42739.663 | AJ15: =VLOOKUP(A15,'Tab.-Job'!A:A,1,FALSE) -> 160 | AK15: =LEFT(D15,LEN(D15)-10)&TEXT(SUBSTITUTE(SUBSTITUTE(SUBSTITUTE(RIGHT(R15,9),"DEC","DÉC"),"FEV","FÉV"),"AOU","AOÛ"),"jj.mm.aaaa") -> Laurent Thierry Jean 22.05.1966 | AL15: =EXACT(D15,AK15) -> TRUE
A16: 160 | B16: Actif | C16: 0000016001 | D16: Laurent Thierry Jean 22.05.1966 | E16: Marto Rodari-Isabel-906-IMR, Berbati-Besim-468-BBI, Francavilla-Sophie-68-SOF | F16: 36467 | G16: 36.70369-2.001 | H16: 42370 | J16: Sanitas Assurance Maladie Zurich8021_2 | K16: ok pour changement | L16: 97704 | M16: Assurance maladie - LAMal | O16: Oui | P16: Non | Q16: Non | R16: Laurent Thierry Jean 22-MAI-66 | S16: 42736 | T16: 43100 | U16: 43100 | V16: 530.9 | W16: 300 | X16: 0 | Y16: 42739.663 | AA16: 22126 | AB16: Déduction subside SAM | AC16: 525.25 | AD16: 42736 | AE16: 43100 | AF16: 43100 | AG16: 0 | AH16: 42739.664 | AJ16: =VLOOKUP(A16,'Tab.-Job'!A:A,1,FALSE) -> 160 | AK16: =LEFT(D16,LEN(D16)-10)&TEXT(SUBSTITUTE(SUBSTITUTE(SUBSTITUTE(RIGHT(R16,9),"DEC","DÉC"),"FEV","FÉV"),"AOU","AOÛ"),"jj.mm.aaaa") -> Laurent Thierry Jean 22.05.1966 | AL16: =EXACT(D16,AK16) -> TRUE
A17: 160 | B17: Actif | C17: 0000016001 | D17: Laurent Thierry Jean 22.05.1966 | E17: Marto Rodari-Isabel-906-IMR, Berbati-Besim-468-BBI, Francavilla-Sophie-68-SOF | F17: 36467 | G17: 36.70369-2.001 | H17: 42370 | J17: Sanitas Assurance Maladie Zurich8021_2 | K17: ok pour changement | L17: 87413 | M17: Assurance maladie - LAMal | O17: Oui | P17: Non | Q17: Non | R17: Laurent Thierry Jean 22-MAI-66 | S17: 42370 | U17: 42735 | V17: 510.05 | W17: 300 | X17: 0 | Y17: 42402.388 | AJ17: =VLOOKUP(A17,'Tab.-Job'!A:A,1,FALSE) -> 160 | AK17: =LEFT(D17,LEN(D17)-10)&TEXT(SUBSTITUTE(SUBSTITUTE(SUBSTITUTE(RIGHT(R17,9),"DEC","DÉC"),"FEV","FÉV"),"AOU","AOÛ"),"jj.mm.aaaa") -> Laurent Thierry Jean 22.05.1966 | AL17: =EXACT(D17,AK17) -> TRUE
A18: 162 | B18: Actif | C18: 0000016201 | D18: Moser Alexandra Grace 25.10.1982 | E18: Meister-Catherine-258-CMR, Silva-Diana-58-DSA, Konan-N'Dri Paul-43-NKN | F18: 32975 | G18: 10-011-244-135 | H18: 42005 | J18: Css Chretienne Sociale Suisse Geneve1204_0 | K18: FMX gérés par Aigues-Vertes. | L18: 98241 | M18: Assurance maladie - LAMal | N18: 10-011-244-135 | O18: Oui | P18: Non | Q18: Non | R18: Moser Alexandra Grace 25-OCT-82 | S18: 42736 | T18: 43100 | U18: 43100 | V18: 578 | W18: 300 | X18: 0 | Y18: 42746.564 | AJ18: =VLOOKUP(A18,'Tab.-Job'!A:A,1,FALSE) -> 162 | AK18: =LEFT(D18,LEN(D18)-10)&TEXT(SUBSTITUTE(SUBSTITUTE(SUBSTITUTE(RIGHT(R18,9),"DEC","DÉC"),"FEV","FÉV"),"AOU","AOÛ"),"jj.mm.aaaa") -> Moser Alexandra Grace 25.10.1982 | AL18: =EXACT(D18,AK18) -> TRUE
A19: 162 | B19: Actif | C19: 0000016201 | D19: Moser Alexandra Grace 25.10.1982 | E19: Meister-Catherine-258-CMR, Silva-Diana-58-DSA, Konan-N'Dri Paul-43-NKN | F19: 32975 | G19: 10-011-244-135 | H19: 42005 | J19: Css Chretienne Sociale Suisse Geneve1204_0 | K19: FMX gérés par Aigues-Vertes. | L19: 88327 | M19: Assurance maladie - LAMal | N19: 10-011-244-135 | O19: Oui | P19: Non | Q19: Non | R19: Moser Alexandra Grace 25-OCT-82 | S19: 42370 | T19: 42735 | U19: 42735 | V19: 546.55 | W19: 300 | X19: 0 | Y19: 42418.659 | AJ19: =VLOOKUP(A19,'Tab.-Job'!A:A,1,FALSE) -> 162 | AK19: =LEFT(D19,LEN(D19)-10)&TEXT(SUBSTITUTE(SUBSTITUTE(SUBSTITUTE(RIGHT(R19,9),"DEC","DÉC"),"FEV","FÉV"),"AOU","AOÛ"),"jj.mm.aaaa") -> Moser Alexandra Grace 25.10.1982 | AL19: =EXACT(D19,AK19) -> TRUE
A20: 162 | B20: Actif | C20: 0000016201 | D20: Moser Alexandra Grace 25.10.1982 | E20: Meister-Catherine-258-CMR, Silva-Diana-58-DSA, Konan-N'Dri Paul-43-NKN | F20: 32975 | G20: 10-011-244-135 | H20: 42005 | J20: Css Chretienne Sociale Suisse Geneve1204_0 | K20: FMX gérés par Aigues-Vertes. | L20: 77280 | M20: Assurance maladie - LAMal | O20: Oui | P20: Non | Q20: Non | R20: Moser Alexandra Grace 25-OCT-82 | S20: 42005 | T20: 42369 | U20: 42369 | V20: 526.8 | W20: 300 | X20: 0 | Y20: 42060.43 | AJ20: =VLOOKUP(A20,'Tab.-Job'!A:A,1,FALSE) -> 162 | AK20: =LEFT(D20,LEN(D20)-10)&TEXT(SUBSTITUTE(SUBSTITUTE(SUBSTITUTE(RIGHT(R20,9),"DEC","DÉC"),"FEV","FÉV"),"AOU","AOÛ"),"jj.mm.aaaa") -> Moser Alexandra Grace 25.10.1982 | AL20: =EXACT(D20,AK20) -> TRUE
A21: 334 | B21: Actif | C21: 0000033401 | D21: Rossier Isabelle Henriette 29.09.1963 | E21: Lutete-André-370-ALE, Donnet Grassioulet-Dulce-67-DDG, Loureiro De Menezes-Rafaela-70-RLE | F21: 24480 | G21: 10-010-877-035 | H21: 41275 | J21: Css Assurance Lausann1000_0 | K21: NON EMS Le Léman | L21: 103870 | M21: Assurance maladie - LAMal | N21: 10-010-877-035 | O21: Oui | P21: Non | Q21: Non | R21: Rossier Isabelle Henriette 29-SEP-63 | S21: 42736 | T21: 43100 | U21: 43100 | V21: 578 | W21: 300 | X21: 0 | Y21: 42947.719 | AA21: 25913 | AB21: Déduction primes et taxes - Ass.mal. | AC21: 5.65 | AD21: 42736 | AE21: 43100 | AF21: 43100 | AG21: 0 | AH21: 42947.72 | AJ21: =VLOOKUP(A21,'Tab.-Job'!A:A,1,FALSE) -> 334 | AK21: =LEFT(D21,LEN(D21)-10)&TEXT(SUBSTITUTE(SUBSTITUTE(SUBSTITUTE(RIGHT(R21,9),"DEC","DÉC"),"FEV","FÉV"),"AOU","AOÛ"),"jj.mm.aaaa") -> Rossier Isabelle Henriette 29.09.1963 | AL21: =EXACT(D21,AK21) -> TRUE
A22: 334 | B22: Actif | C22: 0000033401 | D22: Rossier Isabelle Henriette 29.09.1963 | E22: Lutete-André-370-ALE, Donnet Grassioulet-Dulce-67-DDG, Loureiro De Menezes-Rafaela-70-RLE | F22: 24480 | G22: 10-010-877-035 | H22: 41275 | J22: Css Assurance Lausann1000_0 | K22: NON EMS Le Léman | L22: 103870 | M22: Assurance maladie - LAMal | N22: 10-010-877-035 | O22: Oui | P22: Non | Q22: Non | R22: Rossier Isabelle Henriette 29-SEP-63 | S22: 42736 | T22: 43100 | U22: 43100 | V22: 578 | W22: 300 | X22: 0 | Y22: 42947.719 | AA22: 25914 | AB22: Déduction subside SAM | AC22: 554 | AD22: 42736 | AE22: 43100 | AF22: 43100 | AG22: 0 | AH22: 42947.72 | AJ22: =VLOOKUP(A22,'Tab.-Job'!A:A,1,FALSE) -> 334 | AK22: =LEFT(D22,LEN(D22)-10)&TEXT(SUBSTITUTE(SUBSTITUTE(SUBSTITUTE(RIGHT(R22,9),"DEC","DÉC"),"FEV","FÉV"),"AOU","AOÛ"),"jj.mm.aaaa") -> Rossier Isabelle Henriette 29.09.1963 | AL22: =EXACT(D22,AK22) -> TRUE
A23: 334 | B23: Actif | C23: 0000033401 | D23: Rossier Isabelle Henriette 29.09.1963 | E23: Lutete-André-370-ALE, Donnet Grassioulet-Dulce-67-DDG, Loureiro De Menezes-Rafaela-70-RLE | F23: 24480 | G23: 10-010-877-035 | H23: 41275 | J23: Css Assurance Lausann1000_0 | K23: NON EMS Le Léman | L23: 103870 | M23: Assurance maladie - LAMal | N23: 10-010-877-035 | O23: Oui | P23: Non | Q23: Non | R23: Rossier Isabelle Henriette 29-SEP-63 | S23: 42736 | T23: 43100 | U23: 43100 | V23: 578 | W23: 300 | X23: 0 | Y23: 42947.719 | AA23: 25915 | AB23: Restit. FMX, primes et taxes | AC23: 18.35 | AD23: 42736 | AE23: 43100 | AF23: 43100 | AG23: 0 | AH23: 42947.721 | AJ23: =VLOOKUP(A23,'Tab.-Job'!A:A,1,FALSE) -> 334 | AK23: =LEFT(D23,LEN(D23)-10)&TEXT(SUBSTITUTE(SUBSTITUTE(SUBSTITUTE(RIGHT(R23,9),"DEC","DÉC"),"FEV","FÉV"),"AOU","AOÛ"),"jj.mm.aaaa") -> Rossier Isabelle Henriette 29.09.1963 | AL23: =EXACT(D23,AK23) -> TRUE
A24: 334 | B24: Actif | C24: 0000033401 | D24: Rossier Isabelle Henriette 29.09.1963 | E24: Lutete-André-370-ALE, Donnet Grassioulet-Dulce-67-DDG, Loureiro De Menezes-Rafaela-70-RLE | F24: 24480 | G24: 10-010-877-035 | H24: 41275 | J24: Css Assurance Lausann1000_0 | K24: NON EMS Le Léman | L24: 86345 | M24: Assurance maladie - LAMal | N24: 10-010-877-035 | O24: Oui | P24: Non | Q24: Non | R24: Rossier Isabelle Henriette 29-SEP-63 | S24: 42370 | T24: 42735 | U24: 42735 | V24: 546.65 | W24: 300 | X24: 0 | Y24: 42382.807 | AJ24: =VLOOKUP(A24,'Tab.-Job'!A:A,1,FALSE) -> 334 | AK24: =LEFT(D24,LEN(D24)-10)&TEXT(SUBSTITUTE(SUBSTITUTE(SUBSTITUTE(RIGHT(R24,9),"DEC","DÉC"),"FEV","FÉV"),"AOU","AOÛ"),"jj.mm.aaaa") -> Rossier Isabelle Henriette 29.09.1963 | AL24: =EXACT(D24,AK24) -> TRUE
A25: 334 | B25: Actif | C25: 0000033401 | D25: Rossier Isabelle Henriette 29.09.1963 | E25: Lutete-André-370-ALE, Donnet Grassioulet-Dulce-67-DDG, Loureiro De Menezes-Rafaela-70-RLE | F25: 24480 | G25: 10-010-877-035 | H25: 41275 | J25: Css Assurance Lausann1000_0 | K25: NON EMS Le Léman | L25: 86344 | M25: Assurance maladie - LAMal | N25: 10-010-877-056 | O25: Oui | P25: Non | Q25: Non | R25: Rossier Isabelle Henriette 29-SEP-63 | S25: 42370 | T25: 42370 | U25: 42370 | V25: 546.55 | W25: 300 | X25: 0 | Y25: 42382.807 | AJ25: =VLOOKUP(A25,'Tab.-Job'!A:A,1,FALSE) -> 334 | AK25: =LEFT(D25,LEN(D25)-10)&TEXT(SUBSTITUTE(SUBSTITUTE(SUBSTITUTE(RIGHT(R25,9),"DEC","DÉC"),"FEV","FÉV"),"AOU","AOÛ"),"jj.mm.aaaa") -> Rossier Isabelle Henriette 29.09.1963 | AL25: =EXACT(D25,AK25) -> TRUE
A26: 334 | B26: Actif | C26: 0000033401 | D26: Rossier Isabelle Henriette 29.09.1963 | E26: Lutete-André-370-ALE, Donnet Grassioulet-Dulce-67-DDG, Loureiro De Menezes-Rafaela-70-RLE | F26: 24480 | G26: 10-010-877-035 | H26: 41275 | J26: Css Assurance Lausann1000_0 | K26: NON EMS Le Léman | L26: 75420 | M26: Assurance maladie - LAMal | N26: 10-010-877-035 | O26: Oui | P26: Non | Q26: Non | R26: Rossier Isabelle Henriette 29-SEP-63 | S26: 42005 | T26: 42369 | U26: 42369 | V26: 526.8 | W26: 300 | X26: 0 | Y26: 42010.708 | AJ26: =VLOOKUP(A26,'Tab.-Job'!A:A,1,FALSE) -> 334 | AK26: =LEFT(D26,LEN(D26)-10)&TEXT(SUBSTITUTE(SUBSTITUTE(SUBSTITUTE(RIGHT(R26,9),"DEC","DÉC"),"FEV","FÉV"),"AOU","AOÛ"),"jj.mm.aaaa") -> Rossier Isabelle Henriette 29.09.1963 | AL26: =EXACT(D26,AK26) -> TRUE
A27: 334 | B27: Actif | C27: 0000033401 | D27: Rossier Isabelle Henriette 29.09.1963 | E27: Lutete-André-370-ALE, Donnet Grassioulet-Dulce-67-DDG, Loureiro De Menezes-Rafaela-70-RLE | F27: 24480 | G27: 10-010-877-035 | H27: 41275 | J27: Css Assurance Lausann1000_0 | K27: NON EMS Le Léman | L27: 59732 | M27: Assurance maladie - LAMal | O27: Oui | P27: Non | Q27: Non | R27: Rossier Isabelle Henriette 29-SEP-63 | S27: 41640 | T27: 42004 | U27: 42004 | V27: 493.65 | W27: 300 | X27: 0 | Y27: 41571.795 | AJ27: =VLOOKUP(A27,'Tab.-Job'!A:A,1,FALSE) -> 334 | AK27: =LEFT(D27,LEN(D27)-10)&TEXT(SUBSTITUTE(SUBSTITUTE(SUBSTITUTE(RIGHT(R27,9),"DEC","DÉC"),"FEV","FÉV"),"AOU","AOÛ"),"jj.mm.aaaa") -> Rossier Isabelle Henriette 29.09.1963 | AL27: =EXACT(D27,AK27) -> TRUE
A28: 334 | B28: Actif | C28: 0000033401 | D28: Rossier Isabelle Henriette 29.09.1963 | E28: Lutete-André-370-ALE, Donnet Grassioulet-Dulce-67-DDG, Loureiro De Menezes-Rafaela-70-RLE | F28: 24480 | G28: 10-010-877-035 | H28: 41275 | J28: Css Assurance Lausann1000_0 | K28: NON EMS Le Léman | L28: 52478 | M28: Assurance maladie - LAMal | O28: Oui | P28: Non | Q28: Non | R28: Rossier Isabelle Henriette 29-SEP-63 | S28: 41275 | T28: 41639 | U28: 41639 | V28: 485.05 | W28: 300 | X28: 0 | Y28: 41264.482 | AJ28: =VLOOKUP(A28,'Tab.-Job'!A:A,1,FALSE) -> 334 | AK28: =LEFT(D28,LEN(D28)-10)&TEXT(SUBSTITUTE(SUBSTITUTE(SUBSTITUTE(RIGHT(R28,9),"DEC","DÉC"),"FEV","FÉV"),"AOU","AOÛ"),"jj.mm.aaaa") -> Rossier Isabelle Henriette 29.09.1963 | AL28: =EXACT(D28,AK28) -> TRUE
A29: 1373 | B29: Actif | C29: 0000137301 | D29: Quirici Giovanni 12.02.1943 | E29: Cirlini-Françoise-441-CIF, Briones-Dupont-Joëlle-41-JBD | F29: 40177 | G29: 10-010-872-226 | H29: 42736 | J29: Css Assurance Lausann1000_0 | K29: ok pour changement | L29: 95717 | M29: Assurance maladie - LAMal | O29: Oui | P29: Non | Q29: Non | R29: Quirici Giovanni 12-FEV-43 | S29: 42736 | T29: 43100 | U29: 43100 | V29: 578 | W29: 300 | X29: 0 | Y29: 42716.656 | AA29: 20688 | AB29: Déduction primes et taxes - Ass.mal. | AC29: 5.65 | AD29: 42736 | AE29: 43100 | AF29: 43100 | AG29: 0 | AH29: 42716.657 | AJ29: =VLOOKUP(A29,'Tab.-Job'!A:A,1,FALSE) -> 1373 | AK29: =LEFT(D29,LEN(D29)-10)&TEXT(SUBSTITUTE(SUBSTITUTE(SUBSTITUTE(RIGHT(R29,9),"DEC","DÉC"),"FEV","FÉV"),"AOU","AOÛ"),"jj.mm.aaaa") -> Quirici Giovanni 12.02.1943 | AL29: =EXACT(D29,AK29) -> TRUE
A30: 1373 | B30: Actif | C30: 0000137301 | D30: Quirici Giovanni 12.02.1943 | E30: Cirlini-Françoise-441-CIF, Briones-Dupont-Joëlle-41-JBD | F30: 40177 | G30: 10-010-872-226 | H30: 42736 | J30: Css Assurance Lausann1000_0 | K30: ok pour changement | L30: 95717 | M30: Assurance maladie - LAMal | O30: Oui | P30: Non | Q30: Non | R30: Quirici Giovanni 12-FEV-43 | S30: 42736 | T30: 43100 | U30: 43100 | V30: 578 | W30: 300 | X30: 0 | Y30: 42716.656 | AA30: 20689 | AB30: Déduction subside SAM | AC30: 554 | AD30: 42736 | AE30: 43100 | AF30: 43100 | AG30: 0 | AH30: 42716.657 | AJ30: =VLOOKUP(A30,'Tab.-Job'!A:A,1,FALSE) -> 1373 | AK30: =LEFT(D30,LEN(D30)-10)&TEXT(SUBSTITUTE(SUBSTITUTE(SUBSTITUTE(RIGHT(R30,9),"DEC","DÉC"),"FEV","FÉV"),"AOU","AOÛ"),"jj.mm.aaaa") -> Quirici Giovanni 12.02.1943 | AL30: =EXACT(D30,AK30) -> TRUE
A31: 1381 | B31: Actif | C31: 0000138101 | D31: Marquis Adeline Charlotte Cécile 04.05.1988 | E31: Borel-Jaquet-Déborah-444-DBJ, Walcher Soldati-Lorenza-44-LWS | F31: 26045 | G31: 60624038 | H31: 41275 | J31: Helsana Zurich8081_0 | K31: LCA | L31: 98265 | M31: Assurance maladie - LCA | N31: 60624038 | O31: Non | P31: Oui | Q31: Non | R31: Marquis Adeline Charlotte Cécile 04-MAI-88 | S31: 42736 | T31: 43100 | U31: 43100 | V31: 77.6 | X31: 0 | Y31: 42746.698 | AJ31: =VLOOKUP(A31,'Tab.-Job'!A:A,1,FALSE) -> 1381 | AK31: =LEFT(D31,LEN(D31)-10)&TEXT(SUBSTITUTE(SUBSTITUTE(SUBSTITUTE(RIGHT(R31,9),"DEC","DÉC"),"FEV","FÉV"),"AOU","AOÛ"),"jj.mm.aaaa") -> Marquis Adeline Charlotte Cécile 04.05.1988 | AL31: =EXACT(D31,AK31) -> TRUE
A32: 1381 | B32: Actif | C32: 0000138101 | D32: Marquis Adeline Charlotte Cécile 04.05.1988 | E32: Borel-Jaquet-Déborah-444-DBJ, Walcher Soldati-Lorenza-44-LWS | F32: 36868 | G32: 2161056 | H32: 42370 | J32: Mutuel Assurance Maladie S.A Martigny1920_0 | K32: NON - Arriérés | L32: 98261 | M32: Assurance maladie - LAMal | N32: 2161056 | O32: Oui | P32: Non | Q32: Non | R32: Marquis Adeline Charlotte Cécile 04-MAI-88 | S32: 42736 | T32: 43100 | U32: 43100 | V32: 577 | W32: 300 | X32: 0 | Y32: 42746.689 | AA32: 22558 | AB32: Déduction primes et taxes - Ass.mal. | AC32: 5.65 | AD32: 42736 | AE32: 42736 | AF32: 42736 | AG32: 0 | AH32: 42746.691 | AJ32: =VLOOKUP(A32,'Tab.-Job'!A:A,1,FALSE) -> 1381 | AK32: =LEFT(D32,LEN(D32)-10)&TEXT(SUBSTITUTE(SUBSTITUTE(SUBSTITUTE(RIGHT(R32,9),"DEC","DÉC"),"FEV","FÉV"),"AOU","AOÛ"),"jj.mm.aaaa") -> Marquis Adeline Charlotte Cécile 04.05.1988 | AL32: =EXACT(D32,AK32) -> TRUE
A33: 1381 | B33: Actif | C33: 0000138101 | D33: Marquis Adeline Charlotte Cécile 04.05.1988 | E33: Borel-Jaquet-Déborah-444-DBJ, Walcher Soldati-Lorenza-44-LWS | F33: 36868 | G33: 2161056 | H33: 42370 | J33: Mutuel Assurance Maladie S.A Martigny1920_0 | K33: NON - Arriérés | L33: 98261 | M33: Assurance maladie - LAMal | N33: 2161056 | O33: Oui | P33: Non | Q33: Non | R33: Marquis Adeline Charlotte Cécile 04-MAI-88 | S33: 42736 | T33: 43100 | U33: 43100 | V33: 577 | W33: 300 | X33: 0 | Y33: 42746.689 | AA33: 22559 | AB33: Déduction primes et taxes - Ass.mal. | AC33: 5.65 | AD33: 42736 | AE33: 43100 | AF33: 43100 | AG33: 0 | AH33: 42746.692 | AJ33: =VLOOKUP(A33,'Tab.-Job'!A:A,1,FALSE) -> 1381 | AK33: =LEFT(D33,LEN(D33)-10)&TEXT(SUBSTITUTE(SUBSTITUTE(SUBSTITUTE(RIGHT(R33,9),"DEC","DÉC"),"FEV","FÉV"),"AOU","AOÛ"),"jj.mm.aaaa") -> Marquis Adeline Charlotte Cécile 04.05.1988 | AL33: =EXACT(D33,AK33) -> TRUE
A34: 1381 | B34: Actif | C34: 0000138101 | D34: Marquis Adeline Charlotte Cécile 04.05.1988 | E34: Borel-Jaquet-Déborah-444-DBJ, Walcher Soldati-Lorenza-44-LWS | F34: 36868 | G34: 2161056 | H34: 42370 | J34: Mutuel Assurance Maladie S.A Martigny1920_0 | K34: NON - Arriérés | L34: 98261 | M34: Assurance maladie - LAMal | N34: 2161056 | O34: Oui | P34: Non | Q34: Non | R34: Marquis Adeline Charlotte Cécile 04-MAI-88 | S34: 42736 | T34: 43100 | U34: 43100 | V34: 577 | W34: 300 | X34: 0 | Y34: 42746.689 | AA34: 22560 | AB34: Déduction subside SAM | AC34: 554 | AD34: 42736 | AE34: 43100 | AF34: 43100 | AG34: 0 | AH34: 42746.692 | AJ34: =VLOOKUP(A34,'Tab.-Job'!A:A,1,FALSE) -> 1381 | AK34: =LEFT(D34,LEN(D34)-10)&TEXT(SUBSTITUTE(SUBSTITUTE(SUBSTITUTE(RIGHT(R34,9),"DEC","DÉC"),"FEV","FÉV"),"AOU","AOÛ"),"jj.mm.aaaa") -> Marquis Adeline Charlotte Cécile 04.05.1988 | AL34: =EXACT(D34,AK34) -> TRUE
A35: 1381 | B35: Actif | C35: 0000138101 | D35: Marquis Adeline Charlotte Cécile 04.05.1988 | E35: Borel-Jaquet-Déborah-444-DBJ, Walcher Soldati-Lorenza-44-LWS | F35: 36868 | G35: 2161056 | H35: 42370 | J35: Mutuel Assurance Maladie S.A Martigny1920_0 | K35: NON - Arriérés | L35: 98262 | M35: Assurance maladie - LAMal | N35: 6101826 | O35: Oui | P35: Non | Q35: Non | R35: Marquis Romain Charles-Henri 28-NOV-09 | S35: 42736 | T35: 43100 | U35: 43100 | V35: 134 | X35: 0 | Y35: 42746.689 | AA35: 22561 | AB35: Déduction primes et taxes - Ass.mal. | AC35: 5.65 | AD35: 42736 | AE35: 43100 | AF35: 43100 | AG35: 0 | AH35: 42746.695 | AJ35: =VLOOKUP(A35,'Tab.-Job'!A:A,1,FALSE) -> 1381 | AK35: =LEFT(D35,LEN(D35)-10)&TEXT(SUBSTITUTE(SUBSTITUTE(SUBSTITUTE(RIGHT(R35,9),"DEC","DÉC"),"FEV","FÉV"),"AOU","AOÛ"),"jj.mm.aaaa") -> Marquis Adeline Charlotte Cécile 28.11.2009 | AL35: =EXACT(D35,AK35) -> FALSE
A36: 1381 | B36: Actif | C36: 0000138101 | D36: Marquis Adeline Charlotte Cécile 04.05.1988 | E36: Borel-Jaquet-Déborah-444-DBJ, Walcher Soldati-Lorenza-44-LWS | F36: 36868 | G36: 2161056 | H36: 42370 | J36: Mutuel Assurance Maladie S.A Martigny1920_0 | K36: NON - Arriérés | L36: 98262 | M36: Assurance maladie - LAMal | N36: 6101826 | O36: Oui | P36: Non | Q36: Non | R36: Marquis Romain Charles-Henri 28-NOV-09 | S36: 42736 | T36: 43100 | U36: 43100 | V36: 134 | X36: 0 | Y36: 42746.689 | AA36: 22562 | AB36: Déduction subside SAM | AC36: 128.35 | AD36: 42736 | AE36: 43100 | AF36: 43100 | AG36: 0 | AH36: 42746.695 | AJ36: =VLOOKUP(A36,'Tab.-Job'!A:A,1,FALSE) -> 1381 | AK36: =LEFT(D36,LEN(D36)-10)&TEXT(SUBSTITUTE(SUBSTITUTE(SUBSTITUTE(RIGHT(R36,9),"DEC","DÉC"),"FEV","FÉV"),"AOU","AOÛ"),"jj.mm.aaaa") -> Marquis Adeline Charlotte Cécile 28.11.2009 | AL36: =EXACT(D36,AK36) -> FALSE
A37: 1381 | B37: Actif | C37: 0000138101 | D37: Marquis Adeline Charlotte Cécile 04.05.1988 | E37: Borel-Jaquet-Déborah-444-DBJ, Walcher Soldati-Lorenza-44-LWS | F37: 26045 | G37: 60624038 | H37: 41275 | J37: Helsana Zurich8081_0 | K37: LCA | L37: 103812 | M37: Assurance maladie - LCA | N37: 60624038 | O37: Non | P37: Oui | Q37: Non | R37: Marquis Adeline Charlotte Cécile 04-MAI-88 | S37: 42370 | T37: 42735 | U37: 42735 | V37: 70 | W37: 0 | X37: 0 | Y37: 42943.615 | AJ37: =VLOOKUP(A37,'Tab.-Job'!A:A,1,FALSE) -> 1381 | AK37: =LEFT(D37,LEN(D37)-10)&TEXT(SUBSTITUTE(SUBSTITUTE(SUBSTITUTE(RIGHT(R37,9),"DEC","DÉC"),"FEV","FÉV"),"AOU","AOÛ"),"jj.mm.aaaa") -> Marquis Adeline Charlotte Cécile 04.05.1988 | AL37: =EXACT(D37,AK37) -> TRUE
A38: 1381 | B38: Actif | C38: 0000138101 | D38: Marquis Adeline Charlotte Cécile 04.05.1988 | E38: Borel-Jaquet-Déborah-444-DBJ, Walcher Soldati-Lorenza-44-LWS | F38: 36868 | G38: 2161056 | H38: 42370 | J38: Mutuel Assurance Maladie S.A Martigny1920_0 | K38: NON - Arriérés | L38: 88248 | M38: Assurance maladie - LAMal | N38: 2161056 | O38: Oui | P38: Non | Q38: Non | R38: Marquis Adeline Charlotte Cécile 04-MAI-88 | S38: 42370 | T38: 42735 | U38: 42735 | V38: 532 | W38: 300 | X38: 0 | Y38: 42416.488 | AJ38: =VLOOKUP(A38,'Tab.-Job'!A:A,1,FALSE) -> 1381 | AK38: =LEFT(D38,LEN(D38)-10)&TEXT(SUBSTITUTE(SUBSTITUTE(SUBSTITUTE(RIGHT(R38,9),"DEC","DÉC"),"FEV","FÉV"),"AOU","AOÛ"),"jj.mm.aaaa") -> Marquis Adeline Charlotte Cécile 04.05.1988 | AL38: =EXACT(D38,AK38) -> TRUE
A39: 1381 | B39: Actif | C39: 0000138101 | D39: Marquis Adeline Charlotte Cécile 04.05.1988 | E39: Borel-Jaquet-Déborah-444-DBJ, Walcher Soldati-Lorenza-44-LWS | F39: 36868 | G39: 2161056 | H39: 42370 | J39: Mutuel Assurance Maladie S.A Martigny1920_0 | K39: NON - Arriérés | L39: 92246 | M39: Assurance maladie - LAMal | N39: 6101826 | O39: Oui | P39: Non | Q39: Non | R39: Marquis Romain Charles-Henri 28-NOV-09 | S39: 42370 | T39: 42735 | U39: 42735 | V39: 122 | X39: 0 | Y39: 42584.418 | AJ39: =VLOOKUP(A39,'Tab.-Job'!A:A,1,FALSE) -> 1381 | AK39: =LEFT(D39,LEN(D39)-10)&TEXT(SUBSTITUTE(SUBSTITUTE(SUBSTITUTE(RIGHT(R39,9),"DEC","DÉC"),"FEV","FÉV"),"AOU","AOÛ"),"jj.mm.aaaa") -> Marquis Adeline Charlotte Cécile 28.11.2009 | AL39: =EXACT(D39,AK39) -> FALSE
A40: 1381 | B40: Actif | C40: 0000138101 | D40: Marquis Adeline Charlotte Cécile 04.05.1988 | E40: Borel-Jaquet-Déborah-444-DBJ, Walcher Soldati-Lorenza-44-LWS | F40: 26045 | G40: 60624038 | H40: 41275 | J40: Helsana Zurich8081_0 | K40: LCA | L40: 88238 | M40: Assurance maladie - LCA | N40: 60018112 | O40: Non | P40: Oui | Q40: Non | R40: Marquis Adeline Charlotte Cécile 04-MAI-88 | S40: 42370 | T40: 42370 | U40: 42370 | V40: 74.1 | X40: 0 | Y40: 42416.449 | Z40: Trimestriel | AJ40: =VLOOKUP(A40,'Tab.-Job'!A:A,1,FALSE) -> 1381 | AK40: =LEFT(D40,LEN(D40)-10)&TEXT(SUBSTITUTE(SUBSTITUTE(SUBSTITUTE(RIGHT(R40,9),"DEC","DÉC"),"FEV","FÉV"),"AOU","AOÛ"),"jj.mm.aaaa") -> Marquis Adeline Charlotte Cécile 04.05.1988 | AL40: =EXACT(D40,AK40) -> TRUE
A41: 1381 | B41: Actif | C41: 0000138101 | D41: Marquis Adeline Charlotte Cécile 04.05.1988 | E41: Borel-Jaquet-Déborah-444-DBJ, Walcher Soldati-Lorenza-44-LWS | F41: 26045 | G41: 60624038 | H41: 41275 | J41: Helsana Zurich8081_0 | K41: LCA | L41: 88239 | M41: Assurance maladie - LCA | N41: Romain / 61069788 | O41: Non | P41: Oui | Q41: Non | R41: Marquis Adeline Charlotte Cécile 04-MAI-88 | S41: 42370 | T41: 42370 | U41: 42370 | V41: 74.1 | X41: 0 | Y41: 42416.461 | Z41: Trimestriel | AJ41: =VLOOKUP(A41,'Tab.-Job'!A:A,1,FALSE) -> 1381 | AK41: =LEFT(D41,LEN(D41)-10)&TEXT(SUBSTITUTE(SUBSTITUTE(SUBSTITUTE(RIGHT(R41,9),"DEC","DÉC"),"FEV","FÉV"),"AOU","AOÛ"),"jj.mm.aaaa") -> Marquis Adeline Charlotte Cécile 04.05.1988 | AL41: =EXACT(D41,AK41) -> TRUE
A42: 1381 | B42: Actif | C42: 0000138101 | D42: Marquis Adeline Charlotte Cécile 04.05.1988 | E42: Borel-Jaquet-Déborah-444-DBJ, Walcher Soldati-Lorenza-44-LWS | F42: 26045 | G42: 60624038 | H42: 41275 | J42: Helsana Zurich8081_0 | K42: LCA | L42: 88245 | M42: Assurance maladie - LCA | N42: 61069788 | O42: Non | P42: Oui | Q42: Non | R42: Marquis Romain Charles-Henri 28-NOV-09 | S42: 42370 | T42: 42370 | U42: 42370 | V42: 74.1 | X42: 0 | Y42: 42416.479 | Z42: Trimestriel | AJ42: =VLOOKUP(A42,'Tab.-Job'!A:A,1,FALSE) -> 1381 | AK42: =LEFT(D42,LEN(D42)-10)&TEXT(SUBSTITUTE(SUBSTITUTE(SUBSTITUTE(RIGHT(R42,9),"DEC","DÉC"),"FEV","FÉV"),"AOU","AOÛ"),"jj.mm.aaaa") -> Marquis Adeline Charlotte Cécile 28.11.2009 | AL42: =EXACT(D42,AK42) -> FALSE
A43: 1381 | B43: Actif | C43: 0000138101 | D43: Marquis Adeline Charlotte Cécile 04.05.1988 | E43: Borel-Jaquet-Déborah-444-DBJ, Walcher Soldati-Lorenza-44-LWS | F43: 26045 | G43: 60624038 | H43: 41275 | J43: Helsana Zurich8081_0 | K43: LCA | L43: 88246 | M43: Assurance maladie - LCA | N43: 60624038 | O43: Non | P43: Oui | Q43: Non | R43: Marquis Adeline Charlotte Cécile 04-MAI-88 | S43: 42370 | T43: 42370 | U43: 42370 | V43: 195.3 | X43: 0 | Y43: 42416.481 | Z43: Trimestriel | AJ43: =VLOOKUP(A43,'Tab.-Job'!A:A,1,FALSE) -> 1381 | AK43: =LEFT(D43,LEN(D43)-10)&TEXT(SUBSTITUTE(SUBSTITUTE(SUBSTITUTE(RIGHT(R43,9),"DEC","DÉC"),"FEV","FÉV"),"AOU","AOÛ"),"jj.mm.aaaa") -> Marquis Adeline Charlotte Cécile 04.05.1988 | AL43: =EXACT(D43,AK43) -> TRUE
A44: 1381 | B44: Actif | C44: 0000138101 | D44: Marquis Adeline Charlotte Cécile 04.05.1988 | E44: Borel-Jaquet-Déborah-444-DBJ, Walcher Soldati-Lorenza-44-LWS | F44: 26045 | G44: 60624038 | H44: 41275 | J44: Helsana Zurich8081_0 | K44: LCA | L44: 88247 | M44: Assurance maladie - LCA | N44: 60624038 | O44: Non | P44: Oui | Q44: Non | R44: Marquis Adeline Charlotte Cécile 04-MAI-88 | S44: 42370 | T44: 42370 | U44: 42370 | V44: 207.9 | X44: 0 | Y44: 42416.485 | Z44: Trimestriel | AJ44: =VLOOKUP(A44,'Tab.-Job'!A:A,1,FALSE) -> 1381 | AK44: =LEFT(D44,LEN(D44)-10)&TEXT(SUBSTITUTE(SUBSTITUTE(SUBSTITUTE(RIGHT(R44,9),"DEC","DÉC"),"FEV","FÉV"),"AOU","AOÛ"),"jj.mm.aaaa") -> Marquis Adeline Charlotte Cécile 04.05.1988 | AL44: =EXACT(D44,AK44) -> TRUE
A45: 1381 | B45: Actif | C45: 0000138101 | D45: Marquis Adeline Charlotte Cécile 04.05.1988 | E45: Borel-Jaquet-Déborah-444-DBJ, Walcher Soldati-Lorenza-44-LWS | F45: 36868 | G45: 2161056 | H45: 42370 | J45: Mutuel Assurance Maladie S.A Martigny1920_0 | K45: NON - Arriérés | L45: 88249 | M45: Assurance maladie - LAMal | N45: 6101826 | O45: Oui | P45: Non | Q45: Non | R45: Marquis Romain Charles-Henri 28-NOV-09 | S45: 42370 | T45: 42370 | U45: 42370 | V45: 116.8 | W45: 0 | X45: 116.8 | Y45: 42416.49 | AJ45: =VLOOKUP(A45,'Tab.-Job'!A:A,1,FALSE) -> 1381 | AK45: =LEFT(D45,LEN(D45)-10)&TEXT(SUBSTITUTE(SUBSTITUTE(SUBSTITUTE(RIGHT(R45,9),"DEC","DÉC"),"FEV","FÉV"),"AOU","AOÛ"),"jj.mm.aaaa") -> Marquis Adeline Charlotte Cécile 28.11.2009 | AL45: =EXACT(D45,AK45) -> FALSE
A46: 1381 | B46: Actif | C46: 0000138101 | D46: Marquis Adeline Charlotte Cécile 04.05.1988 | E46: Borel-Jaquet-Déborah-444-DBJ, Walcher Soldati-Lorenza-44-LWS | F46: 26045 | G46: 60624038 | H46: 41275 | J46: Helsana Zurich8081_0 | K46: LCA | L46: 75300 | M46: Assurance maladie - LAMal | N46: 60624038 | O46: Oui | P46: Oui | Q46: Non | R46: Marquis Adeline Charlotte Cécile 04-MAI-88 | S46: 42005 | T46: 42369 | U46: 42369 | V46: 179.7 | W46: 300 | X46: 0 | Y46: 42010.601 | AJ46: =VLOOKUP(A46,'Tab.-Job'!A:A,1,FALSE) -> 1381 | AK46: =LEFT(D46,LEN(D46)-10)&TEXT(SUBSTITUTE(SUBSTITUTE(SUBSTITUTE(RIGHT(R46,9),"DEC","DÉC"),"FEV","FÉV"),"AOU","AOÛ"),"jj.mm.aaaa") -> Marquis Adeline Charlotte Cécile 04.05.1988 | AL46: =EXACT(D46,AK46) -> TRUE
...

Sheet Médecin-EMS
A1: n° | B1: EMS | C1: Nom usuel EMS | D1: Titre | E1: Médecin-répondant | F1: Réseau de soin
A2: 1 | B2: Amitié | C2: Résidence Amitié | D2: Docteur | E2: Alain CHIPIER | F2: non
A3: 2 | B3: Arénières | C3: Résidence des Arénières | D3: Doctoresse | E3: Suzana GOMEZ CANDOLFI | F3: oui
A4: 3 | B4: Beauregard | C4: Résidence Beauregard | D4: Docteur | E4: Philippe SCHALLER | F4: oui
A5: 4 | B5: Béthel | C5: Foyer Béthel | D5: Docteur | E5: Nadir BOUMENDJEL | F5: non
A6: 5 | B6: Bon-Séjour | C6: Résidence de Bon-Séjour | D6: Docteur | E6: Alexandre AEBI | F6: oui
A7: 6 | B7: Bruyères | C7: Les Bruyères | D7: Doctoresse | E7: Karin Ingrid VAN DER KOOI | F7: non
A8: 7 | B8: Butini | C8: Résidence Butini | D8: Monsieur | E8: Cédric GILLABERT | F8: oui
A9: 8 | B9: Champagne | C9: Résidence de La Champagne | D9: Doctoresse | E9: Nathalie VASILIU | F9: non
A10: 9 | B10: Charmettes | C10: Les Charmettes | D10: Docteur | E10: Guillaume BRON SCHWARTZ | F10: oui
A11: 10 | B11: Charmilles | C11: Les Charmilles | D11: Docteur | E11: Bernard SCHREIBER | F11: oui
A12: 11 | B12: Châtaigniers | C12: Résidence Les Châtaigniers | D12: Docteur | E12: Marc PROD'HOM | F12: oui
A13: 12 | B13: Châtelaine | C13: Résidence La Châtelaine | D13: Docteur | E13: Philippe SCHALLER | F13: oui
... A52: 51 | B52: Vessy | C52: Maison de Vessy | D52: Docteur | E52: Philippe MOURON | F52: non

Sheet Gest.-IPA
A1: Nom | B1: Prénom | C1: Init. | D1: Réf. | E1: Nom | F1: Prénom | G1: Init. | H1: Réf.
A2: Section A | E2: SAVOY | F2: Yazan | G2: YSY | H2: 50
A3: BONHOMME | B3: Catherine | C3: CBE | D3: 242 | E3: ESSAKA | F3: Flora | G3: FES | H3: 42
A4: HEINEN-KROPFLI | B4: Ursula | C4: UHN | D4: 245 | E4: CASTRO BARBEY | F4: Martha Lucia | G4: MCB | H4: 45
A5: CRISTIANO | B5: Andrea | C5: ACO | D5: 247 | E5: GILLIERON | F5: Eric | G5: EGN | H5: 47
A6: KAHRIMAN | B6: Aziz | C6: AKN | D6: 255 | E6: SIMONE-TEMPESTA | F6: Maria | G6: MTA | H6: 55
A7: LY BENDJERIOU | B7: Sieu-Chou | C7: SCL | D7: 257 | E7: DEDERDING | F7: Elodie | G7: EDG | H7: 57
A8: MEISTER | B8: Catherine | C8: CMR | D8: 258 | E8: SILVA | F8: Diana | G8: DSA | H8: 58
A9: SIEBER | B9: Line | C9: LSI | D9: 261 | E9: VENTURIN | F9: Marc | G9: MVN | H9: 61
A10: BIERI | B10: Laure | C10: LBI | D10: 263 | E10: SENGA DIAS | F10: Irène | G10: ISA | H10: 63
A11: BARMAN | B11: Jean-Marc | C11: JMB | D11: 265 | E11: SCHNEIDER | F11: Magali | G11: MSR | H11: 65
A12: Section B | E12: GALLEGUILLOS | F12: Elizabeth | G12: EGA | H12: 60
A13: KALA | B13: Cosette | C13: CKA | D13: 343 | E13: MENOUD | F13: Laurent | G13: LMD | H13: 43
A14: CHAKROUN | B14: Abdelfattah | C14: ACH | D14: 351 | E14: NTAMBWE | F14: Roland | G14: RNE | H14: 51
A15: ZBINDEN-RODRIGUEZ | B15: Elizabeth | C15: EZR | D15: 353 | E15: AFONSO GRIMALDI | F15: Sofia Isabel | G15: SIA | H15: 53
A16: MONARD | B16: Raphaëlle | C16: RMD | D16: 354 | E16: DEFFAUGT | F16: Céline | G16: CDT | H16: 54
A17: CONCONI | B17: Christian | C17: CCO | D17: 356 | E17: PAIVA FERNANDES | F17: Joana | G17: JPF | H17: 56
A18: BARD LANDER | B18: Janik | C18: JBL | D18: 359 | E18: DELEAU | F18: Delphine | G18: DDU | H18: 59
A19: SAINTIL | B19: Robenson | C19: RSL | D19: 364 | E19: NABOR | F19: Chrystel | G19: CNR | H19: 64
A20: DE GREGORIO VIANA | B20: Annamaria | C20: AVA | D20: 367 | E20: DONNET GRASSIOULET | F20: Dulce | G20: DDG | H20: 67
A21: LUTETE | B21: André | C21: ALE | D21: 370 | E21: LOUREIRO DE MENEZES | F21: Rafaela | G21: RLE | H21: 70
A22: Section C | E22: SCHROETER | F22: Jeanne | G22: JSR | H22: 40
A23: CIRLINI | B23: Françoise | C23: CIF | D23: 441 | E23: BRIONES-DUPONT | F23: Joëlle | G23: JBD | H23: 41
A24: BOREL-JAQUET | B24: Déborah | C24: DBJ | D24: 444 | E24: WALCHER SOLDATI | F24: Lorenza | G24: LWS | H24: 44
A25: GIRODO | B25: Caroline | C25: CGO | D25: 446 | E25: CHARPIE | F25: Sophie | G25: SCE | H25: 46
A26: BRAULT | B26: Thomas | C26: TBT | D26: 452 | E26: ZAMBERNARDI-OLIVEIRA | F26: Sandrine | G26: SOA | H26: 52
A27: MASPOLI | B27: Roselyne | C27: RMI | D27: 462 | E27: CALAME-LONGJEAN | F27: Simon | G27: SCA | H27: 62
A28: REGUEIRO | B28: Daniel | C28: DRO | D28: 466 | E28: CORNUT | F28: Antoine | G28: ACT | H28: 66
A29: BERBATI | B29: Besim | C29: BBI | D29: 468 | E29: FRANCAVILLA | F29: Sophie | G29: SOF | H29: 68
A30: CARRERA | B30: Anabel | C30: ACA | D30: 469 | E30: SONNEY | F30: Armelle | G30: ASY | H30: 69

Sheet Prime 2018

Sheet Tab.-Job
A1: N° du dossier | B1: N° Volet | C1: Statut LAMal | D1: Statut | E1: Statut Lieu-vie | F1: Section | G1: N° Gest. | H1: Gestionnaire | I1: N° IPA | J1: N° tiers | K1: Bénéficiaire | L1: Bénéficiaire Nom | M1: Bénéficiaire Prénom | N1: Bénéficiaire Date de naissance | O1: Bénéficiaire = PP | P1: Nom PP | Q1: Prénom PP | R1: Date de naissance PP | S1: Age | T1: Jeune/Adulte | U1: Typologie | V1: Etat civil | W1: Sexe | X1: Nationalité | Y1: Permis | Z1: Hébergeur | AA1: Typologie hébergeur | AB1: IBAN | AC1: Médecin-Famille | AD1: MAA | AE1: CSB | AF1: Rue, Numéro | AG1: Immeuble | AH1: Case postale | AI1: Code postal | AJ1: Ville | AK1: Nom assureur | AL1: Nom assureur 2017 | AM1: N° Police | AN1: Description | AO1: Prime 2017 | AP1: Franchise | AQ1: Prime 2018 | AR1: Difference de primes | AS1: A disposition | AT1: A | AU1: A
A2: 6 | B2: =VLOOKUP(A2,LAMal!A:C,3,FALSE) -> 0000000601 | C2: =VLOOKUP(A2,LAMal!A:B,2,FALSE) -> Actif | D2: =VLOOKUP(A2,'Lieu-vie'!B:S,18,FALSE) -> 0000000601 - Actif | E2: =MID(D2,14,20) -> Actif | F2: =VLOOKUP(A2,Qlik!A:C,3,FALSE) -> Adulte-Section A | G2: =VLOOKUP(A2,'Lieu-vie'!B:R,16,FALSE) -> 242 | H2: =VLOOKUP(A2,'Lieu-vie'!B:R,17,FALSE) -> Bonhomme Catherine | I2: =VLOOKUP(G2,'Gest.-IPA'!D:H,5,FALSE) -> 42 | J2: =VLOOKUP(A2,Qlik!A:F,4,FALSE) -> 12343 | K2: =VLOOKUP(A2,LAMal!A:AK,37,FALSE) -> Brunner Hans Rudolf 27.01.1940 | N2: =RIGHT(K2,9) -> 7.01.1940 | P2: =VLOOKUP(A2,Qlik!A:F,5,FALSE) -> Brunner | Q2: =VLOOKUP(A2,Qlik!A:F,6,FALSE) -> Hans Rudolf | R2: =VLOOKUP(A2,Qlik!A:L,12,FALSE) -> 14637 | S2: =VLOOKUP(A2,Qlik!A:M,13,FALSE) -> 77 | T2: =IF(S2+1<=25,"Jeune","Adulte") -> Adulte | U2: =VLOOKUP(A2,Qlik!A:V,14,FALSE) -> 0 | V2: =VLOOKUP(A2,Qlik!A:BF,15,FALSE) -> Célibataire | W2: =VLOOKUP(A2,Qlik!A:BG,16,FALSE) -> Masculin | X2: =VLOOKUP('Tab.-Job'!A2,Qlik!A:Y,17,FALSE) -> Suisse | Y2: =VLOOKUP(A2,Qlik!A:Y,24,FALSE) -> 0 | Z2: =VLOOKUP(A2,'Lieu-vie'!B:G,3,FALSE) -> Sans hébergeur | AA2: =VLOOKUP(A2,'Lieu-vie'!B:F,4,FALSE) -> 0 | AF2: =VLOOKUP(A2,'Lieu-vie'!B:G,6,FALSE) -> Av. de l'Ermitage 1, 1224 CHENE-BOUGERIES | AG2: =VLOOKUP(A2,Qlik!A:BC,49,FALSE) -> 0 | AH2: =VLOOKUP(A2,Qlik!A:BD,50,FALSE) -> 0 | AI2: =VLOOKUP(A2,Qlik!A:BF,51,FALSE) -> 1224 | AJ2: =VLOOKUP(A2,Qlik!A:BF,52,FALSE) -> CHENE-BOUGERIES | AK2: =VLOOKUP(A2,LAMal!A:W,10,FALSE) -> Mutuel Assurance Maladie S.A Martigny1920_0 | AL2: =MID(AK2,1,7) -> Mutuel | AM2: =VLOOKUP(A2,LAMal!A:G,7,FALSE) -> 1289033 | AN2: =VLOOKUP(A2,LAMal!A:K,11,FALSE) -> OK pour changement | AO2: =VLOOKUP(A2,LAMal!A:W,22,FALSE) -> 577 | AP2: =VLOOKUP(A2,LAMal!A:X,23,FALSE) -> 300 | AR2: =AQ2-AO2 -> -577 | AS2: =VLOOKUP(B2,Balance!D:L,9,FALSE) -> 5244.07
A3: 58 | B3: =VLOOKUP(A3,LAMal!A:C,3,FALSE) -> 0000005801 | C3: =VLOOKUP(A3,LAMal!A:B,2,FALSE) -> Actif | D3: =VLOOKUP(A3,'Lieu-vie'!B:S,18,FALSE) -> 0000005801 - Actif | E3: =MID(D3,14,20) -> Actif | F3: =VLOOKUP(A3,Qlik!A:C,3,FALSE) -> Adulte-Section A | G3: =VLOOKUP(A3,'Lieu-vie'!B:R,16,FALSE) -> 257 | H3: =VLOOKUP(A3,'Lieu-vie'!B:R,17,FALSE) -> Ly Sieu-Chou | I3: =VLOOKUP(G3,'Gest.-IPA'!D:H,5,FALSE) -> 57 | J3: =VLOOKUP(A3,Qlik!A:F,4,FALSE) -> 13257 | K3: =VLOOKUP(A3,LAMal!A:AK,37,FALSE) -> Marcos Carmen 13.07.1963 | N3: =RIGHT(K3,9) -> 3.07.1963 | P3: =VLOOKUP(A3,Qlik!A:F,5,FALSE) -> Marcos | Q3: =VLOOKUP(A3,Qlik!A:F,6,FALSE) -> Carmen | R3: =VLOOKUP(A3,Qlik!A:L,12,FALSE) -> 23205 | S3: =VLOOKUP(A3,Qlik!A:M,13,FALSE) -> 53 | T3: =IF(S3+1<=25,"Jeune","Adulte") -> Adulte | U3: =VLOOKUP(A3,Qlik!A:V,14,FALSE) -> 0 | V3: =VLOOKUP(A3,Qlik!A:BF,15,FALSE) -> Célibataire | W3: =VLOOKUP(A3,Qlik!A:BG,16,FALSE) -> Féminin | X3: =VLOOKUP('Tab.-Job'!A3,Qlik!A:Y,17,FALSE) -> Espagnol | Y3: =VLOOKUP(A3,Qlik!A:Y,24,FALSE) -> Permis d'établissement C | Z3: =VLOOKUP(A3,'Lieu-vie'!B:G,3,FALSE) -> Residence Cavour | AA3: =VLOOKUP(A3,'Lieu-vie'!B:F,4,FALSE) -> Foyer adulte | AF3: =VLOOKUP(A3,'Lieu-vie'!B:G,6,FALSE) -> Rue Cavour 15, 1203 GENEVE | AG3: =VLOOKUP(A3,Qlik!A:BC,49,FALSE) -> 0 | AH3: =VLOOKUP(A3,Qlik!A:BD,50,FALSE) -> 0 | AI3: =VLOOKUP(A3,Qlik!A:BF,51,FALSE) -> 1203 | AJ3: =VLOOKUP(A3,Qlik!A:BF,52,FALSE) -> GENEVE | AK3: =VLOOKUP(A3,LAMal!A:W,10,FALSE) -> Sanitas Assurance Maladie Zurich8021_1 | AL3: =MID(AK3,1,7) -> Sanitas | AM3: =VLOOKUP(A3,LAMal!A:G,7,FALSE) -> 36.68867-5 | AN3: =VLOOKUP(A3,LAMal!A:K,11,FALSE) -> Ok pour changement | AO3: =VLOOKUP(A3,LAMal!A:W,22,FALSE) -> 530.9 | AP3: =VLOOKUP(A3,LAMal!A:X,23,FALSE) -> 300 | AR3: =AQ3-AO3 -> -530.9 | AS3: =VLOOKUP(B3,Balance!D:L,9,FALSE) -> -9239.2
A4: 125 | B4: =VLOOKUP(A4,LAMal!A:C,3,FALSE) -> 0000012501 | C4: =VLOOKUP(A4,LAMal!A:B,2,FALSE) -> Actif | D4: =VLOOKUP(A4,'Lieu-vie'!B:S,18,FALSE) -> 0000012501 - Actif | E4: =MID(D4,14,20) -> Actif | F4: =VLOOKUP(A4,Qlik!A:C,3,FALSE) -> Adulte-Section A | G4: =VLOOKUP(A4,'Lieu-vie'!B:R,16,FALSE) -> 242 | H4: =VLOOKUP(A4,'Lieu-vie'!B:R,17,FALSE) -> Bonhomme Catherine | I4: =VLOOKUP(G4,'Gest.-IPA'!D:H,5,FALSE) -> 42 | J4: =VLOOKUP(A4,Qlik!A:F,4,FALSE) -> 13479 | K4: =VLOOKUP(A4,LAMal!A:AK,37,FALSE) -> Paccot Christiane Françoise 22.05.1948 | N4: =RIGHT(K4,9) -> 2.05.1948 | P4: =VLOOKUP(A4,Qlik!A:F,5,FALSE) -> Paccot | Q4: =VLOOKUP(A4,Qlik!A:F,6,FALSE) -> Christiane Françoise | R4: =VLOOKUP(A4,Qlik!A:L,12,FALSE) -> 17675 | S4: =VLOOKUP(A4,Qlik!A:M,13,FALSE) -> 69 | T4: =IF(S4+1<=25,"Jeune","Adulte") -> Adulte | U4: =VLOOKUP(A4,Qlik!A:V,14,FALSE) -> 0 | V4: =VLOOKUP(A4,Qlik!A:BF,15,FALSE) -> Célibataire | W4: =VLOOKUP(A4,Qlik!A:BG,16,FALSE) -> Féminin | X4: =VLOOKUP('Tab.-Job'!A4,Qlik!A:Y,17,FALSE) -> Suisse | Y4: =VLOOKUP(A4,Qlik!A:Y,24,FALSE) -> 0 | Z4: =VLOOKUP(A4,'Lieu-vie'!B:G,3,FALSE) -> Sans hébergeur | AA4: =VLOOKUP(A4,'Lieu-vie'!B:F,4,FALSE) -> 0 | AF4: =VLOOKUP(A4,'Lieu-vie'!B:G,6,FALSE) -> Ch. Mouille-Galand 2E, 1214 VERNIER | AG4: =VLOOKUP(A4,Qlik!A:BC,49,FALSE) -> 0 | AH4: =VLOOKUP(A4,Qlik!A:BD,50,FALSE) -> 0 | AI4: =VLOOKUP(A4,Qlik!A:BF,51,FALSE) -> 1214 | AJ4: =VLOOKUP(A4,Qlik!A:BF,52,FALSE) -> VERNIER | AK4: =VLOOKUP(A4,LAMal!A:W,10,FALSE) -> Mutuel Assurance Maladie S.A Martigny1920_0 | AL4: =MID(AK4,1,7) -> Mutuel | AM4: =VLOOKUP(A4,LAMal!A:G,7,FALSE) -> 228412 | AN4: =VLOOKUP(A4,LAMal!A:K,11,FALSE) -> NON, PP ne veut pas, épargne OK | AO4: =VLOOKUP(A4,LAMal!A:W,22,FALSE) -> 577 | AP4: =VLOOKUP(A4,LAMal!A:X,23,FALSE) -> 300 | AR4: =AQ4-AO4 -> -577 | AS4: =VLOOKUP(B4,Balance!D:L,9,FALSE) -> 5417.5
