Workbook
Name SectionA: #REF!&" "&#REF!
Name sectionb: #REF!&" "&#REF!
Name sectionc: #REF!&" "&#REF!

Sheet Caisses Maladies 2018
B2: Primes ordinaire FA CHF 300.- (-18 ans CHF 0.-)
A3: Fournisseur | B3: 0-18 | C3: 19-25 | D3: + 26
A4: Agrisano Caisse Maladie Brugg5201_0 | B4: 161.8 | C4: 691.5 | D4: 735.6
A5: Arcosana Lucerne6002_0 | B5: 126.9 | C5: 577 | D5: 577
A6: Assura Pully1009_0 | B6: 106.8 | C6: 503.6 | D6: 503.6
A7: Assura Pully1009_2 | B7: 106.8 | C7: 503.6 | D7: 503.6
A8: Atupri Caisse-Maladie Berne3000_1 | B8: 152.2 | C8: 556 | D8: 585.2
A9: Atupri Krankenkasse Berne3000_0 | B9: 152.2 | C9: 556 | D9: 585.2
A10: Avenir Assurance Maladie S.A Martign1920_0 | B10: 149.4 | C10: 611.4 | D10: 650.4
A11: Cigna International Health Antwerpe2140_0
A12: Concordia Ge Geneve 1211_0 | B12: 155.4 | C12: 558 | D12: 575.2
A13: Concordia Lucerne6002_0 | B13: 155.4 | C13: 558 | D13: 575.2
A14: Concordia Lucerne6002_1 | B14: 155.4 | C14: 558 | D14: 575.2
A15: Cpt Caisse-Maladie Berne3001_0 | B15: 135 | C15: 596.6 | D15: 645
A16: Cpt Caisse-Maladie Berne3001_1 | B16: 135 | C16: 596.6 | D16: 645
A17: Css Assurance Lausann1000_0 | B17: 130.7 | C17: 546.5 | D17: 594
A18: Css Chretienne Sociale Suisse Geneve1204_0 | B18: 130.7 | C18: 546.5 | D18: 594
A19: Css Chretienne Sociale Suisse Lucerne6002_6 | B19: 130.7 | C19: 546.5 | D19: 594
A20: Easy Sana Assurance Maladie S.A Martign1920_0 | B20: 149.6 | C20: 592.4 | D20: 630.2
A21: Easy Sana Assurance Maladie S.A Martign1920_1 | B21: 149.6 | C21: 592.4 | D21: 630.2
A22: Egk-Gesundheitskasse Lausanne1002_0 | B22: 130.4 | C22: 566.8 | D22: 566.8
A23: Gemeinsame Einrichtung Kvg Solothu4503_0
A24: Gpafi Geneve 1211_1
A25: Groupe Mutuel Assurances Gma S.A Martign1920_0 | B25: =B36 -> 149.9 | C25: =C36 -> 592.6 | D25: =D36 -> 630.4
A26: Helsana Assurances S.A Duebend8600_1 | B26: 154.5 | C26: 556.2 | D26: 618
A27: Helsana Caisse Maladie Zurich8081_0 | B27: 154.5 | C27: 556.2 | D27: 618
A28: Helsana Zurich8081_0 | B28: 154.5 | C28: 556.2 | D28: 618
A29: Intras Caisse-Maladie Carouge1227_0 | B29: 121.4 | C29: 507.8 | D29: 552
A30: Intras Caisse-Maladie Geneve 1211_1 | B30: 121.4 | C30: 507.8 | D30: 552
A31: Intras Caisse-Maladie Geneve 1211_2 | B31: 121.4 | C31: 507.8 | D31: 552
A32: Intras Caisse-Maladie Lausann1004_3 | B32: 121.4 | C32: 507.8 | D32: 552
A33: Klug Krankenkasse Zug6300_0 | B33: 179.1 | C33: 688.8 | D33: 688.8
A34: Kpt Assurances Voyages & Vacances Berne3000_0 | B34: 135 | C34: 596.6 | D34: 645
A35: Moove Sympany Berne3000_1 | B35: 168.6 | C35: 571.9 | D35: 602
A36: Mutuel Assurance Maladie S.A Martigny1920_0 | B36: 149.9 | C36: 592.6 | D36: 630.4
A37: Mutuel Assurance Maladie S.A Martigny1920_1 | B37: 149.9 | C37: 592.6 | D37: 630.4
A38: Oms Caisse Maladie Geneve 1211_0
A39: Philos Assurance Maladie S.A Martign1920_0 | B39: 149.5 | C39: 621.9 | D39: 661.5
A40: Progres Caisse Maladie Le Locl2400_0 | B40: 159.2 | C40: 573.3 | D40: 637
A41: Provita Wintert8401_0 | B41: 137.7 | C41: 550.8 | D41: 625.9
A42: Sanitas Assurance Maladie Geneve 1211_3 | B42: 147.7 | C42: 531.8 | D42: 590.8
A43: Sanitas Assurance Maladie Neuchat2000_0 | B43: 147.7 | C43: 531.8 | D43: 590.8
A44: Sanitas Assurance Maladie Zurich8021_1 | B44: 147.7 | C44: 531.8 | D44: 590.8
A45: Sanitas Assurance Maladie Zurich8021_2 | B45: 147.7 | C45: 531.8 | D45: 590.8
A46: Supra Caisse-Maladie Lausann1003_0 | B46: 129.4 | C46: 577.1 | D46: 577.1
A47: Supra Lausann1000_0 | B47: 129.4 | C47: 577.1 | D47: 577.1
A48: Supra Lausanne1006_0 | B48: 129.4 | C48: 577.1 | D48: 577.1
A49: Swica Geneve Organisation De Sante Geneve1202_0 | B49: 137.5 | C49: 504.2 | D49: 572.9
A50: Swica Wintert8401_0 | B50: 137.5 | C50: 504.2 | D50: 572.9
... A53: Swica-Primes/Particip/Remboursement Wintert8401_1 | B53: 137.5 | C53: 504.2 | D53: 572.9
A54: Sympany Versicherungen Ag Basel4052_0 | B54: =B58 -> 170 | C54: =C58 -> 629 | D54: =D58 -> 680
A55: Uniqa Assurance Sa Geneve 1211_0
A56: Visana Berne3000_0 | B56: 150.8 | C56: 570.5 | D56: 626.9
A57: Vivacare Lausann1002_0 | B57: 159.2 | C57: 580.6 | D57: 611.1
A58: Vivao Sympany Ag Basel4002_0 | B58: 170 | C58: 629 | D58: 680

Sheet Feuil4
A1: Age | B1: Jeune/Adulte | C1: Nom assureur | D1: Nom assureur 2017 | E1: Prime 2017 | F1: Franchise | G1: Prime 2018
A2: 76 | B2: Adulte | C2: Assura Pully1009_0 | D2: Assura | E2: 469.8 | G2: =IF((A2+1)>26,VLOOKUP(C2,'Caisses Maladies 2018'!A:D,4,FALSE),FALSE) -> 503.6
A3: 77 | B3: Adulte | C3: Mutuel Assurance Maladie S.A Martigny1920_0 | D3: Mutuel | E3: 577 | G3: =IF((A3+1)>26,VLOOKUP(C3,'Caisses Maladies 2018'!A:D,4,FALSE),FALSE) -> 630.4
A4: 74 | B4: Adulte | C4: Sanitas Assurance Maladie Zurich8021_1 | D4: Sanitas | E4: 525.25 | G4: =IF((A4+1)>26,VLOOKUP(C4,'Caisses Maladies 2018'!A:D,4,FALSE),FALSE) -> 590.8
A5: 72 | B5: Adulte | C5: Helsana Zurich8081_0 | D5: Helsana | E5: 459.5 | G5: =IF((A5+1)>26,VLOOKUP(C5,'Caisses Maladies 2018'!A:D,4,FALSE),FALSE) -> 618 | I5: =SI((LC(-6)+1)>26;RECHERCHEV(LC(-4);'Caisses Maladies 2018'!C(-6):C(-3);4;FAUX);FAUX)
A6: 67 | B6: Adulte | C6: Css Chretienne Sociale Suisse Lucerne6002_6 | D6: Css Chr | E6: 578 | G6: =IF((A6+1)>26,VLOOKUP(C6,'Caisses Maladies 2018'!A:D,4,FALSE),FALSE) -> 594
A7: 64 | B7: Adulte | C7: Mutuel Assurance Maladie S.A Martigny1920_0 | D7: Mutuel | E7: 577 | G7: =IF((A7+1)>26,VLOOKUP(C7,'Caisses Maladies 2018'!A:D,4,FALSE),FALSE) -> 630.4 | I7: =SI((LC(-6)+1)<18;RECHERCHEV(LC(-4);'Caisses Maladies 2018'!C(-6):C(-3);2;FAUX);FAUX)
A8: 21 | B8: Jeune | C8: Helsana Zurich8081_0 | D8: Helsana | E8: 483.5 | G8: =IF((A8+1)<18,VLOOKUP(C8,'Caisses Maladies 2018'!A:D,3,FALSE),FALSE) -> FALSE
A9: 20 | B9: Jeune | C9: Helsana Zurich8081_0 | D9: Helsana | E9: 537.3 | G9: =IF((A9+1)<18,VLOOKUP(C9,'Caisses Maladies 2018'!A:D,3,FALSE),FALSE) -> FALSE
A10: 19 | B10: Jeune | C10: Agrisano Caisse Maladie Brugg5201_0 | D10: Agrisan | E10: 646.3 | G10: =IF((A10+1)<18,VLOOKUP(C10,'Caisses Maladies 2018'!A:D,3,FALSE),FALSE) -> FALSE
A11: 21 | B11: Jeune | C11: Egk-Gesundheitskasse Lausanne1002_0 | D11: Egk-Ges | E11: 561.15 | G11: =IF((A11+1)<18,VLOOKUP(C11,'Caisses Maladies 2018'!A:D,3,FALSE),FALSE) -> FALSE
A12: 18 | B12: Jeune | C12: Helsana Zurich8081_0 | D12: Helsana | E12: 537.3 | G12: =IF((A12+1)<18,VLOOKUP(C12,'Caisses Maladies 2018'!A:D,3,FALSE),FALSE) -> FALSE
A13: 19 | B13: Jeune | C13: Intras Caisse-Maladie Lausann1004_3 | D13: Intras | E13: 21.8 | G13: =IF((A13+1)<18,VLOOKUP(C13,'Caisses Maladies 2018'!A:D,3,FALSE),FALSE) -> FALSE
A14: 12 | B14: Jeune | C14: Mutuel Assurance Maladie S.A Martigny1920_0 | D14: Mutuel | E14: 136 | G14: =IF((A14+1)<18,VLOOKUP(C14,'Caisses Maladies 2018'!A:D,2,FALSE),FALSE) -> 149.9
A15: 21 | B15: Jeune | C15: Assura Pully1009_2 | D15: Assura | E15: 432.3 | G15: =IF((A15+1)<18,VLOOKUP(C15,'Caisses Maladies 2018'!A:D,3,FALSE),FALSE) -> FALSE
A16: 18 | B16: Jeune | C16: Mutuel Assurance Maladie S.A Martigny1920_0 | D16: Mutuel | E16: 134 | G16: =IF((A16+1)<18,VLOOKUP(C16,'Caisses Maladies 2018'!A:D,3,FALSE),FALSE) -> FALSE
A17: 20 | B17: Jeune | C17: Arcosana Lucerne6002_0 | D17: Arcosan | E17: 315.35 | G17: =IF((A17+1)<18,VLOOKUP(C17,'Caisses Maladies 2018'!A:D,3,FALSE),FALSE) -> FALSE
