Workbook
Name lAteliers: ListeAteliers!$A$5:$A$59

Sheet Jan 17
C1: 42736
C2: 10h00 à 11h00 | E2: 11h00 à 12h00 | G2: 12h00 à 13h00 | I2: 13h00 à 14h00 | K2: 14h00 à 15h00 | M2: 15h00 à 16h00 | O2: 16h00 à 17h00 | Q2: 17h00 à 18h00 | S2: 18h00 à 19h00
C3: GS | D3: PS | E3: GS | F3: PS | G3: GS | H3: PS | I3: GS | J3: PS | K3: GS | L3: PS | M3: GS | N3: PS | O3: GS | P3: PS | Q3: GS | R3: PS | S3: GS | T3: PS
A4: 1 | B4: Dimanche
A5: 2 | B5: Lundi
A6: 3 | B6: Mardi
A7: 4 | B7: Mercredi
A8: 5 | B8: Jeudi
A9: 6 | B9: Vendredi
A10: 7 | B10: Samedi
A11: 8 | B11: Dimanche
A12: 9 | B12: Lundi
A13: 10 | B13: Mardi
A14: 11 | B14: Mercredi
A15: 12 | B15: Jeudi
... A19: 16 | B19: Lundi
A20: 17 | B20: Mardi | S20: VACANCES
A21: 18 | B21: Mercredi
A22: 19 | B22: Jeudi
A23: 20 | B23: Vendredi
A24: 21 | B24: Samedi
A25: 22 | B25: Dimanche
A26: 23 | B26: Lundi
A27: 24 | B27: Mardi
A28: 25 | B28: Mercredi
A29: 26 | B29: Jeudi | C29: APEH | E29: APEH | G29: APEH | I29: APEH | K29: APEH
A30: 27 | B30: Vendredi
A31: 28 | B31: Samedi
A32: 29 | B32: Dimanche
A33: 30 | B33: Lundi
A34: 31 | B34: Mardi

Sheet Fev_17
C1: FEVRIER 2017
C2: 10h00 à 11h00 | E2: 11h00 à 12h00 | G2: 12h00 à 13h00 | I2: 13h00 à 14h00 | K2: 14h00 à 15h00 | M2: 15h00 à 16h00 | O2: 16h00 à 17h00 | Q2: 17h00 à 18h00 | S2: 18h00 à 19h00
C3: GS | D3: PS | E3: GS | F3: PS | G3: GS | H3: PS | I3: GS | J3: PS | K3: GS | L3: PS | M3: GS | N3: PS | O3: GS | P3: PS | Q3: GS | R3: PS | S3: GS | T3: PS
A4: 1 | B4: Mercredi | R4: VACANCES
A5: 2 | B5: Jeudi | C5: APEH | E5: APEH
A6: 3 | B6: Vendredi
A7: 4 | B7: Samedi | E7: Masterclass Kizomba Salsa Batchata Feat. Keskya&Mickael N'guyen organisé par Maeva & Gigi
A8: 5 | B8: Dimanche
A9: 6 | B9: Lundi
A10: 7 | B10: Mardi
A11: 8 | B11: Mercredi
A12: 9 | B12: Jeudi
A13: 10 | B13: Vendredi
A14: 11 | B14: Samedi
A15: 12 | B15: Dimanche
A16: 13 | B16: Lundi | C16: MOEBIUS | E16: MOEBIUS | G16: MOEBIUS | I16: MOEBIUS | K16: MOEBIUS | M16: MOEBIUS | O16: MOEBIUS
A17: 14 | B17: Mardi | C17: MOEBIUS | E17: MOEBIUS | G17: MOEBIUS | I17: MOEBIUS | K17: MOEBIUS | M17: MOEBIUS | O17: MOEBIUS
A18: 15 | B18: Mercredi | I18: HIP HOP | K18: HIP HOP | M18: RAGGA | O18: RAGGA
A19: 16 | B19: Jeudi | C19: MOEBIUS | D19: Florence | E19: MOEBIUS | F19: Florence | G19: MOEBIUS | I19: MOEBIUS | J19: APEH | K19: MOEBIUS | L19: APEH | M19: MOEBIUS | O19: MOEBIUS
A20: 17 | B20: Vendredi | C20: MOEBIUS | E20: MOEBIUS | G20: MOEBIUS | I20: MOEBIUS | J20: HALT | K20: MOEBIUS | L20: HALT | M20: MOEBIUS | O20: MOEBIUS
A21: 18 | B21: Samedi | C21: MOEBIUS | E21: MOEBIUS | G21: MOEBIUS | I21: MOEBIUS | K21: MOEBIUS | M21: MOEBIUS | O21: MOEBIUS
A22: 19 | B22: Dimanche
A23: 20 | B23: Lundi | C23: MOEBIUS | E23: MOEBIUS | G23: MOEBIUS | I23: MOEBIUS | K23: MOEBIUS | M23: MOEBIUS | O23: MOEBIUS
A24: 21 | B24: Mardi | C24: MOEBIUS | E24: MOEBIUS | G24: MOEBIUS | I24: MOEBIUS | K24: MOEBIUS | M24: MOEBIUS | O24: MOEBIUS
A25: 22 | B25: Mercredi | I25: HIP HOP | K25: HIP HOP | M25: RAGGA | O25: RAGGA
A26: 23 | B26: Jeudi | C26: MOEBIUS | D26: Florence | E26: MOEBIUS | F26: Florence | G26: MOEBIUS | I26: MOEBIUS | J26: APEH | K26: MOEBIUS | L26: APEH | M26: MOEBIUS | O26: MOEBIUS
A27: 24 | B27: Vendredi | C27: MOEBIUS | E27: MOEBIUS | G27: MOEBIUS | I27: MOEBIUS | J27: HALT | K27: MOEBIUS | L27: HALT | M27: MOEBIUS | O27: MOEBIUS
A28: 25 | B28: Samedi | C28: MOEBIUS | E28: MOEBIUS | G28: MOEBIUS | I28: MOEBIUS | K28: MOEBIUS | M28: MOEBIUS | O28: MOEBIUS
A29: 26 | B29: Dimanche
A30: 27 | B30: Lundi
A31: 28 | B31: Mardi | C31: MOEBIUS | E31: MOEBIUS | G31: MOEBIUS | I31: MOEBIUS | K31: MOEBIUS | M31: MOEBIUS | O31: MOEBIUS

Sheet Mars 17
B1: MARS
C2: 10h00 à 11h00 | E2: 11h00 à 12h00 | G2: 12h00 à 13h00 | I2: 13h00 à 14h00 | K2: 14h00 à 15h00 | M2: 15h00 à 16h00 | O2: 16h00 à 17h00 | Q2: 17h00 à 18h00 | S2: 18h00 à 19h00
C3: GS | D3: PS | E3: GS | F3: PS | G3: GS | H3: PS | I3: GS | J3: PS | K3: GS | L3: PS | M3: GS | N3: PS | O3: GS | P3: PS | Q3: GS | R3: PS | S3: GS | T3: PS
A4: 1 | B4: Mercredi | I4: HIP HOP | K4: HIP HOP | M4: RAGGA | O4: RAGGA
A5: 2 | B5: Jeudi | C5: MOEBIUS | D5: Florence | E5: MOEBIUS | F5: Florence | G5: MOEBIUS | I5: MOEBIUS | J5: APEH | K5: MOEBIUS | L5: APEH | M5: MOEBIUS | O5: MOEBIUS
A6: 3 | B6: Vendredi | C6: MOEBIUS | E6: MOEBIUS | G6: MOEBIUS | I6: MOEBIUS | J6: HALT | K6: MOEBIUS | L6: HALT | M6: MOEBIUS | O6: MOEBIUS
A7: 4 | B7: Samedi | C7: MOEBIUS | E7: MOEBIUS | G7: MOEBIUS | I7: MOEBIUS | K7: MOEBIUS | M7: MOEBIUS | O7: MOEBIUS
A8: 5 | B8: Dimanche
A9: 6 | B9: Lundi | C9: MOEBIUS | E9: MOEBIUS | G9: MOEBIUS | I9: MOEBIUS | K9: MOEBIUS | M9: MOEBIUS | O9: MOEBIUS
A10: 7 | B10: Mardi | C10: MOEBIUS | E10: MOEBIUS | G10: MOEBIUS | I10: MOEBIUS | K10: MOEBIUS | M10: MOEBIUS | O10: MOEBIUS
A11: 8 | B11: Mercredi | I11: HIP HOP | K11: HIP HOP | M11: RAGGA | O11: RAGGA
A12: 9 | B12: Jeudi | C12: MOEBIUS | D12: Florence | E12: MOEBIUS | F12: Florence | G12: MOEBIUS | I12: MOEBIUS | J12: APEH | K12: MOEBIUS | L12: APEH | M12: MOEBIUS | O12: MOEBIUS | P12: salut
A13: 10 | B13: Vendredi | C13: MOEBIUS | E13: MOEBIUS | G13: MOEBIUS | I13: MOEBIUS | J13: HALT | K13: MOEBIUS | L13: HALT | M13: MOEBIUS | O13: MOEBIUS
A14: 11 | B14: Samedi | C14: MOEBIUS | E14: MOEBIUS | G14: MOEBIUS | I14: MOEBIUS | K14: MOEBIUS | M14: MOEBIUS | O14: MOEBIUS
A15: 12 | B15: Dimanche
A16: 13 | B16: Lundi | C16: Siman/Geste | E16: Siman/Geste | G16: Siman/Geste | I16: Siman/Geste | K16: Siman/Geste | M16: Siman/Geste | O16: Siman/Geste | Q16: Siman/Geste | S16: Siman/Geste
A17: 14 | B17: Mardi | C17: Siman/Geste | E17: Siman/Geste | G17: Siman/Geste | I17: Siman/Geste | K17: Siman/Geste | M17: Siman/Geste | O17: Siman/Geste | Q17: Siman/Geste | S17: Siman/Geste
A18: 15 | B18: Mercredi | C18: Siman/Geste | E18: Siman/Geste | G18: Siman/Geste | I18: HIP HOP | K18: HIP HOP | M18: RAGGA | O18: RAGGA | Q18: Siman/Geste | S18: Siman/Geste
A19: 16 | B19: Jeudi | C19: Siman/Geste | E19: Siman/Geste | G19: Siman/Geste | I19: Siman/Geste | J19: APEH | K19: Siman/Geste | L19: APEH | M19: Siman/Geste | O19: Siman/Geste | Q19: Siman/Geste | S19: Siman/Geste
A20: 17 | B20: Vendredi | C20: Siman/Geste | E20: Siman/Geste | G20: Siman/Geste | I20: Siman/Geste | J20: HALT | K20: Siman/Geste | L20: HALT | M20: Siman/Geste | O20: Siman/Geste | Q20: Siman/Geste | S20: Siman/Geste
A21: 18 | B21: Samedi | C21: Siman/Geste | E21: Siman/Geste | G21: Siman/Geste | I21: Siman/Geste | K21: Siman/Geste | M21: Siman/Geste | O21: Siman/Geste | Q21: Siman/Geste | S21: Siman/Geste
A22: 19 | B22: Dimanche
A23: 20 | B23: Lundi | C23: Siman/Geste | E23: Siman/Geste | G23: Siman/Geste | I23: Siman/Geste | K23: Siman/Geste | M23: Siman/Geste | O23: Siman/Geste | Q23: Siman/Geste | S23: Siman/Geste
A24: 21 | B24: Mardi | C24: Siman/Geste | E24: Siman/Geste | G24: Siman/Geste | I24: Siman/Geste | K24: Siman/Geste | M24: Siman/Geste | O24: Siman/Geste | Q24: Siman/Geste | S24: Siman/Geste
A25: 22 | B25: Mercredi | C25: Siman/Geste | E25: Siman/Geste | G25: Siman/Geste | I25: HIP HOP | K25: HIP HOP | M25: RAGGA | O25: RAGGA | Q25: Siman/Geste | S25: Siman/Geste
A26: 23 | B26: Jeudi | C26: Siman/Geste | E26: Siman/Geste | G26: Siman/Geste | I26: Siman/Geste | J26: APEH | K26: Siman/Geste | L26: APEH | M26: Siman/Geste | O26: Siman/Geste | Q26: Siman/Geste | S26: Siman/Geste
A27: 24 | B27: Vendredi | C27: Siman/Geste | E27: Siman/Geste | G27: Siman/Geste | I27: Siman/Geste | J27: HALT | K27: Siman/Geste | L27: HALT | M27: Siman/Geste | O27: Siman/Geste | Q27: Siman/Geste | S27: Siman/Geste
A28: 25 | B28: Samedi | C28: Siman/Geste | E28: Siman/Geste | G28: Siman/Geste | I28: Siman/Geste | K28: Siman/Geste | M28: Siman/Geste | O28: Siman/Geste | Q28: Siman/Geste | S28: Siman/Geste
A29: 26 | B29: Dimanche
A30: 27 | B30: Lundi | C30: Siman/Geste | E30: Siman/Geste | G30: Siman/Geste | I30: Siman/Geste | K30: Siman/Geste | M30: Siman/Geste | O30: Siman/Geste | Q30: Siman/Geste | S30: Siman/Geste
A31: 28 | B31: Mardi | C31: Siman/Geste | E31: Siman/Geste | G31: Siman/Geste | I31: Siman/Geste | K31: Siman/Geste | M31: Siman/Geste | O31: Siman/Geste | Q31: Siman/Geste | S31: Siman/Geste
A32: 29 | B32: Mercredi | C32: Siman/Geste | E32: Siman/Geste | G32: Siman/Geste | I32: HIP HOP | K32: HIP HOP | M32: RAGGA | O32: RAGGA | Q32: Siman/Geste | S32: Siman/Geste
A33: 30 | B33: Jeudi | C33: Siman/Geste | E33: Siman/Geste | G33: Siman/Geste | I33: Siman/Geste | J33: APEH | K33: Siman/Geste | L33: APEH | M33: Siman/Geste | O33: Siman/Geste | Q33: Siman/Geste | S33: Siman/Geste
A34: 31 | B34: Vendredi | C34: Siman/Geste | E34: Siman/Geste | G34: Siman/Geste | I34: Siman/Geste | J34: HALT | K34: Siman/Geste | L34: HALT | M34: Siman/Geste | O34: Siman/Geste | Q34: Siman/Geste | S34: Siman/Geste

Sheet Avril 17
B1: Avril
C2: 10h00 à 11h00 | E2: 11h00 à 12h00 | G2: 12h00 à 13h00 | I2: 13h00 à 14h00 | K2: 14h00 à 15h00 | M2: 15h00 à 16h00 | O2: 16h00 à 17h00 | Q2: 17h00 à 18h00 | S2: 18h00 à 19h00
C3: GS | D3: PS | E3: GS | F3: PS | G3: GS | H3: PS | I3: GS | J3: PS | K3: GS | L3: PS | M3: GS | N3: PS | O3: GS | P3: PS | Q3: GS | R3: PS | S3: GS | T3: PS
A4: 1 | B4: Samedi | R4: VACANCES
A5: 2 | B5: Dimanche
A6: 3 | B6: Lundi
A7: 4 | B7: Mardi
A8: 5 | B8: Mercredi | G8: HIP HOP | I8: HIP HOP | K8: RAGGA | M8: RAGGA
A9: 6 | B9: Jeudi | C9: Florence | E9: Florence
A10: 7 | B10: Vendredi
A11: 8 | B11: Samedi
A12: 9 | B12: Dimanche
A13: 10 | B13: Lundi
A14: 11 | B14: Mardi
A15: 12 | B15: Mercredi | G15: HIP HOP | I15: HIP HOP | K15: RAGGA | M15: RAGGA
A16: 13 | B16: Jeudi | C16: Florence | E16: Florence
A17: 14 | B17: Vendredi
A18: 15 | B18: Samedi
A19: 16 | B19: Dimanche
A20: 17 | B20: Lundi
A21: 18 | B21: Mardi
A22: 19 | B22: Mercredi | G22: HIP HOP | I22: HIP HOP | K22: RAGGA | M22: RAGGA
A23: 20 | B23: Jeudi | C23: Florence | E23: Florence | H23: APEH | J23: APEH
A24: 21 | B24: Vendredi | H24: HALT | J24: HALT
A25: 22 | B25: Samedi
A26: 23 | B26: Dimanche
A27: 24 | B27: Lundi
A28: 25 | B28: Mardi
A29: 26 | B29: Mercredi | G29: HIP HOP | I29: HIP HOP | K29: RAGGA | M29: RAGGA
A30: 27 | B30: Jeudi | C30: Florence | E30: Florence | H30: APEH | J30: APEH
A31: 28 | B31: Vendredi | H31: HALT | J31: HALT
A32: 29 | B32: Samedi
A33: 30 | B33: Dimanche

Sheet Mai 17
A1: MAI
C2: 10h00 à 11h00 | E2: 11h00 à 12h00 | G2: 12h00 à 13h00 | I2: 13h00 à 14h00 | K2: 14h00 à 15h00 | M2: 15h00 à 16h00 | O2: 16h00 à 17h00 | Q2: 17h00 à 18h00 | S2: 18h00 à 19h00
C3: GS | D3: PS | E3: GS | F3: PS | G3: GS | H3: PS | I3: GS | J3: PS | K3: GS | L3: PS | M3: GS | N3: PS | O3: GS | P3: PS | Q3: GS | R3: PS | S3: GS | T3: PS
A4: 1 | B4: Lundi
A5: 2 | B5: Mardi
A6: 3 | B6: Mercredi | G6: HIP HOP | I6: HIP HOP | K6: RAGGA | M6: RAGGA
A7: 4 | B7: Jeudi | C7: Florence | E7: Florence | H7: APEH | J7: APEH
A8: 5 | B8: Vendredi | H8: HALT | J8: HALT
A9: 6 | B9: Samedi
A10: 7 | B10: Dimanche
A11: 8 | B11: Lundi
A12: 9 | B12: Mardi
A13: 10 | B13: Mercredi | G13: HIP HOP | I13: HIP HOP | K13: RAGGA | M13: RAGGA
A14: 11 | B14: Jeudi | C14: Florence | E14: Florence | H14: APEH | J14: APEH
A15: 12 | B15: Vendredi | H15: HALT | J15: HALT
A16: 13 | B16: Samedi
A17: 14 | B17: Dimanche
A18: 15 | B18: Lundi
A19: 16 | B19: Mardi
A20: 17 | B20: Mercredi | G20: HIP HOP | I20: HIP HOP | K20: RAGGA | M20: RAGGA
A21: 18 | B21: Jeudi | C21: Florence | E21: Florence | H21: APEH | J21: APEH
A22: 19 | B22: Vendredi | H22: HALT | J22: HALT
A23: 20 | B23: Samedi
A24: 21 | B24: Dimanche
A25: 22 | B25: Lundi
A26: 23 | B26: Mardi
A27: 24 | B27: Mercredi | G27: HIP HOP | I27: HIP HOP | K27: RAGGA | M27: RAGGA
A28: 25 | B28: Jeudi | C28: FERIE
A29: 26 | B29: Vendredi | H29: HALT | J29: HALT
A30: 27 | B30: Samedi
A31: 28 | B31: Dimanche
A32: 29 | B32: Lundi
A33: 30 | B33: Mardi
A34: 31 | B34: Mercredi | G34: HIP HOP | I34: HIP HOP | K34: RAGGA | M34: RAGGA

Sheet Juin 17
F1: JUIN 2017
C2: 8h00 - 10h | E2: 10h00 à 11h00 | G2: 11h00 à 12h00 | I2: 12h00 à 13h00 | K2: 13h00 à 14h00 | M2: 14h00 à 15h00 | O2: 15h00 à 16h00 | Q2: 16h00 à 17h00 | S2: 17h00 à 18h00 | U2: 18h00 à 19h00
C3: GS | D3: PS | E3: GS | F3: PS | G3: GS | H3: PS | I3: GS | J3: PS | K3: GS | L3: PS | M3: GS | N3: PS | O3: GS | P3: PS | Q3: GS | R3: PS | S3: GS | T3: PS | U3: GS | V3: PS
A4: 1 | B4: Jeudi | C4: Florence | E4: Florence | H4: APEH | J4: APEH
A5: 2 | B5: Vendredi | H5: HALT | J5: HALT
A6: 3 | B6: Samedi | T6: VACANCES
A7: 4 | B7: Dimanche
A8: 5 | B8: Lundi
A9: 6 | B9: Mardi
A10: 7 | B10: Mercredi | G10: HIP HOP | I10: HIP HOP | K10: RAGGA | M10: RAGGA
A11: 8 | B11: Jeudi | C11: Florence | E11: Florence | H11: APEH | J11: APEH
A12: 9 | B12: Vendredi | H12: HALT | J12: HALT
A13: 10 | B13: Samedi
A14: 11 | B14: Dimanche
A15: 12 | B15: Lundi
A16: 13 | B16: Mardi
A17: 14 | B17: Mercredi | G17: HIP HOP | I17: HIP HOP | K17: RAGGA | M17: RAGGA
A18: 15 | B18: Jeudi | C18: Florence | E18: Florence | H18: APEH | J18: APEH
A19: 16 | B19: Vendredi | H19: HALT | J19: HALT
A20: 17 | B20: Samedi
A21: 18 | B21: Dimanche
A22: 19 | B22: Lundi
A23: 20 | B23: Mardi
A24: 21 | B24: Mercredi | G24: HIP HOP | I24: HIP HOP | K24: RAGGA | M24: RAGGA
A25: 22 | B25: Jeudi | C25: Florence | E25: Florence | H25: APEH | J25: APEH
A26: 23 | B26: Vendredi | H26: HALT | J26: HALT
A27: 24 | B27: Samedi
A28: 25 | B28: Dimanche
A29: 26 | B29: Lundi
A30: 27 | B30: Mardi
A31: 28 | B31: Mercredi | G31: HIP HOP | I31: HIP HOP | K31: RAGGA | M31: RAGGA
A32: 29 | B32: Jeudi | C32: Florence | E32: Florence | H32: APEH | J32: APEH
A33: 30 | B33: Vendredi | H33: HALT | J33: HALT

Sheet Juillet 17
C1: JUILLET
C2: 10h00 à 11h00 | E2: 11h00 à 12h00 | G2: 12h00 à 13h00 | I2: 13h00 à 14h00 | K2: 14h00 à 15h00 | M2: 15h00 à 16h00 | O2: 16h00 à 17h00 | Q2: 17h00 à 18h00 | S2: 18h00 à 19h00
C3: GS | D3: PS | E3: GS | F3: PS | G3: GS | H3: PS | I3: GS | J3: PS | K3: GS | L3: PS | M3: GS | N3: PS | O3: GS | P3: PS | Q3: GS | R3: PS | S3: GS | T3: PS
A4: 1 | B4: Samedi
A5: 2 | B5: Dimanche
A6: 3 | B6: Lundi
A7: 4 | B7: Mardi
A8: 5 | B8: Mercredi | G8: HIP HOP | I8: HIP HOP | K8: RAGGA | M8: RAGGA
A9: 6 | B9: Jeudi | C9: Florence | E9: Florence | H9: APEH | J9: APEH
A10: 7 | B10: Vendredi | H10: HALT | J10: HALT
A11: 8 | B11: Samedi
A12: 9 | B12: Dimanche
A13: 10 | B13: Lundi
A14: 11 | B14: Mardi
A15: 12 | B15: Mercredi | G15: HIP HOP | I15: HIP HOP | K15: RAGGA | M15: RAGGA
A16: 13 | B16: Jeudi | C16: Florence | E16: Florence | H16: APEH | J16: APEH
A17: 14 | B17: Vendredi | C17: FERIE
A18: 15 | B18: Samedi
A19: 16 | B19: Dimanche
A20: 17 | B20: Lundi
A21: 18 | B21: Mardi
A22: 19 | B22: Mercredi | G22: HIP HOP | I22: HIP HOP | K22: RAGGA | M22: RAGGA
A23: 20 | B23: Jeudi | C23: Florence | E23: Florence | H23: APEH | J23: APEH
A24: 21 | B24: Vendredi | H24: HALT | J24: HALT
A25: 22 | B25: Samedi
A26: 23 | B26: Dimanche
A27: 24 | B27: Lundi
A28: 25 | B28: Mardi
A29: 26 | B29: Mercredi | G29: HIP HOP | I29: HIP HOP | K29: RAGGA | M29: RAGGA
A30: 27 | B30: Jeudi | C30: Florence | E30: Florence | H30: APEH | J30: APEH
A31: 28 | B31: Vendredi | H31: HALT | J31: HALT
A32: 29 | B32: Samedi
A33: 30 | B33: Dimanche
A34: 31 | B34: Lundi

Sheet Aout 17
C1: AOUT
C2: 10h00 à 11h00 | E2: 11h00 à 12h00 | G2: 12h00 à 13h00 | I2: 13h00 à 14h00 | K2: 14h00 à 15h00 | M2: 15h00 à 16h00 | O2: 16h00 à 17h00 | Q2: 17h00 à 18h00 | S2: 18h00 à 19h00
C3: GS | D3: PS | E3: GS | F3: PS | G3: GS | H3: PS | I3: GS | J3: PS | K3: GS | L3: PS | M3: GS | N3: PS | O3: GS | P3: PS | Q3: GS | R3: PS | S3: GS | T3: PS
A4: 1 | B4: Mardi
A5: 2 | B5: Mercredi | G5: HIP HOP | I5: HIP HOP | K5: RAGGA | M5: RAGGA
A6: 3 | B6: Jeudi | C6: Florence | E6: Florence | H6: APEH | J6: APEH
A7: 4 | B7: Vendredi | H7: HALT | J7: HALT
A8: 5 | B8: Samedi | R8: VACANCES
A9: 6 | B9: Dimanche
A10: 7 | B10: Lundi
A11: 8 | B11: Mardi
A12: 9 | B12: Mercredi | G12: HIP HOP | I12: HIP HOP | K12: RAGGA | M12: RAGGA
A13: 10 | B13: Jeudi | C13: Florence | E13: Florence | H13: APEH | J13: APEH
A14: 11 | B14: Vendredi | H14: HALT | J14: HALT
A15: 12 | B15: Samedi
A16: 13 | B16: Dimanche
A17: 14 | B17: Lundi
A18: 15 | B18: Mardi | C18: Ferié
A19: 16 | B19: Mercredi | G19: HIP HOP | I19: HIP HOP | K19: RAGGA | M19: RAGGA
A20: 17 | B20: Jeudi | C20: Florence | E20: Florence | H20: APEH | J20: APEH
A21: 18 | B21: Vendredi | H21: HALT | J21: HALT
A22: 19 | B22: Samedi
A23: 20 | B23: Dimanche
A24: 21 | B24: Lundi
A25: 22 | B25: Mardi
A26: 23 | B26: Mercredi | G26: HIP HOP | I26: HIP HOP | K26: RAGGA | M26: RAGGA
A27: 24 | B27: Jeudi | C27: Florence | E27: Florence | H27: APEH | J27: APEH
A28: 25 | B28: Vendredi | H28: HALT | J28: HALT
A29: 26 | B29: Samedi
A30: 27 | B30: Dimanche
A31: 28 | B31: Lundi
A32: 29 | B32: Mardi
A33: 30 | B33: Mercredi | G33: HIP HOP | I33: HIP HOP | K33: RAGGA | M33: RAGGA
A34: 31 | B34: Jeudi | C34: Florence | E34: Florence | H34: APEH | J34: APEH

Sheet Sept 17
C1: SEPTEMBRE
C2: 10h00 à 11h00 | E2: 11h00 à 12h00 | G2: 12h00 à 13h00 | I2: 13h00 à 14h00 | K2: 14h00 à 15h00 | M2: 15h00 à 16h00 | O2: 16h00 à 17h00 | Q2: 17h00 à 18h00 | S2: 18h00 à 19h00
C3: GS | D3: PS | E3: GS | F3: PS | G3: GS | H3: PS | I3: GS | J3: PS | K3: GS | L3: PS | M3: GS | N3: PS | O3: GS | P3: PS | Q3: GS | R3: PS | S3: GS | T3: PS
A4: Vendredi | B4: 1
A5: Samedi | B5: 2
A6: Dimanche | B6: 3
A7: Lundi | B7: 4
A8: Mardi | B8: 5
A9: Mercredi | B9: 6 | G9: HIP HOP | I9: HIP HOP | K9: RAGGA | M9: RAGGA
A10: Jeudi | B10: 7 | C10: Florence | E10: Florence | H10: APEH | J10: APEH
A11: Vendredi | B11: 8 | H11: HALT | J11: HALT
A12: Samedi | B12: 9
A13: Dimanche | B13: 10
A14: Lundi | B14: 11
A15: Mardi | B15: 12
A16: Mercredi | B16: 13 | G16: HIP HOP | I16: HIP HOP | K16: RAGGA | M16: RAGGA
A17: Jeudi | B17: 14 | C17: Florence | E17: Florence | H17: APEH | J17: APEH
A18: Vendredi | B18: 15 | H18: HALT | J18: HALT
A19: Samedi | B19: 16
A20: Dimanche | B20: 17
A21: Lundi | B21: 18
A22: Mardi | B22: 19
A23: Mercredi | B23: 20 | G23: HIP HOP | I23: HIP HOP | K23: RAGGA | M23: RAGGA
A24: Jeudi | B24: 21 | C24: Florence | E24: Florence | H24: APEH | J24: APEH
A25: Vendredi | B25: 22 | H25: HALT | J25: HALT
A26: Samedi | B26: 23
A27: Dimanche | B27: 24
A28: Lundi | B28: 25
A29: Mardi | B29: 26
A30: Mercredi | B30: 27 | G30: HIP HOP | I30: HIP HOP | K30: RAGGA | M30: RAGGA
A31: Jeudi | B31: 28 | C31: Florence | E31: Florence | H31: APEH | J31: APEH
A32: Vendredi | B32: 29 | H32: HALT | J32: HALT
A33: Samedi | B33: 30

Sheet Oct 17
C1: OCTOBRE
C2: 10h00 à 11h00 | E2: 11h00 à 12h00 | G2: 12h00 à 13h00 | I2: 13h00 à 14h00 | K2: 14h00 à 15h00 | M2: 15h00 à 16h00 | O2: 16h00 à 17h00 | Q2: 17h00 à 18h00 | S2: 18h00 à 19h00
C3: GS | D3: PS | E3: GS | F3: PS | G3: GS | H3: PS | I3: GS | J3: PS | K3: GS | L3: PS | M3: GS | N3: PS | O3: GS | P3: PS | Q3: GS | R3: PS | S3: GS | T3: PS
A4: 1 | B4: Dimanche
A5: 2 | B5: Lundi
A6: 3 | B6: Mardi
A7: 4 | B7: Mercredi
A8: 5 | B8: Jeudi
A9: 6 | B9: Vendredi
A10: 7 | B10: Samedi | R10: VACANCES
A11: 8 | B11: Dimanche
A12: 9 | B12: Lundi
A13: 10 | B13: Mardi
A14: 11 | B14: Mercredi | G14: HIP HOP | I14: HIP HOP | K14: RAGGA | M14: RAGGA
A15: 12 | B15: Jeudi | C15: Florence | E15: Florence | H15: APEH | J15: APEH
A16: 13 | B16: Vendredi | H16: HALT | J16: HALT
A17: 14 | B17: Samedi
A18: 15 | B18: Dimanche
A19: 16 | B19: Lundi
A20: 17 | B20: Mardi
A21: 18 | B21: Mercredi | G21: HIP HOP | I21: HIP HOP | K21: RAGGA | M21: RAGGA
A22: 19 | B22: Jeudi | C22: Florence | E22: Florence | H22: APEH | J22: APEH
A23: 20 | B23: Vendredi | H23: HALT | J23: HALT
A24: 21 | B24: Samedi
A25: 22 | B25: Dimanche
A26: 23 | B26: Lundi
A27: 24 | B27: Mardi
A28: 25 | B28: Mercredi
A29: 26 | B29: Jeudi
A30: 27 | B30: Vendredi
A31: 28 | B31: Samedi
A32: 29 | B32: Dimanche
A33: 30 | B33: Lundi
A34: 31 | B34: Mardi

Sheet Nov 17
B1: Novembre
C2: 10h00 à 11h00 | E2: 11h00 à 12h00 | G2: 12h00 à 13h00 | I2: 13h00 à 14h00 | K2: 14h00 à 15h00 | M2: 15h00 à 16h00 | O2: 16h00 à 17h00 | Q2: 17h00 à 18h00 | S2: 18h00 à 19h00
C3: GS | D3: PS | E3: GS | F3: PS | G3: GS | H3: PS | I3: GS | J3: PS | K3: GS | L3: PS | M3: GS | N3: PS | O3: GS | P3: PS | Q3: GS | R3: PS | S3: GS | T3: PS
A4: Mercredi | B4: 1 | C4: FERIE
A5: Jeudi | B5: 2 | C5: Florence | E5: Florence | H5: APEH | J5: APEH
A6: Vendredi | B6: 3 | H6: HALT | J6: HALT
A7: Samedi | B7: 4
A8: Dimanche | B8: 5
A9: Lundi | B9: 6
A10: Mardi | B10: 7
A11: Mercredi | B11: 8 | G11: HIP HOP | I11: HIP HOP | K11: RAGGA | M11: RAGGA
A12: Jeudi | B12: 9 | C12: Florence | E12: Florence | H12: APEH | J12: APEH
A13: Vendredi | B13: 10 | H13: HALT | J13: HALT
A14: Samedi | B14: 11 | C14: FERIEE
A15: Dimanche | B15: 12
A16: Lundi | B16: 13
A17: Mardi | B17: 14
A18: Mercredi | B18: 15 | G18: HIP HOP | I18: HIP HOP | K18: RAGGA | M18: RAGGA
A19: Jeudi | B19: 16 | C19: Florence | E19: Florence | H19: APEH | J19: APEH
A20: Vendredi | B20: 17 | H20: HALT | J20: HALT
A21: Samedi | B21: 18
A22: Dimanche | B22: 19
A23: Lundi | B23: 20
A24: Mardi | B24: 21
A25: Mercredi | B25: 22 | G25: HIP HOP | I25: HIP HOP | K25: RAGGA | M25: RAGGA
A26: Jeudi | B26: 23 | C26: Florence | E26: Florence | H26: APEH | J26: APEH
A27: Vendredi | B27: 24 | H27: HALT | J27: HALT
A28: Samedi | B28: 25
A29: Dimanche | B29: 26
A30: Lundi | B30: 27
A31: Mardi | B31: 28
A32: Mercredi | B32: 29 | G32: HIP HOP | I32: HIP HOP | K32: RAGGA | M32: RAGGA
A33: Jeudi | B33: 30 | C33: Florence | E33: Florence | H33: APEH | J33: APEH

Sheet Decembre 17
C2: 10h00 à 11h00 | E2: 11h00 à 12h00 | G2: 12h00 à 13h00 | I2: 13h00 à 14h00 | K2: 14h00 à 15h00 | M2: 15h00 à 16h00 | O2: 16h00 à 17h00 | Q2: 17h00 à 18h00 | S2: 18h00 à 19h00
C3: GS | D3: PS | E3: GS | F3: PS | G3: GS | H3: PS | I3: GS | J3: PS | K3: GS | L3: PS | M3: GS | N3: PS | O3: GS | P3: PS | Q3: GS | R3: PS | S3: GS | T3: PS
A4: 1 | B4: Vendredi
A5: 2 | B5: Samedi
A6: 3 | B6: Dimanche
A7: 4 | B7: Lundi
A8: 5 | B8: Mardi
A9: 6 | B9: Mercredi | G9: HIP HOP | I9: HIP HOP | K9: RAGGA | M9: RAGGA
A10: 7 | B10: jeudi | C10: Florence | E10: Florence | H10: APEH | J10: APEH
A11: 8 | B11: vendredi | H11: HALT | J11: HALT
A12: 9 | B12: samedi
A13: 10 | B13: dimanche
A14: 11 | B14: lundi
A15: 12 | B15: mardi
A16: 13 | B16: mercredi | G16: HIP HOP | I16: HIP HOP | K16: RAGGA | M16: RAGGA
A17: 14 | B17: jeudi | C17: Florence | E17: Florence | H17: APEH | J17: APEH
A18: 15 | B18: vendredi | H18: HALT | J18: HALT
A19: 16 | B19: samedi
A20: 17 | B20: dimanche
A21: 18 | B21: lundi
A22: 19 | B22: mardi
A23: 20 | B23: mercredi
A24: 21 | B24: jeudi
A25: 22 | B25: vendredi
A26: 23 | B26: samedi
A27: 24 | B27: dimanche
A28: 25 | B28: lundi
A29: 26 | B29: mardi
A30: 27 | B30: mercredi
... A34: 31 | B34: dimanche

Sheet ListeAteliers
A1: Liste des ateliers et récapitulatif
A4: lAteliers | B4: Janvier | C4: Février | D4: Mars | E4: Avril | F4: Mai | G4: Juin | H4: Juillet | I4: Août | J4: Septembre | K4: Octobre | L4: Novembre | M4: Decembre | N4: Total
A5: 1er séance | C5: =COUNTIF(Fev_17!$C$4:'Fev_17'!$T$28,A5) -> 0 | D5: =COUNTIF('Mars 17'!$C$4:'Mars 17'!$T$34,A5) -> 0 | E5: =COUNTIF('Avril 17'!$C$4:'Avril 17'!$T$30,A5) -> 0 | F5: =COUNTIF('Mai 17'!$C$4:'Mai 17'!$T$29,A5) -> 0 | G5: =COUNTIF('Juin 17'!$C$4:'Juin 17'!$T$30,A5) -> 0 | H5: =COUNTIF('Juillet 17'!$C$4:'Juillet 17'!$T$30,A5) -> 0 | I5: =COUNTIF('Aout 17'!$C$4:'Aout 17'!$T$30,A5) -> 0 | J5: =COUNTIF('Sept 17'!$C$4:'Sept 17'!$T$30,A5) -> 0 | K5: =COUNTIF('Oct 17'!$C$4:'Oct 17'!$T$30,A5) -> 0 | L5: =COUNTIF('Nov 17'!$C$4:'Nov 17'!$T$30,A5) -> 0 | M5: =COUNTIF('Decembre 17'!$C$4:'Decembre 17'!$T$30,A5) -> 0 | N5: =SUM(Tableau2[[#This Row],[Février]:[Decembre]]) -> 0
A6: APEH | C6: =COUNTIF(Fev_17!$C$4:'Fev_17'!$T$28,A6) -> 6 | D6: =COUNTIF('Mars 17'!$C$4:'Mars 17'!$T$34,A6) -> 10 | E6: =COUNTIF('Avril 17'!$C$4:'Avril 17'!$T$30,A6) -> 4 | F6: =COUNTIF('Mai 17'!$C$4:'Mai 17'!$T$29,A6) -> 6 | G6: =COUNTIF('Juin 17'!$C$4:'Juin 17'!$T$30,A6) -> 8 | H6: =COUNTIF('Juillet 17'!$C$4:'Juillet 17'!$T$30,A6) -> 8 | I6: =COUNTIF('Aout 17'!$C$4:'Aout 17'!$T$30,A6) -> 8 | J6: =COUNTIF('Sept 17'!$C$4:'Sept 17'!$T$30,A6) -> 6 | K6: =COUNTIF('Oct 17'!$C$4:'Oct 17'!$T$30,A6) -> 4 | L6: =COUNTIF('Nov 17'!$C$4:'Nov 17'!$T$30,A6) -> 8 | M6: =COUNTIF('Decembre 17'!$C$4:'Decembre 17'!$T$30,A6) -> 4 | N6: =SUM(Tableau2[[#This Row],[Février]:[Decembre]]) -> 72
A7: Atelier Raissa | C7: =COUNTIF(Fev_17!$C$4:'Fev_17'!$T$28,A7) -> 0 | D7: =COUNTIF('Mars 17'!$C$4:'Mars 17'!$T$34,A7) -> 0 | E7: =COUNTIF('Avril 17'!$C$4:'Avril 17'!$T$30,A7) -> 0 | F7: =COUNTIF('Mai 17'!$C$4:'Mai 17'!$T$29,A7) -> 0 | G7: =COUNTIF('Juin 17'!$C$4:'Juin 17'!$T$30,A7) -> 0 | H7: =COUNTIF('Juillet 17'!$C$4:'Juillet 17'!$T$30,A7) -> 0 | I7: =COUNTIF('Aout 17'!$C$4:'Aout 17'!$T$30,A7) -> 0 | J7: =COUNTIF('Sept 17'!$C$4:'Sept 17'!$T$30,A7) -> 0 | K7: =COUNTIF('Oct 17'!$C$4:'Oct 17'!$T$30,A7) -> 0 | L7: =COUNTIF('Nov 17'!$C$4:'Nov 17'!$T$30,A7) -> 0 | M7: =COUNTIF('Decembre 17'!$C$4:'Decembre 17'!$T$30,A7) -> 0 | N7: =SUM(Tableau2[[#This Row],[Février]:[Decembre]]) -> 0
A8: Atelier WISH | C8: =COUNTIF(Fev_17!$C$4:'Fev_17'!$T$28,A8) -> 0 | D8: =COUNTIF('Mars 17'!$C$4:'Mars 17'!$T$34,A8) -> 0 | E8: =COUNTIF('Avril 17'!$C$4:'Avril 17'!$T$30,A8) -> 0 | F8: =COUNTIF('Mai 17'!$C$4:'Mai 17'!$T$29,A8) -> 0 | G8: =COUNTIF('Juin 17'!$C$4:'Juin 17'!$T$30,A8) -> 0 | H8: =COUNTIF('Juillet 17'!$C$4:'Juillet 17'!$T$30,A8) -> 0 | I8: =COUNTIF('Aout 17'!$C$4:'Aout 17'!$T$30,A8) -> 0 | J8: =COUNTIF('Sept 17'!$C$4:'Sept 17'!$T$30,A8) -> 0 | K8: =COUNTIF('Oct 17'!$C$4:'Oct 17'!$T$30,A8) -> 0 | L8: =COUNTIF('Nov 17'!$C$4:'Nov 17'!$T$30,A8) -> 0 | M8: =COUNTIF('Decembre 17'!$C$4:'Decembre 17'!$T$30,A8) -> 0 | N8: =SUM(Tableau2[[#This Row],[Février]:[Decembre]]) -> 0
A9: Babou / EGC | C9: =COUNTIF(Fev_17!$C$4:'Fev_17'!$T$28,A9) -> 0 | D9: =COUNTIF('Mars 17'!$C$4:'Mars 17'!$T$34,A9) -> 0 | E9: =COUNTIF('Avril 17'!$C$4:'Avril 17'!$T$30,A9) -> 0 | F9: =COUNTIF('Mai 17'!$C$4:'Mai 17'!$T$29,A9) -> 0 | G9: =COUNTIF('Juin 17'!$C$4:'Juin 17'!$T$30,A9) -> 0 | H9: =COUNTIF('Juillet 17'!$C$4:'Juillet 17'!$T$30,A9) -> 0 | I9: =COUNTIF('Aout 17'!$C$4:'Aout 17'!$T$30,A9) -> 0 | J9: =COUNTIF('Sept 17'!$C$4:'Sept 17'!$T$30,A9) -> 0 | K9: =COUNTIF('Oct 17'!$C$4:'Oct 17'!$T$30,A9) -> 0 | L9: =COUNTIF('Nov 17'!$C$4:'Nov 17'!$T$30,A9) -> 0 | M9: =COUNTIF('Decembre 17'!$C$4:'Decembre 17'!$T$30,A9) -> 0 | N9: =SUM(Tableau2[[#This Row],[Février]:[Decembre]]) -> 0
A10: Babou UM | C10: =COUNTIF(Fev_17!$C$4:'Fev_17'!$T$28,A10) -> 0 | D10: =COUNTIF('Mars 17'!$C$4:'Mars 17'!$T$34,A10) -> 0 | E10: =COUNTIF('Avril 17'!$C$4:'Avril 17'!$T$30,A10) -> 0 | F10: =COUNTIF('Mai 17'!$C$4:'Mai 17'!$T$29,A10) -> 0 | G10: =COUNTIF('Juin 17'!$C$4:'Juin 17'!$T$30,A10) -> 0 | H10: =COUNTIF('Juillet 17'!$C$4:'Juillet 17'!$T$30,A10) -> 0 | I10: =COUNTIF('Aout 17'!$C$4:'Aout 17'!$T$30,A10) -> 0 | J10: =COUNTIF('Sept 17'!$C$4:'Sept 17'!$T$30,A10) -> 0 | K10: =COUNTIF('Oct 17'!$C$4:'Oct 17'!$T$30,A10) -> 0 | L10: =COUNTIF('Nov 17'!$C$4:'Nov 17'!$T$30,A10) -> 0 | M10: =COUNTIF('Decembre 17'!$C$4:'Decembre 17'!$T$30,A10) -> 0 | N10: =SUM(Tableau2[[#This Row],[Février]:[Decembre]]) -> 0
A11: Batlle DanceHall | C11: =COUNTIF(Fev_17!$C$4:'Fev_17'!$T$28,A11) -> 0 | D11: =COUNTIF('Mars 17'!$C$4:'Mars 17'!$T$34,A11) -> 0 | E11: =COUNTIF('Avril 17'!$C$4:'Avril 17'!$T$30,A11) -> 0 | F11: =COUNTIF('Mai 17'!$C$4:'Mai 17'!$T$29,A11) -> 0 | G11: =COUNTIF('Juin 17'!$C$4:'Juin 17'!$T$30,A11) -> 0 | H11: =COUNTIF('Juillet 17'!$C$4:'Juillet 17'!$T$30,A11) -> 0 | I11: =COUNTIF('Aout 17'!$C$4:'Aout 17'!$T$30,A11) -> 0 | J11: =COUNTIF('Sept 17'!$C$4:'Sept 17'!$T$30,A11) -> 0 | K11: =COUNTIF('Oct 17'!$C$4:'Oct 17'!$T$30,A11) -> 0 | L11: =COUNTIF('Nov 17'!$C$4:'Nov 17'!$T$30,A11) -> 0 | M11: =COUNTIF('Decembre 17'!$C$4:'Decembre 17'!$T$30,A11) -> 0 | N11: =SUM(Tableau2[[#This Row],[Février]:[Decembre]]) -> 0
A12: BATTLE DANCE ADDICTION | C12: =COUNTIF(Fev_17!$C$4:'Fev_17'!$T$28,A12) -> 0 | D12: =COUNTIF('Mars 17'!$C$4:'Mars 17'!$T$34,A12) -> 0 | E12: =COUNTIF('Avril 17'!$C$4:'Avril 17'!$T$30,A12) -> 0 | F12: =COUNTIF('Mai 17'!$C$4:'Mai 17'!$T$29,A12) -> 0 | G12: =COUNTIF('Juin 17'!$C$4:'Juin 17'!$T$30,A12) -> 0 | H12: =COUNTIF('Juillet 17'!$C$4:'Juillet 17'!$T$30,A12) -> 0 | I12: =COUNTIF('Aout 17'!$C$4:'Aout 17'!$T$30,A12) -> 0 | J12: =COUNTIF('Sept 17'!$C$4:'Sept 17'!$T$30,A12) -> 0 | K12: =COUNTIF('Oct 17'!$C$4:'Oct 17'!$T$30,A12) -> 0 | L12: =COUNTIF('Nov 17'!$C$4:'Nov 17'!$T$30,A12) -> 0 | M12: =COUNTIF('Decembre 17'!$C$4:'Decembre 17'!$T$30,A12) -> 0 | N12: =SUM(Tableau2[[#This Row],[Février]:[Decembre]]) -> 0
A13: BATTLE KILL | C13: =COUNTIF(Fev_17!$C$4:'Fev_17'!$T$28,A13) -> 0 | D13: =COUNTIF('Mars 17'!$C$4:'Mars 17'!$T$34,A13) -> 0 | E13: =COUNTIF('Avril 17'!$C$4:'Avril 17'!$T$30,A13) -> 0 | F13: =COUNTIF('Mai 17'!$C$4:'Mai 17'!$T$29,A13) -> 0 | G13: =COUNTIF('Juin 17'!$C$4:'Juin 17'!$T$30,A13) -> 0 | H13: =COUNTIF('Juillet 17'!$C$4:'Juillet 17'!$T$30,A13) -> 0 | I13: =COUNTIF('Aout 17'!$C$4:'Aout 17'!$T$30,A13) -> 0 | J13: =COUNTIF('Sept 17'!$C$4:'Sept 17'!$T$30,A13) -> 0 | K13: =COUNTIF('Oct 17'!$C$4:'Oct 17'!$T$30,A13) -> 0 | L13: =COUNTIF('Nov 17'!$C$4:'Nov 17'!$T$30,A13) -> 0 | M13: =COUNTIF('Decembre 17'!$C$4:'Decembre 17'!$T$30,A13) -> 0 | N13: =SUM(Tableau2[[#This Row],[Février]:[Decembre]]) -> 0
A14: BATTLE STREET FORCE | C14: =COUNTIF(Fev_17!$C$4:'Fev_17'!$T$28,A14) -> 0 | D14: =COUNTIF('Mars 17'!$C$4:'Mars 17'!$T$34,A14) -> 0 | E14: =COUNTIF('Avril 17'!$C$4:'Avril 17'!$T$30,A14) -> 0 | F14: =COUNTIF('Mai 17'!$C$4:'Mai 17'!$T$29,A14) -> 0 | G14: =COUNTIF('Juin 17'!$C$4:'Juin 17'!$T$30,A14) -> 0 | H14: =COUNTIF('Juillet 17'!$C$4:'Juillet 17'!$T$30,A14) -> 0 | I14: =COUNTIF('Aout 17'!$C$4:'Aout 17'!$T$30,A14) -> 0 | J14: =COUNTIF('Sept 17'!$C$4:'Sept 17'!$T$30,A14) -> 0 | K14: =COUNTIF('Oct 17'!$C$4:'Oct 17'!$T$30,A14) -> 0 | L14: =COUNTIF('Nov 17'!$C$4:'Nov 17'!$T$30,A14) -> 0 | M14: =COUNTIF('Decembre 17'!$C$4:'Decembre 17'!$T$30,A14) -> 0 | N14: =SUM(Tableau2[[#This Row],[Février]:[Decembre]]) -> 0
A15: BATTLE UBC | C15: =COUNTIF(Fev_17!$C$4:'Fev_17'!$T$28,A15) -> 0 | D15: =COUNTIF('Mars 17'!$C$4:'Mars 17'!$T$34,A15) -> 0 | E15: =COUNTIF('Avril 17'!$C$4:'Avril 17'!$T$30,A15) -> 0 | F15: =COUNTIF('Mai 17'!$C$4:'Mai 17'!$T$29,A15) -> 0 | G15: =COUNTIF('Juin 17'!$C$4:'Juin 17'!$T$30,A15) -> 0 | H15: =COUNTIF('Juillet 17'!$C$4:'Juillet 17'!$T$30,A15) -> 0 | I15: =COUNTIF('Aout 17'!$C$4:'Aout 17'!$T$30,A15) -> 0 | J15: =COUNTIF('Sept 17'!$C$4:'Sept 17'!$T$30,A15) -> 0 | K15: =COUNTIF('Oct 17'!$C$4:'Oct 17'!$T$30,A15) -> 0 | L15: =COUNTIF('Nov 17'!$C$4:'Nov 17'!$T$30,A15) -> 0 | M15: =COUNTIF('Decembre 17'!$C$4:'Decembre 17'!$T$30,A15) -> 0 | N15: =SUM(Tableau2[[#This Row],[Février]:[Decembre]]) -> 0
A16: Battle underground (break) | B16: 3 | C16: =COUNTIF(Fev_17!$C$4:'Fev_17'!$T$28,A16) -> 0 | D16: =COUNTIF('Mars 17'!$C$4:'Mars 17'!$T$34,A16) -> 0 | E16: =COUNTIF('Avril 17'!$C$4:'Avril 17'!$T$30,A16) -> 0 | F16: =COUNTIF('Mai 17'!$C$4:'Mai 17'!$T$29,A16) -> 0 | G16: =COUNTIF('Juin 17'!$C$4:'Juin 17'!$T$30,A16) -> 0 | H16: =COUNTIF('Juillet 17'!$C$4:'Juillet 17'!$T$30,A16) -> 0 | I16: =COUNTIF('Aout 17'!$C$4:'Aout 17'!$T$30,A16) -> 0 | J16: =COUNTIF('Sept 17'!$C$4:'Sept 17'!$T$30,A16) -> 0 | K16: =COUNTIF('Oct 17'!$C$4:'Oct 17'!$T$30,A16) -> 0 | L16: =COUNTIF('Nov 17'!$C$4:'Nov 17'!$T$30,A16) -> 0 | M16: =COUNTIF('Decembre 17'!$C$4:'Decembre 17'!$T$30,A16) -> 0 | N16: =SUM(Tableau2[[#This Row],[Février]:[Decembre]]) -> 0
A17: BILLE CHAÏ SLAM | C17: =COUNTIF(Fev_17!$C$4:'Fev_17'!$T$28,A17) -> 0 | D17: =COUNTIF('Mars 17'!$C$4:'Mars 17'!$T$34,A17) -> 0 | E17: =COUNTIF('Avril 17'!$C$4:'Avril 17'!$T$30,A17) -> 0 | F17: =COUNTIF('Mai 17'!$C$4:'Mai 17'!$T$29,A17) -> 0 | G17: =COUNTIF('Juin 17'!$C$4:'Juin 17'!$T$30,A17) -> 0 | H17: =COUNTIF('Juillet 17'!$C$4:'Juillet 17'!$T$30,A17) -> 0 | I17: =COUNTIF('Aout 17'!$C$4:'Aout 17'!$T$30,A17) -> 0 | J17: =COUNTIF('Sept 17'!$C$4:'Sept 17'!$T$30,A17) -> 0 | K17: =COUNTIF('Oct 17'!$C$4:'Oct 17'!$T$30,A17) -> 0 | L17: =COUNTIF('Nov 17'!$C$4:'Nov 17'!$T$30,A17) -> 0 | M17: =COUNTIF('Decembre 17'!$C$4:'Decembre 17'!$T$30,A17) -> 0 | N17: =SUM(Tableau2[[#This Row],[Février]:[Decembre]]) -> 0
A18: C.Spoutnik | C18: =COUNTIF(Fev_17!$C$4:'Fev_17'!$T$28,A18) -> 0 | D18: =COUNTIF('Mars 17'!$C$4:'Mars 17'!$T$34,A18) -> 0 | E18: =COUNTIF('Avril 17'!$C$4:'Avril 17'!$T$30,A18) -> 0 | F18: =COUNTIF('Mai 17'!$C$4:'Mai 17'!$T$29,A18) -> 0 | G18: =COUNTIF('Juin 17'!$C$4:'Juin 17'!$T$30,A18) -> 0 | H18: =COUNTIF('Juillet 17'!$C$4:'Juillet 17'!$T$30,A18) -> 0 | I18: =COUNTIF('Aout 17'!$C$4:'Aout 17'!$T$30,A18) -> 0 | J18: =COUNTIF('Sept 17'!$C$4:'Sept 17'!$T$30,A18) -> 0 | K18: =COUNTIF('Oct 17'!$C$4:'Oct 17'!$T$30,A18) -> 0 | L18: =COUNTIF('Nov 17'!$C$4:'Nov 17'!$T$30,A18) -> 0 | M18: =COUNTIF('Decembre 17'!$C$4:'Decembre 17'!$T$30,A18) -> 0 | N18: =SUM(Tableau2[[#This Row],[Février]:[Decembre]]) -> 0
A19: Carnaval | C19: =COUNTIF(Fev_17!$C$4:'Fev_17'!$T$28,A19) -> 0 | D19: =COUNTIF('Mars 17'!$C$4:'Mars 17'!$T$34,A19) -> 0 | E19: =COUNTIF('Avril 17'!$C$4:'Avril 17'!$T$30,A19) -> 0 | F19: =COUNTIF('Mai 17'!$C$4:'Mai 17'!$T$29,A19) -> 0 | G19: =COUNTIF('Juin 17'!$C$4:'Juin 17'!$T$30,A19) -> 0 | H19: =COUNTIF('Juillet 17'!$C$4:'Juillet 17'!$T$30,A19) -> 0 | I19: =COUNTIF('Aout 17'!$C$4:'Aout 17'!$T$30,A19) -> 0 | J19: =COUNTIF('Sept 17'!$C$4:'Sept 17'!$T$30,A19) -> 0 | K19: =COUNTIF('Oct 17'!$C$4:'Oct 17'!$T$30,A19) -> 0 | L19: =COUNTIF('Nov 17'!$C$4:'Nov 17'!$T$30,A19) -> 0 | M19: =COUNTIF('Decembre 17'!$C$4:'Decembre 17'!$T$30,A19) -> 0 | N19: =SUM(Tableau2[[#This Row],[Février]:[Decembre]]) -> 0
A20: Chapito | C20: =COUNTIF(Fev_17!$C$4:'Fev_17'!$T$28,A20) -> 0 | D20: =COUNTIF('Mars 17'!$C$4:'Mars 17'!$T$34,A20) -> 0 | E20: =COUNTIF('Avril 17'!$C$4:'Avril 17'!$T$30,A20) -> 0 | F20: =COUNTIF('Mai 17'!$C$4:'Mai 17'!$T$29,A20) -> 0 | G20: =COUNTIF('Juin 17'!$C$4:'Juin 17'!$T$30,A20) -> 0 | H20: =COUNTIF('Juillet 17'!$C$4:'Juillet 17'!$T$30,A20) -> 0 | I20: =COUNTIF('Aout 17'!$C$4:'Aout 17'!$T$30,A20) -> 0 | J20: =COUNTIF('Sept 17'!$C$4:'Sept 17'!$T$30,A20) -> 0 | K20: =COUNTIF('Oct 17'!$C$4:'Oct 17'!$T$30,A20) -> 0 | L20: =COUNTIF('Nov 17'!$C$4:'Nov 17'!$T$30,A20) -> 0 | M20: =COUNTIF('Decembre 17'!$C$4:'Decembre 17'!$T$30,A20) -> 0 | N20: =SUM(Tableau2[[#This Row],[Février]:[Decembre]]) -> 0
A21: Cie jambe | C21: =COUNTIF(Fev_17!$C$4:'Fev_17'!$T$28,A21) -> 0 | D21: =COUNTIF('Mars 17'!$C$4:'Mars 17'!$T$34,A21) -> 0 | E21: =COUNTIF('Avril 17'!$C$4:'Avril 17'!$T$30,A21) -> 0 | F21: =COUNTIF('Mai 17'!$C$4:'Mai 17'!$T$29,A21) -> 0 | G21: =COUNTIF('Juin 17'!$C$4:'Juin 17'!$T$30,A21) -> 0 | H21: =COUNTIF('Juillet 17'!$C$4:'Juillet 17'!$T$30,A21) -> 0 | I21: =COUNTIF('Aout 17'!$C$4:'Aout 17'!$T$30,A21) -> 0 | J21: =COUNTIF('Sept 17'!$C$4:'Sept 17'!$T$30,A21) -> 0 | K21: =COUNTIF('Oct 17'!$C$4:'Oct 17'!$T$30,A21) -> 0 | L21: =COUNTIF('Nov 17'!$C$4:'Nov 17'!$T$30,A21) -> 0 | M21: =COUNTIF('Decembre 17'!$C$4:'Decembre 17'!$T$30,A21) -> 0 | N21: =SUM(Tableau2[[#This Row],[Février]:[Decembre]]) -> 0
A22: Danse ma ville | C22: =COUNTIF(Fev_17!$C$4:'Fev_17'!$T$28,A22) -> 0 | D22: =COUNTIF('Mars 17'!$C$4:'Mars 17'!$T$34,A22) -> 0 | E22: =COUNTIF('Avril 17'!$C$4:'Avril 17'!$T$30,A22) -> 0 | F22: =COUNTIF('Mai 17'!$C$4:'Mai 17'!$T$29,A22) -> 0 | G22: =COUNTIF('Juin 17'!$C$4:'Juin 17'!$T$30,A22) -> 0 | H22: =COUNTIF('Juillet 17'!$C$4:'Juillet 17'!$T$30,A22) -> 0 | I22: =COUNTIF('Aout 17'!$C$4:'Aout 17'!$T$30,A22) -> 0 | J22: =COUNTIF('Sept 17'!$C$4:'Sept 17'!$T$30,A22) -> 0 | K22: =COUNTIF('Oct 17'!$C$4:'Oct 17'!$T$30,A22) -> 0 | L22: =COUNTIF('Nov 17'!$C$4:'Nov 17'!$T$30,A22) -> 0 | M22: =COUNTIF('Decembre 17'!$C$4:'Decembre 17'!$T$30,A22) -> 0 | N22: =SUM(Tableau2[[#This Row],[Février]:[Decembre]]) -> 0
A23: DIZZY | C23: =COUNTIF(Fev_17!$C$4:'Fev_17'!$T$28,A23) -> 0 | D23: =COUNTIF('Mars 17'!$C$4:'Mars 17'!$T$34,A23) -> 0 | E23: =COUNTIF('Avril 17'!$C$4:'Avril 17'!$T$30,A23) -> 0 | F23: =COUNTIF('Mai 17'!$C$4:'Mai 17'!$T$29,A23) -> 0 | G23: =COUNTIF('Juin 17'!$C$4:'Juin 17'!$T$30,A23) -> 0 | H23: =COUNTIF('Juillet 17'!$C$4:'Juillet 17'!$T$30,A23) -> 0 | I23: =COUNTIF('Aout 17'!$C$4:'Aout 17'!$T$30,A23) -> 0 | J23: =COUNTIF('Sept 17'!$C$4:'Sept 17'!$T$30,A23) -> 0 | K23: =COUNTIF('Oct 17'!$C$4:'Oct 17'!$T$30,A23) -> 0 | L23: =COUNTIF('Nov 17'!$C$4:'Nov 17'!$T$30,A23) -> 0 | M23: =COUNTIF('Decembre 17'!$C$4:'Decembre 17'!$T$30,A23) -> 0 | N23: =SUM(Tableau2[[#This Row],[Février]:[Decembre]]) -> 0
A24: DJ | C24: =COUNTIF(Fev_17!$C$4:'Fev_17'!$T$28,A24) -> 0 | D24: =COUNTIF('Mars 17'!$C$4:'Mars 17'!$T$34,A24) -> 0 | E24: =COUNTIF('Avril 17'!$C$4:'Avril 17'!$T$30,A24) -> 0 | F24: =COUNTIF('Mai 17'!$C$4:'Mai 17'!$T$29,A24) -> 0 | G24: =COUNTIF('Juin 17'!$C$4:'Juin 17'!$T$30,A24) -> 0 | H24: =COUNTIF('Juillet 17'!$C$4:'Juillet 17'!$T$30,A24) -> 0 | I24: =COUNTIF('Aout 17'!$C$4:'Aout 17'!$T$30,A24) -> 0 | J24: =COUNTIF('Sept 17'!$C$4:'Sept 17'!$T$30,A24) -> 0 | K24: =COUNTIF('Oct 17'!$C$4:'Oct 17'!$T$30,A24) -> 0 | L24: =COUNTIF('Nov 17'!$C$4:'Nov 17'!$T$30,A24) -> 0 | M24: =COUNTIF('Decembre 17'!$C$4:'Decembre 17'!$T$30,A24) -> 0 | N24: =SUM(Tableau2[[#This Row],[Février]:[Decembre]]) -> 0
A25: E.CAIHE | C25: =COUNTIF(Fev_17!$C$4:'Fev_17'!$T$28,A25) -> 0 | D25: =COUNTIF('Mars 17'!$C$4:'Mars 17'!$T$34,A25) -> 0 | E25: =COUNTIF('Avril 17'!$C$4:'Avril 17'!$T$30,A25) -> 0 | F25: =COUNTIF('Mai 17'!$C$4:'Mai 17'!$T$29,A25) -> 0 | G25: =COUNTIF('Juin 17'!$C$4:'Juin 17'!$T$30,A25) -> 0 | H25: =COUNTIF('Juillet 17'!$C$4:'Juillet 17'!$T$30,A25) -> 0 | I25: =COUNTIF('Aout 17'!$C$4:'Aout 17'!$T$30,A25) -> 0 | J25: =COUNTIF('Sept 17'!$C$4:'Sept 17'!$T$30,A25) -> 0 | K25: =COUNTIF('Oct 17'!$C$4:'Oct 17'!$T$30,A25) -> 0 | L25: =COUNTIF('Nov 17'!$C$4:'Nov 17'!$T$30,A25) -> 0 | M25: =COUNTIF('Decembre 17'!$C$4:'Decembre 17'!$T$30,A25) -> 0 | N25: =SUM(Tableau2[[#This Row],[Février]:[Decembre]]) -> 0
A26: ELSA | C26: =COUNTIF(Fev_17!$C$4:'Fev_17'!$T$28,A26) -> 0 | D26: =COUNTIF('Mars 17'!$C$4:'Mars 17'!$T$34,A26) -> 0 | E26: =COUNTIF('Avril 17'!$C$4:'Avril 17'!$T$30,A26) -> 0 | F26: =COUNTIF('Mai 17'!$C$4:'Mai 17'!$T$29,A26) -> 0 | G26: =COUNTIF('Juin 17'!$C$4:'Juin 17'!$T$30,A26) -> 0 | H26: =COUNTIF('Juillet 17'!$C$4:'Juillet 17'!$T$30,A26) -> 0 | I26: =COUNTIF('Aout 17'!$C$4:'Aout 17'!$T$30,A26) -> 0 | J26: =COUNTIF('Sept 17'!$C$4:'Sept 17'!$T$30,A26) -> 0 | K26: =COUNTIF('Oct 17'!$C$4:'Oct 17'!$T$30,A26) -> 0 | L26: =COUNTIF('Nov 17'!$C$4:'Nov 17'!$T$30,A26) -> 0 | M26: =COUNTIF('Decembre 17'!$C$4:'Decembre 17'!$T$30,A26) -> 0 | N26: =SUM(Tableau2[[#This Row],[Février]:[Decembre]]) -> 0
A27: Espace Danse | C27: =COUNTIF(Fev_17!$C$4:'Fev_17'!$T$28,A27) -> 0 | D27: =COUNTIF('Mars 17'!$C$4:'Mars 17'!$T$34,A27) -> 0 | E27: =COUNTIF('Avril 17'!$C$4:'Avril 17'!$T$30,A27) -> 0 | F27: =COUNTIF('Mai 17'!$C$4:'Mai 17'!$T$29,A27) -> 0 | G27: =COUNTIF('Juin 17'!$C$4:'Juin 17'!$T$30,A27) -> 0 | H27: =COUNTIF('Juillet 17'!$C$4:'Juillet 17'!$T$30,A27) -> 0 | I27: =COUNTIF('Aout 17'!$C$4:'Aout 17'!$T$30,A27) -> 0 | J27: =COUNTIF('Sept 17'!$C$4:'Sept 17'!$T$30,A27) -> 0 | K27: =COUNTIF('Oct 17'!$C$4:'Oct 17'!$T$30,A27) -> 0 | L27: =COUNTIF('Nov 17'!$C$4:'Nov 17'!$T$30,A27) -> 0 | M27: =COUNTIF('Decembre 17'!$C$4:'Decembre 17'!$T$30,A27) -> 0 | N27: =SUM(Tableau2[[#This Row],[Février]:[Decembre]]) -> 0
A28: F.VITRAC | C28: =COUNTIF(Fev_17!$C$4:'Fev_17'!$T$28,A28) -> 0 | D28: =COUNTIF('Mars 17'!$C$4:'Mars 17'!$T$34,A28) -> 0 | E28: =COUNTIF('Avril 17'!$C$4:'Avril 17'!$T$30,A28) -> 0 | F28: =COUNTIF('Mai 17'!$C$4:'Mai 17'!$T$29,A28) -> 0 | G28: =COUNTIF('Juin 17'!$C$4:'Juin 17'!$T$30,A28) -> 0 | H28: =COUNTIF('Juillet 17'!$C$4:'Juillet 17'!$T$30,A28) -> 0 | I28: =COUNTIF('Aout 17'!$C$4:'Aout 17'!$T$30,A28) -> 0 | J28: =COUNTIF('Sept 17'!$C$4:'Sept 17'!$T$30,A28) -> 0 | K28: =COUNTIF('Oct 17'!$C$4:'Oct 17'!$T$30,A28) -> 0 | L28: =COUNTIF('Nov 17'!$C$4:'Nov 17'!$T$30,A28) -> 0 | M28: =COUNTIF('Decembre 17'!$C$4:'Decembre 17'!$T$30,A28) -> 0 | N28: =SUM(Tableau2[[#This Row],[Février]:[Decembre]]) -> 0
... A58: UBC | C58: =COUNTIF(Fev_17!$C$4:'Fev_17'!$T$28,A58) -> 0 | D58: =COUNTIF('Mars 17'!$C$4:'Mars 17'!$T$34,A58) -> 0 | E58: =COUNTIF('Avril 17'!$C$4:'Avril 17'!$T$30,A58) -> 0 | F58: =COUNTIF('Mai 17'!$C$4:'Mai 17'!$T$29,A58) -> 0 | G58: =COUNTIF('Juin 17'!$C$4:'Juin 17'!$T$30,A58) -> 0 | H58: =COUNTIF('Juillet 17'!$C$4:'Juillet 17'!$T$30,A58) -> 0 | I58: =COUNTIF('Aout 17'!$C$4:'Aout 17'!$T$30,A58) -> 0 | J58: =COUNTIF('Sept 17'!$C$4:'Sept 17'!$T$30,A58) -> 0 | K58: =COUNTIF('Oct 17'!$C$4:'Oct 17'!$T$30,A58) -> 0 | L58: =COUNTIF('Nov 17'!$C$4:'Nov 17'!$T$30,A58) -> 0 | M58: =COUNTIF('Decembre 17'!$C$4:'Decembre 17'!$T$30,A58) -> 0 | N58: =SUM(Tableau2[[#This Row],[Février]:[Decembre]]) -> 0
C59: =COUNTIF(Fev_17!#REF!:'Fev_17'!$T$28,A59) -> #REF! | D59: =COUNTIF('Mars 17'!$C$4:'Mars 17'!$T$34,A59) -> 0 | E59: =COUNTIF('Avril 17'!$C$4:'Avril 17'!$T$30,A59) -> 0 | F59: =COUNTIF('Mai 17'!$C$4:'Mai 17'!$T$29,A59) -> 0 | G59: =COUNTIF('Juin 17'!$C$4:'Juin 17'!$T$30,A59) -> 0 | H59: =COUNTIF('Juillet 17'!$C$4:'Juillet 17'!$T$30,A59) -> 0 | I59: =COUNTIF('Aout 17'!$C$4:'Aout 17'!$T$30,A59) -> 0 | J59: =COUNTIF('Sept 17'!$C$4:'Sept 17'!$T$30,A59) -> 0 | K59: =COUNTIF('Oct 17'!#REF!:'Oct 17'!$T$30,A59) -> #REF! | L59: =COUNTIF('Nov 17'!$C$4:'Nov 17'!$T$30,A59) -> 0 | M59: =COUNTIF('Decembre 17'!$C$4:'Decembre 17'!$T$30,A59) -> 0 | N59: =SUM(Tableau2[[#This Row],[Février]:[Decembre]]) -> #REF!
