Workbook

Sheet Ligue 1
B2: 1ère JOURNEE
B3: 43322 | C3: 0.86458333 | D3: Marseille | E3: Toulouse | F3: 3 | G3: 1
B4: 43323 | C4: 0.70833333 | D4: Nantes | E4: Monaco | F4: 1 | G4: 1
B5: 43323 | C5: 0.83333333 | D5: Angers | E5: Nîmes | F5: 1 | G5: 0
B6: 43323 | C6: 0.83333333 | D6: Lille | E6: Rennes | F6: 2 | G6: 0
B7: 43323 | C7: 0.83333333 | D7: Montpellier | E7: Dijon | F7: 2 | G7: 2
B8: 43323 | C8: 0.83333333 | D8: Nice | E8: Reims | F8: 4 | G8: 0
B9: 43323 | C9: 0.83333333 | D9: Saint-Etienne | E9: Guingamp | F9: 0 | G9: 1
B10: 43324 | C10: 0.625 | D10: Lyon | E10: Amiens | F10: 3 | G10: 2
B11: 43324 | C11: 0.70833333 | D11: Bordeaux | E11: Strasbourg | F11: 1 | G11: 0
B12: 43324 | C12: 0.875 | D12: PSG | E12: Caen | F12: 4 | G12: 1
B14: 2ème JOURNEE
B15: 43330 | D15: Amiens | E15: Montpellier | F15: 1 | G15: 0
D16: Caen | E16: Nice | F16: 0 | G16: 2
D17: Dijon | E17: Nantes | F17: 1 | G17: 1
D18: Guingamp | E18: PSG | F18: 1 | G18: 3
D19: Monaco | E19: Lille | F19: 2 | G19: 1
D20: Nîmes | E20: Marseille | F20: 0 | G20: 2
D21: Reims | E21: Lyon | F21: 1 | G21: 3
D22: Rennes | E22: Angers | F22: 2 | G22: 0
D23: Strasbourg | E23: Saint-Etienne | F23: 1 | G23: 1
D24: Toulouse | E24: Bordeaux | F24: 2 | G24: 1
B26: 3ème JOURNEE
B27: 43337 | D27: Amiens | E27: Reims
D28: Bordeaux | E28: Monaco
D29: Lille | E29: Guingamp
D30: Lyon | E30: Strasbourg
D31: Marseille | E31: Rennes
D32: Montpellier | E32: Saint-Etienne
D33: Nantes | E33: Caen
D34: Nice | E34: Dijon
D35: PSG | E35: Angers
D36: Toulouse | E36: Nîmes
B38: 4ème JOURNEE
B39: 43344 | D39: Angers | E39: Lille
D40: Dijon | E40: Caen
D41: Guingamp | E41: Toulouse
D42: Lyon | E42: Nice
D43: Nîmes | E43: PSG
D44: Reims | E44: Montpellier
...

Sheet Classement
C1: max | D1: calcul | E1: club | F1: J1 | G1: J2 | H1: J3 | I1: J4 | J1: J5 | K1: J6 | L1: J7 | M1: J8 | N1: J9 | O1: J10 | P1: J11 | Q1: J12 | R1: J13 | S1: J14 | T1: J15 | U1: J16 | V1: J17 | W1: J18 | X1: J19 | Y1: J20 | Z1: J21 | AA1: J22 | AB1: J23 | AC1: J24 | AD1: J25 | AE1: J26 | AF1: J27 | AG1: J28 | AH1: J29 | AI1: J30 | AJ1: J31 | AK1: J32 | AL1: J33 | AM1: J34 | AN1: J35 | AO1: J36 | AP1: J37 | AQ1: J38 | AR1: total | AS1: BP | AT1: BC | AU1: dif | AV1: clast club | AW1: clast pts | AX1: clast BP | AY1: clast BC | AZ1: clast dif
B2: 1 | C2: =MAX(D2:D21) -> 9.79 | D2: =AR2+(((AS2*2.1)+AU2-AT2)/6)+0.45 -> 4 | E2: ='Ligue 1'!E10 -> Amiens | F2: =IF('Ligue 1'!G10>'Ligue 1'!F10,3,IF(AND(ISNUMBER('Ligue 1'!G10),ISNUMBER('Ligue 1'!F10),'Ligue 1'!G10='Ligue 1'!F10),1,0)) -> 0 | G2: =IF('Ligue 1'!F15>'Ligue 1'!G15,3,IF(AND(ISNUMBER('Ligue 1'!F15),ISNUMBER('Ligue 1'!G15),'Ligue 1'!F15='Ligue 1'!G15),1,0)) -> 3 | H2: =IF('Ligue 1'!F27>'Ligue 1'!G27,3,IF(AND(ISNUMBER('Ligue 1'!F28),ISNUMBER('Ligue 1'!G28),'Ligue 1'!F28='Ligue 1'!G28),1,0)) -> 0 | I2: =IF('Ligue 1'!G46>'Ligue 1'!F46,3,IF(AND(ISNUMBER('Ligue 1'!G46),ISNUMBER('Ligue 1'!F46),'Ligue 1'!G46='Ligue 1'!F46),1,0)) -> 0 | J2: =IF('Ligue 1'!F51>'Ligue 1'!G51,3,IF(AND(ISNUMBER('Ligue 1'!F51),ISNUMBER('Ligue 1'!G51),'Ligue 1'!F51='Ligue 1'!G51),1,0)) -> 0 | K2: =IF('Ligue 1'!G71>'Ligue 1'!F71,3,IF(AND(ISNUMBER('Ligue 1'!G71),ISNUMBER('Ligue 1'!F71),'Ligue 1'!G71='Ligue 1'!F71),1,0)) -> 0 | L2: =IF('Ligue 1'!F75>'Ligue 1'!G75,3,IF(AND(ISNUMBER('Ligue 1'!F75),ISNUMBER('Ligue 1'!G75),'Ligue 1'!F75='Ligue 1'!G75),1,0)) -> 0 | M2: =IF('Ligue 1'!G88>'Ligue 1'!F88,3,IF(AND(ISNUMBER('Ligue 1'!G88),ISNUMBER('Ligue 1'!F88),'Ligue 1'!G88='Ligue 1'!F88),1,0)) -> 0 | N2: =IF('Ligue 1'!F99>'Ligue 1'!G99,3,IF(AND(ISNUMBER('Ligue 1'!F99),ISNUMBER('Ligue 1'!G99),'Ligue 1'!F99='Ligue 1'!G99),1,0)) -> 0 | O2: =IF('Ligue 1'!G117>'Ligue 1'!F117,3,IF(AND(ISNUMBER('Ligue 1'!G117),ISNUMBER('Ligue 1'!F117),'Ligue 1'!G117='Ligue 1'!F117),1,0)) -> 0 | P2: =IF('Ligue 1'!F123>'Ligue 1'!G123,3,IF(AND(ISNUMBER('Ligue 1'!F123),ISNUMBER('Ligue 1'!G123),'Ligue 1'!F123='Ligue 1'!G123),1,0)) -> 0 | Q2: =IF('Ligue 1'!G140>'Ligue 1'!F140,3,IF(AND(ISNUMBER('Ligue 1'!G140),ISNUMBER('Ligue 1'!F140),'Ligue 1'!G140='Ligue 1'!F140),1,0)) -> 0 | R2: =IF('Ligue 1'!G155>'Ligue 1'!F155,3,IF(AND(ISNUMBER('Ligue 1'!G155),ISNUMBER('Ligue 1'!F155),'Ligue 1'!G155='Ligue 1'!F155),1,0)) -> 0 | S2: =IF('Ligue 1'!F159>'Ligue 1'!G159,3,IF(AND(ISNUMBER('Ligue 1'!F159),ISNUMBER('Ligue 1'!G159),'Ligue 1'!F159='Ligue 1'!G159),1,0)) -> 0 | T2: =IF('Ligue 1'!G177>'Ligue 1'!F177,3,IF(AND(ISNUMBER('Ligue 1'!G177),ISNUMBER('Ligue 1'!F177),'Ligue 1'!G177='Ligue 1'!F177),1,0)) -> 0 | U2: =IF('Ligue 1'!F183>'Ligue 1'!G183,3,IF(AND(ISNUMBER('Ligue 1'!F183),ISNUMBER('Ligue 1'!G183),'Ligue 1'!F183='Ligue 1'!G183),1,0)) -> 0 | V2: =IF('Ligue 1'!G196>'Ligue 1'!F196,3,IF(AND(ISNUMBER('Ligue 1'!G196),ISNUMBER('Ligue 1'!F196),'Ligue 1'!G196='Ligue 1'!F196),1,0)) -> 0 | W2: =IF('Ligue 1'!F207>'Ligue 1'!G207,3,IF(AND(ISNUMBER('Ligue 1'!F207),ISNUMBER('Ligue 1'!G207),'Ligue 1'!F207='Ligue 1'!G207),1,0)) -> 0 | X2: =IF('Ligue 1'!G220>'Ligue 1'!F220,3,IF(AND(ISNUMBER('Ligue 1'!G220),ISNUMBER('Ligue 1'!F220),'Ligue 1'!G220='Ligue 1'!F220),1,0)) -> 0 | Y2: =IF('Ligue 1'!F231>'Ligue 1'!G231,3,IF(AND(ISNUMBER('Ligue 1'!F231),ISNUMBER('Ligue 1'!G231),'Ligue 1'!F231='Ligue 1'!G231),1,0)) -> 0 | Z2: =IF('Ligue 1'!G246>'Ligue 1'!F246,3,IF(AND(ISNUMBER('Ligue 1'!G246),ISNUMBER('Ligue 1'!F246),'Ligue 1'!G246='Ligue 1'!F246),1,0)) -> 0 | AA2: =IF('Ligue 1'!F255>'Ligue 1'!G255,3,IF(AND(ISNUMBER('Ligue 1'!F255),ISNUMBER('Ligue 1'!G255),'Ligue 1'!F255='Ligue 1'!G255),1,0)) -> 0 | AB2: =IF('Ligue 1'!G274>'Ligue 1'!F274,3,IF(AND(ISNUMBER('Ligue 1'!G274),ISNUMBER('Ligue 1'!F274),'Ligue 1'!G274='Ligue 1'!F274),1,0)) -> 0 | AC2: =IF('Ligue 1'!F279>'Ligue 1'!G279,3,IF(AND(ISNUMBER('Ligue 1'!F279),ISNUMBER('Ligue 1'!G279),'Ligue 1'!F279='Ligue 1'!G279),1,0)) -> 0 | AD2: =IF('Ligue 1'!G296>'Ligue 1'!F296,3,IF(AND(ISNUMBER('Ligue 1'!G296),ISNUMBER('Ligue 1'!F296),'Ligue 1'!G296='Ligue 1'!F296),1,0)) -> 0 | AE2: =IF('Ligue 1'!F303>'Ligue 1'!G303,3,IF(AND(ISNUMBER('Ligue 1'!F303),ISNUMBER('Ligue 1'!G303),'Ligue 1'!F303='Ligue 1'!G303),1,0)) -> 0 | AF2: =IF('Ligue 1'!G324>'Ligue 1'!F324,3,IF(AND(ISNUMBER('Ligue 1'!G324),ISNUMBER('Ligue 1'!F324),'Ligue 1'!G324='Ligue 1'!F324),1,0)) -> 0 | AG2: =IF('Ligue 1'!F327>'Ligue 1'!G327,3,IF(AND(ISNUMBER('Ligue 1'!F327),ISNUMBER('Ligue 1'!G327),'Ligue 1'!F327='Ligue 1'!G327),1,0)) -> 0 | AH2: =IF('Ligue 1'!G339>'Ligue 1'!F339,3,IF(AND(ISNUMBER('Ligue 1'!G339),ISNUMBER('Ligue 1'!F339),'Ligue 1'!G339='Ligue 1'!F339),1,0)) -> 0 | AI2: =IF('Ligue 1'!F351>'Ligue 1'!G351,3,IF(AND(ISNUMBER('Ligue 1'!F351),ISNUMBER('Ligue 1'!G351),'Ligue 1'!F351='Ligue 1'!G351),1,0)) -> 0 | AJ2: =IF('Ligue 1'!F363>'Ligue 1'!G363,3,IF(AND(ISNUMBER('Ligue 1'!F363),ISNUMBER('Ligue 1'!G363),'Ligue 1'!F363='Ligue 1'!G363),1,0)) -> 0 | AK2: =IF('Ligue 1'!G376>'Ligue 1'!F376,3,IF(AND(ISNUMBER('Ligue 1'!G376),ISNUMBER('Ligue 1'!F376),'Ligue 1'!G376='Ligue 1'!F376),1,0)) -> 0 | AL2: =IF('Ligue 1'!G390>'Ligue 1'!F390,3,IF(AND(ISNUMBER('Ligue 1'!G390),ISNUMBER('Ligue 1'!F390),'Ligue 1'!G390='Ligue 1'!F390),1,0)) -> 0 | AM2: =IF('Ligue 1'!F399>'Ligue 1'!G399,3,IF(AND(ISNUMBER('Ligue 1'!F399),ISNUMBER('Ligue 1'!G399),'Ligue 1'!F399='Ligue 1'!G399),1,0)) -> 0 | AN2: =IF('Ligue 1'!G415>'Ligue 1'!F415,3,IF(AND(ISNUMBER('Ligue 1'!G415),ISNUMBER('Ligue 1'!F415),'Ligue 1'!G415='Ligue 1'!F415),1,0)) -> 0 | AO2: =IF('Ligue 1'!F423>'Ligue 1'!G423,3,IF(AND(ISNUMBER('Ligue 1'!F423),ISNUMBER('Ligue 1'!G423),'Ligue 1'!F423='Ligue 1'!G423),1,0)) -> 0 | AP2: =IF('Ligue 1'!G439>'Ligue 1'!F439,3,IF(AND(ISNUMBER('Ligue 1'!G439),ISNUMBER('Ligue 1'!F439),'Ligue 1'!G439='Ligue 1'!F439),1,0)) -> 0 | AQ2: =IF('Ligue 1'!F447>'Ligue 1'!G447,3,IF(AND(ISNUMBER('Ligue 1'!F447),ISNUMBER('Ligue 1'!G447),'Ligue 1'!F447='Ligue 1'!G447),1,0)) -> 0 | AR2: =SUM(F2:AQ2) -> 3 | AS2: =SUM('Ligue 1'!G10,'Ligue 1'!F15,'Ligue 1'!F27,'Ligue 1'!G46,'Ligue 1'!F51,'Ligue 1'!G71,'Ligue 1'!F75,'Ligue 1'!G88,'Ligue 1'!F99,'Ligue 1'!G117,'Ligue 1'!F123,'Ligue 1'!G140,'Ligue 1'!G155,'Ligue 1'!F159,'Ligue 1'!G177,'Ligue 1'!F183,'Ligue 1'!G196,'Ligue 1'!F207,'Ligue 1'!G220,'Ligue 1'!F231,'Ligue 1'!G246,'Ligue 1'!F255,'Ligue 1'!G274,'Ligue 1'!F279,'Ligue 1'!G296,'Ligue 1'!F303,'Ligue 1'!G324,'Ligue 1'!F327,'Ligue 1'!G339,'Ligue 1'!F351,'Ligue 1'!F363,'Ligue 1'!G376,'Ligue 1'!G390,'Ligue 1'!F399,'Ligue 1'!G415,'Ligue 1'!F423,'Ligue 1'!G439,'Ligue 1'!F447) -> 3 | AT2: =SUM('Ligue 1'!F10,'Ligue 1'!G15,'Ligue 1'!G27,'Ligue 1'!F46,'Ligue 1'!G51,'Ligue 1'!F71,'Ligue 1'!G75,'Ligue 1'!F88,'Ligue 1'!G99,'Ligue 1'!F117,'Ligue 1'!G123,'Ligue 1'!F140,'Ligue 1'!F155,'Ligue 1'!G159,'Ligue 1'!F177,'Ligue 1'!G183,'Ligue 1'!F196,'Ligue 1'!G207,'Ligue 1'!F220,'Ligue 1'!G231,'Ligue 1'!F246,'Ligue 1'!G255,'Ligue 1'!F274,'Ligue 1'!G279,'Ligue 1'!F296,'Ligue 1'!G303,'Ligue 1'!F324,'Ligue 1'!G327,'Ligue 1'!F339,'Ligue 1'!G351,'Ligue 1'!G363,'Ligue 1'!F376,'Ligue 1'!F390,'Ligue 1'!G399,'Ligue 1'!F415,'Ligue 1'!G423,'Ligue 1'!F439,'Ligue 1'!G447) -> 3 | AU2: =AS2-AT2 -> 0 | AV2: =INDEX($E$2:$E$21,MATCH(C2,$D$2:$D$21,0)) -> Nice | AW2: =INDEX($AR$2:$AR$21,MATCH(C2,$D$2:$D$21,0)) -> 6 | AX2: =INDEX($AS$2:$AS$21,MATCH(C2,$D$2:$D$21,0)) -> 6 | AY2: =INDEX($AT$2:$AT$21,MATCH(C2,$D$2:$D$21,0)) -> 0 | AZ2: =INDEX($AU$2:$AU$21,MATCH(C2,$D$2:$D$21,0)) -> 6
B3: 2 | C3: =LARGE($D$2:$D$21,2) -> 9.7033333 | D3: =AR3+(((AS3*2.11)+AU3-AT3)/6)+0.46 -> 3.3116667 | E3: ='Ligue 1'!D5 -> Angers | F3: =IF('Ligue 1'!F5>'Ligue 1'!G5,3,IF(AND(ISNUMBER('Ligue 1'!F5),ISNUMBER('Ligue 1'!G5),'Ligue 1'!F5='Ligue 1'!G5),1,0)) -> 3 | G3: =IF('Ligue 1'!G22>'Ligue 1'!F22,3,IF(AND(ISNUMBER('Ligue 1'!G22),ISNUMBER('Ligue 1'!F22),'Ligue 1'!G22='Ligue 1'!F22),1,0)) -> 0 | H3: =IF('Ligue 1'!G35>'Ligue 1'!F35,3,IF(AND(ISNUMBER('Ligue 1'!G35),ISNUMBER('Ligue 1'!F35),'Ligue 1'!G35='Ligue 1'!F35),1,0)) -> 0 | I3: =IF('Ligue 1'!F39>'Ligue 1'!G39,3,IF(AND(ISNUMBER('Ligue 1'!F39),ISNUMBER('Ligue 1'!G39),'Ligue 1'!F39='Ligue 1'!G39),1,0)) -> 0 | J3: =IF('Ligue 1'!G54>'Ligue 1'!F54,3,IF(AND(ISNUMBER('Ligue 1'!G54),ISNUMBER('Ligue 1'!F54),'Ligue 1'!G54='Ligue 1'!F54),1,0)) -> 0 | K3: =IF('Ligue 1'!F63>'Ligue 1'!G63,3,IF(AND(ISNUMBER('Ligue 1'!F63),ISNUMBER('Ligue 1'!G63),'Ligue 1'!F63='Ligue 1'!G63),1,0)) -> 0 | L3: =IF('Ligue 1'!G80>'Ligue 1'!F80,3,IF(AND(ISNUMBER('Ligue 1'!G80),ISNUMBER('Ligue 1'!F80),'Ligue 1'!G80='Ligue 1'!F80),1,0)) -> 0 | M3: =IF('Ligue 1'!F87>'Ligue 1'!G87,3,IF(AND(ISNUMBER('Ligue 1'!F87),ISNUMBER('Ligue 1'!G87),'Ligue 1'!F87='Ligue 1'!G87),1,0)) -> 0 | N3: =IF('Ligue 1'!F100>'Ligue 1'!G100,3,IF(AND(ISNUMBER('Ligue 1'!F100),ISNUMBER('Ligue 1'!G100),'Ligue 1'!F100='Ligue 1'!G100),1,0)) -> 0 | O3: =IF('Ligue 1'!G118>'Ligue 1'!F118,3,IF(AND(ISNUMBER('Ligue 1'!G118),ISNUMBER('Ligue 1'!F118),'Ligue 1'!G118='Ligue 1'!F118),1,0)) -> 0 | P3: =IF('Ligue 1'!F124>'Ligue 1'!G124,3,IF(AND(ISNUMBER('Ligue 1'!F124),ISNUMBER('Ligue 1'!G124),'Ligue 1'!F124='Ligue 1'!G124),1,0)) -> 0 | Q3: =IF('Ligue 1'!G143>'Ligue 1'!F143,3,IF(AND(ISNUMBER('Ligue 1'!G143),ISNUMBER('Ligue 1'!F143),'Ligue 1'!G143='Ligue 1'!F143),1,0)) -> 0 | R3: =IF('Ligue 1'!F147>'Ligue 1'!G147,3,IF(AND(ISNUMBER('Ligue 1'!F147),ISNUMBER('Ligue 1'!G147),'Ligue 1'!F147='Ligue 1'!G147),1,0)) -> 0 | S3: =IF('Ligue 1'!G164>'Ligue 1'!F164,3,IF(AND(ISNUMBER('Ligue 1'!G164),ISNUMBER('Ligue 1'!F164),'Ligue 1'!G164='Ligue 1'!F164),1,0)) -> 0 | T3: =IF('Ligue 1'!F171>'Ligue 1'!G171,3,IF(AND(ISNUMBER('Ligue 1'!F171),ISNUMBER('Ligue 1'!G171),'Ligue 1'!F171='Ligue 1'!G171),1,0)) -> 0 | U3: =IF('Ligue 1'!G190>'Ligue 1'!F190,3,IF(AND(ISNUMBER('Ligue 1'!G190),ISNUMBER('Ligue 1'!F190),'Ligue 1'!G190='Ligue 1'!F190),1,0)) -> 0 | V3: =IF('Ligue 1'!F195>'Ligue 1'!G195,3,IF(AND(ISNUMBER('Ligue 1'!F195),ISNUMBER('Ligue 1'!G195),'Ligue 1'!F195='Ligue 1'!G195),1,0)) -> 0 | W3: =IF('Ligue 1'!G207>'Ligue 1'!F207,3,IF(AND(ISNUMBER('Ligue 1'!G207),ISNUMBER('Ligue 1'!F207),'Ligue 1'!G207='Ligue 1'!F207),1,0)) -> 0 | X3: =IF('Ligue 1'!F219>'Ligue 1'!G219,3,IF(AND(ISNUMBER('Ligue 1'!F219),ISNUMBER('Ligue 1'!G219),'Ligue 1'!F219='Ligue 1'!G219),1,0)) -> 0 | Y3: =IF('Ligue 1'!G238>'Ligue 1'!F238,3,IF(AND(ISNUMBER('Ligue 1'!G238),ISNUMBER('Ligue 1'!F238),'Ligue 1'!G238='Ligue 1'!F238),1,0)) -> 0 | Z3: =IF('Ligue 1'!F243>'Ligue 1'!G243,3,IF(AND(ISNUMBER('Ligue 1'!F243),ISNUMBER('Ligue 1'!G243),'Ligue 1'!F243='Ligue 1'!G243),1,0)) -> 0 | AA3: =IF('Ligue 1'!G264>'Ligue 1'!F264,3,IF(AND(ISNUMBER('Ligue 1'!G264),ISNUMBER('Ligue 1'!F264),'Ligue 1'!G264='Ligue 1'!F264),1,0)) -> 0 | AB3: =IF('Ligue 1'!F267>'Ligue 1'!G267,3,IF(AND(ISNUMBER('Ligue 1'!F267),ISNUMBER('Ligue 1'!G267),'Ligue 1'!F267='Ligue 1'!G267),1,0)) -> 0 | AC3: =IF('Ligue 1'!G287>'Ligue 1'!F287,3,IF(AND(ISNUMBER('Ligue 1'!G287),ISNUMBER('Ligue 1'!F287),'Ligue 1'!G287='Ligue 1'!F287),1,0)) -> 0 | AD3: =IF('Ligue 1'!F291>'Ligue 1'!G291,3,IF(AND(ISNUMBER('Ligue 1'!F291),ISNUMBER('Ligue 1'!G291),'Ligue 1'!F291='Ligue 1'!G291),1,0)) -> 0 | AE3: =IF('Ligue 1'!G305>'Ligue 1'!F305,3,IF(AND(ISNUMBER('Ligue 1'!G305),ISNUMBER('Ligue 1'!F305),'Ligue 1'!G305='Ligue 1'!F305),1,0)) -> 0 | AF3: =IF('Ligue 1'!F315>'Ligue 1'!G315,3,IF(AND(ISNUMBER('Ligue 1'!F315),ISNUMBER('Ligue 1'!G315),'Ligue 1'!F315='Ligue 1'!G315),1,0)) -> 0 | AG3: =IF('Ligue 1'!G331>'Ligue 1'!F331,3,IF(AND(ISNUMBER('Ligue 1'!G331),ISNUMBER('Ligue 1'!F331),'Ligue 1'!G331='Ligue 1'!F331),1,0)) -> 0 | AH3: =IF('Ligue 1'!F339>'Ligue 1'!G339,3,IF(AND(ISNUMBER('Ligue 1'!F339),ISNUMBER('Ligue 1'!G339),'Ligue 1'!F339='Ligue 1'!G339),1,0)) -> 0 | AI3: =IF('Ligue 1'!G353>'Ligue 1'!F353,3,IF(AND(ISNUMBER('Ligue 1'!G353),ISNUMBER('Ligue 1'!F353),'Ligue 1'!G353='Ligue 1'!F353),1,0)) -> 0 | AJ3: =IF('Ligue 1'!F364>'Ligue 1'!G364,3,IF(AND(ISNUMBER('Ligue 1'!F364),ISNUMBER('Ligue 1'!G364),'Ligue 1'!F364='Ligue 1'!G364),1,0)) -> 0 | AK3: =IF('Ligue 1'!G375>'Ligue 1'!F375,3,IF(AND(ISNUMBER('Ligue 1'!G375),ISNUMBER('Ligue 1'!F375),'Ligue 1'!G375='Ligue 1'!F375),1,0)) -> 0 | AL3: =IF('Ligue 1'!G389>'Ligue 1'!F389,3,IF(AND(ISNUMBER('Ligue 1'!G389),ISNUMBER('Ligue 1'!F389),'Ligue 1'!G389='Ligue 1'!F389),1,0)) -> 0 | AM3: =IF('Ligue 1'!F400>'Ligue 1'!G400,3,IF(AND(ISNUMBER('Ligue 1'!F400),ISNUMBER('Ligue 1'!G400),'Ligue 1'!F400='Ligue 1'!G400),1,0)) -> 0 | AN3: =IF('Ligue 1'!G411>'Ligue 1'!F411,3,IF(AND(ISNUMBER('Ligue 1'!G411),ISNUMBER('Ligue 1'!F411),'Ligue 1'!G411='Ligue 1'!F411),1,0)) -> 0 | AO3: =IF('Ligue 1'!F424>'Ligue 1'!G424,3,IF(AND(ISNUMBER('Ligue 1'!F424),ISNUMBER('Ligue 1'!G424),'Ligue 1'!F424='Ligue 1'!G424),1,0)) -> 0 | AP3: =IF('Ligue 1'!G437>'Ligue 1'!F437,3,IF(AND(ISNUMBER('Ligue 1'!G437),ISNUMBER('Ligue 1'!F437),'Ligue 1'!G437='Ligue 1'!F437),1,0)) -> 0 | AQ3: =IF('Ligue 1'!F448>'Ligue 1'!G448,3,IF(AND(ISNUMBER('Ligue 1'!F448),ISNUMBER('Ligue 1'!G448),'Ligue 1'!F448='Ligue 1'!G448),1,0)) -> 0 | AR3: =SUM(F3:AQ3) -> 3 | AS3: =SUM('Ligue 1'!F5,'Ligue 1'!G22,'Ligue 1'!G35,'Ligue 1'!F39,'Ligue 1'!G54,'Ligue 1'!F63,'Ligue 1'!G80,'Ligue 1'!F87,'Ligue 1'!F100,'Ligue 1'!G118,'Ligue 1'!F124,'Ligue 1'!G143,'Ligue 1'!F147,'Ligue 1'!G164,'Ligue 1'!F171,'Ligue 1'!G190,'Ligue 1'!F195,'Ligue 1'!G207,'Ligue 1'!F219,'Ligue 1'!G238,'Ligue 1'!F243,'Ligue 1'!G264,'Ligue 1'!F267,'Ligue 1'!G287,'Ligue 1'!F291,'Ligue 1'!G305,'Ligue 1'!F315,'Ligue 1'!G331,'Ligue 1'!F339,'Ligue 1'!G353,'Ligue 1'!F364,'Ligue 1'!G375,'Ligue 1'!G389,'Ligue 1'!F400,'Ligue 1'!G411,'Ligue 1'!F424,'Ligue 1'!G437,'Ligue 1'!F448) -> 1 | AT3: =SUM('Ligue 1'!G5,'Ligue 1'!F22,'Ligue 1'!F35,'Ligue 1'!G39,'Ligue 1'!F54,'Ligue 1'!G63,'Ligue 1'!F80,'Ligue 1'!G87,'Ligue 1'!G100,'Ligue 1'!F118,'Ligue 1'!G124,'Ligue 1'!F143,'Ligue 1'!G147,'Ligue 1'!F164,'Ligue 1'!G171,'Ligue 1'!F190,'Ligue 1'!G195,'Ligue 1'!F207,'Ligue 1'!G219,'Ligue 1'!F238,'Ligue 1'!G243,'Ligue 1'!F264,'Ligue 1'!G267,'Ligue 1'!F287,'Ligue 1'!G291,'Ligue 1'!F305,'Ligue 1'!G315,'Ligue 1'!F331,'Ligue 1'!G339,'Ligue 1'!F353,'Ligue 1'!G364,'Ligue 1'!F375,'Ligue 1'!F389,'Ligue 1'!G400,'Ligue 1'!F411,'Ligue 1'!G424,'Ligue 1'!F437,'Ligue 1'!G448) -> 2 | AU3: =AS3-AT3 -> -1 | AV3: =INDEX($E$2:$E$21,MATCH(C3,$D$2:$D$21,0)) -> PSG | AW3: =INDEX($AR$2:$AR$21,MATCH(C3,$D$2:$D$21,0)) -> 6 | AX3: =INDEX($AS$2:$AS$21,MATCH(C3,$D$2:$D$21,0)) -> 7 | AY3: =INDEX($AT$2:$AT$21,MATCH(C3,$D$2:$D$21,0)) -> 2 | AZ3: =INDEX($AU$2:$AU$21,MATCH(C3,$D$2:$D$21,0)) -> 5
B4: 3 | C4: =LARGE($D$2:$D$21,3) -> 8.8466667 | D4: =AR4+(((AS4*2.12)+AU4-AT4)/6)+0.47 -> 3.8433333 | E4: ='Ligue 1'!D11 -> Bordeaux | F4: =IF('Ligue 1'!F11>'Ligue 1'!G11,3,IF(AND(ISNUMBER('Ligue 1'!F11),ISNUMBER('Ligue 1'!G11),'Ligue 1'!F11='Ligue 1'!G11),1,0)) -> 3 | G4: =IF('Ligue 1'!G24>'Ligue 1'!F24,3,IF(AND(ISNUMBER('Ligue 1'!G24),ISNUMBER('Ligue 1'!F24),'Ligue 1'!G24='Ligue 1'!F24),1,0)) -> 0 | H4: =IF('Ligue 1'!F28>'Ligue 1'!G28,3,IF(AND(ISNUMBER('Ligue 1'!F28),ISNUMBER('Ligue 1'!G28),'Ligue 1'!F28='Ligue 1'!G28),1,0)) -> 0 | I4: =IF('Ligue 1'!G45>'Ligue 1'!F45,3,IF(AND(ISNUMBER('Ligue 1'!G45),ISNUMBER('Ligue 1'!F45),'Ligue 1'!G45='Ligue 1'!F45),1,0)) -> 0 | J4: =IF('Ligue 1'!F52>'Ligue 1'!G52,3,IF(AND(ISNUMBER('Ligue 1'!F52),ISNUMBER('Ligue 1'!G52),'Ligue 1'!F52='Ligue 1'!G52),1,0)) -> 0 | K4: =IF('Ligue 1'!G64>'Ligue 1'!F64,3,IF(AND(ISNUMBER('Ligue 1'!G64),ISNUMBER('Ligue 1'!F64),'Ligue 1'!G64='Ligue 1'!F64),1,0)) -> 0 | L4: =IF('Ligue 1'!F76>'Ligue 1'!G76,3,IF(AND(ISNUMBER('Ligue 1'!F76),ISNUMBER('Ligue 1'!G76),'Ligue 1'!F76='Ligue 1'!G76),1,0)) -> 0 | M4: =IF('Ligue 1'!G93>'Ligue 1'!F93,3,IF(AND(ISNUMBER('Ligue 1'!G93),ISNUMBER('Ligue 1'!F93),'Ligue 1'!G93='Ligue 1'!F93),1,0)) -> 0 | N4: =IF('Ligue 1'!F101>'Ligue 1'!G101,3,IF(AND(ISNUMBER('Ligue 1'!F101),ISNUMBER('Ligue 1'!G101),'Ligue 1'!F101='Ligue 1'!G101),1,0)) -> 0 | O4: =IF('Ligue 1'!G114>'Ligue 1'!F114,3,IF(AND(ISNUMBER('Ligue 1'!G114),ISNUMBER('Ligue 1'!F114),'Ligue 1'!G114='Ligue 1'!F114),1,0)) -> 0 | P4: =IF('Ligue 1'!F125>'Ligue 1'!G125,3,IF(AND(ISNUMBER('Ligue 1'!F125),ISNUMBER('Ligue 1'!G125),'Ligue 1'!F125='Ligue 1'!G125),1,0)) -> 0 | Q4: =IF('Ligue 1'!G137>'Ligue 1'!F137,3,IF(AND(ISNUMBER('Ligue 1'!G137),ISNUMBER('Ligue 1'!F137),'Ligue 1'!G137='Ligue 1'!F137),1,0)) -> 0 | R4: =IF('Ligue 1'!F148>'Ligue 1'!G148,3,IF(AND(ISNUMBER('Ligue 1'!F148),ISNUMBER('Ligue 1'!G148),'Ligue 1'!F148='Ligue 1'!G148),1,0)) -> 0 | S4: =IF('Ligue 1'!G161>'Ligue 1'!F161,3,IF(AND(ISNUMBER('Ligue 1'!G161),ISNUMBER('Ligue 1'!F161),'Ligue 1'!G161='Ligue 1'!F161),1,0)) -> 0 | T4: =IF('Ligue 1'!F172>'Ligue 1'!G172,3,IF(AND(ISNUMBER('Ligue 1'!F172),ISNUMBER('Ligue 1'!G172),'Ligue 1'!F172='Ligue 1'!G172),1,0)) -> 0 | U4: =IF('Ligue 1'!F184>'Ligue 1'!G184,3,IF(AND(ISNUMBER('Ligue 1'!F184),ISNUMBER('Ligue 1'!G184),'Ligue 1'!F184='Ligue 1'!G184),1,0)) -> 0 | V4: =IF('Ligue 1'!G195>'Ligue 1'!F195,3,IF(AND(ISNUMBER('Ligue 1'!G195),ISNUMBER('Ligue 1'!F195),'Ligue 1'!G195='Ligue 1'!F195),1,0)) -> 0 | W4: =IF('Ligue 1'!G212>'Ligue 1'!F212,3,IF(AND(ISNUMBER('Ligue 1'!G212),ISNUMBER('Ligue 1'!F212),'Ligue 1'!G212='Ligue 1'!F212),1,0)) -> 0 | X4: =IF('Ligue 1'!F220>'Ligue 1'!G220,3,IF(AND(ISNUMBER('Ligue 1'!F220),ISNUMBER('Ligue 1'!G220),'Ligue 1'!F220='Ligue 1'!G220),1,0)) -> 0 | Y4: =IF('Ligue 1'!G237>'Ligue 1'!F237,3,IF(AND(ISNUMBER('Ligue 1'!G237),ISNUMBER('Ligue 1'!F237),'Ligue 1'!G237='Ligue 1'!F237),1,0)) -> 0 | Z4: =IF('Ligue 1'!F244>'Ligue 1'!G244,3,IF(AND(ISNUMBER('Ligue 1'!F244),ISNUMBER('Ligue 1'!G244),'Ligue 1'!F244='Ligue 1'!G244),1,0)) -> 0 | AA4: =IF('Ligue 1'!G263>'Ligue 1'!F263,3,IF(AND(ISNUMBER('Ligue 1'!G263),ISNUMBER('Ligue 1'!F263),'Ligue 1'!G263='Ligue 1'!F263),1,0)) -> 0 | AB4: =IF('Ligue 1'!F268>'Ligue 1'!G268,3,IF(AND(ISNUMBER('Ligue 1'!F268),ISNUMBER('Ligue 1'!G268),'Ligue 1'!F268='Ligue 1'!G268),1,0)) -> 0 | AC4: =IF('Ligue 1'!G285>'Ligue 1'!F285,3,IF(AND(ISNUMBER('Ligue 1'!G285),ISNUMBER('Ligue 1'!F285),'Ligue 1'!G285='Ligue 1'!F285),1,0)) -> 0 | AD4: =IF('Ligue 1'!F292>'Ligue 1'!G292,3,IF(AND(ISNUMBER('Ligue 1'!F292),ISNUMBER('Ligue 1'!G292),'Ligue 1'!F292='Ligue 1'!G292),1,0)) -> 0 | AE4: =IF('Ligue 1'!G307>'Ligue 1'!F307,3,IF(AND(ISNUMBER('Ligue 1'!G307),ISNUMBER('Ligue 1'!F307),'Ligue 1'!G307='Ligue 1'!F307),1,0)) -> 0 | AF4: =IF('Ligue 1'!F316>'Ligue 1'!G316,3,IF(AND(ISNUMBER('Ligue 1'!F316),ISNUMBER('Ligue 1'!G316),'Ligue 1'!F316='Ligue 1'!G316),1,0)) -> 0 | AG4: =IF('Ligue 1'!G330>'Ligue 1'!F330,3,IF(AND(ISNUMBER('Ligue 1'!G330),ISNUMBER('Ligue 1'!F330),'Ligue 1'!G330='Ligue 1'!F330),1,0)) -> 0 | AH4: =IF('Ligue 1'!F340>'Ligue 1'!G340,3,IF(AND(ISNUMBER('Ligue 1'!F340),ISNUMBER('Ligue 1'!G340),'Ligue 1'!F340='Ligue 1'!G340),1,0)) -> 0 | AI4: =IF('Ligue 1'!G351>'Ligue 1'!F351,3,IF(AND(ISNUMBER('Ligue 1'!G351),ISNUMBER('Ligue 1'!F351),'Ligue 1'!G351='Ligue 1'!F351),1,0)) -> 0 | AJ4: =IF('Ligue 1'!F365>'Ligue 1'!G365,3,IF(AND(ISNUMBER('Ligue 1'!F365),ISNUMBER('Ligue 1'!G365),'Ligue 1'!F365='Ligue 1'!G365),1,0)) -> 0 | AK4: =IF('Ligue 1'!G383>'Ligue 1'!F383,3,IF(AND(ISNUMBER('Ligue 1'!G383),ISNUMBER('Ligue 1'!F383),'Ligue 1'!G383='Ligue 1'!F383),1,0)) -> 0 | AL4: =IF('Ligue 1'!G392>'Ligue 1'!F392,3,IF(AND(ISNUMBER('Ligue 1'!G392),ISNUMBER('Ligue 1'!F392),'Ligue 1'!G392='Ligue 1'!F392),1,0)) -> 0 | AM4: =IF('Ligue 1'!F401>'Ligue 1'!G401,3,IF(AND(ISNUMBER('Ligue 1'!F401),ISNUMBER('Ligue 1'!G401),'Ligue 1'!F401='Ligue 1'!G401),1,0)) -> 0 | AN4: =IF('Ligue 1'!F411>'Ligue 1'!G411,3,IF(AND(ISNUMBER('Ligue 1'!F411),ISNUMBER('Ligue 1'!G411),'Ligue 1'!F411='Ligue 1'!G411),1,0)) -> 0 | AO4: =IF('Ligue 1'!G427>'Ligue 1'!F427,3,IF(AND(ISNUMBER('Ligue 1'!G427),ISNUMBER('Ligue 1'!F427),'Ligue 1'!G427='Ligue 1'!F427),1,0)) -> 0 | AP4: =IF('Ligue 1'!F435>'Ligue 1'!G435,3,IF(AND(ISNUMBER('Ligue 1'!F435),ISNUMBER('Ligue 1'!G435),'Ligue 1'!F435='Ligue 1'!G435),1,0)) -> 0 | AQ4: =IF('Ligue 1'!G449>'Ligue 1'!F449,3,IF(AND(ISNUMBER('Ligue 1'!G449),ISNUMBER('Ligue 1'!F449),'Ligue 1'!G449='Ligue 1'!F449),1,0)) -> 0 | AR4: =SUM(F4:AQ4) -> 3 | AS4: =SUM('Ligue 1'!F11,'Ligue 1'!G24,'Ligue 1'!F28,'Ligue 1'!G45,'Ligue 1'!F52,'Ligue 1'!G64,'Ligue 1'!F76,'Ligue 1'!G93,'Ligue 1'!F101,'Ligue 1'!G114,'Ligue 1'!F125,'Ligue 1'!G137,'Ligue 1'!F148,'Ligue 1'!G161,'Ligue 1'!F172,'Ligue 1'!F184,'Ligue 1'!G195,'Ligue 1'!G212,'Ligue 1'!F220,'Ligue 1'!G237,'Ligue 1'!F244,'Ligue 1'!G263,'Ligue 1'!F268,'Ligue 1'!G285,'Ligue 1'!F292,'Ligue 1'!G307,'Ligue 1'!F316,'Ligue 1'!G330,'Ligue 1'!F340,'Ligue 1'!G351,'Ligue 1'!F365,'Ligue 1'!G383,'Ligue 1'!G392,'Ligue 1'!F401,'Ligue 1'!F411,'Ligue 1'!G427,'Ligue 1'!F435,'Ligue 1'!G449) -> 2 | AT4: =SUM('Ligue 1'!G11,'Ligue 1'!F24,'Ligue 1'!G28,'Ligue 1'!F45,'Ligue 1'!G52,'Ligue 1'!F64,'Ligue 1'!G76,'Ligue 1'!F93,'Ligue 1'!G101,'Ligue 1'!F114,'Ligue 1'!G125,'Ligue 1'!F137,'Ligue 1'!G148,'Ligue 1'!F161,'Ligue 1'!G172,'Ligue 1'!G184,'Ligue 1'!F195,'Ligue 1'!F212,'Ligue 1'!G220,'Ligue 1'!F237,'Ligue 1'!G244,'Ligue 1'!F263,'Ligue 1'!G268,'Ligue 1'!F285,'Ligue 1'!G292,'Ligue 1'!F307,'Ligue 1'!G316,'Ligue 1'!F330,'Ligue 1'!G340,'Ligue 1'!F351,'Ligue 1'!G365,'Ligue 1'!F383,'Ligue 1'!F392,'Ligue 1'!G401,'Ligue 1'!G411,'Ligue 1'!F427,'Ligue 1'!G435,'Ligue 1'!F449) -> 2 | AU4: =AS4-AT4 -> 0 | AV4: =INDEX($E$2:$E$21,MATCH(C4,$D$2:$D$21,0)) -> Marseille | AW4: =INDEX($AR$2:$AR$21,MATCH(C4,$D$2:$D$21,0)) -> 6 | AX4: =INDEX($AS$2:$AS$21,MATCH(C4,$D$2:$D$21,0)) -> 5 | AY4: =INDEX($AT$2:$AT$21,MATCH(C4,$D$2:$D$21,0)) -> 1 | AZ4: =INDEX($AU$2:$AU$21,MATCH(C4,$D$2:$D$21,0)) -> 4
B5: 4 | C5: =LARGE($D$2:$D$21,4) -> 8.69 | D5: =AR5+(((AS5*2.13)+AU5-AT5)/6)+0.48 -> -0.99833333 | E5: ='Ligue 1'!E12 -> Caen | F5: =IF('Ligue 1'!G12>'Ligue 1'!F12,3,IF(AND(ISNUMBER('Ligue 1'!G12),ISNUMBER('Ligue 1'!F12),'Ligue 1'!G12='Ligue 1'!F12),1,0)) -> 0 | G5: =IF('Ligue 1'!F16>'Ligue 1'!G16,3,IF(AND(ISNUMBER('Ligue 1'!F16),ISNUMBER('Ligue 1'!G16),'Ligue 1'!F16='Ligue 1'!G16),1,0)) -> 0 | H5: =IF('Ligue 1'!G33>'Ligue 1'!F33,3,IF(AND(ISNUMBER('Ligue 1'!G33),ISNUMBER('Ligue 1'!F33),'Ligue 1'!G33='Ligue 1'!F33),1,0)) -> 0 | I5: =IF('Ligue 1'!G40>'Ligue 1'!F40,3,IF(AND(ISNUMBER('Ligue 1'!G40),ISNUMBER('Ligue 1'!F40),'Ligue 1'!G40='Ligue 1'!F40),1,0)) -> 0 | J5: =IF('Ligue 1'!F53>'Ligue 1'!G53,3,IF(AND(ISNUMBER('Ligue 1'!F53),ISNUMBER('Ligue 1'!G53),'Ligue 1'!F53='Ligue 1'!G53),1,0)) -> 0 | K5: =IF('Ligue 1'!G70>'Ligue 1'!F70,3,IF(AND(ISNUMBER('Ligue 1'!G70),ISNUMBER('Ligue 1'!F70),'Ligue 1'!G70='Ligue 1'!F70),1,0)) -> 0 | L5: =IF('Ligue 1'!F77>'Ligue 1'!G77,3,IF(AND(ISNUMBER('Ligue 1'!F77),ISNUMBER('Ligue 1'!G77),'Ligue 1'!F77='Ligue 1'!G77),1,0)) -> 0 | M5: =IF('Ligue 1'!F88>'Ligue 1'!G88,3,IF(AND(ISNUMBER('Ligue 1'!F88),ISNUMBER('Ligue 1'!G88),'Ligue 1'!F88='Ligue 1'!G88),1,0)) -> 0 | N5: =IF('Ligue 1'!G104>'Ligue 1'!F104,3,IF(AND(ISNUMBER('Ligue 1'!G104),ISNUMBER('Ligue 1'!F104),'Ligue 1'!G104='Ligue 1'!F104),1,0)) -> 0 | O5: =IF('Ligue 1'!F111>'Ligue 1'!G111,3,IF(AND(ISNUMBER('Ligue 1'!F111),ISNUMBER('Ligue 1'!G111),'Ligue 1'!F111='Ligue 1'!G111),1,0)) -> 0 | P5: =IF('Ligue 1'!G127>'Ligue 1'!F127,3,IF(AND(ISNUMBER('Ligue 1'!G127),ISNUMBER('Ligue 1'!F127),'Ligue 1'!G127='Ligue 1'!F127),1,0)) -> 0 | Q5: =IF('Ligue 1'!F135>'Ligue 1'!G135,3,IF(AND(ISNUMBER('Ligue 1'!F135),ISNUMBER('Ligue 1'!G135),'Ligue 1'!F135='Ligue 1'!G135),1,0)) -> 0 | R5: =IF('Ligue 1'!G148>'Ligue 1'!F148,3,IF(AND(ISNUMBER('Ligue 1'!G148),ISNUMBER('Ligue 1'!F148),'Ligue 1'!G148='Ligue 1'!F148),1,0)) -> 0 | S5: =IF('Ligue 1'!F160>'Ligue 1'!G160,3,IF(AND(ISNUMBER('Ligue 1'!F160),ISNUMBER('Ligue 1'!G160),'Ligue 1'!F160='Ligue 1'!G160),1,0)) -> 0 | T5: =IF('Ligue 1'!G168>'Ligue 1'!F168,3,IF(AND(ISNUMBER('Ligue 1'!G168),ISNUMBER('Ligue 1'!F168),'Ligue 1'!G168='Ligue 1'!F168),1,0)) -> 0 | U5: =IF('Ligue 1'!F185>'Ligue 1'!G185,3,IF(AND(ISNUMBER('Ligue 1'!F185),ISNUMBER('Ligue 1'!G185),'Ligue 1'!F185='Ligue 1'!G185),1,0)) -> 0 | V5: =IF('Ligue 1'!G203>'Ligue 1'!F203,3,IF(AND(ISNUMBER('Ligue 1'!G203),ISNUMBER('Ligue 1'!F203),'Ligue 1'!G203='Ligue 1'!F203),1,0)) -> 0 | W5: =IF('Ligue 1'!F208>'Ligue 1'!G208,3,IF(AND(ISNUMBER('Ligue 1'!F208),ISNUMBER('Ligue 1'!G208),'Ligue 1'!F208='Ligue 1'!G208),1,0)) -> 0 | X5: =IF('Ligue 1'!G225>'Ligue 1'!F225,3,IF(AND(ISNUMBER('Ligue 1'!G225),ISNUMBER('Ligue 1'!F225),'Ligue 1'!G225='Ligue 1'!F225),1,0)) -> 0 | Y5: =IF('Ligue 1'!F232>'Ligue 1'!G232,3,IF(AND(ISNUMBER('Ligue 1'!F232),ISNUMBER('Ligue 1'!G232),'Ligue 1'!F232='Ligue 1'!G232),1,0)) -> 0 | Z5: =IF('Ligue 1'!F245>'Ligue 1'!G245,3,IF(AND(ISNUMBER('Ligue 1'!F245),ISNUMBER('Ligue 1'!G245),'Ligue 1'!F245='Ligue 1'!G245),1,0)) -> 0 | AA5: =IF('Ligue 1'!G259>'Ligue 1'!F259,3,IF(AND(ISNUMBER('Ligue 1'!G259),ISNUMBER('Ligue 1'!F259),'Ligue 1'!G259='Ligue 1'!F259),1,0)) -> 0 | AB5: =IF('Ligue 1'!F269>'Ligue 1'!G269,3,IF(AND(ISNUMBER('Ligue 1'!F269),ISNUMBER('Ligue 1'!G269),'Ligue 1'!F269='Ligue 1'!G269),1,0)) -> 0 | AC5: =IF('Ligue 1'!G279>'Ligue 1'!F279,3,IF(AND(ISNUMBER('Ligue 1'!G279),ISNUMBER('Ligue 1'!F279),'Ligue 1'!G279='Ligue 1'!F279),1,0)) -> 0 | AD5: =IF('Ligue 1'!F293>'Ligue 1'!G293,3,IF(AND(ISNUMBER('Ligue 1'!F293),ISNUMBER('Ligue 1'!G293),'Ligue 1'!F293='Ligue 1'!G293),1,0)) -> 0 | AE5: =IF('Ligue 1'!G311>'Ligue 1'!F311,3,IF(AND(ISNUMBER('Ligue 1'!G311),ISNUMBER('Ligue 1'!F311),'Ligue 1'!G311='Ligue 1'!F311),1,0)) -> 0 | AF5: =IF('Ligue 1'!F317>'Ligue 1'!G317,3,IF(AND(ISNUMBER('Ligue 1'!F317),ISNUMBER('Ligue 1'!G317),'Ligue 1'!F317='Ligue 1'!G317),1,0)) -> 0 | AG5: =IF('Ligue 1'!G333>'Ligue 1'!F333,3,IF(AND(ISNUMBER('Ligue 1'!G333),ISNUMBER('Ligue 1'!F333),'Ligue 1'!G333='Ligue 1'!F333),1,0)) -> 0 | AH5: =IF('Ligue 1'!F341>'Ligue 1'!G341,3,IF(AND(ISNUMBER('Ligue 1'!F341),ISNUMBER('Ligue 1'!G341),'Ligue 1'!F341='Ligue 1'!G341),1,0)) -> 0 | AI5: =IF('Ligue 1'!G354>'Ligue 1'!F354,3,IF(AND(ISNUMBER('Ligue 1'!G354),ISNUMBER('Ligue 1'!F354),'Ligue 1'!G354='Ligue 1'!F354),1,0)) -> 0 | AJ5: =IF('Ligue 1'!G369>'Ligue 1'!F369,3,IF(AND(ISNUMBER('Ligue 1'!G369),ISNUMBER('Ligue 1'!F369),'Ligue 1'!G369='Ligue 1'!F369),1,0)) -> 0 | AK5: =IF('Ligue 1'!F375>'Ligue 1'!G375,3,IF(AND(ISNUMBER('Ligue 1'!F375),ISNUMBER('Ligue 1'!G375),'Ligue 1'!F375='Ligue 1'!G375),1,0)) -> 0 | AL5: =IF('Ligue 1'!G391>'Ligue 1'!F391,3,IF(AND(ISNUMBER('Ligue 1'!G391),ISNUMBER('Ligue 1'!F391),'Ligue 1'!G391='Ligue 1'!F391),1,0)) -> 0 | AM5: =IF('Ligue 1'!F402>'Ligue 1'!G402,3,IF(AND(ISNUMBER('Ligue 1'!F402),ISNUMBER('Ligue 1'!G402),'Ligue 1'!F402='Ligue 1'!G402),1,0)) -> 0 | AN5: =IF('Ligue 1'!G412>'Ligue 1'!F412,3,IF(AND(ISNUMBER('Ligue 1'!G412),ISNUMBER('Ligue 1'!F412),'Ligue 1'!G412='Ligue 1'!F412),1,0)) -> 0 | AO5: =IF('Ligue 1'!F425>'Ligue 1'!G425,3,IF(AND(ISNUMBER('Ligue 1'!F425),ISNUMBER('Ligue 1'!G425),'Ligue 1'!F425='Ligue 1'!G425),1,0)) -> 0 | AP5: =IF('Ligue 1'!G438>'Ligue 1'!F438,3,IF(AND(ISNUMBER('Ligue 1'!G438),ISNUMBER('Ligue 1'!F438),'Ligue 1'!G438='Ligue 1'!F438),1,0)) -> 0 | AQ5: =IF('Ligue 1'!F449>'Ligue 1'!G449,3,IF(AND(ISNUMBER('Ligue 1'!F449),ISNUMBER('Ligue 1'!G449),'Ligue 1'!F449='Ligue 1'!G449),1,0)) -> 0 | AR5: =SUM(F5:AQ5) -> 0 | AS5: =SUM('Ligue 1'!G12,'Ligue 1'!F16,'Ligue 1'!G33,'Ligue 1'!G40,'Ligue 1'!F53,'Ligue 1'!G70,'Ligue 1'!F77,'Ligue 1'!F88,'Ligue 1'!G104,'Ligue 1'!F111,'Ligue 1'!G127,'Ligue 1'!F135,'Ligue 1'!G148,'Ligue 1'!F160,'Ligue 1'!G171,'Ligue 1'!F185,'Ligue 1'!G203,'Ligue 1'!F208,'Ligue 1'!G225,'Ligue 1'!F232,'Ligue 1'!F245,'Ligue 1'!G259,'Ligue 1'!F269,'Ligue 1'!G279,'Ligue 1'!F293,'Ligue 1'!G311,'Ligue 1'!F317,'Ligue 1'!G333,'Ligue 1'!F341,'Ligue 1'!G354,'Ligue 1'!G369,'Ligue 1'!F375,'Ligue 1'!G391,'Ligue 1'!F402,'Ligue 1'!G412,'Ligue 1'!F425,'Ligue 1'!G438,'Ligue 1'!F449) -> 1 | AT5: =SUM('Ligue 1'!F12,'Ligue 1'!G16,'Ligue 1'!F33,'Ligue 1'!F40,'Ligue 1'!G53,'Ligue 1'!F70,'Ligue 1'!G77,'Ligue 1'!G88,'Ligue 1'!F104,'Ligue 1'!G111,'Ligue 1'!F127,'Ligue 1'!G135,'Ligue 1'!F148,'Ligue 1'!G160,'Ligue 1'!F171,'Ligue 1'!G185,'Ligue 1'!F203,'Ligue 1'!G208,'Ligue 1'!F225,'Ligue 1'!G232,'Ligue 1'!G245,'Ligue 1'!F259,'Ligue 1'!G269,'Ligue 1'!F279,'Ligue 1'!G293,'Ligue 1'!F311,'Ligue 1'!G317,'Ligue 1'!F333,'Ligue 1'!G341,'Ligue 1'!F354,'Ligue 1'!F369,'Ligue 1'!G375,'Ligue 1'!F391,'Ligue 1'!G402,'Ligue 1'!F412,'Ligue 1'!G425,'Ligue 1'!F438,'Ligue 1'!G449) -> 6 | AU5: =AS5-AT5 -> -5 | AV5: =INDEX($E$2:$E$21,MATCH(C5,$D$2:$D$21,0)) -> Lyon | AW5: =INDEX($AR$2:$AR$21,MATCH(C5,$D$2:$D$21,0)) -> 6 | AX5: =INDEX($AS$2:$AS$21,MATCH(C5,$D$2:$D$21,0)) -> 6 | AY5: =INDEX($AT$2:$AT$21,MATCH(C5,$D$2:$D$21,0)) -> 3 | AZ5: =INDEX($AU$2:$AU$21,MATCH(C5,$D$2:$D$21,0)) -> 3
B6: 5 | C6: =LARGE($D$2:$D$21,5) -> 5.4683333 | D6: =AR6+(((AS6*2.14)+AU6-AT6)/6)+0.49 -> 3.06 | E6: ='Ligue 1'!E7 -> Dijon | F6: =IF('Ligue 1'!G7>'Ligue 1'!F7,3,IF(AND(ISNUMBER('Ligue 1'!G7),ISNUMBER('Ligue 1'!F7),'Ligue 1'!G7='Ligue 1'!F7),1,0)) -> 1 | G6: =IF('Ligue 1'!F17>'Ligue 1'!G17,3,IF(AND(ISNUMBER('Ligue 1'!F17),ISNUMBER('Ligue 1'!G17),'Ligue 1'!F17='Ligue 1'!G17),1,0)) -> 1 | H6: =IF('Ligue 1'!G34>'Ligue 1'!F34,3,IF(AND(ISNUMBER('Ligue 1'!G34),ISNUMBER('Ligue 1'!F34),'Ligue 1'!G34='Ligue 1'!F34),1,0)) -> 0 | I6: =IF('Ligue 1'!F40>'Ligue 1'!G40,3,IF(AND(ISNUMBER('Ligue 1'!F40),ISNUMBER('Ligue 1'!G40),'Ligue 1'!F40='Ligue 1'!G40),1,0)) -> 0 | J6: =IF('Ligue 1'!F54>'Ligue 1'!G54,3,IF(AND(ISNUMBER('Ligue 1'!F54),ISNUMBER('Ligue 1'!G54),'Ligue 1'!F54='Ligue 1'!G54),1,0)) -> 0 | K6: =IF('Ligue 1'!G68>'Ligue 1'!F68,3,IF(AND(ISNUMBER('Ligue 1'!G68),ISNUMBER('Ligue 1'!F68),'Ligue 1'!G68='Ligue 1'!F68),1,0)) -> 0 | L6: =IF('Ligue 1'!F78>'Ligue 1'!G78,3,IF(AND(ISNUMBER('Ligue 1'!F78),ISNUMBER('Ligue 1'!G78),'Ligue 1'!F78='Ligue 1'!G78),1,0)) -> 0 | M6: =IF('Ligue 1'!G96>'Ligue 1'!F96,3,IF(AND(ISNUMBER('Ligue 1'!G96),ISNUMBER('Ligue 1'!F96),'Ligue 1'!G96='Ligue 1'!F96),1,0)) -> 0 | N6: =IF('Ligue 1'!G99>'Ligue 1'!F99,3,IF(AND(ISNUMBER('Ligue 1'!G99),ISNUMBER('Ligue 1'!F99),'Ligue 1'!G99='Ligue 1'!F99),1,0)) -> 0 | O6: =IF('Ligue 1'!F112>'Ligue 1'!G112,3,IF(AND(ISNUMBER('Ligue 1'!F112),ISNUMBER('Ligue 1'!G112),'Ligue 1'!F112='Ligue 1'!G112),1,0)) -> 0 | P6: =IF('Ligue 1'!G128>'Ligue 1'!F128,3,IF(AND(ISNUMBER('Ligue 1'!G128),ISNUMBER('Ligue 1'!F128),'Ligue 1'!G128='Ligue 1'!F128),1,0)) -> 0 | Q6: =IF('Ligue 1'!F132>'Ligue 1'!G132,3,IF(AND(ISNUMBER('Ligue 1'!F132),ISNUMBER('Ligue 1'!G132),'Ligue 1'!F132='Ligue 1'!G132),1,0)) -> 0 | R6: =IF('Ligue 1'!G151>'Ligue 1'!F151,3,IF(AND(ISNUMBER('Ligue 1'!G151),ISNUMBER('Ligue 1'!F151),'Ligue 1'!G151='Ligue 1'!F151),1,0)) -> 0 | S6: =IF('Ligue 1'!F161>'Ligue 1'!G161,3,IF(AND(ISNUMBER('Ligue 1'!F161),ISNUMBER('Ligue 1'!G161),'Ligue 1'!F161='Ligue 1'!G161),1,0)) -> 0 | T6: =IF('Ligue 1'!G180>'Ligue 1'!F180,3,IF(AND(ISNUMBER('Ligue 1'!G180),ISNUMBER('Ligue 1'!F180),'Ligue 1'!G180='Ligue 1'!F180),1,0)) -> 0 | U6: =IF('Ligue 1'!F186>'Ligue 1'!G186,3,IF(AND(ISNUMBER('Ligue 1'!F186),ISNUMBER('Ligue 1'!G186),'Ligue 1'!F186='Ligue 1'!G186),1,0)) -> 0 | V6: =IF('Ligue 1'!G201>'Ligue 1'!F201,3,IF(AND(ISNUMBER('Ligue 1'!G201),ISNUMBER('Ligue 1'!F201),'Ligue 1'!G201='Ligue 1'!F201),1,0)) -> 0 | W6: =IF('Ligue 1'!F209>'Ligue 1'!G209,3,IF(AND(ISNUMBER('Ligue 1'!F209),ISNUMBER('Ligue 1'!G209),'Ligue 1'!F209='Ligue 1'!G209),1,0)) -> 0 | X6: =IF('Ligue 1'!G227>'Ligue 1'!F227,3,IF(AND(ISNUMBER('Ligue 1'!G227),ISNUMBER('Ligue 1'!F227),'Ligue 1'!G227='Ligue 1'!F227),1,0)) -> 0 | Y6: =IF('Ligue 1'!F233>'Ligue 1'!G233,3,IF(AND(ISNUMBER('Ligue 1'!F233),ISNUMBER('Ligue 1'!G233),'Ligue 1'!F233='Ligue 1'!G233),1,0)) -> 0 | Z6: =IF('Ligue 1'!G244>'Ligue 1'!F244,3,IF(AND(ISNUMBER('Ligue 1'!G244),ISNUMBER('Ligue 1'!F244),'Ligue 1'!G244='Ligue 1'!F244),1,0)) -> 0 | AA6: =IF('Ligue 1'!F256>'Ligue 1'!G256,3,IF(AND(ISNUMBER('Ligue 1'!F256),ISNUMBER('Ligue 1'!G256),'Ligue 1'!F256='Ligue 1'!G256),1,0)) -> 0 | AB6: =IF('Ligue 1'!G267>'Ligue 1'!F267,3,IF(AND(ISNUMBER('Ligue 1'!G267),ISNUMBER('Ligue 1'!F267),'Ligue 1'!G267='Ligue 1'!F267),1,0)) -> 0 | AC6: =IF('Ligue 1'!F280>'Ligue 1'!G280,3,IF(AND(ISNUMBER('Ligue 1'!F280),ISNUMBER('Ligue 1'!G280),'Ligue 1'!F280='Ligue 1'!G280),1,0)) -> 0 | AD6: =IF('Ligue 1'!G298>'Ligue 1'!F298,3,IF(AND(ISNUMBER('Ligue 1'!G298),ISNUMBER('Ligue 1'!F298),'Ligue 1'!G298='Ligue 1'!F298),1,0)) -> 0 | AE6: =IF('Ligue 1'!F304>'Ligue 1'!G304,3,IF(AND(ISNUMBER('Ligue 1'!F304),ISNUMBER('Ligue 1'!G304),'Ligue 1'!F304='Ligue 1'!G304),1,0)) -> 0 | AF6: =IF('Ligue 1'!G319>'Ligue 1'!F319,3,IF(AND(ISNUMBER('Ligue 1'!G319),ISNUMBER('Ligue 1'!F319),'Ligue 1'!G319='Ligue 1'!F319),1,0)) -> 0 | AG6: =IF('Ligue 1'!F328>'Ligue 1'!G328,3,IF(AND(ISNUMBER('Ligue 1'!F328),ISNUMBER('Ligue 1'!G328),'Ligue 1'!F328='Ligue 1'!G328),1,0)) -> 0 | AH6: =IF('Ligue 1'!G342>'Ligue 1'!F342,3,IF(AND(ISNUMBER('Ligue 1'!G342),ISNUMBER('Ligue 1'!F342),'Ligue 1'!G342='Ligue 1'!F342),1,0)) -> 0 | AI6: =IF('Ligue 1'!F352>'Ligue 1'!G352,3,IF(AND(ISNUMBER('Ligue 1'!F352),ISNUMBER('Ligue 1'!G352),'Ligue 1'!F352='Ligue 1'!G352),1,0)) -> 0 | AJ6: =IF('Ligue 1'!G367>'Ligue 1'!F367,3,IF(AND(ISNUMBER('Ligue 1'!G367),ISNUMBER('Ligue 1'!F367),'Ligue 1'!G367='Ligue 1'!F367),1,0)) -> 0 | AK6: =IF('Ligue 1'!F376>'Ligue 1'!G376,3,IF(AND(ISNUMBER('Ligue 1'!F376),ISNUMBER('Ligue 1'!G376),'Ligue 1'!F376='Ligue 1'!G376),1,0)) -> 0 | AL6: =IF('Ligue 1'!F387>'Ligue 1'!G387,3,IF(AND(ISNUMBER('Ligue 1'!F387),ISNUMBER('Ligue 1'!G387),'Ligue 1'!F387='Ligue 1'!G387),1,0)) -> 0 | AM6: =IF('Ligue 1'!G402>'Ligue 1'!F402,3,IF(AND(ISNUMBER('Ligue 1'!G402),ISNUMBER('Ligue 1'!F402),'Ligue 1'!G402='Ligue 1'!F402),1,0)) -> 0 | AN6: =IF('Ligue 1'!G416>'Ligue 1'!F416,3,IF(AND(ISNUMBER('Ligue 1'!G416),ISNUMBER('Ligue 1'!F416),'Ligue 1'!G416='Ligue 1'!F416),1,0)) -> 0 | AO6: =IF('Ligue 1'!F426>'Ligue 1'!G426,3,IF(AND(ISNUMBER('Ligue 1'!F426),ISNUMBER('Ligue 1'!G426),'Ligue 1'!F426='Ligue 1'!G426),1,0)) -> 0 | AP6: =IF('Ligue 1'!G441>'Ligue 1'!F441,3,IF(AND(ISNUMBER('Ligue 1'!G441),ISNUMBER('Ligue 1'!F441),'Ligue 1'!G441='Ligue 1'!F441),1,0)) -> 0 | AQ6: =IF('Ligue 1'!F450>'Ligue 1'!G450,3,IF(AND(ISNUMBER('Ligue 1'!F450),ISNUMBER('Ligue 1'!G450),'Ligue 1'!F450='Ligue 1'!G450),1,0)) -> 0 | AR6: =SUM(F6:AQ6) -> 2 | AS6: =SUM('Ligue 1'!G7,'Ligue 1'!F17,'Ligue 1'!G34,'Ligue 1'!F40,'Ligue 1'!F54,'Ligue 1'!G68,'Ligue 1'!F78,'Ligue 1'!G96,'Ligue 1'!G99,'Ligue 1'!F112,'Ligue 1'!G128,'Ligue 1'!F136,'Ligue 1'!G151,'Ligue 1'!F161,'Ligue 1'!G180,'Ligue 1'!F186,'Ligue 1'!G201,'Ligue 1'!F209,'Ligue 1'!G227,'Ligue 1'!F233,'Ligue 1'!G244,'Ligue 1'!F256,'Ligue 1'!G267,'Ligue 1'!F280,'Ligue 1'!G298,'Ligue 1'!F304,'Ligue 1'!G319,'Ligue 1'!F328,'Ligue 1'!G342,'Ligue 1'!F352,'Ligue 1'!G367,'Ligue 1'!F376,'Ligue 1'!F387,'Ligue 1'!G402,'Ligue 1'!G416,'Ligue 1'!F426,'Ligue 1'!G441,'Ligue 1'!F450) -> 3 | AT6: =SUM('Ligue 1'!F7,'Ligue 1'!G17,'Ligue 1'!F34,'Ligue 1'!G40,'Ligue 1'!G54,'Ligue 1'!F68,'Ligue 1'!G78,'Ligue 1'!F96,'Ligue 1'!F99,'Ligue 1'!G112,'Ligue 1'!F128,'Ligue 1'!G136,'Ligue 1'!F151,'Ligue 1'!G161,'Ligue 1'!F180,'Ligue 1'!G186,'Ligue 1'!F201,'Ligue 1'!G209,'Ligue 1'!F227,'Ligue 1'!G233,'Ligue 1'!F244,'Ligue 1'!G256,'Ligue 1'!F267,'Ligue 1'!G280,'Ligue 1'!F298,'Ligue 1'!G304,'Ligue 1'!F319,'Ligue 1'!G328,'Ligue 1'!F342,'Ligue 1'!G352,'Ligue 1'!F367,'Ligue 1'!G376,'Ligue 1'!G387,'Ligue 1'!F402,'Ligue 1'!F416,'Ligue 1'!G426,'Ligue 1'!F441,'Ligue 1'!G450) -> 3 | AU6: =AS6-AT6 -> 0 | AV6: =INDEX($E$2:$E$21,MATCH(C6,$D$2:$D$21,0)) -> Monaco | AW6: =INDEX($AR$2:$AR$21,MATCH(C6,$D$2:$D$21,0)) -> 4 | AX6: =INDEX($AS$2:$AS$21,MATCH(C6,$D$2:$D$21,0)) -> 3 | AY6: =INDEX($AT$2:$AT$21,MATCH(C6,$D$2:$D$21,0)) -> 2 | AZ6: =INDEX($AU$2:$AU$21,MATCH(C6,$D$2:$D$21,0)) -> 1
B7: 6 | C7: =LARGE($D$2:$D$21,6) -> 4.4233333 | D7: =AR7+(((AS7*2.15)+AU7-AT7)/6)+0.5 -> 3.55 | E7: ='Ligue 1'!E9 -> Guingamp | F7: =IF('Ligue 1'!G9>'Ligue 1'!F9,3,IF(AND(ISNUMBER('Ligue 1'!G9),ISNUMBER('Ligue 1'!F9),'Ligue 1'!G9='Ligue 1'!F9),1,0)) -> 3 | G7: =IF('Ligue 1'!F18>'Ligue 1'!G18,3,IF(AND(ISNUMBER('Ligue 1'!F18),ISNUMBER('Ligue 1'!G18),'Ligue 1'!F18='Ligue 1'!G18),1,0)) -> 0 | H7: =IF('Ligue 1'!G29>'Ligue 1'!F29,3,IF(AND(ISNUMBER('Ligue 1'!G29),ISNUMBER('Ligue 1'!F29),'Ligue 1'!G29='Ligue 1'!F29),1,0)) -> 0 | I7: =IF('Ligue 1'!F41>'Ligue 1'!G41,3,IF(AND(ISNUMBER('Ligue 1'!F41),ISNUMBER('Ligue 1'!G41),'Ligue 1'!F41='Ligue 1'!G41),1,0)) -> 0 | J7: =IF('Ligue 1'!G55>'Ligue 1'!F55,3,IF(AND(ISNUMBER('Ligue 1'!G55),ISNUMBER('Ligue 1'!F55),'Ligue 1'!G55='Ligue 1'!F55),1,0)) -> 0 | K7: =IF('Ligue 1'!F64>'Ligue 1'!G64,3,IF(AND(ISNUMBER('Ligue 1'!F64),ISNUMBER('Ligue 1'!G64),'Ligue 1'!F64='Ligue 1'!G64),1,0)) -> 0 | L7: =IF('Ligue 1'!G82>'Ligue 1'!F82,3,IF(AND(ISNUMBER('Ligue 1'!G82),ISNUMBER('Ligue 1'!F82),'Ligue 1'!G82='Ligue 1'!F82),1,0)) -> 0 | M7: =IF('Ligue 1'!G87>'Ligue 1'!F87,3,IF(AND(ISNUMBER('Ligue 1'!G87),ISNUMBER('Ligue 1'!F87),'Ligue 1'!G87='Ligue 1'!F87),1,0)) -> 0 | N7: =IF('Ligue 1'!F102>'Ligue 1'!G102,3,IF(AND(ISNUMBER('Ligue 1'!F102),ISNUMBER('Ligue 1'!G102),'Ligue 1'!F102='Ligue 1'!G102),1,0)) -> 0 | O7: =IF('Ligue 1'!G111>'Ligue 1'!F111,3,IF(AND(ISNUMBER('Ligue 1'!G111),ISNUMBER('Ligue 1'!F111),'Ligue 1'!G111='Ligue 1'!F111),1,0)) -> 0 | P7: =IF('Ligue 1'!F126>'Ligue 1'!G126,3,IF(AND(ISNUMBER('Ligue 1'!F126),ISNUMBER('Ligue 1'!G126),'Ligue 1'!F126='Ligue 1'!G126),1,0)) -> 0 | Q7: =IF('Ligue 1'!G139>'Ligue 1'!F139,3,IF(AND(ISNUMBER('Ligue 1'!G139),ISNUMBER('Ligue 1'!F139),'Ligue 1'!G139='Ligue 1'!F139),1,0)) -> 0 | R7: =IF('Ligue 1'!F149>'Ligue 1'!G149,3,IF(AND(ISNUMBER('Ligue 1'!F149),ISNUMBER('Ligue 1'!G149),'Ligue 1'!F149='Ligue 1'!G149),1,0)) -> 0 | S7: =IF('Ligue 1'!G167>'Ligue 1'!F167,3,IF(AND(ISNUMBER('Ligue 1'!G167),ISNUMBER('Ligue 1'!F167),'Ligue 1'!G167='Ligue 1'!F167),1,0)) -> 0 | T7: =IF('Ligue 1'!F173>'Ligue 1'!G173,3,IF(AND(ISNUMBER('Ligue 1'!F173),ISNUMBER('Ligue 1'!G173),'Ligue 1'!F173='Ligue 1'!G173),1,0)) -> 0 | U7: =IF('Ligue 1'!G186>'Ligue 1'!F186,3,IF(AND(ISNUMBER('Ligue 1'!G186),ISNUMBER('Ligue 1'!F186),'Ligue 1'!G186='Ligue 1'!F186),1,0)) -> 0 | V7: =IF('Ligue 1'!F196>'Ligue 1'!G196,3,IF(AND(ISNUMBER('Ligue 1'!F196),ISNUMBER('Ligue 1'!G196),'Ligue 1'!F196='Ligue 1'!G196),1,0)) -> 0 | W7: =IF('Ligue 1'!F210>'Ligue 1'!G210,3,IF(AND(ISNUMBER('Ligue 1'!F210),ISNUMBER('Ligue 1'!G210),'Ligue 1'!F210='Ligue 1'!G210),1,0)) -> 0 | X7: =IF('Ligue 1'!G222>'Ligue 1'!F222,3,IF(AND(ISNUMBER('Ligue 1'!G222),ISNUMBER('Ligue 1'!F222),'Ligue 1'!G222='Ligue 1'!F222),1,0)) -> 0 | Y7: =IF('Ligue 1'!F234>'Ligue 1'!G234,3,IF(AND(ISNUMBER('Ligue 1'!F234),ISNUMBER('Ligue 1'!G234),'Ligue 1'!F234='Ligue 1'!G234),1,0)) -> 0 | Z7: =IF('Ligue 1'!G249>'Ligue 1'!F249,3,IF(AND(ISNUMBER('Ligue 1'!G249),ISNUMBER('Ligue 1'!F249),'Ligue 1'!G249='Ligue 1'!F249),1,0)) -> 0 | AA7: =IF('Ligue 1'!F257>'Ligue 1'!G257,3,IF(AND(ISNUMBER('Ligue 1'!F257),ISNUMBER('Ligue 1'!G257),'Ligue 1'!F257='Ligue 1'!G257),1,0)) -> 0 | AB7: =IF('Ligue 1'!G268>'Ligue 1'!F268,3,IF(AND(ISNUMBER('Ligue 1'!G268),ISNUMBER('Ligue 1'!F268),'Ligue 1'!G268='Ligue 1'!F268),1,0)) -> 0 | AC7: =IF('Ligue 1'!F281>'Ligue 1'!G281,3,IF(AND(ISNUMBER('Ligue 1'!F281),ISNUMBER('Ligue 1'!G281),'Ligue 1'!F281='Ligue 1'!G281),1,0)) -> 0 | AD7: =IF('Ligue 1'!G295>'Ligue 1'!F295,3,IF(AND(ISNUMBER('Ligue 1'!G295),ISNUMBER('Ligue 1'!F295),'Ligue 1'!G295='Ligue 1'!F295),1,0)) -> 0 | AE7: =IF('Ligue 1'!F305>'Ligue 1'!G305,3,IF(AND(ISNUMBER('Ligue 1'!F305),ISNUMBER('Ligue 1'!G305),'Ligue 1'!F305='Ligue 1'!G305),1,0)) -> 0 | AF7: =IF('Ligue 1'!F318>'Ligue 1'!G318,3,IF(AND(ISNUMBER('Ligue 1'!F318),ISNUMBER('Ligue 1'!G318),'Ligue 1'!F318='Ligue 1'!G318),1,0)) -> 0 | AG7: =IF('Ligue 1'!G336>'Ligue 1'!F336,3,IF(AND(ISNUMBER('Ligue 1'!G336),ISNUMBER('Ligue 1'!F336),'Ligue 1'!G336='Ligue 1'!F336),1,0)) -> 0 | AH7: =IF('Ligue 1'!F342>'Ligue 1'!G342,3,IF(AND(ISNUMBER('Ligue 1'!F342),ISNUMBER('Ligue 1'!G342),'Ligue 1'!F342='Ligue 1'!G342),1,0)) -> 0 | AI7: =IF('Ligue 1'!G355>'Ligue 1'!F355,3,IF(AND(ISNUMBER('Ligue 1'!G355),ISNUMBER('Ligue 1'!F355),'Ligue 1'!G355='Ligue 1'!F355),1,0)) -> 0 | AJ7: =IF('Ligue 1'!F366>'Ligue 1'!G366,3,IF(AND(ISNUMBER('Ligue 1'!F366),ISNUMBER('Ligue 1'!G366),'Ligue 1'!F366='Ligue 1'!G366),1,0)) -> 0 | AK7: =IF('Ligue 1'!G384>'Ligue 1'!F384,3,IF(AND(ISNUMBER('Ligue 1'!G384),ISNUMBER('Ligue 1'!F384),'Ligue 1'!G384='Ligue 1'!F384),1,0)) -> 0 | AL7: =IF('Ligue 1'!F388>'Ligue 1'!G388,3,IF(AND(ISNUMBER('Ligue 1'!F388),ISNUMBER('Ligue 1'!G388),'Ligue 1'!F388='Ligue 1'!G388),1,0)) -> 0 | AM7: =IF('Ligue 1'!G406>'Ligue 1'!F406,3,IF(AND(ISNUMBER('Ligue 1'!G406),ISNUMBER('Ligue 1'!F406),'Ligue 1'!G406='Ligue 1'!F406),1,0)) -> 0 | AN7: =IF('Ligue 1'!F412>'Ligue 1'!G412,3,IF(AND(ISNUMBER('Ligue 1'!F412),ISNUMBER('Ligue 1'!G412),'Ligue 1'!F412='Ligue 1'!G412),1,0)) -> 0 | AO7: =IF('Ligue 1'!G430>'Ligue 1'!F430,3,IF(AND(ISNUMBER('Ligue 1'!G430),ISNUMBER('Ligue 1'!F430),'Ligue 1'!G430='Ligue 1'!F430),1,0)) -> 0 | AP7: =IF('Ligue 1'!F436>'Ligue 1'!G436,3,IF(AND(ISNUMBER('Ligue 1'!F436),ISNUMBER('Ligue 1'!G436),'Ligue 1'!F436='Ligue 1'!G436),1,0)) -> 0 | AQ7: =IF('Ligue 1'!G447>'Ligue 1'!F447,3,IF(AND(ISNUMBER('Ligue 1'!G447),ISNUMBER('Ligue 1'!F447),'Ligue 1'!G447='Ligue 1'!F447),1,0)) -> 0 | AR7: =SUM(F7:AQ7) -> 3 | AS7: =SUM('Ligue 1'!G9,'Ligue 1'!F18,'Ligue 1'!G29,'Ligue 1'!F41,'Ligue 1'!G55,'Ligue 1'!F64,'Ligue 1'!G82,'Ligue 1'!G87,'Ligue 1'!F102,'Ligue 1'!G111,'Ligue 1'!F126,'Ligue 1'!G139,'Ligue 1'!F149,'Ligue 1'!G167,'Ligue 1'!F173,'Ligue 1'!G186,'Ligue 1'!F196,'Ligue 1'!F210,'Ligue 1'!G222,'Ligue 1'!F234,'Ligue 1'!G249,'Ligue 1'!F257,'Ligue 1'!G268,'Ligue 1'!F281,'Ligue 1'!G295,'Ligue 1'!F305,'Ligue 1'!F318,'Ligue 1'!G336,'Ligue 1'!F342,'Ligue 1'!G355,'Ligue 1'!F366,'Ligue 1'!G384,'Ligue 1'!F388,'Ligue 1'!G406,'Ligue 1'!F412,'Ligue 1'!G430,'Ligue 1'!F436,'Ligue 1'!G447) -> 2 | AT7: =SUM('Ligue 1'!F9,'Ligue 1'!G18,'Ligue 1'!F29,'Ligue 1'!G41,'Ligue 1'!F55,'Ligue 1'!G64,'Ligue 1'!F82,'Ligue 1'!F87,'Ligue 1'!G102,'Ligue 1'!F111,'Ligue 1'!G126,'Ligue 1'!F139,'Ligue 1'!G149,'Ligue 1'!F167,'Ligue 1'!G173,'Ligue 1'!F186,'Ligue 1'!G196,'Ligue 1'!G210,'Ligue 1'!F222,'Ligue 1'!G234,'Ligue 1'!F249,'Ligue 1'!G257,'Ligue 1'!F268,'Ligue 1'!G281,'Ligue 1'!F295,'Ligue 1'!G305,'Ligue 1'!G318,'Ligue 1'!F336,'Ligue 1'!G342,'Ligue 1'!F355,'Ligue 1'!G366,'Ligue 1'!F384,'Ligue 1'!G388,'Ligue 1'!F406,'Ligue 1'!G412,'Ligue 1'!F430,'Ligue 1'!G436,'Ligue 1'!F447) -> 3 | AU7: =AS7-AT7 -> -1 | AV7: =INDEX($E$2:$E$21,MATCH(C7,$D$2:$D$21,0)) -> Lille | AW7: =INDEX($AR$2:$AR$21,MATCH(C7,$D$2:$D$21,0)) -> 3 | AX7: =INDEX($AS$2:$AS$21,MATCH(C7,$D$2:$D$21,0)) -> 3 | AY7: =INDEX($AT$2:$AT$21,MATCH(C7,$D$2:$D$21,0)) -> 2 | AZ7: =INDEX($AU$2:$AU$21,MATCH(C7,$D$2:$D$21,0)) -> 1
B8: 7 | C8: =LARGE($D$2:$D$21,7) -> 4.03 | D8: =AR8+(((AS8*2.16)+AU8-AT8)/6)+0.51 -> 4.4233333 | E8: ='Ligue 1'!D6 -> Lille | F8: =IF('Ligue 1'!F6>'Ligue 1'!G6,3,IF(AND(ISNUMBER('Ligue 1'!F6),ISNUMBER('Ligue 1'!G6),'Ligue 1'!F6='Ligue 1'!G6),1,0)) -> 3 | G8: =IF('Ligue 1'!G19>'Ligue 1'!F19,3,IF(AND(ISNUMBER('Ligue 1'!G19),ISNUMBER('Ligue 1'!F19),'Ligue 1'!G19='Ligue 1'!F19),1,0)) -> 0 | H8: =IF('Ligue 1'!F29>'Ligue 1'!G29,3,IF(AND(ISNUMBER('Ligue 1'!F29),ISNUMBER('Ligue 1'!G29),'Ligue 1'!F29='Ligue 1'!G29),1,0)) -> 0 | I8: =IF('Ligue 1'!G39>'Ligue 1'!F39,3,IF(AND(ISNUMBER('Ligue 1'!G39),ISNUMBER('Ligue 1'!F39),'Ligue 1'!G39='Ligue 1'!F39),1,0)) -> 0 | J8: =IF('Ligue 1'!G51>'Ligue 1'!F51,3,IF(AND(ISNUMBER('Ligue 1'!G51),ISNUMBER('Ligue 1'!F51),'Ligue 1'!G51='Ligue 1'!F51),1,0)) -> 0 | K8: =IF('Ligue 1'!F65>'Ligue 1'!G65,3,IF(AND(ISNUMBER('Ligue 1'!F65),ISNUMBER('Ligue 1'!G65),'Ligue 1'!F65='Ligue 1'!G65),1,0)) -> 0 | L8: =IF('Ligue 1'!G76>'Ligue 1'!F76,3,IF(AND(ISNUMBER('Ligue 1'!G76),ISNUMBER('Ligue 1'!F76),'Ligue 1'!G76='Ligue 1'!F76),1,0)) -> 0 | M8: =IF('Ligue 1'!F89>'Ligue 1'!G89,3,IF(AND(ISNUMBER('Ligue 1'!F89),ISNUMBER('Ligue 1'!G89),'Ligue 1'!F89='Ligue 1'!G89),1,0)) -> 0 | N8: =IF('Ligue 1'!F103>'Ligue 1'!G103,3,IF(AND(ISNUMBER('Ligue 1'!F103),ISNUMBER('Ligue 1'!G103),'Ligue 1'!F103='Ligue 1'!G103),1,0)) -> 0 | O8: =IF('Ligue 1'!G112>'Ligue 1'!F112,3,IF(AND(ISNUMBER('Ligue 1'!G112),ISNUMBER('Ligue 1'!F112),'Ligue 1'!G112='Ligue 1'!F112),1,0)) -> 0 | P8: =IF('Ligue 1'!F127>'Ligue 1'!G127,3,IF(AND(ISNUMBER('Ligue 1'!F127),ISNUMBER('Ligue 1'!G127),'Ligue 1'!F127='Ligue 1'!G127),1,0)) -> 0 | Q8: =IF('Ligue 1'!G141>'Ligue 1'!F141,3,IF(AND(ISNUMBER('Ligue 1'!G141),ISNUMBER('Ligue 1'!F141),'Ligue 1'!G141='Ligue 1'!F141),1,0)) -> 0 | R8: =IF('Ligue 1'!F150>'Ligue 1'!G150,3,IF(AND(ISNUMBER('Ligue 1'!F150),ISNUMBER('Ligue 1'!G150),'Ligue 1'!F150='Ligue 1'!G150),1,0)) -> 0 | S8: =IF('Ligue 1'!G165>'Ligue 1'!F165,3,IF(AND(ISNUMBER('Ligue 1'!G165),ISNUMBER('Ligue 1'!F165),'Ligue 1'!G165='Ligue 1'!F165),1,0)) -> 0 | T8: =IF('Ligue 1'!F174>'Ligue 1'!G174,3,IF(AND(ISNUMBER('Ligue 1'!F174),ISNUMBER('Ligue 1'!G174),'Ligue 1'!F174='Ligue 1'!G174),1,0)) -> 0 | U8: =IF('Ligue 1'!G188>'Ligue 1'!F188,3,IF(AND(ISNUMBER('Ligue 1'!G188),ISNUMBER('Ligue 1'!F188),'Ligue 1'!G188='Ligue 1'!F188),1,0)) -> 0 | V8: =IF('Ligue 1'!F197>'Ligue 1'!G197,3,IF(AND(ISNUMBER('Ligue 1'!F197),ISNUMBER('Ligue 1'!G197),'Ligue 1'!F197='Ligue 1'!G197),1,0)) -> 0 | W8: =IF('Ligue 1'!G215>'Ligue 1'!F215,3,IF(AND(ISNUMBER('Ligue 1'!G215),ISNUMBER('Ligue 1'!F215),'Ligue 1'!G215='Ligue 1'!F215),1,0)) -> 0 | X8: =IF('Ligue 1'!F221>'Ligue 1'!G221,3,IF(AND(ISNUMBER('Ligue 1'!F221),ISNUMBER('Ligue 1'!G221),'Ligue 1'!F221='Ligue 1'!G221),1,0)) -> 0 | Y8: =IF('Ligue 1'!G232>'Ligue 1'!F232,3,IF(AND(ISNUMBER('Ligue 1'!G232),ISNUMBER('Ligue 1'!F232),'Ligue 1'!G232='Ligue 1'!F232),1,0)) -> 0 | Z8: =IF('Ligue 1'!F246>'Ligue 1'!G246,3,IF(AND(ISNUMBER('Ligue 1'!F246),ISNUMBER('Ligue 1'!G246),'Ligue 1'!F246='Ligue 1'!G246),1,0)) -> 0 | AA8: =IF('Ligue 1'!G258>'Ligue 1'!F258,3,IF(AND(ISNUMBER('Ligue 1'!G258),ISNUMBER('Ligue 1'!F258),'Ligue 1'!G258='Ligue 1'!F258),1,0)) -> 0 | AB8: =IF('Ligue 1'!F270>'Ligue 1'!G270,3,IF(AND(ISNUMBER('Ligue 1'!F270),ISNUMBER('Ligue 1'!G270),'Ligue 1'!F270='Ligue 1'!G270),1,0)) -> 0 | AC8: =IF('Ligue 1'!G281>'Ligue 1'!F281,3,IF(AND(ISNUMBER('Ligue 1'!G281),ISNUMBER('Ligue 1'!F281),'Ligue 1'!G281='Ligue 1'!F281),1,0)) -> 0 | AD8: =IF('Ligue 1'!F294>'Ligue 1'!G294,3,IF(AND(ISNUMBER('Ligue 1'!F294),ISNUMBER('Ligue 1'!G294),'Ligue 1'!F294='Ligue 1'!G294),1,0)) -> 0 | AE8: =IF('Ligue 1'!G310>'Ligue 1'!F310,3,IF(AND(ISNUMBER('Ligue 1'!G310),ISNUMBER('Ligue 1'!F310),'Ligue 1'!G310='Ligue 1'!F310),1,0)) -> 0 | AF8: =IF('Ligue 1'!F319>'Ligue 1'!G319,3,IF(AND(ISNUMBER('Ligue 1'!F319),ISNUMBER('Ligue 1'!G319),'Ligue 1'!F319='Ligue 1'!G319),1,0)) -> 0 | AG8: =IF('Ligue 1'!G334>'Ligue 1'!F334,3,IF(AND(ISNUMBER('Ligue 1'!G334),ISNUMBER('Ligue 1'!F334),'Ligue 1'!G334='Ligue 1'!F334),1,0)) -> 0 | AH8: =IF('Ligue 1'!F343>'Ligue 1'!G343,3,IF(AND(ISNUMBER('Ligue 1'!F343),ISNUMBER('Ligue 1'!G343),'Ligue 1'!F343='Ligue 1'!G343),1,0)) -> 0 | AI8: =IF('Ligue 1'!G356>'Ligue 1'!F356,3,IF(AND(ISNUMBER('Ligue 1'!G356),ISNUMBER('Ligue 1'!F356),'Ligue 1'!G356='Ligue 1'!F356),1,0)) -> 0 | AJ8: =IF('Ligue 1'!G371>'Ligue 1'!F371,3,IF(AND(ISNUMBER('Ligue 1'!G371),ISNUMBER('Ligue 1'!F371),'Ligue 1'!G371='Ligue 1'!F371),1,0)) -> 0 | AK8: =IF('Ligue 1'!F377>'Ligue 1'!G377,3,IF(AND(ISNUMBER('Ligue 1'!F377),ISNUMBER('Ligue 1'!G377),'Ligue 1'!F377='Ligue 1'!G377),1,0)) -> 0 | AL8: =IF('Ligue 1'!G395>'Ligue 1'!F395,3,IF(AND(ISNUMBER('Ligue 1'!G395),ISNUMBER('Ligue 1'!F395),'Ligue 1'!G395='Ligue 1'!F395),1,0)) -> 0 | AM8: =IF('Ligue 1'!F403>'Ligue 1'!G403,3,IF(AND(ISNUMBER('Ligue 1'!F403),ISNUMBER('Ligue 1'!G403),'Ligue 1'!F403='Ligue 1'!G403),1,0)) -> 0 | AN8: =IF('Ligue 1'!G413>'Ligue 1'!F413,3,IF(AND(ISNUMBER('Ligue 1'!G413),ISNUMBER('Ligue 1'!F413),'Ligue 1'!G413='Ligue 1'!F413),1,0)) -> 0 | AO8: =IF('Ligue 1'!F427>'Ligue 1'!G427,3,IF(AND(ISNUMBER('Ligue 1'!F427),ISNUMBER('Ligue 1'!G427),'Ligue 1'!F427='Ligue 1'!G427),1,0)) -> 0 | AP8: =IF('Ligue 1'!F437>'Ligue 1'!G437,3,IF(AND(ISNUMBER('Ligue 1'!F437),ISNUMBER('Ligue 1'!G437),'Ligue 1'!F437='Ligue 1'!G437),1,0)) -> 0 | AQ8: =IF('Ligue 1'!G456>'Ligue 1'!F456,3,IF(AND(ISNUMBER('Ligue 1'!G456),ISNUMBER('Ligue 1'!F456),'Ligue 1'!G456='Ligue 1'!F456),1,0)) -> 0 | AR8: =SUM(F8:AQ8) -> 3 | AS8: =SUM('Ligue 1'!F6,'Ligue 1'!G19,'Ligue 1'!F29,'Ligue 1'!G39,'Ligue 1'!G51,'Ligue 1'!F65,'Ligue 1'!G76,'Ligue 1'!F89,'Ligue 1'!G103,'Ligue 1'!G112,'Ligue 1'!F127,'Ligue 1'!G141,'Ligue 1'!F150,'Ligue 1'!G165,'Ligue 1'!F174,'Ligue 1'!G188,'Ligue 1'!F197,'Ligue 1'!G215,'Ligue 1'!F221,'Ligue 1'!G232,'Ligue 1'!F246,'Ligue 1'!G258,'Ligue 1'!F270,'Ligue 1'!G281,'Ligue 1'!F294,'Ligue 1'!G310,'Ligue 1'!F319,'Ligue 1'!G334,'Ligue 1'!F343,'Ligue 1'!G356,'Ligue 1'!G371,'Ligue 1'!F377,'Ligue 1'!G395,'Ligue 1'!F403,'Ligue 1'!G413,'Ligue 1'!F427,'Ligue 1'!G437,'Ligue 1'!G456) -> 3 | AT8: =SUM('Ligue 1'!G6,'Ligue 1'!F19,'Ligue 1'!G29,'Ligue 1'!F39,'Ligue 1'!F51,'Ligue 1'!G65,'Ligue 1'!F76,'Ligue 1'!G89,'Ligue 1'!G103,'Ligue 1'!F112,'Ligue 1'!G127,'Ligue 1'!F141,'Ligue 1'!G150,'Ligue 1'!F165,'Ligue 1'!G174,'Ligue 1'!F188,'Ligue 1'!G197,'Ligue 1'!F215,'Ligue 1'!G221,'Ligue 1'!F232,'Ligue 1'!G246,'Ligue 1'!F258,'Ligue 1'!G270,'Ligue 1'!F281,'Ligue 1'!G294,'Ligue 1'!F310,'Ligue 1'!G319,'Ligue 1'!F334,'Ligue 1'!G343,'Ligue 1'!F356,'Ligue 1'!F371,'Ligue 1'!G377,'Ligue 1'!F395,'Ligue 1'!G403,'Ligue 1'!F413,'Ligue 1'!G427,'Ligue 1'!G437,'Ligue 1'!F456) -> 2 | AU8: =AS8-AT8 -> 1 | AV8: =INDEX($E$2:$E$21,MATCH(C8,$D$2:$D$21,0)) -> Rennes | AW8: =INDEX($AR$2:$AR$21,MATCH(C8,$D$2:$D$21,0)) -> 3 | AX8: =INDEX($AS$2:$AS$21,MATCH(C8,$D$2:$D$21,0)) -> 2 | AY8: =INDEX($AT$2:$AT$21,MATCH(C8,$D$2:$D$21,0)) -> 2 | AZ8: =INDEX($AU$2:$AU$21,MATCH(C8,$D$2:$D$21,0)) -> 0
B9: 8 | C9: =LARGE($D$2:$D$21,8) -> 4 | D9: =AR9+(((AS9*2.17)+AU9-AT9)/6)+0.52 -> 8.69 | E9: ='Ligue 1'!D10 -> Lyon | F9: =IF('Ligue 1'!F10>'Ligue 1'!G10,3,IF(AND(ISNUMBER('Ligue 1'!F10),ISNUMBER('Ligue 1'!G10),'Ligue 1'!F10='Ligue 1'!G10),1,0)) -> 3 | G9: =IF('Ligue 1'!G21>'Ligue 1'!F21,3,IF(AND(ISNUMBER('Ligue 1'!G21),ISNUMBER('Ligue 1'!F21),'Ligue 1'!G21='Ligue 1'!F21),1,0)) -> 3 | H9: =IF('Ligue 1'!F30>'Ligue 1'!G30,3,IF(AND(ISNUMBER('Ligue 1'!F30),ISNUMBER('Ligue 1'!G30),'Ligue 1'!F30='Ligue 1'!G30),1,0)) -> 0 | I9: =IF('Ligue 1'!F42>'Ligue 1'!G42,3,IF(AND(ISNUMBER('Ligue 1'!F42),ISNUMBER('Ligue 1'!G42),'Ligue 1'!F42='Ligue 1'!G42),1,0)) -> 0 | J9: =IF('Ligue 1'!G53>'Ligue 1'!F53,3,IF(AND(ISNUMBER('Ligue 1'!G53),ISNUMBER('Ligue 1'!F53),'Ligue 1'!G53='Ligue 1'!F53),1,0)) -> 0 | K9: =IF('Ligue 1'!F72>'Ligue 1'!G72,3,IF(AND(ISNUMBER('Ligue 1'!F72),ISNUMBER('Ligue 1'!G72),'Ligue 1'!F72='Ligue 1'!G72),1,0)) -> 0 | L9: =IF('Ligue 1'!G78>'Ligue 1'!F78,3,IF(AND(ISNUMBER('Ligue 1'!G78),ISNUMBER('Ligue 1'!F78),'Ligue 1'!G78='Ligue 1'!F78),1,0)) -> 0 | M9: =IF('Ligue 1'!F90>'Ligue 1'!G90,3,IF(AND(ISNUMBER('Ligue 1'!F90),ISNUMBER('Ligue 1'!G90),'Ligue 1'!F90='Ligue 1'!G90),1,0)) -> 0 | N9: =IF('Ligue 1'!G108>'Ligue 1'!F108,3,IF(AND(ISNUMBER('Ligue 1'!G108),ISNUMBER('Ligue 1'!F108),'Ligue 1'!G108='Ligue 1'!F108),1,0)) -> 0 | O9: =IF('Ligue 1'!F113>'Ligue 1'!G113,3,IF(AND(ISNUMBER('Ligue 1'!F113),ISNUMBER('Ligue 1'!G113),'Ligue 1'!F113='Ligue 1'!G113),1,0)) -> 0 | P9: =IF('Ligue 1'!G124>'Ligue 1'!F124,3,IF(AND(ISNUMBER('Ligue 1'!G124),ISNUMBER('Ligue 1'!F124),'Ligue 1'!G124='Ligue 1'!F124),1,0)) -> 0 | Q9: =IF('Ligue 1'!F137>'Ligue 1'!G137,3,IF(AND(ISNUMBER('Ligue 1'!F137),ISNUMBER('Ligue 1'!G137),'Ligue 1'!F137='Ligue 1'!G137),1,0)) -> 0 | R9: =IF('Ligue 1'!G149>'Ligue 1'!F149,3,IF(AND(ISNUMBER('Ligue 1'!G149),ISNUMBER('Ligue 1'!F149),'Ligue 1'!G149='Ligue 1'!F149),1,0)) -> 0 | S9: =IF('Ligue 1'!F162>'Ligue 1'!G162,3,IF(AND(ISNUMBER('Ligue 1'!F162),ISNUMBER('Ligue 1'!G162),'Ligue 1'!F162='Ligue 1'!G162),1,0)) -> 0 | T9: =IF('Ligue 1'!G174>'Ligue 1'!F174,3,IF(AND(ISNUMBER('Ligue 1'!G174),ISNUMBER('Ligue 1'!F174),'Ligue 1'!G174='Ligue 1'!F174),1,0)) -> 0 | U9: =IF('Ligue 1'!F187>'Ligue 1'!G187,3,IF(AND(ISNUMBER('Ligue 1'!F187),ISNUMBER('Ligue 1'!G187),'Ligue 1'!F187='Ligue 1'!G187),1,0)) -> 0 | V9: =IF('Ligue 1'!G204>'Ligue 1'!F204,3,IF(AND(ISNUMBER('Ligue 1'!G204),ISNUMBER('Ligue 1'!F204),'Ligue 1'!G204='Ligue 1'!F204),1,0)) -> 0 | W9: =IF('Ligue 1'!F211>'Ligue 1'!G211,3,IF(AND(ISNUMBER('Ligue 1'!F211),ISNUMBER('Ligue 1'!G211),'Ligue 1'!F211='Ligue 1'!G211),1,0)) -> 0 | X9: =IF('Ligue 1'!G223>'Ligue 1'!F223,3,IF(AND(ISNUMBER('Ligue 1'!G223),ISNUMBER('Ligue 1'!F223),'Ligue 1'!G223='Ligue 1'!F223),1,0)) -> 0 | Y9: =IF('Ligue 1'!F235>'Ligue 1'!G235,3,IF(AND(ISNUMBER('Ligue 1'!F235),ISNUMBER('Ligue 1'!G235),'Ligue 1'!F235='Ligue 1'!G235),1,0)) -> 0 | Z9: =IF('Ligue 1'!G252>'Ligue 1'!F252,3,IF(AND(ISNUMBER('Ligue 1'!G252),ISNUMBER('Ligue 1'!F252),'Ligue 1'!G252='Ligue 1'!F252),1,0)) -> 0 | AA9: =IF('Ligue 1'!G255>'Ligue 1'!F255,3,IF(AND(ISNUMBER('Ligue 1'!G255),ISNUMBER('Ligue 1'!F255),'Ligue 1'!G255='Ligue 1'!F255),1,0)) -> 0 | AB9: =IF('Ligue 1'!F276>'Ligue 1'!G276,3,IF(AND(ISNUMBER('Ligue 1'!F276),ISNUMBER('Ligue 1'!G276),'Ligue 1'!F276='Ligue 1'!G276),1,0)) -> 0 | AC9: =IF('Ligue 1'!G284>'Ligue 1'!F284,3,IF(AND(ISNUMBER('Ligue 1'!G284),ISNUMBER('Ligue 1'!F284),'Ligue 1'!G284='Ligue 1'!F284),1,0)) -> 0 | AD9: =IF('Ligue 1'!F295>'Ligue 1'!G295,3,IF(AND(ISNUMBER('Ligue 1'!F295),ISNUMBER('Ligue 1'!G295),'Ligue 1'!F295='Ligue 1'!G295),1,0)) -> 0 | AE9: =IF('Ligue 1'!G312>'Ligue 1'!F312,3,IF(AND(ISNUMBER('Ligue 1'!G312),ISNUMBER('Ligue 1'!F312),'Ligue 1'!G312='Ligue 1'!F312),1,0)) -> 0 | AF9: =IF('Ligue 1'!F320>'Ligue 1'!G320,3,IF(AND(ISNUMBER('Ligue 1'!F320),ISNUMBER('Ligue 1'!G320),'Ligue 1'!F320='Ligue 1'!G320),1,0)) -> 0 | AG9: =IF('Ligue 1'!G335>'Ligue 1'!F335,3,IF(AND(ISNUMBER('Ligue 1'!G335),ISNUMBER('Ligue 1'!F335),'Ligue 1'!G335='Ligue 1'!F335),1,0)) -> 0 | AH9: =IF('Ligue 1'!F344>'Ligue 1'!G344,3,IF(AND(ISNUMBER('Ligue 1'!F344),ISNUMBER('Ligue 1'!G344),'Ligue 1'!F344='Ligue 1'!G344),1,0)) -> 0 | AI9: =IF('Ligue 1'!G357>'Ligue 1'!F357,3,IF(AND(ISNUMBER('Ligue 1'!G357),ISNUMBER('Ligue 1'!F357),'Ligue 1'!G357='Ligue 1'!F357),1,0)) -> 0 | AJ9: =IF('Ligue 1'!F367>'Ligue 1'!G367,3,IF(AND(ISNUMBER('Ligue 1'!F367),ISNUMBER('Ligue 1'!G367),'Ligue 1'!F367='Ligue 1'!G367),1,0)) -> 0 | AK9: =IF('Ligue 1'!G381>'Ligue 1'!F381,3,IF(AND(ISNUMBER('Ligue 1'!G381),ISNUMBER('Ligue 1'!F381),'Ligue 1'!G381='Ligue 1'!F381),1,0)) -> 0 | AL9: =IF('Ligue 1'!F389>'Ligue 1'!G389,3,IF(AND(ISNUMBER('Ligue 1'!F389),ISNUMBER('Ligue 1'!G389),'Ligue 1'!F389='Ligue 1'!G389),1,0)) -> 0 | AM9: =IF('Ligue 1'!G401>'Ligue 1'!F401,3,IF(AND(ISNUMBER('Ligue 1'!G401),ISNUMBER('Ligue 1'!F401),'Ligue 1'!G401='Ligue 1'!F401),1,0)) -> 0 | AN9: =IF('Ligue 1'!F413>'Ligue 1'!G413,3,IF(AND(ISNUMBER('Ligue 1'!F413),ISNUMBER('Ligue 1'!G413),'Ligue 1'!F413='Ligue 1'!G413),1,0)) -> 0 | AO9: =IF('Ligue 1'!G432>'Ligue 1'!F432,3,IF(AND(ISNUMBER('Ligue 1'!G432),ISNUMBER('Ligue 1'!F432),'Ligue 1'!G432='Ligue 1'!F432),1,0)) -> 0 | AP9: =IF('Ligue 1'!F438>'Ligue 1'!G438,3,IF(AND(ISNUMBER('Ligue 1'!F438),ISNUMBER('Ligue 1'!G438),'Ligue 1'!F438='Ligue 1'!G438),1,0)) -> 0 | AQ9: =IF('Ligue 1'!G454>'Ligue 1'!F454,3,IF(AND(ISNUMBER('Ligue 1'!G454),ISNUMBER('Ligue 1'!F454),'Ligue 1'!G454='Ligue 1'!F454),1,0)) -> 0 | AR9: =SUM(F9:AQ9) -> 6 | AS9: =SUM('Ligue 1'!F10,'Ligue 1'!G21,'Ligue 1'!F30,'Ligue 1'!F42,'Ligue 1'!G53,'Ligue 1'!F72,'Ligue 1'!G78,'Ligue 1'!F90,'Ligue 1'!G108,'Ligue 1'!F113,'Ligue 1'!G124,'Ligue 1'!F137,'Ligue 1'!G149,'Ligue 1'!F162,'Ligue 1'!G174,'Ligue 1'!F187,'Ligue 1'!G204,'Ligue 1'!F211,'Ligue 1'!G223,'Ligue 1'!F235,'Ligue 1'!G252,'Ligue 1'!F255,'Ligue 1'!F276,'Ligue 1'!G284,'Ligue 1'!F295,'Ligue 1'!G312,'Ligue 1'!F320,'Ligue 1'!G335,'Ligue 1'!F344,'Ligue 1'!G357,'Ligue 1'!F367,'Ligue 1'!G381,'Ligue 1'!F389,'Ligue 1'!G401,'Ligue 1'!F413,'Ligue 1'!G432,'Ligue 1'!F438,'Ligue 1'!G454) -> 6 | AT9: =SUM('Ligue 1'!G10,'Ligue 1'!F21,'Ligue 1'!G30,'Ligue 1'!G42,'Ligue 1'!F53,'Ligue 1'!G72,'Ligue 1'!F78,'Ligue 1'!G90,'Ligue 1'!F108,'Ligue 1'!G113,'Ligue 1'!F124,'Ligue 1'!G137,'Ligue 1'!F149,'Ligue 1'!G162,'Ligue 1'!F174,'Ligue 1'!G187,'Ligue 1'!F204,'Ligue 1'!G211,'Ligue 1'!F223,'Ligue 1'!G235,'Ligue 1'!F252,'Ligue 1'!F255,'Ligue 1'!G276,'Ligue 1'!F284,'Ligue 1'!G295,'Ligue 1'!F312,'Ligue 1'!G320,'Ligue 1'!F335,'Ligue 1'!G344,'Ligue 1'!F357,'Ligue 1'!G367,'Ligue 1'!F381,'Ligue 1'!G389,'Ligue 1'!F401,'Ligue 1'!G413,'Ligue 1'!F432,'Ligue 1'!G438,'Ligue 1'!F454) -> 3 | AU9: =AS9-AT9 -> 3 | AV9: =INDEX($E$2:$E$21,MATCH(C9,$D$2:$D$21,0)) -> Amiens | AW9: =INDEX($AR$2:$AR$21,MATCH(C9,$D$2:$D$21,0)) -> 3 | AX9: =INDEX($AS$2:$AS$21,MATCH(C9,$D$2:$D$21,0)) -> 3 | AY9: =INDEX($AT$2:$AT$21,MATCH(C9,$D$2:$D$21,0)) -> 3 | AZ9: =INDEX($AU$2:$AU$21,MATCH(C9,$D$2:$D$21,0)) -> 0
