Workbook

Sheet Feuil1
F1: intervention
A2: Testeur | B2: PRF | C2: Designation produit | D2: Client | E2: Poste | F2: De | G2: à | H2: Durée | I2: Intervenant | J2: Section Emmétrice | K2: Statut | L2: Commentaire
A3: SPEA FP4040/ICT | B3: er | D3: BSE | E3: 14H | F3: 42005.875 | G3: 42005.919 | H3: 0jrs 01:04 | I3: zedf | J3: er | K3: PLANIFIE | L3: er
A4: TESTEUR SPEA U500 ADP/BURN-IN | B4: erf | D4: BSE | E4: 14H | F4: 42005.878 | G4: 42005.96 | H4: 0jrs 01:58 | I4: zef | J4: erf | K4: PLANIFIE | L4: efr
A5: TESTEUR SPEA 3030 INLINE/BURN-IN | B5: fgh | D5: ELE | E5: 14H | F5: 42401.669 | G5: 42430.626 | H5: 1jrs 22:58 | I5: ghj | J5: fg | K5: NON PLANIFIE | L5: g
A6: / | D6: ELE | F6: 42402.669 | K6: RELIQUAT
A7: / | D7: VALEO | F7: 42403.669 | K7: RELIQUAT
A8: / | D8: VALEO | F8: 42404.669 | K8: DEPANNAGE
A9: Testeur/ FCT | D9: BSE | F9: 42405.669 | K9: DEPANNAGE
A10: Testeur FCT | D10: BSE | F10: 42406.669 | K10: RELIQUAT
A11: Testeur FCT | B11: PRFgh | D11: ELE | E11: 14H | F11: 42407.669 | I11: fg | K11: PLANIFIE
A12: Testeur FLASHAGE | B12: PRFrty | D12: ELE | E12: 6H | F12: 42036.084 | G12: 42064.128 | H12: 1jrs 01:03 | I12: rty | K12: PLANIFIE
A13: Testeur BURN-IN | B13: PRF | D13: BSE | F13: 42036.042 | G13: 42096.169 | H13: 33jrs 03:02 | I13: dfg
A14: Testeur ICT | B14: PRFrty | D14: BSE | E14: 6H | F14: 42005 | G14: 42064.21 | H14: 2jrs 05:03 | I14: rt | J14: PRODUCTION | L14: tg
A15: Testeur HV | B15: PRFer | D15: VALEO | E15: 14H | F15: 42006 | I15: erf | J15: DEPANNAGE
A16: Testeur FLASHAGE | B16: PRFyu | D16: VALEO | E16: 6H | F16: 42007 | I16: ttyu | J16: RELIQUAT | L16: fg
A17: Testeur ICT | B17: PRFbn, | C17: f | D17: BSE | E17: 6H | F17: 42008 | I17: gbhn, | J17: DEPANNAGE | K17: PLANIFIE | L17: hn,
A18: Testeur | B18: PRF | F18: 42009
A19: Testeur | B19: PRF | D19: SAG | F19: 42010
A20: Testeur FCT | B20: PRFyu | C20: ui | D20: BSE | E20: 6H | F20: 42736.75 | G20: 42736.771 | H20: 0jrs 00:30 | I20: gh | J20: DEPANNAGE | K20: PLANIFIE | L20: rty
A21: Testeur FCTfg | B21: PRF | F21: 42737.75
A22: Testeur HV rtyu | B22: PRF | F22: 42738.75
A23: Testeur ICT fg | B23: PRF dfg | F23: 42739.75
A24: Testeur ICT fg | B24: PRF zer | C24: edf | D24: edrf | E24: 14H | F24: 42005 | G24: 42005.125 | H24: 0jrs 03:00 | I24: e | J24: DEPANNAGE | K24: NON PLANIFIE | L24: erf

Sheet Feuil2
B1: interventions
A2: client | B2: 2017 | C2: 2018 | D2: 2019 | E2: 2020
A3: BSE | B3: =COUNTIFS(Feuil1!D:D,"BSE",Feuil1!F:F,">=01/01/2017",Feuil1!F:F,"<=31/12/2017") -> 1 | C3: =COUNTIFS(Feuil1!D:D,"BSE",[1]BDD_intervention!F:F,">=01/01/2018",[1]BDD_intervention!F:F,"<=31/12/2018") -> 0
A4: ELE | B4: =COUNTIFS(Feuil1!D:D,"BSE",Feuil1!F:F,">=01/01/2017",Feuil1!F:F,"<=31/12/2017") -> 1 | C4: =COUNTIFS([1]BDD_intervention!D:D,"ELE",[1]BDD_intervention!F:F,">=01/01/2018",[1]BDD_intervention!F:F,"<=31/12/2018") -> 2
A5: VALEO | B5: =COUNTIFS(Feuil1!D:D,"BSE",Feuil1!F:F,">=01/01/2017",Feuil1!F:F,"<=31/12/2017") -> 1 | C5: =COUNTIFS([1]BDD_intervention!D:D,"VALEO",[1]BDD_intervention!F:F,">=01/01/2018",[1]BDD_intervention!F:F,"<=31/12/2018") -> 0
A6: SIM | B6: =COUNTIFS(Feuil1!D:D,"BSE",Feuil1!F:F,">=01/01/2017",Feuil1!F:F,"<=31/12/2017") -> 1 | C6: =COUNTIFS([1]BDD_intervention!D:D,"SIM",[1]BDD_intervention!F:F,">=01/01/2018",[1]BDD_intervention!F:F,"<=31/12/2018") -> 0
A7: BNL | B7: =COUNTIFS(Feuil1!D:D,"BSE",Feuil1!F:F,">=01/01/2017",Feuil1!F:F,"<=31/12/2017") -> 1 | C7: =COUNTIFS([1]BDD_intervention!D:D,"BNL",[1]BDD_intervention!F:F,">=01/01/2018",[1]BDD_intervention!F:F,"<=31/12/2018") -> 0
A8: TTEI | B8: =COUNTIFS(Feuil1!D:D,"BSE",Feuil1!F:F,">=01/01/2017",Feuil1!F:F,"<=31/12/2017") -> 1 | C8: =COUNTIFS([1]BDD_intervention!D:D,"TTEI",[1]BDD_intervention!F:F,">=01/01/2018",[1]BDD_intervention!F:F,"<=31/12/2018") -> 0
A9: SIAME | B9: =COUNTIFS(Feuil1!D:D,"BSE",Feuil1!F:F,">=01/01/2017",Feuil1!F:F,"<=31/12/2017") -> 1 | C9: =COUNTIFS([1]BDD_intervention!D:D,"SIAME",[1]BDD_intervention!F:F,">=01/01/2018",[1]BDD_intervention!F:F,"<=31/12/2018") -> 0
A10: WYNID | B10: =COUNTIFS(Feuil1!D:D,"BSE",Feuil1!F:F,">=01/01/2017",Feuil1!F:F,"<=31/12/2017") -> 1 | C10: =COUNTIFS([1]BDD_intervention!D:D,"WYNID",[1]BDD_intervention!F:F,">=01/01/2018",[1]BDD_intervention!F:F,"<=31/12/2018") -> 0
A11: CANON | B11: =COUNTIFS(Feuil1!D:D,"BSE",Feuil1!F:F,">=01/01/2017",Feuil1!F:F,"<=31/12/2017") -> 1 | C11: =COUNTIFS([1]BDD_intervention!D:D,"CANON",[1]BDD_intervention!F:F,">=01/01/2018",[1]BDD_intervention!F:F,"<=31/12/2018") -> 0
A12: CEGELEC | B12: =COUNTIFS(Feuil1!D:D,"BSE",Feuil1!F:F,">=01/01/2017",Feuil1!F:F,"<=31/12/2017") -> 1 | C12: =COUNTIFS([1]BDD_intervention!D:D,"CEGELEC",[1]BDD_intervention!F:F,">=01/01/2018",[1]BDD_intervention!F:F,"<=31/12/2018") -> 0
A13: CML | B13: =COUNTIFS(Feuil1!D:D,"BSE",Feuil1!F:F,">=01/01/2017",Feuil1!F:F,"<=31/12/2017") -> 1 | C13: =COUNTIFS([1]BDD_intervention!D:D,"CML",[1]BDD_intervention!F:F,">=01/01/2018",[1]BDD_intervention!F:F,"<=31/12/2018") -> 0
A14: CXR | B14: =COUNTIFS(Feuil1!D:D,"BSE",Feuil1!F:F,">=01/01/2017",Feuil1!F:F,"<=31/12/2017") -> 1 | C14: =COUNTIFS([1]BDD_intervention!D:D,"CXR",[1]BDD_intervention!F:F,">=01/01/2018",[1]BDD_intervention!F:F,"<=31/12/2018") -> 0
A15: EATON | B15: =COUNTIFS(Feuil1!D:D,"BSE",Feuil1!F:F,">=01/01/2017",Feuil1!F:F,"<=31/12/2017") -> 1 | C15: =COUNTIFS([1]BDD_intervention!D:D,"EATON",[1]BDD_intervention!F:F,">=01/01/2018",[1]BDD_intervention!F:F,"<=31/12/2018") -> 0
A16: METATRON | B16: =COUNTIFS(Feuil1!D:D,"BSE",Feuil1!F:F,">=01/01/2017",Feuil1!F:F,"<=31/12/2017") -> 1 | C16: =COUNTIFS([1]BDD_intervention!D:D,"METATRON",[1]BDD_intervention!F:F,">=01/01/2018",[1]BDD_intervention!F:F,"<=31/12/2018") -> 0
A17: TNET | B17: =COUNTIFS(Feuil1!D:D,"BSE",Feuil1!F:F,">=01/01/2017",Feuil1!F:F,"<=31/12/2017") -> 1 | C17: =COUNTIFS([1]BDD_intervention!D:D,"TNET",[1]BDD_intervention!F:F,">=01/01/2018",[1]BDD_intervention!F:F,"<=31/12/2018") -> 0
A18: STIM | B18: =COUNTIFS(Feuil1!D:D,"BSE",Feuil1!F:F,">=01/01/2017",Feuil1!F:F,"<=31/12/2017") -> 1 | C18: =COUNTIFS([1]BDD_intervention!D:D,"STIM",[1]BDD_intervention!F:F,">=01/01/2018",[1]BDD_intervention!F:F,"<=31/12/2018") -> 0
A19: SEUFER | B19: =COUNTIFS(Feuil1!D:D,"BSE",Feuil1!F:F,">=01/01/2017",Feuil1!F:F,"<=31/12/2017") -> 1 | C19: =COUNTIFS([1]BDD_intervention!D:D,"SEUFER",[1]BDD_intervention!F:F,">=01/01/2018",[1]BDD_intervention!F:F,"<=31/12/2018") -> 0
A20: EOT | B20: =COUNTIFS(Feuil1!D:D,"BSE",Feuil1!F:F,">=01/01/2017",Feuil1!F:F,"<=31/12/2017") -> 1 | C20: =COUNTIFS([1]BDD_intervention!D:D,"EOT",[1]BDD_intervention!F:F,">=01/01/2018",[1]BDD_intervention!F:F,"<=31/12/2018") -> 0
A21: SAG | B21: =COUNTIFS(Feuil1!D:D,"BSE",Feuil1!F:F,">=01/01/2017",Feuil1!F:F,"<=31/12/2017") -> 1 | C21: =COUNTIFS([1]BDD_intervention!D:D,"SAG",[1]BDD_intervention!F:F,">=01/01/2018",[1]BDD_intervention!F:F,"<=31/12/2018") -> 0

Sheet Feuil3
