Workbook

Sheet test1
C2: Date Arrivée | D2: 42768 | F2: Date Départ | G2: 42776
A4: =A6 -> 42765 | B4: =B6 -> 42766 | C4: =C6 -> 42767 | D4: =D6 -> 42768 | E4: =E6 -> 42769 | F4: =F6 -> 42770 | G4: =G6 -> 42771 | H4: =H6 -> 42772 | ... O4: =O6 -> 42779
A5: =A6 -> 42765 | B5: =B6 -> 42766 | C5: =C6 -> 42767 | D5: =D6 -> 42768 | E5: =E6 -> 42769 | F5: =F6 -> 42770 | G5: =G6 -> 42771 | H5: =H6 -> 42772 | ... O5: =O6 -> 42779
A6: =+B6-1 -> 42765 | B6: =+C6-1 -> 42766 | C6: =+D2-1 -> 42767 | D6: =D2 -> 42768 | E6: =D6+1 -> 42769 | F6: =E6+1 -> 42770 | G6: =F6+1 -> 42771 | H6: =G6+1 -> 42772 | I6: =H6+1 -> 42773 | J6: =I6+1 -> 42774 | K6: =J6+1 -> 42775 | L6: =K6+1 -> 42776 | ... O6: =N6+1 -> 42779
A10: =VLOOKUP(A4,test2!$A:$D,4,FALSE) -> #N/A | B10: =VLOOKUP(B4,test2!$A:$D,4,FALSE) -> #N/A | C10: =VLOOKUP(C4,test2!$A:$D,4,FALSE) -> #N/A | D10: =VLOOKUP(D4,test2!$A:$D,4,FALSE) -> #N/A | E10: =VLOOKUP(E4,test2!$A:$D,4,FALSE) -> #N/A | F10: =VLOOKUP(F4,test2!$A:$D,4,FALSE) -> #N/A | G10: =VLOOKUP(G4,test2!$A:$D,4,FALSE) -> #N/A | H10: =VLOOKUP(H4,test2!$A:$D,4,FALSE) -> #N/A | ... O10: =VLOOKUP(O4,test2!$A:$D,4,FALSE) -> #N/A

Sheet test2
D1: Rooms
A2: 01 Jan 2017 | B2: Sun | C2: 1 | D2: 4
A3: 02 Jan 2017 | B3: Mon | C3: 1 | D3: 51
A4: 03 Jan 2017 | B4: Tue | C4: 1 | D4: 38
A5: 04 Jan 2017 | B5: Wed | C5: 1 | D5: 94
A6: 05 Jan 2017 | B6: Thu | C6: 1 | D6: 68
A7: 06 Jan 2017 | B7: Fri | C7: 1 | D7: 2
A8: 07 Jan 2017 | B8: Sat | C8: 1 | D8: 1
A9: 08 Jan 2017 | B9: Sun | C9: 1 | D9: 0
A10: 09 Jan 2017 | B10: Mon | C10: 1 | D10: 0
A11: 10 Jan 2017 | B11: Tue | C11: 1 | D11: 7
A12: 11 Jan 2017 | B12: Wed | C12: 1 | D12: 72
A13: 12 Jan 2017 | B13: Thu | C13: 1 | D13: 19
... A32: 31 Jan 2017 | B32: Tue | C32: 1 | D32: 29
