Workbook
Name Fériés: Paramètres!$A$3:$A$14

Sheet Calendrier
A1: =Paramètres!A1 -> 2019
A2: Decembre | E2: =SUM(A1-1) -> 2018 | G2: Janvier | M2: Février | S2: Mars | Y2: Avril | AE2: Mai | AK2: Juin | AQ2: Juillet | AX2: Aout | BC2: Septembre | BI2: Octobre | BO2: Novembre | BU2: Decembre
A4: =INDEX(Calendrier!$CA$5:$CA$11,WEEKDAY(B4,2)) -> Sam | B4: =DATE(Calendrier!$E$2,12,1) -> 43435 | G4: =INDEX(Calendrier!$CA$5:$CA$11,WEEKDAY(H4,2)) -> Mar | H4: =DATE(Calendrier!$A$1,1,1) -> 43466 | M4: =INDEX(Calendrier!$CA$5:$CA$11,WEEKDAY(N4,2)) -> Ven | N4: =DATE(Calendrier!$A$1,MONTH(H4)+1,1) -> 43497 | S4: =INDEX(Calendrier!$CA$5:$CA$11,WEEKDAY(T4,2)) -> Ven | T4: =DATE(Calendrier!$A$1,MONTH(N4)+1,1) -> 43525 | Y4: =INDEX(Calendrier!$CA$5:$CA$11,WEEKDAY(Z4,2)) -> Lun | Z4: =DATE(Calendrier!$A$1,MONTH(T4)+1,1) -> 43556 | AE4: =INDEX(Calendrier!$CA$5:$CA$11,WEEKDAY(AF4,2)) -> Mer | AF4: =DATE(Calendrier!$A$1,MONTH(Z4)+1,1) -> 43586 | AK4: =INDEX(Calendrier!$CA$5:$CA$11,WEEKDAY(AL4,2)) -> Sam | AL4: =DATE(Calendrier!$A$1,MONTH(AF4)+1,1) -> 43617 | AQ4: =INDEX(Calendrier!$CA$5:$CA$11,WEEKDAY(AR4,2)) -> Lun | AR4: =DATE(Calendrier!$A$1,MONTH(AL4)+1,1) -> 43647 | AW4: =INDEX(Calendrier!$CA$5:$CA$11,WEEKDAY(AX4,2)) -> Jeu | AX4: =DATE(Calendrier!$A$1,MONTH(AR4)+1,1) -> 43678 | BC4: =INDEX(Calendrier!$CA$5:$CA$11,WEEKDAY(BD4,2)) -> Dim | BD4: =DATE(Calendrier!$A$1,MONTH(AX4)+1,1) -> 43709 | BI4: =INDEX(Calendrier!$CA$5:$CA$11,WEEKDAY(BJ4,2)) -> Mar | BJ4: =DATE(Calendrier!$A$1,MONTH(BD4)+1,1) -> 43739 | BO4: =INDEX(Calendrier!$CA$5:$CA$11,WEEKDAY(BP4,2)) -> Ven | BP4: =DATE(Calendrier!$A$1,MONTH(BJ4)+1,1) -> 43770 | BU4: =INDEX(Calendrier!$CA$5:$CA$11,WEEKDAY(BV4,2)) -> Dim | BV4: =DATE(Calendrier!$A$1,MONTH(BP4)+1,1) -> 43800
A5: =INDEX(Calendrier!$CA$5:$CA$11,WEEKDAY(B5,2)) -> Dim | B5: =+B4+1 -> 43436 | G5: =INDEX(Calendrier!$CA$5:$CA$11,WEEKDAY(H5,2)) -> Mer | H5: =+H4+1 -> 43467 | M5: =INDEX(Calendrier!$CA$5:$CA$11,WEEKDAY(N5,2)) -> Sam | N5: =+N4+1 -> 43498 | S5: =INDEX(Calendrier!$CA$5:$CA$11,WEEKDAY(T5,2)) -> Sam | T5: =+T4+1 -> 43526 | Y5: =INDEX(Calendrier!$CA$5:$CA$11,WEEKDAY(Z5,2)) -> Mar | Z5: =+Z4+1 -> 43557 | AE5: =INDEX(Calendrier!$CA$5:$CA$11,WEEKDAY(AF5,2)) -> Jeu | AF5: =+AF4+1 -> 43587 | AK5: =INDEX(Calendrier!$CA$5:$CA$11,WEEKDAY(AL5,2)) -> Dim | AL5: =+AL4+1 -> 43618 | AQ5: =INDEX(Calendrier!$CA$5:$CA$11,WEEKDAY(AR5,2)) -> Mar | AR5: =+AR4+1 -> 43648 | AW5: =INDEX(Calendrier!$CA$5:$CA$11,WEEKDAY(AX5,2)) -> Ven | AX5: =+AX4+1 -> 43679 | BC5: =INDEX(Calendrier!$CA$5:$CA$11,WEEKDAY(BD5,2)) -> Lun | BD5: =+BD4+1 -> 43710 | BI5: =INDEX(Calendrier!$CA$5:$CA$11,WEEKDAY(BJ5,2)) -> Mer | BJ5: =+BJ4+1 -> 43740 | BO5: =INDEX(Calendrier!$CA$5:$CA$11,WEEKDAY(BP5,2)) -> Sam | BP5: =+BP4+1 -> 43771 | BU5: =INDEX(Calendrier!$CA$5:$CA$11,WEEKDAY(BV5,2)) -> Lun | BV5: =+BV4+1 -> 43801 | CA5: Lun
A6: =INDEX(Calendrier!$CA$5:$CA$11,WEEKDAY(B6,2)) -> Lun | B6: =+B5+1 -> 43437 | G6: =INDEX(Calendrier!$CA$5:$CA$11,WEEKDAY(H6,2)) -> Jeu | H6: =+H5+1 -> 43468 | M6: =INDEX(Calendrier!$CA$5:$CA$11,WEEKDAY(N6,2)) -> Dim | N6: =+N5+1 -> 43499 | S6: =INDEX(Calendrier!$CA$5:$CA$11,WEEKDAY(T6,2)) -> Dim | T6: =+T5+1 -> 43527 | Y6: =INDEX(Calendrier!$CA$5:$CA$11,WEEKDAY(Z6,2)) -> Mer | Z6: =+Z5+1 -> 43558 | AE6: =INDEX(Calendrier!$CA$5:$CA$11,WEEKDAY(AF6,2)) -> Ven | AF6: =+AF5+1 -> 43588 | AK6: =INDEX(Calendrier!$CA$5:$CA$11,WEEKDAY(AL6,2)) -> Lun | AL6: =+AL5+1 -> 43619 | AQ6: =INDEX(Calendrier!$CA$5:$CA$11,WEEKDAY(AR6,2)) -> Mer | AR6: =+AR5+1 -> 43649 | AW6: =INDEX(Calendrier!$CA$5:$CA$11,WEEKDAY(AX6,2)) -> Sam | AX6: =+AX5+1 -> 43680 | BC6: =INDEX(Calendrier!$CA$5:$CA$11,WEEKDAY(BD6,2)) -> Mar | BD6: =+BD5+1 -> 43711 | BI6: =INDEX(Calendrier!$CA$5:$CA$11,WEEKDAY(BJ6,2)) -> Jeu | BJ6: =+BJ5+1 -> 43741 | BO6: =INDEX(Calendrier!$CA$5:$CA$11,WEEKDAY(BP6,2)) -> Dim | BP6: =+BP5+1 -> 43772 | BU6: =INDEX(Calendrier!$CA$5:$CA$11,WEEKDAY(BV6,2)) -> Mar | BV6: =+BV5+1 -> 43802 | CA6: Mar
A7: =INDEX(Calendrier!$CA$5:$CA$11,WEEKDAY(B7,2)) -> Mar | B7: =+B6+1 -> 43438 | G7: =INDEX(Calendrier!$CA$5:$CA$11,WEEKDAY(H7,2)) -> Ven | H7: =+H6+1 -> 43469 | M7: =INDEX(Calendrier!$CA$5:$CA$11,WEEKDAY(N7,2)) -> Lun | N7: =+N6+1 -> 43500 | S7: =INDEX(Calendrier!$CA$5:$CA$11,WEEKDAY(T7,2)) -> Lun | T7: =+T6+1 -> 43528 | Y7: =INDEX(Calendrier!$CA$5:$CA$11,WEEKDAY(Z7,2)) -> Jeu | Z7: =+Z6+1 -> 43559 | AE7: =INDEX(Calendrier!$CA$5:$CA$11,WEEKDAY(AF7,2)) -> Sam | AF7: =+AF6+1 -> 43589 | AK7: =INDEX(Calendrier!$CA$5:$CA$11,WEEKDAY(AL7,2)) -> Mar | AL7: =+AL6+1 -> 43620 | AQ7: =INDEX(Calendrier!$CA$5:$CA$11,WEEKDAY(AR7,2)) -> Jeu | AR7: =+AR6+1 -> 43650 | AW7: =INDEX(Calendrier!$CA$5:$CA$11,WEEKDAY(AX7,2)) -> Dim | AX7: =+AX6+1 -> 43681 | BC7: =INDEX(Calendrier!$CA$5:$CA$11,WEEKDAY(BD7,2)) -> Mer | BD7: =+BD6+1 -> 43712 | BI7: =INDEX(Calendrier!$CA$5:$CA$11,WEEKDAY(BJ7,2)) -> Ven | BJ7: =+BJ6+1 -> 43742 | BO7: =INDEX(Calendrier!$CA$5:$CA$11,WEEKDAY(BP7,2)) -> Lun | BP7: =+BP6+1 -> 43773 | BU7: =INDEX(Calendrier!$CA$5:$CA$11,WEEKDAY(BV7,2)) -> Mer | BV7: =+BV6+1 -> 43803 | CA7: Mer
A8: =INDEX(Calendrier!$CA$5:$CA$11,WEEKDAY(B8,2)) -> Mer | B8: =+B7+1 -> 43439 | G8: =INDEX(Calendrier!$CA$5:$CA$11,WEEKDAY(H8,2)) -> Sam | H8: =+H7+1 -> 43470 | M8: =INDEX(Calendrier!$CA$5:$CA$11,WEEKDAY(N8,2)) -> Mar | N8: =+N7+1 -> 43501 | S8: =INDEX(Calendrier!$CA$5:$CA$11,WEEKDAY(T8,2)) -> Mar | T8: =+T7+1 -> 43529 | Y8: =INDEX(Calendrier!$CA$5:$CA$11,WEEKDAY(Z8,2)) -> Ven | Z8: =+Z7+1 -> 43560 | AE8: =INDEX(Calendrier!$CA$5:$CA$11,WEEKDAY(AF8,2)) -> Dim | AF8: =+AF7+1 -> 43590 | AK8: =INDEX(Calendrier!$CA$5:$CA$11,WEEKDAY(AL8,2)) -> Mer | AL8: =+AL7+1 -> 43621 | AQ8: =INDEX(Calendrier!$CA$5:$CA$11,WEEKDAY(AR8,2)) -> Ven | AR8: =+AR7+1 -> 43651 | AW8: =INDEX(Calendrier!$CA$5:$CA$11,WEEKDAY(AX8,2)) -> Lun | AX8: =+AX7+1 -> 43682 | BC8: =INDEX(Calendrier!$CA$5:$CA$11,WEEKDAY(BD8,2)) -> Jeu | BD8: =+BD7+1 -> 43713 | BI8: =INDEX(Calendrier!$CA$5:$CA$11,WEEKDAY(BJ8,2)) -> Sam | BJ8: =+BJ7+1 -> 43743 | BO8: =INDEX(Calendrier!$CA$5:$CA$11,WEEKDAY(BP8,2)) -> Mar | BP8: =+BP7+1 -> 43774 | BU8: =INDEX(Calendrier!$CA$5:$CA$11,WEEKDAY(BV8,2)) -> Jeu | BV8: =+BV7+1 -> 43804 | CA8: Jeu
A9: =INDEX(Calendrier!$CA$5:$CA$11,WEEKDAY(B9,2)) -> Jeu | B9: =+B8+1 -> 43440 | G9: =INDEX(Calendrier!$CA$5:$CA$11,WEEKDAY(H9,2)) -> Dim | H9: =+H8+1 -> 43471 | M9: =INDEX(Calendrier!$CA$5:$CA$11,WEEKDAY(N9,2)) -> Mer | N9: =+N8+1 -> 43502 | S9: =INDEX(Calendrier!$CA$5:$CA$11,WEEKDAY(T9,2)) -> Mer | T9: =+T8+1 -> 43530 | Y9: =INDEX(Calendrier!$CA$5:$CA$11,WEEKDAY(Z9,2)) -> Sam | Z9: =+Z8+1 -> 43561 | AE9: =INDEX(Calendrier!$CA$5:$CA$11,WEEKDAY(AF9,2)) -> Lun | AF9: =+AF8+1 -> 43591 | AK9: =INDEX(Calendrier!$CA$5:$CA$11,WEEKDAY(AL9,2)) -> Jeu | AL9: =+AL8+1 -> 43622 | AQ9: =INDEX(Calendrier!$CA$5:$CA$11,WEEKDAY(AR9,2)) -> Sam | AR9: =+AR8+1 -> 43652 | AW9: =INDEX(Calendrier!$CA$5:$CA$11,WEEKDAY(AX9,2)) -> Mar | AX9: =+AX8+1 -> 43683 | BC9: =INDEX(Calendrier!$CA$5:$CA$11,WEEKDAY(BD9,2)) -> Ven | BD9: =+BD8+1 -> 43714 | BI9: =INDEX(Calendrier!$CA$5:$CA$11,WEEKDAY(BJ9,2)) -> Dim | BJ9: =+BJ8+1 -> 43744 | BO9: =INDEX(Calendrier!$CA$5:$CA$11,WEEKDAY(BP9,2)) -> Mer | BP9: =+BP8+1 -> 43775 | BU9: =INDEX(Calendrier!$CA$5:$CA$11,WEEKDAY(BV9,2)) -> Ven | BV9: =+BV8+1 -> 43805 | CA9: Ven
A10: =INDEX(Calendrier!$CA$5:$CA$11,WEEKDAY(B10,2)) -> Ven | B10: =+B9+1 -> 43441 | G10: =INDEX(Calendrier!$CA$5:$CA$11,WEEKDAY(H10,2)) -> Lun | H10: =+H9+1 -> 43472 | M10: =INDEX(Calendrier!$CA$5:$CA$11,WEEKDAY(N10,2)) -> Jeu | N10: =+N9+1 -> 43503 | S10: =INDEX(Calendrier!$CA$5:$CA$11,WEEKDAY(T10,2)) -> Jeu | T10: =+T9+1 -> 43531 | Y10: =INDEX(Calendrier!$CA$5:$CA$11,WEEKDAY(Z10,2)) -> Dim | Z10: =+Z9+1 -> 43562 | AE10: =INDEX(Calendrier!$CA$5:$CA$11,WEEKDAY(AF10,2)) -> Mar | AF10: =+AF9+1 -> 43592 | AK10: =INDEX(Calendrier!$CA$5:$CA$11,WEEKDAY(AL10,2)) -> Ven | AL10: =+AL9+1 -> 43623 | AQ10: =INDEX(Calendrier!$CA$5:$CA$11,WEEKDAY(AR10,2)) -> Dim | AR10: =+AR9+1 -> 43653 | AW10: =INDEX(Calendrier!$CA$5:$CA$11,WEEKDAY(AX10,2)) -> Mer | AX10: =+AX9+1 -> 43684 | BC10: =INDEX(Calendrier!$CA$5:$CA$11,WEEKDAY(BD10,2)) -> Sam | BD10: =+BD9+1 -> 43715 | BI10: =INDEX(Calendrier!$CA$5:$CA$11,WEEKDAY(BJ10,2)) -> Lun | BJ10: =+BJ9+1 -> 43745 | BO10: =INDEX(Calendrier!$CA$5:$CA$11,WEEKDAY(BP10,2)) -> Jeu | BP10: =+BP9+1 -> 43776 | BU10: =INDEX(Calendrier!$CA$5:$CA$11,WEEKDAY(BV10,2)) -> Sam | BV10: =+BV9+1 -> 43806 | CA10: Sam
A11: =INDEX(Calendrier!$CA$5:$CA$11,WEEKDAY(B11,2)) -> Sam | B11: =+B10+1 -> 43442 | G11: =INDEX(Calendrier!$CA$5:$CA$11,WEEKDAY(H11,2)) -> Mar | H11: =+H10+1 -> 43473 | M11: =INDEX(Calendrier!$CA$5:$CA$11,WEEKDAY(N11,2)) -> Ven | N11: =+N10+1 -> 43504 | S11: =INDEX(Calendrier!$CA$5:$CA$11,WEEKDAY(T11,2)) -> Ven | T11: =+T10+1 -> 43532 | Y11: =INDEX(Calendrier!$CA$5:$CA$11,WEEKDAY(Z11,2)) -> Lun | Z11: =+Z10+1 -> 43563 | AE11: =INDEX(Calendrier!$CA$5:$CA$11,WEEKDAY(AF11,2)) -> Mer | AF11: =+AF10+1 -> 43593 | AK11: =INDEX(Calendrier!$CA$5:$CA$11,WEEKDAY(AL11,2)) -> Sam | AL11: =+AL10+1 -> 43624 | AQ11: =INDEX(Calendrier!$CA$5:$CA$11,WEEKDAY(AR11,2)) -> Lun | AR11: =+AR10+1 -> 43654 | AW11: =INDEX(Calendrier!$CA$5:$CA$11,WEEKDAY(AX11,2)) -> Jeu | AX11: =+AX10+1 -> 43685 | BC11: =INDEX(Calendrier!$CA$5:$CA$11,WEEKDAY(BD11,2)) -> Dim | BD11: =+BD10+1 -> 43716 | BI11: =INDEX(Calendrier!$CA$5:$CA$11,WEEKDAY(BJ11,2)) -> Mar | BJ11: =+BJ10+1 -> 43746 | BO11: =INDEX(Calendrier!$CA$5:$CA$11,WEEKDAY(BP11,2)) -> Ven | BP11: =+BP10+1 -> 43777 | BU11: =INDEX(Calendrier!$CA$5:$CA$11,WEEKDAY(BV11,2)) -> Dim | BV11: =+BV10+1 -> 43807 | CA11: Dim
A12: =INDEX(Calendrier!$CA$5:$CA$11,WEEKDAY(B12,2)) -> Dim | B12: =+B11+1 -> 43443 | G12: =INDEX(Calendrier!$CA$5:$CA$11,WEEKDAY(H12,2)) -> Mer | H12: =+H11+1 -> 43474 | M12: =INDEX(Calendrier!$CA$5:$CA$11,WEEKDAY(N12,2)) -> Sam | N12: =+N11+1 -> 43505 | S12: =INDEX(Calendrier!$CA$5:$CA$11,WEEKDAY(T12,2)) -> Sam | T12: =+T11+1 -> 43533 | Y12: =INDEX(Calendrier!$CA$5:$CA$11,WEEKDAY(Z12,2)) -> Mar | Z12: =+Z11+1 -> 43564 | AE12: =INDEX(Calendrier!$CA$5:$CA$11,WEEKDAY(AF12,2)) -> Jeu | AF12: =+AF11+1 -> 43594 | AK12: =INDEX(Calendrier!$CA$5:$CA$11,WEEKDAY(AL12,2)) -> Dim | AL12: =+AL11+1 -> 43625 | AQ12: =INDEX(Calendrier!$CA$5:$CA$11,WEEKDAY(AR12,2)) -> Mar | AR12: =+AR11+1 -> 43655 | AW12: =INDEX(Calendrier!$CA$5:$CA$11,WEEKDAY(AX12,2)) -> Ven | AX12: =+AX11+1 -> 43686 | BC12: =INDEX(Calendrier!$CA$5:$CA$11,WEEKDAY(BD12,2)) -> Lun | BD12: =+BD11+1 -> 43717 | BI12: =INDEX(Calendrier!$CA$5:$CA$11,WEEKDAY(BJ12,2)) -> Mer | BJ12: =+BJ11+1 -> 43747 | BO12: =INDEX(Calendrier!$CA$5:$CA$11,WEEKDAY(BP12,2)) -> Sam | BP12: =+BP11+1 -> 43778 | BU12: =INDEX(Calendrier!$CA$5:$CA$11,WEEKDAY(BV12,2)) -> Lun | BV12: =+BV11+1 -> 43808
A13: =INDEX(Calendrier!$CA$5:$CA$11,WEEKDAY(B13,2)) -> Lun | B13: =+B12+1 -> 43444 | G13: =INDEX(Calendrier!$CA$5:$CA$11,WEEKDAY(H13,2)) -> Jeu | H13: =+H12+1 -> 43475 | M13: =INDEX(Calendrier!$CA$5:$CA$11,WEEKDAY(N13,2)) -> Dim | N13: =+N12+1 -> 43506 | S13: =INDEX(Calendrier!$CA$5:$CA$11,WEEKDAY(T13,2)) -> Dim | T13: =+T12+1 -> 43534 | Y13: =INDEX(Calendrier!$CA$5:$CA$11,WEEKDAY(Z13,2)) -> Mer | Z13: =+Z12+1 -> 43565 | AE13: =INDEX(Calendrier!$CA$5:$CA$11,WEEKDAY(AF13,2)) -> Ven | AF13: =+AF12+1 -> 43595 | AK13: =INDEX(Calendrier!$CA$5:$CA$11,WEEKDAY(AL13,2)) -> Lun | AL13: =+AL12+1 -> 43626 | AQ13: =INDEX(Calendrier!$CA$5:$CA$11,WEEKDAY(AR13,2)) -> Mer | AR13: =+AR12+1 -> 43656 | AW13: =INDEX(Calendrier!$CA$5:$CA$11,WEEKDAY(AX13,2)) -> Sam | AX13: =+AX12+1 -> 43687 | BC13: =INDEX(Calendrier!$CA$5:$CA$11,WEEKDAY(BD13,2)) -> Mar | BD13: =+BD12+1 -> 43718 | BI13: =INDEX(Calendrier!$CA$5:$CA$11,WEEKDAY(BJ13,2)) -> Jeu | BJ13: =+BJ12+1 -> 43748 | BO13: =INDEX(Calendrier!$CA$5:$CA$11,WEEKDAY(BP13,2)) -> Dim | BP13: =+BP12+1 -> 43779 | BU13: =INDEX(Calendrier!$CA$5:$CA$11,WEEKDAY(BV13,2)) -> Mar | BV13: =+BV12+1 -> 43809
A14: =INDEX(Calendrier!$CA$5:$CA$11,WEEKDAY(B14,2)) -> Mar | B14: =+B13+1 -> 43445 | G14: =INDEX(Calendrier!$CA$5:$CA$11,WEEKDAY(H14,2)) -> Ven | H14: =+H13+1 -> 43476 | M14: =INDEX(Calendrier!$CA$5:$CA$11,WEEKDAY(N14,2)) -> Lun | N14: =+N13+1 -> 43507 | S14: =INDEX(Calendrier!$CA$5:$CA$11,WEEKDAY(T14,2)) -> Lun | T14: =+T13+1 -> 43535 | Y14: =INDEX(Calendrier!$CA$5:$CA$11,WEEKDAY(Z14,2)) -> Jeu | Z14: =+Z13+1 -> 43566 | AE14: =INDEX(Calendrier!$CA$5:$CA$11,WEEKDAY(AF14,2)) -> Sam | AF14: =+AF13+1 -> 43596 | AK14: =INDEX(Calendrier!$CA$5:$CA$11,WEEKDAY(AL14,2)) -> Mar | AL14: =+AL13+1 -> 43627 | AQ14: =INDEX(Calendrier!$CA$5:$CA$11,WEEKDAY(AR14,2)) -> Jeu | AR14: =+AR13+1 -> 43657 | AW14: =INDEX(Calendrier!$CA$5:$CA$11,WEEKDAY(AX14,2)) -> Dim | AX14: =+AX13+1 -> 43688 | BC14: =INDEX(Calendrier!$CA$5:$CA$11,WEEKDAY(BD14,2)) -> Mer | BD14: =+BD13+1 -> 43719 | BI14: =INDEX(Calendrier!$CA$5:$CA$11,WEEKDAY(BJ14,2)) -> Ven | BJ14: =+BJ13+1 -> 43749 | BO14: =INDEX(Calendrier!$CA$5:$CA$11,WEEKDAY(BP14,2)) -> Lun | BP14: =+BP13+1 -> 43780 | BU14: =INDEX(Calendrier!$CA$5:$CA$11,WEEKDAY(BV14,2)) -> Mer | BV14: =+BV13+1 -> 43810 | CA14: Roulement
A15: =INDEX(Calendrier!$CA$5:$CA$11,WEEKDAY(B15,2)) -> Mer | B15: =+B14+1 -> 43446 | G15: =INDEX(Calendrier!$CA$5:$CA$11,WEEKDAY(H15,2)) -> Sam | H15: =+H14+1 -> 43477 | M15: =INDEX(Calendrier!$CA$5:$CA$11,WEEKDAY(N15,2)) -> Mar | N15: =+N14+1 -> 43508 | S15: =INDEX(Calendrier!$CA$5:$CA$11,WEEKDAY(T15,2)) -> Mar | T15: =+T14+1 -> 43536 | Y15: =INDEX(Calendrier!$CA$5:$CA$11,WEEKDAY(Z15,2)) -> Ven | Z15: =+Z14+1 -> 43567 | AE15: =INDEX(Calendrier!$CA$5:$CA$11,WEEKDAY(AF15,2)) -> Dim | AF15: =+AF14+1 -> 43597 | AK15: =INDEX(Calendrier!$CA$5:$CA$11,WEEKDAY(AL15,2)) -> Mer | AL15: =+AL14+1 -> 43628 | AQ15: =INDEX(Calendrier!$CA$5:$CA$11,WEEKDAY(AR15,2)) -> Ven | AR15: =+AR14+1 -> 43658 | AW15: =INDEX(Calendrier!$CA$5:$CA$11,WEEKDAY(AX15,2)) -> Lun | AX15: =+AX14+1 -> 43689 | BC15: =INDEX(Calendrier!$CA$5:$CA$11,WEEKDAY(BD15,2)) -> Jeu | BD15: =+BD14+1 -> 43720 | BI15: =INDEX(Calendrier!$CA$5:$CA$11,WEEKDAY(BJ15,2)) -> Sam | BJ15: =+BJ14+1 -> 43750 | BO15: =INDEX(Calendrier!$CA$5:$CA$11,WEEKDAY(BP15,2)) -> Mar | BP15: =+BP14+1 -> 43781 | BU15: =INDEX(Calendrier!$CA$5:$CA$11,WEEKDAY(BV15,2)) -> Jeu | BV15: =+BV14+1 -> 43811 | CA15: 2matin3apresmidi
A16: =INDEX(Calendrier!$CA$5:$CA$11,WEEKDAY(B16,2)) -> Jeu | B16: =+B15+1 -> 43447 | G16: =INDEX(Calendrier!$CA$5:$CA$11,WEEKDAY(H16,2)) -> Dim | H16: =+H15+1 -> 43478 | M16: =INDEX(Calendrier!$CA$5:$CA$11,WEEKDAY(N16,2)) -> Mer | N16: =+N15+1 -> 43509 | S16: =INDEX(Calendrier!$CA$5:$CA$11,WEEKDAY(T16,2)) -> Mer | T16: =+T15+1 -> 43537 | Y16: =INDEX(Calendrier!$CA$5:$CA$11,WEEKDAY(Z16,2)) -> Sam | Z16: =+Z15+1 -> 43568 | AE16: =INDEX(Calendrier!$CA$5:$CA$11,WEEKDAY(AF16,2)) -> Lun | AF16: =+AF15+1 -> 43598 | AK16: =INDEX(Calendrier!$CA$5:$CA$11,WEEKDAY(AL16,2)) -> Jeu | AL16: =+AL15+1 -> 43629 | AQ16: =INDEX(Calendrier!$CA$5:$CA$11,WEEKDAY(AR16,2)) -> Sam | AR16: =+AR15+1 -> 43659 | AW16: =INDEX(Calendrier!$CA$5:$CA$11,WEEKDAY(AX16,2)) -> Mar | AX16: =+AX15+1 -> 43690 | BC16: =INDEX(Calendrier!$CA$5:$CA$11,WEEKDAY(BD16,2)) -> Ven | BD16: =+BD15+1 -> 43721 | BI16: =INDEX(Calendrier!$CA$5:$CA$11,WEEKDAY(BJ16,2)) -> Dim | BJ16: =+BJ15+1 -> 43751 | BO16: =INDEX(Calendrier!$CA$5:$CA$11,WEEKDAY(BP16,2)) -> Mer | BP16: =+BP15+1 -> 43782 | BU16: =INDEX(Calendrier!$CA$5:$CA$11,WEEKDAY(BV16,2)) -> Ven | BV16: =+BV15+1 -> 43812
A17: =INDEX(Calendrier!$CA$5:$CA$11,WEEKDAY(B17,2)) -> Ven | B17: =+B16+1 -> 43448 | G17: =INDEX(Calendrier!$CA$5:$CA$11,WEEKDAY(H17,2)) -> Lun | H17: =+H16+1 -> 43479 | M17: =INDEX(Calendrier!$CA$5:$CA$11,WEEKDAY(N17,2)) -> Jeu | N17: =+N16+1 -> 43510 | S17: =INDEX(Calendrier!$CA$5:$CA$11,WEEKDAY(T17,2)) -> Jeu | T17: =+T16+1 -> 43538 | Y17: =INDEX(Calendrier!$CA$5:$CA$11,WEEKDAY(Z17,2)) -> Dim | Z17: =+Z16+1 -> 43569 | AE17: =INDEX(Calendrier!$CA$5:$CA$11,WEEKDAY(AF17,2)) -> Mar | AF17: =+AF16+1 -> 43599 | AK17: =INDEX(Calendrier!$CA$5:$CA$11,WEEKDAY(AL17,2)) -> Ven | AL17: =+AL16+1 -> 43630 | AQ17: =INDEX(Calendrier!$CA$5:$CA$11,WEEKDAY(AR17,2)) -> Dim | AR17: =+AR16+1 -> 43660 | AW17: =INDEX(Calendrier!$CA$5:$CA$11,WEEKDAY(AX17,2)) -> Mer | AX17: =+AX16+1 -> 43691 | BC17: =INDEX(Calendrier!$CA$5:$CA$11,WEEKDAY(BD17,2)) -> Sam | BD17: =+BD16+1 -> 43722 | BI17: =INDEX(Calendrier!$CA$5:$CA$11,WEEKDAY(BJ17,2)) -> Lun | BJ17: =+BJ16+1 -> 43752 | BO17: =INDEX(Calendrier!$CA$5:$CA$11,WEEKDAY(BP17,2)) -> Jeu | BP17: =+BP16+1 -> 43783 | BU17: =INDEX(Calendrier!$CA$5:$CA$11,WEEKDAY(BV17,2)) -> Sam | BV17: =+BV16+1 -> 43813
A18: =INDEX(Calendrier!$CA$5:$CA$11,WEEKDAY(B18,2)) -> Sam | B18: =+B17+1 -> 43449 | G18: =INDEX(Calendrier!$CA$5:$CA$11,WEEKDAY(H18,2)) -> Mar | H18: =+H17+1 -> 43480 | M18: =INDEX(Calendrier!$CA$5:$CA$11,WEEKDAY(N18,2)) -> Ven | N18: =+N17+1 -> 43511 | S18: =INDEX(Calendrier!$CA$5:$CA$11,WEEKDAY(T18,2)) -> Ven | T18: =+T17+1 -> 43539 | Y18: =INDEX(Calendrier!$CA$5:$CA$11,WEEKDAY(Z18,2)) -> Lun | Z18: =+Z17+1 -> 43570 | AE18: =INDEX(Calendrier!$CA$5:$CA$11,WEEKDAY(AF18,2)) -> Mer | AF18: =+AF17+1 -> 43600 | AK18: =INDEX(Calendrier!$CA$5:$CA$11,WEEKDAY(AL18,2)) -> Sam | AL18: =+AL17+1 -> 43631 | AQ18: =INDEX(Calendrier!$CA$5:$CA$11,WEEKDAY(AR18,2)) -> Lun | AR18: =+AR17+1 -> 43661 | AW18: =INDEX(Calendrier!$CA$5:$CA$11,WEEKDAY(AX18,2)) -> Jeu | AX18: =+AX17+1 -> 43692 | BC18: =INDEX(Calendrier!$CA$5:$CA$11,WEEKDAY(BD18,2)) -> Dim | BD18: =+BD17+1 -> 43723 | BI18: =INDEX(Calendrier!$CA$5:$CA$11,WEEKDAY(BJ18,2)) -> Mar | BJ18: =+BJ17+1 -> 43753 | BO18: =INDEX(Calendrier!$CA$5:$CA$11,WEEKDAY(BP18,2)) -> Ven | BP18: =+BP17+1 -> 43784 | BU18: =INDEX(Calendrier!$CA$5:$CA$11,WEEKDAY(BV18,2)) -> Dim | BV18: =+BV17+1 -> 43814
A19: =INDEX(Calendrier!$CA$5:$CA$11,WEEKDAY(B19,2)) -> Dim | B19: =+B18+1 -> 43450 | G19: =INDEX(Calendrier!$CA$5:$CA$11,WEEKDAY(H19,2)) -> Mer | H19: =+H18+1 -> 43481 | M19: =INDEX(Calendrier!$CA$5:$CA$11,WEEKDAY(N19,2)) -> Sam | N19: =+N18+1 -> 43512 | S19: =INDEX(Calendrier!$CA$5:$CA$11,WEEKDAY(T19,2)) -> Sam | T19: =+T18+1 -> 43540 | Y19: =INDEX(Calendrier!$CA$5:$CA$11,WEEKDAY(Z19,2)) -> Mar | Z19: =+Z18+1 -> 43571 | AE19: =INDEX(Calendrier!$CA$5:$CA$11,WEEKDAY(AF19,2)) -> Jeu | AF19: =+AF18+1 -> 43601 | AK19: =INDEX(Calendrier!$CA$5:$CA$11,WEEKDAY(AL19,2)) -> Dim | AL19: =+AL18+1 -> 43632 | AQ19: =INDEX(Calendrier!$CA$5:$CA$11,WEEKDAY(AR19,2)) -> Mar | AR19: =+AR18+1 -> 43662 | AW19: =INDEX(Calendrier!$CA$5:$CA$11,WEEKDAY(AX19,2)) -> Ven | AX19: =+AX18+1 -> 43693 | BC19: =INDEX(Calendrier!$CA$5:$CA$11,WEEKDAY(BD19,2)) -> Lun | BD19: =+BD18+1 -> 43724 | BI19: =INDEX(Calendrier!$CA$5:$CA$11,WEEKDAY(BJ19,2)) -> Mer | BJ19: =+BJ18+1 -> 43754 | BO19: =INDEX(Calendrier!$CA$5:$CA$11,WEEKDAY(BP19,2)) -> Sam | BP19: =+BP18+1 -> 43785 | BU19: =INDEX(Calendrier!$CA$5:$CA$11,WEEKDAY(BV19,2)) -> Lun | BV19: =+BV18+1 -> 43815
A20: =INDEX(Calendrier!$CA$5:$CA$11,WEEKDAY(B20,2)) -> Lun | B20: =+B19+1 -> 43451 | G20: =INDEX(Calendrier!$CA$5:$CA$11,WEEKDAY(H20,2)) -> Jeu | H20: =+H19+1 -> 43482 | M20: =INDEX(Calendrier!$CA$5:$CA$11,WEEKDAY(N20,2)) -> Dim | N20: =+N19+1 -> 43513 | S20: =INDEX(Calendrier!$CA$5:$CA$11,WEEKDAY(T20,2)) -> Dim | T20: =+T19+1 -> 43541 | Y20: =INDEX(Calendrier!$CA$5:$CA$11,WEEKDAY(Z20,2)) -> Mer | Z20: =+Z19+1 -> 43572 | AE20: =INDEX(Calendrier!$CA$5:$CA$11,WEEKDAY(AF20,2)) -> Ven | AF20: =+AF19+1 -> 43602 | AK20: =INDEX(Calendrier!$CA$5:$CA$11,WEEKDAY(AL20,2)) -> Lun | AL20: =+AL19+1 -> 43633 | AQ20: =INDEX(Calendrier!$CA$5:$CA$11,WEEKDAY(AR20,2)) -> Mer | AR20: =+AR19+1 -> 43663 | AW20: =INDEX(Calendrier!$CA$5:$CA$11,WEEKDAY(AX20,2)) -> Sam | AX20: =+AX19+1 -> 43694 | BC20: =INDEX(Calendrier!$CA$5:$CA$11,WEEKDAY(BD20,2)) -> Mar | BD20: =+BD19+1 -> 43725 | BI20: =INDEX(Calendrier!$CA$5:$CA$11,WEEKDAY(BJ20,2)) -> Jeu | BJ20: =+BJ19+1 -> 43755 | BO20: =INDEX(Calendrier!$CA$5:$CA$11,WEEKDAY(BP20,2)) -> Dim | BP20: =+BP19+1 -> 43786 | BU20: =INDEX(Calendrier!$CA$5:$CA$11,WEEKDAY(BV20,2)) -> Mar | BV20: =+BV19+1 -> 43816
A21: =INDEX(Calendrier!$CA$5:$CA$11,WEEKDAY(B21,2)) -> Mar | B21: =+B20+1 -> 43452 | G21: =INDEX(Calendrier!$CA$5:$CA$11,WEEKDAY(H21,2)) -> Ven | H21: =+H20+1 -> 43483 | M21: =INDEX(Calendrier!$CA$5:$CA$11,WEEKDAY(N21,2)) -> Lun | N21: =+N20+1 -> 43514 | S21: =INDEX(Calendrier!$CA$5:$CA$11,WEEKDAY(T21,2)) -> Lun | T21: =+T20+1 -> 43542 | Y21: =INDEX(Calendrier!$CA$5:$CA$11,WEEKDAY(Z21,2)) -> Jeu | Z21: =+Z20+1 -> 43573 | AE21: =INDEX(Calendrier!$CA$5:$CA$11,WEEKDAY(AF21,2)) -> Sam | AF21: =+AF20+1 -> 43603 | AK21: =INDEX(Calendrier!$CA$5:$CA$11,WEEKDAY(AL21,2)) -> Mar | AL21: =+AL20+1 -> 43634 | AQ21: =INDEX(Calendrier!$CA$5:$CA$11,WEEKDAY(AR21,2)) -> Jeu | AR21: =+AR20+1 -> 43664 | AW21: =INDEX(Calendrier!$CA$5:$CA$11,WEEKDAY(AX21,2)) -> Dim | AX21: =+AX20+1 -> 43695 | BC21: =INDEX(Calendrier!$CA$5:$CA$11,WEEKDAY(BD21,2)) -> Mer | BD21: =+BD20+1 -> 43726 | BI21: =INDEX(Calendrier!$CA$5:$CA$11,WEEKDAY(BJ21,2)) -> Ven | BJ21: =+BJ20+1 -> 43756 | BO21: =INDEX(Calendrier!$CA$5:$CA$11,WEEKDAY(BP21,2)) -> Lun | BP21: =+BP20+1 -> 43787 | BU21: =INDEX(Calendrier!$CA$5:$CA$11,WEEKDAY(BV21,2)) -> Mer | BV21: =+BV20+1 -> 43817
A22: =INDEX(Calendrier!$CA$5:$CA$11,WEEKDAY(B22,2)) -> Mer | B22: =+B21+1 -> 43453 | G22: =INDEX(Calendrier!$CA$5:$CA$11,WEEKDAY(H22,2)) -> Sam | H22: =+H21+1 -> 43484 | M22: =INDEX(Calendrier!$CA$5:$CA$11,WEEKDAY(N22,2)) -> Mar | N22: =+N21+1 -> 43515 | S22: =INDEX(Calendrier!$CA$5:$CA$11,WEEKDAY(T22,2)) -> Mar | T22: =+T21+1 -> 43543 | Y22: =INDEX(Calendrier!$CA$5:$CA$11,WEEKDAY(Z22,2)) -> Ven | Z22: =+Z21+1 -> 43574 | AE22: =INDEX(Calendrier!$CA$5:$CA$11,WEEKDAY(AF22,2)) -> Dim | AF22: =+AF21+1 -> 43604 | AK22: =INDEX(Calendrier!$CA$5:$CA$11,WEEKDAY(AL22,2)) -> Mer | AL22: =+AL21+1 -> 43635 | AQ22: =INDEX(Calendrier!$CA$5:$CA$11,WEEKDAY(AR22,2)) -> Ven | AR22: =+AR21+1 -> 43665 | AW22: =INDEX(Calendrier!$CA$5:$CA$11,WEEKDAY(AX22,2)) -> Lun | AX22: =+AX21+1 -> 43696 | BC22: =INDEX(Calendrier!$CA$5:$CA$11,WEEKDAY(BD22,2)) -> Jeu | BD22: =+BD21+1 -> 43727 | BI22: =INDEX(Calendrier!$CA$5:$CA$11,WEEKDAY(BJ22,2)) -> Sam | BJ22: =+BJ21+1 -> 43757 | BO22: =INDEX(Calendrier!$CA$5:$CA$11,WEEKDAY(BP22,2)) -> Mar | BP22: =+BP21+1 -> 43788 | BU22: =INDEX(Calendrier!$CA$5:$CA$11,WEEKDAY(BV22,2)) -> Jeu | BV22: =+BV21+1 -> 43818
A23: =INDEX(Calendrier!$CA$5:$CA$11,WEEKDAY(B23,2)) -> Jeu | B23: =+B22+1 -> 43454 | G23: =INDEX(Calendrier!$CA$5:$CA$11,WEEKDAY(H23,2)) -> Dim | H23: =+H22+1 -> 43485 | M23: =INDEX(Calendrier!$CA$5:$CA$11,WEEKDAY(N23,2)) -> Mer | N23: =+N22+1 -> 43516 | S23: =INDEX(Calendrier!$CA$5:$CA$11,WEEKDAY(T23,2)) -> Mer | T23: =+T22+1 -> 43544 | Y23: =INDEX(Calendrier!$CA$5:$CA$11,WEEKDAY(Z23,2)) -> Sam | Z23: =+Z22+1 -> 43575 | AE23: =INDEX(Calendrier!$CA$5:$CA$11,WEEKDAY(AF23,2)) -> Lun | AF23: =+AF22+1 -> 43605 | AK23: =INDEX(Calendrier!$CA$5:$CA$11,WEEKDAY(AL23,2)) -> Jeu | AL23: =+AL22+1 -> 43636 | AQ23: =INDEX(Calendrier!$CA$5:$CA$11,WEEKDAY(AR23,2)) -> Sam | AR23: =+AR22+1 -> 43666 | AW23: =INDEX(Calendrier!$CA$5:$CA$11,WEEKDAY(AX23,2)) -> Mar | AX23: =+AX22+1 -> 43697 | BC23: =INDEX(Calendrier!$CA$5:$CA$11,WEEKDAY(BD23,2)) -> Ven | BD23: =+BD22+1 -> 43728 | BI23: =INDEX(Calendrier!$CA$5:$CA$11,WEEKDAY(BJ23,2)) -> Dim | BJ23: =+BJ22+1 -> 43758 | BO23: =INDEX(Calendrier!$CA$5:$CA$11,WEEKDAY(BP23,2)) -> Mer | BP23: =+BP22+1 -> 43789 | BU23: =INDEX(Calendrier!$CA$5:$CA$11,WEEKDAY(BV23,2)) -> Ven | BV23: =+BV22+1 -> 43819
A24: =INDEX(Calendrier!$CA$5:$CA$11,WEEKDAY(B24,2)) -> Ven | B24: =+B23+1 -> 43455 | G24: =INDEX(Calendrier!$CA$5:$CA$11,WEEKDAY(H24,2)) -> Lun | H24: =+H23+1 -> 43486 | M24: =INDEX(Calendrier!$CA$5:$CA$11,WEEKDAY(N24,2)) -> Jeu | N24: =+N23+1 -> 43517 | S24: =INDEX(Calendrier!$CA$5:$CA$11,WEEKDAY(T24,2)) -> Jeu | T24: =+T23+1 -> 43545 | Y24: =INDEX(Calendrier!$CA$5:$CA$11,WEEKDAY(Z24,2)) -> Dim | Z24: =+Z23+1 -> 43576 | AE24: =INDEX(Calendrier!$CA$5:$CA$11,WEEKDAY(AF24,2)) -> Mar | AF24: =+AF23+1 -> 43606 | AK24: =INDEX(Calendrier!$CA$5:$CA$11,WEEKDAY(AL24,2)) -> Ven | AL24: =+AL23+1 -> 43637 | AQ24: =INDEX(Calendrier!$CA$5:$CA$11,WEEKDAY(AR24,2)) -> Dim | AR24: =+AR23+1 -> 43667 | AW24: =INDEX(Calendrier!$CA$5:$CA$11,WEEKDAY(AX24,2)) -> Mer | AX24: =+AX23+1 -> 43698 | BC24: =INDEX(Calendrier!$CA$5:$CA$11,WEEKDAY(BD24,2)) -> Sam | BD24: =+BD23+1 -> 43729 | BI24: =INDEX(Calendrier!$CA$5:$CA$11,WEEKDAY(BJ24,2)) -> Lun | BJ24: =+BJ23+1 -> 43759 | BO24: =INDEX(Calendrier!$CA$5:$CA$11,WEEKDAY(BP24,2)) -> Jeu | BP24: =+BP23+1 -> 43790 | BU24: =INDEX(Calendrier!$CA$5:$CA$11,WEEKDAY(BV24,2)) -> Sam | BV24: =+BV23+1 -> 43820
A25: =INDEX(Calendrier!$CA$5:$CA$11,WEEKDAY(B25,2)) -> Sam | B25: =+B24+1 -> 43456 | G25: =INDEX(Calendrier!$CA$5:$CA$11,WEEKDAY(H25,2)) -> Mar | H25: =+H24+1 -> 43487 | M25: =INDEX(Calendrier!$CA$5:$CA$11,WEEKDAY(N25,2)) -> Ven | N25: =+N24+1 -> 43518 | S25: =INDEX(Calendrier!$CA$5:$CA$11,WEEKDAY(T25,2)) -> Ven | T25: =+T24+1 -> 43546 | Y25: =INDEX(Calendrier!$CA$5:$CA$11,WEEKDAY(Z25,2)) -> Lun | Z25: =+Z24+1 -> 43577 | AE25: =INDEX(Calendrier!$CA$5:$CA$11,WEEKDAY(AF25,2)) -> Mer | AF25: =+AF24+1 -> 43607 | AK25: =INDEX(Calendrier!$CA$5:$CA$11,WEEKDAY(AL25,2)) -> Sam | AL25: =+AL24+1 -> 43638 | AQ25: =INDEX(Calendrier!$CA$5:$CA$11,WEEKDAY(AR25,2)) -> Lun | AR25: =+AR24+1 -> 43668 | AW25: =INDEX(Calendrier!$CA$5:$CA$11,WEEKDAY(AX25,2)) -> Jeu | AX25: =+AX24+1 -> 43699 | BC25: =INDEX(Calendrier!$CA$5:$CA$11,WEEKDAY(BD25,2)) -> Dim | BD25: =+BD24+1 -> 43730 | BI25: =INDEX(Calendrier!$CA$5:$CA$11,WEEKDAY(BJ25,2)) -> Mar | BJ25: =+BJ24+1 -> 43760 | BO25: =INDEX(Calendrier!$CA$5:$CA$11,WEEKDAY(BP25,2)) -> Ven | BP25: =+BP24+1 -> 43791 | BU25: =INDEX(Calendrier!$CA$5:$CA$11,WEEKDAY(BV25,2)) -> Dim | BV25: =+BV24+1 -> 43821
A26: =INDEX(Calendrier!$CA$5:$CA$11,WEEKDAY(B26,2)) -> Dim | B26: =+B25+1 -> 43457 | G26: =INDEX(Calendrier!$CA$5:$CA$11,WEEKDAY(H26,2)) -> Mer | H26: =+H25+1 -> 43488 | M26: =INDEX(Calendrier!$CA$5:$CA$11,WEEKDAY(N26,2)) -> Sam | N26: =+N25+1 -> 43519 | S26: =INDEX(Calendrier!$CA$5:$CA$11,WEEKDAY(T26,2)) -> Sam | T26: =+T25+1 -> 43547 | Y26: =INDEX(Calendrier!$CA$5:$CA$11,WEEKDAY(Z26,2)) -> Mar | Z26: =+Z25+1 -> 43578 | AE26: =INDEX(Calendrier!$CA$5:$CA$11,WEEKDAY(AF26,2)) -> Jeu | AF26: =+AF25+1 -> 43608 | AK26: =INDEX(Calendrier!$CA$5:$CA$11,WEEKDAY(AL26,2)) -> Dim | AL26: =+AL25+1 -> 43639 | AQ26: =INDEX(Calendrier!$CA$5:$CA$11,WEEKDAY(AR26,2)) -> Mar | AR26: =+AR25+1 -> 43669 | AW26: =INDEX(Calendrier!$CA$5:$CA$11,WEEKDAY(AX26,2)) -> Ven | AX26: =+AX25+1 -> 43700 | BC26: =INDEX(Calendrier!$CA$5:$CA$11,WEEKDAY(BD26,2)) -> Lun | BD26: =+BD25+1 -> 43731 | BI26: =INDEX(Calendrier!$CA$5:$CA$11,WEEKDAY(BJ26,2)) -> Mer | BJ26: =+BJ25+1 -> 43761 | BO26: =INDEX(Calendrier!$CA$5:$CA$11,WEEKDAY(BP26,2)) -> Sam | BP26: =+BP25+1 -> 43792 | BU26: =INDEX(Calendrier!$CA$5:$CA$11,WEEKDAY(BV26,2)) -> Lun | BV26: =+BV25+1 -> 43822
A27: =INDEX(Calendrier!$CA$5:$CA$11,WEEKDAY(B27,2)) -> Lun | B27: =+B26+1 -> 43458 | G27: =INDEX(Calendrier!$CA$5:$CA$11,WEEKDAY(H27,2)) -> Jeu | H27: =+H26+1 -> 43489 | M27: =INDEX(Calendrier!$CA$5:$CA$11,WEEKDAY(N27,2)) -> Dim | N27: =+N26+1 -> 43520 | S27: =INDEX(Calendrier!$CA$5:$CA$11,WEEKDAY(T27,2)) -> Dim | T27: =+T26+1 -> 43548 | Y27: =INDEX(Calendrier!$CA$5:$CA$11,WEEKDAY(Z27,2)) -> Mer | Z27: =+Z26+1 -> 43579 | AE27: =INDEX(Calendrier!$CA$5:$CA$11,WEEKDAY(AF27,2)) -> Ven | AF27: =+AF26+1 -> 43609 | AK27: =INDEX(Calendrier!$CA$5:$CA$11,WEEKDAY(AL27,2)) -> Lun | AL27: =+AL26+1 -> 43640 | AQ27: =INDEX(Calendrier!$CA$5:$CA$11,WEEKDAY(AR27,2)) -> Mer | AR27: =+AR26+1 -> 43670 | AW27: =INDEX(Calendrier!$CA$5:$CA$11,WEEKDAY(AX27,2)) -> Sam | AX27: =+AX26+1 -> 43701 | BC27: =INDEX(Calendrier!$CA$5:$CA$11,WEEKDAY(BD27,2)) -> Mar | BD27: =+BD26+1 -> 43732 | BI27: =INDEX(Calendrier!$CA$5:$CA$11,WEEKDAY(BJ27,2)) -> Jeu | BJ27: =+BJ26+1 -> 43762 | BO27: =INDEX(Calendrier!$CA$5:$CA$11,WEEKDAY(BP27,2)) -> Dim | BP27: =+BP26+1 -> 43793 | BU27: =INDEX(Calendrier!$CA$5:$CA$11,WEEKDAY(BV27,2)) -> Mar | BV27: =+BV26+1 -> 43823
... A31: =INDEX(Calendrier!$CA$5:$CA$11,WEEKDAY(B31,2)) -> Ven | B31: =+B30+1 -> 43462 | G31: =INDEX(Calendrier!$CA$5:$CA$11,WEEKDAY(H31,2)) -> Lun | H31: =+H30+1 -> 43493 | M31: =INDEX(Calendrier!$CA$5:$CA$11,WEEKDAY(N31,2)) -> Jeu | N31: =+N30+1 -> 43524 | S31: =INDEX(Calendrier!$CA$5:$CA$11,WEEKDAY(T31,2)) -> Jeu | T31: =+T30+1 -> 43552 | Y31: =INDEX(Calendrier!$CA$5:$CA$11,WEEKDAY(Z31,2)) -> Dim | Z31: =+Z30+1 -> 43583 | AE31: =INDEX(Calendrier!$CA$5:$CA$11,WEEKDAY(AF31,2)) -> Mar | AF31: =+AF30+1 -> 43613 | AK31: =INDEX(Calendrier!$CA$5:$CA$11,WEEKDAY(AL31,2)) -> Ven | AL31: =+AL30+1 -> 43644 | AQ31: =INDEX(Calendrier!$CA$5:$CA$11,WEEKDAY(AR31,2)) -> Dim | AR31: =+AR30+1 -> 43674 | AW31: =INDEX(Calendrier!$CA$5:$CA$11,WEEKDAY(AX31,2)) -> Mer | AX31: =+AX30+1 -> 43705 | BC31: =INDEX(Calendrier!$CA$5:$CA$11,WEEKDAY(BD31,2)) -> Sam | BD31: =+BD30+1 -> 43736 | BI31: =INDEX(Calendrier!$CA$5:$CA$11,WEEKDAY(BJ31,2)) -> Lun | BJ31: =+BJ30+1 -> 43766 | BO31: =INDEX(Calendrier!$CA$5:$CA$11,WEEKDAY(BP31,2)) -> Jeu | BP31: =+BP30+1 -> 43797 | BU31: =INDEX(Calendrier!$CA$5:$CA$11,WEEKDAY(BV31,2)) -> Sam | BV31: =+BV30+1 -> 43827
A32: =INDEX(Calendrier!$CA$5:$CA$11,WEEKDAY(B32,2)) -> Sam | B32: =+B31+1 -> 43463 | G32: =INDEX(Calendrier!$CA$5:$CA$11,WEEKDAY(H32,2)) -> Mar | H32: =+H31+1 -> 43494 | M32: =IF(MOD(A1,100)<>0,IF(MOD(A1,4)=0,DATEVALUE("29/02/" &A1),""),"") | S32: =INDEX(Calendrier!$CA$5:$CA$11,WEEKDAY(T32,2)) -> Ven | T32: =+T31+1 -> 43553 | Y32: =INDEX(Calendrier!$CA$5:$CA$11,WEEKDAY(Z32,2)) -> Lun | Z32: =+Z31+1 -> 43584 | AE32: =INDEX(Calendrier!$CA$5:$CA$11,WEEKDAY(AF32,2)) -> Mer | AF32: =+AF31+1 -> 43614 | AK32: =INDEX(Calendrier!$CA$5:$CA$11,WEEKDAY(AL32,2)) -> Sam | AL32: =+AL31+1 -> 43645 | AQ32: =INDEX(Calendrier!$CA$5:$CA$11,WEEKDAY(AR32,2)) -> Lun | AR32: =+AR31+1 -> 43675 | AW32: =INDEX(Calendrier!$CA$5:$CA$11,WEEKDAY(AX32,2)) -> Jeu | AX32: =+AX31+1 -> 43706 | BC32: =INDEX(Calendrier!$CA$5:$CA$11,WEEKDAY(BD32,2)) -> Dim | BD32: =+BD31+1 -> 43737 | BI32: =INDEX(Calendrier!$CA$5:$CA$11,WEEKDAY(BJ32,2)) -> Mar | BJ32: =+BJ31+1 -> 43767 | BO32: =INDEX(Calendrier!$CA$5:$CA$11,WEEKDAY(BP32,2)) -> Ven | BP32: =+BP31+1 -> 43798 | BU32: =INDEX(Calendrier!$CA$5:$CA$11,WEEKDAY(BV32,2)) -> Dim | BV32: =+BV31+1 -> 43828
A33: =INDEX(Calendrier!$CA$5:$CA$11,WEEKDAY(B33,2)) -> Dim | B33: =+B32+1 -> 43464 | G33: =INDEX(Calendrier!$CA$5:$CA$11,WEEKDAY(H33,2)) -> Mer | H33: =+H32+1 -> 43495 | S33: =INDEX(Calendrier!$CA$5:$CA$11,WEEKDAY(T33,2)) -> Sam | T33: =+T32+1 -> 43554 | Y33: =INDEX(Calendrier!$CA$5:$CA$11,WEEKDAY(Z33,2)) -> Mar | Z33: =+Z32+1 -> 43585 | AE33: =INDEX(Calendrier!$CA$5:$CA$11,WEEKDAY(AF33,2)) -> Jeu | AF33: =+AF32+1 -> 43615 | AK33: =INDEX(Calendrier!$CA$5:$CA$11,WEEKDAY(AL33,2)) -> Dim | AL33: =+AL32+1 -> 43646 | AQ33: =INDEX(Calendrier!$CA$5:$CA$11,WEEKDAY(AR33,2)) -> Mar | AR33: =+AR32+1 -> 43676 | AW33: =INDEX(Calendrier!$CA$5:$CA$11,WEEKDAY(AX33,2)) -> Ven | AX33: =+AX32+1 -> 43707 | BC33: =INDEX(Calendrier!$CA$5:$CA$11,WEEKDAY(BD33,2)) -> Lun | BD33: =+BD32+1 -> 43738 | BI33: =INDEX(Calendrier!$CA$5:$CA$11,WEEKDAY(BJ33,2)) -> Mer | BJ33: =+BJ32+1 -> 43768 | BO33: =INDEX(Calendrier!$CA$5:$CA$11,WEEKDAY(BP33,2)) -> Sam | BP33: =+BP32+1 -> 43799 | BU33: =INDEX(Calendrier!$CA$5:$CA$11,WEEKDAY(BV33,2)) -> Lun | BV33: =+BV32+1 -> 43829
A34: =INDEX(Calendrier!$CA$5:$CA$11,WEEKDAY(B34,2)) -> Lun | B34: =+B33+1 -> 43465 | G34: =INDEX(Calendrier!$CA$5:$CA$11,WEEKDAY(H34,2)) -> Jeu | H34: =+H33+1 -> 43496 | S34: =INDEX(Calendrier!$CA$5:$CA$11,WEEKDAY(T34,2)) -> Dim | T34: =+T33+1 -> 43555 | AE34: =INDEX(Calendrier!$CA$5:$CA$11,WEEKDAY(AF34,2)) -> Ven | AF34: =+AF33+1 -> 43616 | AQ34: =INDEX(Calendrier!$CA$5:$CA$11,WEEKDAY(AR34,2)) -> Mer | AR34: =+AR33+1 -> 43677 | AW34: =INDEX(Calendrier!$CA$5:$CA$11,WEEKDAY(AX34,2)) -> Sam | AX34: =+AX33+1 -> 43708 | BI34: =INDEX(Calendrier!$CA$5:$CA$11,WEEKDAY(BJ34,2)) -> Jeu | BJ34: =+BJ33+1 -> 43769 | BU34: =INDEX(Calendrier!$CA$5:$CA$11,WEEKDAY(BV34,2)) -> Mar | BV34: =+BV33+1 -> 43830

Sheet Paramètres
A1: 2019
A2: Fériés
A3: =DATE(A1,1,1) -> 43466 | B3: Nouvel An
A4: =ROUND(DATE(A1,4,MOD(234-11*MOD(A1,19),30))/7,)*7-6 -> 43576 | B4: Dimanche de Pâques
A5: =A4+1 -> 43577 | B5: Lundi de Pâques
A6: =DATE(A1,5,1) -> 43586 | B6: Fête du travail
A7: =DATE(A1,5,8) -> 43593 | B7: Victoire 1945
A8: =A4+39 -> 43615 | B8: Ascension
A9: =A4+50 -> 43626 | B9: Lundi de Pentecôte
A10: =DATE(A1,7,14) -> 43660 | B10: Fête nationale
A11: =DATE(A1,8,15) -> 43692 | B11: Assomption
A12: =DATE(A1,11,1) -> 43770 | B12: Toussaint
A13: =DATE(A1,11,11) -> 43780 | B13: Victoire 1918
A14: =DATE(A1,12,25) -> 43824 | B14: Noël
G24: ,

Sheet Feuil3
