Workbook

Sheet Total
B1: Janvier | C1: Fevrier | D1: Mars | E1: Avril | F1: Mai | G1: Juin | H1: Juillet | I1: Aout | J1: Septembre | K1: Octobre | L1: Novembre | M1: Decembre
B2: 43466 | C2: 43497 | D2: 43525 | E2: 43556 | F2: 43586 | G2: 43617 | H2: 43647 | I2: 43678 | J2: 43709 | K2: 43739 | L2: 43770 | M2: 43800
B3: 43496 | C3: 43524 | D3: 43555 | E3: 43585 | F3: 43616 | G3: 43646 | H3: 43677 | I3: 43708 | J3: 43738 | K3: 43769 | L3: 43799 | M3: 43830
A4: COMPTE PERSO
A5: Shopping | B5: =SUMPRODUCT(Import!$C$2:$C$943*(Import!$B$2:$B$943=$A5)*(Import!$A$2:$A$943>=B$2)*(Import!$A$2:$A$943<=B$3)) -> 15 | C5: =SUMPRODUCT(Import!$C$2:$C$943*(Import!$B$2:$B$943=$A5)*(Import!$A$2:$A$943>=C$2)*(Import!$A$2:$A$943<=C$3)) -> 25 | D5: =SUMPRODUCT(Import!$C$2:$C$943*(Import!$B$2:$B$943=$A5)*(Import!$A$2:$A$943>=D$2)*(Import!$A$2:$A$943<=D$3)) -> 35 | E5: =SUMPRODUCT(Import!$C$2:$C$943*(Import!$B$2:$B$943=$A5)*(Import!$A$2:$A$943>=E$2)*(Import!$A$2:$A$943<=E$3)) -> 0 | F5: =SUMPRODUCT(Import!$C$2:$C$943*(Import!$B$2:$B$943=$A5)*(Import!$A$2:$A$943>=F$2)*(Import!$A$2:$A$943<=F$3)) -> 0 | G5: =SUMPRODUCT(Import!$C$2:$C$943*(Import!$B$2:$B$943=$A5)*(Import!$A$2:$A$943>=G$2)*(Import!$A$2:$A$943<=G$3)) -> 0 | H5: =SUMPRODUCT(Import!$C$2:$C$943*(Import!$B$2:$B$943=$A5)*(Import!$A$2:$A$943>=H$2)*(Import!$A$2:$A$943<=H$3)) -> 0 | I5: =SUMPRODUCT(Import!$C$2:$C$943*(Import!$B$2:$B$943=$A5)*(Import!$A$2:$A$943>=I$2)*(Import!$A$2:$A$943<=I$3)) -> 0 | ... M5: =SUMPRODUCT(Import!$C$2:$C$943*(Import!$B$2:$B$943=$A5)*(Import!$A$2:$A$943>=M$2)*(Import!$A$2:$A$943<=M$3)) -> 0
A6: Alimentation | B6: =SUMPRODUCT(Import!C$2:C$943*(Import!B$2:B$943=A6)*(Import!A$2:A$943>=B$2)*(Import!A$2:A$943<=B$3)) -> 20 | C6: =SUMPRODUCT(Import!$C$2:$C$943*(Import!$B$2:$B$943=$A6)*(Import!$A$2:$A$943>=C$2)*(Import!$A$2:$A$943<=C$3)) -> 30 | D6: =SUMPRODUCT(Import!$C$2:$C$943*(Import!$B$2:$B$943=$A6)*(Import!$A$2:$A$943>=D$2)*(Import!$A$2:$A$943<=D$3)) -> 10 | E6: =SUMPRODUCT(Import!$C$2:$C$943*(Import!$B$2:$B$943=$A6)*(Import!$A$2:$A$943>=E$2)*(Import!$A$2:$A$943<=E$3)) -> 0 | F6: =SUMPRODUCT(Import!$C$2:$C$943*(Import!$B$2:$B$943=$A6)*(Import!$A$2:$A$943>=F$2)*(Import!$A$2:$A$943<=F$3)) -> 0 | G6: =SUMPRODUCT(Import!$C$2:$C$943*(Import!$B$2:$B$943=$A6)*(Import!$A$2:$A$943>=G$2)*(Import!$A$2:$A$943<=G$3)) -> 0 | H6: =SUMPRODUCT(Import!$C$2:$C$943*(Import!$B$2:$B$943=$A6)*(Import!$A$2:$A$943>=H$2)*(Import!$A$2:$A$943<=H$3)) -> 0 | I6: =SUMPRODUCT(Import!$C$2:$C$943*(Import!$B$2:$B$943=$A6)*(Import!$A$2:$A$943>=I$2)*(Import!$A$2:$A$943<=I$3)) -> 0 | J6: =SUMPRODUCT(Import!$C$2:$C$943*(Import!$B$2:$B$943=$A6)*(Import!$A$2:$A$943>=J$2)*(Import!$A$2:$A$943<=J$3)) -> 0 | ... M6: =SUMPRODUCT(Import!$C$2:$C$943*(Import!$B$2:$B$943=$A6)*(Import!$A$2:$A$943>=M$2)*(Import!$A$2:$A$943<=M$3)) -> 0
A7: Total | B7: =SUM(B5:B6) -> 35

Sheet Import
A1: Date | B1: Catégorie | C1: Montant
A2: 43529 | B2: Alimentation | C2: 10
A3: 43469 | B3: Alimentation | C3: 20
A4: 43475 | B4: Shopping | C4: 15
A5: 43512 | B5: Alimentation | C5: 30
A6: 43513 | B6: Shopping | C6: 25
A7: 43525 | B7: Shopping | C7: 35
