Workbook
Name Catégories: OFFSET(Catégories!$A$2,,,COUNTA(Catégories!$A:$A),1)
Name NomClasse1: OFFSET('Liste élèves'!$B$3,0,0,COUNTA('Liste élèves'!$B:$B)-2)
Name NomClasse10: 'Liste élèves'!$AL$3:$AL$100
Name NomClasse2: OFFSET('Liste élèves'!$F$3,0,0,COUNTA('Liste élèves'!$F:$F)-2)
Name NomClasse3: 'Liste élèves'!$J$3:$J$100
Name NomClasse4: 'Liste élèves'!$N$3:$N$100
Name NomClasse5: 'Liste élèves'!$R$3:$R$100
Name NomClasse6: 'Liste élèves'!$V$3:$V$100
Name NomClasse7: 'Liste élèves'!$Z$3:$Z$100
Name NomClasse8: 'Liste élèves'!$AD$3:$AD$100
Name NomClasse9: 'Liste élèves'!$AH$3:$AH$100

Sheet Journal
A1: Journal des dépenses et recettes
A3: Date | B3: Catégorie | C3: Description | D3: Dépense | E3: Recette | F3: Solde | G3: Classe | H3: Nom | P3: ='Liste élèves'!B1 -> CP1 | Q3: Classe1
A4: 43009 | C4: Solde début d'année | F4: 200000 | G4: CP2 | P4: ='Liste élèves'!F1 -> CP2 | Q4: Classe2
A5: 43010 | B5: Communication | C5: 1 | D5: 35000 | F5: =F4+E5-D5 -> 165000 | P5: ='Liste élèves'!J1 -> CE1 | Q5: Classe3
A6: 43011 | B6: Contribution à la DDEC | C6: 2 | D6: 10000 | F6: =F5+E6-D6 -> 155000 | P6: ='Liste élèves'!N1 -> CE2 | Q6: Classe4
A7: 43012 | B7: Fournitures | C7: 3 | D7: 30000 | F7: =F6+E7-D7 -> 125000 | P7: ='Liste élèves'!R1 -> CM1 | Q7: Classe5
A8: 43013 | B8: Communication | C8: 4 | D8: 15000 | F8: =F7+E8-D8 -> 110000 | P8: ='Liste élèves'!V1 -> CM2 | Q8: Classe6
A9: 43014 | B9: Frais de scolarité | C9: 5 | E9: 300000 | F9: =F8+E9-D9 -> 410000 | P9: ='Liste élèves'!Z1 -> 0 | Q9: Classe7
A10: 43015 | B10: Salaires | C10: 6 | D10: 15000 | F10: =F9+E10-D10 -> 395000 | P10: ='Liste élèves'!AD1 -> 0 | Q10: Classe8
A11: 43016 | B11: Frais de scolarité | C11: 7 | E11: 100000 | F11: =F10+E11-D11 -> 495000 | P11: ='Liste élèves'!AH1 -> 0 | Q11: Classe9
A12: 43017 | B12: Communication | C12: 8 | D12: 45000 | F12: =F11+E12-D12 -> 450000 | P12: ='Liste élèves'!AL1 -> 0 | Q12: Classe10
A13: 43018 | B13: Frais de scolarité | C13: 9 | E13: 100000 | F13: =F12+E13-D13 -> 550000
A14: 43019 | B14: Fournitures | C14: 10 | D14: 20000 | F14: =F13+E14-D14 -> 530000
A15: 43020 | B15: Matériel | C15: 11 | D15: 30000 | F15: =F14+E15-D15 -> 500000
A16: 43021 | B16: Salaires | C16: 12 | D16: 40000 | F16: =F15+E16-D16 -> 460000
A17: 43022 | B17: Communication | C17: 13 | D17: 15000 | F17: =F16+E17-D17 -> 445000
A18: 43023 | B18: Fournitures | C18: 14 | D18: 20000 | F18: =F17+E18-D18 -> 425000
A19: 43024 | B19: Salaires | C19: 15 | D19: 40000 | F19: =F18+E19-D19 -> 385000
A20: 43025 | B20: Contribution à la DDEC | C20: 16 | D20: 50000 | F20: =F19+E20-D20 -> 335000
A21: 43026 | B21: Frais de scolarité | C21: 17 | E21: 100000 | F21: =F20+E21-D21 -> 435000
A22: 43027 | B22: Frais de scolarité | C22: 18 | E22: 100000 | F22: =F21+E22-D22 -> 535000
A23: 43028 | B23: Frais de scolarité | C23: 19 | E23: 100000 | F23: =F22+E23-D23 -> 635000
A24: 43029 | B24: Matériel | C24: 20 | D24: 5000 | F24: =F23+E24-D24 -> 630000
A25: 43030 | B25: Frais de scolarité | C25: 21 | E25: 100000 | F25: =F24+E25-D25 -> 730000
A26: 43031 | B26: Transport | C26: 22 | D26: 25000 | F26: =F25+E26-D26 -> 705000
A27: 43032 | B27: Matériel | C27: 23 | D27: 10000 | F27: =F26+E27-D27 -> 695000
A28: 43033 | B28: Fournitures | C28: 24 | D28: 45000 | F28: =F27+E28-D28 -> 650000
A29: 43034 | B29: Salaires | C29: 25 | D29: 25000 | F29: =F28+E29-D29 -> 625000
A30: 43035 | B30: Matériel | C30: 26 | D30: 5000 | F30: =F29+E30-D30 -> 620000
A31: 43036 | B31: Frais de scolarité | C31: 27 | E31: 100000 | F31: =F30+E31-D31 -> 720000
A32: 43037 | B32: Contribution à la DDEC | C32: 28 | D32: 40000 | F32: =F31+E32-D32 -> 680000
A33: 43038 | B33: Salaires | C33: 29 | D33: 15000 | F33: =F32+E33-D33 -> 665000
A34: 43039 | B34: Transport | C34: 30 | D34: 5000 | F34: =F33+E34-D34 -> 660000
A35: 43040 | B35: Frais de scolarité | C35: 31 | E35: 100000 | F35: =F34+E35-D35 -> 760000
A36: 43041 | B36: Fournitures | C36: 32 | D36: 35000 | F36: =F35+E36-D36 -> 725000
A37: 43042 | B37: Fournitures | C37: 33 | D37: 50000 | F37: =F36+E37-D37 -> 675000
A38: 43043 | B38: Transport | C38: 34 | D38: 10000 | F38: =F37+E38-D38 -> 665000
A39: 43044 | B39: Frais de scolarité | C39: 35 | E39: 100000 | F39: =F38+E39-D39 -> 765000
A40: 43045 | B40: Salaires | C40: 36 | D40: 45000 | F40: =F39+E40-D40 -> 720000
A41: 43046 | B41: Fournitures | C41: 37 | D41: 40000 | F41: =F40+E41-D41 -> 680000
...

Sheet Catégories
A1: Dépenses/Recettes | C1: Contribution | D1: 300000
A2: DEPENSES
A3: Fournitures
A4: Matériel
A5: Transport
A6: Communication
A7: Contribution à la DDEC
A8: Salaires
A10: RECETTES
A11: Frais de scolarité

Sheet Liste élèves
B1: CP1 | F1: CP2 | J1: CE1 | N1: CE2 | R1: CM1 | V1: CM2
A2: N° | B2: Nom | C2: Contribution | D2: Reste à payer | F2: Nom | G2: Contribution | H2: Reste à payer | J2: Nom | K2: Contribution | L2: Reste à payer | N2: Nom | O2: Contribution | P2: Reste à payer | R2: Nom | S2: Contribution | T2: Reste à payer | V2: Nom | W2: Contribution | X2: Reste à payer | Z2: Nom | AA2: Contribution | AB2: Reste à payer | AD2: Nom | AE2: Contribution | AF2: Reste à payer | AH2: Nom | AI2: Contribution | AJ2: Reste à payer | AL2: Nom | AM2: Contribution | AN2: Reste à payer
A3: 1 | B3: CP1A | C3: =IF(ISBLANK(B3),"",SUMIFS(Journal!$E:$E,Journal!$G:$G,"="&B$1,Journal!$H:$H,"="&B3)) -> 0 | D3: =IF(ISBLANK(B3),"",Catégories!$D$1-C3) -> 300000 | F3: CP2AB | G3: =IF(ISBLANK(F3),"",SUMIFS(Journal!$E:$E,Journal!$G:$G,"="&F$1,Journal!$H:$H,"="&F3)) -> 0 | H3: =IF(ISBLANK(F3),"",Catégories!$D$1-G3) -> 300000 | J3: CE1AB | K3: =IF(ISBLANK(J3),"",SUMIFS(Journal!$E:$E,Journal!$G:$G,"="&J$1,Journal!$H:$H,"="&J3)) -> 0 | L3: =IF(ISBLANK(J3),"",Catégories!$D$1-K3) -> 300000 | N3: CE2AB | O3: =IF(ISBLANK(N3),"",SUMIFS(Journal!$E:$E,Journal!$G:$G,"="&N$1,Journal!$H:$H,"="&N3)) -> 0 | P3: =IF(ISBLANK(N3),"",Catégories!$D$1-O3) -> 300000 | R3: CM1AB | S3: =IF(ISBLANK(R3),"",SUMIFS(Journal!$E:$E,Journal!$G:$G,"="&R$1,Journal!$H:$H,"="&R3)) -> 0 | T3: =IF(ISBLANK(R3),"",Catégories!$D$1-S3) -> 300000 | V3: CM2AB | W3: =IF(ISBLANK(V3),"",SUMIFS(Journal!$E:$E,Journal!$G:$G,"="&V$1,Journal!$H:$H,"="&V3)) -> 0 | X3: =IF(ISBLANK(V3),"",Catégories!$D$1-W3) -> 300000 | AA3: =IF(ISBLANK(Z3),"",SUMIFS(Journal!$E:$E,Journal!$G:$G,"="&Z$1,Journal!$H:$H,"="&Z3)) | AB3: =IF(ISBLANK(Z3),"",Catégories!$D$1-AA3) | AE3: =IF(ISBLANK(AD3),"",SUMIFS(Journal!$E:$E,Journal!$G:$G,"="&AD$1,Journal!$H:$H,"="&AD3)) | AF3: =IF(ISBLANK(AD3),"",Catégories!$D$1-AE3) | AI3: =IF(ISBLANK(AH3),"",SUMIFS(Journal!$E:$E,Journal!$G:$G,"="&AH$1,Journal!$H:$H,"="&AH3)) | AJ3: =IF(ISBLANK(AH3),"",Catégories!$D$1-AI3) | AM3: =IF(ISBLANK(AL3),"",SUMIFS(Journal!$E:$E,Journal!$G:$G,"="&AL$1,Journal!$H:$H,"="&AL3)) | AN3: =IF(ISBLANK(AL3),"",Catégories!$D$1-AM3)
A4: 2 | B4: CP1B | C4: =IF(ISBLANK(B4),"",SUMIFS(Journal!$E:$E,Journal!$G:$G,"="&B$1,Journal!$H:$H,"="&B4)) -> 0 | D4: =IF(ISBLANK(B4),"",Catégories!$D$1-C4) -> 300000 | F4: CP2AC | G4: =IF(ISBLANK(F4),"",SUMIFS(Journal!$E:$E,Journal!$G:$G,"="&F$1,Journal!$H:$H,"="&F4)) -> 0 | H4: =IF(ISBLANK(F4),"",Catégories!$D$1-G4) -> 300000 | J4: CE1AC | K4: =IF(ISBLANK(J4),"",SUMIFS(Journal!$E:$E,Journal!$G:$G,"="&J$1,Journal!$H:$H,"="&J4)) -> 0 | L4: =IF(ISBLANK(J4),"",Catégories!$D$1-K4) -> 300000 | N4: CE2AC | O4: =IF(ISBLANK(N4),"",SUMIFS(Journal!$E:$E,Journal!$G:$G,"="&N$1,Journal!$H:$H,"="&N4)) -> 0 | P4: =IF(ISBLANK(N4),"",Catégories!$D$1-O4) -> 300000 | R4: CM1AC | S4: =IF(ISBLANK(R4),"",SUMIFS(Journal!$E:$E,Journal!$G:$G,"="&R$1,Journal!$H:$H,"="&R4)) -> 0 | T4: =IF(ISBLANK(R4),"",Catégories!$D$1-S4) -> 300000 | V4: CM2AC | W4: =IF(ISBLANK(V4),"",SUMIFS(Journal!$E:$E,Journal!$G:$G,"="&V$1,Journal!$H:$H,"="&V4)) -> 0 | X4: =IF(ISBLANK(V4),"",Catégories!$D$1-W4) -> 300000 | AA4: =IF(ISBLANK(Z4),"",SUMIFS(Journal!$E:$E,Journal!$G:$G,"="&Z$1,Journal!$H:$H,"="&Z4)) | AB4: =IF(ISBLANK(Z4),"",Catégories!$D$1-AA4) | AE4: =IF(ISBLANK(AD4),"",SUMIFS(Journal!$E:$E,Journal!$G:$G,"="&AD$1,Journal!$H:$H,"="&AD4)) | AF4: =IF(ISBLANK(AD4),"",Catégories!$D$1-AE4) | AI4: =IF(ISBLANK(AH4),"",SUMIFS(Journal!$E:$E,Journal!$G:$G,"="&AH$1,Journal!$H:$H,"="&AH4)) | AJ4: =IF(ISBLANK(AH4),"",Catégories!$D$1-AI4) | AM4: =IF(ISBLANK(AL4),"",SUMIFS(Journal!$E:$E,Journal!$G:$G,"="&AL$1,Journal!$H:$H,"="&AL4)) | AN4: =IF(ISBLANK(AL4),"",Catégories!$D$1-AM4)
A5: 3 | B5: CP1C | C5: =IF(ISBLANK(B5),"",SUMIFS(Journal!$E:$E,Journal!$G:$G,"="&B$1,Journal!$H:$H,"="&B5)) -> 0 | D5: =IF(ISBLANK(B5),"",Catégories!$D$1-C5) -> 300000 | F5: CP2AD | G5: =IF(ISBLANK(F5),"",SUMIFS(Journal!$E:$E,Journal!$G:$G,"="&F$1,Journal!$H:$H,"="&F5)) -> 0 | H5: =IF(ISBLANK(F5),"",Catégories!$D$1-G5) -> 300000 | J5: CE1AD | K5: =IF(ISBLANK(J5),"",SUMIFS(Journal!$E:$E,Journal!$G:$G,"="&J$1,Journal!$H:$H,"="&J5)) -> 0 | L5: =IF(ISBLANK(J5),"",Catégories!$D$1-K5) -> 300000 | N5: CE2AD | O5: =IF(ISBLANK(N5),"",SUMIFS(Journal!$E:$E,Journal!$G:$G,"="&N$1,Journal!$H:$H,"="&N5)) -> 0 | P5: =IF(ISBLANK(N5),"",Catégories!$D$1-O5) -> 300000 | R5: CM1AD | S5: =IF(ISBLANK(R5),"",SUMIFS(Journal!$E:$E,Journal!$G:$G,"="&R$1,Journal!$H:$H,"="&R5)) -> 0 | T5: =IF(ISBLANK(R5),"",Catégories!$D$1-S5) -> 300000 | V5: CM2AD | W5: =IF(ISBLANK(V5),"",SUMIFS(Journal!$E:$E,Journal!$G:$G,"="&V$1,Journal!$H:$H,"="&V5)) -> 0 | X5: =IF(ISBLANK(V5),"",Catégories!$D$1-W5) -> 300000 | AA5: =IF(ISBLANK(Z5),"",SUMIFS(Journal!$E:$E,Journal!$G:$G,"="&Z$1,Journal!$H:$H,"="&Z5)) | AB5: =IF(ISBLANK(Z5),"",Catégories!$D$1-AA5) | AE5: =IF(ISBLANK(AD5),"",SUMIFS(Journal!$E:$E,Journal!$G:$G,"="&AD$1,Journal!$H:$H,"="&AD5)) | AF5: =IF(ISBLANK(AD5),"",Catégories!$D$1-AE5) | AI5: =IF(ISBLANK(AH5),"",SUMIFS(Journal!$E:$E,Journal!$G:$G,"="&AH$1,Journal!$H:$H,"="&AH5)) | AJ5: =IF(ISBLANK(AH5),"",Catégories!$D$1-AI5) | AM5: =IF(ISBLANK(AL5),"",SUMIFS(Journal!$E:$E,Journal!$G:$G,"="&AL$1,Journal!$H:$H,"="&AL5)) | AN5: =IF(ISBLANK(AL5),"",Catégories!$D$1-AM5)
A6: 4 | B6: CP1D | C6: =IF(ISBLANK(B6),"",SUMIFS(Journal!$E:$E,Journal!$G:$G,"="&B$1,Journal!$H:$H,"="&B6)) -> 0 | D6: =IF(ISBLANK(B6),"",Catégories!$D$1-C6) -> 300000 | F6: CP2D | G6: =IF(ISBLANK(F6),"",SUMIFS(Journal!$E:$E,Journal!$G:$G,"="&F$1,Journal!$H:$H,"="&F6)) -> 0 | H6: =IF(ISBLANK(F6),"",Catégories!$D$1-G6) -> 300000 | J6: CE1D | K6: =IF(ISBLANK(J6),"",SUMIFS(Journal!$E:$E,Journal!$G:$G,"="&J$1,Journal!$H:$H,"="&J6)) -> 0 | L6: =IF(ISBLANK(J6),"",Catégories!$D$1-K6) -> 300000 | N6: CE2D | O6: =IF(ISBLANK(N6),"",SUMIFS(Journal!$E:$E,Journal!$G:$G,"="&N$1,Journal!$H:$H,"="&N6)) -> 0 | P6: =IF(ISBLANK(N6),"",Catégories!$D$1-O6) -> 300000 | R6: CM1D | S6: =IF(ISBLANK(R6),"",SUMIFS(Journal!$E:$E,Journal!$G:$G,"="&R$1,Journal!$H:$H,"="&R6)) -> 0 | T6: =IF(ISBLANK(R6),"",Catégories!$D$1-S6) -> 300000 | V6: CM2D | W6: =IF(ISBLANK(V6),"",SUMIFS(Journal!$E:$E,Journal!$G:$G,"="&V$1,Journal!$H:$H,"="&V6)) -> 0 | X6: =IF(ISBLANK(V6),"",Catégories!$D$1-W6) -> 300000 | AA6: =IF(ISBLANK(Z6),"",SUMIFS(Journal!$E:$E,Journal!$G:$G,"="&Z$1,Journal!$H:$H,"="&Z6)) | AB6: =IF(ISBLANK(Z6),"",Catégories!$D$1-AA6) | AE6: =IF(ISBLANK(AD6),"",SUMIFS(Journal!$E:$E,Journal!$G:$G,"="&AD$1,Journal!$H:$H,"="&AD6)) | AF6: =IF(ISBLANK(AD6),"",Catégories!$D$1-AE6) | AI6: =IF(ISBLANK(AH6),"",SUMIFS(Journal!$E:$E,Journal!$G:$G,"="&AH$1,Journal!$H:$H,"="&AH6)) | AJ6: =IF(ISBLANK(AH6),"",Catégories!$D$1-AI6) | AM6: =IF(ISBLANK(AL6),"",SUMIFS(Journal!$E:$E,Journal!$G:$G,"="&AL$1,Journal!$H:$H,"="&AL6)) | AN6: =IF(ISBLANK(AL6),"",Catégories!$D$1-AM6)
A7: 5 | B7: CP1E | C7: =IF(ISBLANK(B7),"",SUMIFS(Journal!$E:$E,Journal!$G:$G,"="&B$1,Journal!$H:$H,"="&B7)) -> 0 | D7: =IF(ISBLANK(B7),"",Catégories!$D$1-C7) -> 300000 | F7: CP2E | G7: =IF(ISBLANK(F7),"",SUMIFS(Journal!$E:$E,Journal!$G:$G,"="&F$1,Journal!$H:$H,"="&F7)) -> 0 | H7: =IF(ISBLANK(F7),"",Catégories!$D$1-G7) -> 300000 | J7: CE1E | K7: =IF(ISBLANK(J7),"",SUMIFS(Journal!$E:$E,Journal!$G:$G,"="&J$1,Journal!$H:$H,"="&J7)) -> 0 | L7: =IF(ISBLANK(J7),"",Catégories!$D$1-K7) -> 300000 | N7: CE2E | O7: =IF(ISBLANK(N7),"",SUMIFS(Journal!$E:$E,Journal!$G:$G,"="&N$1,Journal!$H:$H,"="&N7)) -> 0 | P7: =IF(ISBLANK(N7),"",Catégories!$D$1-O7) -> 300000 | R7: CM1E | S7: =IF(ISBLANK(R7),"",SUMIFS(Journal!$E:$E,Journal!$G:$G,"="&R$1,Journal!$H:$H,"="&R7)) -> 0 | T7: =IF(ISBLANK(R7),"",Catégories!$D$1-S7) -> 300000 | V7: CM2E | W7: =IF(ISBLANK(V7),"",SUMIFS(Journal!$E:$E,Journal!$G:$G,"="&V$1,Journal!$H:$H,"="&V7)) -> 0 | X7: =IF(ISBLANK(V7),"",Catégories!$D$1-W7) -> 300000 | AA7: =IF(ISBLANK(Z7),"",SUMIFS(Journal!$E:$E,Journal!$G:$G,"="&Z$1,Journal!$H:$H,"="&Z7)) | AB7: =IF(ISBLANK(Z7),"",Catégories!$D$1-AA7) | AE7: =IF(ISBLANK(AD7),"",SUMIFS(Journal!$E:$E,Journal!$G:$G,"="&AD$1,Journal!$H:$H,"="&AD7)) | AF7: =IF(ISBLANK(AD7),"",Catégories!$D$1-AE7) | AI7: =IF(ISBLANK(AH7),"",SUMIFS(Journal!$E:$E,Journal!$G:$G,"="&AH$1,Journal!$H:$H,"="&AH7)) | AJ7: =IF(ISBLANK(AH7),"",Catégories!$D$1-AI7) | AM7: =IF(ISBLANK(AL7),"",SUMIFS(Journal!$E:$E,Journal!$G:$G,"="&AL$1,Journal!$H:$H,"="&AL7)) | AN7: =IF(ISBLANK(AL7),"",Catégories!$D$1-AM7)
A8: 6 | B8: CP1F | C8: =IF(ISBLANK(B8),"",SUMIFS(Journal!$E:$E,Journal!$G:$G,"="&B$1,Journal!$H:$H,"="&B8)) -> 0 | D8: =IF(ISBLANK(B8),"",Catégories!$D$1-C8) -> 300000 | F8: CP2F | G8: =IF(ISBLANK(F8),"",SUMIFS(Journal!$E:$E,Journal!$G:$G,"="&F$1,Journal!$H:$H,"="&F8)) -> 0 | H8: =IF(ISBLANK(F8),"",Catégories!$D$1-G8) -> 300000 | J8: CE1F | K8: =IF(ISBLANK(J8),"",SUMIFS(Journal!$E:$E,Journal!$G:$G,"="&J$1,Journal!$H:$H,"="&J8)) -> 0 | L8: =IF(ISBLANK(J8),"",Catégories!$D$1-K8) -> 300000 | N8: CE2F | O8: =IF(ISBLANK(N8),"",SUMIFS(Journal!$E:$E,Journal!$G:$G,"="&N$1,Journal!$H:$H,"="&N8)) -> 0 | P8: =IF(ISBLANK(N8),"",Catégories!$D$1-O8) -> 300000 | R8: CM1F | S8: =IF(ISBLANK(R8),"",SUMIFS(Journal!$E:$E,Journal!$G:$G,"="&R$1,Journal!$H:$H,"="&R8)) -> 0 | T8: =IF(ISBLANK(R8),"",Catégories!$D$1-S8) -> 300000 | V8: CM2F | W8: =IF(ISBLANK(V8),"",SUMIFS(Journal!$E:$E,Journal!$G:$G,"="&V$1,Journal!$H:$H,"="&V8)) -> 0 | X8: =IF(ISBLANK(V8),"",Catégories!$D$1-W8) -> 300000 | AA8: =IF(ISBLANK(Z8),"",SUMIFS(Journal!$E:$E,Journal!$G:$G,"="&Z$1,Journal!$H:$H,"="&Z8)) | AB8: =IF(ISBLANK(Z8),"",Catégories!$D$1-AA8) | AE8: =IF(ISBLANK(AD8),"",SUMIFS(Journal!$E:$E,Journal!$G:$G,"="&AD$1,Journal!$H:$H,"="&AD8)) | AF8: =IF(ISBLANK(AD8),"",Catégories!$D$1-AE8) | AI8: =IF(ISBLANK(AH8),"",SUMIFS(Journal!$E:$E,Journal!$G:$G,"="&AH$1,Journal!$H:$H,"="&AH8)) | AJ8: =IF(ISBLANK(AH8),"",Catégories!$D$1-AI8) | AM8: =IF(ISBLANK(AL8),"",SUMIFS(Journal!$E:$E,Journal!$G:$G,"="&AL$1,Journal!$H:$H,"="&AL8)) | AN8: =IF(ISBLANK(AL8),"",Catégories!$D$1-AM8)
A9: 7 | B9: CP1G | C9: =IF(ISBLANK(B9),"",SUMIFS(Journal!$E:$E,Journal!$G:$G,"="&B$1,Journal!$H:$H,"="&B9)) -> 0 | D9: =IF(ISBLANK(B9),"",Catégories!$D$1-C9) -> 300000 | F9: CP2G | G9: =IF(ISBLANK(F9),"",SUMIFS(Journal!$E:$E,Journal!$G:$G,"="&F$1,Journal!$H:$H,"="&F9)) -> 0 | H9: =IF(ISBLANK(F9),"",Catégories!$D$1-G9) -> 300000 | J9: CE1G | K9: =IF(ISBLANK(J9),"",SUMIFS(Journal!$E:$E,Journal!$G:$G,"="&J$1,Journal!$H:$H,"="&J9)) -> 0 | L9: =IF(ISBLANK(J9),"",Catégories!$D$1-K9) -> 300000 | N9: CE2G | O9: =IF(ISBLANK(N9),"",SUMIFS(Journal!$E:$E,Journal!$G:$G,"="&N$1,Journal!$H:$H,"="&N9)) -> 0 | P9: =IF(ISBLANK(N9),"",Catégories!$D$1-O9) -> 300000 | R9: CM1G | S9: =IF(ISBLANK(R9),"",SUMIFS(Journal!$E:$E,Journal!$G:$G,"="&R$1,Journal!$H:$H,"="&R9)) -> 0 | T9: =IF(ISBLANK(R9),"",Catégories!$D$1-S9) -> 300000 | V9: CM2G | W9: =IF(ISBLANK(V9),"",SUMIFS(Journal!$E:$E,Journal!$G:$G,"="&V$1,Journal!$H:$H,"="&V9)) -> 0 | X9: =IF(ISBLANK(V9),"",Catégories!$D$1-W9) -> 300000 | AA9: =IF(ISBLANK(Z9),"",SUMIFS(Journal!$E:$E,Journal!$G:$G,"="&Z$1,Journal!$H:$H,"="&Z9)) | AB9: =IF(ISBLANK(Z9),"",Catégories!$D$1-AA9) | AE9: =IF(ISBLANK(AD9),"",SUMIFS(Journal!$E:$E,Journal!$G:$G,"="&AD$1,Journal!$H:$H,"="&AD9)) | AF9: =IF(ISBLANK(AD9),"",Catégories!$D$1-AE9) | AI9: =IF(ISBLANK(AH9),"",SUMIFS(Journal!$E:$E,Journal!$G:$G,"="&AH$1,Journal!$H:$H,"="&AH9)) | AJ9: =IF(ISBLANK(AH9),"",Catégories!$D$1-AI9) | AM9: =IF(ISBLANK(AL9),"",SUMIFS(Journal!$E:$E,Journal!$G:$G,"="&AL$1,Journal!$H:$H,"="&AL9)) | AN9: =IF(ISBLANK(AL9),"",Catégories!$D$1-AM9)
A10: 8 | B10: CP1H | C10: =IF(ISBLANK(B10),"",SUMIFS(Journal!$E:$E,Journal!$G:$G,"="&B$1,Journal!$H:$H,"="&B10)) -> 0 | D10: =IF(ISBLANK(B10),"",Catégories!$D$1-C10) -> 300000 | F10: CP2H | G10: =IF(ISBLANK(F10),"",SUMIFS(Journal!$E:$E,Journal!$G:$G,"="&F$1,Journal!$H:$H,"="&F10)) -> 0 | H10: =IF(ISBLANK(F10),"",Catégories!$D$1-G10) -> 300000 | J10: CE1H | K10: =IF(ISBLANK(J10),"",SUMIFS(Journal!$E:$E,Journal!$G:$G,"="&J$1,Journal!$H:$H,"="&J10)) -> 0 | L10: =IF(ISBLANK(J10),"",Catégories!$D$1-K10) -> 300000 | N10: CE2H | O10: =IF(ISBLANK(N10),"",SUMIFS(Journal!$E:$E,Journal!$G:$G,"="&N$1,Journal!$H:$H,"="&N10)) -> 0 | P10: =IF(ISBLANK(N10),"",Catégories!$D$1-O10) -> 300000 | R10: CM1H | S10: =IF(ISBLANK(R10),"",SUMIFS(Journal!$E:$E,Journal!$G:$G,"="&R$1,Journal!$H:$H,"="&R10)) -> 0 | T10: =IF(ISBLANK(R10),"",Catégories!$D$1-S10) -> 300000 | V10: CM2H | W10: =IF(ISBLANK(V10),"",SUMIFS(Journal!$E:$E,Journal!$G:$G,"="&V$1,Journal!$H:$H,"="&V10)) -> 0 | X10: =IF(ISBLANK(V10),"",Catégories!$D$1-W10) -> 300000 | AA10: =IF(ISBLANK(Z10),"",SUMIFS(Journal!$E:$E,Journal!$G:$G,"="&Z$1,Journal!$H:$H,"="&Z10)) | AB10: =IF(ISBLANK(Z10),"",Catégories!$D$1-AA10) | AE10: =IF(ISBLANK(AD10),"",SUMIFS(Journal!$E:$E,Journal!$G:$G,"="&AD$1,Journal!$H:$H,"="&AD10)) | AF10: =IF(ISBLANK(AD10),"",Catégories!$D$1-AE10) | AI10: =IF(ISBLANK(AH10),"",SUMIFS(Journal!$E:$E,Journal!$G:$G,"="&AH$1,Journal!$H:$H,"="&AH10)) | AJ10: =IF(ISBLANK(AH10),"",Catégories!$D$1-AI10) | AM10: =IF(ISBLANK(AL10),"",SUMIFS(Journal!$E:$E,Journal!$G:$G,"="&AL$1,Journal!$H:$H,"="&AL10)) | AN10: =IF(ISBLANK(AL10),"",Catégories!$D$1-AM10)
A11: 9 | B11: CP1I | C11: =IF(ISBLANK(B11),"",SUMIFS(Journal!$E:$E,Journal!$G:$G,"="&B$1,Journal!$H:$H,"="&B11)) -> 0 | D11: =IF(ISBLANK(B11),"",Catégories!$D$1-C11) -> 300000 | F11: CP2I | G11: =IF(ISBLANK(F11),"",SUMIFS(Journal!$E:$E,Journal!$G:$G,"="&F$1,Journal!$H:$H,"="&F11)) -> 0 | H11: =IF(ISBLANK(F11),"",Catégories!$D$1-G11) -> 300000 | J11: CE1I | K11: =IF(ISBLANK(J11),"",SUMIFS(Journal!$E:$E,Journal!$G:$G,"="&J$1,Journal!$H:$H,"="&J11)) -> 0 | L11: =IF(ISBLANK(J11),"",Catégories!$D$1-K11) -> 300000 | N11: CE2I | O11: =IF(ISBLANK(N11),"",SUMIFS(Journal!$E:$E,Journal!$G:$G,"="&N$1,Journal!$H:$H,"="&N11)) -> 0 | P11: =IF(ISBLANK(N11),"",Catégories!$D$1-O11) -> 300000 | R11: CM1I | S11: =IF(ISBLANK(R11),"",SUMIFS(Journal!$E:$E,Journal!$G:$G,"="&R$1,Journal!$H:$H,"="&R11)) -> 0 | T11: =IF(ISBLANK(R11),"",Catégories!$D$1-S11) -> 300000 | V11: CM2I | W11: =IF(ISBLANK(V11),"",SUMIFS(Journal!$E:$E,Journal!$G:$G,"="&V$1,Journal!$H:$H,"="&V11)) -> 0 | X11: =IF(ISBLANK(V11),"",Catégories!$D$1-W11) -> 300000 | AA11: =IF(ISBLANK(Z11),"",SUMIFS(Journal!$E:$E,Journal!$G:$G,"="&Z$1,Journal!$H:$H,"="&Z11)) | AB11: =IF(ISBLANK(Z11),"",Catégories!$D$1-AA11) | AE11: =IF(ISBLANK(AD11),"",SUMIFS(Journal!$E:$E,Journal!$G:$G,"="&AD$1,Journal!$H:$H,"="&AD11)) | AF11: =IF(ISBLANK(AD11),"",Catégories!$D$1-AE11) | AI11: =IF(ISBLANK(AH11),"",SUMIFS(Journal!$E:$E,Journal!$G:$G,"="&AH$1,Journal!$H:$H,"="&AH11)) | AJ11: =IF(ISBLANK(AH11),"",Catégories!$D$1-AI11) | AM11: =IF(ISBLANK(AL11),"",SUMIFS(Journal!$E:$E,Journal!$G:$G,"="&AL$1,Journal!$H:$H,"="&AL11)) | AN11: =IF(ISBLANK(AL11),"",Catégories!$D$1-AM11)
A12: 10 | B12: CP1J | C12: =IF(ISBLANK(B12),"",SUMIFS(Journal!$E:$E,Journal!$G:$G,"="&B$1,Journal!$H:$H,"="&B12)) -> 0 | D12: =IF(ISBLANK(B12),"",Catégories!$D$1-C12) -> 300000 | F12: CP2J | G12: =IF(ISBLANK(F12),"",SUMIFS(Journal!$E:$E,Journal!$G:$G,"="&F$1,Journal!$H:$H,"="&F12)) -> 0 | H12: =IF(ISBLANK(F12),"",Catégories!$D$1-G12) -> 300000 | J12: CE1J | K12: =IF(ISBLANK(J12),"",SUMIFS(Journal!$E:$E,Journal!$G:$G,"="&J$1,Journal!$H:$H,"="&J12)) -> 0 | L12: =IF(ISBLANK(J12),"",Catégories!$D$1-K12) -> 300000 | N12: CE2J | O12: =IF(ISBLANK(N12),"",SUMIFS(Journal!$E:$E,Journal!$G:$G,"="&N$1,Journal!$H:$H,"="&N12)) -> 0 | P12: =IF(ISBLANK(N12),"",Catégories!$D$1-O12) -> 300000 | R12: CM1J | S12: =IF(ISBLANK(R12),"",SUMIFS(Journal!$E:$E,Journal!$G:$G,"="&R$1,Journal!$H:$H,"="&R12)) -> 0 | T12: =IF(ISBLANK(R12),"",Catégories!$D$1-S12) -> 300000 | V12: CM2J | W12: =IF(ISBLANK(V12),"",SUMIFS(Journal!$E:$E,Journal!$G:$G,"="&V$1,Journal!$H:$H,"="&V12)) -> 0 | X12: =IF(ISBLANK(V12),"",Catégories!$D$1-W12) -> 300000 | AA12: =IF(ISBLANK(Z12),"",SUMIFS(Journal!$E:$E,Journal!$G:$G,"="&Z$1,Journal!$H:$H,"="&Z12)) | AB12: =IF(ISBLANK(Z12),"",Catégories!$D$1-AA12) | AE12: =IF(ISBLANK(AD12),"",SUMIFS(Journal!$E:$E,Journal!$G:$G,"="&AD$1,Journal!$H:$H,"="&AD12)) | AF12: =IF(ISBLANK(AD12),"",Catégories!$D$1-AE12) | AI12: =IF(ISBLANK(AH12),"",SUMIFS(Journal!$E:$E,Journal!$G:$G,"="&AH$1,Journal!$H:$H,"="&AH12)) | AJ12: =IF(ISBLANK(AH12),"",Catégories!$D$1-AI12) | AM12: =IF(ISBLANK(AL12),"",SUMIFS(Journal!$E:$E,Journal!$G:$G,"="&AL$1,Journal!$H:$H,"="&AL12)) | AN12: =IF(ISBLANK(AL12),"",Catégories!$D$1-AM12)
A13: 11 | B13: CP1K | C13: =IF(ISBLANK(B13),"",SUMIFS(Journal!$E:$E,Journal!$G:$G,"="&B$1,Journal!$H:$H,"="&B13)) -> 0 | D13: =IF(ISBLANK(B13),"",Catégories!$D$1-C13) -> 300000 | F13: CP2K | G13: =IF(ISBLANK(F13),"",SUMIFS(Journal!$E:$E,Journal!$G:$G,"="&F$1,Journal!$H:$H,"="&F13)) -> 0 | H13: =IF(ISBLANK(F13),"",Catégories!$D$1-G13) -> 300000 | J13: CE1K | K13: =IF(ISBLANK(J13),"",SUMIFS(Journal!$E:$E,Journal!$G:$G,"="&J$1,Journal!$H:$H,"="&J13)) -> 0 | L13: =IF(ISBLANK(J13),"",Catégories!$D$1-K13) -> 300000 | N13: CE2K | O13: =IF(ISBLANK(N13),"",SUMIFS(Journal!$E:$E,Journal!$G:$G,"="&N$1,Journal!$H:$H,"="&N13)) -> 0 | P13: =IF(ISBLANK(N13),"",Catégories!$D$1-O13) -> 300000 | R13: CM1K | S13: =IF(ISBLANK(R13),"",SUMIFS(Journal!$E:$E,Journal!$G:$G,"="&R$1,Journal!$H:$H,"="&R13)) -> 0 | T13: =IF(ISBLANK(R13),"",Catégories!$D$1-S13) -> 300000 | V13: CM2K | W13: =IF(ISBLANK(V13),"",SUMIFS(Journal!$E:$E,Journal!$G:$G,"="&V$1,Journal!$H:$H,"="&V13)) -> 0 | X13: =IF(ISBLANK(V13),"",Catégories!$D$1-W13) -> 300000 | AA13: =IF(ISBLANK(Z13),"",SUMIFS(Journal!$E:$E,Journal!$G:$G,"="&Z$1,Journal!$H:$H,"="&Z13)) | AB13: =IF(ISBLANK(Z13),"",Catégories!$D$1-AA13) | AE13: =IF(ISBLANK(AD13),"",SUMIFS(Journal!$E:$E,Journal!$G:$G,"="&AD$1,Journal!$H:$H,"="&AD13)) | AF13: =IF(ISBLANK(AD13),"",Catégories!$D$1-AE13) | AI13: =IF(ISBLANK(AH13),"",SUMIFS(Journal!$E:$E,Journal!$G:$G,"="&AH$1,Journal!$H:$H,"="&AH13)) | AJ13: =IF(ISBLANK(AH13),"",Catégories!$D$1-AI13) | AM13: =IF(ISBLANK(AL13),"",SUMIFS(Journal!$E:$E,Journal!$G:$G,"="&AL$1,Journal!$H:$H,"="&AL13)) | AN13: =IF(ISBLANK(AL13),"",Catégories!$D$1-AM13)
A14: 12 | B14: CP1L | C14: =IF(ISBLANK(B14),"",SUMIFS(Journal!$E:$E,Journal!$G:$G,"="&B$1,Journal!$H:$H,"="&B14)) -> 0 | D14: =IF(ISBLANK(B14),"",Catégories!$D$1-C14) -> 300000 | F14: CP2L | G14: =IF(ISBLANK(F14),"",SUMIFS(Journal!$E:$E,Journal!$G:$G,"="&F$1,Journal!$H:$H,"="&F14)) -> 0 | H14: =IF(ISBLANK(F14),"",Catégories!$D$1-G14) -> 300000 | J14: CE1L | K14: =IF(ISBLANK(J14),"",SUMIFS(Journal!$E:$E,Journal!$G:$G,"="&J$1,Journal!$H:$H,"="&J14)) -> 0 | L14: =IF(ISBLANK(J14),"",Catégories!$D$1-K14) -> 300000 | N14: CE2L | O14: =IF(ISBLANK(N14),"",SUMIFS(Journal!$E:$E,Journal!$G:$G,"="&N$1,Journal!$H:$H,"="&N14)) -> 0 | P14: =IF(ISBLANK(N14),"",Catégories!$D$1-O14) -> 300000 | R14: CM1L | S14: =IF(ISBLANK(R14),"",SUMIFS(Journal!$E:$E,Journal!$G:$G,"="&R$1,Journal!$H:$H,"="&R14)) -> 0 | T14: =IF(ISBLANK(R14),"",Catégories!$D$1-S14) -> 300000 | V14: CM2L | W14: =IF(ISBLANK(V14),"",SUMIFS(Journal!$E:$E,Journal!$G:$G,"="&V$1,Journal!$H:$H,"="&V14)) -> 0 | X14: =IF(ISBLANK(V14),"",Catégories!$D$1-W14) -> 300000 | AA14: =IF(ISBLANK(Z14),"",SUMIFS(Journal!$E:$E,Journal!$G:$G,"="&Z$1,Journal!$H:$H,"="&Z14)) | AB14: =IF(ISBLANK(Z14),"",Catégories!$D$1-AA14) | AE14: =IF(ISBLANK(AD14),"",SUMIFS(Journal!$E:$E,Journal!$G:$G,"="&AD$1,Journal!$H:$H,"="&AD14)) | AF14: =IF(ISBLANK(AD14),"",Catégories!$D$1-AE14) | AI14: =IF(ISBLANK(AH14),"",SUMIFS(Journal!$E:$E,Journal!$G:$G,"="&AH$1,Journal!$H:$H,"="&AH14)) | AJ14: =IF(ISBLANK(AH14),"",Catégories!$D$1-AI14) | AM14: =IF(ISBLANK(AL14),"",SUMIFS(Journal!$E:$E,Journal!$G:$G,"="&AL$1,Journal!$H:$H,"="&AL14)) | AN14: =IF(ISBLANK(AL14),"",Catégories!$D$1-AM14)
... A29: 27 | B29: CP1AA | C29: =IF(ISBLANK(B29),"",SUMIFS(Journal!$E:$E,Journal!$G:$G,"="&B$1,Journal!$H:$H,"="&B29)) -> 0 | D29: =IF(ISBLANK(B29),"",Catégories!$D$1-C29) -> 300000 | F29: CP2AA | G29: =IF(ISBLANK(F29),"",SUMIFS(Journal!$E:$E,Journal!$G:$G,"="&F$1,Journal!$H:$H,"="&F29)) -> 0 | H29: =IF(ISBLANK(F29),"",Catégories!$D$1-G29) -> 300000 | J29: CE1AA | K29: =IF(ISBLANK(J29),"",SUMIFS(Journal!$E:$E,Journal!$G:$G,"="&J$1,Journal!$H:$H,"="&J29)) -> 0 | L29: =IF(ISBLANK(J29),"",Catégories!$D$1-K29) -> 300000 | N29: CE2AA | O29: =IF(ISBLANK(N29),"",SUMIFS(Journal!$E:$E,Journal!$G:$G,"="&N$1,Journal!$H:$H,"="&N29)) -> 0 | P29: =IF(ISBLANK(N29),"",Catégories!$D$1-O29) -> 300000 | R29: CM1AA | S29: =IF(ISBLANK(R29),"",SUMIFS(Journal!$E:$E,Journal!$G:$G,"="&R$1,Journal!$H:$H,"="&R29)) -> 0 | T29: =IF(ISBLANK(R29),"",Catégories!$D$1-S29) -> 300000 | V29: CM2AA | W29: =IF(ISBLANK(V29),"",SUMIFS(Journal!$E:$E,Journal!$G:$G,"="&V$1,Journal!$H:$H,"="&V29)) -> 0 | X29: =IF(ISBLANK(V29),"",Catégories!$D$1-W29) -> 300000 | AA29: =IF(ISBLANK(Z29),"",SUMIFS(Journal!$E:$E,Journal!$G:$G,"="&Z$1,Journal!$H:$H,"="&Z29)) | AB29: =IF(ISBLANK(Z29),"",Catégories!$D$1-AA29) | AE29: =IF(ISBLANK(AD29),"",SUMIFS(Journal!$E:$E,Journal!$G:$G,"="&AD$1,Journal!$H:$H,"="&AD29)) | AF29: =IF(ISBLANK(AD29),"",Catégories!$D$1-AE29) | AI29: =IF(ISBLANK(AH29),"",SUMIFS(Journal!$E:$E,Journal!$G:$G,"="&AH$1,Journal!$H:$H,"="&AH29)) | AJ29: =IF(ISBLANK(AH29),"",Catégories!$D$1-AI29) | AM29: =IF(ISBLANK(AL29),"",SUMIFS(Journal!$E:$E,Journal!$G:$G,"="&AL$1,Journal!$H:$H,"="&AL29)) | AN29: =IF(ISBLANK(AL29),"",Catégories!$D$1-AM29)
A30: 28 | C30: =IF(ISBLANK(B30),"",SUMIFS(Journal!$E:$E,Journal!$G:$G,"="&B$1,Journal!$H:$H,"="&B30)) | D30: =IF(ISBLANK(B30),"",Catégories!$D$1-C30) | G30: =IF(ISBLANK(F30),"",SUMIFS(Journal!$E:$E,Journal!$G:$G,"="&F$1,Journal!$H:$H,"="&F30)) | H30: =IF(ISBLANK(F30),"",Catégories!$D$1-G30) | K30: =IF(ISBLANK(J30),"",SUMIFS(Journal!$E:$E,Journal!$G:$G,"="&J$1,Journal!$H:$H,"="&J30)) | L30: =IF(ISBLANK(J30),"",Catégories!$D$1-K30) | O30: =IF(ISBLANK(N30),"",SUMIFS(Journal!$E:$E,Journal!$G:$G,"="&N$1,Journal!$H:$H,"="&N30)) | P30: =IF(ISBLANK(N30),"",Catégories!$D$1-O30) | S30: =IF(ISBLANK(R30),"",SUMIFS(Journal!$E:$E,Journal!$G:$G,"="&R$1,Journal!$H:$H,"="&R30)) | T30: =IF(ISBLANK(R30),"",Catégories!$D$1-S30) | W30: =IF(ISBLANK(V30),"",SUMIFS(Journal!$E:$E,Journal!$G:$G,"="&V$1,Journal!$H:$H,"="&V30)) | X30: =IF(ISBLANK(V30),"",Catégories!$D$1-W30) | AA30: =IF(ISBLANK(Z30),"",SUMIFS(Journal!$E:$E,Journal!$G:$G,"="&Z$1,Journal!$H:$H,"="&Z30)) | AB30: =IF(ISBLANK(Z30),"",Catégories!$D$1-AA30) | AE30: =IF(ISBLANK(AD30),"",SUMIFS(Journal!$E:$E,Journal!$G:$G,"="&AD$1,Journal!$H:$H,"="&AD30)) | AF30: =IF(ISBLANK(AD30),"",Catégories!$D$1-AE30) | AI30: =IF(ISBLANK(AH30),"",SUMIFS(Journal!$E:$E,Journal!$G:$G,"="&AH$1,Journal!$H:$H,"="&AH30)) | AJ30: =IF(ISBLANK(AH30),"",Catégories!$D$1-AI30) | AM30: =IF(ISBLANK(AL30),"",SUMIFS(Journal!$E:$E,Journal!$G:$G,"="&AL$1,Journal!$H:$H,"="&AL30)) | AN30: =IF(ISBLANK(AL30),"",Catégories!$D$1-AM30)
A31: 29 | C31: =IF(ISBLANK(B31),"",SUMIFS(Journal!$E:$E,Journal!$G:$G,"="&B$1,Journal!$H:$H,"="&B31)) | D31: =IF(ISBLANK(B31),"",Catégories!$D$1-C31) | G31: =IF(ISBLANK(F31),"",SUMIFS(Journal!$E:$E,Journal!$G:$G,"="&F$1,Journal!$H:$H,"="&F31)) | H31: =IF(ISBLANK(F31),"",Catégories!$D$1-G31) | K31: =IF(ISBLANK(J31),"",SUMIFS(Journal!$E:$E,Journal!$G:$G,"="&J$1,Journal!$H:$H,"="&J31)) | L31: =IF(ISBLANK(J31),"",Catégories!$D$1-K31) | O31: =IF(ISBLANK(N31),"",SUMIFS(Journal!$E:$E,Journal!$G:$G,"="&N$1,Journal!$H:$H,"="&N31)) | P31: =IF(ISBLANK(N31),"",Catégories!$D$1-O31) | S31: =IF(ISBLANK(R31),"",SUMIFS(Journal!$E:$E,Journal!$G:$G,"="&R$1,Journal!$H:$H,"="&R31)) | T31: =IF(ISBLANK(R31),"",Catégories!$D$1-S31) | W31: =IF(ISBLANK(V31),"",SUMIFS(Journal!$E:$E,Journal!$G:$G,"="&V$1,Journal!$H:$H,"="&V31)) | X31: =IF(ISBLANK(V31),"",Catégories!$D$1-W31) | AA31: =IF(ISBLANK(Z31),"",SUMIFS(Journal!$E:$E,Journal!$G:$G,"="&Z$1,Journal!$H:$H,"="&Z31)) | AB31: =IF(ISBLANK(Z31),"",Catégories!$D$1-AA31) | AE31: =IF(ISBLANK(AD31),"",SUMIFS(Journal!$E:$E,Journal!$G:$G,"="&AD$1,Journal!$H:$H,"="&AD31)) | AF31: =IF(ISBLANK(AD31),"",Catégories!$D$1-AE31) | AI31: =IF(ISBLANK(AH31),"",SUMIFS(Journal!$E:$E,Journal!$G:$G,"="&AH$1,Journal!$H:$H,"="&AH31)) | AJ31: =IF(ISBLANK(AH31),"",Catégories!$D$1-AI31) | AM31: =IF(ISBLANK(AL31),"",SUMIFS(Journal!$E:$E,Journal!$G:$G,"="&AL$1,Journal!$H:$H,"="&AL31)) | AN31: =IF(ISBLANK(AL31),"",Catégories!$D$1-AM31)
A32: 30 | C32: =IF(ISBLANK(B32),"",SUMIFS(Journal!$E:$E,Journal!$G:$G,"="&B$1,Journal!$H:$H,"="&B32)) | D32: =IF(ISBLANK(B32),"",Catégories!$D$1-C32) | G32: =IF(ISBLANK(F32),"",SUMIFS(Journal!$E:$E,Journal!$G:$G,"="&F$1,Journal!$H:$H,"="&F32)) | H32: =IF(ISBLANK(F32),"",Catégories!$D$1-G32) | K32: =IF(ISBLANK(J32),"",SUMIFS(Journal!$E:$E,Journal!$G:$G,"="&J$1,Journal!$H:$H,"="&J32)) | L32: =IF(ISBLANK(J32),"",Catégories!$D$1-K32) | O32: =IF(ISBLANK(N32),"",SUMIFS(Journal!$E:$E,Journal!$G:$G,"="&N$1,Journal!$H:$H,"="&N32)) | P32: =IF(ISBLANK(N32),"",Catégories!$D$1-O32) | S32: =IF(ISBLANK(R32),"",SUMIFS(Journal!$E:$E,Journal!$G:$G,"="&R$1,Journal!$H:$H,"="&R32)) | T32: =IF(ISBLANK(R32),"",Catégories!$D$1-S32) | W32: =IF(ISBLANK(V32),"",SUMIFS(Journal!$E:$E,Journal!$G:$G,"="&V$1,Journal!$H:$H,"="&V32)) | X32: =IF(ISBLANK(V32),"",Catégories!$D$1-W32) | AA32: =IF(ISBLANK(Z32),"",SUMIFS(Journal!$E:$E,Journal!$G:$G,"="&Z$1,Journal!$H:$H,"="&Z32)) | AB32: =IF(ISBLANK(Z32),"",Catégories!$D$1-AA32) | AE32: =IF(ISBLANK(AD32),"",SUMIFS(Journal!$E:$E,Journal!$G:$G,"="&AD$1,Journal!$H:$H,"="&AD32)) | AF32: =IF(ISBLANK(AD32),"",Catégories!$D$1-AE32) | AI32: =IF(ISBLANK(AH32),"",SUMIFS(Journal!$E:$E,Journal!$G:$G,"="&AH$1,Journal!$H:$H,"="&AH32)) | AJ32: =IF(ISBLANK(AH32),"",Catégories!$D$1-AI32) | AM32: =IF(ISBLANK(AL32),"",SUMIFS(Journal!$E:$E,Journal!$G:$G,"="&AL$1,Journal!$H:$H,"="&AL32)) | AN32: =IF(ISBLANK(AL32),"",Catégories!$D$1-AM32)
A33: 31 | C33: =IF(ISBLANK(B33),"",SUMIFS(Journal!$E:$E,Journal!$G:$G,"="&B$1,Journal!$H:$H,"="&B33)) | D33: =IF(ISBLANK(B33),"",Catégories!$D$1-C33) | G33: =IF(ISBLANK(F33),"",SUMIFS(Journal!$E:$E,Journal!$G:$G,"="&F$1,Journal!$H:$H,"="&F33)) | H33: =IF(ISBLANK(F33),"",Catégories!$D$1-G33) | K33: =IF(ISBLANK(J33),"",SUMIFS(Journal!$E:$E,Journal!$G:$G,"="&J$1,Journal!$H:$H,"="&J33)) | L33: =IF(ISBLANK(J33),"",Catégories!$D$1-K33) | O33: =IF(ISBLANK(N33),"",SUMIFS(Journal!$E:$E,Journal!$G:$G,"="&N$1,Journal!$H:$H,"="&N33)) | P33: =IF(ISBLANK(N33),"",Catégories!$D$1-O33) | S33: =IF(ISBLANK(R33),"",SUMIFS(Journal!$E:$E,Journal!$G:$G,"="&R$1,Journal!$H:$H,"="&R33)) | T33: =IF(ISBLANK(R33),"",Catégories!$D$1-S33) | W33: =IF(ISBLANK(V33),"",SUMIFS(Journal!$E:$E,Journal!$G:$G,"="&V$1,Journal!$H:$H,"="&V33)) | X33: =IF(ISBLANK(V33),"",Catégories!$D$1-W33) | AA33: =IF(ISBLANK(Z33),"",SUMIFS(Journal!$E:$E,Journal!$G:$G,"="&Z$1,Journal!$H:$H,"="&Z33)) | AB33: =IF(ISBLANK(Z33),"",Catégories!$D$1-AA33) | AE33: =IF(ISBLANK(AD33),"",SUMIFS(Journal!$E:$E,Journal!$G:$G,"="&AD$1,Journal!$H:$H,"="&AD33)) | AF33: =IF(ISBLANK(AD33),"",Catégories!$D$1-AE33) | AI33: =IF(ISBLANK(AH33),"",SUMIFS(Journal!$E:$E,Journal!$G:$G,"="&AH$1,Journal!$H:$H,"="&AH33)) | AJ33: =IF(ISBLANK(AH33),"",Catégories!$D$1-AI33) | AM33: =IF(ISBLANK(AL33),"",SUMIFS(Journal!$E:$E,Journal!$G:$G,"="&AL$1,Journal!$H:$H,"="&AL33)) | AN33: =IF(ISBLANK(AL33),"",Catégories!$D$1-AM33)
A34: 32 | C34: =IF(ISBLANK(B34),"",SUMIFS(Journal!$E:$E,Journal!$G:$G,"="&B$1,Journal!$H:$H,"="&B34)) | D34: =IF(ISBLANK(B34),"",Catégories!$D$1-C34) | G34: =IF(ISBLANK(F34),"",SUMIFS(Journal!$E:$E,Journal!$G:$G,"="&F$1,Journal!$H:$H,"="&F34)) | H34: =IF(ISBLANK(F34),"",Catégories!$D$1-G34) | K34: =IF(ISBLANK(J34),"",SUMIFS(Journal!$E:$E,Journal!$G:$G,"="&J$1,Journal!$H:$H,"="&J34)) | L34: =IF(ISBLANK(J34),"",Catégories!$D$1-K34) | O34: =IF(ISBLANK(N34),"",SUMIFS(Journal!$E:$E,Journal!$G:$G,"="&N$1,Journal!$H:$H,"="&N34)) | P34: =IF(ISBLANK(N34),"",Catégories!$D$1-O34) | S34: =IF(ISBLANK(R34),"",SUMIFS(Journal!$E:$E,Journal!$G:$G,"="&R$1,Journal!$H:$H,"="&R34)) | T34: =IF(ISBLANK(R34),"",Catégories!$D$1-S34) | W34: =IF(ISBLANK(V34),"",SUMIFS(Journal!$E:$E,Journal!$G:$G,"="&V$1,Journal!$H:$H,"="&V34)) | X34: =IF(ISBLANK(V34),"",Catégories!$D$1-W34) | AA34: =IF(ISBLANK(Z34),"",SUMIFS(Journal!$E:$E,Journal!$G:$G,"="&Z$1,Journal!$H:$H,"="&Z34)) | AB34: =IF(ISBLANK(Z34),"",Catégories!$D$1-AA34) | AE34: =IF(ISBLANK(AD34),"",SUMIFS(Journal!$E:$E,Journal!$G:$G,"="&AD$1,Journal!$H:$H,"="&AD34)) | AF34: =IF(ISBLANK(AD34),"",Catégories!$D$1-AE34) | AI34: =IF(ISBLANK(AH34),"",SUMIFS(Journal!$E:$E,Journal!$G:$G,"="&AH$1,Journal!$H:$H,"="&AH34)) | AJ34: =IF(ISBLANK(AH34),"",Catégories!$D$1-AI34) | AM34: =IF(ISBLANK(AL34),"",SUMIFS(Journal!$E:$E,Journal!$G:$G,"="&AL$1,Journal!$H:$H,"="&AL34)) | AN34: =IF(ISBLANK(AL34),"",Catégories!$D$1-AM34)
A35: 33 | C35: =IF(ISBLANK(B35),"",SUMIFS(Journal!$E:$E,Journal!$G:$G,"="&B$1,Journal!$H:$H,"="&B35)) | D35: =IF(ISBLANK(B35),"",Catégories!$D$1-C35) | G35: =IF(ISBLANK(F35),"",SUMIFS(Journal!$E:$E,Journal!$G:$G,"="&F$1,Journal!$H:$H,"="&F35)) | H35: =IF(ISBLANK(F35),"",Catégories!$D$1-G35) | K35: =IF(ISBLANK(J35),"",SUMIFS(Journal!$E:$E,Journal!$G:$G,"="&J$1,Journal!$H:$H,"="&J35)) | L35: =IF(ISBLANK(J35),"",Catégories!$D$1-K35) | O35: =IF(ISBLANK(N35),"",SUMIFS(Journal!$E:$E,Journal!$G:$G,"="&N$1,Journal!$H:$H,"="&N35)) | P35: =IF(ISBLANK(N35),"",Catégories!$D$1-O35) | S35: =IF(ISBLANK(R35),"",SUMIFS(Journal!$E:$E,Journal!$G:$G,"="&R$1,Journal!$H:$H,"="&R35)) | T35: =IF(ISBLANK(R35),"",Catégories!$D$1-S35) | W35: =IF(ISBLANK(V35),"",SUMIFS(Journal!$E:$E,Journal!$G:$G,"="&V$1,Journal!$H:$H,"="&V35)) | X35: =IF(ISBLANK(V35),"",Catégories!$D$1-W35) | AA35: =IF(ISBLANK(Z35),"",SUMIFS(Journal!$E:$E,Journal!$G:$G,"="&Z$1,Journal!$H:$H,"="&Z35)) | AB35: =IF(ISBLANK(Z35),"",Catégories!$D$1-AA35) | AE35: =IF(ISBLANK(AD35),"",SUMIFS(Journal!$E:$E,Journal!$G:$G,"="&AD$1,Journal!$H:$H,"="&AD35)) | AF35: =IF(ISBLANK(AD35),"",Catégories!$D$1-AE35) | AI35: =IF(ISBLANK(AH35),"",SUMIFS(Journal!$E:$E,Journal!$G:$G,"="&AH$1,Journal!$H:$H,"="&AH35)) | AJ35: =IF(ISBLANK(AH35),"",Catégories!$D$1-AI35) | AM35: =IF(ISBLANK(AL35),"",SUMIFS(Journal!$E:$E,Journal!$G:$G,"="&AL$1,Journal!$H:$H,"="&AL35)) | AN35: =IF(ISBLANK(AL35),"",Catégories!$D$1-AM35)
A36: 34 | C36: =IF(ISBLANK(B36),"",SUMIFS(Journal!$E:$E,Journal!$G:$G,"="&B$1,Journal!$H:$H,"="&B36)) | D36: =IF(ISBLANK(B36),"",Catégories!$D$1-C36) | G36: =IF(ISBLANK(F36),"",SUMIFS(Journal!$E:$E,Journal!$G:$G,"="&F$1,Journal!$H:$H,"="&F36)) | H36: =IF(ISBLANK(F36),"",Catégories!$D$1-G36) | K36: =IF(ISBLANK(J36),"",SUMIFS(Journal!$E:$E,Journal!$G:$G,"="&J$1,Journal!$H:$H,"="&J36)) | L36: =IF(ISBLANK(J36),"",Catégories!$D$1-K36) | O36: =IF(ISBLANK(N36),"",SUMIFS(Journal!$E:$E,Journal!$G:$G,"="&N$1,Journal!$H:$H,"="&N36)) | P36: =IF(ISBLANK(N36),"",Catégories!$D$1-O36) | S36: =IF(ISBLANK(R36),"",SUMIFS(Journal!$E:$E,Journal!$G:$G,"="&R$1,Journal!$H:$H,"="&R36)) | T36: =IF(ISBLANK(R36),"",Catégories!$D$1-S36) | W36: =IF(ISBLANK(V36),"",SUMIFS(Journal!$E:$E,Journal!$G:$G,"="&V$1,Journal!$H:$H,"="&V36)) | X36: =IF(ISBLANK(V36),"",Catégories!$D$1-W36) | AA36: =IF(ISBLANK(Z36),"",SUMIFS(Journal!$E:$E,Journal!$G:$G,"="&Z$1,Journal!$H:$H,"="&Z36)) | AB36: =IF(ISBLANK(Z36),"",Catégories!$D$1-AA36) | AE36: =IF(ISBLANK(AD36),"",SUMIFS(Journal!$E:$E,Journal!$G:$G,"="&AD$1,Journal!$H:$H,"="&AD36)) | AF36: =IF(ISBLANK(AD36),"",Catégories!$D$1-AE36) | AI36: =IF(ISBLANK(AH36),"",SUMIFS(Journal!$E:$E,Journal!$G:$G,"="&AH$1,Journal!$H:$H,"="&AH36)) | AJ36: =IF(ISBLANK(AH36),"",Catégories!$D$1-AI36) | AM36: =IF(ISBLANK(AL36),"",SUMIFS(Journal!$E:$E,Journal!$G:$G,"="&AL$1,Journal!$H:$H,"="&AL36)) | AN36: =IF(ISBLANK(AL36),"",Catégories!$D$1-AM36)
A37: 35 | C37: =IF(ISBLANK(B37),"",SUMIFS(Journal!$E:$E,Journal!$G:$G,"="&B$1,Journal!$H:$H,"="&B37)) | D37: =IF(ISBLANK(B37),"",Catégories!$D$1-C37) | G37: =IF(ISBLANK(F37),"",SUMIFS(Journal!$E:$E,Journal!$G:$G,"="&F$1,Journal!$H:$H,"="&F37)) | H37: =IF(ISBLANK(F37),"",Catégories!$D$1-G37) | K37: =IF(ISBLANK(J37),"",SUMIFS(Journal!$E:$E,Journal!$G:$G,"="&J$1,Journal!$H:$H,"="&J37)) | L37: =IF(ISBLANK(J37),"",Catégories!$D$1-K37) | O37: =IF(ISBLANK(N37),"",SUMIFS(Journal!$E:$E,Journal!$G:$G,"="&N$1,Journal!$H:$H,"="&N37)) | P37: =IF(ISBLANK(N37),"",Catégories!$D$1-O37) | S37: =IF(ISBLANK(R37),"",SUMIFS(Journal!$E:$E,Journal!$G:$G,"="&R$1,Journal!$H:$H,"="&R37)) | T37: =IF(ISBLANK(R37),"",Catégories!$D$1-S37) | W37: =IF(ISBLANK(V37),"",SUMIFS(Journal!$E:$E,Journal!$G:$G,"="&V$1,Journal!$H:$H,"="&V37)) | X37: =IF(ISBLANK(V37),"",Catégories!$D$1-W37) | AA37: =IF(ISBLANK(Z37),"",SUMIFS(Journal!$E:$E,Journal!$G:$G,"="&Z$1,Journal!$H:$H,"="&Z37)) | AB37: =IF(ISBLANK(Z37),"",Catégories!$D$1-AA37) | AE37: =IF(ISBLANK(AD37),"",SUMIFS(Journal!$E:$E,Journal!$G:$G,"="&AD$1,Journal!$H:$H,"="&AD37)) | AF37: =IF(ISBLANK(AD37),"",Catégories!$D$1-AE37) | AI37: =IF(ISBLANK(AH37),"",SUMIFS(Journal!$E:$E,Journal!$G:$G,"="&AH$1,Journal!$H:$H,"="&AH37)) | AJ37: =IF(ISBLANK(AH37),"",Catégories!$D$1-AI37) | AM37: =IF(ISBLANK(AL37),"",SUMIFS(Journal!$E:$E,Journal!$G:$G,"="&AL$1,Journal!$H:$H,"="&AL37)) | AN37: =IF(ISBLANK(AL37),"",Catégories!$D$1-AM37)
A38: 36 | C38: =IF(ISBLANK(B38),"",SUMIFS(Journal!$E:$E,Journal!$G:$G,"="&B$1,Journal!$H:$H,"="&B38)) | D38: =IF(ISBLANK(B38),"",Catégories!$D$1-C38) | G38: =IF(ISBLANK(F38),"",SUMIFS(Journal!$E:$E,Journal!$G:$G,"="&F$1,Journal!$H:$H,"="&F38)) | H38: =IF(ISBLANK(F38),"",Catégories!$D$1-G38) | K38: =IF(ISBLANK(J38),"",SUMIFS(Journal!$E:$E,Journal!$G:$G,"="&J$1,Journal!$H:$H,"="&J38)) | L38: =IF(ISBLANK(J38),"",Catégories!$D$1-K38) | O38: =IF(ISBLANK(N38),"",SUMIFS(Journal!$E:$E,Journal!$G:$G,"="&N$1,Journal!$H:$H,"="&N38)) | P38: =IF(ISBLANK(N38),"",Catégories!$D$1-O38) | S38: =IF(ISBLANK(R38),"",SUMIFS(Journal!$E:$E,Journal!$G:$G,"="&R$1,Journal!$H:$H,"="&R38)) | T38: =IF(ISBLANK(R38),"",Catégories!$D$1-S38) | W38: =IF(ISBLANK(V38),"",SUMIFS(Journal!$E:$E,Journal!$G:$G,"="&V$1,Journal!$H:$H,"="&V38)) | X38: =IF(ISBLANK(V38),"",Catégories!$D$1-W38) | AA38: =IF(ISBLANK(Z38),"",SUMIFS(Journal!$E:$E,Journal!$G:$G,"="&Z$1,Journal!$H:$H,"="&Z38)) | AB38: =IF(ISBLANK(Z38),"",Catégories!$D$1-AA38) | AE38: =IF(ISBLANK(AD38),"",SUMIFS(Journal!$E:$E,Journal!$G:$G,"="&AD$1,Journal!$H:$H,"="&AD38)) | AF38: =IF(ISBLANK(AD38),"",Catégories!$D$1-AE38) | AI38: =IF(ISBLANK(AH38),"",SUMIFS(Journal!$E:$E,Journal!$G:$G,"="&AH$1,Journal!$H:$H,"="&AH38)) | AJ38: =IF(ISBLANK(AH38),"",Catégories!$D$1-AI38) | AM38: =IF(ISBLANK(AL38),"",SUMIFS(Journal!$E:$E,Journal!$G:$G,"="&AL$1,Journal!$H:$H,"="&AL38)) | AN38: =IF(ISBLANK(AL38),"",Catégories!$D$1-AM38)
A39: 37 | C39: =IF(ISBLANK(B39),"",SUMIFS(Journal!$E:$E,Journal!$G:$G,"="&B$1,Journal!$H:$H,"="&B39)) | D39: =IF(ISBLANK(B39),"",Catégories!$D$1-C39) | G39: =IF(ISBLANK(F39),"",SUMIFS(Journal!$E:$E,Journal!$G:$G,"="&F$1,Journal!$H:$H,"="&F39)) | H39: =IF(ISBLANK(F39),"",Catégories!$D$1-G39) | K39: =IF(ISBLANK(J39),"",SUMIFS(Journal!$E:$E,Journal!$G:$G,"="&J$1,Journal!$H:$H,"="&J39)) | L39: =IF(ISBLANK(J39),"",Catégories!$D$1-K39) | O39: =IF(ISBLANK(N39),"",SUMIFS(Journal!$E:$E,Journal!$G:$G,"="&N$1,Journal!$H:$H,"="&N39)) | P39: =IF(ISBLANK(N39),"",Catégories!$D$1-O39) | S39: =IF(ISBLANK(R39),"",SUMIFS(Journal!$E:$E,Journal!$G:$G,"="&R$1,Journal!$H:$H,"="&R39)) | T39: =IF(ISBLANK(R39),"",Catégories!$D$1-S39) | W39: =IF(ISBLANK(V39),"",SUMIFS(Journal!$E:$E,Journal!$G:$G,"="&V$1,Journal!$H:$H,"="&V39)) | X39: =IF(ISBLANK(V39),"",Catégories!$D$1-W39) | AA39: =IF(ISBLANK(Z39),"",SUMIFS(Journal!$E:$E,Journal!$G:$G,"="&Z$1,Journal!$H:$H,"="&Z39)) | AB39: =IF(ISBLANK(Z39),"",Catégories!$D$1-AA39) | AE39: =IF(ISBLANK(AD39),"",SUMIFS(Journal!$E:$E,Journal!$G:$G,"="&AD$1,Journal!$H:$H,"="&AD39)) | AF39: =IF(ISBLANK(AD39),"",Catégories!$D$1-AE39) | AI39: =IF(ISBLANK(AH39),"",SUMIFS(Journal!$E:$E,Journal!$G:$G,"="&AH$1,Journal!$H:$H,"="&AH39)) | AJ39: =IF(ISBLANK(AH39),"",Catégories!$D$1-AI39) | AM39: =IF(ISBLANK(AL39),"",SUMIFS(Journal!$E:$E,Journal!$G:$G,"="&AL$1,Journal!$H:$H,"="&AL39)) | AN39: =IF(ISBLANK(AL39),"",Catégories!$D$1-AM39)
A40: 38 | C40: =IF(ISBLANK(B40),"",SUMIFS(Journal!$E:$E,Journal!$G:$G,"="&B$1,Journal!$H:$H,"="&B40)) | D40: =IF(ISBLANK(B40),"",Catégories!$D$1-C40) | G40: =IF(ISBLANK(F40),"",SUMIFS(Journal!$E:$E,Journal!$G:$G,"="&F$1,Journal!$H:$H,"="&F40)) | H40: =IF(ISBLANK(F40),"",Catégories!$D$1-G40) | K40: =IF(ISBLANK(J40),"",SUMIFS(Journal!$E:$E,Journal!$G:$G,"="&J$1,Journal!$H:$H,"="&J40)) | L40: =IF(ISBLANK(J40),"",Catégories!$D$1-K40) | O40: =IF(ISBLANK(N40),"",SUMIFS(Journal!$E:$E,Journal!$G:$G,"="&N$1,Journal!$H:$H,"="&N40)) | P40: =IF(ISBLANK(N40),"",Catégories!$D$1-O40) | S40: =IF(ISBLANK(R40),"",SUMIFS(Journal!$E:$E,Journal!$G:$G,"="&R$1,Journal!$H:$H,"="&R40)) | T40: =IF(ISBLANK(R40),"",Catégories!$D$1-S40) | W40: =IF(ISBLANK(V40),"",SUMIFS(Journal!$E:$E,Journal!$G:$G,"="&V$1,Journal!$H:$H,"="&V40)) | X40: =IF(ISBLANK(V40),"",Catégories!$D$1-W40) | AA40: =IF(ISBLANK(Z40),"",SUMIFS(Journal!$E:$E,Journal!$G:$G,"="&Z$1,Journal!$H:$H,"="&Z40)) | AB40: =IF(ISBLANK(Z40),"",Catégories!$D$1-AA40) | AE40: =IF(ISBLANK(AD40),"",SUMIFS(Journal!$E:$E,Journal!$G:$G,"="&AD$1,Journal!$H:$H,"="&AD40)) | AF40: =IF(ISBLANK(AD40),"",Catégories!$D$1-AE40) | AI40: =IF(ISBLANK(AH40),"",SUMIFS(Journal!$E:$E,Journal!$G:$G,"="&AH$1,Journal!$H:$H,"="&AH40)) | AJ40: =IF(ISBLANK(AH40),"",Catégories!$D$1-AI40) | AM40: =IF(ISBLANK(AL40),"",SUMIFS(Journal!$E:$E,Journal!$G:$G,"="&AL$1,Journal!$H:$H,"="&AL40)) | AN40: =IF(ISBLANK(AL40),"",Catégories!$D$1-AM40)
A41: 39 | C41: =IF(ISBLANK(B41),"",SUMIFS(Journal!$E:$E,Journal!$G:$G,"="&B$1,Journal!$H:$H,"="&B41)) | D41: =IF(ISBLANK(B41),"",Catégories!$D$1-C41) | G41: =IF(ISBLANK(F41),"",SUMIFS(Journal!$E:$E,Journal!$G:$G,"="&F$1,Journal!$H:$H,"="&F41)) | H41: =IF(ISBLANK(F41),"",Catégories!$D$1-G41) | K41: =IF(ISBLANK(J41),"",SUMIFS(Journal!$E:$E,Journal!$G:$G,"="&J$1,Journal!$H:$H,"="&J41)) | L41: =IF(ISBLANK(J41),"",Catégories!$D$1-K41) | O41: =IF(ISBLANK(N41),"",SUMIFS(Journal!$E:$E,Journal!$G:$G,"="&N$1,Journal!$H:$H,"="&N41)) | P41: =IF(ISBLANK(N41),"",Catégories!$D$1-O41) | S41: =IF(ISBLANK(R41),"",SUMIFS(Journal!$E:$E,Journal!$G:$G,"="&R$1,Journal!$H:$H,"="&R41)) | T41: =IF(ISBLANK(R41),"",Catégories!$D$1-S41) | W41: =IF(ISBLANK(V41),"",SUMIFS(Journal!$E:$E,Journal!$G:$G,"="&V$1,Journal!$H:$H,"="&V41)) | X41: =IF(ISBLANK(V41),"",Catégories!$D$1-W41) | AA41: =IF(ISBLANK(Z41),"",SUMIFS(Journal!$E:$E,Journal!$G:$G,"="&Z$1,Journal!$H:$H,"="&Z41)) | AB41: =IF(ISBLANK(Z41),"",Catégories!$D$1-AA41) | AE41: =IF(ISBLANK(AD41),"",SUMIFS(Journal!$E:$E,Journal!$G:$G,"="&AD$1,Journal!$H:$H,"="&AD41)) | AF41: =IF(ISBLANK(AD41),"",Catégories!$D$1-AE41) | AI41: =IF(ISBLANK(AH41),"",SUMIFS(Journal!$E:$E,Journal!$G:$G,"="&AH$1,Journal!$H:$H,"="&AH41)) | AJ41: =IF(ISBLANK(AH41),"",Catégories!$D$1-AI41) | AM41: =IF(ISBLANK(AL41),"",SUMIFS(Journal!$E:$E,Journal!$G:$G,"="&AL$1,Journal!$H:$H,"="&AL41)) | AN41: =IF(ISBLANK(AL41),"",Catégories!$D$1-AM41)
... A100: 98 | C100: =IF(ISBLANK(B100),"",SUMIFS(Journal!$E:$E,Journal!$G:$G,"="&B$1,Journal!$H:$H,"="&B100)) | D100: =IF(ISBLANK(B100),"",Catégories!$D$1-C100) | G100: =IF(ISBLANK(F100),"",SUMIFS(Journal!$E:$E,Journal!$G:$G,"="&F$1,Journal!$H:$H,"="&F100)) | H100: =IF(ISBLANK(F100),"",Catégories!$D$1-G100) | K100: =IF(ISBLANK(J100),"",SUMIFS(Journal!$E:$E,Journal!$G:$G,"="&J$1,Journal!$H:$H,"="&J100)) | L100: =IF(ISBLANK(J100),"",Catégories!$D$1-K100) | O100: =IF(ISBLANK(N100),"",SUMIFS(Journal!$E:$E,Journal!$G:$G,"="&N$1,Journal!$H:$H,"="&N100)) | P100: =IF(ISBLANK(N100),"",Catégories!$D$1-O100) | S100: =IF(ISBLANK(R100),"",SUMIFS(Journal!$E:$E,Journal!$G:$G,"="&R$1,Journal!$H:$H,"="&R100)) | T100: =IF(ISBLANK(R100),"",Catégories!$D$1-S100) | W100: =IF(ISBLANK(V100),"",SUMIFS(Journal!$E:$E,Journal!$G:$G,"="&V$1,Journal!$H:$H,"="&V100)) | X100: =IF(ISBLANK(V100),"",Catégories!$D$1-W100) | AA100: =IF(ISBLANK(Z100),"",SUMIFS(Journal!$E:$E,Journal!$G:$G,"="&Z$1,Journal!$H:$H,"="&Z100)) | AB100: =IF(ISBLANK(Z100),"",Catégories!$D$1-AA100) | AE100: =IF(ISBLANK(AD100),"",SUMIFS(Journal!$E:$E,Journal!$G:$G,"="&AD$1,Journal!$H:$H,"="&AD100)) | AF100: =IF(ISBLANK(AD100),"",Catégories!$D$1-AE100) | AI100: =IF(ISBLANK(AH100),"",SUMIFS(Journal!$E:$E,Journal!$G:$G,"="&AH$1,Journal!$H:$H,"="&AH100)) | AJ100: =IF(ISBLANK(AH100),"",Catégories!$D$1-AI100) | AM100: =IF(ISBLANK(AL100),"",SUMIFS(Journal!$E:$E,Journal!$G:$G,"="&AL$1,Journal!$H:$H,"="&AL100)) | AN100: =IF(ISBLANK(AL100),"",Catégories!$D$1-AM100)

Sheet Récapitulatif
