Workbook

Sheet Sommaire
A2: 27-08-17 au 02-09-2017
A5: # yé | B5: Nom | C5: Dimanche | D5: Lundi | E5: Mardi | F5: Mercredi | G5: Jeudi | H5: Vendredi | I5: Samedi | J5: Total | K5: À payer | L5: Congé
A7: 1 | B7: CC | C7: 0 | D7: 8 | E7: 8 | F7: 8 | G7: 8 | H7: 8 | I7: 0 | J7: =SUM(C7:I7) -> 40 | K7: 39 | L7: 1
A8: 2 | B8: FC | C8: 3 | D8: 8 | E8: 8 | F8: 8 | G8: 8 | H8: 8 | I8: 3 | J8: =SUM(C8:I8) -> 46 | K8: 46 | L8: 2
A9: 3 | B9: RF | C9: 4 | D9: 8 | E9: 8 | F9: 8 | G9: 8 | H9: 8 | I9: 1 | J9: =SUM(C9:I9) -> 45 | K9: 45 | L9: 0
C13: J7 doit ce reporter sur la feuille "1" à H54
C14: K7 doit ce reporter sur la feuille "1" à J54
C15: L7 doit ce reporter sur la feuille "1" à E54
C16: J8 doit ce reporter sur la feuille "2" à H54
C17: K8 doit ce reporter sur la feuille "2" à J54
C18: L8 doit ce reporter sur la feuille "2" à E54
B20: et ainsi de suite

Sheet 1
A1: =Sommaire!A7 -> 1 | B1: =Sommaire!B7 -> CC
A15: 27-11-16 au 03-12-2016 | K15: 0
A16: 04-12-16 au 10-12-2016 | K16: 0
A17: 11-12-16 au 17-12-2016 | K17: 0
A18: 18-12-16 au 24-12-2016 | K18: 0
A19: 25-12-16 au 31-12-2016 | G19: =ROUND(IF(E19=1,(K18+K17+K16+K15+M18)/20,0),0)+ROUND((IF(E19=2,(K18+K17+K16+K15+M18)/20))*2,0)+T19 -> 0 | I19: =K19+M19 -> 0 | K19: =IF(J19<=40,J19-M19,J19-L19-M19) -> 0 | L19: =IF(J19>=40,J19-40,0) -> 0 | M19: =IF(F19=1,0,G19) -> 0 | P19: =P14+H19+G19-K19-L19-M19+N19-O19 -> 0
A20: 01-01-17 au 07-01-2017 | G20: =ROUND(IF(E20=1,(K19+K18+K17+K16+G19)/20,0),0)+ROUND((IF(E20=2,(K19+K18+K17+K16+G19)/20))*2,0)+T20 -> 0 | I20: =K20+M20 -> 0 | K20: =IF(J20<=40,J20-M20,J20-L20-M20) -> 0 | L20: =IF(J20>=40,J20-40,0) -> 0 | M20: =IF(F20=1,0,G20) -> 0 | P20: =P19+H20+G20-K20-L20-M20+N20-O20 -> 0
A21: 08-01-17 au 14-01-2017 | G21: =ROUND(IF(E21=1,(K20+K19+K18+K17+G20)/20,0),0)+ROUND((IF(E21=2,(K20+K19+K18+K17+G20)/20))*2,0)+T21 -> 0 | I21: =K21+M21 -> 0 | K21: =IF(J21<=40,J21-M21,J21-L21-M21) -> 0 | L21: =IF(J21>=40,J21-40,0) -> 0 | M21: =IF(F21=1,0,G21) -> 0 | P21: =P20+H21+G21-K21-L21-M21+N21-O21 -> 0
A22: 15-01-17 au 21-01-2017 | G22: =ROUND(IF(E22=1,(K21+K20+K19+K18+G21)/20,0),0)+ROUND((IF(E22=2,(K21+K20+K19+K18+G21)/20))*2,0)+T22 -> 0 | I22: =K22+M22 -> 0 | K22: =IF(J22<=40,J22-M22,J22-L22-M22) -> 0 | L22: =IF(J22>=40,J22-40,0) -> 0 | M22: =IF(F22=1,0,G22) -> 0 | P22: =P21+H22+G22-K22-L22-M22+N22-O22 -> 0
A23: 22-01-17 au 28-01-2017 | G23: =ROUND(IF(E23=1,(K22+K21+K20+K19+G22)/20,0),0)+ROUND((IF(E23=2,(K22+K21+K20+K19+G22)/20))*2,0)+T23 -> 0 | I23: =K23+M23 -> 0 | K23: =IF(J23<=40,J23-M23,J23-L23-M23) -> 0 | L23: =IF(J23>=40,J23-40,0) -> 0 | M23: =IF(F23=1,0,G23) -> 0 | P23: =P22+H23+G23-K23-L23-M23+N23-O23 -> 0
A24: 29-01-17 au 04-02-2017 | G24: =ROUND(IF(E24=1,(K23+K22+K21+K20+G23)/20,0),0)+ROUND((IF(E24=2,(K23+K22+K21+K20+G23)/20))*2,0)+T24 -> 0 | I24: =K24+M24 -> 0 | K24: =IF(J24<=40,J24-M24,J24-L24-M24) -> 0 | L24: =IF(J24>=40,J24-40,0) -> 0 | M24: =IF(F24=1,0,G24) -> 0 | P24: =P23+H24+G24-K24-L24-M24+N24-O24 -> 0
A25: 05-02-17 au 11-02-2017 | G25: =ROUND(IF(E25=1,(K24+K23+K22+K21+G24)/20,0),0)+ROUND((IF(E25=2,(K24+K23+K22+K21+G24)/20))*2,0)+T25 -> 0 | I25: =K25+M25 -> 0 | K25: =IF(J25<=40,J25-M25,J25-L25-M25) -> 0 | L25: =IF(J25>=40,J25-40,0) -> 0 | M25: =IF(F25=1,0,G25) -> 0 | P25: =P24+H25+G25-K25-L25-M25+N25-O25 -> 0
A26: 12-02-17 au 18-02-2017 | G26: =ROUND(IF(E26=1,(K25+K24+K23+K22+G25)/20,0),0)+ROUND((IF(E26=2,(K25+K24+K23+K22+G25)/20))*2,0)+T26 -> 0 | I26: =K26+M26 -> 0 | K26: =IF(J26<=40,J26-M26,J26-L26-M26) -> 0 | L26: =IF(J26>=40,J26-40,0) -> 0 | M26: =IF(F26=1,0,G26) -> 0 | P26: =P25+H26+G26-K26-L26-M26+N26-O26 -> 0
A27: 19-02-17 au 25-02-2017 | G27: =ROUND(IF(E27=1,(K26+K25+K24+K23+G26)/20,0),0)+ROUND((IF(E27=2,(K26+K25+K24+K23+G26)/20))*2,0)+T27 -> 0 | I27: =K27+M27 -> 0 | K27: =IF(J27<=40,J27-M27,J27-L27-M27) -> 0 | L27: =IF(J27>=40,J27-40,0) -> 0 | M27: =IF(F27=1,0,G27) -> 0 | P27: =P26+H27+G27-K27-L27-M27+N27-O27 -> 0
A28: 26-02-17 au 04-03-2017 | G28: =ROUND(IF(E28=1,(K27+K26+K25+K24+G27)/20,0),0)+ROUND((IF(E28=2,(K27+K26+K25+K24+G27)/20))*2,0)+T28 -> 0 | I28: =K28+M28 -> 0 | K28: =IF(J28<=40,J28-M28,J28-L28-M28) -> 0 | L28: =IF(J28>=40,J28-40,0) -> 0 | M28: =IF(F28=1,0,G28) -> 0 | P28: =P27+H28+G28-K28-L28-M28+N28-O28 -> 0
A29: 05-03-17 au 11-03-2017 | G29: =ROUND(IF(E29=1,(K28+K27+K26+K25+G28)/20,0),0)+ROUND((IF(E29=2,(K28+K27+K26+K25+G28)/20))*2,0)+T29 -> 0 | I29: =K29+M29 -> 0 | K29: =IF(J29<=40,J29-M29,J29-L29-M29) -> 0 | L29: =IF(J29>=40,J29-40,0) -> 0 | M29: =IF(F29=1,0,G29) -> 0 | P29: =P28+H29+G29-K29-L29-M29+N29-O29 -> 0
A30: 12-03-17 au 18-03-2017 | G30: =ROUND(IF(E30=1,(K29+K28+K27+K26+G29)/20,0),0)+ROUND((IF(E30=2,(K29+K28+K27+K26+G29)/20))*2,0)+T30 -> 0 | I30: =K30+M30 -> 0 | K30: =IF(J30<=40,J30-M30,J30-L30-M30) -> 0 | L30: =IF(J30>=40,J30-40,0) -> 0 | M30: =IF(F30=1,0,G30) -> 0 | P30: =P29+H30+G30-K30-L30-M30+N30-O30 -> 0
A31: 19-03-17 au 25-03-2017 | G31: =ROUND(IF(E31=1,(K30+K29+K28+K27+G30)/20,0),0)+ROUND((IF(E31=2,(K30+K29+K28+K27+G30)/20))*2,0)+T31 -> 0 | I31: =K31+M31 -> 0 | K31: =IF(J31<=40,J31-M31,J31-L31-M31) -> 0 | L31: =IF(J31>=40,J31-40,0) -> 0 | M31: =IF(F31=1,0,G31) -> 0 | P31: =P30+H31+G31-K31-L31-M31+N31-O31 -> 0
... A63: 29-10-17 au 04-11-2017 | G63: =ROUND(IF(E63=1,(K62+K61+K60+K59+G62)/20,0),0)+ROUND((IF(E63=2,(K62+K61+K60+K59+G62)/20))*2,0)+T63 -> 0 | I63: =K63+M63 -> 0 | K63: =IF(J63<=40,J63-M63,J63-L63-M63) -> 0 | L63: =IF(J63>=40,J63-40,0) -> 0 | M63: =IF(F63=1,0,G63) -> 0 | P63: =P62+H63+G63-K63-L63-M63+N63-O63 -> 0
A64: 05-11-17 au 11-11-2017 | I64: =K64+M64 -> 0 | K64: =IF(J64<=40,J64-M64,J64-L64-M64) -> 0 | L64: =IF(J64>=40,J64-40,0) -> 0 | M64: =IF(F64=1,0,G64) -> 0 | P64: =P63+H64+G64-K64-L64-M64+N64-O64 -> 0
A65: 12-11-17 au 18-11-2017 | G65: =ROUND(IF(E65=1,(K64+K63+K62+K61+G64)/20,0),0)+ROUND((IF(E65=2,(K64+K63+K62+K61+G64)/20))*2,0)+T65 -> 0 | I65: =K65+M65 -> 0 | K65: =IF(J65<=40,J65-M65,J65-L65-M65) -> 0 | L65: =IF(J65>=40,J65-40,0) -> 0 | M65: =IF(F65=1,0,G65) -> 0 | P65: =P64+H65+G65-K65-L65-M65+N65-O65 -> 0
A66: 19-11-17 au 25-11-2017 | G66: =ROUND(IF(E66=1,(K65+K64+K63+K62+G65)/20,0),0)+ROUND((IF(E66=2,(K65+K64+K63+K62+G65)/20))*2,0)+T66 -> 0 | I66: =K66+M66 -> 0 | K66: =IF(J66<=40,J66-M66,J66-L66-M66) -> 0 | L66: =IF(J66>=40,J66-40,0) -> 0 | M66: =IF(F66=1,0,G66) -> 0 | P66: =P65+H66+G66-K66-L66-M66+N66-O66 -> 0
A67: 26-11-17 au 02-12-2017 | G67: =ROUND(IF(E67=1,(K66+K65+K64+K63+G66)/20,0),0)+ROUND((IF(E67=2,(K66+K65+K64+K63+G66)/20))*2,0)+T67 -> 0 | I67: =K67+M67 -> 0 | K67: =IF(J67<=40,J67-M67,J67-L67-M67) -> 0 | L67: =IF(J67>=40,J67-40,0) -> 0 | M67: =IF(F67=1,0,G67) -> 0 | P67: =P66+H67+G67-K67-L67-M67+N67-O67 -> 0
A68: 03-12-17 au 09-12-2017 | G68: =ROUND(IF(E68=1,(K67+K66+K65+K64+G67)/20,0),0)+ROUND((IF(E68=2,(K67+K66+K65+K64+G67)/20))*2,0)+T68 -> 0 | I68: =K68+M68 -> 0 | K68: =IF(J68<=40,J68-M68,J68-L68-M68) -> 0 | L68: =IF(J68>=40,J68-40,0) -> 0 | M68: =IF(F68=1,0,G68) -> 0 | P68: =P67+H68+G68-K68-L68-M68+N68-O68 -> 0
A69: 10-12-17 au 16-12-2017 | G69: =ROUND(IF(E69=1,(K68+K67+K66+K65+G68)/20,0),0)+ROUND((IF(E69=2,(K68+K67+K66+K65+G68)/20))*2,0)+T69 -> 0 | I69: =K69+M69 -> 0 | K69: =IF(J69<=40,J69-M69,J69-L69-M69) -> 0 | L69: =IF(J69>=40,J69-40,0) -> 0 | M69: =IF(F69=1,0,G69) -> 0 | P69: =P68+H69+G69-K69-L69-M69+N69-O69 -> 0
A70: 17-12-17 au 23-12-2017 | G70: =ROUND(IF(E70=1,(K69+K68+K67+K66+G69)/20,0),0)+ROUND((IF(E70=2,(K69+K68+K67+K66+G69)/20))*2,0)+T70 -> 0 | I70: =K70+M70 -> 0 | K70: =IF(J70<=40,J70-M70,J70-L70-M70) -> 0 | L70: =IF(J70>=40,J70-40,0) -> 0 | M70: =IF(F70=1,0,G70) -> 0 | P70: =P69+H70+G70-K70-L70-M70+N70-O70 -> 0
A71: 0 | G71: =ROUND(IF(E71=1,(K70+K69+K68+K67+G70)/20,0),0)+ROUND((IF(E71=2,(K70+K69+K68+K67+G70)/20))*2,0)+T71 -> 0 | I71: =K71+M71 -> 0 | K71: =IF(J71<=40,J71-M71,J71-L71-M71) -> 0 | L71: =IF(J71>=40,J71-40,0) -> 0 | M71: =IF(F71=1,0,G71) -> 0 | P71: =P70+H71+G71-K71-L71-M71+N71-O71 -> 0
S72: =SUM(S14:S70) -> 0

Sheet 2
A1: =Sommaire!A8 -> 2 | B1: =Sommaire!B8 -> FC
A15: 27-11-16 au 03-12-2016 | K15: 0
A16: 04-12-16 au 10-12-2016 | K16: 0
A17: 11-12-16 au 17-12-2016 | K17: 0
A18: 18-12-16 au 24-12-2016 | K18: 0
A19: 25-12-16 au 31-12-2016 | G19: =ROUND(IF(E19=1,(K18+K17+K16+K15+M18)/20,0),0)+ROUND((IF(E19=2,(K18+K17+K16+K15+M18)/20))*2,0)+T19 -> 0 | I19: =K19+M19 -> 0 | K19: =IF(J19<=40,J19-M19,J19-L19-M19) -> 0 | L19: =IF(J19>=40,J19-40,0) -> 0 | M19: =IF(F19=1,0,G19) -> 0 | P19: =P14+H19+G19-K19-L19-M19+N19-O19 -> 0
A20: 01-01-17 au 07-01-2017 | G20: =ROUND(IF(E20=1,(K19+K18+K17+K16+G19)/20,0),0)+ROUND((IF(E20=2,(K19+K18+K17+K16+G19)/20))*2,0)+T20 -> 0 | I20: =K20+M20 -> 0 | K20: =IF(J20<=40,J20-M20,J20-L20-M20) -> 0 | L20: =IF(J20>=40,J20-40,0) -> 0 | M20: =IF(F20=1,0,G20) -> 0 | P20: =P19+H20+G20-K20-L20-M20+N20-O20 -> 0
A21: 08-01-17 au 14-01-2017 | G21: =ROUND(IF(E21=1,(K20+K19+K18+K17+G20)/20,0),0)+ROUND((IF(E21=2,(K20+K19+K18+K17+G20)/20))*2,0)+T21 -> 0 | I21: =K21+M21 -> 0 | K21: =IF(J21<=40,J21-M21,J21-L21-M21) -> 0 | L21: =IF(J21>=40,J21-40,0) -> 0 | M21: =IF(F21=1,0,G21) -> 0 | P21: =P20+H21+G21-K21-L21-M21+N21-O21 -> 0
A22: 15-01-17 au 21-01-2017 | G22: =ROUND(IF(E22=1,(K21+K20+K19+K18+G21)/20,0),0)+ROUND((IF(E22=2,(K21+K20+K19+K18+G21)/20))*2,0)+T22 -> 0 | I22: =K22+M22 -> 0 | K22: =IF(J22<=40,J22-M22,J22-L22-M22) -> 0 | L22: =IF(J22>=40,J22-40,0) -> 0 | M22: =IF(F22=1,0,G22) -> 0 | P22: =P21+H22+G22-K22-L22-M22+N22-O22 -> 0
A23: 22-01-17 au 28-01-2017 | G23: =ROUND(IF(E23=1,(K22+K21+K20+K19+G22)/20,0),0)+ROUND((IF(E23=2,(K22+K21+K20+K19+G22)/20))*2,0)+T23 -> 0 | I23: =K23+M23 -> 0 | K23: =IF(J23<=40,J23-M23,J23-L23-M23) -> 0 | L23: =IF(J23>=40,J23-40,0) -> 0 | M23: =IF(F23=1,0,G23) -> 0 | P23: =P22+H23+G23-K23-L23-M23+N23-O23 -> 0
A24: 29-01-17 au 04-02-2017 | G24: =ROUND(IF(E24=1,(K23+K22+K21+K20+G23)/20,0),0)+ROUND((IF(E24=2,(K23+K22+K21+K20+G23)/20))*2,0)+T24 -> 0 | I24: =K24+M24 -> 0 | K24: =IF(J24<=40,J24-M24,J24-L24-M24) -> 0 | L24: =IF(J24>=40,J24-40,0) -> 0 | M24: =IF(F24=1,0,G24) -> 0 | P24: =P23+H24+G24-K24-L24-M24+N24-O24 -> 0
A25: 05-02-17 au 11-02-2017 | G25: =ROUND(IF(E25=1,(K24+K23+K22+K21+G24)/20,0),0)+ROUND((IF(E25=2,(K24+K23+K22+K21+G24)/20))*2,0)+T25 -> 0 | I25: =K25+M25 -> 0 | K25: =IF(J25<=40,J25-M25,J25-L25-M25) -> 0 | L25: =IF(J25>=40,J25-40,0) -> 0 | M25: =IF(F25=1,0,G25) -> 0 | P25: =P24+H25+G25-K25-L25-M25+N25-O25 -> 0
A26: 12-02-17 au 18-02-2017 | G26: =ROUND(IF(E26=1,(K25+K24+K23+K22+G25)/20,0),0)+ROUND((IF(E26=2,(K25+K24+K23+K22+G25)/20))*2,0)+T26 -> 0 | I26: =K26+M26 -> 0 | K26: =IF(J26<=40,J26-M26,J26-L26-M26) -> 0 | L26: =IF(J26>=40,J26-40,0) -> 0 | M26: =IF(F26=1,0,G26) -> 0 | P26: =P25+H26+G26-K26-L26-M26+N26-O26 -> 0
A27: 19-02-17 au 25-02-2017 | G27: =ROUND(IF(E27=1,(K26+K25+K24+K23+G26)/20,0),0)+ROUND((IF(E27=2,(K26+K25+K24+K23+G26)/20))*2,0)+T27 -> 0 | I27: =K27+M27 -> 0 | K27: =IF(J27<=40,J27-M27,J27-L27-M27) -> 0 | L27: =IF(J27>=40,J27-40,0) -> 0 | M27: =IF(F27=1,0,G27) -> 0 | P27: =P26+H27+G27-K27-L27-M27+N27-O27 -> 0
A28: 26-02-17 au 04-03-2017 | G28: =ROUND(IF(E28=1,(K27+K26+K25+K24+G27)/20,0),0)+ROUND((IF(E28=2,(K27+K26+K25+K24+G27)/20))*2,0)+T28 -> 0 | I28: =K28+M28 -> 0 | K28: =IF(J28<=40,J28-M28,J28-L28-M28) -> 0 | L28: =IF(J28>=40,J28-40,0) -> 0 | M28: =IF(F28=1,0,G28) -> 0 | P28: =P27+H28+G28-K28-L28-M28+N28-O28 -> 0
A29: 05-03-17 au 11-03-2017 | G29: =ROUND(IF(E29=1,(K28+K27+K26+K25+G28)/20,0),0)+ROUND((IF(E29=2,(K28+K27+K26+K25+G28)/20))*2,0)+T29 -> 0 | I29: =K29+M29 -> 0 | K29: =IF(J29<=40,J29-M29,J29-L29-M29) -> 0 | L29: =IF(J29>=40,J29-40,0) -> 0 | M29: =IF(F29=1,0,G29) -> 0 | P29: =P28+H29+G29-K29-L29-M29+N29-O29 -> 0
A30: 12-03-17 au 18-03-2017 | G30: =ROUND(IF(E30=1,(K29+K28+K27+K26+G29)/20,0),0)+ROUND((IF(E30=2,(K29+K28+K27+K26+G29)/20))*2,0)+T30 -> 0 | I30: =K30+M30 -> 0 | K30: =IF(J30<=40,J30-M30,J30-L30-M30) -> 0 | L30: =IF(J30>=40,J30-40,0) -> 0 | M30: =IF(F30=1,0,G30) -> 0 | P30: =P29+H30+G30-K30-L30-M30+N30-O30 -> 0
A31: 19-03-17 au 25-03-2017 | G31: =ROUND(IF(E31=1,(K30+K29+K28+K27+G30)/20,0),0)+ROUND((IF(E31=2,(K30+K29+K28+K27+G30)/20))*2,0)+T31 -> 0 | I31: =K31+M31 -> 0 | K31: =IF(J31<=40,J31-M31,J31-L31-M31) -> 0 | L31: =IF(J31>=40,J31-40,0) -> 0 | M31: =IF(F31=1,0,G31) -> 0 | P31: =P30+H31+G31-K31-L31-M31+N31-O31 -> 0
... A63: 29-10-17 au 04-11-2017 | G63: =ROUND(IF(E63=1,(K62+K61+K60+K59+G62)/20,0),0)+ROUND((IF(E63=2,(K62+K61+K60+K59+G62)/20))*2,0)+T63 -> 0 | I63: =K63+M63 -> 0 | K63: =IF(J63<=40,J63-M63,J63-L63-M63) -> 0 | L63: =IF(J63>=40,J63-40,0) -> 0 | M63: =IF(F63=1,0,G63) -> 0 | P63: =P62+H63+G63-K63-L63-M63+N63-O63 -> 0
A64: 05-11-17 au 11-11-2017 | I64: =K64+M64 -> 0 | K64: =IF(J64<=40,J64-M64,J64-L64-M64) -> 0 | L64: =IF(J64>=40,J64-40,0) -> 0 | M64: =IF(F64=1,0,G64) -> 0 | P64: =P63+H64+G64-K64-L64-M64+N64-O64 -> 0
A65: 12-11-17 au 18-11-2017 | G65: =ROUND(IF(E65=1,(K64+K63+K62+K61+G64)/20,0),0)+ROUND((IF(E65=2,(K64+K63+K62+K61+G64)/20))*2,0)+T65 -> 0 | I65: =K65+M65 -> 0 | K65: =IF(J65<=40,J65-M65,J65-L65-M65) -> 0 | L65: =IF(J65>=40,J65-40,0) -> 0 | M65: =IF(F65=1,0,G65) -> 0 | P65: =P64+H65+G65-K65-L65-M65+N65-O65 -> 0
A66: 19-11-17 au 25-11-2017 | G66: =ROUND(IF(E66=1,(K65+K64+K63+K62+G65)/20,0),0)+ROUND((IF(E66=2,(K65+K64+K63+K62+G65)/20))*2,0)+T66 -> 0 | I66: =K66+M66 -> 0 | K66: =IF(J66<=40,J66-M66,J66-L66-M66) -> 0 | L66: =IF(J66>=40,J66-40,0) -> 0 | M66: =IF(F66=1,0,G66) -> 0 | P66: =P65+H66+G66-K66-L66-M66+N66-O66 -> 0
A67: 26-11-17 au 02-12-2017 | G67: =ROUND(IF(E67=1,(K66+K65+K64+K63+G66)/20,0),0)+ROUND((IF(E67=2,(K66+K65+K64+K63+G66)/20))*2,0)+T67 -> 0 | I67: =K67+M67 -> 0 | K67: =IF(J67<=40,J67-M67,J67-L67-M67) -> 0 | L67: =IF(J67>=40,J67-40,0) -> 0 | M67: =IF(F67=1,0,G67) -> 0 | P67: =P66+H67+G67-K67-L67-M67+N67-O67 -> 0
A68: 03-12-17 au 09-12-2017 | G68: =ROUND(IF(E68=1,(K67+K66+K65+K64+G67)/20,0),0)+ROUND((IF(E68=2,(K67+K66+K65+K64+G67)/20))*2,0)+T68 -> 0 | I68: =K68+M68 -> 0 | K68: =IF(J68<=40,J68-M68,J68-L68-M68) -> 0 | L68: =IF(J68>=40,J68-40,0) -> 0 | M68: =IF(F68=1,0,G68) -> 0 | P68: =P67+H68+G68-K68-L68-M68+N68-O68 -> 0
A69: 10-12-17 au 16-12-2017 | G69: =ROUND(IF(E69=1,(K68+K67+K66+K65+G68)/20,0),0)+ROUND((IF(E69=2,(K68+K67+K66+K65+G68)/20))*2,0)+T69 -> 0 | I69: =K69+M69 -> 0 | K69: =IF(J69<=40,J69-M69,J69-L69-M69) -> 0 | L69: =IF(J69>=40,J69-40,0) -> 0 | M69: =IF(F69=1,0,G69) -> 0 | P69: =P68+H69+G69-K69-L69-M69+N69-O69 -> 0
A70: 17-12-17 au 23-12-2017 | G70: =ROUND(IF(E70=1,(K69+K68+K67+K66+G69)/20,0),0)+ROUND((IF(E70=2,(K69+K68+K67+K66+G69)/20))*2,0)+T70 -> 0 | I70: =K70+M70 -> 0 | K70: =IF(J70<=40,J70-M70,J70-L70-M70) -> 0 | L70: =IF(J70>=40,J70-40,0) -> 0 | M70: =IF(F70=1,0,G70) -> 0 | P70: =P69+H70+G70-K70-L70-M70+N70-O70 -> 0
A71: 0 | G71: =ROUND(IF(E71=1,(K70+K69+K68+K67+G70)/20,0),0)+ROUND((IF(E71=2,(K70+K69+K68+K67+G70)/20))*2,0)+T71 -> 0 | I71: =K71+M71 -> 0 | K71: =IF(J71<=40,J71-M71,J71-L71-M71) -> 0 | L71: =IF(J71>=40,J71-40,0) -> 0 | M71: =IF(F71=1,0,G71) -> 0 | P71: =P70+H71+G71-K71-L71-M71+N71-O71 -> 0
S72: =SUM(S14:S70) -> 0

Sheet 3
A1: =Sommaire!A9 -> 3 | B1: =Sommaire!B9 -> RF
A15: 27-11-16 au 03-12-2016 | K15: 0
A16: 04-12-16 au 10-12-2016 | K16: 0
A17: 11-12-16 au 17-12-2016 | K17: 0
A18: 18-12-16 au 24-12-2016 | K18: 0
A19: 25-12-16 au 31-12-2016 | G19: =ROUND(IF(E19=1,(K18+K17+K16+K15+M18)/20,0),0)+ROUND((IF(E19=2,(K18+K17+K16+K15+M18)/20))*2,0)+T19 -> 0 | I19: =K19+M19 -> 0 | K19: =IF(J19<=40,J19-M19,J19-L19-M19) -> 0 | L19: =IF(J19>=40,J19-40,0) -> 0 | M19: =IF(F19=1,0,G19) -> 0 | P19: =P14+H19+G19-K19-L19-M19+N19-O19 -> 0
A20: 01-01-17 au 07-01-2017 | G20: =ROUND(IF(E20=1,(K19+K18+K17+K16+G19)/20,0),0)+ROUND((IF(E20=2,(K19+K18+K17+K16+G19)/20))*2,0)+T20 -> 0 | I20: =K20+M20 -> 0 | K20: =IF(J20<=40,J20-M20,J20-L20-M20) -> 0 | L20: =IF(J20>=40,J20-40,0) -> 0 | M20: =IF(F20=1,0,G20) -> 0 | P20: =P19+H20+G20-K20-L20-M20+N20-O20 -> 0
A21: 08-01-17 au 14-01-2017 | G21: =ROUND(IF(E21=1,(K20+K19+K18+K17+G20)/20,0),0)+ROUND((IF(E21=2,(K20+K19+K18+K17+G20)/20))*2,0)+T21 -> 0 | I21: =K21+M21 -> 0 | K21: =IF(J21<=40,J21-M21,J21-L21-M21) -> 0 | L21: =IF(J21>=40,J21-40,0) -> 0 | M21: =IF(F21=1,0,G21) -> 0 | P21: =P20+H21+G21-K21-L21-M21+N21-O21 -> 0
A22: 15-01-17 au 21-01-2017 | G22: =ROUND(IF(E22=1,(K21+K20+K19+K18+G21)/20,0),0)+ROUND((IF(E22=2,(K21+K20+K19+K18+G21)/20))*2,0)+T22 -> 0 | I22: =K22+M22 -> 0 | K22: =IF(J22<=40,J22-M22,J22-L22-M22) -> 0 | L22: =IF(J22>=40,J22-40,0) -> 0 | M22: =IF(F22=1,0,G22) -> 0 | P22: =P21+H22+G22-K22-L22-M22+N22-O22 -> 0
A23: 22-01-17 au 28-01-2017 | G23: =ROUND(IF(E23=1,(K22+K21+K20+K19+G22)/20,0),0)+ROUND((IF(E23=2,(K22+K21+K20+K19+G22)/20))*2,0)+T23 -> 0 | I23: =K23+M23 -> 0 | K23: =IF(J23<=40,J23-M23,J23-L23-M23) -> 0 | L23: =IF(J23>=40,J23-40,0) -> 0 | M23: =IF(F23=1,0,G23) -> 0 | P23: =P22+H23+G23-K23-L23-M23+N23-O23 -> 0
A24: 29-01-17 au 04-02-2017 | G24: =ROUND(IF(E24=1,(K23+K22+K21+K20+G23)/20,0),0)+ROUND((IF(E24=2,(K23+K22+K21+K20+G23)/20))*2,0)+T24 -> 0 | I24: =K24+M24 -> 0 | K24: =IF(J24<=40,J24-M24,J24-L24-M24) -> 0 | L24: =IF(J24>=40,J24-40,0) -> 0 | M24: =IF(F24=1,0,G24) -> 0 | P24: =P23+H24+G24-K24-L24-M24+N24-O24 -> 0
A25: 05-02-17 au 11-02-2017 | G25: =ROUND(IF(E25=1,(K24+K23+K22+K21+G24)/20,0),0)+ROUND((IF(E25=2,(K24+K23+K22+K21+G24)/20))*2,0)+T25 -> 0 | I25: =K25+M25 -> 0 | K25: =IF(J25<=40,J25-M25,J25-L25-M25) -> 0 | L25: =IF(J25>=40,J25-40,0) -> 0 | M25: =IF(F25=1,0,G25) -> 0 | P25: =P24+H25+G25-K25-L25-M25+N25-O25 -> 0
A26: 12-02-17 au 18-02-2017 | G26: =ROUND(IF(E26=1,(K25+K24+K23+K22+G25)/20,0),0)+ROUND((IF(E26=2,(K25+K24+K23+K22+G25)/20))*2,0)+T26 -> 0 | I26: =K26+M26 -> 0 | K26: =IF(J26<=40,J26-M26,J26-L26-M26) -> 0 | L26: =IF(J26>=40,J26-40,0) -> 0 | M26: =IF(F26=1,0,G26) -> 0 | P26: =P25+H26+G26-K26-L26-M26+N26-O26 -> 0
A27: 19-02-17 au 25-02-2017 | G27: =ROUND(IF(E27=1,(K26+K25+K24+K23+G26)/20,0),0)+ROUND((IF(E27=2,(K26+K25+K24+K23+G26)/20))*2,0)+T27 -> 0 | I27: =K27+M27 -> 0 | K27: =IF(J27<=40,J27-M27,J27-L27-M27) -> 0 | L27: =IF(J27>=40,J27-40,0) -> 0 | M27: =IF(F27=1,0,G27) -> 0 | P27: =P26+H27+G27-K27-L27-M27+N27-O27 -> 0
A28: 26-02-17 au 04-03-2017 | G28: =ROUND(IF(E28=1,(K27+K26+K25+K24+G27)/20,0),0)+ROUND((IF(E28=2,(K27+K26+K25+K24+G27)/20))*2,0)+T28 -> 0 | I28: =K28+M28 -> 0 | K28: =IF(J28<=40,J28-M28,J28-L28-M28) -> 0 | L28: =IF(J28>=40,J28-40,0) -> 0 | M28: =IF(F28=1,0,G28) -> 0 | P28: =P27+H28+G28-K28-L28-M28+N28-O28 -> 0
A29: 05-03-17 au 11-03-2017 | G29: =ROUND(IF(E29=1,(K28+K27+K26+K25+G28)/20,0),0)+ROUND((IF(E29=2,(K28+K27+K26+K25+G28)/20))*2,0)+T29 -> 0 | I29: =K29+M29 -> 0 | K29: =IF(J29<=40,J29-M29,J29-L29-M29) -> 0 | L29: =IF(J29>=40,J29-40,0) -> 0 | M29: =IF(F29=1,0,G29) -> 0 | P29: =P28+H29+G29-K29-L29-M29+N29-O29 -> 0
A30: 12-03-17 au 18-03-2017 | G30: =ROUND(IF(E30=1,(K29+K28+K27+K26+G29)/20,0),0)+ROUND((IF(E30=2,(K29+K28+K27+K26+G29)/20))*2,0)+T30 -> 0 | I30: =K30+M30 -> 0 | K30: =IF(J30<=40,J30-M30,J30-L30-M30) -> 0 | L30: =IF(J30>=40,J30-40,0) -> 0 | M30: =IF(F30=1,0,G30) -> 0 | P30: =P29+H30+G30-K30-L30-M30+N30-O30 -> 0
A31: 19-03-17 au 25-03-2017 | G31: =ROUND(IF(E31=1,(K30+K29+K28+K27+G30)/20,0),0)+ROUND((IF(E31=2,(K30+K29+K28+K27+G30)/20))*2,0)+T31 -> 0 | I31: =K31+M31 -> 0 | K31: =IF(J31<=40,J31-M31,J31-L31-M31) -> 0 | L31: =IF(J31>=40,J31-40,0) -> 0 | M31: =IF(F31=1,0,G31) -> 0 | P31: =P30+H31+G31-K31-L31-M31+N31-O31 -> 0
... A63: 29-10-17 au 04-11-2017 | G63: =ROUND(IF(E63=1,(K62+K61+K60+K59+G62)/20,0),0)+ROUND((IF(E63=2,(K62+K61+K60+K59+G62)/20))*2,0)+T63 -> 0 | I63: =K63+M63 -> 0 | K63: =IF(J63<=40,J63-M63,J63-L63-M63) -> 0 | L63: =IF(J63>=40,J63-40,0) -> 0 | M63: =IF(F63=1,0,G63) -> 0 | P63: =P62+H63+G63-K63-L63-M63+N63-O63 -> 0
A64: 05-11-17 au 11-11-2017 | I64: =K64+M64 -> 0 | K64: =IF(J64<=40,J64-M64,J64-L64-M64) -> 0 | L64: =IF(J64>=40,J64-40,0) -> 0 | M64: =IF(F64=1,0,G64) -> 0 | P64: =P63+H64+G64-K64-L64-M64+N64-O64 -> 0
A65: 12-11-17 au 18-11-2017 | G65: =ROUND(IF(E65=1,(K64+K63+K62+K61+G64)/20,0),0)+ROUND((IF(E65=2,(K64+K63+K62+K61+G64)/20))*2,0)+T65 -> 0 | I65: =K65+M65 -> 0 | K65: =IF(J65<=40,J65-M65,J65-L65-M65) -> 0 | L65: =IF(J65>=40,J65-40,0) -> 0 | M65: =IF(F65=1,0,G65) -> 0 | P65: =P64+H65+G65-K65-L65-M65+N65-O65 -> 0
A66: 19-11-17 au 25-11-2017 | G66: =ROUND(IF(E66=1,(K65+K64+K63+K62+G65)/20,0),0)+ROUND((IF(E66=2,(K65+K64+K63+K62+G65)/20))*2,0)+T66 -> 0 | I66: =K66+M66 -> 0 | K66: =IF(J66<=40,J66-M66,J66-L66-M66) -> 0 | L66: =IF(J66>=40,J66-40,0) -> 0 | M66: =IF(F66=1,0,G66) -> 0 | P66: =P65+H66+G66-K66-L66-M66+N66-O66 -> 0
A67: 26-11-17 au 02-12-2017 | G67: =ROUND(IF(E67=1,(K66+K65+K64+K63+G66)/20,0),0)+ROUND((IF(E67=2,(K66+K65+K64+K63+G66)/20))*2,0)+T67 -> 0 | I67: =K67+M67 -> 0 | K67: =IF(J67<=40,J67-M67,J67-L67-M67) -> 0 | L67: =IF(J67>=40,J67-40,0) -> 0 | M67: =IF(F67=1,0,G67) -> 0 | P67: =P66+H67+G67-K67-L67-M67+N67-O67 -> 0
A68: 03-12-17 au 09-12-2017 | G68: =ROUND(IF(E68=1,(K67+K66+K65+K64+G67)/20,0),0)+ROUND((IF(E68=2,(K67+K66+K65+K64+G67)/20))*2,0)+T68 -> 0 | I68: =K68+M68 -> 0 | K68: =IF(J68<=40,J68-M68,J68-L68-M68) -> 0 | L68: =IF(J68>=40,J68-40,0) -> 0 | M68: =IF(F68=1,0,G68) -> 0 | P68: =P67+H68+G68-K68-L68-M68+N68-O68 -> 0
A69: 10-12-17 au 16-12-2017 | G69: =ROUND(IF(E69=1,(K68+K67+K66+K65+G68)/20,0),0)+ROUND((IF(E69=2,(K68+K67+K66+K65+G68)/20))*2,0)+T69 -> 0 | I69: =K69+M69 -> 0 | K69: =IF(J69<=40,J69-M69,J69-L69-M69) -> 0 | L69: =IF(J69>=40,J69-40,0) -> 0 | M69: =IF(F69=1,0,G69) -> 0 | P69: =P68+H69+G69-K69-L69-M69+N69-O69 -> 0
A70: 17-12-17 au 23-12-2017 | G70: =ROUND(IF(E70=1,(K69+K68+K67+K66+G69)/20,0),0)+ROUND((IF(E70=2,(K69+K68+K67+K66+G69)/20))*2,0)+T70 -> 0 | I70: =K70+M70 -> 0 | K70: =IF(J70<=40,J70-M70,J70-L70-M70) -> 0 | L70: =IF(J70>=40,J70-40,0) -> 0 | M70: =IF(F70=1,0,G70) -> 0 | P70: =P69+H70+G70-K70-L70-M70+N70-O70 -> 0
A71: 0 | G71: =ROUND(IF(E71=1,(K70+K69+K68+K67+G70)/20,0),0)+ROUND((IF(E71=2,(K70+K69+K68+K67+G70)/20))*2,0)+T71 -> 0 | I71: =K71+M71 -> 0 | K71: =IF(J71<=40,J71-M71,J71-L71-M71) -> 0 | L71: =IF(J71>=40,J71-40,0) -> 0 | M71: =IF(F71=1,0,G71) -> 0 | P71: =P70+H71+G71-K71-L71-M71+N71-O71 -> 0
S72: =SUM(S14:S70) -> 0
