Workbook

Sheet Récap
E2: Indicateur PRODUCTION VENDUE exercice 2016 / 2017 | Q2: Indice : E | S2: 42663
Q4: Mois : | S4: 9
Q6: Avancements | U6: Objectifs
E8: Mai | F8: Juin | G8: Juillet | H8: Août | I8: Sept. | J8: Oct. | K8: Nov. | L8: Déc. | M8: Janvier | N8: Février | O8: Mars | P8: Avril | Q8: réels cumulés | R8: mois en commande | S8: Cibles | T8: Ecarts | U8: annuels | V8: mensuels
B9: Chiffre d'affaires | E9: ='Mai '!E14 -> 506429 | F9: =Juin!E13 -> 92577.1 | G9: =Juillet!E11 -> 814599 | H9: =Aout!E14 -> 51363 | I9: =Septembre!E14 -> 135999 | J9: =Octobre!E14 -> 451539.6 | K9: =Novembre!E20 -> 122801.8 | L9: =Décembre!E15 -> 390581 | M9: =Janvier!F11 -> 316324 | N9: =Février!E13 -> 42748 | O9: =Mars!E14 -> 0 | P9: =Avril!E15 -> 0 | Q9: =SUM(E9:P9) -> 2924961.5 | R9: =Q9/U9*12 -> 7.9771677 | S9: =V9*S4 -> 3300000 | T9: =Q9-S9 -> -375038.5 | U9: 4400000 | V9: =U9/12 -> 366666.67
B10: Chiffre d'affaires ST | E10: ='Mai '!F14 -> 99186 | F10: =Juin!F13 -> 4445 | G10: =Juillet!F11 -> 145575 | H10: =Aout!F15 -> 0 | I10: =Septembre!F14 -> 19984 | J10: =Octobre!F14 -> 120283 | K10: =Novembre!F20 -> 22640 | L10: =Décembre!F15 -> 76309 | M10: =Janvier!G11 -> 98885 | N10: =Février!F13 -> 9690 | O10: =Mars!F14 -> 0 | P10: =Avril!F15 -> 0 | Q10: =SUM(E10:P10) -> 596997 | R10: =Q10/U10*12 -> 10.176085 | S10: =V10*S4 -> 528000 | T10: =Q10-S10 -> 68997 | U10: 704000 | V10: =U10/12 -> 58666.667
B11: Frais généraux vendus | E11: ='Mai '!L14 -> 124179.68 | F11: =Juin!L13 -> 29889.791 | G11: =Juillet!L11 -> 224996.85 | H11: =Aout!L14 -> 14467.476 | I11: =Septembre!L14 -> 39184.112 | J11: =Octobre!L14 -> 108206.79 | K11: =Novembre!L20 -> 34055.012 | L11: =Décembre!L15 -> 106852.48 | M11: =Janvier!M11 -> 2252 | N11: =Février!K13 -> 9587 | O11: =Mars!K14 -> 0 | P11: =Avril!K15 -> 0 | Q11: =SUM(E11:P11) -> 693671.19 | R11: =Q11/U11*12 -> 6.6117972 | S11: =S4*V11 -> 944227.5 | T11: =Q11-S11 -> -250556.31 | U11: 1258970 | V11: =U11/12 -> 104914.17
B13: Heures BE | E13: ='Mai '!G14 -> 460 | F13: =Juin!G13 -> 242 | G13: =Juillet!G11 -> 532 | H13: =Aout!G14 -> 16 | I13: =Septembre!G14 -> 176 | J13: =Octobre!G14 -> 678 | K13: =Novembre!G20 -> 260 | L13: =Décembre!G15 -> 466 | M13: =Janvier!H11 -> 228 | N13: =Février!G13 -> 40 | O13: =Mars!G14 -> 0 | P13: =Avril!G15 -> 0 | Q13: =SUM(E13:P13) -> 3098 | R13: =Q13/U13*12 -> 6.4811715 | S13: =S4*V13 -> 4302 | T13: =Q13-S13 -> -1204 | U13: 5736 | V13: =U13/12 -> 478
B14: Heures Atelier | E14: ='Mai '!H14 -> 1145 | F14: =Juin!H13 -> 157 | G14: =Juillet!H11 -> 509 | H14: =Aout!H14 -> 24 | I14: =Septembre!H14 -> 132 | J14: =Octobre!H14 -> 950 | K14: =Novembre!H20 -> 604 | L14: =Décembre!H15 -> 1018 | M14: =Janvier!I11 -> 143 | N14: =Février!H13 -> 0 | O14: =Mars!H14 -> 0 | P14: =Avril!H15 -> 0 | Q14: =SUM(E14:P14) -> 4682 | R14: =Q14/U14*12 -> 5.343224 | S14: =S4*V14 -> 7886.25 | T14: =Q14-S14 -> -3204.25 | U14: 10515 | V14: =U14/12 -> 876.25
B15: Heures Chantier | E15: ='Mai '!I14 -> 3086 | F15: =Juin!I13 -> 1050 | G15: =Juillet!I11 -> 5139 | H15: =Aout!I14 -> 448 | I15: =Septembre!I14 -> 1285 | J15: =Octobre!I14 -> 2159 | K15: =Novembre!I20 -> 1107 | L15: =Décembre!I15 -> 1930 | M15: =Janvier!J11 -> 1480 | N15: =Février!I13 -> 281 | O15: =Mars!I14 -> 0 | P15: =Avril!I15 -> 0 | Q15: =SUM(E15:P15) -> 17965 | R15: =Q15/U15*12 -> 10.093642 | S15: =S4*V15 -> 16018.5 | T15: =Q15-S15 -> 1946.5 | U15: 21358 | V15: =U15/12 -> 1779.8333
B16: Totaux | E16: =SUM(E13:E15) -> 4691 | F16: =SUM(F13:F15) -> 1449 | G16: =SUM(G13:G15) -> 6180 | H16: =SUM(H13:H15) -> 488 | I16: =SUM(I13:I15) -> 1593 | J16: =SUM(J13:J15) -> 3787 | K16: =SUM(K13:K15) -> 1971 | L16: =SUM(L13:L15) -> 3414 | ... P16: =SUM(P13:P15) -> 0 | Q16: =SUM(E16:P16) -> 25745 | R16: =Q16/U16*12 -> 8.2145231 | S16: =S4*V16 -> 28206.75 | T16: =Q16-S16 -> -2461.75 | U16: =SUM(U13:U15) -> 37609 | V16: =U16/12 -> 3134.0833
B18: Poids à fabriquer en Kg | E18: ='Mai '!J14 -> 27350 | F18: =Juin!J13 -> 1608 | G18: =Juillet!J11 -> 32630 | H18: =Aout!J14 -> 595 | I18: =Septembre!J14 -> 4236 | J18: =Octobre!J14 -> 33428 | K18: =Novembre!J20 -> 12020 | L18: =Décembre!J15 -> 70040 | M18: =Janvier!K11 -> 5690 | N18: =Février!J13 -> 0 | O18: =Mars!J14 -> 0 | P18: =Avril!J15 -> 0 | Q18: =SUM(E18:P18) -> 187597 | R18: =Q18/U18*12 -> 6.2532333 | S18: =S4*V18 -> 270000 | T18: =Q18-S18 -> -82403 | U18: =V18*12 -> 360000 | V18: 30000
O19: Moyenne / mois = | Q19: =Q18/S4 -> 20844.111

Sheet Mai 
C2: Mai
A4: P | B4: F | C4: Chantiers | D4: N° devis | E4: Montant de l'affaire | F4: Montant travaux ST en D.S. | G4: Heures BE | H4: Heures Atelier + Peinture | I4: Heures chantier | J4: Tonnage Atelier | K4: FG 29% | L4: FG prévus | M4: Commercial | N4: Public ou privé
A5: x | B5: x | D5: D1500846B | E5: 53762 | F5: 18238 | G5: 80 | H5: =212 -> 212 | I5: 226 | J5: 7010 | K5: 9865 | L5: =(E5-F5*1.05)*0.34 -> 11768.114 | M5: Damien | N5: Public
A6: x | B6: x | D6: D1500726C | E6: 66300 | F6: 5608 | G6: 88 | H6: =429+32 -> 461 | I6: 433 | J6: 9660 | K6: 17601 | L6: =(E6-F6*1.05)*0.34 -> 20539.944 | M6: Christian | N6: Privé
A7: x | B7: x | D7: D1500552D | E7: 338948 | F7: 72124 | G7: 236 | H7: 472 | I7: =266+1638 -> 1904 | J7: 10680 | K7: 77379 | L7: =(E7-F7*1.05)*0.292 -> 76859.598 | M7: Anthony | N7: Public
A8: x | B8: x | D8: D1600242B | E8: 30012 | F8: 0 | G8: 8 | H8: 0 | I8: 382 | J8: 0 | K8: 8703 | L8: =(E8-F8*1.05)*0.34 -> 10204.08 | M8: Christian | N8: Privé
A9: x | B9: x | D9: D1500652B | E9: 13777 | F9: 1000 | G9: 48 | H9: 0 | I9: 141 | J9: 0 | K9: 3705 | L9: =(E9-F9*1.05)*0.34 -> 4327.18 | M9: Damien | N9: Public
B10: x | D10: D1500790 | E10: 3630 | F10: 2216 | G10: 0 | H10: 0 | I10: 0 | J10: 0 | K10: 410 | L10: =(E10-F10)*0.34 -> 480.76 | M10: Christian | N10: Public
L11: =(E11-F11)*0.34 -> 0
L12: =(E12-F12)*0.34 -> 0
L13: =(E13-F13)*0.34 -> 0
D14: Totaux | E14: =SUM(E5:E13) -> 506429 | F14: =SUM(F5:F13) -> 99186 | G14: =SUM(G5:G12) -> 460 | H14: =SUM(H5:H12) -> 1145 | I14: =SUM(I5:I12) -> 3086 | J14: =SUM(J5:J12) -> 27350 | K14: =SUM(K5:K12) -> 117663 | L14: =SUM(L5:L13) -> 124179.68

Sheet Juin
C2: Juin
A4: P | B4: F | C4: Chantiers | D4: N° devis | E4: Montant de l'affaire | F4: Montant travaux ST en D.S. | G4: Heures BE | H4: Heures Atelier + Peinture | I4: Heures chantier | J4: Tonnage Atelier | K4: FG 29% | L4: FG prévus | M4: Commercial | N4: Public ou privé
A5: x | B5: x | D5: D1600363B | E5: 16500 | F5: 121 | G5: 42 | H5: 85 | I5: 224 | J5: 890 | K5: 4750 | L5: =(E5-F5*1.05)*0.34 -> 5566.803 | M5: Anthony | N5: Privé
A6: x | B6: x | D6: D1400785 | E6: 9565 | F6: 0 | G6: 12 | H6: 0 | I6: 128 | J6: 0 | K6: 2774 | L6: =(E6-F6)*0.34 -> 3252.1 | M6: Christian | N6: Public
A7: x | B7: x | D7: D1600449 | E7: 1980 | F7: 26 | G7: 8 | H7: 20 | I7: 16 | J7: 160 | K7: 567 | L7: =(E7-F7)*0.34 -> 664.36 | M7: Christian | N7: Public
A8: x | B8: x | D8: D1500622B | E8: 26500 | F8: 0 | G8: 80 | H8: 0 | I8: 300 | J8: 0 | K8: 7685 | L8: =(E8-F8)*0.34 -> 9010 | M8: Christian | N8: Privé
A9: x | B9: x | D9: D1600439D | E9: 42606.1 | F9: 3675 | G9: 40 | H9: 6 | I9: =379+15 -> 394 | J9: 108 | K9: 11290 | L9: =(E9-F9*1.05)*0.34 -> 13174.099 | M9: Anthony | N9: Public
B10: x | D10: D1600262B | E10: -4574 | F10: 623 | G10: 60 | H10: 46 | I10: -12 | J10: 450 | K10: -1507 | L10: =(E10-F10*1.05)*0.34 -> -1777.571 | M10: Damien | N10: Public
L11: =(E11-F11)*0.34 -> 0
L12: =(E12-F12)*0.34 -> 0
D13: Totaux | E13: =SUM(E5:E12) -> 92577.1 | F13: =SUM(F5:F12) -> 4445 | G13: =SUM(G5:G11) -> 242 | H13: =SUM(H5:H11) -> 157 | I13: =SUM(I5:I11) -> 1050 | J13: =SUM(J5:J11) -> 1608 | K13: =SUM(K5:K11) -> 25559 | L13: =SUM(L5:L12) -> 29889.791

Sheet Juillet
C2: Juillet
A4: P | B4: F | C4: Chantiers | D4: N° devis | E4: Montant de l'affaire | F4: Montant travaux ST en D.S. | G4: Heures BE | H4: Heures Atelier + Peinture | I4: Heures chantier | J4: Poids à fabriquer en Kg | K4: FG 29% | L4: FG prévus | M4: Commercial | N4: Public ou privé
A5: x | B5: x | D5: D1600450 | E5: 102834 | F5: 9810 | G5: 158 | H5: 473 | I5: 567 | J5: 15050 | K5: 31600 | L5: =(E5-F5*1.05)*0.34 -> 31461.39 | M5: Damien | N5: Public
A6: x | B6: x | D6: D1600307 | E6: 34243 | F6: 3461 | G6: 64 | H6: 0 | I6: 448 | J6: 0 | K6: 8927 | L6: =(E6-F6*1.05)*0.34 -> 10407.043 | M6: Anthony | N6: Privé
B7: x | D7: D1600521 | E7: 4420 | F7: 204 | G7: 0 | H7: 0 | I7: 16 | J7: 0 | K7: 1223 | L7: =(E7-F7)*0.34 -> 1433.44 | M7: Anthony | N7: Privé
A8: x | D8: D1300408F | E8: 570000 | F8: 125752 | G8: 176 | H8: 36 | I8: 3332 | J8: 6090 | L8: =(E8-F8*1.05)*0.34 -> 148906.54 | M8: Christian | N8: Privé
A9: x | D9: D1500609E | E9: 103102 | F9: 6348 | G9: 134 | H9: =231+27 -> 258 | I9: 776 | J9: 11490 | K9: 28059 | L9: =(E9-F9*1.05)*0.34 -> 32788.444 | M9: Anthony | N9: Privé
L10: =(E10-F10)*0.34 -> 0
D11: Totaux | E11: =SUM(E5:E10) -> 814599 | F11: =SUM(F5:F10) -> 145575 | G11: =SUM(G5:G9) -> 532 | H11: =SUM(H5:H8) -> 509 | I11: =SUM(I5:I9) -> 5139 | J11: =SUM(J5:J9) -> 32630 | K11: =SUM(K5:K9) -> 69809 | L11: =SUM(L5:L10) -> 224996.85

Sheet Aout
C2: Aout
A4: P | B4: F | C4: Chantier | D4: N° devis | E4: Montant de l'affaire | F4: Montant travaux ST en D.S. | G4: Heures BE | H4: Heures Atelier + Peinture | I4: Heures chantier | J4: Tonnage Atelier | K4: FG 29% | L4: FG prévus | M4: Commercial | N4: Public ou privé
A5: x | B5: x | D5: D1600282B | E5: 20940 | F5: 0 | G5: 0 | H5: 0 | I5: 192 | J5: 0 | K5: 6073 | L5: =(E5-F5)*0.34 -> 7119.6 | M5: Christian | N5: Public
A6: x | B6: x | D6: D1500811 | E6: 4481 | F6: 344 | G6: 16 | H6: 24 | I6: 24 | J6: 595 | K6: 1200 | L6: =(E6-F6*1.05)*0.34 -> 1400.732 | M6: Anthony | N6: Privé
D7: D1600130B | E7: 25942 | F7: 8048 | G7: 0 | H7: 0 | I7: 232 | J7: 0 | K7: 5189 | L7: =(E7-F7*1.05)*0.34 -> 5947.144 | M7: Anthony | N7: Privé
L8: =(E8-F8)*0.34 -> 0
L9: =(E9-F9)*0.34 -> 0
L10: =(E10-F10)*0.34 -> 0
L11: =(E11-F11)*0.34 -> 0
L12: =(E12-F12)*0.34 -> 0
L13: =(E13-F13)*0.34 -> 0
D14: Totaux | E14: =SUM(E5:E13) -> 51363 | F14: =SUM(F5:F13) -> 8392 | G14: =SUM(G5:G11) -> 16 | H14: =SUM(H5:H11) -> 24 | I14: =SUM(I5:I11) -> 448 | J14: =SUM(J5:J11) -> 595 | K14: =SUM(K5:K11) -> 12462 | L14: =SUM(L5:L13) -> 14467.476

Sheet Septembre
C2: Septembre
A4: P | B4: F | C4: Chantier | D4: N° devis | E4: Montant de l'affaire | F4: Montant travaux ST en D.S. | G4: Heures BE | H4: Heures Atelier + Peinture | I4: Heures chantier | J4: Tonnage Atelier | K4: FG 29% | L4: FG prévus | M4: Commercial | N4: Public ou privé
A5: x | B5: x | D5: D1600455B | E5: 17500 | F5: 1946 | G5: 44 | H5: 108 | I5: 96 | J5: 4105 | K5: 4511 | L5: =(E5-F5*1.05)*0.34 -> 5255.278 | M5: Christian | N5: Privé
B6: x | D6: D1600623 | E6: 6770 | F6: 6220 | G6: 0 | H6: 0 | I6: 0 | J6: 0 | K6: 160 | L6: 160 | M6: Christian | N6: Privé
B7: x | D7: D1600393 | E7: 1997 | F7: 23 | G7: 8 | H7: 16 | I7: 16 | J7: 67 | K7: 572 | L7: =(E7-F7*1.05)*0.34 -> 670.769 | M7: Damien | N7: Privé
B8: x | D8: D1600642 | E8: 1350 | F8: 50 | G8: 4 | H8: 8 | I8: 16 | J8: 64 | K8: 377 | L8: =(E8-F8*1.05)*0.34 -> 441.15 | M8: Christian | N8: Privé
A9: x | B9: x | D9: D1600542 | E9: 40451 | F9: 5439 | G9: 80 | H9: 0 | I9: 400 | J9: 0 | K9: 10153 | L9: =(E9-F9*1.05)*0.34 -> 11811.617 | M9: Damien | N9: Public
A10: x | B10: x | D10: D1600550D | E10: 38591 | F10: 6306 | G10: 40 | H10: 0 | I10: 408 | J10: 0 | K10: 9363 | L10: =(E10-F10*1.05)*0.34 -> 10869.698 | M10: Anthony | N10: Privé
A11: x | B11: x | D11: D1600146C | E11: 29340 | F11: 0 | G11: 0 | H11: 0 | I11: 349 | J11: 0 | K11: 8509 | L11: =(E11-F11*1.05)*0.34 -> 9975.6 | M11: Anthony | N11: Privé
D14: Totaux | E14: =SUM(E5:E13) -> 135999 | F14: =SUM(F5:F13) -> 19984 | G14: =SUM(G5:G12) -> 176 | H14: =SUM(H5:H12) -> 132 | I14: =SUM(I5:I12) -> 1285 | J14: =SUM(J5:J12) -> 4236 | K14: =SUM(K5:K12) -> 33645 | L14: =SUM(L5:L12) -> 39184.112

Sheet Octobre
C2: Octobre
A4: P | B4: F | C4: Chantier | D4: N° devis | E4: Montant de l'affaire | F4: Montant travaux ST en D.S. | G4: Heures BE | H4: Heures Atelier + Peinture | I4: Heures chantier | J4: Tonnage Atelier | K4: FG 29% | L4: FG prévus | M4: Commercial | N4: Public ou privé
A5: x | B5: x | D5: D1600570C | E5: 51037.2 | F5: 9720 | G5: 68 | H5: =48+4 -> 52 | I5: =126+302 -> 428 | J5: 2345 | K5: 11982 | L5: =(E5-F5*1.05)*0.34 -> 13882.608 | M5: Anthony | N5: Public
A6: x | B6: x | D6: D1600714 | E6: 2578.1 | F6: 0 | G6: 0 | H6: 0 | I6: 17 | J6: 0 | K6: 748 | L6: =(E6-F6)*0.34 -> 876.554 | M6: Anthony | N6: Privé
A7: x | B7: x | D7: D1600680 | E7: 8875 | F7: 827 | G7: 32 | H7: 64 | I7: 32 | J7: 1083 | K7: 2334 | L7: =(E7-F7*1.05)*0.34 -> 2722.261 | M7: Anthony | N7: Public
A8: x | B8: x | D8: D1500556C | E8: 145000 | F8: 26556 | G8: 166 | H8: 0 | I8: 718 | J8: 0 | K8: 35895.25 | L8: =(E8-F8*1.05)*0.34 -> 39819.508 | M8: Damien | N8: Privé
B9: x | D9: D1600677B | E9: 9000 | F9: 8099 | G9: 0 | H9: 0 | I9: 0 | J9: 0 | K9: 261 | L9: =(E9-F9*1.1)*0.34 -> 30.974 | M9: Anthony | N9: Public
A10: x | B10: x | D10: D1600666C | E10: 54259 | F10: 22006 | G10: 72 | H10: 203 | I10: 217 | J10: 8000 | K10: 9353 | L10: =(E10-F10*1.03)*0.32 -> 10109.702 | M10: Anthony | N10: Privé
A11: x | B11: x | D11: D1500610I | E11: 160500 | F11: 53075 | G11: 300 | H11: 631 | I11: 593 | J11: 22000 | K11: 31153 | L11: =(E11-F11*1.03)*0.32 -> 33866.48 | M11: Damien | N11: Privé
A12: x | B12: x | D12: D1600743 | E12: 20290.3 | F12: 0 | G12: 40 | H12: 0 | I12: 154 | J12: 0 | K12: 5884 | L12: =(E12-F12*1.05)*0.34 -> 6898.702 | M12: Damien | N12: Privé
L13: =(E13-F13)*0.34 -> 0
D14: Totaux | E14: =SUM(E5:E13) -> 451539.6 | F14: =SUM(F5:F13) -> 120283 | G14: =SUM(G5:G12) -> 678 | H14: =SUM(H5:H12) -> 950 | I14: =SUM(I5:I12) -> 2159 | J14: =SUM(J5:J12) -> 33428 | K14: =SUM(K5:K12) -> 97610.25 | L14: =SUM(L5:L13) -> 108206.79

Sheet Novembre
C2: Novembre
C4: Chantier | D4: N° devis | E4: Montant de l'affaire | F4: Montant travaux ST en D.S. | G4: Heures BE | H4: Heures Atelier + Peinture | I4: Heures chantier | J4: Tonnage Atelier | K4: FG 29% | L4: FG prévus | M4: Commercial | N4: Public ou privé
D5: D1600585B | E5: 6319.6 | F5: 493 | G5: 8 | H5: 3 | I5: 72 | J5: 60 | K5: 1690 | L5: =(E5-F5)*0.34 -> 1981.044 | M5: Anthony | N5: Privé
D6: D1600808B | E6: 1579 | F6: 263 | G6: 0 | H6: 8 | I6: 1 | J6: 100 | K6: 382 | L6: =(E6-F6)*0.34 -> 447.44 | M6: Anthony | N6: Privé
D7: D1600606B | E7: 9666 | F7: 771 | G7: 34 | H7: 144 | I7: 48 | J7: 1750 | K7: 3119 | L7: =(E7-F7)*0.34 -> 3024.3 | M7: Anthony | N7: Privé
D8: D1600769 | E8: 7000 | F8: 2259 | G8: 10 | H8: 40 | I8: 40 | J8: 1870 | K8: 1375 | L8: =(E8-F8)*0.34 -> 1611.94 | M8: Mattin | N8: Privé
D9: D1600489 | E9: 3232 | F9: 950 | G9: 0 | H9: 0 | I9: 16 | J9: 0 | K9: Devis AM | L9: =(E9-F9)*0.34 -> 775.88 | M9: Mattin | N9: Privé
D10: D1600693 | E10: 2961 | F10: 149 | G10: 12 | H10: 18 | I10: 16 | J10: 300 | K10: 815 | L10: =(E10-F10)*0.34 -> 956.08 | M10: Anthony | N10: Privé
D11: D1600807 | E11: 440 | F11: 0 | G11: 0 | H11: 8 | I11: 0 | J11: 150 | K11: 128 | L11: =(E11-F11)*0.34 -> 149.6 | M11: Anthony | N11: Privé
D12: D1600801 | E12: 390 | F12: 0 | G12: 0 | H12: 0 | I12: 8 | J12: 0 | K12: 113 | L12: =(E12-F12)*0.34 -> 132.6 | M12: Anthony | N12: Privé
A13: x | D13: D1600576B | E13: 81692.2 | F13: 16365 | G13: 160 | H13: 351 | I13: 840 | J13: 7400 | K13: 18945 | L13: =(E13-F13)*0.34 -> 22211.248 | M13: Anthony | N13: Public
D14: D1600613 | E14: 5970 | F14: 1178 | G14: 32 | H14: 16 | I14: 48 | J14: 330 | K14: 1390 | L14: =(E14-F14)*0.34 -> 1629.28 | M14: Damien | N14: Public
D15: D1600572B | E15: 509 | F15: -738 | G15: 0 | H15: 0 | I15: -14 | J15: -60 | K15: 362 | L15: =(E15-F15)*0.34 -> 423.98 | M15: Damien | N15: Public
D16: D1600787 | E16: 1600 | F16: 90 | G16: 4 | H16: 16 | I16: 16 | J16: 120 | K16: 438 | L16: =(E16-F16)*0.34 -> 513.4 | M16: Damien | N16: Public
D17: D1600843 | E17: 660 | F17: 95 | G17: 0 | H17: 0 | I17: 16 | J17: 0 | K17: 164 | L17: =(E17-F17)*0.34 -> 192.1 | M17: Benjamin | N17: Public
D18: D1600831B | E18: 783 | F18: 765 | G18: 0 | H18: 0 | I18: 0 | J18: 0 | K18: 5 | L18: =(E18-F18)*0.34 -> 6.12 | M18: Anthony | N18: Privé
L19: =(E19-F19)*0.34 -> 0
D20: Totaux | E20: =SUM(E5:E19) -> 122801.8 | F20: =SUM(F5:F19) -> 22640 | G20: =SUM(G5:G18) -> 260 | H20: =SUM(H5:H18) -> 604 | I20: =SUM(I5:I18) -> 1107 | J20: =SUM(J5:J18) -> 12020 | K20: =SUM(K5:K18) -> 28926 | L20: =SUM(L5:L19) -> 34055.012

Sheet Décembre
C2: Décembre
A4: P | B4: F | C4: Chantier | D4: N° devis | E4: Montant de l'affaire | F4: Montant travaux ST en D.S. | G4: Heures BE | H4: Heures Atelier + Peinture | I4: Heures chantier | J4: Tonnage Atelier | K4: FG 29% | L4: FG prévus | M4: Commercial | N4: Public ou privé
D5: D1600763 | E5: 2887 | F5: 54 | G5: 8 | H5: 24 | I5: 24 | J5: 120 | K5: 822 | L5: =(E5-F5)*0.34 -> 963.22 | M5: Damien | N5: Public
A6: x | D6: D1600820 | E6: 5884 | F6: 2820 | G6: 4 | H6: 8 | I6: 19 | J6: 170 | K6: 888 | L6: =(E6-F6)*0.34 -> 1041.76 | M6: Christian | N6: Privé
A7: x | D7: D1600746C | E7: 108361 | F7: 7936 | G7: 133 | H7: 430 | I7: 765 | J7: 18760 | K7: 29123 | L7: =(E7-F7)*0.34 -> 34144.5 | M7: Christian | N7: Privé
A8: x | D8: D1600157C | E8: 95012 | F8: 34713 | G8: 104 | H8: 178 | I8: 457 | J8: 8420 | K8: 17487 | L8: =(E8-F8)*0.34 -> 20501.66 | M8: Christian | N8: Privé
A9: x | D9: D1600437B | E9: 67052 | F9: 20450 | G9: 76 | H9: 0 | I9: 360 | J9: 0 | K9: 13515 | L9: =(E9-F9)*0.34 -> 15844.68 | M9: Damien | N9: Privé
A10: x | D10: D1600882C | E10: 47700 | F10: 7263 | G10: 21 | H10: =311+67 -> 378 | I10: 0 | J10: 33380 | K10: 11727 | L10: =(E10-F10)*0.34 -> 13748.58 | M10: Anthony | N10: Privé
A11: x | D11: D1600742B | E11: 50327 | F11: 3073 | G11: 100 | H11: =155+18 -> 173 | I11: 305 | J11: 9190 | K11: 13704 | L11: =(E11-F11)*0.34 -> 16066.36 | M11: Anthony | N11: Privé
A12: x | D12: D1600876 | E12: 12678 | F12: 0 | G12: 20 | H12: 0 | I12: =36+54 -> 90 | J12: 0 | K12: 3676 | L12: =(E12-F12)*0.34 -> 4310.52 | M12: Damien | N12: Privé
A13: x | D13: D1600871 | E13: 680 | F13: 0 | G13: 0 | H13: 0 | I13: 16 | J13: 0 | K13: 197 | L13: =(E13-F13)*0.34 -> 231.2 | M13: Mattin | N13: Public
L14: =(E14-F14)*0.34 -> 0
D15: Totaux | E15: =SUM(E5:E14) -> 390581 | F15: =SUM(F5:F14) -> 76309 | G15: =SUM(G5:G13) -> 466 | H15: =SUM(H5:H10) -> 1018 | I15: =SUM(I5:I11) -> 1930 | J15: =SUM(J5:J13) -> 70040 | K15: =SUM(K5:K13) -> 91139 | L15: =SUM(L5:L14) -> 106852.48

Sheet Janvier
D2: Janvier
B4: P | C4: F | D4: Chantiers | E4: N° devis | F4: Montant de l'affaire | G4: Montant travaux ST en D.S. | H4: Heures BE | I4: Heures Atelier + Peinture | J4: Heures chantier | K4: Tonnage Atelier | L4: FG 29% | M4: FG prévus | N4: Commercial | O4: Public ou privé
B5: x | E5: D1600710B | F5: 8693 | G5: 1548 | H5: 24 | I5: 16 | J5: 48 | K5: 342 | L5: 2072 | M5: 2252 | N5: Anthony | O5: Privé
B6: x | E6: D1700011B | F6: 5620 | G6: 348 | H6: 24 | I6: 18 | J6: 72 | K6: 336 | L6: 1529 | M6: =(F6-G6)*0.34 -> 1792.48 | N6: Christian | O6: Privé
B7: x | E7: D1600918 | F7: 19691 | G7: 2028 | H7: 44 | I7: 109 | J7: 97 | K7: 5012 | L7: 5122 | M7: =(F7-G7)*0.34 -> 6005.42 | N7: Christian | O7: Privé
E8: D1600382i | F8: 282320 | G8: 94961 | H8: 136 | I8: 0 | J8: =708+555 -> 1263 | K8: 0 | L8: 54334 | M8: =(F8-G8)*0.34 -> 63702.06 | N8: Damien | O8: Privé
M9: =(F9-G9)*0.34 -> 0
M10: =(F10-G10)*0.34 -> 0
E11: Totaux | F11: =SUM(F5:F10) -> 316324 | G11: =SUM(G5:G10) -> 98885 | H11: =SUM(H5:H10) -> 228 | I11: =SUM(I5:I10) -> 143 | J11: =SUM(J5:J10) -> 1480 | K11: =SUM(K5:K10) -> 5690 | L11: =SUM(L5:L10) -> 63057 | M11: =SUM(M5:M5) -> 2252

Sheet Février
C2: Février
A4: P | B4: F | C4: Chantiers | D4: N° devis | E4: Montant de l'affaire | F4: Montant travaux ST en D.S. | G4: Heures BE | H4: Heures Atelier + Peinture | I4: Heures chantier | J4: Tonnage Atelier | K4: FG 29% | L4: FG prévus | M4: Commercial | N4: Public ou privé
D5: D1600397G | E5: 42748 | F5: 9690 | G5: 40 | H5: 0 | I5: =93+188 -> 281 | J5: 0 | K5: 9587 | L5: =(E5-F5)*0.34 -> 11239.72 | M5: Damien | N5: Privé
D13: Totaux | E13: =SUM(E5:E12) -> 42748 | F13: =SUM(F5:F12) -> 9690 | G13: =SUM(G5:G12) -> 40 | H13: =SUM(H5:H12) -> 0 | I13: =SUM(I5:I12) -> 281 | J13: =SUM(J5:J12) -> 0 | K13: =SUM(K5:K12) -> 9587 | L13: =SUM(L5:L12) -> 11239.72

Sheet Mars
C2: Mars
A4: P | B4: F | C4: Chantiers | D4: N° devis | E4: Montant de l'affaire | F4: Montant travaux ST en D.S. | G4: Heures BE | H4: Heures Atelier + Peinture | I4: Heures chantier | J4: Tonnage Atelier | K4: FG 29% | L4: FG prévus | M4: Commercial | N4: Public ou privé
N5: Public
N6: Privé
D14: Totaux | E14: =SUM(E5:E13) -> 0 | F14: =SUM(F5:F13) -> 0 | G14: =SUM(G5:G12) -> 0 | H14: =SUM(H5:H12) -> 0 | I14: =SUM(I5:I12) -> 0 | J14: =SUM(J5:J12) -> 0 | K14: =SUM(K5:K12) -> 0 | L14: =SUM(L5:L13) -> 0

Sheet Avril
C2: Avril
A4: P | B4: F | C4: Chantiers | D4: N° devis | E4: Montant de l'affaire | F4: Montant travaux ST en D.S. | G4: Heures BE | H4: Heures Atelier + Peinture | I4: Heures chantier | J4: Tonnage Atelier | K4: FG 29% | L4: FG prévus | M4: Commercial | N4: Public ou privé
N5: Public
N6: Privé
D15: Totaux | E15: =SUM(E5:E14) -> 0 | F15: =SUM(F5:F14) -> 0 | G15: =SUM(G5:G13) -> 0 | H15: =SUM(H5:H12) -> 0 | I15: =SUM(I5:I13) -> 0 | J15: =SUM(J5:J13) -> 0 | K15: =SUM(K5:K13) -> 0 | L15: =SUM(L5:L14) -> 0

Sheet Total affaires
C3: Chantiers | D3: N° devis | E3: Montant de l'affaire | F3: Montant travaux ST en D.S. | G3: Heures BE | H3: Heures Atelier + Peinture | I3: Heures chantier | J3: Tonnage Atelier | K3: FG 29% | L3: FG prévus | M3: Commercial | N3: Public ou privé
B4: Mai | D4: D1500846B | E4: 53762 | F4: 18238 | G4: 80 | H4: =212 -> 212 | I4: 226 | J4: 7010 | K4: 9865 | L4: =(E4-F4*1.05)*0.34 -> 11768.114 | M4: Damien | N4: Public
D5: D1500726C | E5: 66300 | F5: 5608 | G5: 88 | H5: =429+32 -> 461 | I5: 433 | J5: 9660 | K5: 17601 | L5: =(E5-F5*1.05)*0.34 -> 20539.944 | M5: Christian | N5: Privé
D6: D1500552D | E6: 338948 | F6: 72124 | G6: 236 | H6: 472 | I6: =266+1638 -> 1904 | J6: 10680 | K6: 77379 | L6: =(E6-F6*1.05)*0.292 -> 76859.598 | M6: Anthony | N6: Public
D7: D1600242B | E7: 30012 | F7: 0 | G7: 8 | H7: 0 | I7: 382 | J7: 0 | K7: 8703 | L7: =(E7-F7*1.05)*0.34 -> 10204.08 | M7: Christian | N7: Privé
D8: D1500652B | E8: 13777 | F8: 1000 | G8: 48 | H8: 0 | I8: 141 | J8: 0 | K8: 3705 | L8: =(E8-F8*1.05)*0.34 -> 4327.18 | M8: Damien | N8: Public
D9: D1500790 | E9: 3630 | F9: 2216 | G9: 0 | H9: 0 | I9: 0 | J9: 0 | K9: 410 | L9: =(E9-F9)*0.34 -> 480.76 | M9: Christian | N9: Public
B10: Juin | D10: D1600363B | E10: 16500 | F10: 121 | G10: 42 | H10: 85 | I10: 224 | J10: 890 | K10: 4750 | L10: =(E10-F10*1.05)*0.34 -> 5566.803 | M10: Anthony | N10: Privé
D11: D1400785 | E11: 9565 | F11: 0 | G11: 12 | H11: 0 | I11: 128 | J11: 0 | K11: 2774 | L11: =(E11-F11)*0.34 -> 3252.1 | M11: Christian | N11: Public
D12: D1600449 | E12: 1980 | F12: 26 | G12: 8 | H12: 20 | I12: 16 | J12: 160 | K12: 567 | L12: =(E12-F12)*0.34 -> 664.36 | M12: Christian | N12: Public
D13: D1500622B | E13: 26500 | F13: 0 | G13: 80 | H13: 0 | I13: 300 | J13: 0 | K13: 7685 | L13: =(E13-F13)*0.34 -> 9010 | M13: Christian | N13: Privé
D14: D1600439D | E14: 42606.1 | F14: 3675 | G14: 40 | H14: 6 | I14: =379+15 -> 394 | J14: 108 | K14: 11290 | L14: =(E14-F14*1.05)*0.34 -> 13174.099 | M14: Anthony | N14: Public
D15: D1600262B | E15: -4574 | F15: 623 | G15: 60 | H15: 46 | I15: -12 | J15: 450 | K15: -1507 | L15: =(E15-F15*1.05)*0.34 -> -1777.571 | M15: Damien | N15: Public
B16: Juillet | D16: D1600450 | E16: 102834 | F16: 9810 | G16: 158 | H16: 473 | I16: 567 | J16: 15050 | K16: 31600 | L16: =(E16-F16*1.05)*0.34 -> 31461.39 | M16: Damien | N16: Public
D17: D1600307 | E17: 34243 | F17: 3461 | G17: 64 | H17: 0 | I17: 448 | J17: 0 | K17: 8927 | L17: =(E17-F17*1.05)*0.34 -> 10407.043 | M17: Anthony | N17: Privé
D18: D1600521 | E18: 4420 | F18: 204 | G18: 0 | H18: 0 | I18: 16 | J18: 0 | K18: 1223 | L18: =(E18-F18)*0.34 -> 1433.44 | M18: Anthony | N18: Privé
D19: D1300408F | E19: 570000 | F19: 125752 | G19: 176 | H19: 36 | I19: 3332 | J19: 6090 | L19: =(E19-F19*1.05)*0.34 -> 148906.54 | M19: Christian | N19: Privé
D20: D1500609E | E20: 103102 | F20: 6348 | G20: 134 | H20: =231+27 -> 258 | I20: 776 | J20: 11490 | K20: 28059 | L20: =(E20-F20*1.05)*0.34 -> 32788.444 | M20: Anthony | N20: Privé
B21: Aout | D21: D1600282B | E21: 20940 | F21: 0 | G21: 0 | H21: 0 | I21: 192 | J21: 0 | K21: 6073 | L21: =(E21-F21)*0.34 -> 7119.6 | M21: Christian | N21: Public
D22: D1500811 | E22: 4481 | F22: 344 | G22: 16 | H22: 24 | I22: 24 | J22: 595 | K22: 1200 | L22: =(E22-F22*1.05)*0.34 -> 1400.732 | M22: Anthony | N22: Privé
D23: D1600130B | E23: 25942 | F23: 8048 | G23: 0 | H23: 0 | I23: 232 | J23: 0 | K23: 5189 | L23: =(E23-F23*1.05)*0.34 -> 5947.144 | M23: Anthony | N23: Privé
B24: Septembre | D24: D1600455B | E24: 17500 | F24: 1946 | G24: 44 | H24: 108 | I24: 96 | J24: 4105 | K24: 4511 | L24: =(E24-F24*1.05)*0.34 -> 5255.278 | M24: Christian | N24: Privé
D25: D1600623 | E25: 6770 | F25: 6220 | G25: 0 | H25: 0 | I25: 0 | J25: 0 | K25: 160 | L25: 160 | M25: Christian | N25: Privé
D26: D1600393 | E26: 1997 | F26: 23 | G26: 8 | H26: 16 | I26: 16 | J26: 67 | K26: 572 | L26: =(E26-F26*1.05)*0.34 -> 670.769 | M26: Damien | N26: Privé
D27: D1600642 | E27: 1350 | F27: 50 | G27: 4 | H27: 8 | I27: 16 | J27: 64 | K27: 377 | L27: =(E27-F27*1.05)*0.34 -> 441.15 | M27: Christian | N27: Privé
D28: D1600542 | E28: 40451 | F28: 5439 | G28: 80 | H28: 0 | I28: 400 | J28: 0 | K28: 10153 | L28: =(E28-F28*1.05)*0.34 -> 11811.617 | M28: Damien | N28: Public
D29: D1600550D | E29: 38591 | F29: 6306 | G29: 40 | H29: 0 | I29: 408 | J29: 0 | K29: 9363 | L29: =(E29-F29*1.05)*0.34 -> 10869.698 | M29: Anthony | N29: Privé
D30: D1600146C | E30: 29340 | F30: 0 | G30: 0 | H30: 0 | I30: 349 | J30: 0 | K30: 8509 | L30: =(E30-F30*1.05)*0.34 -> 9975.6 | M30: Anthony | N30: Privé
B31: Octobre | D31: D1600570C | E31: 51037.2 | F31: 9720 | G31: 68 | H31: =48+4 -> 52 | I31: =126+302 -> 428 | J31: 2345 | K31: 11982 | L31: =(E31-F31*1.05)*0.34 -> 13882.608 | M31: Anthony | N31: Public
D32: D1600714 | E32: 2578.1 | F32: 0 | G32: 0 | H32: 0 | I32: 17 | J32: 0 | K32: 748 | L32: =(E32-F32)*0.34 -> 876.554 | M32: Anthony | N32: Privé
D33: D1600680 | E33: 8875 | F33: 827 | G33: 32 | H33: 64 | I33: 32 | J33: 1083 | K33: 2334 | L33: =(E33-F33*1.05)*0.34 -> 2722.261 | M33: Anthony | N33: Public
D34: D1500556C | E34: 145000 | F34: 26556 | G34: 166 | H34: 0 | I34: 718 | J34: 0 | K34: 35895.25 | L34: =(E34-F34*1.05)*0.34 -> 39819.508 | M34: Damien | N34: Privé
D35: D1600677B | E35: 9000 | F35: 8099 | G35: 0 | H35: 0 | I35: 0 | J35: 0 | K35: 261 | L35: =(E35-F35*1.1)*0.34 -> 30.974 | M35: Anthony | N35: Public
D36: D1600666C | E36: 54259 | F36: 22006 | G36: 72 | H36: 203 | I36: 217 | J36: 8000 | K36: 9353 | L36: =(E36-F36*1.03)*0.32 -> 10109.702 | M36: Anthony | N36: Privé
D37: D1500610I | E37: 160500 | F37: 53075 | G37: 300 | H37: 631 | I37: 593 | J37: 22000 | K37: 31153 | L37: =(E37-F37*1.03)*0.32 -> 33866.48 | M37: Damien | N37: Privé
D38: D1600743 | E38: 20290.3 | F38: 0 | G38: 40 | H38: 0 | I38: 154 | J38: 0 | K38: 5884 | L38: =(E38-F38*1.05)*0.34 -> 6898.702 | M38: Damien | N38: Privé
B39: Novembre | D39: D1600585B | E39: 6319.6 | F39: 493 | G39: 8 | H39: 3 | I39: 72 | J39: 60 | K39: 1690 | L39: =(E39-F39)*0.34 -> 1981.044 | M39: Anthony | N39: Privé
D40: D1600808B | E40: 1579 | F40: 263 | G40: 0 | H40: 8 | I40: 1 | J40: 100 | K40: 382 | L40: =(E40-F40)*0.34 -> 447.44 | M40: Anthony | N40: Privé
D41: D1600606B | E41: 9666 | F41: 771 | G41: 34 | H41: 144 | I41: 48 | J41: 1750 | K41: 3119 | L41: =(E41-F41)*0.34 -> 3024.3 | M41: Anthony | N41: Privé
D42: D1600769 | E42: 7000 | F42: 2259 | G42: 10 | H42: 40 | I42: 40 | J42: 1870 | K42: 1375 | L42: =(E42-F42)*0.34 -> 1611.94 | M42: Mattin | N42: Privé
...
