Workbook

Sheet ENCAISSEMENT Mapping
D1: R371 | F1: =LEFT(TRIM(G9),6) -> 411121 | G1: =LEFT(TRIM(G9),6) -> 411121 | H1: =LEFT(TRIM(G9),6) -> 411121 | I1: =LEFT(TRIM(G9),6) -> 411121
D2: R373 | F2: =RIGHT(G9,8) -> 20,00 % | G2: =RIGHT(G9,8) -> 20,00 % | H2: =RIGHT(G9,8) -> 20,00 % | I2: =RIGHT(G9,8) -> 20,00 %
D3: R340 | F3: =+G9 -> 411121 Ã 20,00 % | G3: =+G9 -> 411121 Ã 20,00 % | H3: =+G9 -> 411121 Ã 20,00 % | I3: =+G9 -> 411121 Ã 20,00 %
F4: =+F2/1+1 -> 1.2 | G4: =+G2/1+1 -> 1.2 | H4: =+H2/1+1 -> 1.2 | I4: =+I2/1+1 -> 1.2
D6: CONTROLE DES ENCAISSEMENTS
D8: MOIS DE
D9: OPERATION PROGRAMMES DE LA REGION | G9: 411121 Ã 20,00 %
F10: Cumul mois précédent | G10: Cumul mois en cours | H10: Encaissement du mois | I10: TVA du mois
A11: =LEFT(TRIM(D11),6) -> 000A01 | B11: =TRIM(LEFT(D11,7)) -> 000A01 | C11: R371 | D11: =IF(D10="","",IF(+'ENCAISSEMENT M'!A12="TOTAL SAISIE ","",IF(+'ENCAISSEMENT M'!A12="","",(+'ENCAISSEMENT M'!A12)))) -> 000A01 TEST 1 | F11: {=IF($C11="",0,IF($C11=$D$1,+IFERROR(INDEX(INDEX('ENCAISSEMENT M-1 Région 371'!$B$12:$SM$5020,0,MATCH(1,(('ENCAISSEMENT M-1 Région 371'!$B$3:$SM$3='ENCAISSEMENT Mapping'!F$3)*('ENCAISSEMENT M-1 Région 371'!$B$11:$SM$11='ENCAISSEMENT Mapping'!G$10)),0)),MATCH('ENCAISSEMENT Mapping'!$D11,'ENCAISSEMENT M-1 Région 371'!$A$12:$A$5020),0),0)))} -> 111111111 | G11: {=IF(IF($D11="",0,IFERROR(INDEX(INDEX('ENCAISSEMENT M'!$B$10:$SM$5254,0,MATCH(1,(('ENCAISSEMENT M'!$B$3:$SM$3='ENCAISSEMENT Mapping'!G$3)*('ENCAISSEMENT M'!$B$11:$SM$11='ENCAISSEMENT Mapping'!G$10)),0)),MATCH('ENCAISSEMENT Mapping'!$D11,'ENCAISSEMENT M'!$A$10:$A$5254),0),0))=0,0,IF($D11="",0,IFERROR(INDEX(INDEX('ENCAISSEMENT M'!$B$10:$SM$5254,0,MATCH(1,(('ENCAISSEMENT M'!$B$3:$SM$3='ENCAISSEMENT Mapping'!G$3)*('ENCAISSEMENT M'!$B$11:$SM$11='ENCAISSEMENT Mapping'!G$10)),0)),MATCH('ENCAISSEMENT Mapping'!$D11,'ENCAISSEMENT M'!$A$10:$A$5254),0),0)))} -> 50000 | H11: =+G11-F11 -> -111061111 | I11: =+H11-(+H11/H$4) -> -18510185
A12: =LEFT(TRIM(D12),6) -> 000A02 | B12: =TRIM(LEFT(D12,7)) -> 000A02 | C12: R371 | D12: =IF(D11="","",IF(+'ENCAISSEMENT M'!A13="TOTAL SAISIE ","",IF(+'ENCAISSEMENT M'!A13="","",(+'ENCAISSEMENT M'!A13)))) -> 000A02 TEST 2 | F12: {=IF($C12="",0,IF($C12=$D$1,+IFERROR(INDEX(INDEX('ENCAISSEMENT M-1 Région 371'!$B$12:$SM$5020,0,MATCH(1,(('ENCAISSEMENT M-1 Région 371'!$B$3:$SM$3='ENCAISSEMENT Mapping'!F$3)*('ENCAISSEMENT M-1 Région 371'!$B$11:$SM$11='ENCAISSEMENT Mapping'!G$10)),0)),MATCH('ENCAISSEMENT Mapping'!$D12,'ENCAISSEMENT M-1 Région 371'!$A$12:$A$5020),0),0)))} -> 111111111 | G12: {=IF(IF($D12="",0,IFERROR(INDEX(INDEX('ENCAISSEMENT M'!$B$10:$SM$5254,0,MATCH(1,(('ENCAISSEMENT M'!$B$3:$SM$3='ENCAISSEMENT Mapping'!G$3)*('ENCAISSEMENT M'!$B$11:$SM$11='ENCAISSEMENT Mapping'!G$10)),0)),MATCH('ENCAISSEMENT Mapping'!$D12,'ENCAISSEMENT M'!$A$10:$A$5254),0),0))=0,0,IF($D12="",0,IFERROR(INDEX(INDEX('ENCAISSEMENT M'!$B$10:$SM$5254,0,MATCH(1,(('ENCAISSEMENT M'!$B$3:$SM$3='ENCAISSEMENT Mapping'!G$3)*('ENCAISSEMENT M'!$B$11:$SM$11='ENCAISSEMENT Mapping'!G$10)),0)),MATCH('ENCAISSEMENT Mapping'!$D12,'ENCAISSEMENT M'!$A$10:$A$5254),0),0)))} -> 51000 | H12: =+G12-F12 -> -111060111 | I12: =+H12-(+H12/H$4) -> -18510018 | K12: POURQUOI IL RECOPIE LA MEME VALEUR QUE F11
A13: =LEFT(TRIM(D13),6) -> 000A03 | B13: =TRIM(LEFT(D13,7)) -> 000A03 | C13: R371 | D13: =IF(D12="","",IF(+'ENCAISSEMENT M'!A14="TOTAL SAISIE ","",IF(+'ENCAISSEMENT M'!A14="","",(+'ENCAISSEMENT M'!A14)))) -> 000A03 TEST 3 | F13: {=IF($C13="",0,IF($C13=$D$1,+IFERROR(INDEX(INDEX('ENCAISSEMENT M-1 Région 371'!$B$12:$SM$5020,0,MATCH(1,(('ENCAISSEMENT M-1 Région 371'!$B$3:$SM$3='ENCAISSEMENT Mapping'!F$3)*('ENCAISSEMENT M-1 Région 371'!$B$11:$SM$11='ENCAISSEMENT Mapping'!G$10)),0)),MATCH('ENCAISSEMENT Mapping'!$D13,'ENCAISSEMENT M-1 Région 371'!$A$12:$A$5020),0),0)))} -> 31000 | G13: {=IF(IF($D13="",0,IFERROR(INDEX(INDEX('ENCAISSEMENT M'!$B$10:$SM$5254,0,MATCH(1,(('ENCAISSEMENT M'!$B$3:$SM$3='ENCAISSEMENT Mapping'!G$3)*('ENCAISSEMENT M'!$B$11:$SM$11='ENCAISSEMENT Mapping'!G$10)),0)),MATCH('ENCAISSEMENT Mapping'!$D13,'ENCAISSEMENT M'!$A$10:$A$5254),0),0))=0,0,IF($D13="",0,IFERROR(INDEX(INDEX('ENCAISSEMENT M'!$B$10:$SM$5254,0,MATCH(1,(('ENCAISSEMENT M'!$B$3:$SM$3='ENCAISSEMENT Mapping'!G$3)*('ENCAISSEMENT M'!$B$11:$SM$11='ENCAISSEMENT Mapping'!G$10)),0)),MATCH('ENCAISSEMENT Mapping'!$D13,'ENCAISSEMENT M'!$A$10:$A$5254),0),0)))} -> 52000 | H13: =+G13-F13 -> 21000 | I13: =+H13-(+H13/H$4) -> 3500
A14: =LEFT(TRIM(D14),6) -> 000A04 | B14: =TRIM(LEFT(D14,7)) -> 000A04 | C14: R373 | D14: =IF(D13="","",IF(+'ENCAISSEMENT M'!A15="TOTAL SAISIE ","",IF(+'ENCAISSEMENT M'!A15="","",(+'ENCAISSEMENT M'!A15)))) -> 000A04 TEST 4 | F14: {=IF($C14="",0,IF($C14=$D$1,+IFERROR(INDEX(INDEX('ENCAISSEMENT M-1 Région 371'!$B$12:$SM$5020,0,MATCH(1,(('ENCAISSEMENT M-1 Région 371'!$B$3:$SM$3='ENCAISSEMENT Mapping'!F$3)*('ENCAISSEMENT M-1 Région 371'!$B$11:$SM$11='ENCAISSEMENT Mapping'!G$10)),0)),MATCH('ENCAISSEMENT Mapping'!$D14,'ENCAISSEMENT M-1 Région 371'!$A$12:$A$5020),0),0)))} -> FALSE | G14: {=IF(IF($D14="",0,IFERROR(INDEX(INDEX('ENCAISSEMENT M'!$B$10:$SM$5254,0,MATCH(1,(('ENCAISSEMENT M'!$B$3:$SM$3='ENCAISSEMENT Mapping'!G$3)*('ENCAISSEMENT M'!$B$11:$SM$11='ENCAISSEMENT Mapping'!G$10)),0)),MATCH('ENCAISSEMENT Mapping'!$D14,'ENCAISSEMENT M'!$A$10:$A$5254),0),0))=0,0,IF($D14="",0,IFERROR(INDEX(INDEX('ENCAISSEMENT M'!$B$10:$SM$5254,0,MATCH(1,(('ENCAISSEMENT M'!$B$3:$SM$3='ENCAISSEMENT Mapping'!G$3)*('ENCAISSEMENT M'!$B$11:$SM$11='ENCAISSEMENT Mapping'!G$10)),0)),MATCH('ENCAISSEMENT Mapping'!$D14,'ENCAISSEMENT M'!$A$10:$A$5254),0),0)))} -> 53000 | H14: =+G14-F14 -> 53000 | I14: =+H14-(+H14/H$4) -> 8833.3333
A15: =LEFT(TRIM(D15),6) -> 000A05 | B15: =TRIM(LEFT(D15,7)) -> 000A05 | C15: R373 | D15: =IF(D14="","",IF(+'ENCAISSEMENT M'!A16="TOTAL SAISIE ","",IF(+'ENCAISSEMENT M'!A16="","",(+'ENCAISSEMENT M'!A16)))) -> 000A05 TEST 5 | F15: {=IF($C15="",0,IF($C15=$D$1,+IFERROR(INDEX(INDEX('ENCAISSEMENT M-1 Région 371'!$B$12:$SM$5020,0,MATCH(1,(('ENCAISSEMENT M-1 Région 371'!$B$3:$SM$3='ENCAISSEMENT Mapping'!F$3)*('ENCAISSEMENT M-1 Région 371'!$B$11:$SM$11='ENCAISSEMENT Mapping'!G$10)),0)),MATCH('ENCAISSEMENT Mapping'!$D15,'ENCAISSEMENT M-1 Région 371'!$A$12:$A$5020),0),0)))} -> FALSE | G15: {=IF(IF($D15="",0,IFERROR(INDEX(INDEX('ENCAISSEMENT M'!$B$10:$SM$5254,0,MATCH(1,(('ENCAISSEMENT M'!$B$3:$SM$3='ENCAISSEMENT Mapping'!G$3)*('ENCAISSEMENT M'!$B$11:$SM$11='ENCAISSEMENT Mapping'!G$10)),0)),MATCH('ENCAISSEMENT Mapping'!$D15,'ENCAISSEMENT M'!$A$10:$A$5254),0),0))=0,0,IF($D15="",0,IFERROR(INDEX(INDEX('ENCAISSEMENT M'!$B$10:$SM$5254,0,MATCH(1,(('ENCAISSEMENT M'!$B$3:$SM$3='ENCAISSEMENT Mapping'!G$3)*('ENCAISSEMENT M'!$B$11:$SM$11='ENCAISSEMENT Mapping'!G$10)),0)),MATCH('ENCAISSEMENT Mapping'!$D15,'ENCAISSEMENT M'!$A$10:$A$5254),0),0)))} -> 54000 | H15: =+G15-F15 -> 54000 | I15: =+H15-(+H15/H$4) -> 9000
A16: =LEFT(TRIM(D16),6) -> 000A06 | B16: =TRIM(LEFT(D16,7)) -> 000A06 | C16: R340 | D16: =IF(D15="","",IF(+'ENCAISSEMENT M'!A17="TOTAL SAISIE ","",IF(+'ENCAISSEMENT M'!A17="","",(+'ENCAISSEMENT M'!A17)))) -> 000A06 TEST 6 | F16: {=IF($C16="",0,IF($C16=$D$1,+IFERROR(INDEX(INDEX('ENCAISSEMENT M-1 Région 371'!$B$12:$SM$5020,0,MATCH(1,(('ENCAISSEMENT M-1 Région 371'!$B$3:$SM$3='ENCAISSEMENT Mapping'!F$3)*('ENCAISSEMENT M-1 Région 371'!$B$11:$SM$11='ENCAISSEMENT Mapping'!G$10)),0)),MATCH('ENCAISSEMENT Mapping'!$D16,'ENCAISSEMENT M-1 Région 371'!$A$12:$A$5020),0),0)))} -> FALSE | G16: {=IF(IF($D16="",0,IFERROR(INDEX(INDEX('ENCAISSEMENT M'!$B$10:$SM$5254,0,MATCH(1,(('ENCAISSEMENT M'!$B$3:$SM$3='ENCAISSEMENT Mapping'!G$3)*('ENCAISSEMENT M'!$B$11:$SM$11='ENCAISSEMENT Mapping'!G$10)),0)),MATCH('ENCAISSEMENT Mapping'!$D16,'ENCAISSEMENT M'!$A$10:$A$5254),0),0))=0,0,IF($D16="",0,IFERROR(INDEX(INDEX('ENCAISSEMENT M'!$B$10:$SM$5254,0,MATCH(1,(('ENCAISSEMENT M'!$B$3:$SM$3='ENCAISSEMENT Mapping'!G$3)*('ENCAISSEMENT M'!$B$11:$SM$11='ENCAISSEMENT Mapping'!G$10)),0)),MATCH('ENCAISSEMENT Mapping'!$D16,'ENCAISSEMENT M'!$A$10:$A$5254),0),0)))} -> 55000 | H16: =+G16-F16 -> 55000 | I16: =+H16-(+H16/H$4) -> 9166.6667
A17: =LEFT(TRIM(D17),6) -> 000A08 | B17: =TRIM(LEFT(D17,7)) -> 000A08 | C17: R340 | D17: =IF(D16="","",IF(+'ENCAISSEMENT M'!A18="TOTAL SAISIE ","",IF(+'ENCAISSEMENT M'!A18="","",(+'ENCAISSEMENT M'!A18)))) -> 000A08 TEST 7 | F17: {=IF($C17="",0,IF($C17=$D$1,+IFERROR(INDEX(INDEX('ENCAISSEMENT M-1 Région 371'!$B$12:$SM$5020,0,MATCH(1,(('ENCAISSEMENT M-1 Région 371'!$B$3:$SM$3='ENCAISSEMENT Mapping'!F$3)*('ENCAISSEMENT M-1 Région 371'!$B$11:$SM$11='ENCAISSEMENT Mapping'!G$10)),0)),MATCH('ENCAISSEMENT Mapping'!$D17,'ENCAISSEMENT M-1 Région 371'!$A$12:$A$5020),0),0),IF($C17=$D$2,+IFERROR(INDEX(INDEX(#REF!,0,MATCH(1,((#REF!='ENCAISSEMENT Mapping'!F$3)*(#REF!='ENCAISSEMENT Mapping'!G$10)),0)),MATCH('ENCAISSEMENT Mapping'!$D17,#REF!),0),0),IF($C17=$D$3,+IFERROR(INDEX(INDEX(#REF!,0,MATCH(1,((#REF!='ENCAISSEMENT Mapping'!F$3)*(#REF!='ENCAISSEMENT Mapping'!G$10)),0)),MATCH('ENCAISSEMENT Mapping'!$D17,#REF!),0),0)))))} -> 0 | G17: {=IF(IF($D17="",0,IFERROR(INDEX(INDEX('ENCAISSEMENT M'!$B$10:$SM$5254,0,MATCH(1,(('ENCAISSEMENT M'!$B$3:$SM$3='ENCAISSEMENT Mapping'!G$3)*('ENCAISSEMENT M'!$B$11:$SM$11='ENCAISSEMENT Mapping'!G$10)),0)),MATCH('ENCAISSEMENT Mapping'!$D17,'ENCAISSEMENT M'!$A$10:$A$5254),0),0))=0,0,IF($D17="",0,IFERROR(INDEX(INDEX('ENCAISSEMENT M'!$B$10:$SM$5254,0,MATCH(1,(('ENCAISSEMENT M'!$B$3:$SM$3='ENCAISSEMENT Mapping'!G$3)*('ENCAISSEMENT M'!$B$11:$SM$11='ENCAISSEMENT Mapping'!G$10)),0)),MATCH('ENCAISSEMENT Mapping'!$D17,'ENCAISSEMENT M'!$A$10:$A$5254),0),0)))} -> 56000 | H17: =+G17-F17 -> 56000 | I17: =+H17-(+H17/H$4) -> 9333.3333
A18: =LEFT(TRIM(D18),6) -> 000A09 | B18: =TRIM(LEFT(D18,7)) -> 000A09 | C18: R340 | D18: =IF(D17="","",IF(+'ENCAISSEMENT M'!A19="TOTAL SAISIE ","",IF(+'ENCAISSEMENT M'!A19="","",(+'ENCAISSEMENT M'!A19)))) -> 000A09 TEST 8 | F18: {=IF($C18="",0,IF($C18=$D$1,+IFERROR(INDEX(INDEX('ENCAISSEMENT M-1 Région 371'!$B$12:$SM$5020,0,MATCH(1,(('ENCAISSEMENT M-1 Région 371'!$B$3:$SM$3='ENCAISSEMENT Mapping'!F$3)*('ENCAISSEMENT M-1 Région 371'!$B$11:$SM$11='ENCAISSEMENT Mapping'!G$10)),0)),MATCH('ENCAISSEMENT Mapping'!$D18,'ENCAISSEMENT M-1 Région 371'!$A$12:$A$5020),0),0),IF($C18=$D$2,+IFERROR(INDEX(INDEX(#REF!,0,MATCH(1,((#REF!='ENCAISSEMENT Mapping'!F$3)*(#REF!='ENCAISSEMENT Mapping'!G$10)),0)),MATCH('ENCAISSEMENT Mapping'!$D18,#REF!),0),0),IF($C18=$D$3,+IFERROR(INDEX(INDEX(#REF!,0,MATCH(1,((#REF!='ENCAISSEMENT Mapping'!F$3)*(#REF!='ENCAISSEMENT Mapping'!G$10)),0)),MATCH('ENCAISSEMENT Mapping'!$D18,#REF!),0),0)))))} -> 0 | G18: {=IF(IF($D18="",0,IFERROR(INDEX(INDEX('ENCAISSEMENT M'!$B$10:$SM$5254,0,MATCH(1,(('ENCAISSEMENT M'!$B$3:$SM$3='ENCAISSEMENT Mapping'!G$3)*('ENCAISSEMENT M'!$B$11:$SM$11='ENCAISSEMENT Mapping'!G$10)),0)),MATCH('ENCAISSEMENT Mapping'!$D18,'ENCAISSEMENT M'!$A$10:$A$5254),0),0))=0,0,IF($D18="",0,IFERROR(INDEX(INDEX('ENCAISSEMENT M'!$B$10:$SM$5254,0,MATCH(1,(('ENCAISSEMENT M'!$B$3:$SM$3='ENCAISSEMENT Mapping'!G$3)*('ENCAISSEMENT M'!$B$11:$SM$11='ENCAISSEMENT Mapping'!G$10)),0)),MATCH('ENCAISSEMENT Mapping'!$D18,'ENCAISSEMENT M'!$A$10:$A$5254),0),0)))} -> 57000 | H18: =+G18-F18 -> 57000 | I18: =+H18-(+H18/H$4) -> 9500
A19: =LEFT(TRIM(D19),6) -> 000A10 | B19: =TRIM(LEFT(D19,7)) -> 000A10 | C19: R340 | D19: =IF(D18="","",IF(+'ENCAISSEMENT M'!A20="TOTAL SAISIE ","",IF(+'ENCAISSEMENT M'!A20="","",(+'ENCAISSEMENT M'!A20)))) -> 000A10 TEST 9 | F19: {=IF($C19="",0,IF($C19=$D$1,+IFERROR(INDEX(INDEX('ENCAISSEMENT M-1 Région 371'!$B$12:$SM$5020,0,MATCH(1,(('ENCAISSEMENT M-1 Région 371'!$B$3:$SM$3='ENCAISSEMENT Mapping'!F$3)*('ENCAISSEMENT M-1 Région 371'!$B$11:$SM$11='ENCAISSEMENT Mapping'!G$10)),0)),MATCH('ENCAISSEMENT Mapping'!$D19,'ENCAISSEMENT M-1 Région 371'!$A$12:$A$5020),0),0),IF($C19=$D$2,+IFERROR(INDEX(INDEX(#REF!,0,MATCH(1,((#REF!='ENCAISSEMENT Mapping'!F$3)*(#REF!='ENCAISSEMENT Mapping'!G$10)),0)),MATCH('ENCAISSEMENT Mapping'!$D19,#REF!),0),0),IF($C19=$D$3,+IFERROR(INDEX(INDEX(#REF!,0,MATCH(1,((#REF!='ENCAISSEMENT Mapping'!F$3)*(#REF!='ENCAISSEMENT Mapping'!G$10)),0)),MATCH('ENCAISSEMENT Mapping'!$D19,#REF!),0),0)))))} -> 0 | G19: {=IF(IF($D19="",0,IFERROR(INDEX(INDEX('ENCAISSEMENT M'!$B$10:$SM$5254,0,MATCH(1,(('ENCAISSEMENT M'!$B$3:$SM$3='ENCAISSEMENT Mapping'!G$3)*('ENCAISSEMENT M'!$B$11:$SM$11='ENCAISSEMENT Mapping'!G$10)),0)),MATCH('ENCAISSEMENT Mapping'!$D19,'ENCAISSEMENT M'!$A$10:$A$5254),0),0))=0,0,IF($D19="",0,IFERROR(INDEX(INDEX('ENCAISSEMENT M'!$B$10:$SM$5254,0,MATCH(1,(('ENCAISSEMENT M'!$B$3:$SM$3='ENCAISSEMENT Mapping'!G$3)*('ENCAISSEMENT M'!$B$11:$SM$11='ENCAISSEMENT Mapping'!G$10)),0)),MATCH('ENCAISSEMENT Mapping'!$D19,'ENCAISSEMENT M'!$A$10:$A$5254),0),0)))} -> 58000 | H19: =+G19-F19 -> 58000 | I19: =+H19-(+H19/H$4) -> 9666.6667
F23: {=IF($C23=$D$1,+IFERROR(INDEX(INDEX('ENCAISSEMENT M-1 Région 371'!$B$12:$SM$5020,0,MATCH(1,(('ENCAISSEMENT M-1 Région 371'!$B$3:$SM$3='ENCAISSEMENT Mapping'!F$3)*('ENCAISSEMENT M-1 Région 371'!$B$11:$SM$11='ENCAISSEMENT Mapping'!G$10)),0)),MATCH('ENCAISSEMENT Mapping'!$D23,'ENCAISSEMENT M-1 Région 371'!$A$12:$A$5020),0),0),IF($C23=$D$2,+IFERROR(INDEX(INDEX(#REF!,0,MATCH(1,((#REF!='ENCAISSEMENT Mapping'!F$3)*(#REF!='ENCAISSEMENT Mapping'!G$10)),0)),MATCH('ENCAISSEMENT Mapping'!$D23,#REF!),0),0),IF($C23=$D$3,+IFERROR(INDEX(INDEX(#REF!,0,MATCH(1,((#REF!='ENCAISSEMENT Mapping'!F$3)*(#REF!='ENCAISSEMENT Mapping'!G$10)),0)),MATCH('ENCAISSEMENT Mapping'!$D23,#REF!),0),0),0)))} -> 0 | G23: {=IF(IF($D23="",0,IFERROR(INDEX(INDEX('ENCAISSEMENT M'!$B$12:$SM$5256,0,MATCH(1,(('ENCAISSEMENT M'!$B$3:$SM$3='ENCAISSEMENT Mapping'!G$3)*('ENCAISSEMENT M'!$B$11:$SM$11='ENCAISSEMENT Mapping'!G$10)),0)),MATCH('ENCAISSEMENT Mapping'!$D23,'ENCAISSEMENT M'!$A$12:$A$5256),0),0))=0,0,IF($D23="",0,IFERROR(INDEX(INDEX('ENCAISSEMENT M'!$B$12:$SM$5256,0,MATCH(1,(('ENCAISSEMENT M'!$B$3:$SM$3='ENCAISSEMENT Mapping'!G$3)*('ENCAISSEMENT M'!$B$11:$SM$11='ENCAISSEMENT Mapping'!G$10)),0)),MATCH('ENCAISSEMENT Mapping'!$D23,'ENCAISSEMENT M'!$A$12:$A$5256),0),0)))} -> 0 | H23: =+G23-F23 -> 0 | I23: =+H23-(+H23/H$4) -> 0
F24: {=IF($C24=$D$1,+IFERROR(INDEX(INDEX('ENCAISSEMENT M-1 Région 371'!$B$12:$SM$5020,0,MATCH(1,(('ENCAISSEMENT M-1 Région 371'!$B$3:$SM$3='ENCAISSEMENT Mapping'!F$3)*('ENCAISSEMENT M-1 Région 371'!$B$11:$SM$11='ENCAISSEMENT Mapping'!G$10)),0)),MATCH('ENCAISSEMENT Mapping'!$D24,'ENCAISSEMENT M-1 Région 371'!$A$12:$A$5020),0),0),IF($C24=$D$2,+IFERROR(INDEX(INDEX(#REF!,0,MATCH(1,((#REF!='ENCAISSEMENT Mapping'!F$3)*(#REF!='ENCAISSEMENT Mapping'!G$10)),0)),MATCH('ENCAISSEMENT Mapping'!$D24,#REF!),0),0),IF($C24=$D$3,+IFERROR(INDEX(INDEX(#REF!,0,MATCH(1,((#REF!='ENCAISSEMENT Mapping'!F$3)*(#REF!='ENCAISSEMENT Mapping'!G$10)),0)),MATCH('ENCAISSEMENT Mapping'!$D24,#REF!),0),0),0)))} -> 0 | G24: {=IF(IF($D24="",0,IFERROR(INDEX(INDEX('ENCAISSEMENT M'!$B$12:$SM$5256,0,MATCH(1,(('ENCAISSEMENT M'!$B$3:$SM$3='ENCAISSEMENT Mapping'!G$3)*('ENCAISSEMENT M'!$B$11:$SM$11='ENCAISSEMENT Mapping'!G$10)),0)),MATCH('ENCAISSEMENT Mapping'!$D24,'ENCAISSEMENT M'!$A$12:$A$5256),0),0))=0,0,IF($D24="",0,IFERROR(INDEX(INDEX('ENCAISSEMENT M'!$B$12:$SM$5256,0,MATCH(1,(('ENCAISSEMENT M'!$B$3:$SM$3='ENCAISSEMENT Mapping'!G$3)*('ENCAISSEMENT M'!$B$11:$SM$11='ENCAISSEMENT Mapping'!G$10)),0)),MATCH('ENCAISSEMENT Mapping'!$D24,'ENCAISSEMENT M'!$A$12:$A$5256),0),0)))} -> 0 | H24: =+G24-F24 -> 0 | I24: =+H24-(+H24/H$4) -> 0
F25: {=IF($C25=$D$1,+IFERROR(INDEX(INDEX('ENCAISSEMENT M-1 Région 371'!$B$12:$SM$5020,0,MATCH(1,(('ENCAISSEMENT M-1 Région 371'!$B$3:$SM$3='ENCAISSEMENT Mapping'!F$3)*('ENCAISSEMENT M-1 Région 371'!$B$11:$SM$11='ENCAISSEMENT Mapping'!G$10)),0)),MATCH('ENCAISSEMENT Mapping'!$D25,'ENCAISSEMENT M-1 Région 371'!$A$12:$A$5020),0),0),IF($C25=$D$2,+IFERROR(INDEX(INDEX(#REF!,0,MATCH(1,((#REF!='ENCAISSEMENT Mapping'!F$3)*(#REF!='ENCAISSEMENT Mapping'!G$10)),0)),MATCH('ENCAISSEMENT Mapping'!$D25,#REF!),0),0),IF($C25=$D$3,+IFERROR(INDEX(INDEX(#REF!,0,MATCH(1,((#REF!='ENCAISSEMENT Mapping'!F$3)*(#REF!='ENCAISSEMENT Mapping'!G$10)),0)),MATCH('ENCAISSEMENT Mapping'!$D25,#REF!),0),0),0)))} -> 0 | G25: {=IF(IF($D25="",0,IFERROR(INDEX(INDEX('ENCAISSEMENT M'!$B$12:$SM$5256,0,MATCH(1,(('ENCAISSEMENT M'!$B$3:$SM$3='ENCAISSEMENT Mapping'!G$3)*('ENCAISSEMENT M'!$B$11:$SM$11='ENCAISSEMENT Mapping'!G$10)),0)),MATCH('ENCAISSEMENT Mapping'!$D25,'ENCAISSEMENT M'!$A$12:$A$5256),0),0))=0,0,IF($D25="",0,IFERROR(INDEX(INDEX('ENCAISSEMENT M'!$B$12:$SM$5256,0,MATCH(1,(('ENCAISSEMENT M'!$B$3:$SM$3='ENCAISSEMENT Mapping'!G$3)*('ENCAISSEMENT M'!$B$11:$SM$11='ENCAISSEMENT Mapping'!G$10)),0)),MATCH('ENCAISSEMENT Mapping'!$D25,'ENCAISSEMENT M'!$A$12:$A$5256),0),0)))} -> 0 | H25: =+G25-F25 -> 0 | I25: =+H25-(+H25/H$4) -> 0
F26: {=IF($C26=$D$1,+IFERROR(INDEX(INDEX('ENCAISSEMENT M-1 Région 371'!$B$12:$SM$5020,0,MATCH(1,(('ENCAISSEMENT M-1 Région 371'!$B$3:$SM$3='ENCAISSEMENT Mapping'!F$3)*('ENCAISSEMENT M-1 Région 371'!$B$11:$SM$11='ENCAISSEMENT Mapping'!G$10)),0)),MATCH('ENCAISSEMENT Mapping'!$D26,'ENCAISSEMENT M-1 Région 371'!$A$12:$A$5020),0),0),IF($C26=$D$2,+IFERROR(INDEX(INDEX(#REF!,0,MATCH(1,((#REF!='ENCAISSEMENT Mapping'!F$3)*(#REF!='ENCAISSEMENT Mapping'!G$10)),0)),MATCH('ENCAISSEMENT Mapping'!$D26,#REF!),0),0),IF($C26=$D$3,+IFERROR(INDEX(INDEX(#REF!,0,MATCH(1,((#REF!='ENCAISSEMENT Mapping'!F$3)*(#REF!='ENCAISSEMENT Mapping'!G$10)),0)),MATCH('ENCAISSEMENT Mapping'!$D26,#REF!),0),0),0)))} -> 0 | G26: {=IF(IF($D26="",0,IFERROR(INDEX(INDEX('ENCAISSEMENT M'!$B$12:$SM$5256,0,MATCH(1,(('ENCAISSEMENT M'!$B$3:$SM$3='ENCAISSEMENT Mapping'!G$3)*('ENCAISSEMENT M'!$B$11:$SM$11='ENCAISSEMENT Mapping'!G$10)),0)),MATCH('ENCAISSEMENT Mapping'!$D26,'ENCAISSEMENT M'!$A$12:$A$5256),0),0))=0,0,IF($D26="",0,IFERROR(INDEX(INDEX('ENCAISSEMENT M'!$B$12:$SM$5256,0,MATCH(1,(('ENCAISSEMENT M'!$B$3:$SM$3='ENCAISSEMENT Mapping'!G$3)*('ENCAISSEMENT M'!$B$11:$SM$11='ENCAISSEMENT Mapping'!G$10)),0)),MATCH('ENCAISSEMENT Mapping'!$D26,'ENCAISSEMENT M'!$A$12:$A$5256),0),0)))} -> 0 | H26: =+G26-F26 -> 0 | I26: =+H26-(+H26/H$4) -> 0
F27: {=IF($C27=$D$1,+IFERROR(INDEX(INDEX('ENCAISSEMENT M-1 Région 371'!$B$12:$SM$5020,0,MATCH(1,(('ENCAISSEMENT M-1 Région 371'!$B$3:$SM$3='ENCAISSEMENT Mapping'!F$3)*('ENCAISSEMENT M-1 Région 371'!$B$11:$SM$11='ENCAISSEMENT Mapping'!G$10)),0)),MATCH('ENCAISSEMENT Mapping'!$D27,'ENCAISSEMENT M-1 Région 371'!$A$12:$A$5020),0),0),IF($C27=$D$2,+IFERROR(INDEX(INDEX(#REF!,0,MATCH(1,((#REF!='ENCAISSEMENT Mapping'!F$3)*(#REF!='ENCAISSEMENT Mapping'!G$10)),0)),MATCH('ENCAISSEMENT Mapping'!$D27,#REF!),0),0),IF($C27=$D$3,+IFERROR(INDEX(INDEX(#REF!,0,MATCH(1,((#REF!='ENCAISSEMENT Mapping'!F$3)*(#REF!='ENCAISSEMENT Mapping'!G$10)),0)),MATCH('ENCAISSEMENT Mapping'!$D27,#REF!),0),0),0)))} -> 0 | G27: {=IF(IF($D27="",0,IFERROR(INDEX(INDEX('ENCAISSEMENT M'!$B$12:$SM$5256,0,MATCH(1,(('ENCAISSEMENT M'!$B$3:$SM$3='ENCAISSEMENT Mapping'!G$3)*('ENCAISSEMENT M'!$B$11:$SM$11='ENCAISSEMENT Mapping'!G$10)),0)),MATCH('ENCAISSEMENT Mapping'!$D27,'ENCAISSEMENT M'!$A$12:$A$5256),0),0))=0,0,IF($D27="",0,IFERROR(INDEX(INDEX('ENCAISSEMENT M'!$B$12:$SM$5256,0,MATCH(1,(('ENCAISSEMENT M'!$B$3:$SM$3='ENCAISSEMENT Mapping'!G$3)*('ENCAISSEMENT M'!$B$11:$SM$11='ENCAISSEMENT Mapping'!G$10)),0)),MATCH('ENCAISSEMENT Mapping'!$D27,'ENCAISSEMENT M'!$A$12:$A$5256),0),0)))} -> 0 | H27: =+G27-F27 -> 0 | I27: =+H27-(+H27/H$4) -> 0
F28: {=IF($C28=$D$1,+IFERROR(INDEX(INDEX('ENCAISSEMENT M-1 Région 371'!$B$12:$SM$5020,0,MATCH(1,(('ENCAISSEMENT M-1 Région 371'!$B$3:$SM$3='ENCAISSEMENT Mapping'!F$3)*('ENCAISSEMENT M-1 Région 371'!$B$11:$SM$11='ENCAISSEMENT Mapping'!G$10)),0)),MATCH('ENCAISSEMENT Mapping'!$D28,'ENCAISSEMENT M-1 Région 371'!$A$12:$A$5020),0),0),IF($C28=$D$2,+IFERROR(INDEX(INDEX(#REF!,0,MATCH(1,((#REF!='ENCAISSEMENT Mapping'!F$3)*(#REF!='ENCAISSEMENT Mapping'!G$10)),0)),MATCH('ENCAISSEMENT Mapping'!$D28,#REF!),0),0),IF($C28=$D$3,+IFERROR(INDEX(INDEX(#REF!,0,MATCH(1,((#REF!='ENCAISSEMENT Mapping'!F$3)*(#REF!='ENCAISSEMENT Mapping'!G$10)),0)),MATCH('ENCAISSEMENT Mapping'!$D28,#REF!),0),0),0)))} -> 0 | G28: {=IF(IF($D28="",0,IFERROR(INDEX(INDEX('ENCAISSEMENT M'!$B$12:$SM$5256,0,MATCH(1,(('ENCAISSEMENT M'!$B$3:$SM$3='ENCAISSEMENT Mapping'!G$3)*('ENCAISSEMENT M'!$B$11:$SM$11='ENCAISSEMENT Mapping'!G$10)),0)),MATCH('ENCAISSEMENT Mapping'!$D28,'ENCAISSEMENT M'!$A$12:$A$5256),0),0))=0,0,IF($D28="",0,IFERROR(INDEX(INDEX('ENCAISSEMENT M'!$B$12:$SM$5256,0,MATCH(1,(('ENCAISSEMENT M'!$B$3:$SM$3='ENCAISSEMENT Mapping'!G$3)*('ENCAISSEMENT M'!$B$11:$SM$11='ENCAISSEMENT Mapping'!G$10)),0)),MATCH('ENCAISSEMENT Mapping'!$D28,'ENCAISSEMENT M'!$A$12:$A$5256),0),0)))} -> 0 | H28: =+G28-F28 -> 0 | I28: =+H28-(+H28/H$4) -> 0
F29: {=IF($C29=$D$1,+IFERROR(INDEX(INDEX('ENCAISSEMENT M-1 Région 371'!$B$12:$SM$5020,0,MATCH(1,(('ENCAISSEMENT M-1 Région 371'!$B$3:$SM$3='ENCAISSEMENT Mapping'!F$3)*('ENCAISSEMENT M-1 Région 371'!$B$11:$SM$11='ENCAISSEMENT Mapping'!G$10)),0)),MATCH('ENCAISSEMENT Mapping'!$D29,'ENCAISSEMENT M-1 Région 371'!$A$12:$A$5020),0),0),IF($C29=$D$2,+IFERROR(INDEX(INDEX(#REF!,0,MATCH(1,((#REF!='ENCAISSEMENT Mapping'!F$3)*(#REF!='ENCAISSEMENT Mapping'!G$10)),0)),MATCH('ENCAISSEMENT Mapping'!$D29,#REF!),0),0),IF($C29=$D$3,+IFERROR(INDEX(INDEX(#REF!,0,MATCH(1,((#REF!='ENCAISSEMENT Mapping'!F$3)*(#REF!='ENCAISSEMENT Mapping'!G$10)),0)),MATCH('ENCAISSEMENT Mapping'!$D29,#REF!),0),0),0)))} -> 0 | G29: {=IF(IF($D29="",0,IFERROR(INDEX(INDEX('ENCAISSEMENT M'!$B$12:$SM$5256,0,MATCH(1,(('ENCAISSEMENT M'!$B$3:$SM$3='ENCAISSEMENT Mapping'!G$3)*('ENCAISSEMENT M'!$B$11:$SM$11='ENCAISSEMENT Mapping'!G$10)),0)),MATCH('ENCAISSEMENT Mapping'!$D29,'ENCAISSEMENT M'!$A$12:$A$5256),0),0))=0,0,IF($D29="",0,IFERROR(INDEX(INDEX('ENCAISSEMENT M'!$B$12:$SM$5256,0,MATCH(1,(('ENCAISSEMENT M'!$B$3:$SM$3='ENCAISSEMENT Mapping'!G$3)*('ENCAISSEMENT M'!$B$11:$SM$11='ENCAISSEMENT Mapping'!G$10)),0)),MATCH('ENCAISSEMENT Mapping'!$D29,'ENCAISSEMENT M'!$A$12:$A$5256),0),0)))} -> 0 | H29: =+G29-F29 -> 0 | I29: =+H29-(+H29/H$4) -> 0
F30: {=IF($C30=$D$1,+IFERROR(INDEX(INDEX('ENCAISSEMENT M-1 Région 371'!$B$12:$SM$5020,0,MATCH(1,(('ENCAISSEMENT M-1 Région 371'!$B$3:$SM$3='ENCAISSEMENT Mapping'!F$3)*('ENCAISSEMENT M-1 Région 371'!$B$11:$SM$11='ENCAISSEMENT Mapping'!G$10)),0)),MATCH('ENCAISSEMENT Mapping'!$D30,'ENCAISSEMENT M-1 Région 371'!$A$12:$A$5020),0),0),IF($C30=$D$2,+IFERROR(INDEX(INDEX(#REF!,0,MATCH(1,((#REF!='ENCAISSEMENT Mapping'!F$3)*(#REF!='ENCAISSEMENT Mapping'!G$10)),0)),MATCH('ENCAISSEMENT Mapping'!$D30,#REF!),0),0),IF($C30=$D$3,+IFERROR(INDEX(INDEX(#REF!,0,MATCH(1,((#REF!='ENCAISSEMENT Mapping'!F$3)*(#REF!='ENCAISSEMENT Mapping'!G$10)),0)),MATCH('ENCAISSEMENT Mapping'!$D30,#REF!),0),0),0)))} -> 0 | G30: {=IF(IF($D30="",0,IFERROR(INDEX(INDEX('ENCAISSEMENT M'!$B$12:$SM$5256,0,MATCH(1,(('ENCAISSEMENT M'!$B$3:$SM$3='ENCAISSEMENT Mapping'!G$3)*('ENCAISSEMENT M'!$B$11:$SM$11='ENCAISSEMENT Mapping'!G$10)),0)),MATCH('ENCAISSEMENT Mapping'!$D30,'ENCAISSEMENT M'!$A$12:$A$5256),0),0))=0,0,IF($D30="",0,IFERROR(INDEX(INDEX('ENCAISSEMENT M'!$B$12:$SM$5256,0,MATCH(1,(('ENCAISSEMENT M'!$B$3:$SM$3='ENCAISSEMENT Mapping'!G$3)*('ENCAISSEMENT M'!$B$11:$SM$11='ENCAISSEMENT Mapping'!G$10)),0)),MATCH('ENCAISSEMENT Mapping'!$D30,'ENCAISSEMENT M'!$A$12:$A$5256),0),0)))} -> 0 | H30: =+G30-F30 -> 0 | I30: =+H30-(+H30/H$4) -> 0
F31: {=IF($C31=$D$1,+IFERROR(INDEX(INDEX('ENCAISSEMENT M-1 Région 371'!$B$12:$SM$5020,0,MATCH(1,(('ENCAISSEMENT M-1 Région 371'!$B$3:$SM$3='ENCAISSEMENT Mapping'!F$3)*('ENCAISSEMENT M-1 Région 371'!$B$11:$SM$11='ENCAISSEMENT Mapping'!G$10)),0)),MATCH('ENCAISSEMENT Mapping'!$D31,'ENCAISSEMENT M-1 Région 371'!$A$12:$A$5020),0),0),IF($C31=$D$2,+IFERROR(INDEX(INDEX(#REF!,0,MATCH(1,((#REF!='ENCAISSEMENT Mapping'!F$3)*(#REF!='ENCAISSEMENT Mapping'!G$10)),0)),MATCH('ENCAISSEMENT Mapping'!$D31,#REF!),0),0),IF($C31=$D$3,+IFERROR(INDEX(INDEX(#REF!,0,MATCH(1,((#REF!='ENCAISSEMENT Mapping'!F$3)*(#REF!='ENCAISSEMENT Mapping'!G$10)),0)),MATCH('ENCAISSEMENT Mapping'!$D31,#REF!),0),0),0)))} -> 0 | G31: {=IF(IF($D31="",0,IFERROR(INDEX(INDEX('ENCAISSEMENT M'!$B$12:$SM$5256,0,MATCH(1,(('ENCAISSEMENT M'!$B$3:$SM$3='ENCAISSEMENT Mapping'!G$3)*('ENCAISSEMENT M'!$B$11:$SM$11='ENCAISSEMENT Mapping'!G$10)),0)),MATCH('ENCAISSEMENT Mapping'!$D31,'ENCAISSEMENT M'!$A$12:$A$5256),0),0))=0,0,IF($D31="",0,IFERROR(INDEX(INDEX('ENCAISSEMENT M'!$B$12:$SM$5256,0,MATCH(1,(('ENCAISSEMENT M'!$B$3:$SM$3='ENCAISSEMENT Mapping'!G$3)*('ENCAISSEMENT M'!$B$11:$SM$11='ENCAISSEMENT Mapping'!G$10)),0)),MATCH('ENCAISSEMENT Mapping'!$D31,'ENCAISSEMENT M'!$A$12:$A$5256),0),0)))} -> 0 | H31: =+G31-F31 -> 0 | I31: =+H31-(+H31/H$4) -> 0
F32: {=IF($C32=$D$1,+IFERROR(INDEX(INDEX('ENCAISSEMENT M-1 Région 371'!$B$12:$SM$5020,0,MATCH(1,(('ENCAISSEMENT M-1 Région 371'!$B$3:$SM$3='ENCAISSEMENT Mapping'!F$3)*('ENCAISSEMENT M-1 Région 371'!$B$11:$SM$11='ENCAISSEMENT Mapping'!G$10)),0)),MATCH('ENCAISSEMENT Mapping'!$D32,'ENCAISSEMENT M-1 Région 371'!$A$12:$A$5020),0),0),IF($C32=$D$2,+IFERROR(INDEX(INDEX(#REF!,0,MATCH(1,((#REF!='ENCAISSEMENT Mapping'!F$3)*(#REF!='ENCAISSEMENT Mapping'!G$10)),0)),MATCH('ENCAISSEMENT Mapping'!$D32,#REF!),0),0),IF($C32=$D$3,+IFERROR(INDEX(INDEX(#REF!,0,MATCH(1,((#REF!='ENCAISSEMENT Mapping'!F$3)*(#REF!='ENCAISSEMENT Mapping'!G$10)),0)),MATCH('ENCAISSEMENT Mapping'!$D32,#REF!),0),0),0)))} -> 0 | G32: {=IF(IF($D32="",0,IFERROR(INDEX(INDEX('ENCAISSEMENT M'!$B$12:$SM$5256,0,MATCH(1,(('ENCAISSEMENT M'!$B$3:$SM$3='ENCAISSEMENT Mapping'!G$3)*('ENCAISSEMENT M'!$B$11:$SM$11='ENCAISSEMENT Mapping'!G$10)),0)),MATCH('ENCAISSEMENT Mapping'!$D32,'ENCAISSEMENT M'!$A$12:$A$5256),0),0))=0,0,IF($D32="",0,IFERROR(INDEX(INDEX('ENCAISSEMENT M'!$B$12:$SM$5256,0,MATCH(1,(('ENCAISSEMENT M'!$B$3:$SM$3='ENCAISSEMENT Mapping'!G$3)*('ENCAISSEMENT M'!$B$11:$SM$11='ENCAISSEMENT Mapping'!G$10)),0)),MATCH('ENCAISSEMENT Mapping'!$D32,'ENCAISSEMENT M'!$A$12:$A$5256),0),0)))} -> 0 | H32: =+G32-F32 -> 0 | I32: =+H32-(+H32/H$4) -> 0
F33: {=IF($C33=$D$1,+IFERROR(INDEX(INDEX('ENCAISSEMENT M-1 Région 371'!$B$12:$SM$5020,0,MATCH(1,(('ENCAISSEMENT M-1 Région 371'!$B$3:$SM$3='ENCAISSEMENT Mapping'!F$3)*('ENCAISSEMENT M-1 Région 371'!$B$11:$SM$11='ENCAISSEMENT Mapping'!G$10)),0)),MATCH('ENCAISSEMENT Mapping'!$D33,'ENCAISSEMENT M-1 Région 371'!$A$12:$A$5020),0),0),IF($C33=$D$2,+IFERROR(INDEX(INDEX(#REF!,0,MATCH(1,((#REF!='ENCAISSEMENT Mapping'!F$3)*(#REF!='ENCAISSEMENT Mapping'!G$10)),0)),MATCH('ENCAISSEMENT Mapping'!$D33,#REF!),0),0),IF($C33=$D$3,+IFERROR(INDEX(INDEX(#REF!,0,MATCH(1,((#REF!='ENCAISSEMENT Mapping'!F$3)*(#REF!='ENCAISSEMENT Mapping'!G$10)),0)),MATCH('ENCAISSEMENT Mapping'!$D33,#REF!),0),0),0)))} -> 0 | G33: {=IF(IF($D33="",0,IFERROR(INDEX(INDEX('ENCAISSEMENT M'!$B$12:$SM$5256,0,MATCH(1,(('ENCAISSEMENT M'!$B$3:$SM$3='ENCAISSEMENT Mapping'!G$3)*('ENCAISSEMENT M'!$B$11:$SM$11='ENCAISSEMENT Mapping'!G$10)),0)),MATCH('ENCAISSEMENT Mapping'!$D33,'ENCAISSEMENT M'!$A$12:$A$5256),0),0))=0,0,IF($D33="",0,IFERROR(INDEX(INDEX('ENCAISSEMENT M'!$B$12:$SM$5256,0,MATCH(1,(('ENCAISSEMENT M'!$B$3:$SM$3='ENCAISSEMENT Mapping'!G$3)*('ENCAISSEMENT M'!$B$11:$SM$11='ENCAISSEMENT Mapping'!G$10)),0)),MATCH('ENCAISSEMENT Mapping'!$D33,'ENCAISSEMENT M'!$A$12:$A$5256),0),0)))} -> 0 | H33: =+G33-F33 -> 0 | I33: =+H33-(+H33/H$4) -> 0
F34: {=IF($C34=$D$1,+IFERROR(INDEX(INDEX('ENCAISSEMENT M-1 Région 371'!$B$12:$SM$5020,0,MATCH(1,(('ENCAISSEMENT M-1 Région 371'!$B$3:$SM$3='ENCAISSEMENT Mapping'!F$3)*('ENCAISSEMENT M-1 Région 371'!$B$11:$SM$11='ENCAISSEMENT Mapping'!G$10)),0)),MATCH('ENCAISSEMENT Mapping'!$D34,'ENCAISSEMENT M-1 Région 371'!$A$12:$A$5020),0),0),IF($C34=$D$2,+IFERROR(INDEX(INDEX(#REF!,0,MATCH(1,((#REF!='ENCAISSEMENT Mapping'!F$3)*(#REF!='ENCAISSEMENT Mapping'!G$10)),0)),MATCH('ENCAISSEMENT Mapping'!$D34,#REF!),0),0),IF($C34=$D$3,+IFERROR(INDEX(INDEX(#REF!,0,MATCH(1,((#REF!='ENCAISSEMENT Mapping'!F$3)*(#REF!='ENCAISSEMENT Mapping'!G$10)),0)),MATCH('ENCAISSEMENT Mapping'!$D34,#REF!),0),0),0)))} -> 0 | G34: {=IF(IF($D34="",0,IFERROR(INDEX(INDEX('ENCAISSEMENT M'!$B$12:$SM$5256,0,MATCH(1,(('ENCAISSEMENT M'!$B$3:$SM$3='ENCAISSEMENT Mapping'!G$3)*('ENCAISSEMENT M'!$B$11:$SM$11='ENCAISSEMENT Mapping'!G$10)),0)),MATCH('ENCAISSEMENT Mapping'!$D34,'ENCAISSEMENT M'!$A$12:$A$5256),0),0))=0,0,IF($D34="",0,IFERROR(INDEX(INDEX('ENCAISSEMENT M'!$B$12:$SM$5256,0,MATCH(1,(('ENCAISSEMENT M'!$B$3:$SM$3='ENCAISSEMENT Mapping'!G$3)*('ENCAISSEMENT M'!$B$11:$SM$11='ENCAISSEMENT Mapping'!G$10)),0)),MATCH('ENCAISSEMENT Mapping'!$D34,'ENCAISSEMENT M'!$A$12:$A$5256),0),0)))} -> 0 | H34: =+G34-F34 -> 0 | I34: =+H34-(+H34/H$4) -> 0
... F964: {=IF($C964=$D$1,+IFERROR(INDEX(INDEX('ENCAISSEMENT M-1 Région 371'!$B$12:$SM$5020,0,MATCH(1,(('ENCAISSEMENT M-1 Région 371'!$B$3:$SM$3='ENCAISSEMENT Mapping'!F$3)*('ENCAISSEMENT M-1 Région 371'!$B$11:$SM$11='ENCAISSEMENT Mapping'!G$10)),0)),MATCH('ENCAISSEMENT Mapping'!$D964,'ENCAISSEMENT M-1 Région 371'!$A$12:$A$5020),0),0),IF($C964=$D$2,+IFERROR(INDEX(INDEX(#REF!,0,MATCH(1,((#REF!='ENCAISSEMENT Mapping'!F$3)*(#REF!='ENCAISSEMENT Mapping'!G$10)),0)),MATCH('ENCAISSEMENT Mapping'!$D964,#REF!),0),0),IF($C964=$D$3,+IFERROR(INDEX(INDEX(#REF!,0,MATCH(1,((#REF!='ENCAISSEMENT Mapping'!F$3)*(#REF!='ENCAISSEMENT Mapping'!G$10)),0)),MATCH('ENCAISSEMENT Mapping'!$D964,#REF!),0),0),0)))} -> 0 | G964: {=IF(IF($D964="",0,IFERROR(INDEX(INDEX('ENCAISSEMENT M'!$B$12:$SM$5256,0,MATCH(1,(('ENCAISSEMENT M'!$B$3:$SM$3='ENCAISSEMENT Mapping'!G$3)*('ENCAISSEMENT M'!$B$11:$SM$11='ENCAISSEMENT Mapping'!G$10)),0)),MATCH('ENCAISSEMENT Mapping'!$D964,'ENCAISSEMENT M'!$A$12:$A$5256),0),0))=0,0,IF($D964="",0,IFERROR(INDEX(INDEX('ENCAISSEMENT M'!$B$12:$SM$5256,0,MATCH(1,(('ENCAISSEMENT M'!$B$3:$SM$3='ENCAISSEMENT Mapping'!G$3)*('ENCAISSEMENT M'!$B$11:$SM$11='ENCAISSEMENT Mapping'!G$10)),0)),MATCH('ENCAISSEMENT Mapping'!$D964,'ENCAISSEMENT M'!$A$12:$A$5256),0),0)))} -> 0 | H964: =+G964-F964 -> 0 | I964: =+H964-(+H964/H$4) -> 0

Sheet ENCAISSEMENT M-1 Région 371
B1: =LEFT(TRIM(C10),6) -> 411121 | C1: =LEFT(TRIM(C10),6) -> 411121 | D1: =LEFT(TRIM(C10),6) -> 411121
B2: =RIGHT(TRIM(C10),8) -> 20,00 % | C2: =RIGHT(TRIM(C10),8) -> 20,00 % | D2: =RIGHT(TRIM(C10),8) -> 20,00 %
B3: =+C10 -> 411121 Ã 20,00 % | C3: =+C10 -> 411121 Ã 20,00 % | D3: =+C10 -> 411121 Ã 20,00 %
A4: 030 Bouygues Immobilier
A6: CONTROLE DES ENCAISSEMENTS
A8: MOIS DE
A10: OPERATION PROGRAMMES DE LA REGION | C10: 411121 Ã 20,00 %
B11: Cumul mois précédent | C11: Cumul mois en cours | D11: Encaissement du mois
A12: 000A01 TEST 1 | B12: 0 | C12: 111111111 | D12: 0
A13: 000A03 TEST 3 | B13: 0 | C13: 31000 | D13: 0

Sheet ENCAISSEMENT M
B1: =LEFT(TRIM(C10),6) -> 411121 | C1: =LEFT(TRIM(C10),6) -> 411121 | D1: =LEFT(TRIM(C10),6) -> 411121
B2: =RIGHT(TRIM(C10),8) -> 20,00 % | C2: =RIGHT(TRIM(C10),8) -> 20,00 % | D2: =RIGHT(TRIM(C10),8) -> 20,00 %
B3: =+C10 -> 411121 Ã 20,00 % | C3: =+C10 -> 411121 Ã 20,00 % | D3: =+C10 -> 411121 Ã 20,00 %
A4: 030 Bouygues Immobilier
A6: CONTROLE DES ENCAISSEMENTS
A8: MOIS DE
A10: OPERATION PROGRAMMES DE LA REGION | C10: 411121 Ã 20,00 %
B11: Cumul mois précédent | C11: Cumul mois en cours | D11: Encaissement du mois
A12: 000A01 TEST 1 | B12: 0 | C12: 50000
A13: 000A02 TEST 2 | B13: 0 | C13: 51000
A14: 000A03 TEST 3 | B14: 0 | C14: 52000
A15: 000A04 TEST 4 | B15: 0 | C15: 53000
A16: 000A05 TEST 5 | B16: 0 | C16: 54000
A17: 000A06 TEST 6 | B17: 0 | C17: 55000
A18: 000A08 TEST 7 | B18: 0 | C18: 56000
A19: 000A09 TEST 8 | B19: 0 | C19: 57000
A20: 000A10 TEST 9 | B20: 0 | C20: 58000
