Workbook

Sheet Planning
C1: PLANNING GESTION DE PROJETS ACHATS : PAROIS VITREES
BU2: Fait
BU3: En Cours
BU4: Planifié
B6: Tâches | C6: 2018 | P6: 2018 | BC6: 2019
P7: Avril | T7: Mai | Y7: Juin | AC7: Juillet | AG7: Août | AL7: Septembre | AP7: Octobre | AT7: Novembre | AY7: Décembre
C8: 1 | D8: 2 | E8: 3 | F8: 4 | G8: 5 | H8: 6 | I8: 7 | J8: 8 | K8: 9 | L8: 10 | M8: 11 | N8: 12 | O8: 13 | P8: 14 | Q8: 15 | R8: 16 | S8: 17 | T8: 18 | U8: 19 | V8: 20 | W8: 21 | X8: 22 | Y8: 23 | Z8: 24 | AA8: 25 | AB8: 26 | AC8: 27 | AD8: 28 | AE8: 29 | AF8: 30 | AG8: 31 | AH8: 32 | AI8: 33 | AJ8: 34 | AK8: 35 | AL8: 36 | AM8: 37 | AN8: 38 | AO8: 39 | AP8: 40 | AQ8: 41 | AR8: 42 | AS8: 43 | AT8: 44 | AU8: 45 | AV8: 46 | AW8: 47 | AX8: 48 | AY8: 49 | AZ8: 50 | BA8: 51 | BB8: 52 | BC8: 1 | BD8: 2 | BE8: 3 | BF8: 4 | BG8: 5 | BH8: 6 | BI8: 7 | BJ8: 8 | BK8: 9 | BL8: 10 | BM8: 11 | BN8: 12 | BO8: 13 | BP8: 14 | BQ8: 15 | BR8: 16
B9: =Détails!C5 -> A
B10: =Détails!C6 -> B
B11: =Détails!C7 -> C
B12: =Détails!C8 -> D
B13: =Détails!C9 -> E
B14: =Détails!C10 -> F
B15: =Détails!C11 -> G
B16: =Détails!C12 -> H
B17: =Détails!C13 -> I
B18: =Détails!C14 -> J
B19: =Détails!C15 -> K
B20: =Détails!C16 -> L
B21: =Détails!C17 -> M
B22: =Détails!C18 -> N | BU22: Giles Bruno, ne peut pas me donner une estimation de date, il a besoin de détails (quels tests, quels demandeurs (technique contrat), quel dergès d'urgence….
B23: =Détails!C19 -> O
B24: =Détails!C20 -> P
B25: =Détails!C21 -> Q
B26: =Détails!C22 -> R
B27: =Détails!C23 -> S
B28: =Détails!C24 -> T
B29: =Détails!C25 -> U
B30: =Détails!C26 -> V

Sheet Détails
C2: Project Tracker | E2: Parois Vitrées – PACK080-3
J3: Planned Dates
A4: 8 Steps Process Achats | B4: Task | C4: Category | D4: Status | E4: Assigned To | F4: Collaborateurs | G4: Task Description | H4: Week Start | I4: Week Finish | J4: Start | K4: Finish | L4: Weeks | M4: Days
B5: Task 1 | C5: A | D5: Fait | E5: X | F5: X | G5: X | H5: =_xlfn.ISOWEEKNUM(J5) -> 15 | I5: =_xlfn.ISOWEEKNUM(K5) -> 18 | J5: 43199 | K5: 43224 | L5: 4 semaines | M5: =K5-J5 -> 25
A6: Step 1 / Step 2 / Step 3 | B6: Task 2 | C6: B | D6: Planifiée | E6: X | F6: X | G6: X | H6: =_xlfn.ISOWEEKNUM(J6) -> 17 | I6: =_xlfn.ISOWEEKNUM(K6) -> 18 | J6: 43215 | K6: 43222 | L6: 2 semaine | M6: =K6-J6 -> 7
B7: Task 3 | C7: C | D7: En cours | E7: X | F7: X | G7: X | H7: =_xlfn.ISOWEEKNUM(J7) -> 18 | I7: =_xlfn.ISOWEEKNUM(K7) -> 20 | J7: 43222 | K7: 43236 | L7: 3 semaines | M7: =K7-J7 -> 14
A8: Step 4 | B8: Task 4 | C8: D | D8: En cours | E8: X | F8: X | G8: X | H8: =_xlfn.ISOWEEKNUM(J8) -> 18 | I8: =_xlfn.ISOWEEKNUM(K8) -> 21 | J8: 43222 | K8: 43245 | L8: 4 semaines | M8: =K8-J8 -> 23
A9: Step 4 | B9: Task 5 | C9: E | D9: Planifiée | E9: X | F9: X | G9: X | H9: =_xlfn.ISOWEEKNUM(J9) -> 22 | I9: =_xlfn.ISOWEEKNUM(K9) -> 24 | J9: 43248 | K9: 43266 | L9: 3 semaines | M9: =K9-J9 -> 18
A10: Step 5 / Step 6 | B10: Task 6 | C10: F | E10: X | F10: X | G10: X | H10: =_xlfn.ISOWEEKNUM(J10) -> 25 | I10: =_xlfn.ISOWEEKNUM(K10) -> 26 | J10: 43269 | K10: 43280 | L10: 2 semaines | M10: =K10-J10 -> 11
B11: Task 7 | C11: G | E11: X | F11: X | G11: X | H11: 27 | I11: 27 | J11: 43283 | K11: 43287 | L11: 1 semaine | M11: =K11-J11 -> 4
A12: Step 4 | B12: Task 8 | C12: H | E12: X | F12: X | G12: X | H12: =_xlfn.ISOWEEKNUM(J12) -> 27 | I12: =_xlfn.ISOWEEKNUM(K12) -> 28 | J12: 43283 | K12: 43294 | L12: 2 semaines | M12: =K12-J12 -> 11
A13: Step 4 | B13: Task 9 | C13: I | D13: Planifiée | E13: X | F13: X | G13: X | H13: =_xlfn.ISOWEEKNUM(J13) -> 29 | I13: =_xlfn.ISOWEEKNUM(K13) -> 30 | J13: 43297 | K13: 43308 | L13: 2 semaines | M13: =K13-J13 -> 11
A14: Step 5 / Step 6 | B14: Task 10 | C14: J | D14: Planifiée | E14: X | F14: X | G14: X | H14: =_xlfn.ISOWEEKNUM(J14) -> 31 | I14: =_xlfn.ISOWEEKNUM(K14) -> 31 | J14: 43311 | K14: 43315 | L14: 1 semaine | M14: =K14-J14 -> 4
B15: Task 11 | C15: K | D15: Planifiée | E15: X | F15: X | G15: X | H15: 32 | I15: 33 | J15: 43318 | K15: 43329 | L15: 2 semaines | M15: =K15-J15 -> 11
B16: Task 12 | C16: L | D16: Planifiée | E16: X | F16: X | G16: X | H16: =_xlfn.ISOWEEKNUM(J16) -> 32 | I16: =_xlfn.ISOWEEKNUM(K16) -> 33 | J16: 43318 | K16: 43329 | L16: 2 semaines | M16: =K16-J16 -> 11
B17: Task 13 | C17: M | D17: Planifiée | E17: X | F17: X | G17: X | H17: =_xlfn.ISOWEEKNUM(J17) -> 34 | I17: =_xlfn.ISOWEEKNUM(K17) -> 37 | J17: 43332 | K17: 43357 | L17: 4 semaines | M17: =K17-J17 -> 25
B18: Task 14 | C18: N | D18: Planifiée | E18: X | F18: X | G18: X | H18: =_xlfn.ISOWEEKNUM(J18) -> 38 | I18: =_xlfn.ISOWEEKNUM(K18) -> 39 | J18: 43360 | K18: 43371 | L18: 2 semaines | M18: =K18-J18 -> 11
B19: Task 15 | C19: O | D19: Planifiée | E19: X | F19: X | G19: X | H19: =_xlfn.ISOWEEKNUM(J19) -> 40 | I19: =_xlfn.ISOWEEKNUM(K19) -> 40 | J19: 43374 | K19: 43378 | L19: 1 semaine | M19: =K19-J19 -> 4
B20: Task 17 | C20: P | D20: Planifiée | E20: X | F20: X | G20: X | H20: =_xlfn.ISOWEEKNUM(J20) -> 41 | I20: =_xlfn.ISOWEEKNUM(K20) -> 41 | J20: 43381 | K20: 43385 | L20: 1 semaine | M20: =K20-J20 -> 4
B21: Task 18 | C21: Q | D21: Planifiée | E21: X | F21: X | G21: X | H21: =_xlfn.ISOWEEKNUM(J21) -> 42 | I21: =_xlfn.ISOWEEKNUM(K21) -> 46 | J21: 43388 | K21: 43420 | L21: 5 semaines | M21: =K21-J21 -> 32
B22: Task 19 | C22: R | D22: Planifiée | E22: X | F22: X | G22: X | H22: =_xlfn.ISOWEEKNUM(J22) -> 47 | I22: =_xlfn.ISOWEEKNUM(K22) -> 48 | J22: 43423 | K22: 43434 | L22: 2 semaines | M22: =K22-J22 -> 11
B23: Task 20 | C23: S | D23: Planifiée | E23: X | F23: X | G23: X | H23: =_xlfn.ISOWEEKNUM(J23) -> 49 | I23: =_xlfn.ISOWEEKNUM(K23) -> 49 | J23: 43437 | K23: 43440 | L23: 1 semaine | M23: =K23-J23 -> 3
A24: Step 7 | B24: Task 21 | C24: T | D24: Planifiée | E24: X | F24: X | G24: X | H24: =_xlfn.ISOWEEKNUM(J24) -> 25 | I24: =_xlfn.ISOWEEKNUM(K24) -> 50 | J24: 43269 | K24: 43448 | L24: 1 semaine | M24: =K24-J24 -> 179
B25: Task 22 | C25: U | D25: Planifiée | E25: X | F25: X | G25: X | H25: =_xlfn.ISOWEEKNUM(J25) -> 52 | I25: =_xlfn.ISOWEEKNUM(K25) -> 52 | M25: =K25-J25 -> 0
A26: Step 8 | B26: Task 23 | C26: V | D26: Planifiée | E26: X | F26: X | G26: X | H26: =_xlfn.ISOWEEKNUM(J26) -> 52 | I26: =_xlfn.ISOWEEKNUM(K26) -> 52 | M26: =K26-J26 -> 0
A31: \\OFRGNFS1.eu.otis.utc.com\01-Communs\Achats\Boite à outils\Dossier 8-Step process vierge
