Workbook

Sheet ch1
A3: t1 (en hh:mm) | B3: p1 (en w)
A4: 0 | B4: 7
A5: 0.0069444444 | B5: 6
A6: 0.013888889 | B6: 13
A7: 0.020833333 | B7: 13
A8: 0.027777778 | B8: 11
A9: 0.034722222 | B9: 13
A10: 0.041666667 | B10: 8
A11: 0.048611111 | B11: 7
A12: 0.055555556 | B12: 8
A13: 0.0625 | B13: 6
A14: 0.069444444 | B14: 14
A15: 0.076388889 | B15: 7
... A148: 1 | B148: 5

Sheet ch2
A3: t1 (en hh:mm) | B3: p1 (en w)
A4: 0 | B4: ='ch1'!B4*1.02 -> 7.14
A5: 0.0069444444 | B5: ='ch1'!B5*1.02 -> 6.12
A6: 0.013888889 | B6: ='ch1'!B6*1.02 -> 13.26
A7: 0.020833333 | B7: ='ch1'!B7*1.02 -> 13.26
A8: 0.027777778 | B8: ='ch1'!B8*1.02 -> 11.22
A9: 0.034722222 | B9: ='ch1'!B9*1.02 -> 13.26
A10: 0.041666667 | B10: ='ch1'!B10*1.02 -> 8.16
A11: 0.048611111 | B11: ='ch1'!B11*1.02 -> 7.14
A12: 0.055555556 | B12: ='ch1'!B12*1.02 -> 8.16
A13: 0.0625 | B13: ='ch1'!B13*1.02 -> 6.12
A14: 0.069444444 | B14: ='ch1'!B14*1.02 -> 14.28
A15: 0.076388889 | B15: ='ch1'!B15*1.02 -> 7.14
... A148: 1 | B148: ='ch1'!B148*1.02 -> 5.1

Sheet ch3
A3: t1 (en hh:mm) | B3: p1 (en w)
A4: 0 | B4: ='ch1'!B4*0.76 -> 5.32
A5: 0.0069444444 | B5: ='ch1'!B5*0.76 -> 4.56
A6: 0.013888889 | B6: ='ch1'!B6*0.76 -> 9.88
A7: 0.020833333 | B7: ='ch1'!B7*0.76 -> 9.88
A8: 0.027777778 | B8: ='ch1'!B8*0.76 -> 8.36
A9: 0.034722222 | B9: ='ch1'!B9*0.76 -> 9.88
A10: 0.041666667 | B10: ='ch1'!B10*0.76 -> 6.08
A11: 0.048611111 | B11: ='ch1'!B11*0.76 -> 5.32
A12: 0.055555556 | B12: ='ch1'!B12*0.76 -> 6.08
A13: 0.0625 | B13: ='ch1'!B13*0.76 -> 4.56
A14: 0.069444444 | B14: ='ch1'!B14*0.76 -> 10.64
A15: 0.076388889 | B15: ='ch1'!B15*0.76 -> 5.32
... A148: 1 | B148: ='ch1'!B148*0.76 -> 3.8

Sheet SOMME DES CH
A3: t1 (en hh:mm) | B3: p1+p2+p3 | C3: P max
A4: 0 | B4: ='ch1'!B4+'ch2'!B4+'ch3'!B4 -> 19.46 | C4: =$D$9 -> 32
A5: 0.0069444444 | B5: ='ch1'!B5+'ch2'!B5+'ch3'!B5 -> 16.68 | C5: =$D$9 -> 32
A6: 0.013888889 | B6: ='ch1'!B6+'ch2'!B6+'ch3'!B6 -> 36.14 | C6: =$D$9 -> 32
A7: 0.020833333 | B7: ='ch1'!B7+'ch2'!B7+'ch3'!B7 -> 36.14 | C7: =$D$9 -> 32
A8: 0.027777778 | B8: ='ch1'!B8+'ch2'!B8+'ch3'!B8 -> 30.58 | C8: =$D$9 -> 32
A9: 0.034722222 | B9: ='ch1'!B9+'ch2'!B9+'ch3'!B9 -> 36.14 | C9: =$D$9 -> 32 | D9: 32
A10: 0.041666667 | B10: ='ch1'!B10+'ch2'!B10+'ch3'!B10 -> 22.24 | C10: =$D$9 -> 32
A11: 0.048611111 | B11: ='ch1'!B11+'ch2'!B11+'ch3'!B11 -> 19.46 | C11: =$D$9 -> 32
A12: 0.055555556 | B12: ='ch1'!B12+'ch2'!B12+'ch3'!B12 -> 22.24 | C12: =$D$9 -> 32
A13: 0.0625 | B13: ='ch1'!B13+'ch2'!B13+'ch3'!B13 -> 16.68 | C13: =$D$9 -> 32
A14: 0.069444444 | B14: ='ch1'!B14+'ch2'!B14+'ch3'!B14 -> 38.92 | C14: =$D$9 -> 32
A15: 0.076388889 | B15: ='ch1'!B15+'ch2'!B15+'ch3'!B15 -> 19.46 | C15: =$D$9 -> 32
A16: 0.083333333 | B16: ='ch1'!B16+'ch2'!B16+'ch3'!B16 -> 16.68 | C16: =$D$9 -> 32
A17: 0.090277778 | B17: ='ch1'!B17+'ch2'!B17+'ch3'!B17 -> 36.14 | C17: =$D$9 -> 32
A18: 0.097222222 | B18: ='ch1'!B18+'ch2'!B18+'ch3'!B18 -> 36.14 | C18: =$D$9 -> 32
A19: 0.10416667 | B19: ='ch1'!B19+'ch2'!B19+'ch3'!B19 -> 30.58 | C19: =$D$9 -> 32
A20: 0.11111111 | B20: ='ch1'!B20+'ch2'!B20+'ch3'!B20 -> 36.14 | C20: =$D$9 -> 32
A21: 0.11805556 | B21: ='ch1'!B21+'ch2'!B21+'ch3'!B21 -> 22.24 | C21: =$D$9 -> 32
... A148: 1 | B148: ='ch1'!B148+'ch2'!B148+'ch3'!B148 -> 13.9 | C148: =$D$9 -> 32
