Workbook

Sheet Dapi 365
B1: suivie de la puissance laser en fonction du temps
A4: S120VC | B4: 42696.327
A5: value unit [W] | B5: time unit [ms]
A6: wavelength | B6: 365,000nm
A7: range | B7: AUTO | C7: correction filtre densitée | D7: puissance en mW
A8: 0.0009097599 | B8: 192 | C8: =IF(A8>0,A8*10,0) -> 0.009097599 | D8: =C8*1000 -> 9.097599
A9: 0.0009095956 | B9: 492 | C9: =IF(A9>0,A9*10,0) -> 0.009095956 | D9: =C9*1000 -> 9.095956
A10: 0.0009092293 | B10: 792 | C10: =IF(A10>0,A10*10,0) -> 0.009092293 | D10: =C10*1000 -> 9.092293
A11: 0.0009094079 | B11: 1092 | C11: =IF(A11>0,A11*10,0) -> 0.009094079 | D11: =C11*1000 -> 9.094079
A12: 0.0009095596 | B12: 1392 | C12: =IF(A12>0,A12*10,0) -> 0.009095596 | D12: =C12*1000 -> 9.095596
A13: 0.0009103579 | B13: 1692 | C13: =IF(A13>0,A13*10,0) -> 0.009103579 | D13: =C13*1000 -> 9.103579
A14: 0.0009092193 | B14: 1992 | C14: =IF(A14>0,A14*10,0) -> 0.009092193 | D14: =C14*1000 -> 9.092193
A15: 0.0009090279 | B15: 2292 | C15: =IF(A15>0,A15*10,0) -> 0.009090279 | D15: =C15*1000 -> 9.090279
A16: 0.0009094079 | B16: 2592 | C16: =IF(A16>0,A16*10,0) -> 0.009094079 | D16: =C16*1000 -> 9.094079
A17: 0.0009090213 | B17: 2892 | C17: =IF(A17>0,A17*10,0) -> 0.009090213 | D17: =C17*1000 -> 9.090213
A18: 0.0009093522 | B18: 3192 | C18: =IF(A18>0,A18*10,0) -> 0.009093522 | D18: =C18*1000 -> 9.093522
A19: 0.000909872 | B19: 3492 | C19: =IF(A19>0,A19*10,0) -> 0.00909872 | D19: =C19*1000 -> 9.09872
... A412: 0.0008983174 | B412: 121435 | C412: =IF(A412>0,A412*10,0) -> 0.008983174 | D412: =C412*1000 -> 8.983174
C413: =IF(A413>0,A413*10,0) -> 0 | D413: =C413*1000 -> 0
C414: =IF(A414>0,A414*10,0) -> 0 | D414: =C414*1000 -> 0
C415: =IF(A415>0,A415*10,0) -> 0 | D415: =C415*1000 -> 0
C416: =IF(A416>0,A416*10,0) -> 0 | D416: =C416*1000 -> 0
C417: =IF(A417>0,A417*10,0) -> 0 | D417: =C417*1000 -> 0
C418: =IF(A418>0,A418*10,0) -> 0 | D418: =C418*1000 -> 0
C419: =IF(A419>0,A419*10,0) -> 0 | D419: =C419*1000 -> 0
C420: =IF(A420>0,A420*10,0) -> 0 | D420: =C420*1000 -> 0
C421: =IF(A421>0,A421*10,0) -> 0 | D421: =C421*1000 -> 0
C422: =IF(A422>0,A422*10,0) -> 0 | D422: =C422*1000 -> 0
C423: =IF(A423>0,A423*10,0) -> 0 | D423: =C423*1000 -> 0
C424: =IF(A424>0,A424*10,0) -> 0 | D424: =C424*1000 -> 0
... C1005: =IF(A1005>0,A1005*10,0) -> 0 | D1005: =C1005*1000 -> 0

Sheet GFP 475
A4: S120VC | B4: 42696.329
A5: value unit [W] | B5: time unit [ms]
A6: wavelength | B6: 475,000nm
A7: range | B7: AUTO | C7: correction filtre densitée | D7: puissance en mW
A8: 0.002790278 | B8: 102 | C8: =IF(A8>0,A8*10,0) -> 0.02790278 | D8: =C8*1000 -> 27.90278
A9: 0.002787451 | B9: 402 | C9: =IF(A9>0,A9*10,0) -> 0.02787451 | D9: =C9*1000 -> 27.87451
A10: 0.002790164 | B10: 702 | C10: =IF(A10>0,A10*10,0) -> 0.02790164 | D10: =C10*1000 -> 27.90164
A11: 0.002789124 | B11: 1002 | C11: =IF(A11>0,A11*10,0) -> 0.02789124 | D11: =C11*1000 -> 27.89124
A12: 0.002787213 | B12: 1302 | C12: =IF(A12>0,A12*10,0) -> 0.02787213 | D12: =C12*1000 -> 27.87213
A13: 0.002790652 | B13: 1602 | C13: =IF(A13>0,A13*10,0) -> 0.02790652 | D13: =C13*1000 -> 27.90652
A14: 0.002792408 | B14: 1902 | C14: =IF(A14>0,A14*10,0) -> 0.02792408 | D14: =C14*1000 -> 27.92408
A15: 0.002789624 | B15: 2202 | C15: =IF(A15>0,A15*10,0) -> 0.02789624 | D15: =C15*1000 -> 27.89624
A16: 0.002790414 | B16: 2502 | C16: =IF(A16>0,A16*10,0) -> 0.02790414 | D16: =C16*1000 -> 27.90414
A17: 0.002788655 | B17: 2802 | C17: =IF(A17>0,A17*10,0) -> 0.02788655 | D17: =C17*1000 -> 27.88655
A18: 0.002788628 | B18: 3102 | C18: =IF(A18>0,A18*10,0) -> 0.02788628 | D18: =C18*1000 -> 27.88628
A19: 0.002788534 | B19: 3402 | C19: =IF(A19>0,A19*10,0) -> 0.02788534 | D19: =C19*1000 -> 27.88534
... A412: 0.002803069 | B412: 121345 | C412: =IF(A412>0,A412*10,0) -> 0.02803069 | D412: =C412*1000 -> 28.03069
C413: =IF(A413>0,A413*10,0) -> 0 | D413: =C413*1000 -> 0
C414: =IF(A414>0,A414*10,0) -> 0 | D414: =C414*1000 -> 0
C415: =IF(A415>0,A415*10,0) -> 0 | D415: =C415*1000 -> 0
C416: =IF(A416>0,A416*10,0) -> 0 | D416: =C416*1000 -> 0
C417: =IF(A417>0,A417*10,0) -> 0 | D417: =C417*1000 -> 0
C418: =IF(A418>0,A418*10,0) -> 0 | D418: =C418*1000 -> 0
C419: =IF(A419>0,A419*10,0) -> 0 | D419: =C419*1000 -> 0
C420: =IF(A420>0,A420*10,0) -> 0 | D420: =C420*1000 -> 0
C421: =IF(A421>0,A421*10,0) -> 0 | D421: =C421*1000 -> 0
C422: =IF(A422>0,A422*10,0) -> 0 | D422: =C422*1000 -> 0
C423: =IF(A423>0,A423*10,0) -> 0 | D423: =C423*1000 -> 0
C424: =IF(A424>0,A424*10,0) -> 0 | D424: =C424*1000 -> 0
... C1005: =IF(A1005>0,A1005*10,0) -> 0 | D1005: =C1005*1000 -> 0

Sheet DsRed 540
A4: S120VC | B4: 42696.331
A5: value unit [W] | B5: time unit [ms]
A6: wavelength | B6: 540,000nm
A7: range | B7: AUTO | C7: correction filtre densitée | D7: puissance en mW
A8: 0.007517611 | B8: 252 | C8: =IF(A8>0,A8*10,0) -> 0.07517611 | D8: =C8*1000 -> 75.17611
A9: 0.00751407 | B9: 552 | C9: =IF(A9>0,A9*10,0) -> 0.0751407 | D9: =C9*1000 -> 75.1407
A10: 0.007518574 | B10: 852 | C10: =IF(A10>0,A10*10,0) -> 0.07518574 | D10: =C10*1000 -> 75.18574
A11: 0.007516576 | B11: 1152 | C11: =IF(A11>0,A11*10,0) -> 0.07516576 | D11: =C11*1000 -> 75.16576
A12: 0.007520649 | B12: 1452 | C12: =IF(A12>0,A12*10,0) -> 0.07520649 | D12: =C12*1000 -> 75.20649
A13: 0.007533497 | B13: 1752 | C13: =IF(A13>0,A13*10,0) -> 0.07533497 | D13: =C13*1000 -> 75.33497
A14: 0.007522036 | B14: 2052 | C14: =IF(A14>0,A14*10,0) -> 0.07522036 | D14: =C14*1000 -> 75.22036
A15: 0.007522719 | B15: 2352 | C15: =IF(A15>0,A15*10,0) -> 0.07522719 | D15: =C15*1000 -> 75.22719
A16: 0.007522857 | B16: 2652 | C16: =IF(A16>0,A16*10,0) -> 0.07522857 | D16: =C16*1000 -> 75.22857
A17: 0.007521813 | B17: 2952 | C17: =IF(A17>0,A17*10,0) -> 0.07521813 | D17: =C17*1000 -> 75.21813
A18: 0.007520685 | B18: 3252 | C18: =IF(A18>0,A18*10,0) -> 0.07520685 | D18: =C18*1000 -> 75.20685
A19: 0.007519212 | B19: 3552 | C19: =IF(A19>0,A19*10,0) -> 0.07519212 | D19: =C19*1000 -> 75.19212
... A412: 0.007557814 | B412: 121494 | C412: =IF(A412>0,A412*10,0) -> 0.07557814 | D412: =C412*1000 -> 75.57814
C413: =IF(A413>0,A413*10,0) -> 0 | D413: =C413*1000 -> 0
C414: =IF(A414>0,A414*10,0) -> 0 | D414: =C414*1000 -> 0
C415: =IF(A415>0,A415*10,0) -> 0 | D415: =C415*1000 -> 0
C416: =IF(A416>0,A416*10,0) -> 0 | D416: =C416*1000 -> 0
C417: =IF(A417>0,A417*10,0) -> 0 | D417: =C417*1000 -> 0
C418: =IF(A418>0,A418*10,0) -> 0 | D418: =C418*1000 -> 0
C419: =IF(A419>0,A419*10,0) -> 0 | D419: =C419*1000 -> 0
C420: =IF(A420>0,A420*10,0) -> 0 | D420: =C420*1000 -> 0
C421: =IF(A421>0,A421*10,0) -> 0 | D421: =C421*1000 -> 0
C422: =IF(A422>0,A422*10,0) -> 0 | D422: =C422*1000 -> 0
C423: =IF(A423>0,A423*10,0) -> 0 | D423: =C423*1000 -> 0
C424: =IF(A424>0,A424*10,0) -> 0 | D424: =C424*1000 -> 0
... C1005: =IF(A1005>0,A1005*10,0) -> 0 | D1005: =C1005*1000 -> 0

Sheet Synthèse
A2: Dapi 365nm | D2: GFP 475nm | G2: DsRed 540nm | N2: Dapi 365nm | O2: GFP 475nm | P2: DsRed 540nm
A3: Puissance en mW | B3: T en ms | C3: T en s | D3: Puissance en mW | E3: T en ms | F3: T en s | G3: Puissance en mW | H3: T en ms | I3: T en s | K3: Valeur max
A4: =IF('Dapi 365'!D8>0,'Dapi 365'!D8,0) -> 9.097599 | B4: =IF('Dapi 365'!B8>0,'Dapi 365'!B8,NA()) -> 192 | C4: =B4/1000 -> 0.192 | D4: =IF('GFP 475'!D8>0,'GFP 475'!D8,0) -> 27.90278 | E4: =IF('GFP 475'!B8>0,'GFP 475'!B8,NA()) -> 102 | F4: =E4/1000 -> 0.102 | G4: =IF('DsRed 540'!D8>0,'DsRed 540'!D8,0) -> 75.17611 | H4: =IF('DsRed 540'!B8>0,'DsRed 540'!B8,NA()) -> 252 | I4: =H4/1000 -> 0.252 | K4: Dapi 365nm | L4: =MAX(A4:A1000) -> 9.103579 | N4: =IF(A4>0,A4/$L$4,NA()) -> 0.99934312 | O4: =IF(D4>0,D4/$L$5,NA()) -> 0.98998371 | P4: =IF(G4>0,G4/$L$6,NA()) -> 0.99366194
A5: =IF('Dapi 365'!D9>0,'Dapi 365'!D9,0) -> 9.095956 | B5: =IF('Dapi 365'!B9>0,'Dapi 365'!B9,NA()) -> 492 | C5: =B5/1000 -> 0.492 | D5: =IF('GFP 475'!D9>0,'GFP 475'!D9,0) -> 27.87451 | E5: =IF('GFP 475'!B9>0,'GFP 475'!B9,NA()) -> 402 | F5: =E5/1000 -> 0.402 | G5: =IF('DsRed 540'!D9>0,'DsRed 540'!D9,0) -> 75.1407 | H5: =IF('DsRed 540'!B9>0,'DsRed 540'!B9,NA()) -> 552 | I5: =H5/1000 -> 0.552 | K5: GFP 475nm | L5: =MAX(D4:D1000) -> 28.18509 | N5: =IF(A5>0,A5/$L$4,NA()) -> 0.99916264 | O5: =IF(D5>0,D5/$L$5,NA()) -> 0.9889807 | P5: =IF(G5>0,G5/$L$6,NA()) -> 0.9931939
A6: =IF('Dapi 365'!D10>0,'Dapi 365'!D10,0) -> 9.092293 | B6: =IF('Dapi 365'!B10>0,'Dapi 365'!B10,NA()) -> 792 | C6: =B6/1000 -> 0.792 | D6: =IF('GFP 475'!D10>0,'GFP 475'!D10,0) -> 27.90164 | E6: =IF('GFP 475'!B10>0,'GFP 475'!B10,NA()) -> 702 | F6: =E6/1000 -> 0.702 | G6: =IF('DsRed 540'!D10>0,'DsRed 540'!D10,0) -> 75.18574 | H6: =IF('DsRed 540'!B10>0,'DsRed 540'!B10,NA()) -> 852 | I6: =H6/1000 -> 0.852 | K6: DsRed 540nm | L6: =MAX(G4:G1000) -> 75.65562 | N6: =IF(A6>0,A6/$L$4,NA()) -> 0.99876027 | O6: =IF(D6>0,D6/$L$5,NA()) -> 0.98994326 | P6: =IF(G6>0,G6/$L$6,NA()) -> 0.99378923
A7: =IF('Dapi 365'!D11>0,'Dapi 365'!D11,0) -> 9.094079 | B7: =IF('Dapi 365'!B11>0,'Dapi 365'!B11,NA()) -> 1092 | C7: =B7/1000 -> 1.092 | D7: =IF('GFP 475'!D11>0,'GFP 475'!D11,0) -> 27.89124 | E7: =IF('GFP 475'!B11>0,'GFP 475'!B11,NA()) -> 1002 | F7: =E7/1000 -> 1.002 | G7: =IF('DsRed 540'!D11>0,'DsRed 540'!D11,0) -> 75.16576 | H7: =IF('DsRed 540'!B11>0,'DsRed 540'!B11,NA()) -> 1152 | I7: =H7/1000 -> 1.152 | N7: =IF(A7>0,A7/$L$4,NA()) -> 0.99895645 | O7: =IF(D7>0,D7/$L$5,NA()) -> 0.98957427 | P7: =IF(G7>0,G7/$L$6,NA()) -> 0.99352513
A8: =IF('Dapi 365'!D12>0,'Dapi 365'!D12,0) -> 9.095596 | B8: =IF('Dapi 365'!B12>0,'Dapi 365'!B12,NA()) -> 1392 | C8: =B8/1000 -> 1.392 | D8: =IF('GFP 475'!D12>0,'GFP 475'!D12,0) -> 27.87213 | E8: =IF('GFP 475'!B12>0,'GFP 475'!B12,NA()) -> 1302 | F8: =E8/1000 -> 1.302 | G8: =IF('DsRed 540'!D12>0,'DsRed 540'!D12,0) -> 75.20649 | H8: =IF('DsRed 540'!B12>0,'DsRed 540'!B12,NA()) -> 1452 | I8: =H8/1000 -> 1.452 | N8: =IF(A8>0,A8/$L$4,NA()) -> 0.99912309 | O8: =IF(D8>0,D8/$L$5,NA()) -> 0.98889626 | P8: =IF(G8>0,G8/$L$6,NA()) -> 0.99406349
A9: =IF('Dapi 365'!D13>0,'Dapi 365'!D13,0) -> 9.103579 | B9: =IF('Dapi 365'!B13>0,'Dapi 365'!B13,NA()) -> 1692 | C9: =B9/1000 -> 1.692 | D9: =IF('GFP 475'!D13>0,'GFP 475'!D13,0) -> 27.90652 | E9: =IF('GFP 475'!B13>0,'GFP 475'!B13,NA()) -> 1602 | F9: =E9/1000 -> 1.602 | G9: =IF('DsRed 540'!D13>0,'DsRed 540'!D13,0) -> 75.33497 | H9: =IF('DsRed 540'!B13>0,'DsRed 540'!B13,NA()) -> 1752 | I9: =H9/1000 -> 1.752 | N9: =IF(A9>0,A9/$L$4,NA()) -> 1 | O9: =IF(D9>0,D9/$L$5,NA()) -> 0.99011641 | P9: =IF(G9>0,G9/$L$6,NA()) -> 0.99576172
A10: =IF('Dapi 365'!D14>0,'Dapi 365'!D14,0) -> 9.092193 | B10: =IF('Dapi 365'!B14>0,'Dapi 365'!B14,NA()) -> 1992 | C10: =B10/1000 -> 1.992 | D10: =IF('GFP 475'!D14>0,'GFP 475'!D14,0) -> 27.92408 | E10: =IF('GFP 475'!B14>0,'GFP 475'!B14,NA()) -> 1902 | F10: =E10/1000 -> 1.902 | G10: =IF('DsRed 540'!D14>0,'DsRed 540'!D14,0) -> 75.22036 | H10: =IF('DsRed 540'!B14>0,'DsRed 540'!B14,NA()) -> 2052 | I10: =H10/1000 -> 2.052 | N10: =IF(A10>0,A10/$L$4,NA()) -> 0.99874928 | O10: =IF(D10>0,D10/$L$5,NA()) -> 0.99073943 | P10: =IF(G10>0,G10/$L$6,NA()) -> 0.99424683
A11: =IF('Dapi 365'!D15>0,'Dapi 365'!D15,0) -> 9.090279 | B11: =IF('Dapi 365'!B15>0,'Dapi 365'!B15,NA()) -> 2292 | C11: =B11/1000 -> 2.292 | D11: =IF('GFP 475'!D15>0,'GFP 475'!D15,0) -> 27.89624 | E11: =IF('GFP 475'!B15>0,'GFP 475'!B15,NA()) -> 2202 | F11: =E11/1000 -> 2.202 | G11: =IF('DsRed 540'!D15>0,'DsRed 540'!D15,0) -> 75.22719 | H11: =IF('DsRed 540'!B15>0,'DsRed 540'!B15,NA()) -> 2352 | I11: =H11/1000 -> 2.352 | N11: =IF(A11>0,A11/$L$4,NA()) -> 0.99853904 | O11: =IF(D11>0,D11/$L$5,NA()) -> 0.98975167 | P11: =IF(G11>0,G11/$L$6,NA()) -> 0.9943371
A12: =IF('Dapi 365'!D16>0,'Dapi 365'!D16,0) -> 9.094079 | B12: =IF('Dapi 365'!B16>0,'Dapi 365'!B16,NA()) -> 2592 | C12: =B12/1000 -> 2.592 | D12: =IF('GFP 475'!D16>0,'GFP 475'!D16,0) -> 27.90414 | E12: =IF('GFP 475'!B16>0,'GFP 475'!B16,NA()) -> 2502 | F12: =E12/1000 -> 2.502 | G12: =IF('DsRed 540'!D16>0,'DsRed 540'!D16,0) -> 75.22857 | H12: =IF('DsRed 540'!B16>0,'DsRed 540'!B16,NA()) -> 2652 | I12: =H12/1000 -> 2.652 | K12: Moyenne | N12: =IF(A12>0,A12/$L$4,NA()) -> 0.99895645 | O12: =IF(D12>0,D12/$L$5,NA()) -> 0.99003196 | P12: =IF(G12>0,G12/$L$6,NA()) -> 0.99435534
A13: =IF('Dapi 365'!D17>0,'Dapi 365'!D17,0) -> 9.090213 | B13: =IF('Dapi 365'!B17>0,'Dapi 365'!B17,NA()) -> 2892 | C13: =B13/1000 -> 2.892 | D13: =IF('GFP 475'!D17>0,'GFP 475'!D17,0) -> 27.88655 | E13: =IF('GFP 475'!B17>0,'GFP 475'!B17,NA()) -> 2802 | F13: =E13/1000 -> 2.802 | G13: =IF('DsRed 540'!D17>0,'DsRed 540'!D17,0) -> 75.21813 | H13: =IF('DsRed 540'!B17>0,'DsRed 540'!B17,NA()) -> 2952 | I13: =H13/1000 -> 2.952 | K13: Dapi 365nm | L13: =AVERAGEIF(A4:A1000,">0") -> 9.0210021 | N13: =IF(A13>0,A13/$L$4,NA()) -> 0.99853179 | O13: =IF(D13>0,D13/$L$5,NA()) -> 0.98940787 | P13: =IF(G13>0,G13/$L$6,NA()) -> 0.99421735
A14: =IF('Dapi 365'!D18>0,'Dapi 365'!D18,0) -> 9.093522 | B14: =IF('Dapi 365'!B18>0,'Dapi 365'!B18,NA()) -> 3192 | C14: =B14/1000 -> 3.192 | D14: =IF('GFP 475'!D18>0,'GFP 475'!D18,0) -> 27.88628 | E14: =IF('GFP 475'!B18>0,'GFP 475'!B18,NA()) -> 3102 | F14: =E14/1000 -> 3.102 | G14: =IF('DsRed 540'!D18>0,'DsRed 540'!D18,0) -> 75.20685 | H14: =IF('DsRed 540'!B18>0,'DsRed 540'!B18,NA()) -> 3252 | I14: =H14/1000 -> 3.252 | K14: GFP 475nm | L14: =AVERAGEIF(D4:D1000,">0") -> 27.959229 | N14: =IF(A14>0,A14/$L$4,NA()) -> 0.99889527 | O14: =IF(D14>0,D14/$L$5,NA()) -> 0.9893983 | P14: =IF(G14>0,G14/$L$6,NA()) -> 0.99406825
A15: =IF('Dapi 365'!D19>0,'Dapi 365'!D19,0) -> 9.09872 | B15: =IF('Dapi 365'!B19>0,'Dapi 365'!B19,NA()) -> 3492 | C15: =B15/1000 -> 3.492 | D15: =IF('GFP 475'!D19>0,'GFP 475'!D19,0) -> 27.88534 | E15: =IF('GFP 475'!B19>0,'GFP 475'!B19,NA()) -> 3402 | F15: =E15/1000 -> 3.402 | G15: =IF('DsRed 540'!D19>0,'DsRed 540'!D19,0) -> 75.19212 | H15: =IF('DsRed 540'!B19>0,'DsRed 540'!B19,NA()) -> 3552 | I15: =H15/1000 -> 3.552 | K15: DsRed 540nm | L15: =AVERAGEIF(G4:G1000,">0") -> 75.383858 | N15: =IF(A15>0,A15/$L$4,NA()) -> 0.99946625 | O15: =IF(D15>0,D15/$L$5,NA()) -> 0.98936494 | P15: =IF(G15>0,G15/$L$6,NA()) -> 0.99387355
A16: =IF('Dapi 365'!D20>0,'Dapi 365'!D20,0) -> 9.090794 | B16: =IF('Dapi 365'!B20>0,'Dapi 365'!B20,NA()) -> 3792 | C16: =B16/1000 -> 3.792 | D16: =IF('GFP 475'!D20>0,'GFP 475'!D20,0) -> 27.97461 | E16: =IF('GFP 475'!B20>0,'GFP 475'!B20,NA()) -> 3702 | F16: =E16/1000 -> 3.702 | G16: =IF('DsRed 540'!D20>0,'DsRed 540'!D20,0) -> 75.34258 | H16: =IF('DsRed 540'!B20>0,'DsRed 540'!B20,NA()) -> 3852 | I16: =H16/1000 -> 3.852 | N16: =IF(A16>0,A16/$L$4,NA()) -> 0.99859561 | O16: =IF(D16>0,D16/$L$5,NA()) -> 0.99253222 | P16: =IF(G16>0,G16/$L$6,NA()) -> 0.9958623
A17: =IF('Dapi 365'!D21>0,'Dapi 365'!D21,0) -> 9.091173 | B17: =IF('Dapi 365'!B21>0,'Dapi 365'!B21,NA()) -> 4092 | C17: =B17/1000 -> 4.092 | D17: =IF('GFP 475'!D21>0,'GFP 475'!D21,0) -> 27.98357 | E17: =IF('GFP 475'!B21>0,'GFP 475'!B21,NA()) -> 4002 | F17: =E17/1000 -> 4.002 | G17: =IF('DsRed 540'!D21>0,'DsRed 540'!D21,0) -> 75.28816 | H17: =IF('DsRed 540'!B21>0,'DsRed 540'!B21,NA()) -> 4152 | I17: =H17/1000 -> 4.152 | N17: =IF(A17>0,A17/$L$4,NA()) -> 0.99863724 | O17: =IF(D17>0,D17/$L$5,NA()) -> 0.99285012 | P17: =IF(G17>0,G17/$L$6,NA()) -> 0.99514299
A18: =IF('Dapi 365'!D22>0,'Dapi 365'!D22,0) -> 9.086406 | B18: =IF('Dapi 365'!B22>0,'Dapi 365'!B22,NA()) -> 4392 | C18: =B18/1000 -> 4.392 | D18: =IF('GFP 475'!D22>0,'GFP 475'!D22,0) -> 27.9241 | E18: =IF('GFP 475'!B22>0,'GFP 475'!B22,NA()) -> 4302 | F18: =E18/1000 -> 4.302 | G18: =IF('DsRed 540'!D22>0,'DsRed 540'!D22,0) -> 75.25533 | H18: =IF('DsRed 540'!B22>0,'DsRed 540'!B22,NA()) -> 4452 | I18: =H18/1000 -> 4.452 | N18: =IF(A18>0,A18/$L$4,NA()) -> 0.9981136 | O18: =IF(D18>0,D18/$L$5,NA()) -> 0.99074014 | P18: =IF(G18>0,G18/$L$6,NA()) -> 0.99470905
A19: =IF('Dapi 365'!D23>0,'Dapi 365'!D23,0) -> 9.082915 | B19: =IF('Dapi 365'!B23>0,'Dapi 365'!B23,NA()) -> 4692 | C19: =B19/1000 -> 4.692 | D19: =IF('GFP 475'!D23>0,'GFP 475'!D23,0) -> 27.93766 | E19: =IF('GFP 475'!B23>0,'GFP 475'!B23,NA()) -> 4602 | F19: =E19/1000 -> 4.602 | G19: =IF('DsRed 540'!D23>0,'DsRed 540'!D23,0) -> 75.22309 | H19: =IF('DsRed 540'!B23>0,'DsRed 540'!B23,NA()) -> 4752 | I19: =H19/1000 -> 4.752 | N19: =IF(A19>0,A19/$L$4,NA()) -> 0.99773012 | O19: =IF(D19>0,D19/$L$5,NA()) -> 0.99122124 | P19: =IF(G19>0,G19/$L$6,NA()) -> 0.99428291
A20: =IF('Dapi 365'!D24>0,'Dapi 365'!D24,0) -> 9.082475 | B20: =IF('Dapi 365'!B24>0,'Dapi 365'!B24,NA()) -> 4992 | C20: =B20/1000 -> 4.992 | D20: =IF('GFP 475'!D24>0,'GFP 475'!D24,0) -> 27.93564 | E20: =IF('GFP 475'!B24>0,'GFP 475'!B24,NA()) -> 4902 | F20: =E20/1000 -> 4.902 | G20: =IF('DsRed 540'!D24>0,'DsRed 540'!D24,0) -> 75.24338 | H20: =IF('DsRed 540'!B24>0,'DsRed 540'!B24,NA()) -> 5052 | I20: =H20/1000 -> 5.052 | N20: =IF(A20>0,A20/$L$4,NA()) -> 0.99768179 | O20: =IF(D20>0,D20/$L$5,NA()) -> 0.99114958 | P20: =IF(G20>0,G20/$L$6,NA()) -> 0.9945511
A21: =IF('Dapi 365'!D25>0,'Dapi 365'!D25,0) -> 9.082437 | B21: =IF('Dapi 365'!B25>0,'Dapi 365'!B25,NA()) -> 5292 | C21: =B21/1000 -> 5.292 | D21: =IF('GFP 475'!D25>0,'GFP 475'!D25,0) -> 27.94785 | E21: =IF('GFP 475'!B25>0,'GFP 475'!B25,NA()) -> 5202 | F21: =E21/1000 -> 5.202 | G21: =IF('DsRed 540'!D25>0,'DsRed 540'!D25,0) -> 75.23426 | H21: =IF('DsRed 540'!B25>0,'DsRed 540'!B25,NA()) -> 5352 | I21: =H21/1000 -> 5.352 | K21: Ecart Type | N21: =IF(A21>0,A21/$L$4,NA()) -> 0.99767762 | O21: =IF(D21>0,D21/$L$5,NA()) -> 0.99158278 | P21: =IF(G21>0,G21/$L$6,NA()) -> 0.99443055
A22: =IF('Dapi 365'!D26>0,'Dapi 365'!D26,0) -> 9.084756 | B22: =IF('Dapi 365'!B26>0,'Dapi 365'!B26,NA()) -> 5592 | C22: =B22/1000 -> 5.592 | D22: =IF('GFP 475'!D26>0,'GFP 475'!D26,0) -> 27.9917 | E22: =IF('GFP 475'!B26>0,'GFP 475'!B26,NA()) -> 5502 | F22: =E22/1000 -> 5.502 | G22: =IF('DsRed 540'!D26>0,'DsRed 540'!D26,0) -> 75.27784 | H22: =IF('DsRed 540'!B26>0,'DsRed 540'!B26,NA()) -> 5652 | I22: =H22/1000 -> 5.652 | K22: Dapi 365nm | L22: =AVEDEV(A4:A403) -> 0.032806703 | N22: =IF(A22>0,A22/$L$4,NA()) -> 0.99793235 | O22: =IF(D22>0,D22/$L$5,NA()) -> 0.99313857 | P22: =IF(G22>0,G22/$L$6,NA()) -> 0.99500658
A23: =IF('Dapi 365'!D27>0,'Dapi 365'!D27,0) -> 9.100026 | B23: =IF('Dapi 365'!B27>0,'Dapi 365'!B27,NA()) -> 5892 | C23: =B23/1000 -> 5.892 | D23: =IF('GFP 475'!D27>0,'GFP 475'!D27,0) -> 27.94403 | E23: =IF('GFP 475'!B27>0,'GFP 475'!B27,NA()) -> 5802 | F23: =E23/1000 -> 5.802 | G23: =IF('DsRed 540'!D27>0,'DsRed 540'!D27,0) -> 75.22863 | H23: =IF('DsRed 540'!B27>0,'DsRed 540'!B27,NA()) -> 5952 | I23: =H23/1000 -> 5.952 | K23: GFP 475nm | L23: =AVEDEV(D4:D407) -> 0.035764257 | N23: =IF(A23>0,A23/$L$4,NA()) -> 0.99960971 | O23: =IF(D23>0,D23/$L$5,NA()) -> 0.99144725 | P23: =IF(G23>0,G23/$L$6,NA()) -> 0.99435614
A24: =IF('Dapi 365'!D28>0,'Dapi 365'!D28,0) -> 9.096108 | B24: =IF('Dapi 365'!B28>0,'Dapi 365'!B28,NA()) -> 6192 | C24: =B24/1000 -> 6.192 | D24: =IF('GFP 475'!D28>0,'GFP 475'!D28,0) -> 27.90325 | E24: =IF('GFP 475'!B28>0,'GFP 475'!B28,NA()) -> 6102 | F24: =E24/1000 -> 6.102 | G24: =IF('DsRed 540'!D28>0,'DsRed 540'!D28,0) -> 75.2519 | H24: =IF('DsRed 540'!B28>0,'DsRed 540'!B28,NA()) -> 6252 | I24: =H24/1000 -> 6.252 | K24: DsRed 540nm | L24: =AVEDEV(G4:G403) -> 0.060918841 | N24: =IF(A24>0,A24/$L$4,NA()) -> 0.99917933 | O24: =IF(D24>0,D24/$L$5,NA()) -> 0.99000039 | P24: =IF(G24>0,G24/$L$6,NA()) -> 0.99466371
A25: =IF('Dapi 365'!D29>0,'Dapi 365'!D29,0) -> 9.088319 | B25: =IF('Dapi 365'!B29>0,'Dapi 365'!B29,NA()) -> 6492 | C25: =B25/1000 -> 6.492 | D25: =IF('GFP 475'!D29>0,'GFP 475'!D29,0) -> 27.89881 | E25: =IF('GFP 475'!B29>0,'GFP 475'!B29,NA()) -> 6402 | F25: =E25/1000 -> 6.402 | G25: =IF('DsRed 540'!D29>0,'DsRed 540'!D29,0) -> 75.3027 | H25: =IF('DsRed 540'!B29>0,'DsRed 540'!B29,NA()) -> 6552 | I25: =H25/1000 -> 6.552 | N25: =IF(A25>0,A25/$L$4,NA()) -> 0.99832374 | O25: =IF(D25>0,D25/$L$5,NA()) -> 0.98984286 | P25: =IF(G25>0,G25/$L$6,NA()) -> 0.99533518
A26: =IF('Dapi 365'!D30>0,'Dapi 365'!D30,0) -> 9.086581 | B26: =IF('Dapi 365'!B30>0,'Dapi 365'!B30,NA()) -> 6792 | C26: =B26/1000 -> 6.792 | D26: =IF('GFP 475'!D30>0,'GFP 475'!D30,0) -> 27.90535 | E26: =IF('GFP 475'!B30>0,'GFP 475'!B30,NA()) -> 6702 | F26: =E26/1000 -> 6.702 | G26: =IF('DsRed 540'!D30>0,'DsRed 540'!D30,0) -> 75.29187 | H26: =IF('DsRed 540'!B30>0,'DsRed 540'!B30,NA()) -> 6852 | I26: =H26/1000 -> 6.852 | N26: =IF(A26>0,A26/$L$4,NA()) -> 0.99813282 | O26: =IF(D26>0,D26/$L$5,NA()) -> 0.99007489 | P26: =IF(G26>0,G26/$L$6,NA()) -> 0.99519203
A27: =IF('Dapi 365'!D31>0,'Dapi 365'!D31,0) -> 9.085176 | B27: =IF('Dapi 365'!B31>0,'Dapi 365'!B31,NA()) -> 7093 | C27: =B27/1000 -> 7.093 | D27: =IF('GFP 475'!D31>0,'GFP 475'!D31,0) -> 27.90585 | E27: =IF('GFP 475'!B31>0,'GFP 475'!B31,NA()) -> 7004 | F27: =E27/1000 -> 7.004 | G27: =IF('DsRed 540'!D31>0,'DsRed 540'!D31,0) -> 75.28306 | H27: =IF('DsRed 540'!B31>0,'DsRed 540'!B31,NA()) -> 7153 | I27: =H27/1000 -> 7.153 | N27: =IF(A27>0,A27/$L$4,NA()) -> 0.99797849 | O27: =IF(D27>0,D27/$L$5,NA()) -> 0.99009263 | P27: =IF(G27>0,G27/$L$6,NA()) -> 0.99507558
A28: =IF('Dapi 365'!D32>0,'Dapi 365'!D32,0) -> 9.085511 | B28: =IF('Dapi 365'!B32>0,'Dapi 365'!B32,NA()) -> 7393 | C28: =B28/1000 -> 7.393 | D28: =IF('GFP 475'!D32>0,'GFP 475'!D32,0) -> 27.88425 | E28: =IF('GFP 475'!B32>0,'GFP 475'!B32,NA()) -> 7304 | F28: =E28/1000 -> 7.304 | G28: =IF('DsRed 540'!D32>0,'DsRed 540'!D32,0) -> 75.25214 | H28: =IF('DsRed 540'!B32>0,'DsRed 540'!B32,NA()) -> 7453 | I28: =H28/1000 -> 7.453 | N28: =IF(A28>0,A28/$L$4,NA()) -> 0.99801529 | O28: =IF(D28>0,D28/$L$5,NA()) -> 0.98932627 | P28: =IF(G28>0,G28/$L$6,NA()) -> 0.99466689
A29: =IF('Dapi 365'!D33>0,'Dapi 365'!D33,0) -> 9.093289 | B29: =IF('Dapi 365'!B33>0,'Dapi 365'!B33,NA()) -> 7693 | C29: =B29/1000 -> 7.693 | D29: =IF('GFP 475'!D33>0,'GFP 475'!D33,0) -> 27.95326 | E29: =IF('GFP 475'!B33>0,'GFP 475'!B33,NA()) -> 7604 | F29: =E29/1000 -> 7.604 | G29: =IF('DsRed 540'!D33>0,'DsRed 540'!D33,0) -> 75.32037 | H29: =IF('DsRed 540'!B33>0,'DsRed 540'!B33,NA()) -> 7753 | I29: =H29/1000 -> 7.753 | N29: =IF(A29>0,A29/$L$4,NA()) -> 0.99886968 | O29: =IF(D29>0,D29/$L$5,NA()) -> 0.99177473 | P29: =IF(G29>0,G29/$L$6,NA()) -> 0.99556874
A30: =IF('Dapi 365'!D34>0,'Dapi 365'!D34,0) -> 9.09787 | B30: =IF('Dapi 365'!B34>0,'Dapi 365'!B34,NA()) -> 7993 | C30: =B30/1000 -> 7.993 | D30: =IF('GFP 475'!D34>0,'GFP 475'!D34,0) -> 27.90092 | E30: =IF('GFP 475'!B34>0,'GFP 475'!B34,NA()) -> 7904 | F30: =E30/1000 -> 7.904 | G30: =IF('DsRed 540'!D34>0,'DsRed 540'!D34,0) -> 75.29515 | H30: =IF('DsRed 540'!B34>0,'DsRed 540'!B34,NA()) -> 8053 | I30: =H30/1000 -> 8.053 | N30: =IF(A30>0,A30/$L$4,NA()) -> 0.99937288 | O30: =IF(D30>0,D30/$L$5,NA()) -> 0.98991772 | P30: =IF(G30>0,G30/$L$6,NA()) -> 0.99523538
A31: =IF('Dapi 365'!D35>0,'Dapi 365'!D35,0) -> 9.089549 | B31: =IF('Dapi 365'!B35>0,'Dapi 365'!B35,NA()) -> 8293 | C31: =B31/1000 -> 8.293 | D31: =IF('GFP 475'!D35>0,'GFP 475'!D35,0) -> 27.96654 | E31: =IF('GFP 475'!B35>0,'GFP 475'!B35,NA()) -> 8204 | F31: =E31/1000 -> 8.204 | G31: =IF('DsRed 540'!D35>0,'DsRed 540'!D35,0) -> 75.26243 | H31: =IF('DsRed 540'!B35>0,'DsRed 540'!B35,NA()) -> 8353 | I31: =H31/1000 -> 8.353 | N31: =IF(A31>0,A31/$L$4,NA()) -> 0.99845885 | O31: =IF(D31>0,D31/$L$5,NA()) -> 0.9922459 | P31: =IF(G31>0,G31/$L$6,NA()) -> 0.9948029
A32: =IF('Dapi 365'!D36>0,'Dapi 365'!D36,0) -> 9.08773 | B32: =IF('Dapi 365'!B36>0,'Dapi 365'!B36,NA()) -> 8593 | C32: =B32/1000 -> 8.593 | D32: =IF('GFP 475'!D36>0,'GFP 475'!D36,0) -> 27.95473 | E32: =IF('GFP 475'!B36>0,'GFP 475'!B36,NA()) -> 8504 | F32: =E32/1000 -> 8.504 | G32: =IF('DsRed 540'!D36>0,'DsRed 540'!D36,0) -> 75.2381 | H32: =IF('DsRed 540'!B36>0,'DsRed 540'!B36,NA()) -> 8653 | I32: =H32/1000 -> 8.653 | N32: =IF(A32>0,A32/$L$4,NA()) -> 0.99825904 | O32: =IF(D32>0,D32/$L$5,NA()) -> 0.99182688 | P32: =IF(G32>0,G32/$L$6,NA()) -> 0.99448131
A33: =IF('Dapi 365'!D37>0,'Dapi 365'!D37,0) -> 9.088231 | B33: =IF('Dapi 365'!B37>0,'Dapi 365'!B37,NA()) -> 8893 | C33: =B33/1000 -> 8.893 | D33: =IF('GFP 475'!D37>0,'GFP 475'!D37,0) -> 27.95625 | E33: =IF('GFP 475'!B37>0,'GFP 475'!B37,NA()) -> 8804 | F33: =E33/1000 -> 8.804 | G33: =IF('DsRed 540'!D37>0,'DsRed 540'!D37,0) -> 75.30469 | H33: =IF('DsRed 540'!B37>0,'DsRed 540'!B37,NA()) -> 8953 | I33: =H33/1000 -> 8.953 | N33: =IF(A33>0,A33/$L$4,NA()) -> 0.99831407 | O33: =IF(D33>0,D33/$L$5,NA()) -> 0.99188081 | P33: =IF(G33>0,G33/$L$6,NA()) -> 0.99536148
A34: =IF('Dapi 365'!D38>0,'Dapi 365'!D38,0) -> 9.087175 | B34: =IF('Dapi 365'!B38>0,'Dapi 365'!B38,NA()) -> 9193 | C34: =B34/1000 -> 9.193 | D34: =IF('GFP 475'!D38>0,'GFP 475'!D38,0) -> 27.96345 | E34: =IF('GFP 475'!B38>0,'GFP 475'!B38,NA()) -> 9104 | F34: =E34/1000 -> 9.104 | G34: =IF('DsRed 540'!D38>0,'DsRed 540'!D38,0) -> 75.32502 | H34: =IF('DsRed 540'!B38>0,'DsRed 540'!B38,NA()) -> 9253 | I34: =H34/1000 -> 9.253 | N34: =IF(A34>0,A34/$L$4,NA()) -> 0.99819807 | O34: =IF(D34>0,D34/$L$5,NA()) -> 0.99213627 | P34: =IF(G34>0,G34/$L$6,NA()) -> 0.9956302
A35: =IF('Dapi 365'!D39>0,'Dapi 365'!D39,0) -> 9.083139 | B35: =IF('Dapi 365'!B39>0,'Dapi 365'!B39,NA()) -> 9493 | C35: =B35/1000 -> 9.493 | D35: =IF('GFP 475'!D39>0,'GFP 475'!D39,0) -> 27.93077 | E35: =IF('GFP 475'!B39>0,'GFP 475'!B39,NA()) -> 9404 | F35: =E35/1000 -> 9.404 | G35: =IF('DsRed 540'!D39>0,'DsRed 540'!D39,0) -> 75.50538 | H35: =IF('DsRed 540'!B39>0,'DsRed 540'!B39,NA()) -> 9553 | I35: =H35/1000 -> 9.553 | N35: =IF(A35>0,A35/$L$4,NA()) -> 0.99775473 | O35: =IF(D35>0,D35/$L$5,NA()) -> 0.99097679 | P35: =IF(G35>0,G35/$L$6,NA()) -> 0.99801416
A36: =IF('Dapi 365'!D40>0,'Dapi 365'!D40,0) -> 9.092074 | B36: =IF('Dapi 365'!B40>0,'Dapi 365'!B40,NA()) -> 9793 | C36: =B36/1000 -> 9.793 | D36: =IF('GFP 475'!D40>0,'GFP 475'!D40,0) -> 27.92113 | E36: =IF('GFP 475'!B40>0,'GFP 475'!B40,NA()) -> 9704 | F36: =E36/1000 -> 9.704 | G36: =IF('DsRed 540'!D40>0,'DsRed 540'!D40,0) -> 75.42247 | H36: =IF('DsRed 540'!B40>0,'DsRed 540'!B40,NA()) -> 9853 | I36: =H36/1000 -> 9.853 | N36: =IF(A36>0,A36/$L$4,NA()) -> 0.99873621 | O36: =IF(D36>0,D36/$L$5,NA()) -> 0.99063476 | P36: =IF(G36>0,G36/$L$6,NA()) -> 0.99691827
... A403: =IF('Dapi 365'!D407>0,'Dapi 365'!D407,0) -> 8.973763 | B403: =IF('Dapi 365'!B407>0,'Dapi 365'!B407,NA()) -> 119933 | C403: =B403/1000 -> 119.933 | D403: =IF('GFP 475'!D407>0,'GFP 475'!D407,0) -> 27.99096 | E403: =IF('GFP 475'!B407>0,'GFP 475'!B407,NA()) -> 119843 | F403: =E403/1000 -> 119.843 | G403: =IF('DsRed 540'!D407>0,'DsRed 540'!D407,0) -> 75.57753 | H403: =IF('DsRed 540'!B407>0,'DsRed 540'!B407,NA()) -> 119993 | I403: =H403/1000 -> 119.993 | N403: =IF(A403>0,A403/$L$4,NA()) -> 0.98574011 | O403: =IF(D403>0,D403/$L$5,NA()) -> 0.99311232 | P403: =IF(G403>0,G403/$L$6,NA()) -> 0.99896782
D404: =IF('GFP 475'!D408>0,'GFP 475'!D408,0) -> 27.99344 | E404: =IF('GFP 475'!B408>0,'GFP 475'!B408,NA()) -> 120143 | F404: =E404/1000 -> 120.143
D405: =IF('GFP 475'!D409>0,'GFP 475'!D409,0) -> 27.99537 | E405: =IF('GFP 475'!B409>0,'GFP 475'!B409,NA()) -> 120443 | F405: =E405/1000 -> 120.443
D406: =IF('GFP 475'!D410>0,'GFP 475'!D410,0) -> 27.97034 | E406: =IF('GFP 475'!B410>0,'GFP 475'!B410,NA()) -> 120743 | F406: =E406/1000 -> 120.743

Sheet Graph
R21: Puissance(mW)
R22: à T = 0 | S22: à T = 2 minutes | T22: Ratio T = 2/T = 0
Q23: Dapi | R23: =Synthèse!A4 -> 9.097599 | S23: =Synthèse!A403 -> 8.973763 | T23: =S23/R23 -> 0.98638806
Q24: GFP | R24: =Synthèse!D4 -> 27.90278 | S24: =Synthèse!D406 -> 27.97034 | T24: =S24/R24 -> 1.0024213
Q25: DsRed | R25: =Synthèse!G4 -> 75.17611 | S25: =Synthèse!G403 -> 75.57753 | T25: =S25/R25 -> 1.0053397
R26: Puissance moyenne sur 2 minutes (mW) | T26: Ecart Type
Q27: Dapi | R27: =Synthèse!L13 -> 9.0210021 | T27: =Synthèse!L22 -> 0.032806703
Q28: GFP | R28: =Synthèse!L14 -> 27.959229 | T28: =Synthèse!L23 -> 0.035764257
Q29: DsRed | R29: =Synthèse!L15 -> 75.383858 | T29: =Synthèse!L24 -> 0.060918841

Sheet Suivi dans le tps
A1: Relevé de mesure sur l'AxioImager M2 1023
A4: Dates des mesures | B4: 42192 | D4: 42304 | F4: 42398 | H4: 42481 | J4: 42536 | L4: 42696
A6: Moyenne et ecart type | B6: Moyenne | C6: Ecart type | D6: Moyenne | E6: Ecart type | F6: Moyenne | G6: Ecart type | H6: Moyenne | I6: Ecart type | J6: Moyenne | K6: Ecart type | L6: Moyenne | M6: Ecart type
A7: Filtres
A8: Dapi 365nm | B8: 7.82 | C8: 0.035 | D8: 10.32 | E8: 0.089 | F8: 7.37 | G8: 0.0514 | H8: 10.44 | I8: 0.083 | J8: 7.87 | K8: 0.0844 | L8: 9.02 | M8: 0.0328
A9: FITC 475nm | B9: 36.8 | C9: 0.029 | D9: 40.06 | E9: 0.169 | F9: 33.34 | G9: 0.0795 | H9: 36.21 | I9: 0.0114 | J9: 34.97 | K9: 0.08 | L9: 27.96 | M9: 0.0358
A10: DsRed 540nm | B10: 88.98 | C10: 0.073 | D10: 95.8 | E10: 0.088 | F10: 91.43 | G10: 0.1319 | H10: 88.7 | I10: 0.0296 | J10: 88.33 | K10: 0.0602 | L10: 75.38 | M10: 0.0609
