Workbook
Name CodesFonction: Listes!$B$2:$B$49
Name Cotis1: #REF!
Name Fonction: Listes!$C$2:$C$49
Name Genre: Listes!$K$2:$K$21
Name Liste1: #REF!
Name Liste2: #REF!
Name Liste3: #REF!
Name Position: Listes!$N$2:$N$7
Name typecotis: #REF!

Sheet MARINS
A1: Bateau: | L1: CP acquis dans frais commun: | N1: Oui | P1: Cat 7= | Q1: 68.66
A2: Propriétaire
E3: Nb jours embarqués (hors CP)
A4: Ligne de service 1: | F4: 12 Petite pêche | G4: 45 | H4: =E14+E22+E30+E38+E46+E54 -> 0 | J4: =IFERROR(R4+P4,"") | Q4: =COUNTA(C14,C22,C30,C38,C46,C54) -> 0 | R4: =IFERROR(($M$11*(D4/$D$11))+($O$11+$N$11)*(D4*Q4)/(($D$4*$Q$4)+($D$5*$Q$5)+($D$6*$Q$6)+($D$7*$Q$7)+($D$8*$Q$8)+($D$9*$Q$9)+($D$10*$Q$10)),"") | AE4: =I4-J4 -> #VALUE! | AF4: =AE4*G4% -> #VALUE! | AG4: =AF4/H4 -> #VALUE!
A5: Ligne de service 2: | F5: 12 Petite pêche | G5: =$G$4 -> 45 | H5: =E15+E23+E31+E39+E47+E55 -> 0 | J5: =IFERROR(R5+P5,"") | Q5: =COUNTA(C15,C23,C31,C39,C47,C55) -> 0 | R5: =IFERROR(($M$11*(D5/$D$11))+($O$11+$N$11)*(D5*Q5)/(($D$4*$Q$4)+($D$5*$Q$5)+($D$6*$Q$6)+($D$7*$Q$7)+($D$8*$Q$8)+($D$9*$Q$9)+($D$10*$Q$10)),"") | AE5: =I5-J5 -> #VALUE! | AF5: =AE5*G5% -> #VALUE! | AG5: =AF5/H5 -> #VALUE!
A6: Ligne de service 3: | F6: 12 Petite pêche | G6: =$G$4 -> 45 | H6: =E16+E24+E32+E40+E48+E56 -> 0 | J6: =IFERROR(R6+P6,"") | Q6: =COUNTA(C16,C24,C32,C40,C48,C56) -> 0 | R6: =IFERROR(($M$11*(D6/$D$11))+($O$11+$N$11)*(D6*Q6)/(($D$4*$Q$4)+($D$5*$Q$5)+($D$6*$Q$6)+($D$7*$Q$7)+($D$8*$Q$8)+($D$9*$Q$9)+($D$10*$Q$10)),"") | AE6: =I6-J6 -> #VALUE! | AF6: =AE6*G6% -> #VALUE! | AG6: =AF6/H6 -> #VALUE!
A7: Ligne de service 4: | F7: 12 Petite pêche | G7: =$G$4 -> 45 | H7: =E17+E25+E33+E41+E49+E57 -> 0 | J7: =IFERROR(R7+P7,"") | Q7: =COUNTA(C17,C25,C33,C41,C49,C57) -> 0 | R7: =IFERROR(($M$11*(D7/$D$11))+($O$11+$N$11)*(D7*Q7)/(($D$4*$Q$4)+($D$5*$Q$5)+($D$6*$Q$6)+($D$7*$Q$7)+($D$8*$Q$8)+($D$9*$Q$9)+($D$10*$Q$10)),"") | AE7: =I7-J7 -> #VALUE! | AF7: =AE7*G7% -> #VALUE! | AG7: =AF7/H7 -> #VALUE!
A8: Ligne de service 5: | F8: 12 Petite pêche | G8: =$G$4 -> 45 | H8: =E18+E26+E34+E42+E50+E58 -> 0 | J8: =IFERROR(R8+P8,"") | Q8: =COUNTA(C18,C26,C34,C42,C50,C58) -> 0 | R8: =IFERROR(($M$11*(D8/$D$11))+($O$11+$N$11)*(D8*Q8)/(($D$4*$Q$4)+($D$5*$Q$5)+($D$6*$Q$6)+($D$7*$Q$7)+($D$8*$Q$8)+($D$9*$Q$9)+($D$10*$Q$10)),"") | AE8: =I8-J8 -> #VALUE! | AF8: =AE8*G8% -> #VALUE! | AG8: =AF8/H8 -> #VALUE!
A9: Ligne de service 6: | F9: 12 Petite pêche | G9: =$G$4 -> 45 | H9: =E19+E27+E35+E43+E51+E59 -> 0 | J9: =IFERROR(R9+P9,"") | Q9: =COUNTA(C19,C27,C35,C43,C51,C59) -> 0 | R9: =IFERROR(($M$11*(D9/$D$11))+($O$11+$N$11)*(D9*Q9)/(($D$4*$Q$4)+($D$5*$Q$5)+($D$6*$Q$6)+($D$7*$Q$7)+($D$8*$Q$8)+($D$9*$Q$9)+($D$10*$Q$10)),"") | AE9: =I9-J9 -> #VALUE! | AF9: =AE9*G9% -> #VALUE! | AG9: =AF9/H9 -> #VALUE!
A10: Ligne de service 7: | F10: 13 Petite pêche | G10: =$G$4 -> 45 | H10: =E20+E28+E36+E44+E52+E60 -> 0 | J10: =IFERROR(R10+P10,"") | Q10: =COUNTA(C20,C28,C36,C44,C52,C60) -> 0 | R10: =IFERROR(($M$11*(D10/$D$11))+($O$11+$N$11)*(D10*Q10)/(($D$4*$Q$4)+($D$5*$Q$5)+($D$6*$Q$6)+($D$7*$Q$7)+($D$8*$Q$8)+($D$9*$Q$9)+($D$10*$Q$10)),"")
A11: Totaux: | D11: =SUM(D4:D10) -> 0 | E11: =SUM(E4:E10) -> 0 | H11: =SUM(H4:H10) -> 0 | I11: =SUM(I4:I10) -> 0 | J11: =SUM(J4:J10) -> 0 | M11: =SUM(M4:M10) -> 0 | N11: =SUM(N4:N10) -> 0 | O11: =IF(N1="Non",0,(X21+X29+X37+X45+X53+X61)) -> 0 | P11: =SUM(P4:P10) -> 0 | Q11: =SUM(Q4:Q10) -> 0 | R11: =SUM(R4:R10) -> 0
B12: INFORMATIONS MARINS PAR LIGNE DE SERVICE:
F13: Nb jours embarqués (hors CP) | H13: CP Acquis | I13: Nb jours CP posés | J13: Dates CP Posés | L13: CP Payés non pris (Position 15) | M13: Valeur (Position 15) | N13: Exportation | O13: Prime Brut | P13: Intempérie | Q13: Déduction Tenue | R13: Acompte | S13: VIDE | T13: Absences (motifs et dates) | U13: Commentaires / Informations supplémentaires | V13: Montant jour/cat | Y13: Salaire Brut Théorique
B14: LS1: | F14: =IF(ISBLANK(C14),"",E4) | G14: 00 Embarquement sur navire français | H14: =IF(ISBLANK(C14),"0",E4*3/30) -> 0 | V14: =IF(ISBLANK(D14),"",IF(D14>7,INDEX(Listes!$F$2:$F$21,MATCH(D14,Listes!$E$2:$E$21,0),0),$Q$1)) | X14: =IF(ISBLANK(C14),0,H14*V14) -> 0 | Y14: =IFERROR((AG4*E14),0) -> 0
A15: Matricule | B15: LS2: | F15: =IF(ISBLANK(C15),"",E5) | G15: 00 Embarquement sur navire français | H15: =IF(ISBLANK(C15),"0",E5*3/30) -> 0 | V15: =IF(ISBLANK(D15),"",IF(D15>7,INDEX(Listes!$F$2:$F$21,MATCH(D15,Listes!$E$2:$E$21,0),0),$Q$1)) | X15: =IF(ISBLANK(C15),0,H15*V15) -> 0 | Y15: =IFERROR((AG5*E15),0) -> 0
B16: LS3: | F16: =IF(ISBLANK(C16),"",E6) | G16: 00 Embarquement sur navire français | H16: =IF(ISBLANK(C16),"0",E6*3/30) -> 0 | V16: =IF(ISBLANK(D16),"",IF(D16>7,INDEX(Listes!$F$2:$F$21,MATCH(D16,Listes!$E$2:$E$21,0),0),$Q$1)) | X16: =IF(ISBLANK(C16),0,H16*V16) -> 0 | Y16: =IFERROR((AG6*E16),0) -> 0
A17: Entrée le: | B17: LS4: | F17: =IF(ISBLANK(C17),"",E7) | G17: 00 Embarquement sur navire français | H17: =IF(ISBLANK(C17),"0",E7*3/30) -> 0 | V17: =IF(ISBLANK(D17),"",IF(D17>7,INDEX(Listes!$F$2:$F$21,MATCH(D17,Listes!$E$2:$E$21,0),0),$Q$1)) | X17: =IF(ISBLANK(C17),0,H17*V17) -> 0 | Y17: =IFERROR((AG7*E17),0) -> 0
B18: LS5: | F18: =IF(ISBLANK(C18),"",E8) | H18: =IF(ISBLANK(C18),"0",E8*3/30) -> 0 | V18: =IF(ISBLANK(D18),"",IF(D18>7,INDEX(Listes!$F$2:$F$21,MATCH(D18,Listes!$E$2:$E$21,0),0),$Q$1)) | X18: =IF(ISBLANK(C18),0,H18*V18) -> 0 | Y18: =IFERROR((AG8*E18),0) -> 0
A19: Sortie le: | B19: LS6: | F19: =IF(ISBLANK(C19),"",E9) | H19: =IF(ISBLANK(C19),"0",E9*3/30) -> 0 | V19: =IF(ISBLANK(D19),"",IF(D19>7,INDEX(Listes!$F$2:$F$21,MATCH(D19,Listes!$E$2:$E$21,0),0),$Q$1)) | X19: =IF(ISBLANK(C19),0,H19*V19) -> 0 | Y19: =IFERROR((AG9*E19),0) -> 0
B20: LS7: | F20: =IF(ISBLANK(C20),"",E10) | H20: =IF(ISBLANK(C20),"0",E10*3/30) -> 0 | V20: =IF(ISBLANK(D20),"",IF(D20>7,INDEX(Listes!$F$2:$F$21,MATCH(D20,Listes!$E$2:$E$21,0),0),$Q$1)) | X20: =IF(ISBLANK(C20),0,H20*V20) -> 0 | Y20: =IFERROR((AG10*E20),0) -> 0
B21: Totaux: | F21: =SUM(F14:F20) -> 0 | H21: =ROUNDUP(SUM(H14:H20)+(I21/30*3),0) -> 0 | I21: =SUM(I14:I20) -> 0 | V21: =MAX(V14:V20) -> 0 | W21: =IFERROR((V21*H21),0) -> 0 | X21: =IFERROR(IF(W21>SUM(X14:X20),W21,SUM(X14:X20)),0) -> 0 | Y21: =SUM(Y14:Y20) -> 0
B22: LS1: | F22: =IF(ISBLANK(C22),"",E4) | G22: 00 Embarquement sur navire français | H22: =IF(ISBLANK(C22),"0",E4*3/30) -> 0 | V22: =IF(ISBLANK(D22),"",IF(D22>7,INDEX(Listes!$F$2:$F$21,MATCH(D22,Listes!$E$2:$E$21,0),0),$Q$1)) | X22: =IF(ISBLANK(C22),0,H22*V22) -> 0 | Y22: =IFERROR((AG4*E22),0) -> 0
A23: Matricule | B23: LS2: | F23: =IF(ISBLANK(C23),"",E5) | H23: =IF(ISBLANK(C23),"0",E5*3/30) -> 0 | V23: =IF(ISBLANK(D23),"",IF(D23>7,INDEX(Listes!$F$2:$F$21,MATCH(D23,Listes!$E$2:$E$21,0),0),$Q$1)) | X23: =IF(ISBLANK(C23),0,H23*V23) -> 0 | Y23: =IFERROR((AG5*E23),0) -> 0
B24: LS3: | F24: =IF(ISBLANK(C24),"",E6) | H24: =IF(ISBLANK(C24),"0",E6*3/30) -> 0 | V24: =IF(ISBLANK(D24),"",IF(D24>7,INDEX(Listes!$F$2:$F$21,MATCH(D24,Listes!$E$2:$E$21,0),0),$Q$1)) | X24: =IF(ISBLANK(C24),0,H24*V24) -> 0 | Y24: =IFERROR((AG6*E24),0) -> 0
A25: Entrée le: | B25: LS4: | F25: =IF(ISBLANK(C25),"",E7) | G25: 00 Embarquement sur navire français | H25: =IF(ISBLANK(C25),"0",E7*3/30) -> 0 | V25: =IF(ISBLANK(D25),"",IF(D25>7,INDEX(Listes!$F$2:$F$21,MATCH(D25,Listes!$E$2:$E$21,0),0),$Q$1)) | X25: =IF(ISBLANK(C25),0,H25*V25) -> 0 | Y25: =IFERROR((AG7*E25),0) -> 0
B26: LS5: | F26: =IF(ISBLANK(C26),"",E8) | H26: =IF(ISBLANK(C26),"0",E8*3/30) -> 0 | V26: =IF(ISBLANK(D26),"",IF(D26>7,INDEX(Listes!$F$2:$F$21,MATCH(D26,Listes!$E$2:$E$21,0),0),$Q$1)) | X26: =IF(ISBLANK(C26),0,H26*V26) -> 0 | Y26: =IFERROR((AG8*E26),0) -> 0
A27: Sortie le: | B27: LS6: | F27: =IF(ISBLANK(C27),"",E9) | H27: =IF(ISBLANK(C27),"0",E9*3/30) -> 0 | V27: =IF(ISBLANK(D27),"",IF(D27>7,INDEX(Listes!$F$2:$F$21,MATCH(D27,Listes!$E$2:$E$21,0),0),$Q$1)) | X27: =IF(ISBLANK(C27),0,H27*V27) -> 0 | Y27: =IFERROR((AG9*E27),0) -> 0
B28: LS7: | F28: =IF(ISBLANK(C28),"",E10) | H28: =IF(ISBLANK(C28),"0",E10*3/30) -> 0 | V28: =IF(ISBLANK(D28),"",IF(D28>7,INDEX(Listes!$F$2:$F$21,MATCH(D28,Listes!$E$2:$E$21,0),0),$Q$1)) | X28: =IF(ISBLANK(C28),0,H28*V28) -> 0 | Y28: =IFERROR((AG10*E28),0) -> 0
B29: Totaux: | F29: =SUM(F22:F28) -> 0 | H29: =ROUNDUP(SUM(H22:H28)+(I29/30*3),0) -> 0 | I29: =SUM(I22:I28) -> 0 | V29: =MAX(V22:V28) -> 0 | W29: =IFERROR((V29*H29),0) -> 0 | X29: =IFERROR(IF(W29>SUM(X22:X28),W29,SUM(X22:X28)),0) -> 0 | Y29: =SUM(Y22:Y28) -> 0
B30: LS1: | F30: =IF(ISBLANK(C30),"",E4) | H30: =IF(ISBLANK(C30),"0",E4*3/30) -> 0 | V30: =IF(ISBLANK(D30),"",IF(D30>7,INDEX(Listes!$F$2:$F$21,MATCH(D30,Listes!$E$2:$E$21,0),0),$Q$1)) | X30: =IF(ISBLANK(C30),0,H30*V30) -> 0 | Y30: =IFERROR((AG4*E30),0) -> 0
A31: Matricule | B31: LS2: | F31: =IF(ISBLANK(C31),"",E5) | H31: =IF(ISBLANK(C31),"0",E5*3/30) -> 0 | V31: =IF(ISBLANK(D31),"",IF(D31>7,INDEX(Listes!$F$2:$F$21,MATCH(D31,Listes!$E$2:$E$21,0),0),$Q$1)) | X31: =IF(ISBLANK(C31),0,H31*V31) -> 0 | Y31: =IFERROR((AG5*E31),0) -> 0
B32: LS3: | F32: =IF(ISBLANK(C32),"",E6) | H32: =IF(ISBLANK(C32),"0",E6*3/30) -> 0 | V32: =IF(ISBLANK(D32),"",IF(D32>7,INDEX(Listes!$F$2:$F$21,MATCH(D32,Listes!$E$2:$E$21,0),0),$Q$1)) | X32: =IF(ISBLANK(C32),0,H32*V32) -> 0 | Y32: =IFERROR((AG6*E32),0) -> 0
A33: Entrée le: | B33: LS4: | F33: =IF(ISBLANK(C33),"",E7) | H33: =IF(ISBLANK(C33),"0",E7*3/30) -> 0 | V33: =IF(ISBLANK(D33),"",IF(D33>7,INDEX(Listes!$F$2:$F$21,MATCH(D33,Listes!$E$2:$E$21,0),0),$Q$1)) | X33: =IF(ISBLANK(C33),0,H33*V33) -> 0 | Y33: =IFERROR((AG7*E33),0) -> 0
B34: LS5: | F34: =IF(ISBLANK(C34),"",E8) | H34: =IF(ISBLANK(C34),"0",E8*3/30) -> 0 | V34: =IF(ISBLANK(D34),"",IF(D34>7,INDEX(Listes!$F$2:$F$21,MATCH(D34,Listes!$E$2:$E$21,0),0),$Q$1)) | X34: =IF(ISBLANK(C34),0,H34*V34) -> 0 | Y34: =IFERROR((AG8*E34),0) -> 0
A35: Sortie le: | B35: LS6: | F35: =IF(ISBLANK(C35),"",E9) | H35: =IF(ISBLANK(C35),"0",E9*3/30) -> 0 | V35: =IF(ISBLANK(D35),"",IF(D35>7,INDEX(Listes!$F$2:$F$21,MATCH(D35,Listes!$E$2:$E$21,0),0),$Q$1)) | X35: =IF(ISBLANK(C35),0,H35*V35) -> 0 | Y35: =IFERROR((AG9*E35),0) -> 0
B36: LS7: | F36: =IF(ISBLANK(C36),"",E10) | H36: =IF(ISBLANK(C36),"0",E10*3/30) -> 0 | V36: =IF(ISBLANK(D36),"",IF(D36>7,INDEX(Listes!$F$2:$F$21,MATCH(D36,Listes!$E$2:$E$21,0),0),$Q$1)) | X36: =IF(ISBLANK(C36),0,H36*V36) -> 0 | Y36: =IFERROR((AG10*E36),0) -> 0
B37: Totaux: | F37: =SUM(F30:F36) -> 0 | H37: =ROUNDUP(SUM(H30:H36)+(I37/30*3),0) -> 0 | I37: =SUM(I30:I36) -> 0 | V37: =MAX(V30:V36) -> 0 | W37: =IFERROR((V37*H37),0) -> 0 | X37: =IFERROR(IF(W37>SUM(X30:X36),W37,SUM(X30:X36)),0) -> 0 | Y37: =SUM(Y30:Y36) -> 0
B38: LS1: | F38: =IF(ISBLANK(C38),"",E4) | H38: =IF(ISBLANK(C38),"0",E4*3/30) -> 0 | V38: =IF(ISBLANK(D38),"",IF(D38>7,INDEX(Listes!$F$2:$F$21,MATCH(D38,Listes!$E$2:$E$21,0),0),$Q$1)) | X38: =IF(ISBLANK(C38),0,H38*V38) -> 0 | Y38: =IFERROR((AG4*E38),0) -> 0
A39: Matricule | B39: LS2: | F39: =IF(ISBLANK(C39),"",E5) | H39: =IF(ISBLANK(C39),"0",E5*3/30) -> 0 | V39: =IF(ISBLANK(D39),"",IF(D39>7,INDEX(Listes!$F$2:$F$21,MATCH(D39,Listes!$E$2:$E$21,0),0),$Q$1)) | X39: =IF(ISBLANK(C39),0,H39*V39) -> 0 | Y39: =IFERROR((AG5*E39),0) -> 0
B40: LS3: | F40: =IF(ISBLANK(C40),"",E6) | H40: =IF(ISBLANK(C40),"0",E6*3/30) -> 0 | V40: =IF(ISBLANK(D40),"",IF(D40>7,INDEX(Listes!$F$2:$F$21,MATCH(D40,Listes!$E$2:$E$21,0),0),$Q$1)) | X40: =IF(ISBLANK(C40),0,H40*V40) -> 0 | Y40: =IFERROR((AG6*E40),0) -> 0
...

Sheet A TERRE
A1: Matricule | B1: NOM | C1: Prénom | D1: Heures supplémentaires | E1: Prime Exceptionnelle Brut | F1: Dates CP | G1: Dates Maladie | H1: Dates Accident du travail | I1: Autres à préciser
A2: 00013
A3: 00018

Sheet Listes
B1: Code | C1: Fonction | E1: categories | I1: Genre de navigation
B2: AA01C | C2: PATRON | E2: 1 | F2: 35.68 | I2: 1 | J2: Cabotage International | K2: =I2&" "&J2 -> 1 Cabotage International | N2: 00 Embarquement sur navire français | T2: Catégorie 7
B3: PA01B | C3: MARIN PECHEUR QUALIFIE | E3: 2 | F3: 44.38 | I3: 2 | J3: Cabotage national | K3: =I3&" "&J3 -> 2 Cabotage national | N3: 11 Embarquement sur navire étranger | T3: Catégorie du marin
B4: QA01A | C4: MATELOT | E4: 3 | F4: 53.07 | I4: 3 | J4: Conchyliculture petite pêche | K4: =I4&" "&J4 -> 3 Conchyliculture petite pêche | N4: 20 Service à terre en gestion d'entreprise
B5: AA01D | C5: MATELOT PATRON | E5: 4 | F5: 58.54 | I5: 4 | J5: Culture marine | K5: =I5&" "&J5 -> 4 Culture marine | N5: 22 Pré ou port armement
B6: AA02A | C6: PATRON MECANICIEN | E6: 5 | F6: 62.48 | I6: 6 | J6: Grande Pêche | K6: =I6&" "&J6 -> 6 Grande Pêche | N6: 76 Position à terre validée d'office
B7: CB01B | C7: MECANICIEN | E7: 6 | F7: 64.65 | I7: 7 | J7: Lamanage navigation côtière | K7: =I7&" "&J7 -> 7 Lamanage navigation côtière | N7: 78 Position à terre validée sur décision (incluant pêche à pied)
B8: AA01A | C8: CAPITAINE | E8: 7 | F8: 68.66 | I8: 8 | J8: Long cours | K8: =I8&" "&J8 -> 8 Long cours
B9: CA01A | C9: SECOND CAPITAINE | E9: 8 | F9: 72.27 | I9: 9 | J9: Navigation Côtière | K9: =I9&" "&J9 -> 9 Navigation Côtière
B10: CB01A | C10: CHEF MECANICIEN | E10: 9 | F10: 75.53 | I10: 10 | J10: Pêche au large | K10: =I10&" "&J10 -> 10 Pêche au large
B11: CB01F | C11: DIRECTEUR PRODUCTION BORD | E11: 10 | F11: 80.26 | I11: 11 | J11: Pêche côtière | K11: =I11&" "&J11 -> 11 Pêche côtière
B12: CG00A | C12: SECOND POLYVALENT | E12: 11 | F12: 88.92 | I12: 12 | J12: Petite pêche | K12: =I12&" "&J12 -> 12 Petite pêche
B13: EB01A | C13: SECOND MECANICIEN | E13: 12 | F13: 94.6 | I13: 13 | J13: Pilotage | K13: =I13&" "&J13 -> 13 Pilotage
B14: EB01C | C14: SECOND MACHINE | E14: 13 | F14: 102.34 | I14: 14 | J14: Remorquage cabotage international | K14: =I14&" "&J14 -> 14 Remorquage cabotage international
B15: FA01A | C15: LIEUTENANT | E15: 14 | F15: 110.07 | I15: 15 | J15: Remorquage cabotage national | K15: =I15&" "&J15 -> 15 Remorquage cabotage national
B16: FA01I | C16: CHEF DE QUART | E16: 15 | F16: 118.65 | I16: 16 | J16: Remorquage navigation long cours | K16: =I16&" "&J16 -> 16 Remorquage navigation long cours
B17: FC01A | C17: OFFICIER RADIO | E17: 16 | F17: 127.73 | I17: 17 | J17: Remorquage navigation côtière | K17: =I17&" "&J17 -> 17 Remorquage navigation côtière
B18: GG00Z | C18: STAGIAIRE EMBARQUE (NON TAXE) | E18: 17 | F18: 138.84 | I18: 18 | J18: Yatching cabotage international | K18: =I18&" "&J18 -> 18 Yatching cabotage international
B19: KC01C | C19: RADIO ELECTRICIEN | E19: 18 | F19: 153 | I19: 19 | J19: Yatching cabotage national | K19: =I19&" "&J19 -> 19 Yatching cabotage national
... B21: MA10A | C21: CHEF RAMENDEUR | E21: 20 | F21: 185.05 | I21: 21 | J21: Yatching navigation cotière | K21: =I21&" "&J21 -> 21 Yatching navigation cotière
B22: MA26E | C22: SPECIALISTE MACHINE TRAITEMENT POISSON
B23: MA30A | C23: CHEF FABRICATION
B24: MB06B | C24: OUVRIER MECANICIEN
B25: MB08E | C25: OUVRIER ELECTRICIEN
B26: MB10A | C26: OUVRIER ELECTRICIEN FRIGORISTE
B27: MD33E | C27: CUISINIER
B28: ND41A | C28: BOULANGER
B29: PA10A | C29: RAMENDEUR
B30: PA30A | C30: SOUS CHEF DE FABRICATION
B31: QA01F | C31: MATELOT LEGER PONT
B32: QA10A | C32: AIDE RAMENDEUR
B33: QA14D | C33: CALIER
... B49: TG00A | C49: APPRENTI POLYVALENT
