Workbook
Name Am: Synthèse!$C$188
Name Ma: Synthèse!$C$187
Name Maj: Synthèse!$B$191
Name N: Synthèse!$C$189

Sheet heure
A1: =TODAY() -> 42744
A2: =MONTH(A1) -> 1 | F2: =IF(B1>=Jan!G9,Jan!G10,"")
C3: NOM : | D3: Paul Labouesse | G3: SEMAINE : | H3: =WEEKNUM(A1,1) -> 2 | K3: ANNEE : | L3: =Synthèse!A2 -> 2017 | T3: =IF(A2=Jan!A2,IF(heure!H3=Jan!F5,"oui",""),"")
C5: N° | D5: Affaire | E5: Lundi | G5: Mardi | I5: Mercredi | K5: Jeudi | M5: Vendredi | O5: TOTAL
E6: CVC | G6: CVC | I6: CVC | K6: CVC | M6: CVC
C7: 420 | D7: Suivi GRS | E7: =IF($A$2=Jan!$A$2,IF(Jan!$E$5=heure!$H$3,Jan!F10,IF(Jan!$L$5=heure!$H$3,Jan!M10,IF($H$3=Jan!$S$5,Jan!T10,IF(heure!$H$3=Jan!Z5,Jan!AA10,IF(Jan!$AG$5=heure!$H$3,Jan!AH10,"")))))) -> 5 | G7: =IF($A$2=Jan!$A$2,IF(Jan!$E$5=heure!$H$3,Jan!H10,IF(Jan!$L$5=heure!$H$3,Jan!O10,IF($H$3=Jan!$S$5,Jan!V10,IF(heure!$H$3=Jan!AB5,Jan!AC10,IF(Jan!$AG$5=heure!$H$3,Jan!AJ10,"")))))) -> 0 | I7: =IF($A$2=Jan!$A$2,IF(Jan!$E$5=heure!$H$3,Jan!J10,IF(Jan!$L$5=heure!$H$3,Jan!Q10,IF($H$3=Jan!$S$5,Jan!X10,IF(heure!$H$3=Jan!AD5,Jan!AE10,IF(Jan!$AG$5=heure!$H$3,Jan!AL10,"")))))) -> 0 | K7: =IF($A$2=Jan!$A$2,IF(Jan!$E$5=heure!$H$3,Jan!L10,IF(Jan!$L$5=heure!$H$3,Jan!S10,IF($H$3=Jan!$S$5,Jan!Z10,IF(heure!$H$3=Jan!AF5,Jan!AG10,IF(Jan!$AG$5=heure!$H$3,Jan!AN10,"")))))) -> 0 | M7: =IF($A$2=Jan!$A$2,IF(Jan!$E$5=heure!$H$3,Jan!N10,IF(Jan!$L$5=heure!$H$3,Jan!U10,IF($H$3=Jan!$S$5,Jan!AB10,IF(heure!$H$3=Jan!AH5,Jan!AI10,IF(Jan!$AG$5=heure!$H$3,Jan!AP10,"")))))) -> 0 | O7: =IF(SUM(E7:N7)=0,"",SUM(E7:N7)) -> 5
C8: 568 | D8: 28 lgts av, J, Jaurès à Romagnat | G8: =(IF($A$1>=Jan!H$9,IF(Jan!H11="","",Jan!H11),"")) | I8: =(IF($A$1>=Jan!J$9,IF(Jan!J11="","",Jan!J11),"")) | K8: =(IF($A$1>=Jan!L$9,IF(Jan!L11="","",Jan!L11),"")) | M8: =(IF($A$1>=Jan!N$9,IF(Jan!N11="","",Jan!N11),"")) | O8: =IF(SUM(E8:N8)=0,"",SUM(E8:N8))
C9: 621 | D9: GS Jules Ferry la roche blanche | E9: =(IF($A$1>=Jan!F$9,IF(Jan!F12="","",Jan!F12),"")) -> 5 | G9: =(IF($A$1>=Jan!H$9,IF(Jan!H12="","",Jan!H12),"")) | I9: =(IF($A$1>=Jan!J$9,IF(Jan!J12="","",Jan!J12),"")) | K9: =(IF($A$1>=Jan!L$9,IF(Jan!L12="","",Jan!L12),"")) | M9: =(IF($A$1>=Jan!N$9,IF(Jan!N12="","",Jan!N12),"")) | O9: =IF(SUM(E9:N9)=0,"",SUM(E9:N9)) -> 5
C10: 673 | D10: 57 logements PALAVEZY | E10: =(IF($A$1>=Jan!F$9,IF(Jan!F13="","",Jan!F13),"")) | G10: =(IF($A$1>=Jan!H$9,IF(Jan!H13="","",Jan!H13),"")) | I10: =(IF($A$1>=Jan!J$9,IF(Jan!J13="","",Jan!J13),"")) | K10: =(IF($A$1>=Jan!L$9,IF(Jan!L13="","",Jan!L13),"")) | M10: =(IF($A$1>=Jan!N$9,IF(Jan!N13="","",Jan!N13),"")) | O10: =IF(SUM(E10:N10)=0,"",SUM(E10:N10))
C11: 702 | D11: 25 log les 3 fées cebazat | E11: =(IF($A$1>=Jan!F$9,IF(Jan!F14="","",Jan!F14),"")) | G11: =(IF($A$1>=Jan!H$9,IF(Jan!H14="","",Jan!H14),"")) | I11: =(IF($A$1>=Jan!J$9,IF(Jan!J14="","",Jan!J14),"")) | K11: =(IF($A$1>=Jan!L$9,IF(Jan!L14="","",Jan!L14),"")) | M11: =(IF($A$1>=Jan!N$9,IF(Jan!N14="","",Jan!N14),"")) | O11: =IF(SUM(E11:N11)=0,"",SUM(E11:N11))
C12: 713 | D12: Pôle enfance jeunesse Plauzat | E12: =(IF($A$1>=Jan!F$9,IF(Jan!F15="","",Jan!F15),"")) | G12: =(IF($A$1>=Jan!H$9,IF(Jan!H15="","",Jan!H15),"")) | I12: =(IF($A$1>=Jan!J$9,IF(Jan!J15="","",Jan!J15),"")) | K12: =(IF($A$1>=Jan!L$9,IF(Jan!L15="","",Jan!L15),"")) | M12: =(IF($A$1>=Jan!N$9,IF(Jan!N15="","",Jan!N15),"")) | O12: =IF(SUM(E12:N12)=0,"",SUM(E12:N12))
C13: 722 | D13: Résidence du musée | E13: =(IF($A$1>=Jan!F$9,IF(Jan!F16="","",Jan!F16),"")) | G13: =(IF($A$1>=Jan!H$9,IF(Jan!H16="","",Jan!H16),"")) | I13: =(IF($A$1>=Jan!J$9,IF(Jan!J16="","",Jan!J16),"")) | K13: =(IF($A$1>=Jan!L$9,IF(Jan!L16="","",Jan!L16),"")) | M13: =(IF($A$1>=Jan!N$9,IF(Jan!N16="","",Jan!N16),"")) | O13: =IF(SUM(E13:N13)=0,"",SUM(E13:N13))
C14: 727 | D14: Mairie de Beauregard Vendon | E14: =(IF($A$1>=Jan!F$9,IF(Jan!F17="","",Jan!F17),"")) | G14: =(IF($A$1>=Jan!H$9,IF(Jan!H17="","",Jan!H17),"")) | I14: =(IF($A$1>=Jan!J$9,IF(Jan!J17="","",Jan!J17),"")) | K14: =(IF($A$1>=Jan!L$9,IF(Jan!L17="","",Jan!L17),"")) | M14: =(IF($A$1>=Jan!N$9,IF(Jan!N17="","",Jan!N17),"")) | O14: =IF(SUM(E14:N14)=0,"",SUM(E14:N14))
C15: 731 | D15: maison Usai-Baliukonyte | E15: =(IF($A$1>=Jan!F$9,IF(Jan!F18="","",Jan!F18),"")) | G15: =(IF($A$1>=Jan!H$9,IF(Jan!H18="","",Jan!H18),"")) | I15: =(IF($A$1>=Jan!J$9,IF(Jan!J18="","",Jan!J18),"")) | K15: =(IF($A$1>=Jan!L$9,IF(Jan!L18="","",Jan!L18),"")) | M15: =(IF($A$1>=Jan!N$9,IF(Jan!N18="","",Jan!N18),"")) | O15: =IF(SUM(E15:N15)=0,"",SUM(E15:N15))
C16: 741 | D16: 19 lgts rue Chabrier à Aubière | E16: =(IF($A$1>=Jan!F$9,IF(Jan!F19="","",Jan!F19),"")) | G16: =(IF($A$1>=Jan!H$9,IF(Jan!H19="","",Jan!H19),"")) | I16: =(IF($A$1>=Jan!J$9,IF(Jan!J19="","",Jan!J19),"")) | K16: =(IF($A$1>=Jan!L$9,IF(Jan!L19="","",Jan!L19),"")) | M16: =(IF($A$1>=Jan!N$9,IF(Jan!N19="","",Jan!N19),"")) | O16: =IF(SUM(E16:N16)=0,"",SUM(E16:N16))
C17: 745 | D17: Ilot Sauvage Brassac les Mines 2 | E17: =(IF($A$1>=Jan!F$9,IF(Jan!F20="","",Jan!F20),"")) | G17: =(IF($A$1>=Jan!H$9,IF(Jan!H20="","",Jan!H20),"")) | I17: =(IF($A$1>=Jan!J$9,IF(Jan!J20="","",Jan!J20),"")) | K17: =(IF($A$1>=Jan!L$9,IF(Jan!L20="","",Jan!L20),"")) | M17: =(IF($A$1>=Jan!N$9,IF(Jan!N20="","",Jan!N20),"")) | O17: =IF(SUM(E17:N17)=0,"",SUM(E17:N17))
C18: 762 | D18: Atelier Issoire Aviation | E18: =(IF($A$1>=Jan!F$9,IF(Jan!F21="","",Jan!F21),"")) | G18: =(IF($A$1>=Jan!H$9,IF(Jan!H21="","",Jan!H21),"")) | I18: =(IF($A$1>=Jan!J$9,IF(Jan!J21="","",Jan!J21),"")) | K18: =(IF($A$1>=Jan!L$9,IF(Jan!L21="","",Jan!L21),"")) | M18: =(IF($A$1>=Jan!N$9,IF(Jan!N21="","",Jan!N21),"")) | O18: =IF(SUM(E18:N18)=0,"",SUM(E18:N18))
C19: 764 | D19: Audit Ducs d'Auvergne à Cournon | E19: =(IF($A$1>=Jan!F$9,IF(Jan!F22="","",Jan!F22),"")) | G19: =(IF($A$1>=Jan!H$9,IF(Jan!H22="","",Jan!H22),"")) | I19: =(IF($A$1>=Jan!J$9,IF(Jan!J22="","",Jan!J22),"")) | K19: =(IF($A$1>=Jan!L$9,IF(Jan!L22="","",Jan!L22),"")) | M19: =(IF($A$1>=Jan!N$9,IF(Jan!N22="","",Jan!N22),"")) | O19: =IF(SUM(E19:N19)=0,"",SUM(E19:N19))
C20: 771 | D20: Crèche + 50 lgts à Chamalières | E20: =(IF($A$1>=Jan!F$9,IF(Jan!F23="","",Jan!F23),"")) | G20: =(IF($A$1>=Jan!H$9,IF(Jan!H23="","",Jan!H23),"")) | I20: =(IF($A$1>=Jan!J$9,IF(Jan!J23="","",Jan!J23),"")) | K20: =(IF($A$1>=Jan!L$9,IF(Jan!L23="","",Jan!L23),"")) | M20: =(IF($A$1>=Jan!N$9,IF(Jan!N23="","",Jan!N23),"")) | O20: =IF(SUM(E20:N20)=0,"",SUM(E20:N20))
... C28: 789 | D28: chaufferie bois St Flour | E28: =(IF($A$1>=Jan!F$9,IF(Jan!F31="","",Jan!F31),"")) | G28: =(IF($A$1>=Jan!H$9,IF(Jan!H31="","",Jan!H31),"")) | I28: =(IF($A$1>=Jan!J$9,IF(Jan!J31="","",Jan!J31),"")) | K28: =(IF($A$1>=Jan!L$9,IF(Jan!L31="","",Jan!L31),"")) | M28: =(IF($A$1>=Jan!N$9,IF(Jan!N31="","",Jan!N31),"")) | O28: =IF(SUM(E28:N28)=0,"",SUM(E28:N28))
D29: caméra thermique | E29: =(IF($A$1>=Jan!F$9,IF(Jan!F32="","",Jan!F32),"")) | G29: =(IF($A$1>=Jan!H$9,IF(Jan!H32="","",Jan!H32),"")) | I29: =(IF($A$1>=Jan!J$9,IF(Jan!J32="","",Jan!J32),"")) | K29: =(IF($A$1>=Jan!L$9,IF(Jan!L32="","",Jan!L32),"")) | M29: =(IF($A$1>=Jan!N$9,IF(Jan!N32="","",Jan!N32),"")) | O29: =IF(SUM(E29:N29)=0,"",SUM(E29:N29))
O30: =IF(SUM(E30:N30)=0,"",SUM(E30:N30))
O31: =IF(SUM(E31:N31)=0,"",SUM(E31:N31))
O32: =IF(SUM(E32:N32)=0,"",SUM(E32:N32))
O33: =IF(SUM(E33:N33)=0,"",SUM(E33:N33))
O34: =IF(SUM(E34:N34)=0,"",SUM(E34:N34))
O35: =IF(SUM(E35:N35)=0,"",SUM(E35:N35))
O36: =IF(SUM(E36:N36)=0,"",SUM(E36:N36))
O37: =IF(SUM(E37:N37)=0,"",SUM(E37:N37))
O38: =IF(SUM(E38:N38)=0,"",SUM(E38:N38))
O39: =IF(SUM(E39:N39)=0,"",SUM(E39:N39))
O40: =IF(SUM(E40:N40)=0,"",SUM(E40:N40))
O41: =IF(SUM(E41:N41)=0,"",SUM(E41:N41))
... O67: =IF(SUM(E67:N67)=0,"",SUM(E67:N67))
C185: DIVERS | E185: 2 | O185: =IF(SUM(E185:N185)=0,"",SUM(E185:N185)) -> 2
C186: HEURES DE PRODUCTION | E186: =IF(SUM(E7:F184)=0,"",SUM(E7:F184)) -> 10 | G186: =IF(SUM(G7:H184)=0,"",SUM(G7:H184)) | I186: =IF(SUM(I7:J184)=0,"",SUM(I7:J184)) | K186: =IF(SUM(K7:L184)=0,"",SUM(K7:L184)) | M186: =IF(SUM(M7:N184)=0,"",SUM(M7:N184)) | O186: =IF(SUM(E186:N186)=0,"",SUM(E186:N186)) -> 10
C187: HEURES DE PRESENCE | E187: =IF(SUM(E7:F185)=0,"",SUM(E7:F185)) -> 12 | G187: =IF(SUM(G7:H185)=0,"",SUM(G7:H185)) | I187: =IF(SUM(I7:J185)=0,"",SUM(I7:J185)) | K187: =IF(SUM(K7:L185)=0,"",SUM(K7:L185)) | M187: =IF(SUM(M7:N185)=0,"",SUM(M7:N185)) | O187: =IF(SUM(E187:N187)=0,"",SUM(E187:N187)) -> 12

Sheet Synthèse
A1: Synthèse
A2: 2017
A8: Bilan horaire
A9: Nom | B9: Equipe | C9: Jan | D9: Fév | E9: Mar | F9: Avr | G9: Mai | H9: Juin | I9: Juil | J9: Aoû | K9: Sep | L9: Oct | M9: Nov | N9: Déc | O9: Total
A10: =heure!D7 -> Suivi GRS | B10: =heure!C7 -> 420 | C10: =VLOOKUP($A10,INDIRECT(C$9&"!A10:C149"),3,0) -> 7 | D10: =VLOOKUP($A10,INDIRECT(D$9&"!A10:C149"),3,0) -> 0 | E10: =VLOOKUP($A10,INDIRECT(E$9&"!A10:C149"),3,0) -> 0 | F10: =VLOOKUP($A10,INDIRECT(F$9&"!A10:C149"),3,0) -> 0 | G10: =VLOOKUP($A10,INDIRECT(G$9&"!A10:C149"),3,0) -> 0 | H10: =VLOOKUP($A10,INDIRECT(H$9&"!A10:C149"),3,0) -> 0 | I10: =VLOOKUP($A10,INDIRECT(I$9&"!A10:C149"),3,0) -> 0 | J10: =VLOOKUP($A10,INDIRECT(J$9&"!A10:C149"),3,0) -> 0 | ... N10: =VLOOKUP($A10,INDIRECT(N$9&"!A10:C149"),3,0) -> 0 | O10: =SUM(Synth[[#This Row],[Jan]:[Déc]]) -> 7
A11: =heure!D8 -> 28 lgts av, J, Jaurès à Romagnat | B11: =heure!C8 -> 568 | C11: =VLOOKUP($A11,INDIRECT(C$9&"!A10:C149"),3,0) -> 1 | D11: =VLOOKUP($A11,INDIRECT(D$9&"!A10:C149"),3,0) -> 0 | E11: =VLOOKUP($A11,INDIRECT(E$9&"!A10:C149"),3,0) -> 0 | F11: =VLOOKUP($A11,INDIRECT(F$9&"!A10:C149"),3,0) -> 0 | G11: =VLOOKUP($A11,INDIRECT(G$9&"!A10:C149"),3,0) -> 0 | H11: =VLOOKUP($A11,INDIRECT(H$9&"!A10:C149"),3,0) -> 0 | I11: =VLOOKUP($A11,INDIRECT(I$9&"!A10:C149"),3,0) -> 0 | J11: =VLOOKUP($A11,INDIRECT(J$9&"!A10:C149"),3,0) -> 0 | ... N11: =VLOOKUP($A11,INDIRECT(N$9&"!A10:C149"),3,0) -> 0 | O11: =SUM(Synth[[#This Row],[Jan]:[Déc]]) -> 1
A12: =heure!D9 -> GS Jules Ferry la roche blanche | B12: =heure!C9 -> 621 | C12: =VLOOKUP($A12,INDIRECT(C$9&"!A10:C149"),3,0) -> 5 | D12: =VLOOKUP($A12,INDIRECT(D$9&"!A10:C149"),3,0) -> 0 | E12: =VLOOKUP($A12,INDIRECT(E$9&"!A10:C149"),3,0) -> 0 | F12: =VLOOKUP($A12,INDIRECT(F$9&"!A10:C149"),3,0) -> 0 | G12: =VLOOKUP($A12,INDIRECT(G$9&"!A10:C149"),3,0) -> 0 | H12: =VLOOKUP($A12,INDIRECT(H$9&"!A10:C149"),3,0) -> 0 | I12: =VLOOKUP($A12,INDIRECT(I$9&"!A10:C149"),3,0) -> 0 | J12: =VLOOKUP($A12,INDIRECT(J$9&"!A10:C149"),3,0) -> 0 | ... N12: =VLOOKUP($A12,INDIRECT(N$9&"!A10:C149"),3,0) -> 0 | O12: =SUM(Synth[[#This Row],[Jan]:[Déc]]) -> 5
A13: =heure!D10 -> 57 logements PALAVEZY | B13: =heure!C10 -> 673 | C13: =VLOOKUP($A13,INDIRECT(C$9&"!A10:C149"),3,0) -> 0 | D13: =VLOOKUP($A13,INDIRECT(D$9&"!A10:C149"),3,0) -> 0 | E13: =VLOOKUP($A13,INDIRECT(E$9&"!A10:C149"),3,0) -> 0 | F13: =VLOOKUP($A13,INDIRECT(F$9&"!A10:C149"),3,0) -> 0 | G13: =VLOOKUP($A13,INDIRECT(G$9&"!A10:C149"),3,0) -> 0 | H13: =VLOOKUP($A13,INDIRECT(H$9&"!A10:C149"),3,0) -> 0 | I13: =VLOOKUP($A13,INDIRECT(I$9&"!A10:C149"),3,0) -> 0 | J13: =VLOOKUP($A13,INDIRECT(J$9&"!A10:C149"),3,0) -> 0 | ... N13: =VLOOKUP($A13,INDIRECT(N$9&"!A10:C149"),3,0) -> 0 | O13: =SUM(Synth[[#This Row],[Jan]:[Déc]]) -> 0
A14: =heure!D11 -> 25 log les 3 fées cebazat | B14: =heure!C11 -> 702 | C14: =VLOOKUP($A14,INDIRECT(C$9&"!A10:C149"),3,0) -> 0 | D14: =VLOOKUP($A14,INDIRECT(D$9&"!A10:C149"),3,0) -> 0 | E14: =VLOOKUP($A14,INDIRECT(E$9&"!A10:C149"),3,0) -> 0 | F14: =VLOOKUP($A14,INDIRECT(F$9&"!A10:C149"),3,0) -> 0 | G14: =VLOOKUP($A14,INDIRECT(G$9&"!A10:C149"),3,0) -> 0 | H14: =VLOOKUP($A14,INDIRECT(H$9&"!A10:C149"),3,0) -> 0 | I14: =VLOOKUP($A14,INDIRECT(I$9&"!A10:C149"),3,0) -> 0 | J14: =VLOOKUP($A14,INDIRECT(J$9&"!A10:C149"),3,0) -> 0 | ... N14: =VLOOKUP($A14,INDIRECT(N$9&"!A10:C149"),3,0) -> 0 | O14: =SUM(Synth[[#This Row],[Jan]:[Déc]]) -> 0
A15: =heure!D12 -> Pôle enfance jeunesse Plauzat | B15: =heure!C12 -> 713 | C15: =VLOOKUP($A15,INDIRECT(C$9&"!A10:C149"),3,0) -> 0 | D15: =VLOOKUP($A15,INDIRECT(D$9&"!A10:C149"),3,0) -> 0 | E15: =VLOOKUP($A15,INDIRECT(E$9&"!A10:C149"),3,0) -> 0 | F15: =VLOOKUP($A15,INDIRECT(F$9&"!A10:C149"),3,0) -> 0 | G15: =VLOOKUP($A15,INDIRECT(G$9&"!A10:C149"),3,0) -> 0 | H15: =VLOOKUP($A15,INDIRECT(H$9&"!A10:C149"),3,0) -> 0 | I15: =VLOOKUP($A15,INDIRECT(I$9&"!A10:C149"),3,0) -> 0 | J15: =VLOOKUP($A15,INDIRECT(J$9&"!A10:C149"),3,0) -> 0 | ... N15: =VLOOKUP($A15,INDIRECT(N$9&"!A10:C149"),3,0) -> 0 | O15: =SUM(Synth[[#This Row],[Jan]:[Déc]]) -> 0
A16: =heure!D13 -> Résidence du musée | B16: =heure!C13 -> 722 | C16: =VLOOKUP($A16,INDIRECT(C$9&"!A10:C149"),3,0) -> 0 | D16: =VLOOKUP($A16,INDIRECT(D$9&"!A10:C149"),3,0) -> 0 | E16: =VLOOKUP($A16,INDIRECT(E$9&"!A10:C149"),3,0) -> 0 | F16: =VLOOKUP($A16,INDIRECT(F$9&"!A10:C149"),3,0) -> 0 | G16: =VLOOKUP($A16,INDIRECT(G$9&"!A10:C149"),3,0) -> 0 | H16: =VLOOKUP($A16,INDIRECT(H$9&"!A10:C149"),3,0) -> 0 | I16: =VLOOKUP($A16,INDIRECT(I$9&"!A10:C149"),3,0) -> 0 | J16: =VLOOKUP($A16,INDIRECT(J$9&"!A10:C149"),3,0) -> 0 | ... N16: =VLOOKUP($A16,INDIRECT(N$9&"!A10:C149"),3,0) -> 0 | O16: =SUM(Synth[[#This Row],[Jan]:[Déc]]) -> 0
A17: =heure!D14 -> Mairie de Beauregard Vendon | B17: =heure!C14 -> 727 | C17: =VLOOKUP($A17,INDIRECT(C$9&"!A10:C149"),3,0) -> 0 | D17: =VLOOKUP($A17,INDIRECT(D$9&"!A10:C149"),3,0) -> 0 | E17: =VLOOKUP($A17,INDIRECT(E$9&"!A10:C149"),3,0) -> 0 | F17: =VLOOKUP($A17,INDIRECT(F$9&"!A10:C149"),3,0) -> 0 | G17: =VLOOKUP($A17,INDIRECT(G$9&"!A10:C149"),3,0) -> 0 | H17: =VLOOKUP($A17,INDIRECT(H$9&"!A10:C149"),3,0) -> 0 | I17: =VLOOKUP($A17,INDIRECT(I$9&"!A10:C149"),3,0) -> 0 | J17: =VLOOKUP($A17,INDIRECT(J$9&"!A10:C149"),3,0) -> 0 | ... N17: =VLOOKUP($A17,INDIRECT(N$9&"!A10:C149"),3,0) -> 0 | O17: =SUM(Synth[[#This Row],[Jan]:[Déc]]) -> 0
A18: =heure!D15 -> maison Usai-Baliukonyte | B18: =heure!C15 -> 731 | C18: =VLOOKUP($A18,INDIRECT(C$9&"!A10:C149"),3,0) -> 0 | D18: =VLOOKUP($A18,INDIRECT(D$9&"!A10:C149"),3,0) -> 0 | E18: =VLOOKUP($A18,INDIRECT(E$9&"!A10:C149"),3,0) -> 0 | F18: =VLOOKUP($A18,INDIRECT(F$9&"!A10:C149"),3,0) -> 0 | G18: =VLOOKUP($A18,INDIRECT(G$9&"!A10:C149"),3,0) -> 0 | H18: =VLOOKUP($A18,INDIRECT(H$9&"!A10:C149"),3,0) -> 0 | I18: =VLOOKUP($A18,INDIRECT(I$9&"!A10:C149"),3,0) -> 0 | J18: =VLOOKUP($A18,INDIRECT(J$9&"!A10:C149"),3,0) -> 0 | ... N18: =VLOOKUP($A18,INDIRECT(N$9&"!A10:C149"),3,0) -> 0 | O18: =SUM(Synth[[#This Row],[Jan]:[Déc]]) -> 0
A19: =heure!D16 -> 19 lgts rue Chabrier à Aubière | B19: =heure!C16 -> 741 | C19: =VLOOKUP($A19,INDIRECT(C$9&"!A10:C149"),3,0) -> 0 | D19: =VLOOKUP($A19,INDIRECT(D$9&"!A10:C149"),3,0) -> 0 | E19: =VLOOKUP($A19,INDIRECT(E$9&"!A10:C149"),3,0) -> 0 | F19: =VLOOKUP($A19,INDIRECT(F$9&"!A10:C149"),3,0) -> 0 | G19: =VLOOKUP($A19,INDIRECT(G$9&"!A10:C149"),3,0) -> 0 | H19: =VLOOKUP($A19,INDIRECT(H$9&"!A10:C149"),3,0) -> 0 | I19: =VLOOKUP($A19,INDIRECT(I$9&"!A10:C149"),3,0) -> 0 | J19: =VLOOKUP($A19,INDIRECT(J$9&"!A10:C149"),3,0) -> 0 | ... N19: =VLOOKUP($A19,INDIRECT(N$9&"!A10:C149"),3,0) -> 0 | O19: =SUM(Synth[[#This Row],[Jan]:[Déc]]) -> 0
A20: =heure!D17 -> Ilot Sauvage Brassac les Mines 2 | B20: =heure!C17 -> 745 | C20: =VLOOKUP($A20,INDIRECT(C$9&"!A10:C149"),3,0) -> 0 | D20: =VLOOKUP($A20,INDIRECT(D$9&"!A10:C149"),3,0) -> 0 | E20: =VLOOKUP($A20,INDIRECT(E$9&"!A10:C149"),3,0) -> 0 | F20: =VLOOKUP($A20,INDIRECT(F$9&"!A10:C149"),3,0) -> 0 | G20: =VLOOKUP($A20,INDIRECT(G$9&"!A10:C149"),3,0) -> 0 | H20: =VLOOKUP($A20,INDIRECT(H$9&"!A10:C149"),3,0) -> 0 | I20: =VLOOKUP($A20,INDIRECT(I$9&"!A10:C149"),3,0) -> 0 | J20: =VLOOKUP($A20,INDIRECT(J$9&"!A10:C149"),3,0) -> 0 | ... N20: =VLOOKUP($A20,INDIRECT(N$9&"!A10:C149"),3,0) -> 0 | O20: =SUM(Synth[[#This Row],[Jan]:[Déc]]) -> 0
A21: =heure!D18 -> Atelier Issoire Aviation | B21: =heure!C18 -> 762 | C21: =VLOOKUP($A21,INDIRECT(C$9&"!A10:C149"),3,0) -> 0 | D21: =VLOOKUP($A21,INDIRECT(D$9&"!A10:C149"),3,0) -> 0 | E21: =VLOOKUP($A21,INDIRECT(E$9&"!A10:C149"),3,0) -> 0 | F21: =VLOOKUP($A21,INDIRECT(F$9&"!A10:C149"),3,0) -> 0 | G21: =VLOOKUP($A21,INDIRECT(G$9&"!A10:C149"),3,0) -> 0 | H21: =VLOOKUP($A21,INDIRECT(H$9&"!A10:C149"),3,0) -> 0 | I21: =VLOOKUP($A21,INDIRECT(I$9&"!A10:C149"),3,0) -> 0 | J21: =VLOOKUP($A21,INDIRECT(J$9&"!A10:C149"),3,0) -> 0 | ... N21: =VLOOKUP($A21,INDIRECT(N$9&"!A10:C149"),3,0) -> 0 | O21: =SUM(Synth[[#This Row],[Jan]:[Déc]]) -> 0
... A63: =heure!D60 -> 0 | B63: =heure!C60 -> 0 | C63: =VLOOKUP($A63,INDIRECT(C$9&"!A10:C149"),3,0) -> #N/A | D63: =VLOOKUP($A63,INDIRECT(D$9&"!A10:C149"),3,0) -> #N/A | E63: =VLOOKUP($A63,INDIRECT(E$9&"!A10:C149"),3,0) -> #N/A | F63: =VLOOKUP($A63,INDIRECT(F$9&"!A10:C149"),3,0) -> #N/A | G63: =VLOOKUP($A63,INDIRECT(G$9&"!A10:C149"),3,0) -> #N/A | H63: =VLOOKUP($A63,INDIRECT(H$9&"!A10:C149"),3,0) -> #N/A | I63: =VLOOKUP($A63,INDIRECT(I$9&"!A10:C149"),3,0) -> #N/A | J63: =VLOOKUP($A63,INDIRECT(J$9&"!A10:C149"),3,0) -> #N/A | ... N63: =VLOOKUP($A63,INDIRECT(N$9&"!A10:C149"),3,0) -> #N/A | O63: =SUM(Synth[[#This Row],[Jan]:[Déc]]) -> #N/A
A64: Total | C64: =SUBTOTAL(109,Synth[Jan]) -> #N/A | D64: =SUBTOTAL(109,Synth[Fév]) -> #N/A | E64: =SUBTOTAL(109,Synth[Mar]) -> #N/A | F64: =SUBTOTAL(109,Synth[Avr]) -> #N/A | G64: =SUBTOTAL(109,Synth[Mai]) -> #N/A | H64: =SUBTOTAL(109,Synth[Juin]) -> #N/A | I64: =SUBTOTAL(109,Synth[Juil]) -> #N/A | J64: =SUBTOTAL(109,Synth[Aoû]) -> #N/A | K64: =SUBTOTAL(109,Synth[Sep]) -> #N/A | L64: =SUBTOTAL(109,Synth[Oct]) -> #N/A | M64: =SUBTOTAL(109,Synth[Nov]) -> #N/A | N64: =SUBTOTAL(109,Synth[Déc]) -> #N/A | O64: =SUBTOTAL(109,Synth[Total]) -> #N/A
A187: Ma | B187: Matin | C187: 0.27083333 | D187: =C188 -> 0.625 | E187: =(D187-C187)*24 -> 8.5
A188: Am | B188: Après-midi | C188: 0.625 | D188: =C189 -> 0.97916667 | E188: =(D188-C188)*24 -> 8.5
A189: N | B189: Nuit | C189: 0.97916667 | D189: =C187 -> 0.27083333 | E189: =24-E187-E188 -> 7
A190: C | B190: Congé
A191: Maj. Férié | B191: 0.25
A197: Nom | B197: Equipe | C197: Mois | D197: h. | E197: Ma | F197: Am | G197: N | H197: C
C198: Janvier | D198: =VLOOKUP($A198,INDIRECT($C198&"!A10:G27"),3,0) -> #REF! | E198: =VLOOKUP($A198,INDIRECT($C198&"!A10:G27"),4,0) -> #REF! | F198: =VLOOKUP($A198,INDIRECT($C198&"!A10:G27"),5,0) -> #REF! | G198: =VLOOKUP($A198,INDIRECT($C198&"!A10:G27"),6,0) -> #REF! | H198: =VLOOKUP($A198,INDIRECT($C198&"!A10:G27"),7,0) -> #REF!
C199: Janvier | D199: =VLOOKUP($A199,INDIRECT($C199&"!A10:G27"),3,0) -> #REF! | E199: =VLOOKUP($A199,INDIRECT($C199&"!A10:G27"),4,0) -> #REF! | F199: =VLOOKUP($A199,INDIRECT($C199&"!A10:G27"),5,0) -> #REF! | G199: =VLOOKUP($A199,INDIRECT($C199&"!A10:G27"),6,0) -> #REF! | H199: =VLOOKUP($A199,INDIRECT($C199&"!A10:G27"),7,0) -> #REF!
C200: Janvier | D200: =VLOOKUP($A200,INDIRECT($C200&"!A10:G27"),3,0) -> #REF! | E200: =VLOOKUP($A200,INDIRECT($C200&"!A10:G27"),4,0) -> #REF! | F200: =VLOOKUP($A200,INDIRECT($C200&"!A10:G27"),5,0) -> #REF! | G200: =VLOOKUP($A200,INDIRECT($C200&"!A10:G27"),6,0) -> #REF! | H200: =VLOOKUP($A200,INDIRECT($C200&"!A10:G27"),7,0) -> #REF!
C201: Janvier | D201: =VLOOKUP($A201,INDIRECT($C201&"!A10:G27"),3,0) -> #REF! | E201: =VLOOKUP($A201,INDIRECT($C201&"!A10:G27"),4,0) -> #REF! | F201: =VLOOKUP($A201,INDIRECT($C201&"!A10:G27"),5,0) -> #REF! | G201: =VLOOKUP($A201,INDIRECT($C201&"!A10:G27"),6,0) -> #REF! | H201: =VLOOKUP($A201,INDIRECT($C201&"!A10:G27"),7,0) -> #REF!
C202: Janvier | D202: =VLOOKUP($A202,INDIRECT($C202&"!A10:G27"),3,0) -> #REF! | E202: =VLOOKUP($A202,INDIRECT($C202&"!A10:G27"),4,0) -> #REF! | F202: =VLOOKUP($A202,INDIRECT($C202&"!A10:G27"),5,0) -> #REF! | G202: =VLOOKUP($A202,INDIRECT($C202&"!A10:G27"),6,0) -> #REF! | H202: =VLOOKUP($A202,INDIRECT($C202&"!A10:G27"),7,0) -> #REF!
C203: Janvier | D203: =VLOOKUP($A203,INDIRECT($C203&"!A10:G27"),3,0) -> #REF! | E203: =VLOOKUP($A203,INDIRECT($C203&"!A10:G27"),4,0) -> #REF! | F203: =VLOOKUP($A203,INDIRECT($C203&"!A10:G27"),5,0) -> #REF! | G203: =VLOOKUP($A203,INDIRECT($C203&"!A10:G27"),6,0) -> #REF! | H203: =VLOOKUP($A203,INDIRECT($C203&"!A10:G27"),7,0) -> #REF!
C204: Janvier | D204: =VLOOKUP($A204,INDIRECT($C204&"!A10:G27"),3,0) -> #REF! | E204: =VLOOKUP($A204,INDIRECT($C204&"!A10:G27"),4,0) -> #REF! | F204: =VLOOKUP($A204,INDIRECT($C204&"!A10:G27"),5,0) -> #REF! | G204: =VLOOKUP($A204,INDIRECT($C204&"!A10:G27"),6,0) -> #REF! | H204: =VLOOKUP($A204,INDIRECT($C204&"!A10:G27"),7,0) -> #REF!
C205: Janvier | D205: =VLOOKUP($A205,INDIRECT($C205&"!A10:G27"),3,0) -> #REF! | E205: =VLOOKUP($A205,INDIRECT($C205&"!A10:G27"),4,0) -> #REF! | F205: =VLOOKUP($A205,INDIRECT($C205&"!A10:G27"),5,0) -> #REF! | G205: =VLOOKUP($A205,INDIRECT($C205&"!A10:G27"),6,0) -> #REF! | H205: =VLOOKUP($A205,INDIRECT($C205&"!A10:G27"),7,0) -> #REF!
C206: Janvier | D206: =VLOOKUP($A206,INDIRECT($C206&"!A10:G27"),3,0) -> #REF! | E206: =VLOOKUP($A206,INDIRECT($C206&"!A10:G27"),4,0) -> #REF! | F206: =VLOOKUP($A206,INDIRECT($C206&"!A10:G27"),5,0) -> #REF! | G206: =VLOOKUP($A206,INDIRECT($C206&"!A10:G27"),6,0) -> #REF! | H206: =VLOOKUP($A206,INDIRECT($C206&"!A10:G27"),7,0) -> #REF!
C207: Janvier | D207: =VLOOKUP($A207,INDIRECT($C207&"!A10:G27"),3,0) -> #REF! | E207: =VLOOKUP($A207,INDIRECT($C207&"!A10:G27"),4,0) -> #REF! | F207: =VLOOKUP($A207,INDIRECT($C207&"!A10:G27"),5,0) -> #REF! | G207: =VLOOKUP($A207,INDIRECT($C207&"!A10:G27"),6,0) -> #REF! | H207: =VLOOKUP($A207,INDIRECT($C207&"!A10:G27"),7,0) -> #REF!
C208: Janvier | D208: =VLOOKUP($A208,INDIRECT($C208&"!A10:G27"),3,0) -> #REF! | E208: =VLOOKUP($A208,INDIRECT($C208&"!A10:G27"),4,0) -> #REF! | F208: =VLOOKUP($A208,INDIRECT($C208&"!A10:G27"),5,0) -> #REF! | G208: =VLOOKUP($A208,INDIRECT($C208&"!A10:G27"),6,0) -> #REF! | H208: =VLOOKUP($A208,INDIRECT($C208&"!A10:G27"),7,0) -> #REF!
C209: Janvier | D209: =VLOOKUP($A209,INDIRECT($C209&"!A10:G27"),3,0) -> #REF! | E209: =VLOOKUP($A209,INDIRECT($C209&"!A10:G27"),4,0) -> #REF! | F209: =VLOOKUP($A209,INDIRECT($C209&"!A10:G27"),5,0) -> #REF! | G209: =VLOOKUP($A209,INDIRECT($C209&"!A10:G27"),6,0) -> #REF! | H209: =VLOOKUP($A209,INDIRECT($C209&"!A10:G27"),7,0) -> #REF!
... C413: Décembre | D413: =VLOOKUP($A413,INDIRECT($C413&"!A10:G27"),3,0) -> #REF! | E413: =VLOOKUP($A413,INDIRECT($C413&"!A10:G27"),4,0) -> #REF! | F413: =VLOOKUP($A413,INDIRECT($C413&"!A10:G27"),5,0) -> #REF! | G413: =VLOOKUP($A413,INDIRECT($C413&"!A10:G27"),6,0) -> #REF! | H413: =VLOOKUP($A413,INDIRECT($C413&"!A10:G27"),7,0) -> #REF!

Sheet TCD
A1: Synthèse
A2: =Synthèse!A2 -> 2017
A4: Mois | B4: (Tous)
A6: Étiquettes de lignes | B6: Somme de h. | C6: Somme de Ma | D6: Somme de Am | E6: Somme de N | F6: Somme de C
A7: 1 | B7: 2231.125 | C7: 71 | D7: 95 | E7: 103 | F7: 2
A8: Adam | B8: 478.375 | C8: 13 | D8: 29 | E8: 13 | F8: 0
A9: Adrien | B9: 224 | C9: 16 | D9: 0 | E9: 10 | F9: 1
A10: Alexis | B10: 461.875 | C10: 12 | D10: 11 | E10: 36 | F10: 0
A11: Maxime | B11: 587.625 | C11: 10 | D11: 37 | E11: 24 | F11: 0
A12: Mylène | B12: 103.625 | C12: 2 | D12: 5 | E12: 6 | F12: 1
A13: Thomas | B13: 375.625 | C13: 18 | D13: 13 | E13: 14 | F13: 0
A14: 2 | B14: 2001.875 | C14: 99 | D14: 61 | E14: 80 | F14: 12
A15: Julie | B15: 370.875 | C15: 14 | D15: 15 | E15: 15 | F15: 0
A16: Kévin | B16: 246.875 | C16: 19 | D16: 6 | E16: 4 | F16: 9
A17: Nathan | B17: 327.125 | C17: 1 | D17: 21 | E17: 18 | F17: 0
A18: Pierre | B18: 335.75 | C18: 32 | D18: 6 | E18: 0 | F18: 1
A19: Simon | B19: 356 | C19: 10 | D19: 11 | E19: 24 | F19: 0
A20: Vincent | B20: 365.25 | C20: 23 | D20: 2 | E20: 19 | F20: 2
A21: 3 | B21: 1297.375 | C21: 49 | D21: 70 | E21: 32 | F21: 19
A22: Bastien | B22: 184 | C22: 10 | D22: 9 | E22: 2 | F22: 1
A23: Hicham | B23: 250.5 | C23: 15 | D23: 11 | E23: 3 | F23: 0
A24: Justin | B24: 220 | C24: 10 | D24: 2 | E24: 16 | F24: 0
A25: Marjolaine | B25: 110.5 | C25: 1 | D25: 5 | E25: 8 | F25: 0
A26: Pelle | B26: 377 | C26: 11 | D26: 29 | E26: 2 | F26: 0
A27: Valentin | B27: 155.375 | C27: 2 | D27: 14 | E27: 1 | F27: 18
A28: Total général | B28: 5530.375 | C28: 219 | D28: 226 | E28: 215 | F28: 33
A61: Nom | B61: (Tous)
A63: Étiquettes de lignes | B63: Somme de Ma | C63: Somme de Am | D63: Somme de N | E63: Somme de C
A64: Janvier | B64: 54 | C64: 58 | D64: 56 | E64: 12
A65: Février | B65: 52 | C65: 54 | D65: 52 | E65: 7
A66: Mars | B66: 55 | C66: 57 | D66: 55 | E66: 3
A67: Avril | B67: 58 | C67: 57 | D67: 52 | E67: 11
A68: Mai | B68: 0 | C68: 0 | D68: 0 | E68: 0
A69: Juin | B69: 0 | C69: 0 | D69: 0 | E69: 0
A70: Juillet | B70: 0 | C70: 0 | D70: 0 | E70: 0
A71: Août | B71: 0 | C71: 0 | D71: 0 | E71: 0
A72: Septembre | B72: 0 | C72: 0 | D72: 0 | E72: 0
A73: Octobre | B73: 0 | C73: 0 | D73: 0 | E73: 0
A74: Novembre | B74: 0 | C74: 0 | D74: 0 | E74: 0
A75: Décembre | B75: 0 | C75: 0 | D75: 0 | E75: 0
A76: Total général | B76: 219 | C76: 226 | D76: 215 | E76: 33

Sheet Jan
A1: =DATE(A3,A2,1) -> 42736
A2: 1
A3: =Synthèse!A2 -> 2017
E5: =WEEKNUM(E7,2) -> 1 | L5: =WEEKNUM(L7,2) -> 2 | S5: =WEEKNUM(S7,2) -> 3 | Z5: =WEEKNUM(Z7,2) -> 4 | AG5: =WEEKNUM(AG7,2) -> 5
D6: Férié ?
E7: 1 | F7: 2 | G7: 3 | H7: 4 | I7: 5 | J7: 6 | K7: 7 | L7: 8 | M7: 9 | N7: 10 | O7: 11 | P7: 12 | Q7: 13 | R7: 14 | S7: 15 | T7: 16 | U7: 17 | V7: 18 | W7: 19 | X7: 20 | Y7: 21 | Z7: 22 | AA7: 23 | AB7: 24 | AC7: 25 | AD7: 26 | AE7: 27 | AF7: 28 | AG7: 29 | AH7: 30 | AI7: 31
D8: Férié | E8: =OR(WEEKDAY(E9,2)=6,WEEKDAY(E9,2)=7,E6="x") -> TRUE | F8: =OR(WEEKDAY(F9,2)=6,WEEKDAY(F9,2)=7,F6="x") -> FALSE | G8: =OR(WEEKDAY(G9,2)=6,WEEKDAY(G9,2)=7,G6="x") -> FALSE | H8: =OR(WEEKDAY(H9,2)=6,WEEKDAY(H9,2)=7,H6="x") -> FALSE | I8: =OR(WEEKDAY(I9,2)=6,WEEKDAY(I9,2)=7,I6="x") -> FALSE | J8: =OR(WEEKDAY(J9,2)=6,WEEKDAY(J9,2)=7,J6="x") -> FALSE | K8: =OR(WEEKDAY(K9,2)=6,WEEKDAY(K9,2)=7,K6="x") -> TRUE | L8: =OR(WEEKDAY(L9,2)=6,WEEKDAY(L9,2)=7,L6="x") -> TRUE | ... AI8: =OR(WEEKDAY(AI9,2)=6,WEEKDAY(AI9,2)=7,AI6="x") -> FALSE
A9: Nom | B9: Equipe | C9: h. | D9: C | E9: =DATE($A$3,$A$2,E7) -> 42736 | F9: =DATE($A$3,$A$2,F7) -> 42737 | G9: =DATE($A$3,$A$2,G7) -> 42738 | H9: =DATE($A$3,$A$2,H7) -> 42739 | I9: =DATE($A$3,$A$2,I7) -> 42740 | J9: =DATE($A$3,$A$2,J7) -> 42741 | K9: =DATE($A$3,$A$2,K7) -> 42742 | L9: =DATE($A$3,$A$2,L7) -> 42743 | ... AI9: =DATE($A$3,$A$2,AI7) -> 42766
A10: =IF(heure!D7="","",heure!D7) -> Suivi GRS | B10: =IF(heure!C7="","",heure!C7) -> 420 | C10: =SUM(E10:AI10) -> 7 | D10: =COUNTIF($E10:$AI10,D$9) -> 0 | F10: 1 | G10: 1 | M10: 5
A11: =IF(heure!D8="","",heure!D8) -> 28 lgts av, J, Jaurès à Romagnat | B11: =IF(heure!C8="","",heure!C8) -> 568 | C11: =SUM(E11:AI11) -> 1 | D11: =COUNTIF($E11:$AI11,D$9) -> 0 | F11: 1
A12: =IF(heure!D9="","",heure!D9) -> GS Jules Ferry la roche blanche | B12: =IF(heure!C9="","",heure!C9) -> 621 | C12: =SUM(E12:AI12) -> 5 | D12: =COUNTIF($E12:$AI12,D$9) -> 0 | F12: 5
A13: =IF(heure!D10="","",heure!D10) -> 57 logements PALAVEZY | B13: =IF(heure!C10="","",heure!C10) -> 673 | C13: =SUM(E13:AI13) -> 0 | D13: =COUNTIF($E13:$AI13,D$9) -> 0
A14: =IF(heure!D11="","",heure!D11) -> 25 log les 3 fées cebazat | B14: =IF(heure!C11="","",heure!C11) -> 702 | C14: =SUM(E14:AI14) -> 0 | D14: =COUNTIF($E14:$AI14,D$9) -> 0
A15: =IF(heure!D12="","",heure!D12) -> Pôle enfance jeunesse Plauzat | B15: =IF(heure!C12="","",heure!C12) -> 713 | C15: =SUM(E15:AI15) -> 0 | D15: =COUNTIF($E15:$AI15,D$9) -> 0
A16: =IF(heure!D13="","",heure!D13) -> Résidence du musée | B16: =IF(heure!C13="","",heure!C13) -> 722 | C16: =SUM(E16:AI16) -> 0 | D16: =COUNTIF($E16:$AI16,D$9) -> 0
A17: =IF(heure!D14="","",heure!D14) -> Mairie de Beauregard Vendon | B17: =IF(heure!C14="","",heure!C14) -> 727 | C17: =SUM(E17:AI17) -> 0 | D17: =COUNTIF($E17:$AI17,D$9) -> 0
A18: =IF(heure!D15="","",heure!D15) -> maison Usai-Baliukonyte | B18: =IF(heure!C15="","",heure!C15) -> 731 | C18: =SUM(E18:AI18) -> 0 | D18: =COUNTIF($E18:$AI18,D$9) -> 0
A19: =IF(heure!D16="","",heure!D16) -> 19 lgts rue Chabrier à Aubière | B19: =IF(heure!C16="","",heure!C16) -> 741 | C19: =SUM(E19:AI19) -> 0 | D19: =COUNTIF($E19:$AI19,D$9) -> 0
A20: =IF(heure!D17="","",heure!D17) -> Ilot Sauvage Brassac les Mines 2 | B20: =IF(heure!C17="","",heure!C17) -> 745 | C20: =SUM(E20:AI20) -> 0 | D20: =COUNTIF($E20:$AI20,D$9) -> 0
A21: =IF(heure!D18="","",heure!D18) -> Atelier Issoire Aviation | B21: =IF(heure!C18="","",heure!C18) -> 762 | C21: =SUM(E21:AI21) -> 0 | D21: =COUNTIF($E21:$AI21,D$9) -> 0
A22: =IF(heure!D19="","",heure!D19) -> Audit Ducs d'Auvergne à Cournon | B22: =IF(heure!C19="","",heure!C19) -> 764 | C22: =SUM(E22:AI22) -> 0 | D22: =COUNTIF($E22:$AI22,D$9) -> 0
A23: =IF(heure!D20="","",heure!D20) -> Crèche + 50 lgts à Chamalières | B23: =IF(heure!C20="","",heure!C20) -> 771 | C23: =SUM(E23:AI23) -> 0 | D23: =COUNTIF($E23:$AI23,D$9) -> 0
A24: =IF(heure!D21="","",heure!D21) -> Hôtel du département Moulins | B24: =IF(heure!C21="","",heure!C21) -> 773 | C24: =SUM(E24:AI24) -> 0 | D24: =COUNTIF($E24:$AI24,D$9) -> 0
... A148: =IF(heure!D145="","",heure!D145) | B148: =IF(heure!C145="","",heure!C145) | C148: =SUM(E148:AI148) -> 0 | D148: =COUNTIF($E148:$AI148,D$9) -> 0
C149: =SUM(E149:AI149) -> 0 | D149: =COUNTIF($E149:$AI149,D$9) -> 0
B150: divers | C150: =SUM(E150:AI150) -> 2 | F150: 2
B151: h. | C151: =SUM(E151:AI151) -> 8 | E151: =SUM(E11:E150) -> 0 | F151: =SUM(F11:F150) -> 8 | G151: =SUM(G11:G150) -> 0 | H151: =SUM(H11:H150) -> 0 | I151: =SUM(I11:I150) -> 0 | J151: =SUM(J11:J150) -> 0 | K151: =SUM(K11:K150) -> 0 | L151: =SUM(L11:L150) -> 0 | ... AI151: =SUM(AI11:AI150) -> 0
B152: C | D152: =SUM(E152:AI152) -> 0 | E152: =COUNTIF(E$10:E$149,$B152) -> 0 | F152: =COUNTIF(F$10:F$149,$B152) -> 0 | G152: =COUNTIF(G$10:G$149,$B152) -> 0 | H152: =COUNTIF(H$10:H$149,$B152) -> 0 | I152: =COUNTIF(I$10:I$149,$B152) -> 0 | J152: =COUNTIF(J$10:J$149,$B152) -> 0 | K152: =COUNTIF(K$10:K$149,$B152) -> 0 | L152: =COUNTIF(L$10:L$149,$B152) -> 0 | ... AI152: =COUNTIF(AI$10:AI$149,$B152) -> 0

Sheet Fév
A1: =DATE(A3,A2,1) -> 42767
A2: 2
A3: =Synthèse!A2 -> 2017
E5: 5 | L5: 6 | S5: 7 | Z5: 8 | AG5: 9
D6: Férié ?
E7: 1 | F7: 2 | G7: 3 | H7: 4 | I7: 5 | J7: 6 | K7: 7 | L7: 8 | M7: 9 | N7: 10 | O7: 11 | P7: 12 | Q7: 13 | R7: 14 | S7: 15 | T7: 16 | U7: 17 | V7: 18 | W7: 19 | X7: 20 | Y7: 21 | Z7: 22 | AA7: 23 | AB7: 24 | AC7: 25 | AD7: 26 | AE7: 27 | AF7: 28 | AG7: 29 | AH7: 30 | AI7: 31
D8: Férié | E8: =OR(WEEKDAY(E9,2)=6,WEEKDAY(E9,2)=7,E6="x") -> FALSE | F8: =OR(WEEKDAY(F9,2)=6,WEEKDAY(F9,2)=7,F6="x") -> FALSE | G8: =OR(WEEKDAY(G9,2)=6,WEEKDAY(G9,2)=7,G6="x") -> FALSE | H8: =OR(WEEKDAY(H9,2)=6,WEEKDAY(H9,2)=7,H6="x") -> TRUE | I8: =OR(WEEKDAY(I9,2)=6,WEEKDAY(I9,2)=7,I6="x") -> TRUE | J8: =OR(WEEKDAY(J9,2)=6,WEEKDAY(J9,2)=7,J6="x") -> FALSE | K8: =OR(WEEKDAY(K9,2)=6,WEEKDAY(K9,2)=7,K6="x") -> FALSE | L8: =OR(WEEKDAY(L9,2)=6,WEEKDAY(L9,2)=7,L6="x") -> FALSE | ... AI8: =OR(WEEKDAY(AI9,2)=6,WEEKDAY(AI9,2)=7,AI6="x") -> FALSE
A9: Nom | B9: Equipe | C9: h. | D9: C | E9: =DATE($A$3,$A$2,E7) -> 42767 | F9: =DATE($A$3,$A$2,F7) -> 42768 | G9: =DATE($A$3,$A$2,G7) -> 42769 | H9: =DATE($A$3,$A$2,H7) -> 42770 | I9: =DATE($A$3,$A$2,I7) -> 42771 | J9: =DATE($A$3,$A$2,J7) -> 42772 | K9: =DATE($A$3,$A$2,K7) -> 42773 | L9: =DATE($A$3,$A$2,L7) -> 42774 | ... AI9: =DATE($A$3,$A$2,AI7) -> 42797
A10: =IF(heure!D7="","",heure!D7) -> Suivi GRS | B10: =IF(heure!C7="","",heure!C7) -> 420 | C10: =SUM(E10:AI10) -> 0 | D10: =COUNTIF($E10:$AI10,D$9) -> 0
A11: =IF(heure!D8="","",heure!D8) -> 28 lgts av, J, Jaurès à Romagnat | B11: =IF(heure!C8="","",heure!C8) -> 568 | C11: =SUM(E11:AI11) -> 0 | D11: =COUNTIF($E11:$AI11,D$9) -> 0
A12: =IF(heure!D9="","",heure!D9) -> GS Jules Ferry la roche blanche | B12: =IF(heure!C9="","",heure!C9) -> 621 | C12: =SUM(E12:AI12) -> 0 | D12: =COUNTIF($E12:$AI12,D$9) -> 0
A13: =IF(heure!D10="","",heure!D10) -> 57 logements PALAVEZY | B13: =IF(heure!C10="","",heure!C10) -> 673 | C13: =SUM(E13:AI13) -> 0 | D13: =COUNTIF($E13:$AI13,D$9) -> 0
A14: =IF(heure!D11="","",heure!D11) -> 25 log les 3 fées cebazat | B14: =IF(heure!C11="","",heure!C11) -> 702 | C14: =SUM(E14:AI14) -> 0 | D14: =COUNTIF($E14:$AI14,D$9) -> 0
A15: =IF(heure!D12="","",heure!D12) -> Pôle enfance jeunesse Plauzat | B15: =IF(heure!C12="","",heure!C12) -> 713 | C15: =SUM(E15:AI15) -> 0 | D15: =COUNTIF($E15:$AI15,D$9) -> 0
A16: =IF(heure!D13="","",heure!D13) -> Résidence du musée | B16: =IF(heure!C13="","",heure!C13) -> 722 | C16: =SUM(E16:AI16) -> 0 | D16: =COUNTIF($E16:$AI16,D$9) -> 0
A17: =IF(heure!D14="","",heure!D14) -> Mairie de Beauregard Vendon | B17: =IF(heure!C14="","",heure!C14) -> 727 | C17: =SUM(E17:AI17) -> 0 | D17: =COUNTIF($E17:$AI17,D$9) -> 0
A18: =IF(heure!D15="","",heure!D15) -> maison Usai-Baliukonyte | B18: =IF(heure!C15="","",heure!C15) -> 731 | C18: =SUM(E18:AI18) -> 0 | D18: =COUNTIF($E18:$AI18,D$9) -> 0
A19: =IF(heure!D16="","",heure!D16) -> 19 lgts rue Chabrier à Aubière | B19: =IF(heure!C16="","",heure!C16) -> 741 | C19: =SUM(E19:AI19) -> 0 | D19: =COUNTIF($E19:$AI19,D$9) -> 0
A20: =IF(heure!D17="","",heure!D17) -> Ilot Sauvage Brassac les Mines 2 | B20: =IF(heure!C17="","",heure!C17) -> 745 | C20: =SUM(E20:AI20) -> 0 | D20: =COUNTIF($E20:$AI20,D$9) -> 0
A21: =IF(heure!D18="","",heure!D18) -> Atelier Issoire Aviation | B21: =IF(heure!C18="","",heure!C18) -> 762 | C21: =SUM(E21:AI21) -> 0 | D21: =COUNTIF($E21:$AI21,D$9) -> 0
... A148: =IF(heure!D145="","",heure!D145) | B148: =IF(heure!C145="","",heure!C145) | C148: =SUM(E148:AI148) -> 0 | D148: =COUNTIF($E148:$AI148,D$9) -> 0
C149: =SUM(E149:AI149) -> 0 | D149: =COUNTIF($E149:$AI149,D$9) -> 0
B150: divers | C150: =SUM(E150:AI150) -> 2 | F150: 2
B151: h. | C151: =SUM(E151:AI151) -> 2 | E151: =SUM(E11:E150) -> 0 | F151: =SUM(F11:F150) -> 2 | G151: =SUM(G11:G150) -> 0 | H151: =SUM(H11:H150) -> 0 | I151: =SUM(I11:I150) -> 0 | J151: =SUM(J11:J150) -> 0 | K151: =SUM(K11:K150) -> 0 | L151: =SUM(L11:L150) -> 0 | ... AI151: =SUM(AI11:AI150) -> 0
B152: C | D152: =SUM(E152:AI152) -> 0 | E152: =COUNTIF(E$10:E$149,$B152) -> 0 | F152: =COUNTIF(F$10:F$149,$B152) -> 0 | G152: =COUNTIF(G$10:G$149,$B152) -> 0 | H152: =COUNTIF(H$10:H$149,$B152) -> 0 | I152: =COUNTIF(I$10:I$149,$B152) -> 0 | J152: =COUNTIF(J$10:J$149,$B152) -> 0 | K152: =COUNTIF(K$10:K$149,$B152) -> 0 | L152: =COUNTIF(L$10:L$149,$B152) -> 0 | ... AI152: =COUNTIF(AI$10:AI$149,$B152) -> 0

Sheet Mar
A1: =DATE(A3,A2,1) -> 42795
A2: 3
A3: =Synthèse!A2 -> 2017
E5: 9 | L5: 10 | S5: 11 | Z5: 12 | AG5: 13
D6: Férié ?
E7: 1 | F7: 2 | G7: 3 | H7: 4 | I7: 5 | J7: 6 | K7: 7 | L7: 8 | M7: 9 | N7: 10 | O7: 11 | P7: 12 | Q7: 13 | R7: 14 | S7: 15 | T7: 16 | U7: 17 | V7: 18 | W7: 19 | X7: 20 | Y7: 21 | Z7: 22 | AA7: 23 | AB7: 24 | AC7: 25 | AD7: 26 | AE7: 27 | AF7: 28 | AG7: 29 | AH7: 30 | AI7: 31
D8: Férié | E8: =OR(WEEKDAY(E9,2)=6,WEEKDAY(E9,2)=7,E6="x") -> FALSE | F8: =OR(WEEKDAY(F9,2)=6,WEEKDAY(F9,2)=7,F6="x") -> FALSE | G8: =OR(WEEKDAY(G9,2)=6,WEEKDAY(G9,2)=7,G6="x") -> FALSE | H8: =OR(WEEKDAY(H9,2)=6,WEEKDAY(H9,2)=7,H6="x") -> TRUE | I8: =OR(WEEKDAY(I9,2)=6,WEEKDAY(I9,2)=7,I6="x") -> TRUE | J8: =OR(WEEKDAY(J9,2)=6,WEEKDAY(J9,2)=7,J6="x") -> FALSE | K8: =OR(WEEKDAY(K9,2)=6,WEEKDAY(K9,2)=7,K6="x") -> FALSE | L8: =OR(WEEKDAY(L9,2)=6,WEEKDAY(L9,2)=7,L6="x") -> FALSE | ... AI8: =OR(WEEKDAY(AI9,2)=6,WEEKDAY(AI9,2)=7,AI6="x") -> FALSE
A9: Nom | B9: Equipe | C9: h. | D9: C | E9: =DATE($A$3,$A$2,E7) -> 42795 | F9: =DATE($A$3,$A$2,F7) -> 42796 | G9: =DATE($A$3,$A$2,G7) -> 42797 | H9: =DATE($A$3,$A$2,H7) -> 42798 | I9: =DATE($A$3,$A$2,I7) -> 42799 | J9: =DATE($A$3,$A$2,J7) -> 42800 | K9: =DATE($A$3,$A$2,K7) -> 42801 | L9: =DATE($A$3,$A$2,L7) -> 42802 | ... AI9: =DATE($A$3,$A$2,AI7) -> 42825
A10: =IF(heure!D7="","",heure!D7) -> Suivi GRS | B10: =IF(heure!C7="","",heure!C7) -> 420 | C10: =SUM(E10:AI10) -> 0 | D10: =COUNTIF($E10:$AI10,D$9) -> 0
A11: =IF(heure!D8="","",heure!D8) -> 28 lgts av, J, Jaurès à Romagnat | B11: =IF(heure!C8="","",heure!C8) -> 568 | C11: =SUM(E11:AI11) -> 0 | D11: =COUNTIF($E11:$AI11,D$9) -> 0
A12: =IF(heure!D9="","",heure!D9) -> GS Jules Ferry la roche blanche | B12: =IF(heure!C9="","",heure!C9) -> 621 | C12: =SUM(E12:AI12) -> 0 | D12: =COUNTIF($E12:$AI12,D$9) -> 0
A13: =IF(heure!D10="","",heure!D10) -> 57 logements PALAVEZY | B13: =IF(heure!C10="","",heure!C10) -> 673 | C13: =SUM(E13:AI13) -> 0 | D13: =COUNTIF($E13:$AI13,D$9) -> 0
A14: =IF(heure!D11="","",heure!D11) -> 25 log les 3 fées cebazat | B14: =IF(heure!C11="","",heure!C11) -> 702 | C14: =SUM(E14:AI14) -> 0 | D14: =COUNTIF($E14:$AI14,D$9) -> 0
A15: =IF(heure!D12="","",heure!D12) -> Pôle enfance jeunesse Plauzat | B15: =IF(heure!C12="","",heure!C12) -> 713 | C15: =SUM(E15:AI15) -> 0 | D15: =COUNTIF($E15:$AI15,D$9) -> 0
A16: =IF(heure!D13="","",heure!D13) -> Résidence du musée | B16: =IF(heure!C13="","",heure!C13) -> 722 | C16: =SUM(E16:AI16) -> 0 | D16: =COUNTIF($E16:$AI16,D$9) -> 0
A17: =IF(heure!D14="","",heure!D14) -> Mairie de Beauregard Vendon | B17: =IF(heure!C14="","",heure!C14) -> 727 | C17: =SUM(E17:AI17) -> 0 | D17: =COUNTIF($E17:$AI17,D$9) -> 0
A18: =IF(heure!D15="","",heure!D15) -> maison Usai-Baliukonyte | B18: =IF(heure!C15="","",heure!C15) -> 731 | C18: =SUM(E18:AI18) -> 0 | D18: =COUNTIF($E18:$AI18,D$9) -> 0
A19: =IF(heure!D16="","",heure!D16) -> 19 lgts rue Chabrier à Aubière | B19: =IF(heure!C16="","",heure!C16) -> 741 | C19: =SUM(E19:AI19) -> 0 | D19: =COUNTIF($E19:$AI19,D$9) -> 0
A20: =IF(heure!D17="","",heure!D17) -> Ilot Sauvage Brassac les Mines 2 | B20: =IF(heure!C17="","",heure!C17) -> 745 | C20: =SUM(E20:AI20) -> 0 | D20: =COUNTIF($E20:$AI20,D$9) -> 0
A21: =IF(heure!D18="","",heure!D18) -> Atelier Issoire Aviation | B21: =IF(heure!C18="","",heure!C18) -> 762 | C21: =SUM(E21:AI21) -> 0 | D21: =COUNTIF($E21:$AI21,D$9) -> 0
... A148: =IF(heure!D145="","",heure!D145) | B148: =IF(heure!C145="","",heure!C145) | C148: =SUM(E148:AI148) -> 0 | D148: =COUNTIF($E148:$AI148,D$9) -> 0
C149: =SUM(E149:AI149) -> 0 | D149: =COUNTIF($E149:$AI149,D$9) -> 0
B150: divers | C150: =SUM(E150:AI150) -> 2 | F150: 2
B151: h. | C151: =SUM(E151:AI151) -> 2 | E151: =SUM(E11:E150) -> 0 | F151: =SUM(F11:F150) -> 2 | G151: =SUM(G11:G150) -> 0 | H151: =SUM(H11:H150) -> 0 | I151: =SUM(I11:I150) -> 0 | J151: =SUM(J11:J150) -> 0 | K151: =SUM(K11:K150) -> 0 | L151: =SUM(L11:L150) -> 0 | ... AI151: =SUM(AI11:AI150) -> 0
B152: C | D152: =SUM(E152:AI152) -> 0 | E152: =COUNTIF(E$10:E$149,$B152) -> 0 | F152: =COUNTIF(F$10:F$149,$B152) -> 0 | G152: =COUNTIF(G$10:G$149,$B152) -> 0 | H152: =COUNTIF(H$10:H$149,$B152) -> 0 | I152: =COUNTIF(I$10:I$149,$B152) -> 0 | J152: =COUNTIF(J$10:J$149,$B152) -> 0 | K152: =COUNTIF(K$10:K$149,$B152) -> 0 | L152: =COUNTIF(L$10:L$149,$B152) -> 0 | ... AI152: =COUNTIF(AI$10:AI$149,$B152) -> 0

Sheet Avr
A1: =DATE(A3,A2,1) -> 42826
A2: 4
A3: =Synthèse!A2 -> 2017
E5: 13 | L5: 14 | S5: 15 | Z5: 16 | AG5: 17
D6: Férié ?
E7: 1 | F7: 2 | G7: 3 | H7: 4 | I7: 5 | J7: 6 | K7: 7 | L7: 8 | M7: 9 | N7: 10 | O7: 11 | P7: 12 | Q7: 13 | R7: 14 | S7: 15 | T7: 16 | U7: 17 | V7: 18 | W7: 19 | X7: 20 | Y7: 21 | Z7: 22 | AA7: 23 | AB7: 24 | AC7: 25 | AD7: 26 | AE7: 27 | AF7: 28 | AG7: 29 | AH7: 30 | AI7: 31
D8: Férié | E8: =OR(WEEKDAY(E9,2)=6,WEEKDAY(E9,2)=7,E6="x") -> TRUE | F8: =OR(WEEKDAY(F9,2)=6,WEEKDAY(F9,2)=7,F6="x") -> TRUE | G8: =OR(WEEKDAY(G9,2)=6,WEEKDAY(G9,2)=7,G6="x") -> FALSE | H8: =OR(WEEKDAY(H9,2)=6,WEEKDAY(H9,2)=7,H6="x") -> FALSE | I8: =OR(WEEKDAY(I9,2)=6,WEEKDAY(I9,2)=7,I6="x") -> FALSE | J8: =OR(WEEKDAY(J9,2)=6,WEEKDAY(J9,2)=7,J6="x") -> FALSE | K8: =OR(WEEKDAY(K9,2)=6,WEEKDAY(K9,2)=7,K6="x") -> FALSE | L8: =OR(WEEKDAY(L9,2)=6,WEEKDAY(L9,2)=7,L6="x") -> TRUE | ... AI8: =OR(WEEKDAY(AI9,2)=6,WEEKDAY(AI9,2)=7,AI6="x") -> FALSE
A9: Nom | B9: Equipe | C9: h. | D9: C | E9: =DATE($A$3,$A$2,E7) -> 42826 | F9: =DATE($A$3,$A$2,F7) -> 42827 | G9: =DATE($A$3,$A$2,G7) -> 42828 | H9: =DATE($A$3,$A$2,H7) -> 42829 | I9: =DATE($A$3,$A$2,I7) -> 42830 | J9: =DATE($A$3,$A$2,J7) -> 42831 | K9: =DATE($A$3,$A$2,K7) -> 42832 | L9: =DATE($A$3,$A$2,L7) -> 42833 | ... AI9: =DATE($A$3,$A$2,AI7) -> 42856
A10: =IF(heure!D7="","",heure!D7) -> Suivi GRS | B10: =IF(heure!C7="","",heure!C7) -> 420 | C10: =SUM(E10:AI10) -> 0 | D10: =COUNTIF($E10:$AI10,D$9) -> 0
A11: =IF(heure!D8="","",heure!D8) -> 28 lgts av, J, Jaurès à Romagnat | B11: =IF(heure!C8="","",heure!C8) -> 568 | C11: =SUM(E11:AI11) -> 0 | D11: =COUNTIF($E11:$AI11,D$9) -> 0
A12: =IF(heure!D9="","",heure!D9) -> GS Jules Ferry la roche blanche | B12: =IF(heure!C9="","",heure!C9) -> 621 | C12: =SUM(E12:AI12) -> 0 | D12: =COUNTIF($E12:$AI12,D$9) -> 0
A13: =IF(heure!D10="","",heure!D10) -> 57 logements PALAVEZY | B13: =IF(heure!C10="","",heure!C10) -> 673 | C13: =SUM(E13:AI13) -> 0 | D13: =COUNTIF($E13:$AI13,D$9) -> 0
A14: =IF(heure!D11="","",heure!D11) -> 25 log les 3 fées cebazat | B14: =IF(heure!C11="","",heure!C11) -> 702 | C14: =SUM(E14:AI14) -> 0 | D14: =COUNTIF($E14:$AI14,D$9) -> 0
A15: =IF(heure!D12="","",heure!D12) -> Pôle enfance jeunesse Plauzat | B15: =IF(heure!C12="","",heure!C12) -> 713 | C15: =SUM(E15:AI15) -> 0 | D15: =COUNTIF($E15:$AI15,D$9) -> 0
A16: =IF(heure!D13="","",heure!D13) -> Résidence du musée | B16: =IF(heure!C13="","",heure!C13) -> 722 | C16: =SUM(E16:AI16) -> 0 | D16: =COUNTIF($E16:$AI16,D$9) -> 0
A17: =IF(heure!D14="","",heure!D14) -> Mairie de Beauregard Vendon | B17: =IF(heure!C14="","",heure!C14) -> 727 | C17: =SUM(E17:AI17) -> 0 | D17: =COUNTIF($E17:$AI17,D$9) -> 0
A18: =IF(heure!D15="","",heure!D15) -> maison Usai-Baliukonyte | B18: =IF(heure!C15="","",heure!C15) -> 731 | C18: =SUM(E18:AI18) -> 0 | D18: =COUNTIF($E18:$AI18,D$9) -> 0
A19: =IF(heure!D16="","",heure!D16) -> 19 lgts rue Chabrier à Aubière | B19: =IF(heure!C16="","",heure!C16) -> 741 | C19: =SUM(E19:AI19) -> 0 | D19: =COUNTIF($E19:$AI19,D$9) -> 0
A20: =IF(heure!D17="","",heure!D17) -> Ilot Sauvage Brassac les Mines 2 | B20: =IF(heure!C17="","",heure!C17) -> 745 | C20: =SUM(E20:AI20) -> 0 | D20: =COUNTIF($E20:$AI20,D$9) -> 0
A21: =IF(heure!D18="","",heure!D18) -> Atelier Issoire Aviation | B21: =IF(heure!C18="","",heure!C18) -> 762 | C21: =SUM(E21:AI21) -> 0 | D21: =COUNTIF($E21:$AI21,D$9) -> 0
... A148: =IF(heure!D145="","",heure!D145) | B148: =IF(heure!C145="","",heure!C145) | C148: =SUM(E148:AI148) -> 0 | D148: =COUNTIF($E148:$AI148,D$9) -> 0
C149: =SUM(E149:AI149) -> 0 | D149: =COUNTIF($E149:$AI149,D$9) -> 0
B150: divers | C150: =SUM(E150:AI150) -> 2 | F150: 2
B151: h. | C151: =SUM(E151:AI151) -> 2 | E151: =SUM(E11:E150) -> 0 | F151: =SUM(F11:F150) -> 2 | G151: =SUM(G11:G150) -> 0 | H151: =SUM(H11:H150) -> 0 | I151: =SUM(I11:I150) -> 0 | J151: =SUM(J11:J150) -> 0 | K151: =SUM(K11:K150) -> 0 | L151: =SUM(L11:L150) -> 0 | ... AI151: =SUM(AI11:AI150) -> 0
B152: C | D152: =SUM(E152:AI152) -> 0 | E152: =COUNTIF(E$10:E$149,$B152) -> 0 | F152: =COUNTIF(F$10:F$149,$B152) -> 0 | G152: =COUNTIF(G$10:G$149,$B152) -> 0 | H152: =COUNTIF(H$10:H$149,$B152) -> 0 | I152: =COUNTIF(I$10:I$149,$B152) -> 0 | J152: =COUNTIF(J$10:J$149,$B152) -> 0 | K152: =COUNTIF(K$10:K$149,$B152) -> 0 | L152: =COUNTIF(L$10:L$149,$B152) -> 0 | ... AI152: =COUNTIF(AI$10:AI$149,$B152) -> 0

Sheet Mai
A1: =DATE(A3,A2,1) -> 42856
A2: 5
A3: =Synthèse!A2 -> 2017
E5: 18 | L5: 19 | S5: 20 | Z5: 21 | AG5: 22
D6: Férié ?
E7: 1 | F7: 2 | G7: 3 | H7: 4 | I7: 5 | J7: 6 | K7: 7 | L7: 8 | M7: 9 | N7: 10 | O7: 11 | P7: 12 | Q7: 13 | R7: 14 | S7: 15 | T7: 16 | U7: 17 | V7: 18 | W7: 19 | X7: 20 | Y7: 21 | Z7: 22 | AA7: 23 | AB7: 24 | AC7: 25 | AD7: 26 | AE7: 27 | AF7: 28 | AG7: 29 | AH7: 30 | AI7: 31
D8: Férié | E8: =OR(WEEKDAY(E9,2)=6,WEEKDAY(E9,2)=7,E6="x") -> FALSE | F8: =OR(WEEKDAY(F9,2)=6,WEEKDAY(F9,2)=7,F6="x") -> FALSE | G8: =OR(WEEKDAY(G9,2)=6,WEEKDAY(G9,2)=7,G6="x") -> FALSE | H8: =OR(WEEKDAY(H9,2)=6,WEEKDAY(H9,2)=7,H6="x") -> FALSE | I8: =OR(WEEKDAY(I9,2)=6,WEEKDAY(I9,2)=7,I6="x") -> FALSE | J8: =OR(WEEKDAY(J9,2)=6,WEEKDAY(J9,2)=7,J6="x") -> TRUE | K8: =OR(WEEKDAY(K9,2)=6,WEEKDAY(K9,2)=7,K6="x") -> TRUE | L8: =OR(WEEKDAY(L9,2)=6,WEEKDAY(L9,2)=7,L6="x") -> FALSE | ... AI8: =OR(WEEKDAY(AI9,2)=6,WEEKDAY(AI9,2)=7,AI6="x") -> FALSE
A9: Nom | B9: Equipe | C9: h. | D9: C | E9: =DATE($A$3,$A$2,E7) -> 42856 | F9: =DATE($A$3,$A$2,F7) -> 42857 | G9: =DATE($A$3,$A$2,G7) -> 42858 | H9: =DATE($A$3,$A$2,H7) -> 42859 | I9: =DATE($A$3,$A$2,I7) -> 42860 | J9: =DATE($A$3,$A$2,J7) -> 42861 | K9: =DATE($A$3,$A$2,K7) -> 42862 | L9: =DATE($A$3,$A$2,L7) -> 42863 | ... AI9: =DATE($A$3,$A$2,AI7) -> 42886
A10: =IF(heure!D7="","",heure!D7) -> Suivi GRS | B10: =IF(heure!C7="","",heure!C7) -> 420 | C10: =SUM(E10:AI10) -> 0 | D10: =COUNTIF($E10:$AI10,D$9) -> 0
A11: =IF(heure!D8="","",heure!D8) -> 28 lgts av, J, Jaurès à Romagnat | B11: =IF(heure!C8="","",heure!C8) -> 568 | C11: =SUM(E11:AI11) -> 0 | D11: =COUNTIF($E11:$AI11,D$9) -> 0
A12: =IF(heure!D9="","",heure!D9) -> GS Jules Ferry la roche blanche | B12: =IF(heure!C9="","",heure!C9) -> 621 | C12: =SUM(E12:AI12) -> 0 | D12: =COUNTIF($E12:$AI12,D$9) -> 0
A13: =IF(heure!D10="","",heure!D10) -> 57 logements PALAVEZY | B13: =IF(heure!C10="","",heure!C10) -> 673 | C13: =SUM(E13:AI13) -> 0 | D13: =COUNTIF($E13:$AI13,D$9) -> 0
A14: =IF(heure!D11="","",heure!D11) -> 25 log les 3 fées cebazat | B14: =IF(heure!C11="","",heure!C11) -> 702 | C14: =SUM(E14:AI14) -> 0 | D14: =COUNTIF($E14:$AI14,D$9) -> 0
A15: =IF(heure!D12="","",heure!D12) -> Pôle enfance jeunesse Plauzat | B15: =IF(heure!C12="","",heure!C12) -> 713 | C15: =SUM(E15:AI15) -> 0 | D15: =COUNTIF($E15:$AI15,D$9) -> 0
A16: =IF(heure!D13="","",heure!D13) -> Résidence du musée | B16: =IF(heure!C13="","",heure!C13) -> 722 | C16: =SUM(E16:AI16) -> 0 | D16: =COUNTIF($E16:$AI16,D$9) -> 0
A17: =IF(heure!D14="","",heure!D14) -> Mairie de Beauregard Vendon | B17: =IF(heure!C14="","",heure!C14) -> 727 | C17: =SUM(E17:AI17) -> 0 | D17: =COUNTIF($E17:$AI17,D$9) -> 0
A18: =IF(heure!D15="","",heure!D15) -> maison Usai-Baliukonyte | B18: =IF(heure!C15="","",heure!C15) -> 731 | C18: =SUM(E18:AI18) -> 0 | D18: =COUNTIF($E18:$AI18,D$9) -> 0
A19: =IF(heure!D16="","",heure!D16) -> 19 lgts rue Chabrier à Aubière | B19: =IF(heure!C16="","",heure!C16) -> 741 | C19: =SUM(E19:AI19) -> 0 | D19: =COUNTIF($E19:$AI19,D$9) -> 0
A20: =IF(heure!D17="","",heure!D17) -> Ilot Sauvage Brassac les Mines 2 | B20: =IF(heure!C17="","",heure!C17) -> 745 | C20: =SUM(E20:AI20) -> 0 | D20: =COUNTIF($E20:$AI20,D$9) -> 0
A21: =IF(heure!D18="","",heure!D18) -> Atelier Issoire Aviation | B21: =IF(heure!C18="","",heure!C18) -> 762 | C21: =SUM(E21:AI21) -> 0 | D21: =COUNTIF($E21:$AI21,D$9) -> 0
... A148: =IF(heure!D145="","",heure!D145) | B148: =IF(heure!C145="","",heure!C145) | C148: =SUM(E148:AI148) -> 0 | D148: =COUNTIF($E148:$AI148,D$9) -> 0
C149: =SUM(E149:AI149) -> 0 | D149: =COUNTIF($E149:$AI149,D$9) -> 0
B150: divers | C150: =SUM(E150:AI150) -> 2 | F150: 2
B151: h. | C151: =SUM(E151:AI151) -> 2 | E151: =SUM(E11:E150) -> 0 | F151: =SUM(F11:F150) -> 2 | G151: =SUM(G11:G150) -> 0 | H151: =SUM(H11:H150) -> 0 | I151: =SUM(I11:I150) -> 0 | J151: =SUM(J11:J150) -> 0 | K151: =SUM(K11:K150) -> 0 | L151: =SUM(L11:L150) -> 0 | ... AI151: =SUM(AI11:AI150) -> 0
B152: C | D152: =SUM(E152:AI152) -> 0 | E152: =COUNTIF(E$10:E$149,$B152) -> 0 | F152: =COUNTIF(F$10:F$149,$B152) -> 0 | G152: =COUNTIF(G$10:G$149,$B152) -> 0 | H152: =COUNTIF(H$10:H$149,$B152) -> 0 | I152: =COUNTIF(I$10:I$149,$B152) -> 0 | J152: =COUNTIF(J$10:J$149,$B152) -> 0 | K152: =COUNTIF(K$10:K$149,$B152) -> 0 | L152: =COUNTIF(L$10:L$149,$B152) -> 0 | ... AI152: =COUNTIF(AI$10:AI$149,$B152) -> 0

Sheet Juin
A1: =DATE(A3,A2,1) -> 42887
A2: 6
A3: =Synthèse!A2 -> 2017
E5: 22 | L5: 23 | S5: 24 | Z5: 25 | AG5: 26
D6: Férié ?
E7: 1 | F7: 2 | G7: 3 | H7: 4 | I7: 5 | J7: 6 | K7: 7 | L7: 8 | M7: 9 | N7: 10 | O7: 11 | P7: 12 | Q7: 13 | R7: 14 | S7: 15 | T7: 16 | U7: 17 | V7: 18 | W7: 19 | X7: 20 | Y7: 21 | Z7: 22 | AA7: 23 | AB7: 24 | AC7: 25 | AD7: 26 | AE7: 27 | AF7: 28 | AG7: 29 | AH7: 30 | AI7: 31
D8: Férié | E8: =OR(WEEKDAY(E9,2)=6,WEEKDAY(E9,2)=7,E6="x") -> FALSE | F8: =OR(WEEKDAY(F9,2)=6,WEEKDAY(F9,2)=7,F6="x") -> FALSE | G8: =OR(WEEKDAY(G9,2)=6,WEEKDAY(G9,2)=7,G6="x") -> TRUE | H8: =OR(WEEKDAY(H9,2)=6,WEEKDAY(H9,2)=7,H6="x") -> TRUE | I8: =OR(WEEKDAY(I9,2)=6,WEEKDAY(I9,2)=7,I6="x") -> FALSE | J8: =OR(WEEKDAY(J9,2)=6,WEEKDAY(J9,2)=7,J6="x") -> FALSE | K8: =OR(WEEKDAY(K9,2)=6,WEEKDAY(K9,2)=7,K6="x") -> FALSE | L8: =OR(WEEKDAY(L9,2)=6,WEEKDAY(L9,2)=7,L6="x") -> FALSE | ... AI8: =OR(WEEKDAY(AI9,2)=6,WEEKDAY(AI9,2)=7,AI6="x") -> TRUE
A9: Nom | B9: Equipe | C9: h. | D9: C | E9: =DATE($A$3,$A$2,E7) -> 42887 | F9: =DATE($A$3,$A$2,F7) -> 42888 | G9: =DATE($A$3,$A$2,G7) -> 42889 | H9: =DATE($A$3,$A$2,H7) -> 42890 | I9: =DATE($A$3,$A$2,I7) -> 42891 | J9: =DATE($A$3,$A$2,J7) -> 42892 | K9: =DATE($A$3,$A$2,K7) -> 42893 | L9: =DATE($A$3,$A$2,L7) -> 42894 | ... AI9: =DATE($A$3,$A$2,AI7) -> 42917
A10: =IF(heure!D7="","",heure!D7) -> Suivi GRS | B10: =IF(heure!C7="","",heure!C7) -> 420 | C10: =SUM(E10:AI10) -> 0 | D10: =COUNTIF($E10:$AI10,D$9) -> 0
A11: =IF(heure!D8="","",heure!D8) -> 28 lgts av, J, Jaurès à Romagnat | B11: =IF(heure!C8="","",heure!C8) -> 568 | C11: =SUM(E11:AI11) -> 0 | D11: =COUNTIF($E11:$AI11,D$9) -> 0
A12: =IF(heure!D9="","",heure!D9) -> GS Jules Ferry la roche blanche | B12: =IF(heure!C9="","",heure!C9) -> 621 | C12: =SUM(E12:AI12) -> 0 | D12: =COUNTIF($E12:$AI12,D$9) -> 0
A13: =IF(heure!D10="","",heure!D10) -> 57 logements PALAVEZY | B13: =IF(heure!C10="","",heure!C10) -> 673 | C13: =SUM(E13:AI13) -> 0 | D13: =COUNTIF($E13:$AI13,D$9) -> 0
A14: =IF(heure!D11="","",heure!D11) -> 25 log les 3 fées cebazat | B14: =IF(heure!C11="","",heure!C11) -> 702 | C14: =SUM(E14:AI14) -> 0 | D14: =COUNTIF($E14:$AI14,D$9) -> 0
A15: =IF(heure!D12="","",heure!D12) -> Pôle enfance jeunesse Plauzat | B15: =IF(heure!C12="","",heure!C12) -> 713 | C15: =SUM(E15:AI15) -> 0 | D15: =COUNTIF($E15:$AI15,D$9) -> 0
A16: =IF(heure!D13="","",heure!D13) -> Résidence du musée | B16: =IF(heure!C13="","",heure!C13) -> 722 | C16: =SUM(E16:AI16) -> 0 | D16: =COUNTIF($E16:$AI16,D$9) -> 0
A17: =IF(heure!D14="","",heure!D14) -> Mairie de Beauregard Vendon | B17: =IF(heure!C14="","",heure!C14) -> 727 | C17: =SUM(E17:AI17) -> 0 | D17: =COUNTIF($E17:$AI17,D$9) -> 0
A18: =IF(heure!D15="","",heure!D15) -> maison Usai-Baliukonyte | B18: =IF(heure!C15="","",heure!C15) -> 731 | C18: =SUM(E18:AI18) -> 0 | D18: =COUNTIF($E18:$AI18,D$9) -> 0
A19: =IF(heure!D16="","",heure!D16) -> 19 lgts rue Chabrier à Aubière | B19: =IF(heure!C16="","",heure!C16) -> 741 | C19: =SUM(E19:AI19) -> 0 | D19: =COUNTIF($E19:$AI19,D$9) -> 0
A20: =IF(heure!D17="","",heure!D17) -> Ilot Sauvage Brassac les Mines 2 | B20: =IF(heure!C17="","",heure!C17) -> 745 | C20: =SUM(E20:AI20) -> 0 | D20: =COUNTIF($E20:$AI20,D$9) -> 0
A21: =IF(heure!D18="","",heure!D18) -> Atelier Issoire Aviation | B21: =IF(heure!C18="","",heure!C18) -> 762 | C21: =SUM(E21:AI21) -> 0 | D21: =COUNTIF($E21:$AI21,D$9) -> 0
... A148: =IF(heure!D145="","",heure!D145) | B148: =IF(heure!C145="","",heure!C145) | C148: =SUM(E148:AI148) -> 0 | D148: =COUNTIF($E148:$AI148,D$9) -> 0
C149: =SUM(E149:AI149) -> 0 | D149: =COUNTIF($E149:$AI149,D$9) -> 0
B150: divers | C150: =SUM(E150:AI150) -> 2 | F150: 2
B151: h. | C151: =SUM(E151:AI151) -> 2 | E151: =SUM(E11:E150) -> 0 | F151: =SUM(F11:F150) -> 2 | G151: =SUM(G11:G150) -> 0 | H151: =SUM(H11:H150) -> 0 | I151: =SUM(I11:I150) -> 0 | J151: =SUM(J11:J150) -> 0 | K151: =SUM(K11:K150) -> 0 | L151: =SUM(L11:L150) -> 0 | ... AI151: =SUM(AI11:AI150) -> 0
B152: C | D152: =SUM(E152:AI152) -> 0 | E152: =COUNTIF(E$10:E$149,$B152) -> 0 | F152: =COUNTIF(F$10:F$149,$B152) -> 0 | G152: =COUNTIF(G$10:G$149,$B152) -> 0 | H152: =COUNTIF(H$10:H$149,$B152) -> 0 | I152: =COUNTIF(I$10:I$149,$B152) -> 0 | J152: =COUNTIF(J$10:J$149,$B152) -> 0 | K152: =COUNTIF(K$10:K$149,$B152) -> 0 | L152: =COUNTIF(L$10:L$149,$B152) -> 0 | ... AI152: =COUNTIF(AI$10:AI$149,$B152) -> 0

Sheet Juil
A1: =DATE(A3,A2,1) -> 42917
A2: 7
A3: =Synthèse!A2 -> 2017
E5: 26 | L5: 27 | S5: 28 | Z5: 29 | AG5: 30 | AI5: 31
D6: Férié ?
E7: 1 | F7: 2 | G7: 3 | H7: 4 | I7: 5 | J7: 6 | K7: 7 | L7: 8 | M7: 9 | N7: 10 | O7: 11 | P7: 12 | Q7: 13 | R7: 14 | S7: 15 | T7: 16 | U7: 17 | V7: 18 | W7: 19 | X7: 20 | Y7: 21 | Z7: 22 | AA7: 23 | AB7: 24 | AC7: 25 | AD7: 26 | AE7: 27 | AF7: 28 | AG7: 29 | AH7: 30 | AI7: 31
D8: Férié | E8: =OR(WEEKDAY(E9,2)=6,WEEKDAY(E9,2)=7,E6="x") -> TRUE | F8: =OR(WEEKDAY(F9,2)=6,WEEKDAY(F9,2)=7,F6="x") -> TRUE | G8: =OR(WEEKDAY(G9,2)=6,WEEKDAY(G9,2)=7,G6="x") -> FALSE | H8: =OR(WEEKDAY(H9,2)=6,WEEKDAY(H9,2)=7,H6="x") -> FALSE | I8: =OR(WEEKDAY(I9,2)=6,WEEKDAY(I9,2)=7,I6="x") -> FALSE | J8: =OR(WEEKDAY(J9,2)=6,WEEKDAY(J9,2)=7,J6="x") -> FALSE | K8: =OR(WEEKDAY(K9,2)=6,WEEKDAY(K9,2)=7,K6="x") -> FALSE | L8: =OR(WEEKDAY(L9,2)=6,WEEKDAY(L9,2)=7,L6="x") -> TRUE | ... AI8: =OR(WEEKDAY(AI9,2)=6,WEEKDAY(AI9,2)=7,AI6="x") -> FALSE
A9: Nom | B9: Equipe | C9: h. | D9: C | E9: =DATE($A$3,$A$2,E7) -> 42917 | F9: =DATE($A$3,$A$2,F7) -> 42918 | G9: =DATE($A$3,$A$2,G7) -> 42919 | H9: =DATE($A$3,$A$2,H7) -> 42920 | I9: =DATE($A$3,$A$2,I7) -> 42921 | J9: =DATE($A$3,$A$2,J7) -> 42922 | K9: =DATE($A$3,$A$2,K7) -> 42923 | L9: =DATE($A$3,$A$2,L7) -> 42924 | ... AI9: =DATE($A$3,$A$2,AI7) -> 42947
A10: =IF(heure!D7="","",heure!D7) -> Suivi GRS | B10: =IF(heure!C7="","",heure!C7) -> 420 | C10: =SUM(E10:AI10) -> 0 | D10: =COUNTIF($E10:$AI10,D$9) -> 0
A11: =IF(heure!D8="","",heure!D8) -> 28 lgts av, J, Jaurès à Romagnat | B11: =IF(heure!C8="","",heure!C8) -> 568 | C11: =SUM(E11:AI11) -> 0 | D11: =COUNTIF($E11:$AI11,D$9) -> 0
A12: =IF(heure!D9="","",heure!D9) -> GS Jules Ferry la roche blanche | B12: =IF(heure!C9="","",heure!C9) -> 621 | C12: =SUM(E12:AI12) -> 0 | D12: =COUNTIF($E12:$AI12,D$9) -> 0
A13: =IF(heure!D10="","",heure!D10) -> 57 logements PALAVEZY | B13: =IF(heure!C10="","",heure!C10) -> 673 | C13: =SUM(E13:AI13) -> 0 | D13: =COUNTIF($E13:$AI13,D$9) -> 0
A14: =IF(heure!D11="","",heure!D11) -> 25 log les 3 fées cebazat | B14: =IF(heure!C11="","",heure!C11) -> 702 | C14: =SUM(E14:AI14) -> 0 | D14: =COUNTIF($E14:$AI14,D$9) -> 0
A15: =IF(heure!D12="","",heure!D12) -> Pôle enfance jeunesse Plauzat | B15: =IF(heure!C12="","",heure!C12) -> 713 | C15: =SUM(E15:AI15) -> 0 | D15: =COUNTIF($E15:$AI15,D$9) -> 0
A16: =IF(heure!D13="","",heure!D13) -> Résidence du musée | B16: =IF(heure!C13="","",heure!C13) -> 722 | C16: =SUM(E16:AI16) -> 0 | D16: =COUNTIF($E16:$AI16,D$9) -> 0
A17: =IF(heure!D14="","",heure!D14) -> Mairie de Beauregard Vendon | B17: =IF(heure!C14="","",heure!C14) -> 727 | C17: =SUM(E17:AI17) -> 0 | D17: =COUNTIF($E17:$AI17,D$9) -> 0
A18: =IF(heure!D15="","",heure!D15) -> maison Usai-Baliukonyte | B18: =IF(heure!C15="","",heure!C15) -> 731 | C18: =SUM(E18:AI18) -> 0 | D18: =COUNTIF($E18:$AI18,D$9) -> 0
A19: =IF(heure!D16="","",heure!D16) -> 19 lgts rue Chabrier à Aubière | B19: =IF(heure!C16="","",heure!C16) -> 741 | C19: =SUM(E19:AI19) -> 0 | D19: =COUNTIF($E19:$AI19,D$9) -> 0
A20: =IF(heure!D17="","",heure!D17) -> Ilot Sauvage Brassac les Mines 2 | B20: =IF(heure!C17="","",heure!C17) -> 745 | C20: =SUM(E20:AI20) -> 0 | D20: =COUNTIF($E20:$AI20,D$9) -> 0
A21: =IF(heure!D18="","",heure!D18) -> Atelier Issoire Aviation | B21: =IF(heure!C18="","",heure!C18) -> 762 | C21: =SUM(E21:AI21) -> 0 | D21: =COUNTIF($E21:$AI21,D$9) -> 0
... A148: =IF(heure!D145="","",heure!D145) | B148: =IF(heure!C145="","",heure!C145) | C148: =SUM(E148:AI148) -> 0 | D148: =COUNTIF($E148:$AI148,D$9) -> 0
C149: =SUM(E149:AI149) -> 0 | D149: =COUNTIF($E149:$AI149,D$9) -> 0
B150: divers | C150: =SUM(E150:AI150) -> 2 | F150: 2
B151: h. | C151: =SUM(E151:AI151) -> 2 | E151: =SUM(E11:E150) -> 0 | F151: =SUM(F11:F150) -> 2 | G151: =SUM(G11:G150) -> 0 | H151: =SUM(H11:H150) -> 0 | I151: =SUM(I11:I150) -> 0 | J151: =SUM(J11:J150) -> 0 | K151: =SUM(K11:K150) -> 0 | L151: =SUM(L11:L150) -> 0 | ... AI151: =SUM(AI11:AI150) -> 0
B152: C | D152: =SUM(E152:AI152) -> 0 | E152: =COUNTIF(E$10:E$149,$B152) -> 0 | F152: =COUNTIF(F$10:F$149,$B152) -> 0 | G152: =COUNTIF(G$10:G$149,$B152) -> 0 | H152: =COUNTIF(H$10:H$149,$B152) -> 0 | I152: =COUNTIF(I$10:I$149,$B152) -> 0 | J152: =COUNTIF(J$10:J$149,$B152) -> 0 | K152: =COUNTIF(K$10:K$149,$B152) -> 0 | L152: =COUNTIF(L$10:L$149,$B152) -> 0 | ... AI152: =COUNTIF(AI$10:AI$149,$B152) -> 0

Sheet Aoû
A1: =DATE(A3,A2,1) -> 42948
A2: 8
A3: =Synthèse!A2 -> 2017
E5: 31 | L5: 32 | S5: 33 | Z5: 34 | AG5: 35
D6: Férié ?
E7: 1 | F7: 2 | G7: 3 | H7: 4 | I7: 5 | J7: 6 | K7: 7 | L7: 8 | M7: 9 | N7: 10 | O7: 11 | P7: 12 | Q7: 13 | R7: 14 | S7: 15 | T7: 16 | U7: 17 | V7: 18 | W7: 19 | X7: 20 | Y7: 21 | Z7: 22 | AA7: 23 | AB7: 24 | AC7: 25 | AD7: 26 | AE7: 27 | AF7: 28 | AG7: 29 | AH7: 30 | AI7: 31
D8: Férié | E8: =OR(WEEKDAY(E9,2)=6,WEEKDAY(E9,2)=7,E6="x") -> FALSE | F8: =OR(WEEKDAY(F9,2)=6,WEEKDAY(F9,2)=7,F6="x") -> FALSE | G8: =OR(WEEKDAY(G9,2)=6,WEEKDAY(G9,2)=7,G6="x") -> FALSE | H8: =OR(WEEKDAY(H9,2)=6,WEEKDAY(H9,2)=7,H6="x") -> FALSE | I8: =OR(WEEKDAY(I9,2)=6,WEEKDAY(I9,2)=7,I6="x") -> TRUE | J8: =OR(WEEKDAY(J9,2)=6,WEEKDAY(J9,2)=7,J6="x") -> TRUE | K8: =OR(WEEKDAY(K9,2)=6,WEEKDAY(K9,2)=7,K6="x") -> FALSE | L8: =OR(WEEKDAY(L9,2)=6,WEEKDAY(L9,2)=7,L6="x") -> FALSE | ... AI8: =OR(WEEKDAY(AI9,2)=6,WEEKDAY(AI9,2)=7,AI6="x") -> FALSE
A9: Nom | B9: Equipe | C9: h. | D9: C | E9: =DATE($A$3,$A$2,E7) -> 42948 | F9: =DATE($A$3,$A$2,F7) -> 42949 | G9: =DATE($A$3,$A$2,G7) -> 42950 | H9: =DATE($A$3,$A$2,H7) -> 42951 | I9: =DATE($A$3,$A$2,I7) -> 42952 | J9: =DATE($A$3,$A$2,J7) -> 42953 | K9: =DATE($A$3,$A$2,K7) -> 42954 | L9: =DATE($A$3,$A$2,L7) -> 42955 | ... AI9: =DATE($A$3,$A$2,AI7) -> 42978
A10: =IF(heure!D7="","",heure!D7) -> Suivi GRS | B10: =IF(heure!C7="","",heure!C7) -> 420 | C10: =SUM(E10:AI10) -> 0 | D10: =COUNTIF($E10:$AI10,D$9) -> 0
A11: =IF(heure!D8="","",heure!D8) -> 28 lgts av, J, Jaurès à Romagnat | B11: =IF(heure!C8="","",heure!C8) -> 568 | C11: =SUM(E11:AI11) -> 0 | D11: =COUNTIF($E11:$AI11,D$9) -> 0
A12: =IF(heure!D9="","",heure!D9) -> GS Jules Ferry la roche blanche | B12: =IF(heure!C9="","",heure!C9) -> 621 | C12: =SUM(E12:AI12) -> 0 | D12: =COUNTIF($E12:$AI12,D$9) -> 0
A13: =IF(heure!D10="","",heure!D10) -> 57 logements PALAVEZY | B13: =IF(heure!C10="","",heure!C10) -> 673 | C13: =SUM(E13:AI13) -> 0 | D13: =COUNTIF($E13:$AI13,D$9) -> 0
A14: =IF(heure!D11="","",heure!D11) -> 25 log les 3 fées cebazat | B14: =IF(heure!C11="","",heure!C11) -> 702 | C14: =SUM(E14:AI14) -> 0 | D14: =COUNTIF($E14:$AI14,D$9) -> 0
A15: =IF(heure!D12="","",heure!D12) -> Pôle enfance jeunesse Plauzat | B15: =IF(heure!C12="","",heure!C12) -> 713 | C15: =SUM(E15:AI15) -> 0 | D15: =COUNTIF($E15:$AI15,D$9) -> 0
A16: =IF(heure!D13="","",heure!D13) -> Résidence du musée | B16: =IF(heure!C13="","",heure!C13) -> 722 | C16: =SUM(E16:AI16) -> 0 | D16: =COUNTIF($E16:$AI16,D$9) -> 0
A17: =IF(heure!D14="","",heure!D14) -> Mairie de Beauregard Vendon | B17: =IF(heure!C14="","",heure!C14) -> 727 | C17: =SUM(E17:AI17) -> 0 | D17: =COUNTIF($E17:$AI17,D$9) -> 0
A18: =IF(heure!D15="","",heure!D15) -> maison Usai-Baliukonyte | B18: =IF(heure!C15="","",heure!C15) -> 731 | C18: =SUM(E18:AI18) -> 0 | D18: =COUNTIF($E18:$AI18,D$9) -> 0
A19: =IF(heure!D16="","",heure!D16) -> 19 lgts rue Chabrier à Aubière | B19: =IF(heure!C16="","",heure!C16) -> 741 | C19: =SUM(E19:AI19) -> 0 | D19: =COUNTIF($E19:$AI19,D$9) -> 0
A20: =IF(heure!D17="","",heure!D17) -> Ilot Sauvage Brassac les Mines 2 | B20: =IF(heure!C17="","",heure!C17) -> 745 | C20: =SUM(E20:AI20) -> 0 | D20: =COUNTIF($E20:$AI20,D$9) -> 0
A21: =IF(heure!D18="","",heure!D18) -> Atelier Issoire Aviation | B21: =IF(heure!C18="","",heure!C18) -> 762 | C21: =SUM(E21:AI21) -> 0 | D21: =COUNTIF($E21:$AI21,D$9) -> 0
... A148: =IF(heure!D145="","",heure!D145) | B148: =IF(heure!C145="","",heure!C145) | C148: =SUM(E148:AI148) -> 0 | D148: =COUNTIF($E148:$AI148,D$9) -> 0
C149: =SUM(E149:AI149) -> 0 | D149: =COUNTIF($E149:$AI149,D$9) -> 0
B150: divers | C150: =SUM(E150:AI150) -> 2 | F150: 2
B151: h. | C151: =SUM(E151:AI151) -> 2 | E151: =SUM(E11:E150) -> 0 | F151: =SUM(F11:F150) -> 2 | G151: =SUM(G11:G150) -> 0 | H151: =SUM(H11:H150) -> 0 | I151: =SUM(I11:I150) -> 0 | J151: =SUM(J11:J150) -> 0 | K151: =SUM(K11:K150) -> 0 | L151: =SUM(L11:L150) -> 0 | ... AI151: =SUM(AI11:AI150) -> 0
B152: C | D152: =SUM(E152:AI152) -> 0 | E152: =COUNTIF(E$10:E$149,$B152) -> 0 | F152: =COUNTIF(F$10:F$149,$B152) -> 0 | G152: =COUNTIF(G$10:G$149,$B152) -> 0 | H152: =COUNTIF(H$10:H$149,$B152) -> 0 | I152: =COUNTIF(I$10:I$149,$B152) -> 0 | J152: =COUNTIF(J$10:J$149,$B152) -> 0 | K152: =COUNTIF(K$10:K$149,$B152) -> 0 | L152: =COUNTIF(L$10:L$149,$B152) -> 0 | ... AI152: =COUNTIF(AI$10:AI$149,$B152) -> 0

Sheet Sep
A1: =DATE(A3,A2,1) -> 42979
A2: 9
A3: =Synthèse!A2 -> 2017
E5: 35 | L5: 36 | S5: 37 | Z5: 38 | AG5: 39
D6: Férié ?
E7: 1 | F7: 2 | G7: 3 | H7: 4 | I7: 5 | J7: 6 | K7: 7 | L7: 8 | M7: 9 | N7: 10 | O7: 11 | P7: 12 | Q7: 13 | R7: 14 | S7: 15 | T7: 16 | U7: 17 | V7: 18 | W7: 19 | X7: 20 | Y7: 21 | Z7: 22 | AA7: 23 | AB7: 24 | AC7: 25 | AD7: 26 | AE7: 27 | AF7: 28 | AG7: 29 | AH7: 30 | AI7: 31
D8: Férié | E8: =OR(WEEKDAY(E9,2)=6,WEEKDAY(E9,2)=7,E6="x") -> FALSE | F8: =OR(WEEKDAY(F9,2)=6,WEEKDAY(F9,2)=7,F6="x") -> TRUE | G8: =OR(WEEKDAY(G9,2)=6,WEEKDAY(G9,2)=7,G6="x") -> TRUE | H8: =OR(WEEKDAY(H9,2)=6,WEEKDAY(H9,2)=7,H6="x") -> FALSE | I8: =OR(WEEKDAY(I9,2)=6,WEEKDAY(I9,2)=7,I6="x") -> FALSE | J8: =OR(WEEKDAY(J9,2)=6,WEEKDAY(J9,2)=7,J6="x") -> FALSE | K8: =OR(WEEKDAY(K9,2)=6,WEEKDAY(K9,2)=7,K6="x") -> FALSE | L8: =OR(WEEKDAY(L9,2)=6,WEEKDAY(L9,2)=7,L6="x") -> FALSE | ... AI8: =OR(WEEKDAY(AI9,2)=6,WEEKDAY(AI9,2)=7,AI6="x") -> TRUE
A9: Nom | B9: Equipe | C9: h. | D9: C | E9: =DATE($A$3,$A$2,E7) -> 42979 | F9: =DATE($A$3,$A$2,F7) -> 42980 | G9: =DATE($A$3,$A$2,G7) -> 42981 | H9: =DATE($A$3,$A$2,H7) -> 42982 | I9: =DATE($A$3,$A$2,I7) -> 42983 | J9: =DATE($A$3,$A$2,J7) -> 42984 | K9: =DATE($A$3,$A$2,K7) -> 42985 | L9: =DATE($A$3,$A$2,L7) -> 42986 | ... AI9: =DATE($A$3,$A$2,AI7) -> 43009
A10: =IF(heure!D7="","",heure!D7) -> Suivi GRS | B10: =IF(heure!C7="","",heure!C7) -> 420 | C10: =SUM(E10:AI10) -> 0 | D10: =COUNTIF($E10:$AI10,D$9) -> 0
A11: =IF(heure!D8="","",heure!D8) -> 28 lgts av, J, Jaurès à Romagnat | B11: =IF(heure!C8="","",heure!C8) -> 568 | C11: =SUM(E11:AI11) -> 0 | D11: =COUNTIF($E11:$AI11,D$9) -> 0
A12: =IF(heure!D9="","",heure!D9) -> GS Jules Ferry la roche blanche | B12: =IF(heure!C9="","",heure!C9) -> 621 | C12: =SUM(E12:AI12) -> 0 | D12: =COUNTIF($E12:$AI12,D$9) -> 0
A13: =IF(heure!D10="","",heure!D10) -> 57 logements PALAVEZY | B13: =IF(heure!C10="","",heure!C10) -> 673 | C13: =SUM(E13:AI13) -> 0 | D13: =COUNTIF($E13:$AI13,D$9) -> 0
A14: =IF(heure!D11="","",heure!D11) -> 25 log les 3 fées cebazat | B14: =IF(heure!C11="","",heure!C11) -> 702 | C14: =SUM(E14:AI14) -> 0 | D14: =COUNTIF($E14:$AI14,D$9) -> 0
A15: =IF(heure!D12="","",heure!D12) -> Pôle enfance jeunesse Plauzat | B15: =IF(heure!C12="","",heure!C12) -> 713 | C15: =SUM(E15:AI15) -> 0 | D15: =COUNTIF($E15:$AI15,D$9) -> 0
A16: =IF(heure!D13="","",heure!D13) -> Résidence du musée | B16: =IF(heure!C13="","",heure!C13) -> 722 | C16: =SUM(E16:AI16) -> 0 | D16: =COUNTIF($E16:$AI16,D$9) -> 0
A17: =IF(heure!D14="","",heure!D14) -> Mairie de Beauregard Vendon | B17: =IF(heure!C14="","",heure!C14) -> 727 | C17: =SUM(E17:AI17) -> 0 | D17: =COUNTIF($E17:$AI17,D$9) -> 0
A18: =IF(heure!D15="","",heure!D15) -> maison Usai-Baliukonyte | B18: =IF(heure!C15="","",heure!C15) -> 731 | C18: =SUM(E18:AI18) -> 0 | D18: =COUNTIF($E18:$AI18,D$9) -> 0
A19: =IF(heure!D16="","",heure!D16) -> 19 lgts rue Chabrier à Aubière | B19: =IF(heure!C16="","",heure!C16) -> 741 | C19: =SUM(E19:AI19) -> 0 | D19: =COUNTIF($E19:$AI19,D$9) -> 0
A20: =IF(heure!D17="","",heure!D17) -> Ilot Sauvage Brassac les Mines 2 | B20: =IF(heure!C17="","",heure!C17) -> 745 | C20: =SUM(E20:AI20) -> 0 | D20: =COUNTIF($E20:$AI20,D$9) -> 0
A21: =IF(heure!D18="","",heure!D18) -> Atelier Issoire Aviation | B21: =IF(heure!C18="","",heure!C18) -> 762 | C21: =SUM(E21:AI21) -> 0 | D21: =COUNTIF($E21:$AI21,D$9) -> 0
... A148: =IF(heure!D145="","",heure!D145) | B148: =IF(heure!C145="","",heure!C145) | C148: =SUM(E148:AI148) -> 0 | D148: =COUNTIF($E148:$AI148,D$9) -> 0
C149: =SUM(E149:AI149) -> 0 | D149: =COUNTIF($E149:$AI149,D$9) -> 0
B150: divers | C150: =SUM(E150:AI150) -> 2 | F150: 2
B151: h. | C151: =SUM(E151:AI151) -> 2 | E151: =SUM(E11:E150) -> 0 | F151: =SUM(F11:F150) -> 2 | G151: =SUM(G11:G150) -> 0 | H151: =SUM(H11:H150) -> 0 | I151: =SUM(I11:I150) -> 0 | J151: =SUM(J11:J150) -> 0 | K151: =SUM(K11:K150) -> 0 | L151: =SUM(L11:L150) -> 0 | ... AI151: =SUM(AI11:AI150) -> 0
B152: C | D152: =SUM(E152:AI152) -> 0 | E152: =COUNTIF(E$10:E$149,$B152) -> 0 | F152: =COUNTIF(F$10:F$149,$B152) -> 0 | G152: =COUNTIF(G$10:G$149,$B152) -> 0 | H152: =COUNTIF(H$10:H$149,$B152) -> 0 | I152: =COUNTIF(I$10:I$149,$B152) -> 0 | J152: =COUNTIF(J$10:J$149,$B152) -> 0 | K152: =COUNTIF(K$10:K$149,$B152) -> 0 | L152: =COUNTIF(L$10:L$149,$B152) -> 0 | ... AI152: =COUNTIF(AI$10:AI$149,$B152) -> 0

Sheet Oct
A1: =DATE(A3,A2,1) -> 43009
A2: 10
A3: =Synthèse!A2 -> 2017
E5: 40 | L5: 41 | S5: 42 | Z5: 43 | AG5: 44
D6: Férié ?
E7: 1 | F7: 2 | G7: 3 | H7: 4 | I7: 5 | J7: 6 | K7: 7 | L7: 8 | M7: 9 | N7: 10 | O7: 11 | P7: 12 | Q7: 13 | R7: 14 | S7: 15 | T7: 16 | U7: 17 | V7: 18 | W7: 19 | X7: 20 | Y7: 21 | Z7: 22 | AA7: 23 | AB7: 24 | AC7: 25 | AD7: 26 | AE7: 27 | AF7: 28 | AG7: 29 | AH7: 30 | AI7: 31
D8: Férié | E8: =OR(WEEKDAY(E9,2)=6,WEEKDAY(E9,2)=7,E6="x") -> TRUE | F8: =OR(WEEKDAY(F9,2)=6,WEEKDAY(F9,2)=7,F6="x") -> FALSE | G8: =OR(WEEKDAY(G9,2)=6,WEEKDAY(G9,2)=7,G6="x") -> FALSE | H8: =OR(WEEKDAY(H9,2)=6,WEEKDAY(H9,2)=7,H6="x") -> FALSE | I8: =OR(WEEKDAY(I9,2)=6,WEEKDAY(I9,2)=7,I6="x") -> FALSE | J8: =OR(WEEKDAY(J9,2)=6,WEEKDAY(J9,2)=7,J6="x") -> FALSE | K8: =OR(WEEKDAY(K9,2)=6,WEEKDAY(K9,2)=7,K6="x") -> TRUE | L8: =OR(WEEKDAY(L9,2)=6,WEEKDAY(L9,2)=7,L6="x") -> TRUE | ... AI8: =OR(WEEKDAY(AI9,2)=6,WEEKDAY(AI9,2)=7,AI6="x") -> FALSE
A9: Nom | B9: Equipe | C9: h. | D9: C | E9: =DATE($A$3,$A$2,E7) -> 43009 | F9: =DATE($A$3,$A$2,F7) -> 43010 | G9: =DATE($A$3,$A$2,G7) -> 43011 | H9: =DATE($A$3,$A$2,H7) -> 43012 | I9: =DATE($A$3,$A$2,I7) -> 43013 | J9: =DATE($A$3,$A$2,J7) -> 43014 | K9: =DATE($A$3,$A$2,K7) -> 43015 | L9: =DATE($A$3,$A$2,L7) -> 43016 | ... AI9: =DATE($A$3,$A$2,AI7) -> 43039
A10: =IF(heure!D7="","",heure!D7) -> Suivi GRS | B10: =IF(heure!C7="","",heure!C7) -> 420 | C10: =SUM(E10:AI10) -> 0 | D10: =COUNTIF($E10:$AI10,D$9) -> 0
A11: =IF(heure!D8="","",heure!D8) -> 28 lgts av, J, Jaurès à Romagnat | B11: =IF(heure!C8="","",heure!C8) -> 568 | C11: =SUM(E11:AI11) -> 0 | D11: =COUNTIF($E11:$AI11,D$9) -> 0
A12: =IF(heure!D9="","",heure!D9) -> GS Jules Ferry la roche blanche | B12: =IF(heure!C9="","",heure!C9) -> 621 | C12: =SUM(E12:AI12) -> 0 | D12: =COUNTIF($E12:$AI12,D$9) -> 0
A13: =IF(heure!D10="","",heure!D10) -> 57 logements PALAVEZY | B13: =IF(heure!C10="","",heure!C10) -> 673 | C13: =SUM(E13:AI13) -> 0 | D13: =COUNTIF($E13:$AI13,D$9) -> 0
A14: =IF(heure!D11="","",heure!D11) -> 25 log les 3 fées cebazat | B14: =IF(heure!C11="","",heure!C11) -> 702 | C14: =SUM(E14:AI14) -> 0 | D14: =COUNTIF($E14:$AI14,D$9) -> 0
A15: =IF(heure!D12="","",heure!D12) -> Pôle enfance jeunesse Plauzat | B15: =IF(heure!C12="","",heure!C12) -> 713 | C15: =SUM(E15:AI15) -> 0 | D15: =COUNTIF($E15:$AI15,D$9) -> 0
A16: =IF(heure!D13="","",heure!D13) -> Résidence du musée | B16: =IF(heure!C13="","",heure!C13) -> 722 | C16: =SUM(E16:AI16) -> 0 | D16: =COUNTIF($E16:$AI16,D$9) -> 0
A17: =IF(heure!D14="","",heure!D14) -> Mairie de Beauregard Vendon | B17: =IF(heure!C14="","",heure!C14) -> 727 | C17: =SUM(E17:AI17) -> 0 | D17: =COUNTIF($E17:$AI17,D$9) -> 0
A18: =IF(heure!D15="","",heure!D15) -> maison Usai-Baliukonyte | B18: =IF(heure!C15="","",heure!C15) -> 731 | C18: =SUM(E18:AI18) -> 0 | D18: =COUNTIF($E18:$AI18,D$9) -> 0
A19: =IF(heure!D16="","",heure!D16) -> 19 lgts rue Chabrier à Aubière | B19: =IF(heure!C16="","",heure!C16) -> 741 | C19: =SUM(E19:AI19) -> 0 | D19: =COUNTIF($E19:$AI19,D$9) -> 0
A20: =IF(heure!D17="","",heure!D17) -> Ilot Sauvage Brassac les Mines 2 | B20: =IF(heure!C17="","",heure!C17) -> 745 | C20: =SUM(E20:AI20) -> 0 | D20: =COUNTIF($E20:$AI20,D$9) -> 0
A21: =IF(heure!D18="","",heure!D18) -> Atelier Issoire Aviation | B21: =IF(heure!C18="","",heure!C18) -> 762 | C21: =SUM(E21:AI21) -> 0 | D21: =COUNTIF($E21:$AI21,D$9) -> 0
... A148: =IF(heure!D145="","",heure!D145) | B148: =IF(heure!C145="","",heure!C145) | C148: =SUM(E148:AI148) -> 0 | D148: =COUNTIF($E148:$AI148,D$9) -> 0
C149: =SUM(E149:AI149) -> 0 | D149: =COUNTIF($E149:$AI149,D$9) -> 0
B150: divers | C150: =SUM(E150:AI150) -> 2 | F150: 2
B151: h. | C151: =SUM(E151:AI151) -> 2 | E151: =SUM(E11:E150) -> 0 | F151: =SUM(F11:F150) -> 2 | G151: =SUM(G11:G150) -> 0 | H151: =SUM(H11:H150) -> 0 | I151: =SUM(I11:I150) -> 0 | J151: =SUM(J11:J150) -> 0 | K151: =SUM(K11:K150) -> 0 | L151: =SUM(L11:L150) -> 0 | ... AI151: =SUM(AI11:AI150) -> 0
B152: C | D152: =SUM(E152:AI152) -> 0 | E152: =COUNTIF(E$10:E$149,$B152) -> 0 | F152: =COUNTIF(F$10:F$149,$B152) -> 0 | G152: =COUNTIF(G$10:G$149,$B152) -> 0 | H152: =COUNTIF(H$10:H$149,$B152) -> 0 | I152: =COUNTIF(I$10:I$149,$B152) -> 0 | J152: =COUNTIF(J$10:J$149,$B152) -> 0 | K152: =COUNTIF(K$10:K$149,$B152) -> 0 | L152: =COUNTIF(L$10:L$149,$B152) -> 0 | ... AI152: =COUNTIF(AI$10:AI$149,$B152) -> 0

Sheet Nov
A1: =DATE(A3,A2,1) -> 43040
A2: 11
A3: =Synthèse!A2 -> 2017
E5: 44 | L5: 45 | S5: 46 | Z5: 47 | AG5: 48
D6: Férié ?
E7: 1 | F7: 2 | G7: 3 | H7: 4 | I7: 5 | J7: 6 | K7: 7 | L7: 8 | M7: 9 | N7: 10 | O7: 11 | P7: 12 | Q7: 13 | R7: 14 | S7: 15 | T7: 16 | U7: 17 | V7: 18 | W7: 19 | X7: 20 | Y7: 21 | Z7: 22 | AA7: 23 | AB7: 24 | AC7: 25 | AD7: 26 | AE7: 27 | AF7: 28 | AG7: 29 | AH7: 30 | AI7: 31
D8: Férié | E8: =OR(WEEKDAY(E9,2)=6,WEEKDAY(E9,2)=7,E6="x") -> FALSE | F8: =OR(WEEKDAY(F9,2)=6,WEEKDAY(F9,2)=7,F6="x") -> FALSE | G8: =OR(WEEKDAY(G9,2)=6,WEEKDAY(G9,2)=7,G6="x") -> FALSE | H8: =OR(WEEKDAY(H9,2)=6,WEEKDAY(H9,2)=7,H6="x") -> TRUE | I8: =OR(WEEKDAY(I9,2)=6,WEEKDAY(I9,2)=7,I6="x") -> TRUE | J8: =OR(WEEKDAY(J9,2)=6,WEEKDAY(J9,2)=7,J6="x") -> FALSE | K8: =OR(WEEKDAY(K9,2)=6,WEEKDAY(K9,2)=7,K6="x") -> FALSE | L8: =OR(WEEKDAY(L9,2)=6,WEEKDAY(L9,2)=7,L6="x") -> FALSE | ... AI8: =OR(WEEKDAY(AI9,2)=6,WEEKDAY(AI9,2)=7,AI6="x") -> FALSE
A9: Nom | B9: Equipe | C9: h. | D9: C | E9: =DATE($A$3,$A$2,E7) -> 43040 | F9: =DATE($A$3,$A$2,F7) -> 43041 | G9: =DATE($A$3,$A$2,G7) -> 43042 | H9: =DATE($A$3,$A$2,H7) -> 43043 | I9: =DATE($A$3,$A$2,I7) -> 43044 | J9: =DATE($A$3,$A$2,J7) -> 43045 | K9: =DATE($A$3,$A$2,K7) -> 43046 | L9: =DATE($A$3,$A$2,L7) -> 43047 | ... AI9: =DATE($A$3,$A$2,AI7) -> 43070
A10: =IF(heure!D7="","",heure!D7) -> Suivi GRS | B10: =IF(heure!C7="","",heure!C7) -> 420 | C10: =SUM(E10:AI10) -> 0 | D10: =COUNTIF($E10:$AI10,D$9) -> 0
A11: =IF(heure!D8="","",heure!D8) -> 28 lgts av, J, Jaurès à Romagnat | B11: =IF(heure!C8="","",heure!C8) -> 568 | C11: =SUM(E11:AI11) -> 0 | D11: =COUNTIF($E11:$AI11,D$9) -> 0
A12: =IF(heure!D9="","",heure!D9) -> GS Jules Ferry la roche blanche | B12: =IF(heure!C9="","",heure!C9) -> 621 | C12: =SUM(E12:AI12) -> 0 | D12: =COUNTIF($E12:$AI12,D$9) -> 0
A13: =IF(heure!D10="","",heure!D10) -> 57 logements PALAVEZY | B13: =IF(heure!C10="","",heure!C10) -> 673 | C13: =SUM(E13:AI13) -> 0 | D13: =COUNTIF($E13:$AI13,D$9) -> 0
A14: =IF(heure!D11="","",heure!D11) -> 25 log les 3 fées cebazat | B14: =IF(heure!C11="","",heure!C11) -> 702 | C14: =SUM(E14:AI14) -> 0 | D14: =COUNTIF($E14:$AI14,D$9) -> 0
A15: =IF(heure!D12="","",heure!D12) -> Pôle enfance jeunesse Plauzat | B15: =IF(heure!C12="","",heure!C12) -> 713 | C15: =SUM(E15:AI15) -> 0 | D15: =COUNTIF($E15:$AI15,D$9) -> 0
A16: =IF(heure!D13="","",heure!D13) -> Résidence du musée | B16: =IF(heure!C13="","",heure!C13) -> 722 | C16: =SUM(E16:AI16) -> 0 | D16: =COUNTIF($E16:$AI16,D$9) -> 0
A17: =IF(heure!D14="","",heure!D14) -> Mairie de Beauregard Vendon | B17: =IF(heure!C14="","",heure!C14) -> 727 | C17: =SUM(E17:AI17) -> 0 | D17: =COUNTIF($E17:$AI17,D$9) -> 0
A18: =IF(heure!D15="","",heure!D15) -> maison Usai-Baliukonyte | B18: =IF(heure!C15="","",heure!C15) -> 731 | C18: =SUM(E18:AI18) -> 0 | D18: =COUNTIF($E18:$AI18,D$9) -> 0
A19: =IF(heure!D16="","",heure!D16) -> 19 lgts rue Chabrier à Aubière | B19: =IF(heure!C16="","",heure!C16) -> 741 | C19: =SUM(E19:AI19) -> 0 | D19: =COUNTIF($E19:$AI19,D$9) -> 0
A20: =IF(heure!D17="","",heure!D17) -> Ilot Sauvage Brassac les Mines 2 | B20: =IF(heure!C17="","",heure!C17) -> 745 | C20: =SUM(E20:AI20) -> 0 | D20: =COUNTIF($E20:$AI20,D$9) -> 0
A21: =IF(heure!D18="","",heure!D18) -> Atelier Issoire Aviation | B21: =IF(heure!C18="","",heure!C18) -> 762 | C21: =SUM(E21:AI21) -> 0 | D21: =COUNTIF($E21:$AI21,D$9) -> 0
... A148: =IF(heure!D145="","",heure!D145) | B148: =IF(heure!C145="","",heure!C145) | C148: =SUM(E148:AI148) -> 0 | D148: =COUNTIF($E148:$AI148,D$9) -> 0
C149: =SUM(E149:AI149) -> 0 | D149: =COUNTIF($E149:$AI149,D$9) -> 0
B150: divers | C150: =SUM(E150:AI150) -> 2 | F150: 2
B151: h. | C151: =SUM(E151:AI151) -> 2 | E151: =SUM(E11:E150) -> 0 | F151: =SUM(F11:F150) -> 2 | G151: =SUM(G11:G150) -> 0 | H151: =SUM(H11:H150) -> 0 | I151: =SUM(I11:I150) -> 0 | J151: =SUM(J11:J150) -> 0 | K151: =SUM(K11:K150) -> 0 | L151: =SUM(L11:L150) -> 0 | ... AI151: =SUM(AI11:AI150) -> 0
B152: C | D152: =SUM(E152:AI152) -> 0 | E152: =COUNTIF(E$10:E$149,$B152) -> 0 | F152: =COUNTIF(F$10:F$149,$B152) -> 0 | G152: =COUNTIF(G$10:G$149,$B152) -> 0 | H152: =COUNTIF(H$10:H$149,$B152) -> 0 | I152: =COUNTIF(I$10:I$149,$B152) -> 0 | J152: =COUNTIF(J$10:J$149,$B152) -> 0 | K152: =COUNTIF(K$10:K$149,$B152) -> 0 | L152: =COUNTIF(L$10:L$149,$B152) -> 0 | ... AI152: =COUNTIF(AI$10:AI$149,$B152) -> 0

Sheet Déc
A1: =DATE(A3,A2,1) -> 43070
A2: 12
A3: =Synthèse!A2 -> 2017
E5: 48 | L5: 49 | S5: 50 | Z5: 51 | AG5: 52
D6: Férié ?
E7: 1 | F7: 2 | G7: 3 | H7: 4 | I7: 5 | J7: 6 | K7: 7 | L7: 8 | M7: 9 | N7: 10 | O7: 11 | P7: 12 | Q7: 13 | R7: 14 | S7: 15 | T7: 16 | U7: 17 | V7: 18 | W7: 19 | X7: 20 | Y7: 21 | Z7: 22 | AA7: 23 | AB7: 24 | AC7: 25 | AD7: 26 | AE7: 27 | AF7: 28 | AG7: 29 | AH7: 30 | AI7: 31
D8: Férié | E8: =OR(WEEKDAY(E9,2)=6,WEEKDAY(E9,2)=7,E6="x") -> FALSE | F8: =OR(WEEKDAY(F9,2)=6,WEEKDAY(F9,2)=7,F6="x") -> TRUE | G8: =OR(WEEKDAY(G9,2)=6,WEEKDAY(G9,2)=7,G6="x") -> TRUE | H8: =OR(WEEKDAY(H9,2)=6,WEEKDAY(H9,2)=7,H6="x") -> FALSE | I8: =OR(WEEKDAY(I9,2)=6,WEEKDAY(I9,2)=7,I6="x") -> FALSE | J8: =OR(WEEKDAY(J9,2)=6,WEEKDAY(J9,2)=7,J6="x") -> FALSE | K8: =OR(WEEKDAY(K9,2)=6,WEEKDAY(K9,2)=7,K6="x") -> FALSE | L8: =OR(WEEKDAY(L9,2)=6,WEEKDAY(L9,2)=7,L6="x") -> FALSE | ... AI8: =OR(WEEKDAY(AI9,2)=6,WEEKDAY(AI9,2)=7,AI6="x") -> TRUE
A9: Nom | B9: Equipe | C9: h. | D9: C | E9: =DATE($A$3,$A$2,E7) -> 43070 | F9: =DATE($A$3,$A$2,F7) -> 43071 | G9: =DATE($A$3,$A$2,G7) -> 43072 | H9: =DATE($A$3,$A$2,H7) -> 43073 | I9: =DATE($A$3,$A$2,I7) -> 43074 | J9: =DATE($A$3,$A$2,J7) -> 43075 | K9: =DATE($A$3,$A$2,K7) -> 43076 | L9: =DATE($A$3,$A$2,L7) -> 43077 | ... AI9: =DATE($A$3,$A$2,AI7) -> 43100
A10: =IF(heure!D7="","",heure!D7) -> Suivi GRS | B10: =IF(heure!C7="","",heure!C7) -> 420 | C10: =SUM(E10:AI10) -> 0 | D10: =COUNTIF($E10:$AI10,D$9) -> 0
A11: =IF(heure!D8="","",heure!D8) -> 28 lgts av, J, Jaurès à Romagnat | B11: =IF(heure!C8="","",heure!C8) -> 568 | C11: =SUM(E11:AI11) -> 0 | D11: =COUNTIF($E11:$AI11,D$9) -> 0
A12: =IF(heure!D9="","",heure!D9) -> GS Jules Ferry la roche blanche | B12: =IF(heure!C9="","",heure!C9) -> 621 | C12: =SUM(E12:AI12) -> 0 | D12: =COUNTIF($E12:$AI12,D$9) -> 0
A13: =IF(heure!D10="","",heure!D10) -> 57 logements PALAVEZY | B13: =IF(heure!C10="","",heure!C10) -> 673 | C13: =SUM(E13:AI13) -> 0 | D13: =COUNTIF($E13:$AI13,D$9) -> 0
A14: =IF(heure!D11="","",heure!D11) -> 25 log les 3 fées cebazat | B14: =IF(heure!C11="","",heure!C11) -> 702 | C14: =SUM(E14:AI14) -> 0 | D14: =COUNTIF($E14:$AI14,D$9) -> 0
A15: =IF(heure!D12="","",heure!D12) -> Pôle enfance jeunesse Plauzat | B15: =IF(heure!C12="","",heure!C12) -> 713 | C15: =SUM(E15:AI15) -> 0 | D15: =COUNTIF($E15:$AI15,D$9) -> 0
A16: =IF(heure!D13="","",heure!D13) -> Résidence du musée | B16: =IF(heure!C13="","",heure!C13) -> 722 | C16: =SUM(E16:AI16) -> 0 | D16: =COUNTIF($E16:$AI16,D$9) -> 0
A17: =IF(heure!D14="","",heure!D14) -> Mairie de Beauregard Vendon | B17: =IF(heure!C14="","",heure!C14) -> 727 | C17: =SUM(E17:AI17) -> 0 | D17: =COUNTIF($E17:$AI17,D$9) -> 0
A18: =IF(heure!D15="","",heure!D15) -> maison Usai-Baliukonyte | B18: =IF(heure!C15="","",heure!C15) -> 731 | C18: =SUM(E18:AI18) -> 0 | D18: =COUNTIF($E18:$AI18,D$9) -> 0
A19: =IF(heure!D16="","",heure!D16) -> 19 lgts rue Chabrier à Aubière | B19: =IF(heure!C16="","",heure!C16) -> 741 | C19: =SUM(E19:AI19) -> 0 | D19: =COUNTIF($E19:$AI19,D$9) -> 0
A20: =IF(heure!D17="","",heure!D17) -> Ilot Sauvage Brassac les Mines 2 | B20: =IF(heure!C17="","",heure!C17) -> 745 | C20: =SUM(E20:AI20) -> 0 | D20: =COUNTIF($E20:$AI20,D$9) -> 0
A21: =IF(heure!D18="","",heure!D18) -> Atelier Issoire Aviation | B21: =IF(heure!C18="","",heure!C18) -> 762 | C21: =SUM(E21:AI21) -> 0 | D21: =COUNTIF($E21:$AI21,D$9) -> 0
... A148: =IF(heure!D145="","",heure!D145) | B148: =IF(heure!C145="","",heure!C145) | C148: =SUM(E148:AI148) -> 0 | D148: =COUNTIF($E148:$AI148,D$9) -> 0
C149: =SUM(E149:AI149) -> 0 | D149: =COUNTIF($E149:$AI149,D$9) -> 0
B150: divers | C150: =SUM(E150:AI150) -> 2 | F150: 2
B151: h. | C151: =SUM(E151:AI151) -> 2 | E151: =SUM(E11:E150) -> 0 | F151: =SUM(F11:F150) -> 2 | G151: =SUM(G11:G150) -> 0 | H151: =SUM(H11:H150) -> 0 | I151: =SUM(I11:I150) -> 0 | J151: =SUM(J11:J150) -> 0 | K151: =SUM(K11:K150) -> 0 | L151: =SUM(L11:L150) -> 0 | ... AI151: =SUM(AI11:AI150) -> 0
B152: C | D152: =SUM(E152:AI152) -> 0 | E152: =COUNTIF(E$10:E$149,$B152) -> 0 | F152: =COUNTIF(F$10:F$149,$B152) -> 0 | G152: =COUNTIF(G$10:G$149,$B152) -> 0 | H152: =COUNTIF(H$10:H$149,$B152) -> 0 | I152: =COUNTIF(I$10:I$149,$B152) -> 0 | J152: =COUNTIF(J$10:J$149,$B152) -> 0 | K152: =COUNTIF(K$10:K$149,$B152) -> 0 | L152: =COUNTIF(L$10:L$149,$B152) -> 0 | ... AI152: =COUNTIF(AI$10:AI$149,$B152) -> 0
