Workbook
Name AnnéeCalendrier: Janvier!$AH$2
Name CalendrierAnnée: Août!$AH$2
Name CalendrierAnnée: Avril!$AH$2
Name CalendrierAnnée: Décembre!$AH$2
Name CalendrierAnnée: Février!$AH$2
Name CalendrierAnnée: Juillet!$AH$2
Name CalendrierAnnée: Juin!$AH$2
Name CalendrierAnnée: Mai!$AH$2
Name CalendrierAnnée: Mars!$AH$2
Name CalendrierAnnée: Novembre!$AH$2
Name CalendrierAnnée: Octobre!$AH$2
Name CalendrierAnnée: Septembre!$AH$2
Name CalendrierAnnée: #REF!
Name CléCongés: Août!$H$127
Name CléCongés: Avril!$H$127
Name CléCongés: Décembre!$H$127
Name CléCongés: Février!$H$127
Name CléCongés: Juillet!$H$127
Name CléCongés: Juin!$H$127
Name CléCongés: Mai!$H$127
Name CléCongés: Mars!$H$127
Name CléCongés: Novembre!$H$127
Name CléCongés: Octobre!$H$127
Name CléCongés: Septembre!$H$127
Name CléCongés: #REF!
Name CléMaladie: Août!$P$127
Name CléMaladie: Avril!$P$127
Name CléMaladie: Décembre!$P$127
Name CléMaladie: Février!$P$127
Name CléMaladie: Juillet!$P$127
Name CléMaladie: Juin!$P$127
Name CléMaladie: Mai!$P$127
Name CléMaladie: Mars!$P$127
Name CléMaladie: Novembre!$P$127
Name CléMaladie: Octobre!$P$127
Name CléMaladie: Septembre!$P$127
Name CléMaladie: #REF!
Name CléPersonnalisée1: Août!$T$127
Name CléPersonnalisée1: Avril!$T$127
Name CléPersonnalisée1: Décembre!$T$127
Name CléPersonnalisée1: Février!$T$127
Name CléPersonnalisée1: Juillet!$T$127
Name CléPersonnalisée1: Juin!$T$127
Name CléPersonnalisée1: Mai!$T$127
Name CléPersonnalisée1: Mars!$T$127
Name CléPersonnalisée1: Novembre!$T$127
Name CléPersonnalisée1: Octobre!$T$127
Name CléPersonnalisée1: Septembre!$T$127
Name CléPersonnalisée1: #REF!
Name CléPersonnalisée2: Août!$Y$127
Name CléPersonnalisée2: Avril!$Y$127
Name CléPersonnalisée2: Décembre!$Y$127
Name CléPersonnalisée2: Février!$Y$127
Name CléPersonnalisée2: Juillet!$Y$127
Name CléPersonnalisée2: Juin!$Y$127
Name CléPersonnalisée2: Mai!$Y$127
Name CléPersonnalisée2: Mars!$Y$127
Name CléPersonnalisée2: Novembre!$Y$127
Name CléPersonnalisée2: Octobre!$Y$127
Name CléPersonnalisée2: Septembre!$Y$127

Sheet Juin
A1: Planification des absences des employés
A2: 42916 | C2: Dates d’absence | AH2: 2017 | AI2: Nombre de jours pris | AM2: Nombre de Jours acquis | AQ2: Solde
A3: 42887 | C3: =TEXT(WEEKDAY(DATE(CalendrierAnnée,6,1),1),"jjj") -> jeu | D3: =TEXT(WEEKDAY(DATE(CalendrierAnnée,6,2),1),"jjj") -> ven | E3: =TEXT(WEEKDAY(DATE(CalendrierAnnée,6,3),1),"jjj") -> sam | F3: =TEXT(WEEKDAY(DATE(CalendrierAnnée,6,4),1),"jjj") -> dim | G3: =TEXT(WEEKDAY(DATE(CalendrierAnnée,6,5),1),"jjj") -> lun | H3: =TEXT(WEEKDAY(DATE(CalendrierAnnée,6,6),1),"jjj") -> mar | I3: =TEXT(WEEKDAY(DATE(CalendrierAnnée,6,7),1),"jjj") -> mer | J3: =TEXT(WEEKDAY(DATE(CalendrierAnnée,6,8),1),"jjj") -> jeu | K3: =TEXT(WEEKDAY(DATE(CalendrierAnnée,6,9),1),"jjj") -> ven | L3: =TEXT(WEEKDAY(DATE(CalendrierAnnée,6,10),1),"jjj") -> sam | M3: =TEXT(WEEKDAY(DATE(CalendrierAnnée,6,11),1),"jjj") -> dim | N3: =TEXT(WEEKDAY(DATE(CalendrierAnnée,6,12),1),"jjj") -> lun | O3: =TEXT(WEEKDAY(DATE(CalendrierAnnée,6,13),1),"jjj") -> mar | P3: =TEXT(WEEKDAY(DATE(CalendrierAnnée,6,14),1),"jjj") -> mer | Q3: =TEXT(WEEKDAY(DATE(CalendrierAnnée,6,15),1),"jjj") -> jeu | R3: =TEXT(WEEKDAY(DATE(CalendrierAnnée,6,16),1),"jjj") -> ven | S3: =TEXT(WEEKDAY(DATE(CalendrierAnnée,6,17),1),"jjj") -> sam | T3: =TEXT(WEEKDAY(DATE(CalendrierAnnée,6,18),1),"jjj") -> dim | U3: =TEXT(WEEKDAY(DATE(CalendrierAnnée,6,19),1),"jjj") -> lun | V3: =TEXT(WEEKDAY(DATE(CalendrierAnnée,6,20),1),"jjj") -> mar | W3: =TEXT(WEEKDAY(DATE(CalendrierAnnée,6,21),1),"jjj") -> mer | X3: =TEXT(WEEKDAY(DATE(CalendrierAnnée,6,22),1),"jjj") -> jeu | Y3: =TEXT(WEEKDAY(DATE(CalendrierAnnée,6,23),1),"jjj") -> ven | Z3: =TEXT(WEEKDAY(DATE(CalendrierAnnée,6,24),1),"jjj") -> sam | AA3: =TEXT(WEEKDAY(DATE(CalendrierAnnée,6,25),1),"jjj") -> dim | AB3: =TEXT(WEEKDAY(DATE(CalendrierAnnée,6,26),1),"jjj") -> lun | AC3: =TEXT(WEEKDAY(DATE(CalendrierAnnée,6,27),1),"jjj") -> mar | AD3: =TEXT(WEEKDAY(DATE(CalendrierAnnée,6,28),1),"jjj") -> mer | AE3: =TEXT(WEEKDAY(DATE(CalendrierAnnée,6,29),1),"jjj") -> jeu | AF3: =TEXT(WEEKDAY(DATE(CalendrierAnnée,6,30),1),"jjj") -> ven
A4: Nom employé | C4: 1 | D4: 2 | E4: 3 | F4: 4 | G4: 5 | H4: 6 | I4: 7 | J4: 8 | K4: 9 | L4: 10 | M4: 11 | N4: 12 | O4: 13 | P4: 14 | Q4: 15 | R4: 16 | S4: 17 | T4: 18 | U4: 19 | V4: 20 | W4: 21 | X4: 22 | Y4: 23 | Z4: 24 | AA4: 25 | AB4: 26 | AC4: 27 | AD4: 28 | AE4: 29 | AF4: 30 | AH4: Nombre total de demi-journées | AI4: CP | AJ4: RTT | AK4: M | AL4: A | AM4: C P Acquis | AN4: CP en cours sur le mois | AO4: CP en cours cumulés | AP4: RTT acquis | AQ4: CP | AR4: RTT | AS4: DATE DE SORTIE et SOLDE CP
B5: Matin | AH5: =COUNTA(Juin!$C5:$AF5) -> 0 | AI5: =(COUNTIFS(Juin!$C5:$AF5,("cp")))/2 -> 0 | AJ5: =COUNTIFS(Juin!$C5:$AF5,"RTT")/2 -> 0 | AK5: =COUNTIFS(Juin!$C5:$AF5,"m")/2 -> 0 | AL5: =COUNTIFS(Juin!$C5:$AF5,"a")/2 -> 0
A6: 41722 | B6: A-M | AH6: =COUNTA(Juin!$C6:$AF6) -> 0 | AI6: =(COUNTIFS(Juin!$C6:$AF6,("cp")))/2 -> 0 | AJ6: =COUNTIFS(Juin!$C6:$AG6,"RTT")/2 -> 0 | AK6: =COUNTIFS(Juin!$C6:$AG6,"m")/2 -> 0 | AL6: =COUNTIFS(Juin!$C6:$AG6,"a")/2 -> 0
C7: =IF(C5>0,C5,IF(C6>0,C6,"")) | D7: =IF(D5>0,D5,IF(D6>0,D6,"")) | E7: =IF(E5>0,E5,IF(E6>0,E6,"")) | F7: =IF(F5>0,F5,IF(F6>0,F6,"")) | G7: =IF(G5>0,G5,IF(G6>0,G6,"")) | H7: =IF(H5>0,H5,IF(H6>0,H6,"")) | I7: =IF(I5>0,I5,IF(I6>0,I6,"")) | J7: =IF(J5>0,J5,IF(J6>0,J6,"")) | ... AG7: =IF(AG5>0,AG5,IF(AG6>0,AG6,"")) | AH7: =SUM(AH5:AH6) -> 0 | AI7: =SUM(AI5:AI6) -> 0 | AJ7: =SUM(AJ5:AJ6) -> 0 | AK7: =SUM(AK5:AK6) -> 0 | AL7: =SUM(AL5:AL6) -> 0 | AM7: 9.15 | AN7: =IF(A6="","",IF(A6>NomMois,0,IF(A6<$A$3,2.08,(NETWORKDAYS(A6,$A$2)/21.66667)*2.08))) -> 2.08 | AO7: =IF(AN7="",0,+AN7) -> 2.08 | AQ7: =+AM7-AI7 -> 9.15 | AR7: =+AP7-AJ7 -> 0 | AS7: =+AO7+AQ7 -> 11.23
B9: Matin | AH9: =COUNTA(Juin!$C9:$AF9) -> 0 | AI9: =(COUNTIFS(Juin!$C9:$AF9,("cp")))/2 -> 0 | AJ9: =COUNTIFS(Juin!$C9:$AG9,"RTT")/2 -> 0 | AK9: =COUNTIFS(Juin!$C9:$AG9,"m")/2 -> 0 | AL9: =COUNTIFS(Juin!$C9:$AG9,"a")/2 -> 0
A10: 42740 | B10: A-M | AH10: =COUNTA(Juin!$C10:$AF10) -> 0 | AI10: =(COUNTIFS(Juin!$C10:$AF10,("cp")))/2 -> 0 | AJ10: =COUNTIFS(Juin!$C10:$AG10,"RTT")/2 -> 0 | AK10: =COUNTIFS(Juin!$C10:$AG10,"m")/2 -> 0 | AL10: =COUNTIFS(Juin!$C10:$AG10,"a")/2 -> 0
C11: =IF(C9>0,C9,IF(C10>0,C10,"")) | D11: =IF(D9>0,D9,IF(D10>0,D10,"")) | E11: =IF(E9>0,E9,IF(E10>0,E10,"")) | F11: =IF(F9>0,F9,IF(F10>0,F10,"")) | G11: =IF(G9>0,G9,IF(G10>0,G10,"")) | H11: =IF(H9>0,H9,IF(H10>0,H10,"")) | I11: =IF(I9>0,I9,IF(I10>0,I10,"")) | J11: =IF(J9>0,J9,IF(J10>0,J10,"")) | ... AG11: =IF(AG9>0,AG9,IF(AG10>0,AG10,"")) | AH11: =SUM(AH9:AH10) -> 0 | AI11: =SUM(AI9:AI10) -> 0 | AJ11: =SUM(AJ9:AJ10) -> 0 | AK11: =SUM(AK9:AK10) -> 0 | AL11: =SUM(AL9:AL10) -> 0 | AM11: 10.32 | AN11: =IF(A10="","",IF(A10>NomMois,0,IF(A10<$A$3,2.08,(NETWORKDAYS(A10,$A$2)/21.66667)*2.08))) -> 2.08 | AO11: =IF(AN11="",0,+AN11) -> 2.08 | AQ11: =+AM11-AI11 -> 10.32 | AR11: =+AP11-AJ11 -> 0 | AS11: =+AO11+AQ11 -> 12.4
B13: Matin | AH13: =COUNTA(Juin!$C13:$AF13) -> 0 | AI13: =(COUNTIFS(Juin!$C13:$AF13,("cp")))/2 -> 0 | AJ13: =COUNTIFS(Juin!$C13:$AG13,"RTT")/2 -> 0 | AK13: =COUNTIFS(Juin!$C13:$AG13,"m")/2 -> 0 | AL13: =COUNTIFS(Juin!$C13:$AG13,"a")/2 -> 0
A14: 42891 | B14: A-M | AH14: =COUNTA(Juin!$C14:$AF14) -> 0 | AI14: =(COUNTIFS(Juin!$C14:$AF14,("cp")))/2 -> 0 | AJ14: =COUNTIFS(Juin!$C14:$AG14,"RTT")/2 -> 0 | AK14: =COUNTIFS(Juin!$C14:$AG14,"m")/2 -> 0 | AL14: =COUNTIFS(Juin!$C14:$AG14,"a")/2 -> 0 | AS14: 43014
C15: =IF(C13>0,C13,IF(C14>0,C14,"")) | D15: =IF(D13>0,D13,IF(D14>0,D14,"")) | E15: =IF(E13>0,E13,IF(E14>0,E14,"")) | F15: =IF(F13>0,F13,IF(F14>0,F14,"")) | G15: =IF(G13>0,G13,IF(G14>0,G14,"")) | H15: =IF(H13>0,H13,IF(H14>0,H14,"")) | I15: =IF(I13>0,I13,IF(I14>0,I14,"")) | J15: =IF(J13>0,J13,IF(J14>0,J14,"")) | ... AG15: =IF(AG13>0,AG13,IF(AG14>0,AG14,"")) | AH15: =SUM(AH13:AH14) -> 0 | AI15: =SUM(AI13:AI14) -> 0 | AJ15: =SUM(AJ13:AJ14) -> 0 | AK15: =SUM(AK13:AK14) -> 0 | AL15: =SUM(AL13:AL14) -> 0 | AN15: =IF(A14="","",IF(A14>NomMois,0,IF(A14<$A$3,2.08,(NETWORKDAYS(A14,$A$2)/21.66667)*2.08))) -> 1.9199997 | AO15: =IF(AN15="",0,+AN15) -> 1.9199997 | AQ15: =+AM15-AI15 -> 0 | AR15: =+AP15-AJ15 -> 0 | AS15: =+AO15+AQ15 -> 1.9199997
B17: Matin | AH17: =COUNTA(Juin!$C17:$AF17) -> 0 | AI17: =(COUNTIFS(Juin!$C17:$AF17,("cp")))/2 -> 0 | AJ17: =(COUNTIFS(Juin!$C17:$AG17,("c")))/2 -> 0 | AK17: =COUNTIFS(Juin!$C17:$AG17,"RTT")/2 -> 0 | AL17: =COUNTIFS(Juin!$C17:$AG17,"m")/2 -> 0
A18: 38923 | B18: A-M | AH18: =COUNTA(Juin!$C18:$AF18) -> 0 | AI18: =(COUNTIFS(Juin!$C18:$AF18,("cp")))/2 -> 0 | AJ18: =(COUNTIFS(Juin!$C18:$AG18,("c")))/2 -> 0 | AK18: =COUNTIFS(Juin!$C18:$AG18,"RTT")/2 -> 0 | AL18: =COUNTIFS(Juin!$C18:$AG18,"m")/2 -> 0
C19: =IF(C17>0,C17,IF(C18>0,C18,"")) | D19: =IF(D17>0,D17,IF(D18>0,D18,"")) | E19: =IF(E17>0,E17,IF(E18>0,E18,"")) | F19: =IF(F17>0,F17,IF(F18>0,F18,"")) | G19: =IF(G17>0,G17,IF(G18>0,G18,"")) | H19: =IF(H17>0,H17,IF(H18>0,H18,"")) | I19: =IF(I17>0,I17,IF(I18>0,I18,"")) | J19: =IF(J17>0,J17,IF(J18>0,J18,"")) | ... AG19: =IF(AG17>0,AG17,IF(AG18>0,AG18,"")) | AH19: =SUM(AH17:AH18) -> 0 | AI19: =SUM(AI17:AI18) -> 0 | AJ19: =SUM(AJ17:AJ18) -> 0 | AK19: =SUM(AK17:AK18) -> 0 | AL19: =SUM(AL17:AL18) -> 0 | AM19: 24.54 | AN19: =IF(A18="","",IF(A18>NomMois,0,IF(A18<$A$3,2.08,(NETWORKDAYS(A18,$A$2)/21.66667)*2.08))) -> 2.08 | AO19: =IF(AN19="",0,+AN19) -> 2.08 | AQ19: =+AM19-AI19 -> 24.54 | AR19: =+AP19-AJ19 -> 0 | AS19: =+AO19+AQ19 -> 26.62
B21: Matin | AH21: =COUNTA(Juin!$C21:$AF21) -> 0 | AI21: =(COUNTIFS(Juin!$C21:$AF21,("cp")))/2 -> 0 | AJ21: =(COUNTIFS(Juin!$C21:$AG21,("c")))/2 -> 0 | AK21: =COUNTIFS(Juin!$C21:$AG21,"RTT")/2 -> 0 | AL21: =COUNTIFS(Juin!$C21:$AG21,"m")/2 -> 0
A22: 41824 | B22: A-M | AH22: =COUNTA(Juin!$C22:$AF22) -> 0 | AI22: =(COUNTIFS(Juin!$C22:$AF22,("cp")))/2 -> 0 | AJ22: =(COUNTIFS(Juin!$C22:$AG22,("c")))/2 -> 0 | AK22: =COUNTIFS(Juin!$C22:$AG22,"RTT")/2 -> 0 | AL22: =COUNTIFS(Juin!$C22:$AG22,"m")/2 -> 0
C23: =IF(C21>0,C21,IF(C22>0,C22,"")) | D23: =IF(D21>0,D21,IF(D22>0,D22,"")) | E23: =IF(E21>0,E21,IF(E22>0,E22,"")) | F23: =IF(F21>0,F21,IF(F22>0,F22,"")) | G23: =IF(G21>0,G21,IF(G22>0,G22,"")) | H23: =IF(H21>0,H21,IF(H22>0,H22,"")) | I23: =IF(I21>0,I21,IF(I22>0,I22,"")) | J23: =IF(J21>0,J21,IF(J22>0,J22,"")) | ... AG23: =IF(AG21>0,AG21,IF(AG22>0,AG22,"")) | AH23: =SUM(AH21:AH22) -> 0 | AI23: =SUM(AI21:AI22) -> 0 | AJ23: =SUM(AJ21:AJ22) -> 0 | AK23: =SUM(AK21:AK22) -> 0 | AL23: =SUM(AL21:AL22) -> 0 | AM23: 11.23 | AN23: =IF(A22="","",IF(A22>NomMois,0,IF(A22<$A$3,2.08,(NETWORKDAYS(A22,$A$2)/21.66667)*2.08))) -> 2.08 | AO23: =IF(AN23="",0,+AN23) -> 2.08 | AQ23: =+AM23-AI23 -> 11.23 | AR23: =+AP23-AJ23 -> 0 | AS23: =+AO23+AQ23 -> 13.31
B25: Matin | I25: CP | J25: CP | AH25: =COUNTA(Juin!$C25:$AF25) -> 2 | AI25: =(COUNTIFS(Juin!$C25:$AF25,("cp")))/2 -> 1 | AJ25: =COUNTIFS(Juin!$C25:$AG25,"RTT")/2 -> 0 | AK25: =COUNTIFS(Juin!$C25:$AG25,"m")/2 -> 0 | AL25: =COUNTIFS(Juin!$C25:$AG25,"a")/2 -> 0
A26: 38626 | B26: A-M | I26: CP | J26: CP | AH26: =COUNTA(Juin!$C26:$AF26) -> 2 | AI26: =(COUNTIFS(Juin!$C26:$AF26,("cp")))/2 -> 1 | AJ26: =COUNTIFS(Juin!$C26:$AG26,"RTT")/2 -> 0 | AK26: =COUNTIFS(Juin!$C26:$AG26,"m")/2 -> 0 | AL26: =COUNTIFS(Juin!$C26:$AG26,"a")/2 -> 0
C27: =IF(C25>0,C25,IF(C26>0,C26,"")) | D27: =IF(D25>0,D25,IF(D26>0,D26,"")) | E27: =IF(E25>0,E25,IF(E26>0,E26,"")) | F27: =IF(F25>0,F25,IF(F26>0,F26,"")) | G27: =IF(G25>0,G25,IF(G26>0,G26,"")) | H27: =IF(H25>0,H25,IF(H26>0,H26,"")) | I27: =IF(I25>0,I25,IF(I26>0,I26,"")) -> CP | J27: =IF(J25>0,J25,IF(J26>0,J26,"")) -> CP | ... AG27: =IF(AG25>0,AG25,IF(AG26>0,AG26,"")) | AH27: =SUM(AH25:AH26) -> 4 | AI27: =SUM(AI25:AI26) -> 2 | AJ27: =SUM(AJ25:AJ26) -> 0 | AK27: =SUM(AK25:AK26) -> 0 | AL27: =SUM(AL25:AL26) -> 0 | AM27: 28.7 | AN27: =IF(A26="","",IF(A26>NomMois,0,IF(A26<$A$3,2.08,(NETWORKDAYS(A26,$A$2)/21.66667)*2.08))) -> 2.08 | AO27: =IF(AN27="",0,+AN27) -> 2.08 | AQ27: =+AM27-AI27 -> 26.7 | AR27: =+AP27-AJ27 -> 0 | AS27: =+AO27+AQ27 -> 28.78
B29: Matin | AH29: =COUNTA(Juin!$C29:$AF29) -> 0 | AI29: =(COUNTIFS(Juin!$C29:$AF29,("cp")))/2 -> 0 | AJ29: =COUNTIFS(Juin!$C29:$AG29,"RTT")/2 -> 0 | AK29: =COUNTIFS(Juin!$C29:$AG29,"m")/2 -> 0 | AL29: =COUNTIFS(Juin!$C29:$AG29,"a")/2 -> 0
A30: 36892 | B30: A-M | AH30: =COUNTA(Juin!$C30:$AF30) -> 0 | AI30: =(COUNTIFS(Juin!$C30:$AF30,("cp")))/2 -> 0 | AJ30: =COUNTIFS(Juin!$C30:$AG30,"RTT")/2 -> 0 | AK30: =COUNTIFS(Juin!$C30:$AG30,"m")/2 -> 0 | AL30: =COUNTIFS(Juin!$C30:$AG30,"a")/2 -> 0
C31: =IF(C29>0,C29,IF(C30>0,C30,"")) | D31: =IF(D29>0,D29,IF(D30>0,D30,"")) | E31: =IF(E29>0,E29,IF(E30>0,E30,"")) | F31: =IF(F29>0,F29,IF(F30>0,F30,"")) | G31: =IF(G29>0,G29,IF(G30>0,G30,"")) | H31: =IF(H29>0,H29,IF(H30>0,H30,"")) | I31: =IF(I29>0,I29,IF(I30>0,I30,"")) | J31: =IF(J29>0,J29,IF(J30>0,J30,"")) | ... AG31: =IF(AG29>0,AG29,IF(AG30>0,AG30,"")) | AH31: =SUM(AH29:AH30) -> 0 | AI31: =SUM(AI29:AI30) -> 0 | AJ31: =SUM(AJ29:AJ30) -> 0 | AK31: =SUM(AK29:AK30) -> 0 | AL31: =SUM(AL29:AL30) -> 0 | AM31: 30.37 | AN31: =IF(A30="","",IF(A30>NomMois,0,IF(A30<$A$3,2.08,(NETWORKDAYS(A30,$A$2)/21.66667)*2.08))) -> 2.08 | AO31: =IF(AN31="",0,+AN31) -> 2.08 | AQ31: =+AM31-AI31 -> 30.37 | AR31: =+AP31-AJ31 -> 0 | AS31: =+AO31+AQ31 -> 32.45
B33: Matin | K33: CP | AH33: =COUNTA(Juin!$C33:$AF33) -> 1 | AI33: =(COUNTIFS(Juin!$C33:$AF33,("cp")))/2 -> 0.5 | AJ33: =COUNTIFS(Juin!$C33:$AG33,"RTT")/2 -> 0 | AK33: =COUNTIFS(Juin!$C33:$AG33,"m")/2 -> 0 | AL33: =COUNTIFS(Juin!$C33:$AG33,"a")/2 -> 0
A34: 42110 | B34: A-M | K34: CP | AH34: =COUNTA(Juin!$C34:$AF34) -> 1 | AI34: =(COUNTIFS(Juin!$C34:$AF34,("cp")))/2 -> 0.5 | AJ34: =COUNTIFS(Juin!$C34:$AG34,"RTT")/2 -> 0 | AK34: =COUNTIFS(Juin!$C34:$AG34,"m")/2 -> 0 | AL34: =COUNTIFS(Juin!$C34:$AG34,"a")/2 -> 0
C35: =IF(C33>0,C33,IF(C34>0,C34,"")) | D35: =IF(D33>0,D33,IF(D34>0,D34,"")) | E35: =IF(E33>0,E33,IF(E34>0,E34,"")) | F35: =IF(F33>0,F33,IF(F34>0,F34,"")) | G35: =IF(G33>0,G33,IF(G34>0,G34,"")) | H35: =IF(H33>0,H33,IF(H34>0,H34,"")) | I35: =IF(I33>0,I33,IF(I34>0,I34,"")) | J35: =IF(J33>0,J33,IF(J34>0,J34,"")) | ... AF35: =IF(AF33>0,AF33,IF(AF34>0,AF34,"")) | AG35: =SUM(AG33:AG34) -> 0 | AH35: =SUM(AH33:AH34) -> 2 | AI35: =SUM(AI33:AI34) -> 1 | AJ35: =SUM(AJ33:AJ34) -> 0 | AK35: =SUM(AK33:AK34) -> 0 | AL35: =SUM(AL33:AL34) -> 0 | AM35: 14.56 | AN35: =IF(A34="","",IF(A34>NomMois,0,IF(A34<$A$3,2.08,(NETWORKDAYS(A34,$A$2)/21.66667)*2.08))) -> 2.08 | AO35: =IF(AN35="",0,+AN35) -> 2.08 | AQ35: =+AM35-AI35 -> 13.56 | AR35: =+AP35-AJ35 -> 0 | AS35: =+AO35+AQ35 -> 15.64
B37: Matin | AH37: =COUNTA(Juin!$C37:$AF37) -> 0 | AI37: =(COUNTIFS(Juin!$C37:$AF37,("cp")))/2 -> 0 | AJ37: =COUNTIFS(Juin!$C37:$AG37,"RTT")/2 -> 0 | AK37: =COUNTIFS(Juin!$C37:$AG37,"m")/2 -> 0 | AL37: =COUNTIFS(Juin!$C37:$AG37,"a")/2 -> 0
A38: 42373 | B38: A-M | AH38: =COUNTA(Juin!$C38:$AF38) -> 0 | AI38: =(COUNTIFS(Juin!$C38:$AF38,("cp")))/2 -> 0 | AJ38: =COUNTIFS(Juin!$C38:$AG38,"RTT")/2 -> 0 | AK38: =COUNTIFS(Juin!$C38:$AG38,"m")/2 -> 0 | AL38: =COUNTIFS(Juin!$C38:$AG38,"a")/2 -> 0
C39: =IF(C37>0,C37,IF(C38>0,C38,"")) | D39: =IF(D37>0,D37,IF(D38>0,D38,"")) | E39: =IF(E37>0,E37,IF(E38>0,E38,"")) | F39: =IF(F37>0,F37,IF(F38>0,F38,"")) | G39: =IF(G37>0,G37,IF(G38>0,G38,"")) | H39: =IF(H37>0,H37,IF(H38>0,H38,"")) | I39: =IF(I37>0,I37,IF(I38>0,I38,"")) | J39: =IF(J37>0,J37,IF(J38>0,J38,"")) | ... AF39: =IF(AF37>0,AF37,IF(AF38>0,AF38,"")) | AG39: =SUM(AG37:AG38) -> 0 | AH39: =SUM(AH37:AH38) -> 0 | AI39: =SUM(AI37:AI38) -> 0 | AJ39: =SUM(AJ37:AJ38) -> 0 | AK39: =SUM(AK37:AK38) -> 0 | AL39: =SUM(AL37:AL38) -> 0 | AM39: 14.14 | AN39: =IF(A38="","",IF(A38>NomMois,0,IF(A38<$A$3,2.08,(NETWORKDAYS(A38,$A$2)/21.66667)*2.08))) -> 2.08 | AO39: =IF(AN39="",0,+AN39) -> 2.08 | AQ39: =+AM39-AI39 -> 14.14 | AR39: =+AP39-AJ39 -> 0 | AS39: =+AO39+AQ39 -> 16.22
B41: Matin | AH41: =COUNTA(Juin!$C41:$AF41) -> 0 | AI41: =(COUNTIFS(Juin!$C41:$AF41,("cp")))/2 -> 0 | AJ41: =COUNTIFS(Juin!$C41:$AG41,"RTT")/2 -> 0 | AK41: =COUNTIFS(Juin!$C41:$AG41,"m")/2 -> 0 | AL41: =COUNTIFS(Juin!$C41:$AG41,"a")/2 -> 0
A42: 41821 | B42: A-M | AH42: =COUNTA(Juin!$C42:$AF42) -> 0 | AI42: =(COUNTIFS(Juin!$C42:$AF42,("cp")))/2 -> 0 | AJ42: =COUNTIFS(Juin!$C42:$AG42,"RTT")/2 -> 0 | AK42: =COUNTIFS(Juin!$C42:$AG42,"m")/2 -> 0 | AL42: =COUNTIFS(Juin!$C42:$AG42,"a")/2 -> 0
C43: =IF(C41>0,C41,IF(C42>0,C42,"")) | D43: =IF(D41>0,D41,IF(D42>0,D42,"")) | E43: =IF(E41>0,E41,IF(E42>0,E42,"")) | F43: =IF(F41>0,F41,IF(F42>0,F42,"")) | G43: =IF(G41>0,G41,IF(G42>0,G42,"")) | H43: =IF(H41>0,H41,IF(H42>0,H42,"")) | I43: =IF(I41>0,I41,IF(I42>0,I42,"")) | J43: =IF(J41>0,J41,IF(J42>0,J42,"")) | ... AG43: =IF(AG41>0,AG41,IF(AG42>0,AG42,"")) | AH43: =SUM(AH41:AH42) -> 0 | AI43: =SUM(AI41:AI42) -> 0 | AJ43: =SUM(AJ41:AJ42) -> 0 | AK43: =SUM(AK41:AK42) -> 0 | AL43: =SUM(AL41:AL42) -> 0 | AM43: 20.38 | AN43: =IF(A42="","",IF(A42>NomMois,0,IF(A42<$A$3,2.08,(NETWORKDAYS(A42,$A$2)/21.66667)*2.08))) -> 2.08 | AO43: =IF(AN43="",0,+AN43) -> 2.08 | AQ43: =+AM43-AI43 -> 20.38 | AR43: =+AP43-AJ43 -> 0 | AS43: =+AO43+AQ43 -> 22.46
B45: Matin | AH45: =COUNTA(Juin!$C45:$AF45) -> 0 | AI45: =(COUNTIFS(Juin!$C45:$AF45,("cp")))/2 -> 0 | AJ45: =COUNTIFS(Juin!$C45:$AG45,"RTT")/2 -> 0 | AK45: =COUNTIFS(Juin!$C45:$AG45,"m")/2 -> 0 | AL45: =COUNTIFS(Juin!$C45:$AG45,"a")/2 -> 0
A46: 40575 | B46: A-M | AH46: =COUNTA(Juin!$C46:$AF46) -> 0 | AI46: =(COUNTIFS(Juin!$C46:$AF46,("cp")))/2 -> 0 | AJ46: =COUNTIFS(Juin!$C46:$AG46,"RTT")/2 -> 0 | AK46: =COUNTIFS(Juin!$C46:$AG46,"m")/2 -> 0 | AL46: =COUNTIFS(Juin!$C46:$AG46,"a")/2 -> 0
C47: =IF(C45>0,C45,IF(C46>0,C46,"")) | D47: =IF(D45>0,D45,IF(D46>0,D46,"")) | E47: =IF(E45>0,E45,IF(E46>0,E46,"")) | F47: =IF(F45>0,F45,IF(F46>0,F46,"")) | G47: =IF(G45>0,G45,IF(G46>0,G46,"")) | H47: =IF(H45>0,H45,IF(H46>0,H46,"")) | I47: =IF(I45>0,I45,IF(I46>0,I46,"")) | J47: =IF(J45>0,J45,IF(J46>0,J46,"")) | ... AG47: =IF(AG45>0,AG45,IF(AG46>0,AG46,"")) | AH47: =SUM(AH45:AH46) -> 0 | AI47: =SUM(AI45:AI46) -> 0 | AJ47: =SUM(AJ45:AJ46) -> 0 | AK47: =SUM(AK45:AK46) -> 0 | AL47: =SUM(AL45:AL46) -> 0 | AM47: 24.96 | AN47: =IF(A46="","",IF(A46>NomMois,0,IF(A46<$A$3,2.08,(NETWORKDAYS(A46,$A$2)/21.66667)*2.08))) -> 2.08 | AO47: =IF(AN47="",0,+AN47) -> 2.08 | AQ47: =+AM47-AI47 -> 24.96 | AR47: =+AP47-AJ47 -> 0 | AS47: =+AO47+AQ47 -> 27.04
B49: Matin | AH49: =COUNTA(Juin!$C49:$AF49) -> 0 | AI49: =(COUNTIFS(Juin!$C49:$AF49,("cp")))/2 -> 0 | AJ49: =COUNTIFS(Juin!$C49:$AG49,"RTT")/2 -> 0 | AK49: =COUNTIFS(Juin!$C49:$AG49,"m")/2 -> 0 | AL49: =COUNTIFS(Juin!$C49:$AG49,"a")/2 -> 0
A50: 42793 | B50: A-M | AH50: =COUNTA(Juin!$C50:$AF50) -> 0 | AI50: =(COUNTIFS(Juin!$C50:$AF50,("cp")))/2 -> 0 | AJ50: =COUNTIFS(Juin!$C50:$AG50,"RTT")/2 -> 0 | AK50: =COUNTIFS(Juin!$C50:$AG50,"m")/2 -> 0 | AL50: =COUNTIFS(Juin!$C50:$AG50,"a")/2 -> 0 | AN50: =IF(A49="","",IF(A49>NomMois,0,IF(A49<$A$3,2.08,(NETWORKDAYS(A49,$A$2)/21.66667)*2.08))) | AO50: =IF(AN50="",0,+AN50) -> 0
C51: =IF(C49>0,C49,IF(C50>0,C50,"")) | D51: =IF(D49>0,D49,IF(D50>0,D50,"")) | E51: =IF(E49>0,E49,IF(E50>0,E50,"")) | F51: =IF(F49>0,F49,IF(F50>0,F50,"")) | G51: =IF(G49>0,G49,IF(G50>0,G50,"")) | H51: =IF(H49>0,H49,IF(H50>0,H50,"")) | I51: =IF(I49>0,I49,IF(I50>0,I50,"")) | J51: =IF(J49>0,J49,IF(J50>0,J50,"")) | ... AG51: =IF(AG49>0,AG49,IF(AG50>0,AG50,"")) | AH51: =SUM(AH49:AH50) -> 0 | AI51: =SUM(AI49:AI50) -> 0 | AJ51: =SUM(AJ49:AJ50) -> 0 | AK51: =SUM(AK49:AK50) -> 0 | AL51: =SUM(AL49:AL50) -> 0 | AM51: 6.41 | AN51: =IF(A50="","",IF(A50>NomMois,0,IF(A50<$A$3,2.08,(NETWORKDAYS(A50,$A$2)/21.66667)*2.08))) -> 2.08 | AO51: =IF(AN51="",0,+AN51) -> 2.08 | AQ51: =+AM51-AI51 -> 6.41 | AR51: =+AP51-AJ51 -> 0 | AS51: =+AO51+AQ51 -> 8.49
...

Sheet Juillet
A1: Planification des absences des employés
A2: 42947 | C2: Dates d’absence | AH2: 2017 | AI2: Nombre de jours pris | AM2: Nombre de Jours acquis | AQ2: Solde
A3: 42917 | C3: =TEXT(WEEKDAY(DATE(CalendrierAnnée,7,1),1),"jjj") -> sam | D3: =TEXT(WEEKDAY(DATE(CalendrierAnnée,7,2),1),"jjj") -> dim | E3: =TEXT(WEEKDAY(DATE(CalendrierAnnée,7,3),1),"jjj") -> lun | F3: =TEXT(WEEKDAY(DATE(CalendrierAnnée,7,4),1),"jjj") -> mar | G3: =TEXT(WEEKDAY(DATE(CalendrierAnnée,7,5),1),"jjj") -> mer | H3: =TEXT(WEEKDAY(DATE(CalendrierAnnée,7,6),1),"jjj") -> jeu | I3: =TEXT(WEEKDAY(DATE(CalendrierAnnée,7,7),1),"jjj") -> ven | J3: =TEXT(WEEKDAY(DATE(CalendrierAnnée,7,8),1),"jjj") -> sam | K3: =TEXT(WEEKDAY(DATE(CalendrierAnnée,7,9),1),"jjj") -> dim | L3: =TEXT(WEEKDAY(DATE(CalendrierAnnée,7,10),1),"jjj") -> lun | M3: =TEXT(WEEKDAY(DATE(CalendrierAnnée,7,11),1),"jjj") -> mar | N3: =TEXT(WEEKDAY(DATE(CalendrierAnnée,7,12),1),"jjj") -> mer | O3: =TEXT(WEEKDAY(DATE(CalendrierAnnée,7,13),1),"jjj") -> jeu | P3: =TEXT(WEEKDAY(DATE(CalendrierAnnée,7,14),1),"jjj") -> ven | Q3: =TEXT(WEEKDAY(DATE(CalendrierAnnée,7,15),1),"jjj") -> sam | R3: =TEXT(WEEKDAY(DATE(CalendrierAnnée,7,16),1),"jjj") -> dim | S3: =TEXT(WEEKDAY(DATE(CalendrierAnnée,7,17),1),"jjj") -> lun | T3: =TEXT(WEEKDAY(DATE(CalendrierAnnée,7,18),1),"jjj") -> mar | U3: =TEXT(WEEKDAY(DATE(CalendrierAnnée,7,19),1),"jjj") -> mer | V3: =TEXT(WEEKDAY(DATE(CalendrierAnnée,7,20),1),"jjj") -> jeu | W3: =TEXT(WEEKDAY(DATE(CalendrierAnnée,7,21),1),"jjj") -> ven | X3: =TEXT(WEEKDAY(DATE(CalendrierAnnée,7,22),1),"jjj") -> sam | Y3: =TEXT(WEEKDAY(DATE(CalendrierAnnée,7,23),1),"jjj") -> dim | Z3: =TEXT(WEEKDAY(DATE(CalendrierAnnée,7,24),1),"jjj") -> lun | AA3: =TEXT(WEEKDAY(DATE(CalendrierAnnée,7,25),1),"jjj") -> mar | AB3: =TEXT(WEEKDAY(DATE(CalendrierAnnée,7,26),1),"jjj") -> mer | AC3: =TEXT(WEEKDAY(DATE(CalendrierAnnée,7,27),1),"jjj") -> jeu | AD3: =TEXT(WEEKDAY(DATE(CalendrierAnnée,7,28),1),"jjj") -> ven | AE3: =TEXT(WEEKDAY(DATE(CalendrierAnnée,7,29),1),"jjj") -> sam | AF3: =TEXT(WEEKDAY(DATE(CalendrierAnnée,7,30),1),"jjj") -> dim | AG3: =TEXT(WEEKDAY(DATE(CalendrierAnnée,7,31),1),"jjj") -> lun
A4: Nom de l’employé | C4: 1 | D4: 2 | E4: 3 | F4: 4 | G4: 5 | H4: 6 | I4: 7 | J4: 8 | K4: 9 | L4: 10 | M4: 11 | N4: 12 | O4: 13 | P4: 14 | Q4: 15 | R4: 16 | S4: 17 | T4: 18 | U4: 19 | V4: 20 | W4: 21 | X4: 22 | Y4: 23 | Z4: 24 | AA4: 25 | AB4: 26 | AC4: 27 | AD4: 28 | AE4: 29 | AF4: 30 | AG4: 31 | AH4: Nombre total de demi-journées | AI4: CP | AJ4: RTT | AK4: M | AL4: A | AM4: C P Acquis | AN4: CP en cours sur le mois | AO4: CP en cours cumulés | AP4: RTT acquis | AQ4: CP | AR4: RTT | AS4: DATE DE SORTIE et SOLDE CP
B5: Matin | AH5: =COUNTA(Juillet!$C5:$AG5) -> 0 | AI5: =(COUNTIFS(Juillet!$C5:$AG5,("cp")))/2+Juin!AI5 -> 0 | AJ5: =COUNTIFS(Juillet!$C5:$AG5,"RTT")/2+Juin!AJ5 -> 0 | AK5: =COUNTIFS(Juillet!$C5:$AG5,"m")/2+Juin!AK5 -> 0 | AL5: =COUNTIFS(Juillet!$C5:$AG5,"a")/2+Juin!AL5 -> 0
A6: 41722 | B6: A-M | AH6: =COUNTA(Juillet!$C6:$AG6) -> 0 | AI6: =(COUNTIFS(Juillet!$C6:$AG6,("cp")))/2+Juin!AI6 -> 0 | AJ6: =COUNTIFS(Juillet!$C6:$AG6,"RTT")/2+Juin!AJ6 -> 0 | AK6: =COUNTIFS(Juillet!$C6:$AG6,"m")/2+Juin!AK6 -> 0 | AL6: =COUNTIFS(Juillet!$C6:$AG6,"a")/2+Juin!AL6 -> 0
C7: =IF(C5>0,C5,IF(C6>0,C6,"")) | D7: =IF(D5>0,D5,IF(D6>0,D6,"")) | E7: =IF(E5>0,E5,IF(E6>0,E6,"")) | F7: =IF(F5>0,F5,IF(F6>0,F6,"")) | G7: =IF(G5>0,G5,IF(G6>0,G6,"")) | H7: =IF(H5>0,H5,IF(H6>0,H6,"")) | I7: =IF(I5>0,I5,IF(I6>0,I6,"")) | J7: =IF(J5>0,J5,IF(J6>0,J6,"")) | ... AG7: =IF(AG5>0,AG5,IF(AG6>0,AG6,"")) | AH7: =SUM(AH5:AH6) -> 0 | AI7: =SUM(AI5:AI6) -> 0 | AJ7: =SUM(AJ5:AJ6) -> 0 | AK7: =SUM(AK5:AK6) -> 0 | AL7: =SUM(AL5:AL6) -> 0 | AM7: =+Juin!AM7 -> 9.15 | AN7: =IF(A6="","",IF(A6>NomMois,0,IF(A6<$A$3,2.08,(NETWORKDAYS(A6,$A$2)/21.66667)*2.08))) -> 2.08 | AO7: =IF( AN7="",0,+AN7+Juin!AO7) -> 4.16 | AQ7: =+AM7-AI7 -> 9.15 | AR7: =+AP7-AJ7 -> 0 | AS7: =+AO7+AQ7 -> 13.31
B9: Matin | AA9: CP | AB9: CP | AC9: CP | AD9: CP | AG9: CP | AH9: =COUNTA(Juillet!$C9:$AG9) -> 5 | AI9: =(COUNTIFS(Juillet!$C9:$AG9,("cp")))/2+Juin!AI9 -> 2.5 | AJ9: =COUNTIFS(Juillet!$C9:$AG9,"RTT")/2+Juin!AJ9 -> 0 | AK9: =COUNTIFS(Juillet!$C9:$AG9,"m")/2+Juin!AK9 -> 0 | AL9: =COUNTIFS(Juillet!$C9:$AG9,"a")/2+Juin!AL9 -> 0
A10: 42740 | B10: A-M | AA10: CP | AB10: CP | AC10: CP | AD10: CP | AG10: CP | AH10: =COUNTA(Juillet!$C10:$AG10) -> 5 | AI10: =(COUNTIFS(Juillet!$C10:$AG10,("cp")))/2+Juin!AI10 -> 2.5 | AJ10: =COUNTIFS(Juillet!$C10:$AG10,"RTT")/2+Juin!AJ10 -> 0 | AK10: =COUNTIFS(Juillet!$C10:$AG10,"m")/2+Juin!AK10 -> 0 | AL10: =COUNTIFS(Juillet!$C10:$AG10,"a")/2+Juin!AL10 -> 0
C11: =IF(C9>0,C9,IF(C10>0,C10,"")) | D11: =IF(D9>0,D9,IF(D10>0,D10,"")) | E11: =IF(E9>0,E9,IF(E10>0,E10,"")) | F11: =IF(F9>0,F9,IF(F10>0,F10,"")) | G11: =IF(G9>0,G9,IF(G10>0,G10,"")) | H11: =IF(H9>0,H9,IF(H10>0,H10,"")) | I11: =IF(I9>0,I9,IF(I10>0,I10,"")) | J11: =IF(J9>0,J9,IF(J10>0,J10,"")) | ... AG11: =IF(AG9>0,AG9,IF(AG10>0,AG10,"")) -> CP | AH11: =SUM(AH9:AH10) -> 10 | AI11: =SUM(AI9:AI10) -> 5 | AJ11: =SUM(AJ9:AJ10) -> 0 | AK11: =SUM(AK9:AK10) -> 0 | AL11: =SUM(AL9:AL10) -> 0 | AM11: =+Juin!AM11 -> 10.32 | AN11: =IF(A10="","",IF(A10>NomMois,0,IF(A10<$A$3,2.08,(NETWORKDAYS(A10,$A$2)/21.66667)*2.08))) -> 2.08 | AO11: =IF( AN11="",0,+AN11+Juin!AO11) -> 4.16 | AQ11: =+AM11-AI11 -> 5.32 | AR11: =+AP11-AJ11 -> 0 | AS11: =+AO11+AQ11 -> 9.48
B13: Matin | G13: A | L13: A | AC13: A | AH13: =COUNTA(Juillet!$C13:$AG13) -> 3 | AI13: =(COUNTIFS(Juillet!$C13:$AG13,("cp")))/2+Juin!AI13 -> 0 | AJ13: =COUNTIFS(Juillet!$C13:$AG13,"RTT")/2+Juin!AJ13 -> 0 | AK13: =COUNTIFS(Juillet!$C13:$AG13,"m")/2+Juin!AK13 -> 0 | AL13: =COUNTIFS(Juillet!$C13:$AG13,"a")/2+Juin!AL13 -> 1.5
A14: 42891 | B14: A-M | L14: A | AC14: A | AH14: =COUNTA(Juillet!$C14:$AG14) -> 2 | AI14: =(COUNTIFS(Juillet!$C14:$AG14,("cp")))/2+Juin!AI14 -> 0 | AJ14: =COUNTIFS(Juillet!$C14:$AG14,"RTT")/2+Juin!AJ14 -> 0 | AK14: =COUNTIFS(Juillet!$C14:$AG14,"m")/2+Juin!AK14 -> 0 | AL14: =COUNTIFS(Juillet!$C14:$AG14,"a")/2+Juin!AL14 -> 1 | AS14: 43014
C15: =IF(C13>0,C13,IF(C14>0,C14,"")) | D15: =IF(D13>0,D13,IF(D14>0,D14,"")) | E15: =IF(E13>0,E13,IF(E14>0,E14,"")) | F15: =IF(F13>0,F13,IF(F14>0,F14,"")) | G15: =IF(G13>0,G13,IF(G14>0,G14,"")) -> A | H15: =IF(H13>0,H13,IF(H14>0,H14,"")) | I15: =IF(I13>0,I13,IF(I14>0,I14,"")) | J15: =IF(J13>0,J13,IF(J14>0,J14,"")) | ... AG15: =IF(AG13>0,AG13,IF(AG14>0,AG14,"")) | AH15: =SUM(AH13:AH14) -> 5 | AI15: =SUM(AI13:AI14) -> 0 | AJ15: =SUM(AJ13:AJ14) -> 0 | AK15: =SUM(AK13:AK14) -> 0 | AL15: =SUM(AL13:AL14) -> 2.5 | AM15: =+Juin!AM15 -> 0 | AN15: =IF(A14="","",IF(A14>NomMois,0,IF(A14<$A$3,2.08,(NETWORKDAYS(A14,$A$2)/21.66667)*2.08))) -> 2.08 | AO15: =IF( AN15="",0,+AN15+Juin!AO15) -> 3.9999997 | AQ15: =+AM15-AI15 -> 0 | AR15: =+AP15-AJ15 -> 0 | AS15: =+AO15+AQ15 -> 3.9999997
B17: Matin | AH17: =COUNTA(Juillet!$C17:$AG17) -> 0 | AI17: =(COUNTIFS(Juillet!$C17:$AG17,("cp")))/2+Juin!AI17 -> 0 | AJ17: =COUNTIFS(Juillet!$C17:$AG17,"RTT")/2+Juin!AJ17 -> 0 | AK17: =COUNTIFS(Juillet!$C17:$AG17,"m")/2+Juin!AK17 -> 0 | AL17: =COUNTIFS(Juillet!$C17:$AG17,"a")/2+Juin!AL17 -> 0
A18: 38923 | B18: A-M | AH18: =COUNTA(Juillet!$C18:$AG18) -> 0 | AI18: =(COUNTIFS(Juillet!$C18:$AG18,("cp")))/2+Juin!AI18 -> 0 | AJ18: =COUNTIFS(Juillet!$C18:$AG18,"RTT")/2+Juin!AJ18 -> 0 | AK18: =COUNTIFS(Juillet!$C18:$AG18,"m")/2+Juin!AK18 -> 0 | AL18: =COUNTIFS(Juillet!$C18:$AG18,"a")/2+Juin!AL18 -> 0
C19: =IF(C17>0,C17,IF(C18>0,C18,"")) | D19: =IF(D17>0,D17,IF(D18>0,D18,"")) | E19: =IF(E17>0,E17,IF(E18>0,E18,"")) | F19: =IF(F17>0,F17,IF(F18>0,F18,"")) | G19: =IF(G17>0,G17,IF(G18>0,G18,"")) | H19: =IF(H17>0,H17,IF(H18>0,H18,"")) | I19: =IF(I17>0,I17,IF(I18>0,I18,"")) | J19: =IF(J17>0,J17,IF(J18>0,J18,"")) | ... AG19: =IF(AG17>0,AG17,IF(AG18>0,AG18,"")) | AH19: =SUM(AH17:AH18) -> 0 | AI19: =SUM(AI17:AI18) -> 0 | AJ19: =SUM(AJ17:AJ18) -> 0 | AK19: =SUM(AK17:AK18) -> 0 | AL19: =SUM(AL17:AL18) -> 0 | AM19: =+Juin!AM19 -> 24.54 | AN19: =IF(A18="","",IF(A18>NomMois,0,IF(A18<$A$3,2.08,(NETWORKDAYS(A18,$A$2)/21.66667)*2.08))) -> 2.08 | AO19: =IF( AN19="",0,+AN19+Juin!AO19) -> 4.16 | AQ19: =+AM19-AI19 -> 24.54 | AR19: =+AP19-AJ19 -> 0 | AS19: =+AO19+AQ19 -> 28.7
B21: Matin | W21: CP | Z21: CP | AH21: =COUNTA(Juillet!$C21:$AG21) -> 2 | AI21: =(COUNTIFS(Juillet!$C21:$AG21,("cp")))/2+Juin!AI21 -> 1 | AJ21: =COUNTIFS(Juillet!$C21:$AG21,"RTT")/2+Juin!AJ21 -> 0 | AK21: =COUNTIFS(Juillet!$C21:$AG21,"m")/2+Juin!AK21 -> 0 | AL21: =COUNTIFS(Juillet!$C21:$AG21,"a")/2+Juin!AL21 -> 0
A22: 41824 | B22: A-M | W22: CP | Z22: CP | AH22: =COUNTA(Juillet!$C22:$AG22) -> 2 | AI22: =(COUNTIFS(Juillet!$C22:$AG22,("cp")))/2+Juin!AI22 -> 1 | AJ22: =COUNTIFS(Juillet!$C22:$AG22,"RTT")/2+Juin!AJ22 -> 0 | AK22: =COUNTIFS(Juillet!$C22:$AG22,"m")/2+Juin!AK22 -> 0 | AL22: =COUNTIFS(Juillet!$C22:$AG22,"a")/2+Juin!AL22 -> 0
C23: =IF(C21>0,C21,IF(C22>0,C22,"")) | D23: =IF(D21>0,D21,IF(D22>0,D22,"")) | E23: =IF(E21>0,E21,IF(E22>0,E22,"")) | F23: =IF(F21>0,F21,IF(F22>0,F22,"")) | G23: =IF(G21>0,G21,IF(G22>0,G22,"")) | H23: =IF(H21>0,H21,IF(H22>0,H22,"")) | I23: =IF(I21>0,I21,IF(I22>0,I22,"")) | J23: =IF(J21>0,J21,IF(J22>0,J22,"")) | ... AG23: =IF(AG21>0,AG21,IF(AG22>0,AG22,"")) | AH23: =SUM(AH21:AH22) -> 4 | AI23: =SUM(AI21:AI22) -> 2 | AJ23: =SUM(AJ21:AJ22) -> 0 | AK23: =SUM(AK21:AK22) -> 0 | AL23: =SUM(AL21:AL22) -> 0 | AM23: =+Juin!AM23 -> 11.23 | AN23: =IF(A22="","",IF(A22>NomMois,0,IF(A22<$A$3,2.08,(NETWORKDAYS(A22,$A$2)/21.66667)*2.08))) -> 2.08 | AO23: =IF( AN23="",0,+AN23+Juin!AO23) -> 4.16 | AQ23: =+AM23-AI23 -> 9.23 | AR23: =+AP23-AJ23 -> 0 | AS23: =+AO23+AQ23 -> 13.39
B25: Matin | AH25: =COUNTA(Juillet!$C25:$AG25) -> 0 | AI25: =(COUNTIFS(Juillet!$C25:$AG25,("cp")))/2+Juin!AI25 -> 1 | AJ25: =COUNTIFS(Juillet!$C25:$AG25,"RTT")/2+Juin!AJ25 -> 0 | AK25: =COUNTIFS(Juillet!$C25:$AG25,"m")/2+Juin!AK25 -> 0 | AL25: =COUNTIFS(Juillet!$C25:$AG25,"a")/2+Juin!AL25 -> 0
A26: 38626 | B26: A-M | AH26: =COUNTA(Juillet!$C26:$AG26) -> 0 | AI26: =(COUNTIFS(Juillet!$C26:$AG26,("cp")))/2+Juin!AI26 -> 1 | AJ26: =COUNTIFS(Juillet!$C26:$AG26,"RTT")/2+Juin!AJ26 -> 0 | AK26: =COUNTIFS(Juillet!$C26:$AG26,"m")/2+Juin!AK26 -> 0 | AL26: =COUNTIFS(Juillet!$C26:$AG26,"a")/2+Juin!AL26 -> 0
C27: =IF(C25>0,C25,IF(C26>0,C26,"")) | D27: =IF(D25>0,D25,IF(D26>0,D26,"")) | E27: =IF(E25>0,E25,IF(E26>0,E26,"")) | F27: =IF(F25>0,F25,IF(F26>0,F26,"")) | G27: =IF(G25>0,G25,IF(G26>0,G26,"")) | H27: =IF(H25>0,H25,IF(H26>0,H26,"")) | I27: =IF(I25>0,I25,IF(I26>0,I26,"")) | J27: =IF(J25>0,J25,IF(J26>0,J26,"")) | ... AG27: =IF(AG25>0,AG25,IF(AG26>0,AG26,"")) | AH27: =SUM(AH25:AH26) -> 0 | AI27: =SUM(AI25:AI26) -> 2 | AJ27: =SUM(AJ25:AJ26) -> 0 | AK27: =SUM(AK25:AK26) -> 0 | AL27: =SUM(AL25:AL26) -> 0 | AM27: =+Juin!AM27 -> 28.7 | AN27: =IF(A26="","",IF(A26>NomMois,0,IF(A26<$A$3,2.08,(NETWORKDAYS(A26,$A$2)/21.66667)*2.08))) -> 2.08 | AO27: =IF( AN27="",0,+AN27+Juin!AO27) -> 4.16 | AQ27: =+AM27-AI27 -> 26.7 | AR27: =+AP27-AJ27 -> 0 | AS27: =+AO27+AQ27 -> 30.86
B29: Matin | AH29: =COUNTA(Juillet!$C29:$AG29) -> 0 | AI29: =(COUNTIFS(Juillet!$C29:$AG29,("cp")))/2+Juin!AI29 -> 0 | AJ29: =COUNTIFS(Juillet!$C29:$AG29,"RTT")/2+Juin!AJ29 -> 0 | AK29: =COUNTIFS(Juillet!$C29:$AG29,"m")/2+Juin!AK29 -> 0 | AL29: =COUNTIFS(Juillet!$C29:$AG29,"a")/2+Juin!AL29 -> 0
A30: 36892 | B30: A-M | AH30: =COUNTA(Juillet!$C30:$AG30) -> 0 | AI30: =(COUNTIFS(Juillet!$C30:$AG30,("cp")))/2+Juin!AI30 -> 0 | AJ30: =COUNTIFS(Juillet!$C30:$AG30,"RTT")/2+Juin!AJ30 -> 0 | AK30: =COUNTIFS(Juillet!$C30:$AG30,"m")/2+Juin!AK30 -> 0 | AL30: =COUNTIFS(Juillet!$C30:$AG30,"a")/2+Juin!AL30 -> 0
C31: =IF(C29>0,C29,IF(C30>0,C30,"")) | D31: =IF(D29>0,D29,IF(D30>0,D30,"")) | E31: =IF(E29>0,E29,IF(E30>0,E30,"")) | F31: =IF(F29>0,F29,IF(F30>0,F30,"")) | G31: =IF(G29>0,G29,IF(G30>0,G30,"")) | H31: =IF(H29>0,H29,IF(H30>0,H30,"")) | I31: =IF(I29>0,I29,IF(I30>0,I30,"")) | J31: =IF(J29>0,J29,IF(J30>0,J30,"")) | ... AG31: =IF(AG29>0,AG29,IF(AG30>0,AG30,"")) | AH31: =SUM(AH29:AH30) -> 0 | AI31: =SUM(AI29:AI30) -> 0 | AJ31: =SUM(AJ29:AJ30) -> 0 | AK31: =SUM(AK29:AK30) -> 0 | AL31: =SUM(AL29:AL30) -> 0 | AM31: =+Juin!AM31 -> 30.37 | AN31: =IF(A30="","",IF(A30>NomMois,0,IF(A30<$A$3,2.08,(NETWORKDAYS(A30,$A$2)/21.66667)*2.08))) -> 2.08 | AO31: =IF( AN31="",0,+AN31+Juin!AO31) -> 4.16 | AQ31: =+AM31-AI31 -> 30.37 | AR31: =+AP31-AJ31 -> 0 | AS31: =+AO31+AQ31 -> 34.53
B33: Matin | S33: CP | T33: CP | U33: CP | V33: CP | W33: CP | Z33: CP | AA33: CP | AB33: CP | AC33: CP | AD33: CP | AG33: CP | AH33: =COUNTA(Juillet!$C33:$AG33) -> 11 | AI33: =(COUNTIFS(Juillet!$C33:$AG33,("cp")))/2+Juin!AI33 -> 6 | AJ33: =COUNTIFS(Juillet!$C33:$AG33,"RTT")/2+Juin!AJ33 -> 0 | AK33: =COUNTIFS(Juillet!$C33:$AG33,"m")/2+Juin!AK33 -> 0 | AL33: =COUNTIFS(Juillet!$C33:$AG33,"a")/2+Juin!AL33 -> 0
A34: 42110 | B34: A-M | S34: CP | T34: CP | U34: CP | V34: CP | W34: CP | Z34: CP | AA34: CP | AB34: CP | AC34: CP | AD34: CP | AG34: CP | AH34: =COUNTA(Juillet!$C34:$AG34) -> 11 | AI34: =(COUNTIFS(Juillet!$C34:$AG34,("cp")))/2+Juin!AI34 -> 6 | AJ34: =COUNTIFS(Juillet!$C34:$AG34,"RTT")/2+Juin!AJ34 -> 0 | AK34: =COUNTIFS(Juillet!$C34:$AG34,"m")/2+Juin!AK34 -> 0 | AL34: =COUNTIFS(Juillet!$C34:$AG34,"a")/2+Juin!AL34 -> 0
C35: =IF(C33>0,C33,IF(C34>0,C34,"")) | D35: =IF(D33>0,D33,IF(D34>0,D34,"")) | E35: =IF(E33>0,E33,IF(E34>0,E34,"")) | F35: =IF(F33>0,F33,IF(F34>0,F34,"")) | G35: =IF(G33>0,G33,IF(G34>0,G34,"")) | H35: =IF(H33>0,H33,IF(H34>0,H34,"")) | I35: =IF(I33>0,I33,IF(I34>0,I34,"")) | J35: =IF(J33>0,J33,IF(J34>0,J34,"")) | ... AG35: =IF(AG33>0,AG33,IF(AG34>0,AG34,"")) -> CP | AH35: =SUM(AH33:AH34) -> 22 | AI35: =SUM(AI33:AI34) -> 12 | AJ35: =SUM(AJ33:AJ34) -> 0 | AK35: =SUM(AK33:AK34) -> 0 | AL35: =SUM(AL33:AL34) -> 0 | AM35: =+Juin!AM35 -> 14.56 | AN35: =IF(A34="","",IF(A34>NomMois,0,IF(A34<$A$3,2.08,(NETWORKDAYS(A34,$A$2)/21.66667)*2.08))) -> 2.08 | AO35: =IF( AN35="",0,+AN35+Juin!AO35) -> 4.16 | AQ35: =+AM35-AI35 -> 2.56 | AR35: =+AP35-AJ35 -> 0 | AS35: =+AO35+AQ35 -> 6.72
B37: Matin | AH37: =COUNTA(Juillet!$C37:$AG37) -> 0 | AI37: =(COUNTIFS(Juillet!$C37:$AG37,("cp")))/2+Juin!AI37 -> 0 | AJ37: =COUNTIFS(Juillet!$C37:$AG37,"RTT")/2+Juin!AJ37 -> 0 | AK37: =COUNTIFS(Juillet!$C37:$AG37,"m")/2+Juin!AK37 -> 0 | AL37: =COUNTIFS(Juillet!$C37:$AG37,"a")/2+Juin!AL37 -> 0
A38: 42373 | B38: A-M | AH38: =COUNTA(Juillet!$C38:$AG38) -> 0 | AI38: =(COUNTIFS(Juillet!$C38:$AG38,("cp")))/2+Juin!AI38 -> 0 | AJ38: =COUNTIFS(Juillet!$C38:$AG38,"RTT")/2+Juin!AJ38 -> 0 | AK38: =COUNTIFS(Juillet!$C38:$AG38,"m")/2+Juin!AK38 -> 0 | AL38: =COUNTIFS(Juillet!$C38:$AG38,"a")/2+Juin!AL38 -> 0
C39: =IF(C37>0,C37,IF(C38>0,C38,"")) | D39: =IF(D37>0,D37,IF(D38>0,D38,"")) | E39: =IF(E37>0,E37,IF(E38>0,E38,"")) | F39: =IF(F37>0,F37,IF(F38>0,F38,"")) | G39: =IF(G37>0,G37,IF(G38>0,G38,"")) | H39: =IF(H37>0,H37,IF(H38>0,H38,"")) | I39: =IF(I37>0,I37,IF(I38>0,I38,"")) | J39: =IF(J37>0,J37,IF(J38>0,J38,"")) | ... AG39: =IF(AG37>0,AG37,IF(AG38>0,AG38,"")) | AH39: =SUM(AH37:AH38) -> 0 | AI39: =SUM(AI37:AI38) -> 0 | AJ39: =SUM(AJ37:AJ38) -> 0 | AK39: =SUM(AK37:AK38) -> 0 | AL39: =SUM(AL37:AL38) -> 0 | AM39: =+Juin!AM39 -> 14.14 | AN39: =IF(A38="","",IF(A38>NomMois,0,IF(A38<$A$3,2.08,(NETWORKDAYS(A38,$A$2)/21.66667)*2.08))) -> 2.08 | AO39: =IF( AN39="",0,+AN39+Juin!AO39) -> 4.16 | AQ39: =+AM39-AI39 -> 14.14 | AR39: =+AP39-AJ39 -> 0 | AS39: =+AO39+AQ39 -> 18.3
B41: Matin | E41: CP | F41: CP | G41: CP | H41: CP | I41: CP | S41: CP | T41: CP | U41: CP | V41: CP | W41: CP | Z41: CP | AA41: CP | AB41: CP | AC41: CP | AD41: CP | AH41: =COUNTA(Juillet!$C41:$AG41) -> 15 | AI41: =(COUNTIFS(Juillet!$C41:$AG41,("cp")))/2+Juin!AI41 -> 7.5 | AJ41: =COUNTIFS(Juillet!$C41:$AG41,"RTT")/2+Juin!AJ41 -> 0 | AK41: =COUNTIFS(Juillet!$C41:$AG41,"m")/2+Juin!AK41 -> 0 | AL41: =COUNTIFS(Juillet!$C41:$AG41,"a")/2+Juin!AL41 -> 0
A42: 41821 | B42: A-M | E42: CP | F42: CP | G42: CP | H42: CP | I42: CP | S42: CP | T42: CP | U42: CP | V42: CP | W42: CP | Z42: CP | AA42: CP | AB42: CP | AC42: CP | AD42: CP | AH42: =COUNTA(Juillet!$C42:$AG42) -> 15 | AI42: =(COUNTIFS(Juillet!$C42:$AG42,("cp")))/2+Juin!AI42 -> 7.5 | AJ42: =COUNTIFS(Juillet!$C42:$AG42,"RTT")/2+Juin!AJ42 -> 0 | AK42: =COUNTIFS(Juillet!$C42:$AG42,"m")/2+Juin!AK42 -> 0 | AL42: =COUNTIFS(Juillet!$C42:$AG42,"a")/2+Juin!AL42 -> 0
C43: =IF(C41>0,C41,IF(C42>0,C42,"")) | D43: =IF(D41>0,D41,IF(D42>0,D42,"")) | E43: =IF(E41>0,E41,IF(E42>0,E42,"")) -> CP | F43: =IF(F41>0,F41,IF(F42>0,F42,"")) -> CP | G43: =IF(G41>0,G41,IF(G42>0,G42,"")) -> CP | H43: =IF(H41>0,H41,IF(H42>0,H42,"")) -> CP | I43: =IF(I41>0,I41,IF(I42>0,I42,"")) -> CP | J43: =IF(J41>0,J41,IF(J42>0,J42,"")) | ... AG43: =IF(AG41>0,AG41,IF(AG42>0,AG42,"")) | AH43: =SUM(AH41:AH42) -> 30 | AI43: =SUM(AI41:AI42) -> 15 | AJ43: =SUM(AJ41:AJ42) -> 0 | AK43: =SUM(AK41:AK42) -> 0 | AL43: =SUM(AL41:AL42) -> 0 | AM43: =+Juin!AM43 -> 20.38 | AN43: =IF(A42="","",IF(A42>NomMois,0,IF(A42<$A$3,2.08,(NETWORKDAYS(A42,$A$2)/21.66667)*2.08))) -> 2.08 | AO43: =IF( AN43="",0,+AN43+Juin!AO43) -> 4.16 | AQ43: =+AM43-AI43 -> 5.38 | AR43: =+AP43-AJ43 -> 0 | AS43: =+AO43+AQ43 -> 9.54
AH44: =COUNTA(Juillet!$C44:$AG44) -> 0 | AI44: =(COUNTIFS(Juillet!$C44:$AF44,("cp")))/2 -> 0 | AJ44: =COUNTIFS(Juillet!$C44:$AF44,"RTT")/2 -> 0 | AK44: =COUNTIFS(Juillet!$C44:$AF44,"m")/2 -> 0 | AL44: =COUNTIFS(Juillet!$C44:$AF44,"a")/2 -> 0
B45: Matin | AH45: =COUNTA(Juillet!$C45:$AG45) -> 0 | AI45: =(COUNTIFS(Juillet!$C45:$AG45,("cp")))/2+Juin!AI45 -> 0 | AJ45: =COUNTIFS(Juillet!$C45:$AG45,"RTT")/2+Juin!AJ45 -> 0 | AK45: =COUNTIFS(Juillet!$C45:$AG45,"m")/2+Juin!AK45 -> 0 | AL45: =COUNTIFS(Juillet!$C45:$AG45,"a")/2+Juin!AL45 -> 0
A46: 40575 | B46: A-M | AC46: CP | AH46: =COUNTA(Juillet!$C46:$AG46) -> 1 | AI46: =(COUNTIFS(Juillet!$C46:$AG46,("cp")))/2+Juin!AI46 -> 0.5 | AJ46: =COUNTIFS(Juillet!$C46:$AG46,"RTT")/2+Juin!AJ46 -> 0 | AK46: =COUNTIFS(Juillet!$C46:$AG46,"m")/2+Juin!AK46 -> 0 | AL46: =COUNTIFS(Juillet!$C46:$AG46,"a")/2+Juin!AL46 -> 0
C47: =IF(C45>0,C45,IF(C46>0,C46,"")) | D47: =IF(D45>0,D45,IF(D46>0,D46,"")) | E47: =IF(E45>0,E45,IF(E46>0,E46,"")) | F47: =IF(F45>0,F45,IF(F46>0,F46,"")) | G47: =IF(G45>0,G45,IF(G46>0,G46,"")) | H47: =IF(H45>0,H45,IF(H46>0,H46,"")) | I47: =IF(I45>0,I45,IF(I46>0,I46,"")) | J47: =IF(J45>0,J45,IF(J46>0,J46,"")) | ... AG47: =IF(AG45>0,AG45,IF(AG46>0,AG46,"")) | AH47: =SUM(AH45:AH46) -> 1 | AI47: =SUM(AI45:AI46) -> 0.5 | AJ47: =SUM(AJ45:AJ46) -> 0 | AK47: =SUM(AK45:AK46) -> 0 | AL47: =SUM(AL45:AL46) -> 0 | AM47: =+Juin!AM47 -> 24.96 | AN47: =IF(A46="","",IF(A46>NomMois,0,IF(A46<$A$3,2.08,(NETWORKDAYS(A46,$A$2)/21.66667)*2.08))) -> 2.08 | AO47: =IF( AN47="",0,+AN47+Juin!AO47) -> 4.16 | AQ47: =+AM47-AI47 -> 24.46 | AR47: =+AP47-AJ47 -> 0 | AS47: =+AO47+AQ47 -> 28.62
B49: Matin | O49: CP | AH49: =COUNTA(Juillet!$C49:$AG49) -> 1 | AI49: =(COUNTIFS(Juillet!$C49:$AG49,("cp")))/2+Juin!AI49 -> 0.5 | AJ49: =COUNTIFS(Juillet!$C49:$AG49,"RTT")/2+Juin!AJ49 -> 0 | AK49: =COUNTIFS(Juillet!$C49:$AG49,"m")/2+Juin!AK49 -> 0 | AL49: =COUNTIFS(Juillet!$C49:$AG49,"a")/2+Juin!AL49 -> 0
A50: 42793 | B50: A-M | O50: CP | AH50: =COUNTA(Juillet!$C50:$AG50) -> 1 | AI50: =(COUNTIFS(Juillet!$C50:$AG50,("cp")))/2+Juin!AI50 -> 0.5 | AJ50: =COUNTIFS(Juillet!$C50:$AG50,"RTT")/2+Juin!AJ50 -> 0 | AK50: =COUNTIFS(Juillet!$C50:$AG50,"m")/2+Juin!AK50 -> 0 | AL50: =COUNTIFS(Juillet!$C50:$AG50,"a")/2+Juin!AL50 -> 0
...

Sheet Août
A1: Planification des absences des employés
A2: 42978 | C2: Dates d’absence | AH2: 2017 | AI2: Nombre de jours pris | AM2: Nombre de Jours acquis | AQ2: Solde
A3: 42948 | C3: =TEXT(WEEKDAY(DATE(CalendrierAnnée,7,1),1),"jjj") -> sam | D3: =TEXT(WEEKDAY(DATE(CalendrierAnnée,7,2),1),"jjj") -> dim | E3: =TEXT(WEEKDAY(DATE(CalendrierAnnée,7,3),1),"jjj") -> lun | F3: =TEXT(WEEKDAY(DATE(CalendrierAnnée,7,4),1),"jjj") -> mar | G3: =TEXT(WEEKDAY(DATE(CalendrierAnnée,7,5),1),"jjj") -> mer | H3: =TEXT(WEEKDAY(DATE(CalendrierAnnée,7,6),1),"jjj") -> jeu | I3: =TEXT(WEEKDAY(DATE(CalendrierAnnée,7,7),1),"jjj") -> ven | J3: =TEXT(WEEKDAY(DATE(CalendrierAnnée,7,8),1),"jjj") -> sam | K3: =TEXT(WEEKDAY(DATE(CalendrierAnnée,7,9),1),"jjj") -> dim | L3: =TEXT(WEEKDAY(DATE(CalendrierAnnée,7,10),1),"jjj") -> lun | M3: =TEXT(WEEKDAY(DATE(CalendrierAnnée,7,11),1),"jjj") -> mar | N3: =TEXT(WEEKDAY(DATE(CalendrierAnnée,7,12),1),"jjj") -> mer | O3: =TEXT(WEEKDAY(DATE(CalendrierAnnée,7,13),1),"jjj") -> jeu | P3: =TEXT(WEEKDAY(DATE(CalendrierAnnée,7,14),1),"jjj") -> ven | Q3: =TEXT(WEEKDAY(DATE(CalendrierAnnée,7,15),1),"jjj") -> sam | R3: =TEXT(WEEKDAY(DATE(CalendrierAnnée,7,16),1),"jjj") -> dim | S3: =TEXT(WEEKDAY(DATE(CalendrierAnnée,7,17),1),"jjj") -> lun | T3: =TEXT(WEEKDAY(DATE(CalendrierAnnée,7,18),1),"jjj") -> mar | U3: =TEXT(WEEKDAY(DATE(CalendrierAnnée,7,19),1),"jjj") -> mer | V3: =TEXT(WEEKDAY(DATE(CalendrierAnnée,7,20),1),"jjj") -> jeu | W3: =TEXT(WEEKDAY(DATE(CalendrierAnnée,7,21),1),"jjj") -> ven | X3: =TEXT(WEEKDAY(DATE(CalendrierAnnée,7,22),1),"jjj") -> sam | Y3: =TEXT(WEEKDAY(DATE(CalendrierAnnée,7,23),1),"jjj") -> dim | Z3: =TEXT(WEEKDAY(DATE(CalendrierAnnée,7,24),1),"jjj") -> lun | AA3: =TEXT(WEEKDAY(DATE(CalendrierAnnée,7,25),1),"jjj") -> mar | AB3: =TEXT(WEEKDAY(DATE(CalendrierAnnée,7,26),1),"jjj") -> mer | AC3: =TEXT(WEEKDAY(DATE(CalendrierAnnée,7,27),1),"jjj") -> jeu | AD3: =TEXT(WEEKDAY(DATE(CalendrierAnnée,7,28),1),"jjj") -> ven | AE3: =TEXT(WEEKDAY(DATE(CalendrierAnnée,7,29),1),"jjj") -> sam | AF3: =TEXT(WEEKDAY(DATE(CalendrierAnnée,7,30),1),"jjj") -> dim | AG3: =TEXT(WEEKDAY(DATE(CalendrierAnnée,7,31),1),"jjj") -> lun
A4: Nom de l’employé | C4: 1 | D4: 2 | E4: 3 | F4: 4 | G4: 5 | H4: 6 | I4: 7 | J4: 8 | K4: 9 | L4: 10 | M4: 11 | N4: 12 | O4: 13 | P4: 14 | Q4: 15 | R4: 16 | S4: 17 | T4: 18 | U4: 19 | V4: 20 | W4: 21 | X4: 22 | Y4: 23 | Z4: 24 | AA4: 25 | AB4: 26 | AC4: 27 | AD4: 28 | AE4: 29 | AF4: 30 | AG4: 31 | AH4: Nombre total de demi-journées | AI4: CP | AJ4: RTT | AK4: M | AL4: A | AM4: C P Acquis | AN4: CP en cours sur le mois | AO4: CP en cours cumulés | AP4: RTT acquis | AQ4: CP | AR4: RTT | AS4: DATE DE SORTIE et SOLDE CP
B5: Matin | T5: CP | W5: CP | X5: CP | Y5: CP | Z5: CP | AD5: CP | AE5: CP | AF5: CP | AG5: CP | AH5: =COUNTA(Août!$C5:$AG5) -> 9 | AI5: =(COUNTIFS(Août!$C5:$AG5,("cp")))/2+Juillet!AI5 -> 4.5 | AJ5: =COUNTIFS(Août!$C5:$AG5,"RTT")/2+Juillet!AJ5 -> 0 | AK5: =COUNTIFS(Août!$C5:$AG5,"m")/2+Juillet!AK5 -> 0 | AL5: =COUNTIFS(Août!$C5:$AG5,"a")/2+Juillet!AL5 -> 0
A6: 41722 | B6: A-M | T6: CP | W6: CP | X6: CP | Y6: CP | Z6: CP | AD6: CP | AE6: CP | AF6: CP | AG6: CP | AH6: =COUNTA(Août!$C6:$AG6) -> 9 | AI6: =(COUNTIFS(Août!$C6:$AG6,("cp")))/2+Juillet!AI6 -> 4.5 | AJ6: =COUNTIFS(Août!$C6:$AG6,"RTT")/2+Juillet!AJ6 -> 0 | AK6: =COUNTIFS(Août!$C6:$AG6,"m")/2+Juillet!AK6 -> 0 | AL6: =COUNTIFS(Août!$C6:$AG6,"a")/2+Juillet!AL6 -> 0
C7: =IF(C5>0,C5,IF(C6>0,C6,"")) | D7: =IF(D5>0,D5,IF(D6>0,D6,"")) | E7: =IF(E5>0,E5,IF(E6>0,E6,"")) | F7: =IF(F5>0,F5,IF(F6>0,F6,"")) | G7: =IF(G5>0,G5,IF(G6>0,G6,"")) | H7: =IF(H5>0,H5,IF(H6>0,H6,"")) | I7: =IF(I5>0,I5,IF(I6>0,I6,"")) | J7: =IF(J5>0,J5,IF(J6>0,J6,"")) | ... AG7: =IF(AG5>0,AG5,IF(AG6>0,AG6,"")) -> CP | AH7: =SUM(AH5:AH6) -> 18 | AI7: =SUM(AI5:AI6) -> 9 | AJ7: =SUM(AJ5:AJ6) -> 0 | AK7: =SUM(AK5:AK6) -> 0 | AL7: =SUM(AL5:AL6) -> 0 | AM7: =+Juin!AM7 -> 9.15 | AN7: =IF(A6="","",IF(A6>NomMois,0,IF(A6<$A$3,2.08,(NETWORKDAYS(A6,$A$2)/21.66667)*2.08))) -> 2.08 | AO7: =IF( AN7="",0,+AN7+Juillet!AO7) -> 6.24 | AQ7: =+AM7-AI7 -> 0.15 | AR7: =+AP7-AJ7 -> 0 | AS7: =+AO7+AQ7 -> 6.39
B9: Matin | C9: CP | D9: CP | AH9: =COUNTA(Août!$C9:$AG9) -> 2 | AI9: =(COUNTIFS(Août!$C9:$AG9,("cp")))/2+Juillet!AI9 -> 3.5 | AJ9: =COUNTIFS(Août!$C9:$AG9,"RTT")/2+Juillet!AJ9 -> 0 | AK9: =COUNTIFS(Août!$C9:$AG9,"m")/2+Juillet!AK9 -> 0 | AL9: =COUNTIFS(Août!$C9:$AG9,"a")/2+Juillet!AL9 -> 0
A10: 42740 | B10: A-M | C10: CP | D10: CP | AH10: =COUNTA(Août!$C10:$AG10) -> 2 | AI10: =(COUNTIFS(Août!$C10:$AG10,("cp")))/2+Juillet!AI10 -> 3.5 | AJ10: =COUNTIFS(Août!$C10:$AG10,"RTT")/2+Juillet!AJ10 -> 0 | AK10: =COUNTIFS(Août!$C10:$AG10,"m")/2+Juillet!AK10 -> 0 | AL10: =COUNTIFS(Août!$C10:$AG10,"a")/2+Juillet!AL10 -> 0
C11: =IF(C9>0,C9,IF(C10>0,C10,"")) -> CP | D11: =IF(D9>0,D9,IF(D10>0,D10,"")) -> CP | E11: =IF(E9>0,E9,IF(E10>0,E10,"")) | F11: =IF(F9>0,F9,IF(F10>0,F10,"")) | G11: =IF(G9>0,G9,IF(G10>0,G10,"")) | H11: =IF(H9>0,H9,IF(H10>0,H10,"")) | I11: =IF(I9>0,I9,IF(I10>0,I10,"")) | J11: =IF(J9>0,J9,IF(J10>0,J10,"")) | ... AG11: =IF(AG9>0,AG9,IF(AG10>0,AG10,"")) | AH11: =SUM(AH9:AH10) -> 4 | AI11: =SUM(AI9:AI10) -> 7 | AJ11: =SUM(AJ9:AJ10) -> 0 | AK11: =SUM(AK9:AK10) -> 0 | AL11: =SUM(AL9:AL10) -> 0 | AM11: =+Juin!AM11 -> 10.32 | AN11: =IF(A10="","",IF(A10>NomMois,0,IF(A10<$A$3,2.08,(NETWORKDAYS(A10,$A$2)/21.66667)*2.08))) -> 2.08 | AO11: =IF( AN11="",0,+AN11+Juillet!AO11) -> 6.24 | AQ11: =+AM11-AI11 -> 3.32 | AR11: =+AP11-AJ11 -> 0 | AS11: =+AO11+AQ11 -> 9.56
B13: Matin | P13: CP | AH13: =COUNTA(Août!$C13:$AG13) -> 1 | AI13: =(COUNTIFS(Août!$C13:$AG13,("cp")))/2+Juillet!AI13 -> 0.5 | AJ13: =COUNTIFS(Août!$C13:$AG13,"RTT")/2+Juillet!AJ13 -> 0 | AK13: =COUNTIFS(Août!$C13:$AG13,"m")/2+Juillet!AK13 -> 0 | AL13: =COUNTIFS(Août!$C13:$AG13,"a")/2+Juillet!AL13 -> 1.5
A14: 42891 | B14: A-M | P14: CP | AH14: =COUNTA(Août!$C14:$AG14) -> 1 | AI14: =(COUNTIFS(Août!$C14:$AG14,("cp")))/2+Juillet!AI14 -> 0.5 | AJ14: =COUNTIFS(Août!$C14:$AG14,"RTT")/2+Juillet!AJ14 -> 0 | AK14: =COUNTIFS(Août!$C14:$AG14,"m")/2+Juillet!AK14 -> 0 | AL14: =COUNTIFS(Août!$C14:$AG14,"a")/2+Juillet!AL14 -> 1 | AS14: 43014
C15: =IF(C13>0,C13,IF(C14>0,C14,"")) | D15: =IF(D13>0,D13,IF(D14>0,D14,"")) | E15: =IF(E13>0,E13,IF(E14>0,E14,"")) | F15: =IF(F13>0,F13,IF(F14>0,F14,"")) | G15: =IF(G13>0,G13,IF(G14>0,G14,"")) | H15: =IF(H13>0,H13,IF(H14>0,H14,"")) | I15: =IF(I13>0,I13,IF(I14>0,I14,"")) | J15: =IF(J13>0,J13,IF(J14>0,J14,"")) | ... AG15: =IF(AG13>0,AG13,IF(AG14>0,AG14,"")) | AH15: =SUM(AH13:AH14) -> 2 | AI15: =SUM(AI13:AI14) -> 1 | AJ15: =SUM(AJ13:AJ14) -> 0 | AK15: =SUM(AK13:AK14) -> 0 | AL15: =SUM(AL13:AL14) -> 2.5 | AM15: =+Juin!AM15 -> 0 | AN15: =IF(A14="","",IF(A14>NomMois,0,IF(A14<$A$3,2.08,(NETWORKDAYS(A14,$A$2)/21.66667)*2.08))) -> 2.08 | AO15: =IF( AN15="",0,+AN15+Juillet!AO15) -> 6.0799997 | AQ15: =+AM15-AI15 -> -1 | AR15: =+AP15-AJ15 -> 0 | AS15: =+AO15+AQ15 -> 5.0799997
B17: Matin | W17: CP | X17: CP | Y17: CP | Z17: CP | AA17: CP | AD17: CP | AE17: CP | AF17: CP | AG17: CP | AH17: =COUNTA(Août!$C17:$AG17) -> 9 | AI17: =(COUNTIFS(Août!$C17:$AG17,("cp")))/2+Juillet!AI17 -> 4.5 | AJ17: =COUNTIFS(Août!$C17:$AG17,"RTT")/2+Juillet!AJ17 -> 0 | AK17: =COUNTIFS(Août!$C17:$AG17,"m")/2+Juillet!AK17 -> 0 | AL17: =COUNTIFS(Août!$C17:$AG17,"a")/2+Juillet!AL17 -> 0
A18: 38923 | B18: A-M | W18: CP | X18: CP | Y18: CP | Z18: CP | AA18: CP | AD18: CP | AE18: CP | AF18: CP | AG18: CP | AH18: =COUNTA(Août!$C18:$AG18) -> 9 | AI18: =(COUNTIFS(Août!$C18:$AG18,("cp")))/2+Juillet!AI18 -> 4.5 | AJ18: =COUNTIFS(Août!$C18:$AG18,"RTT")/2+Juillet!AJ18 -> 0 | AK18: =COUNTIFS(Août!$C18:$AG18,"m")/2+Juillet!AK18 -> 0 | AL18: =COUNTIFS(Août!$C18:$AG18,"a")/2+Juillet!AL18 -> 0
C19: =IF(C17>0,C17,IF(C18>0,C18,"")) | D19: =IF(D17>0,D17,IF(D18>0,D18,"")) | E19: =IF(E17>0,E17,IF(E18>0,E18,"")) | F19: =IF(F17>0,F17,IF(F18>0,F18,"")) | G19: =IF(G17>0,G17,IF(G18>0,G18,"")) | H19: =IF(H17>0,H17,IF(H18>0,H18,"")) | I19: =IF(I17>0,I17,IF(I18>0,I18,"")) | J19: =IF(J17>0,J17,IF(J18>0,J18,"")) | ... AG19: =IF(AG17>0,AG17,IF(AG18>0,AG18,"")) -> CP | AH19: =SUM(AH17:AH18) -> 18 | AI19: =SUM(AI17:AI18) -> 9 | AJ19: =SUM(AJ17:AJ18) -> 0 | AK19: =SUM(AK17:AK18) -> 0 | AL19: =SUM(AL17:AL18) -> 0 | AM19: =+Juin!AM19 -> 24.54 | AN19: =IF(A18="","",IF(A18>NomMois,0,IF(A18<$A$3,2.08,(NETWORKDAYS(A18,$A$2)/21.66667)*2.08))) -> 2.08 | AO19: =IF( AN19="",0,+AN19+Juillet!AO19) -> 6.24 | AQ19: =+AM19-AI19 -> 15.54 | AR19: =+AP19-AJ19 -> 0 | AS19: =+AO19+AQ19 -> 21.78
B21: Matin | AH21: =COUNTA(Août!$C21:$AG21) -> 0 | AI21: =(COUNTIFS(Août!$C21:$AG21,("cp")))/2+Juillet!AI21 -> 1 | AJ21: =COUNTIFS(Août!$C21:$AG21,"RTT")/2+Juillet!AJ21 -> 0 | AK21: =COUNTIFS(Août!$C21:$AG21,"m")/2+Juillet!AK21 -> 0 | AL21: =COUNTIFS(Août!$C21:$AG21,"a")/2+Juillet!AL21 -> 0
A22: 41824 | B22: A-M | AH22: =COUNTA(Août!$C22:$AG22) -> 0 | AI22: =(COUNTIFS(Août!$C22:$AG22,("cp")))/2+Juillet!AI22 -> 1 | AJ22: =COUNTIFS(Août!$C22:$AG22,"RTT")/2+Juillet!AJ22 -> 0 | AK22: =COUNTIFS(Août!$C22:$AG22,"m")/2+Juillet!AK22 -> 0 | AL22: =COUNTIFS(Août!$C22:$AG22,"a")/2+Juillet!AL22 -> 0
C23: =IF(C21>0,C21,IF(C22>0,C22,"")) | D23: =IF(D21>0,D21,IF(D22>0,D22,"")) | E23: =IF(E21>0,E21,IF(E22>0,E22,"")) | F23: =IF(F21>0,F21,IF(F22>0,F22,"")) | G23: =IF(G21>0,G21,IF(G22>0,G22,"")) | H23: =IF(H21>0,H21,IF(H22>0,H22,"")) | I23: =IF(I21>0,I21,IF(I22>0,I22,"")) | J23: =IF(J21>0,J21,IF(J22>0,J22,"")) | ... AG23: =IF(AG21>0,AG21,IF(AG22>0,AG22,"")) | AH23: =SUM(AH21:AH22) -> 0 | AI23: =SUM(AI21:AI22) -> 2 | AJ23: =SUM(AJ21:AJ22) -> 0 | AK23: =SUM(AK21:AK22) -> 0 | AL23: =SUM(AL21:AL22) -> 0 | AM23: =+Juin!AM23 -> 11.23 | AN23: =IF(A22="","",IF(A22>NomMois,0,IF(A22<$A$3,2.08,(NETWORKDAYS(A22,$A$2)/21.66667)*2.08))) -> 2.08 | AO23: =IF( AN23="",0,+AN23+Juillet!AO23) -> 6.24 | AQ23: =+AM23-AI23 -> 9.23 | AR23: =+AP23-AJ23 -> 0 | AS23: =+AO23+AQ23 -> 15.47
B25: Matin | V25: CP | W25: CP | X25: CP | Y25: CP | Z25: CP | AH25: =COUNTA(Août!$C25:$AG25) -> 5 | AI25: =(COUNTIFS(Août!$C25:$AG25,("cp")))/2+Juillet!AI25 -> 3.5 | AJ25: =COUNTIFS(Août!$C25:$AG25,"RTT")/2+Juillet!AJ25 -> 0 | AK25: =COUNTIFS(Août!$C25:$AG25,"m")/2+Juillet!AK25 -> 0 | AL25: =COUNTIFS(Août!$C25:$AG25,"a")/2+Juillet!AL25 -> 0
A26: 38626 | B26: A-M | V26: CP | W26: CP | X26: CP | Y26: CP | Z26: CP | AH26: =COUNTA(Août!$C26:$AG26) -> 5 | AI26: =(COUNTIFS(Août!$C26:$AG26,("cp")))/2+Juillet!AI26 -> 3.5 | AJ26: =COUNTIFS(Août!$C26:$AG26,"RTT")/2+Juillet!AJ26 -> 0 | AK26: =COUNTIFS(Août!$C26:$AG26,"m")/2+Juillet!AK26 -> 0 | AL26: =COUNTIFS(Août!$C26:$AG26,"a")/2+Juillet!AL26 -> 0
C27: =IF(C25>0,C25,IF(C26>0,C26,"")) | D27: =IF(D25>0,D25,IF(D26>0,D26,"")) | E27: =IF(E25>0,E25,IF(E26>0,E26,"")) | F27: =IF(F25>0,F25,IF(F26>0,F26,"")) | G27: =IF(G25>0,G25,IF(G26>0,G26,"")) | H27: =IF(H25>0,H25,IF(H26>0,H26,"")) | I27: =IF(I25>0,I25,IF(I26>0,I26,"")) | J27: =IF(J25>0,J25,IF(J26>0,J26,"")) | ... AG27: =IF(AG25>0,AG25,IF(AG26>0,AG26,"")) | AH27: =SUM(AH25:AH26) -> 10 | AI27: =SUM(AI25:AI26) -> 7 | AJ27: =SUM(AJ25:AJ26) -> 0 | AK27: =SUM(AK25:AK26) -> 0 | AL27: =SUM(AL25:AL26) -> 0 | AM27: =+Juin!AM27 -> 28.7 | AN27: =IF(A26="","",IF(A26>NomMois,0,IF(A26<$A$3,2.08,(NETWORKDAYS(A26,$A$2)/21.66667)*2.08))) -> 2.08 | AO27: =IF( AN27="",0,+AN27+Juillet!AO27) -> 6.24 | AQ27: =+AM27-AI27 -> 21.7 | AR27: =+AP27-AJ27 -> 0 | AS27: =+AO27+AQ27 -> 27.94
AN28: =IF(A27="","",IF(A27>NomMois,0,IF(A27<$A$3,2.08,(NETWORKDAYS(A27,$A$2)/21.66667)*2.08))) | AO28: =IF( AN28="",0,+AN28+Juillet!AO28) -> 0
B29: Matin | I29: CP | J29: CP | K29: CP | L29: CP | M29: CP | P29: CP | R29: CP | S29: CP | T29: CP | W29: CP | X29: CP | Y29: CP | Z29: CP | AA29: CP | AD29: CP | AH29: =COUNTA(Août!$C29:$AG29) -> 15 | AI29: =(COUNTIFS(Août!$C29:$AG29,("cp")))/2+Juillet!AI29 -> 7.5 | AJ29: =COUNTIFS(Août!$C29:$AG29,"RTT")/2+Juillet!AJ29 -> 0 | AK29: =COUNTIFS(Août!$C29:$AG29,"m")/2+Juillet!AK29 -> 0 | AL29: =COUNTIFS(Août!$C29:$AG29,"a")/2+Juillet!AL29 -> 0
A30: 36892 | B30: A-M | F30: CP | I30: CP | J30: CP | K30: CP | L30: CP | M30: CP | P30: CP | R30: CP | S30: CP | T30: CP | W30: CP | X30: CP | Y30: CP | Z30: CP | AA30: CP | AD30: CP | AH30: =COUNTA(Août!$C30:$AG30) -> 16 | AI30: =(COUNTIFS(Août!$C30:$AG30,("cp")))/2+Juillet!AI30 -> 8 | AJ30: =COUNTIFS(Août!$C30:$AG30,"RTT")/2+Juillet!AJ30 -> 0 | AK30: =COUNTIFS(Août!$C30:$AG30,"m")/2+Juillet!AK30 -> 0 | AL30: =COUNTIFS(Août!$C30:$AG30,"a")/2+Juillet!AL30 -> 0
C31: =IF(C29>0,C29,IF(C30>0,C30,"")) | D31: =IF(D29>0,D29,IF(D30>0,D30,"")) | E31: =IF(E29>0,E29,IF(E30>0,E30,"")) | F31: =IF(F29>0,F29,IF(F30>0,F30,"")) -> CP | G31: =IF(G29>0,G29,IF(G30>0,G30,"")) | H31: =IF(H29>0,H29,IF(H30>0,H30,"")) | I31: =IF(I29>0,I29,IF(I30>0,I30,"")) -> CP | J31: =IF(J29>0,J29,IF(J30>0,J30,"")) -> CP | ... AG31: =IF(AG29>0,AG29,IF(AG30>0,AG30,"")) | AH31: =SUM(AH29:AH30) -> 31 | AI31: =SUM(AI29:AI30) -> 15.5 | AJ31: =SUM(AJ29:AJ30) -> 0 | AK31: =SUM(AK29:AK30) -> 0 | AL31: =SUM(AL29:AL30) -> 0 | AM31: =+Juin!AM31 -> 30.37 | AN31: =IF(A30="","",IF(A30>NomMois,0,IF(A30<$A$3,2.08,(NETWORKDAYS(A30,$A$2)/21.66667)*2.08))) -> 2.08 | AO31: =IF( AN31="",0,+AN31+Juillet!AO31) -> 6.24 | AQ31: =+AM31-AI31 -> 14.87 | AR31: =+AP31-AJ31 -> 0 | AS31: =+AO31+AQ31 -> 21.11
B33: Matin | C33: CP | D33: CP | E33: CP | F33: CP | AH33: =COUNTA(Août!$C33:$AG33) -> 4 | AI33: =(COUNTIFS(Août!$C33:$AG33,("cp")))/2+Juillet!AI33 -> 8 | AJ33: =COUNTIFS(Août!$C33:$AG33,"RTT")/2+Juillet!AJ33 -> 0 | AK33: =COUNTIFS(Août!$C33:$AG33,"m")/2+Juillet!AK33 -> 0 | AL33: =COUNTIFS(Août!$C33:$AG33,"a")/2+Juillet!AL33 -> 0
A34: 42110 | B34: A-M | C34: CP | D34: CP | E34: CP | F34: CP | AH34: =COUNTA(Août!$C34:$AG34) -> 4 | AI34: =(COUNTIFS(Août!$C34:$AG34,("cp")))/2+Juillet!AI34 -> 8 | AJ34: =COUNTIFS(Août!$C34:$AG34,"RTT")/2+Juillet!AJ34 -> 0 | AK34: =COUNTIFS(Août!$C34:$AG34,"m")/2+Juillet!AK34 -> 0 | AL34: =COUNTIFS(Août!$C34:$AG34,"a")/2+Juillet!AL34 -> 0
C35: =IF(C33>0,C33,IF(C34>0,C34,"")) -> CP | D35: =IF(D33>0,D33,IF(D34>0,D34,"")) -> CP | E35: =IF(E33>0,E33,IF(E34>0,E34,"")) -> CP | F35: =IF(F33>0,F33,IF(F34>0,F34,"")) -> CP | G35: =IF(G33>0,G33,IF(G34>0,G34,"")) | H35: =IF(H33>0,H33,IF(H34>0,H34,"")) | I35: =IF(I33>0,I33,IF(I34>0,I34,"")) | J35: =IF(J33>0,J33,IF(J34>0,J34,"")) | ... AG35: =IF(AG33>0,AG33,IF(AG34>0,AG34,"")) | AH35: =SUM(AH33:AH34) -> 8 | AI35: =SUM(AI33:AI34) -> 16 | AJ35: =SUM(AJ33:AJ34) -> 0 | AK35: =SUM(AK33:AK34) -> 0 | AL35: =SUM(AL33:AL34) -> 0 | AM35: =+Juin!AM35 -> 14.56 | AN35: =IF(A34="","",IF(A34>NomMois,0,IF(A34<$A$3,2.08,(NETWORKDAYS(A34,$A$2)/21.66667)*2.08))) -> 2.08 | AO35: =IF( AN35="",0,+AN35+Juillet!AO35) -> 6.24 | AQ35: =+AM35-AI35 -> -1.44 | AR35: =+AP35-AJ35 -> 0 | AS35: =+AO35+AQ35 -> 4.8
B37: Matin | M37: CP | P37: CP | R37: CP | S37: CP | T37: CP | W37: CP | X37: CP | Y37: CP | Z37: CP | AA37: CP | AH37: =COUNTA(Août!$C37:$AG37) -> 10 | AI37: =(COUNTIFS(Août!$C37:$AG37,("cp")))/2+Juillet!AI37 -> 5 | AJ37: =COUNTIFS(Août!$C37:$AG37,"RTT")/2+Juillet!AJ37 -> 0 | AK37: =COUNTIFS(Août!$C37:$AG37,"m")/2+Juillet!AK37 -> 0 | AL37: =COUNTIFS(Août!$C37:$AG37,"a")/2+Juillet!AL37 -> 0
A38: 42373 | B38: A-M | M38: CP | P38: CP | R38: CP | S38: CP | T38: CP | W38: CP | X38: CP | Y38: CP | Z38: CP | AA38: CP | AH38: =COUNTA(Août!$C38:$AG38) -> 10 | AI38: =(COUNTIFS(Août!$C38:$AG38,("cp")))/2+Juillet!AI38 -> 5 | AJ38: =COUNTIFS(Août!$C38:$AG38,"RTT")/2+Juillet!AJ38 -> 0 | AK38: =COUNTIFS(Août!$C38:$AG38,"m")/2+Juillet!AK38 -> 0 | AL38: =COUNTIFS(Août!$C38:$AG38,"a")/2+Juillet!AL38 -> 0
C39: =IF(C37>0,C37,IF(C38>0,C38,"")) | D39: =IF(D37>0,D37,IF(D38>0,D38,"")) | E39: =IF(E37>0,E37,IF(E38>0,E38,"")) | F39: =IF(F37>0,F37,IF(F38>0,F38,"")) | G39: =IF(G37>0,G37,IF(G38>0,G38,"")) | H39: =IF(H37>0,H37,IF(H38>0,H38,"")) | I39: =IF(I37>0,I37,IF(I38>0,I38,"")) | J39: =IF(J37>0,J37,IF(J38>0,J38,"")) | ... AG39: =IF(AG37>0,AG37,IF(AG38>0,AG38,"")) | AH39: =SUM(AH37:AH38) -> 20 | AI39: =SUM(AI37:AI38) -> 10 | AJ39: =SUM(AJ37:AJ38) -> 0 | AK39: =SUM(AK37:AK38) -> 0 | AL39: =SUM(AL37:AL38) -> 0 | AM39: =+Juin!AM39 -> 14.14 | AN39: =IF(A38="","",IF(A38>NomMois,0,IF(A38<$A$3,2.08,(NETWORKDAYS(A38,$A$2)/21.66667)*2.08))) -> 2.08 | AO39: =IF( AN39="",0,+AN39+Juillet!AO39) -> 6.24 | AQ39: =+AM39-AI39 -> 4.14 | AR39: =+AP39-AJ39 -> 0 | AS39: =+AO39+AQ39 -> 10.38
B41: Matin | AH41: =COUNTA(Août!$C41:$AG41) -> 0 | AI41: =(COUNTIFS(Août!$C41:$AG41,("cp")))/2+Juillet!AI41 -> 7.5 | AJ41: =COUNTIFS(Août!$C41:$AG41,"RTT")/2+Juillet!AJ41 -> 0 | AK41: =COUNTIFS(Août!$C41:$AG41,"m")/2+Juillet!AK41 -> 0 | AL41: =COUNTIFS(Août!$C41:$AG41,"a")/2+Juillet!AL41 -> 0
A42: 41821 | B42: A-M | AH42: =COUNTA(Août!$C42:$AG42) -> 0 | AI42: =(COUNTIFS(Août!$C42:$AG42,("cp")))/2+Juillet!AI42 -> 7.5 | AJ42: =COUNTIFS(Août!$C42:$AG42,"RTT")/2+Juillet!AJ42 -> 0 | AK42: =COUNTIFS(Août!$C42:$AG42,"m")/2+Juillet!AK42 -> 0 | AL42: =COUNTIFS(Août!$C42:$AG42,"a")/2+Juillet!AL42 -> 0
C43: =IF(C41>0,C41,IF(C42>0,C42,"")) | D43: =IF(D41>0,D41,IF(D42>0,D42,"")) | E43: =IF(E41>0,E41,IF(E42>0,E42,"")) | F43: =IF(F41>0,F41,IF(F42>0,F42,"")) | G43: =IF(G41>0,G41,IF(G42>0,G42,"")) | H43: =IF(H41>0,H41,IF(H42>0,H42,"")) | I43: =IF(I41>0,I41,IF(I42>0,I42,"")) | J43: =IF(J41>0,J41,IF(J42>0,J42,"")) | ... AG43: =IF(AG41>0,AG41,IF(AG42>0,AG42,"")) | AH43: =SUM(AH41:AH42) -> 0 | AI43: =SUM(AI41:AI42) -> 15 | AJ43: =SUM(AJ41:AJ42) -> 0 | AK43: =SUM(AK41:AK42) -> 0 | AL43: =SUM(AL41:AL42) -> 0 | AM43: =+Juin!AM43 -> 20.38 | AN43: =IF(A42="","",IF(A42>NomMois,0,IF(A42<$A$3,2.08,(NETWORKDAYS(A42,$A$2)/21.66667)*2.08))) -> 2.08 | AO43: =IF( AN43="",0,+AN43+Juillet!AO43) -> 6.24 | AQ43: =+AM43-AI43 -> 5.38 | AR43: =+AP43-AJ43 -> 0 | AS43: =+AO43+AQ43 -> 11.62
AH44: =COUNTA(Août!$C44:$AG44) -> 0 | AI44: =(COUNTIFS(Août!$C44:$AF44,("cp")))/2 -> 0 | AJ44: =COUNTIFS(Août!$C44:$AF44,"RTT")/2 -> 0 | AK44: =COUNTIFS(Août!$C44:$AF44,"m")/2 -> 0 | AL44: =COUNTIFS(Août!$C44:$AF44,"a")/2 -> 0
B45: Matin | AH45: =COUNTA(Août!$C45:$AG45) -> 0 | AI45: =(COUNTIFS(Août!$C45:$AG45,("cp")))/2+Juillet!AI45 -> 0 | AJ45: =COUNTIFS(Août!$C45:$AG45,"RTT")/2+Juillet!AJ45 -> 0 | AK45: =COUNTIFS(Août!$C45:$AG45,"m")/2+Juillet!AK45 -> 0 | AL45: =COUNTIFS(Août!$C45:$AG45,"a")/2+Juillet!AL45 -> 0
A46: 40575 | B46: A-M | AH46: =COUNTA(Août!$C46:$AG46) -> 0 | AI46: =(COUNTIFS(Août!$C46:$AG46,("cp")))/2+Juillet!AI46 -> 0.5 | AJ46: =COUNTIFS(Août!$C46:$AG46,"RTT")/2+Juillet!AJ46 -> 0 | AK46: =COUNTIFS(Août!$C46:$AG46,"m")/2+Juillet!AK46 -> 0 | AL46: =COUNTIFS(Août!$C46:$AG46,"a")/2+Juillet!AL46 -> 0
C47: =IF(C45>0,C45,IF(C46>0,C46,"")) | D47: =IF(D45>0,D45,IF(D46>0,D46,"")) | E47: =IF(E45>0,E45,IF(E46>0,E46,"")) | F47: =IF(F45>0,F45,IF(F46>0,F46,"")) | G47: =IF(G45>0,G45,IF(G46>0,G46,"")) | H47: =IF(H45>0,H45,IF(H46>0,H46,"")) | I47: =IF(I45>0,I45,IF(I46>0,I46,"")) | J47: =IF(J45>0,J45,IF(J46>0,J46,"")) | ... AG47: =IF(AG45>0,AG45,IF(AG46>0,AG46,"")) | AH47: =SUM(AH45:AH46) -> 0 | AI47: =SUM(AI45:AI46) -> 0.5 | AJ47: =SUM(AJ45:AJ46) -> 0 | AK47: =SUM(AK45:AK46) -> 0 | AL47: =SUM(AL45:AL46) -> 0 | AM47: =+Juin!AM47 -> 24.96 | AN47: =IF(A46="","",IF(A46>NomMois,0,IF(A46<$A$3,2.08,(NETWORKDAYS(A46,$A$2)/21.66667)*2.08))) -> 2.08 | AO47: =IF( AN47="",0,+AN47+Juillet!AO47) -> 6.24 | AQ47: =+AM47-AI47 -> 24.46 | AR47: =+AP47-AJ47 -> 0 | AS47: =+AO47+AQ47 -> 30.7
B49: Matin | AH49: =COUNTA(Août!$C49:$AG49) -> 0 | AI49: =(COUNTIFS(Août!$C49:$AG49,("cp")))/2+Juillet!AI49 -> 0.5 | AJ49: =COUNTIFS(Août!$C49:$AG49,"RTT")/2+Juillet!AJ49 -> 0 | AK49: =COUNTIFS(Août!$C49:$AG49,"m")/2+Juillet!AK49 -> 0 | AL49: =COUNTIFS(Août!$C49:$AG49,"a")/2+Juillet!AL49 -> 0
...

Sheet Septembre
A1: Planification des absences des employés
A2: 43008 | C2: Dates d’absence | AH2: 2017 | AI2: Nombre de jours pris | AM2: Nombre de Jours acquis | AQ2: Solde
