Workbook
Name AnnéeCalendrier: Janvier!$AH$2
Name CalendrierAnnée: Août!$AH$2
Name CalendrierAnnée: Avril!$AH$2
Name CalendrierAnnée: Décembre!$AH$2
Name CalendrierAnnée: Février!$AH$2
Name CalendrierAnnée: Juillet!$AH$2
Name CalendrierAnnée: Juin!$AH$2
Name CalendrierAnnée: Mai!$AH$2
Name CalendrierAnnée: Mars!$AH$2
Name CalendrierAnnée: Novembre!$AH$2
Name CalendrierAnnée: Octobre!$AH$2
Name CalendrierAnnée: Septembre!$AH$2
Name CalendrierAnnée: #REF!
Name CléCongés: Août!$H$127
Name CléCongés: Avril!$H$127
Name CléCongés: Décembre!$H$127
Name CléCongés: Février!$H$127
Name CléCongés: Juillet!$H$127
Name CléCongés: Juin!$H$127
Name CléCongés: Mai!$H$127
Name CléCongés: Mars!$H$127
Name CléCongés: Novembre!$H$127
Name CléCongés: Octobre!$H$127
Name CléCongés: Septembre!$H$127
Name CléCongés: #REF!
Name CléMaladie: Août!$P$127
Name CléMaladie: Avril!$P$127
Name CléMaladie: Décembre!$P$127
Name CléMaladie: Février!$P$127
Name CléMaladie: Juillet!$P$127
Name CléMaladie: Juin!$P$127
Name CléMaladie: Mai!$P$127
Name CléMaladie: Mars!$P$127
Name CléMaladie: Novembre!$P$127
Name CléMaladie: Octobre!$P$127
Name CléMaladie: Septembre!$P$127
Name CléMaladie: #REF!
Name CléPersonnalisée1: Août!$T$127
Name CléPersonnalisée1: Avril!$T$127
Name CléPersonnalisée1: Décembre!$T$127
Name CléPersonnalisée1: Février!$T$127
Name CléPersonnalisée1: Juillet!$T$127
Name CléPersonnalisée1: Juin!$T$127
Name CléPersonnalisée1: Mai!$T$127
Name CléPersonnalisée1: Mars!$T$127
Name CléPersonnalisée1: Novembre!$T$127
Name CléPersonnalisée1: Octobre!$T$127
Name CléPersonnalisée1: Septembre!$T$127
Name CléPersonnalisée1: #REF!
Name CléPersonnalisée2: Août!$Y$127
Name CléPersonnalisée2: Avril!$Y$127
Name CléPersonnalisée2: Décembre!$Y$127
Name CléPersonnalisée2: Février!$Y$127
Name CléPersonnalisée2: Juillet!$Y$127
Name CléPersonnalisée2: Juin!$Y$127
Name CléPersonnalisée2: Mai!$Y$127
Name CléPersonnalisée2: Mars!$Y$127
Name CléPersonnalisée2: Novembre!$Y$127
Name CléPersonnalisée2: Octobre!$Y$127
Name CléPersonnalisée2: Septembre!$Y$127

Sheet Juin
A1: Planification des absences des employés
A2: 42916 | C2: Dates d’absence | AH2: 2017 | AI2: Nombre de jours pris | AM2: Nombre de Jours acquis | AQ2: Solde
A3: 42887 | C3: =TEXT(WEEKDAY(DATE(CalendrierAnnée,6,1),1),"jjj") -> jeu | D3: =TEXT(WEEKDAY(DATE(CalendrierAnnée,6,2),1),"jjj") -> ven | E3: =TEXT(WEEKDAY(DATE(CalendrierAnnée,6,3),1),"jjj") -> sam | F3: =TEXT(WEEKDAY(DATE(CalendrierAnnée,6,4),1),"jjj") -> dim | G3: =TEXT(WEEKDAY(DATE(CalendrierAnnée,6,5),1),"jjj") -> lun | H3: =TEXT(WEEKDAY(DATE(CalendrierAnnée,6,6),1),"jjj") -> mar | I3: =TEXT(WEEKDAY(DATE(CalendrierAnnée,6,7),1),"jjj") -> mer | J3: =TEXT(WEEKDAY(DATE(CalendrierAnnée,6,8),1),"jjj") -> jeu | K3: =TEXT(WEEKDAY(DATE(CalendrierAnnée,6,9),1),"jjj") -> ven | L3: =TEXT(WEEKDAY(DATE(CalendrierAnnée,6,10),1),"jjj") -> sam | M3: =TEXT(WEEKDAY(DATE(CalendrierAnnée,6,11),1),"jjj") -> dim | N3: =TEXT(WEEKDAY(DATE(CalendrierAnnée,6,12),1),"jjj") -> lun | O3: =TEXT(WEEKDAY(DATE(CalendrierAnnée,6,13),1),"jjj") -> mar | P3: =TEXT(WEEKDAY(DATE(CalendrierAnnée,6,14),1),"jjj") -> mer | Q3: =TEXT(WEEKDAY(DATE(CalendrierAnnée,6,15),1),"jjj") -> jeu | R3: =TEXT(WEEKDAY(DATE(CalendrierAnnée,6,16),1),"jjj") -> ven | S3: =TEXT(WEEKDAY(DATE(CalendrierAnnée,6,17),1),"jjj") -> sam | T3: =TEXT(WEEKDAY(DATE(CalendrierAnnée,6,18),1),"jjj") -> dim | U3: =TEXT(WEEKDAY(DATE(CalendrierAnnée,6,19),1),"jjj") -> lun | V3: =TEXT(WEEKDAY(DATE(CalendrierAnnée,6,20),1),"jjj") -> mar | W3: =TEXT(WEEKDAY(DATE(CalendrierAnnée,6,21),1),"jjj") -> mer | X3: =TEXT(WEEKDAY(DATE(CalendrierAnnée,6,22),1),"jjj") -> jeu | Y3: =TEXT(WEEKDAY(DATE(CalendrierAnnée,6,23),1),"jjj") -> ven | Z3: =TEXT(WEEKDAY(DATE(CalendrierAnnée,6,24),1),"jjj") -> sam | AA3: =TEXT(WEEKDAY(DATE(CalendrierAnnée,6,25),1),"jjj") -> dim | AB3: =TEXT(WEEKDAY(DATE(CalendrierAnnée,6,26),1),"jjj") -> lun | AC3: =TEXT(WEEKDAY(DATE(CalendrierAnnée,6,27),1),"jjj") -> mar | AD3: =TEXT(WEEKDAY(DATE(CalendrierAnnée,6,28),1),"jjj") -> mer | AE3: =TEXT(WEEKDAY(DATE(CalendrierAnnée,6,29),1),"jjj") -> jeu | AF3: =TEXT(WEEKDAY(DATE(CalendrierAnnée,6,30),1),"jjj") -> ven
A4: Nom employé | C4: 1 | D4: 2 | E4: 3 | F4: 4 | G4: 5 | H4: 6 | I4: 7 | J4: 8 | K4: 9 | L4: 10 | M4: 11 | N4: 12 | O4: 13 | P4: 14 | Q4: 15 | R4: 16 | S4: 17 | T4: 18 | U4: 19 | V4: 20 | W4: 21 | X4: 22 | Y4: 23 | Z4: 24 | AA4: 25 | AB4: 26 | AC4: 27 | AD4: 28 | AE4: 29 | AF4: 30 | AH4: Nombre total de demi-journées | AI4: CP | AJ4: RTT | AK4: M | AL4: A | AM4: C P Acquis | AN4: CP en cours sur le mois | AO4: CP en cours cumulés | AP4: RTT acquis | AQ4: CP | AR4: RTT | AS4: DATE DE SORTIE et SOLDE CP
B5: Matin | AH5: =COUNTA(Juin!$C5:$AF5) -> 0 | AI5: =(COUNTIFS(Juin!$C5:$AF5,("cp")))/2 -> 0 | AJ5: =COUNTIFS(Juin!$C5:$AF5,"RTT")/2 -> 0 | AK5: =COUNTIFS(Juin!$C5:$AF5,"m")/2 -> 0 | AL5: =COUNTIFS(Juin!$C5:$AF5,"a")/2 -> 0
A6: 41722 | B6: A-M | AH6: =COUNTA(Juin!$C6:$AF6) -> 0 | AI6: =(COUNTIFS(Juin!$C6:$AF6,("cp")))/2 -> 0 | AJ6: =COUNTIFS(Juin!$C6:$AG6,"RTT")/2 -> 0 | AK6: =COUNTIFS(Juin!$C6:$AG6,"m")/2 -> 0 | AL6: =COUNTIFS(Juin!$C6:$AG6,"a")/2 -> 0
C7: =IF(C5>0,C5,IF(C6>0,C6,"")) | D7: =IF(D5>0,D5,IF(D6>0,D6,"")) | E7: =IF(E5>0,E5,IF(E6>0,E6,"")) | F7: =IF(F5>0,F5,IF(F6>0,F6,"")) | G7: =IF(G5>0,G5,IF(G6>0,G6,"")) | H7: =IF(H5>0,H5,IF(H6>0,H6,"")) | I7: =IF(I5>0,I5,IF(I6>0,I6,"")) | J7: =IF(J5>0,J5,IF(J6>0,J6,"")) | ... AG7: =IF(AG5>0,AG5,IF(AG6>0,AG6,"")) | AH7: =SUM(AH5:AH6) -> 0 | AI7: =SUM(AI5:AI6) -> 0 | AJ7: =SUM(AJ5:AJ6) -> 0 | AK7: =SUM(AK5:AK6) -> 0 | AL7: =SUM(AL5:AL6) -> 0 | AM7: 9.15 | AN7: =IF(A6="","",IF(A6>NomMois,0,IF(A6<$A$3,2.08,(NETWORKDAYS(A6,$A$2)/21.66667)*2.08))) -> 2.08 | AO7: =IF(AN7="",0,+AN7) -> 2.08 | AQ7: =+AM7-AI7 -> 9.15 | AR7: =+AP7-AJ7 -> 0 | AS7: =+AO7+AQ7 -> 11.23
B9: Matin | AH9: =COUNTA(Juin!$C9:$AF9) -> 0 | AI9: =(COUNTIFS(Juin!$C9:$AF9,("cp")))/2 -> 0 | AJ9: =COUNTIFS(Juin!$C9:$AG9,"RTT")/2 -> 0 | AK9: =COUNTIFS(Juin!$C9:$AG9,"m")/2 -> 0 | AL9: =COUNTIFS(Juin!$C9:$AG9,"a")/2 -> 0
A10: 42740 | B10: A-M | AH10: =COUNTA(Juin!$C10:$AF10) -> 0 | AI10: =(COUNTIFS(Juin!$C10:$AF10,("cp")))/2 -> 0 | AJ10: =COUNTIFS(Juin!$C10:$AG10,"RTT")/2 -> 0 | AK10: =COUNTIFS(Juin!$C10:$AG10,"m")/2 -> 0 | AL10: =COUNTIFS(Juin!$C10:$AG10,"a")/2 -> 0
C11: =IF(C9>0,C9,IF(C10>0,C10,"")) | D11: =IF(D9>0,D9,IF(D10>0,D10,"")) | E11: =IF(E9>0,E9,IF(E10>0,E10,"")) | F11: =IF(F9>0,F9,IF(F10>0,F10,"")) | G11: =IF(G9>0,G9,IF(G10>0,G10,"")) | H11: =IF(H9>0,H9,IF(H10>0,H10,"")) | I11: =IF(I9>0,I9,IF(I10>0,I10,"")) | J11: =IF(J9>0,J9,IF(J10>0,J10,"")) | ... AG11: =IF(AG9>0,AG9,IF(AG10>0,AG10,"")) | AH11: =SUM(AH9:AH10) -> 0 | AI11: =SUM(AI9:AI10) -> 0 | AJ11: =SUM(AJ9:AJ10) -> 0 | AK11: =SUM(AK9:AK10) -> 0 | AL11: =SUM(AL9:AL10) -> 0 | AM11: 10.32 | AN11: =IF(A10="","",IF(A10>NomMois,0,IF(A10<$A$3,2.08,(NETWORKDAYS(A10,$A$2)/21.66667)*2.08))) -> 2.08 | AO11: =IF(AN11="",0,+AN11) -> 2.08 | AQ11: =+AM11-AI11 -> 10.32 | AR11: =+AP11-AJ11 -> 0 | AS11: =+AO11+AQ11 -> 12.4
B13: Matin | AH13: =COUNTA(Juin!$C13:$AF13) -> 0 | AI13: =(COUNTIFS(Juin!$C13:$AF13,("cp")))/2 -> 0 | AJ13: =COUNTIFS(Juin!$C13:$AG13,"RTT")/2 -> 0 | AK13: =COUNTIFS(Juin!$C13:$AG13,"m")/2 -> 0 | AL13: =COUNTIFS(Juin!$C13:$AG13,"a")/2 -> 0
A14: 42891 | B14: A-M | AH14: =COUNTA(Juin!$C14:$AF14) -> 0 | AI14: =(COUNTIFS(Juin!$C14:$AF14,("cp")))/2 -> 0 | AJ14: =COUNTIFS(Juin!$C14:$AG14,"RTT")/2 -> 0 | AK14: =COUNTIFS(Juin!$C14:$AG14,"m")/2 -> 0 | AL14: =COUNTIFS(Juin!$C14:$AG14,"a")/2 -> 0 | AS14: 43014
C15: =IF(C13>0,C13,IF(C14>0,C14,"")) | D15: =IF(D13>0,D13,IF(D14>0,D14,"")) | E15: =IF(E13>0,E13,IF(E14>0,E14,"")) | F15: =IF(F13>0,F13,IF(F14>0,F14,"")) | G15: =IF(G13>0,G13,IF(G14>0,G14,"")) | H15: =IF(H13>0,H13,IF(H14>0,H14,"")) | I15: =IF(I13>0,I13,IF(I14>0,I14,"")) | J15: =IF(J13>0,J13,IF(J14>0,J14,"")) | ... AG15: =IF(AG13>0,AG13,IF(AG14>0,AG14,"")) | AH15: =SUM(AH13:AH14) -> 0 | AI15: =SUM(AI13:AI14) -> 0 | AJ15: =SUM(AJ13:AJ14) -> 0 | AK15: =SUM(AK13:AK14) -> 0 | AL15: =SUM(AL13:AL14) -> 0 | AN15: =IF(A14="","",IF(A14>NomMois,0,IF(A14<$A$3,2.08,(NETWORKDAYS(A14,$A$2)/21.66667)*2.08))) -> 1.9199997 | AO15: =IF(AN15="",0,+AN15) -> 1.9199997 | AQ15: =+AM15-AI15 -> 0 | AR15: =+AP15-AJ15 -> 0 | AS15: =+AO15+AQ15 -> 1.9199997
B17: Matin | AH17: =COUNTA(Juin!$C17:$AF17) -> 0 | AI17: =(COUNTIFS(Juin!$C17:$AF17,("cp")))/2 -> 0 | AJ17: =(COUNTIFS(Juin!$C17:$AG17,("c")))/2 -> 0 | AK17: =COUNTIFS(Juin!$C17:$AG17,"RTT")/2 -> 0 | AL17: =COUNTIFS(Juin!$C17:$AG17,"m")/2 -> 0
A18: 38923 | B18: A-M | AH18: =COUNTA(Juin!$C18:$AF18) -> 0 | AI18: =(COUNTIFS(Juin!$C18:$AF18,("cp")))/2 -> 0 | AJ18: =(COUNTIFS(Juin!$C18:$AG18,("c")))/2 -> 0 | AK18: =COUNTIFS(Juin!$C18:$AG18,"RTT")/2 -> 0 | AL18: =COUNTIFS(Juin!$C18:$AG18,"m")/2 -> 0
C19: =IF(C17>0,C17,IF(C18>0,C18,"")) | D19: =IF(D17>0,D17,IF(D18>0,D18,"")) | E19: =IF(E17>0,E17,IF(E18>0,E18,"")) | F19: =IF(F17>0,F17,IF(F18>0,F18,"")) | G19: =IF(G17>0,G17,IF(G18>0,G18,"")) | H19: =IF(H17>0,H17,IF(H18>0,H18,"")) | I19: =IF(I17>0,I17,IF(I18>0,I18,"")) | J19: =IF(J17>0,J17,IF(J18>0,J18,"")) | ... AG19: =IF(AG17>0,AG17,IF(AG18>0,AG18,"")) | AH19: =SUM(AH17:AH18) -> 0 | AI19: =SUM(AI17:AI18) -> 0 | AJ19: =SUM(AJ17:AJ18) -> 0 | AK19: =SUM(AK17:AK18) -> 0 | AL19: =SUM(AL17:AL18) -> 0 | AM19: 24.54 | AN19: =IF(A18="","",IF(A18>NomMois,0,IF(A18<$A$3,2.08,(NETWORKDAYS(A18,$A$2)/21.66667)*2.08))) -> 2.08 | AO19: =IF(AN19="",0,+AN19) -> 2.08 | AQ19: =+AM19-AI19 -> 24.54 | AR19: =+AP19-AJ19 -> 0 | AS19: =+AO19+AQ19 -> 26.62
B21: Matin | AH21: =COUNTA(Juin!$C21:$AF21) -> 0 | AI21: =(COUNTIFS(Juin!$C21:$AF21,("cp")))/2 -> 0 | AJ21: =(COUNTIFS(Juin!$C21:$AG21,("c")))/2 -> 0 | AK21: =COUNTIFS(Juin!$C21:$AG21,"RTT")/2 -> 0 | AL21: =COUNTIFS(Juin!$C21:$AG21,"m")/2 -> 0
A22: 41824 | B22: A-M | AH22: =COUNTA(Juin!$C22:$AF22) -> 0 | AI22: =(COUNTIFS(Juin!$C22:$AF22,("cp")))/2 -> 0 | AJ22: =(COUNTIFS(Juin!$C22:$AG22,("c")))/2 -> 0 | AK22: =COUNTIFS(Juin!$C22:$AG22,"RTT")/2 -> 0 | AL22: =COUNTIFS(Juin!$C22:$AG22,"m")/2 -> 0
C23: =IF(C21>0,C21,IF(C22>0,C22,"")) | D23: =IF(D21>0,D21,IF(D22>0,D22,"")) | E23: =IF(E21>0,E21,IF(E22>0,E22,"")) | F23: =IF(F21>0,F21,IF(F22>0,F22,"")) | G23: =IF(G21>0,G21,IF(G22>0,G22,"")) | H23: =IF(H21>0,H21,IF(H22>0,H22,"")) | I23: =IF(I21>0,I21,IF(I22>0,I22,"")) | J23: =IF(J21>0,J21,IF(J22>0,J22,"")) | ... AG23: =IF(AG21>0,AG21,IF(AG22>0,AG22,"")) | AH23: =SUM(AH21:AH22) -> 0 | AI23: =SUM(AI21:AI22) -> 0 | AJ23: =SUM(AJ21:AJ22) -> 0 | AK23: =SUM(AK21:AK22) -> 0 | AL23: =SUM(AL21:AL22) -> 0 | AM23: 11.23 | AN23: =IF(A22="","",IF(A22>NomMois,0,IF(A22<$A$3,2.08,(NETWORKDAYS(A22,$A$2)/21.66667)*2.08))) -> 2.08 | AO23: =IF(AN23="",0,+AN23) -> 2.08 | AQ23: =+AM23-AI23 -> 11.23 | AR23: =+AP23-AJ23 -> 0 | AS23: =+AO23+AQ23 -> 13.31
B25: Matin | I25: CP | J25: CP | AH25: =COUNTA(Juin!$C25:$AF25) -> 2 | AI25: =(COUNTIFS(Juin!$C25:$AF25,("cp")))/2 -> 1 | AJ25: =COUNTIFS(Juin!$C25:$AG25,"RTT")/2 -> 0 | AK25: =COUNTIFS(Juin!$C25:$AG25,"m")/2 -> 0 | AL25: =COUNTIFS(Juin!$C25:$AG25,"a")/2 -> 0
A26: 38626 | B26: A-M | I26: CP | J26: CP | AH26: =COUNTA(Juin!$C26:$AF26) -> 2 | AI26: =(COUNTIFS(Juin!$C26:$AF26,("cp")))/2 -> 1 | AJ26: =COUNTIFS(Juin!$C26:$AG26,"RTT")/2 -> 0 | AK26: =COUNTIFS(Juin!$C26:$AG26,"m")/2 -> 0 | AL26: =COUNTIFS(Juin!$C26:$AG26,"a")/2 -> 0
C27: =IF(C25>0,C25,IF(C26>0,C26,"")) | D27: =IF(D25>0,D25,IF(D26>0,D26,"")) | E27: =IF(E25>0,E25,IF(E26>0,E26,"")) | F27: =IF(F25>0,F25,IF(F26>0,F26,"")) | G27: =IF(G25>0,G25,IF(G26>0,G26,"")) | H27: =IF(H25>0,H25,IF(H26>0,H26,"")) | I27: =IF(I25>0,I25,IF(I26>0,I26,"")) -> CP | J27: =IF(J25>0,J25,IF(J26>0,J26,"")) -> CP | ... AG27: =IF(AG25>0,AG25,IF(AG26>0,AG26,"")) | AH27: =SUM(AH25:AH26) -> 4 | AI27: =SUM(AI25:AI26) -> 2 | AJ27: =SUM(AJ25:AJ26) -> 0 | AK27: =SUM(AK25:AK26) -> 0 | AL27: =SUM(AL25:AL26) -> 0 | AM27: 28.7 | AN27: =IF(A26="","",IF(A26>NomMois,0,IF(A26<$A$3,2.08,(NETWORKDAYS(A26,$A$2)/21.66667)*2.08))) -> 2.08 | AO27: =IF(AN27="",0,+AN27) -> 2.08 | AQ27: =+AM27-AI27 -> 26.7 | AR27: =+AP27-AJ27 -> 0 | AS27: =+AO27+AQ27 -> 28.78
B29: Matin | AH29: =COUNTA(Juin!$C29:$AF29) -> 0 | AI29: =(COUNTIFS(Juin!$C29:$AF29,("cp")))/2 -> 0 | AJ29: =COUNTIFS(Juin!$C29:$AG29,"RTT")/2 -> 0 | AK29: =COUNTIFS(Juin!$C29:$AG29,"m")/2 -> 0 | AL29: =COUNTIFS(Juin!$C29:$AG29,"a")/2 -> 0
A30: 36892 | B30: A-M | AH30: =COUNTA(Juin!$C30:$AF30) -> 0 | AI30: =(COUNTIFS(Juin!$C30:$AF30,("cp")))/2 -> 0 | AJ30: =COUNTIFS(Juin!$C30:$AG30,"RTT")/2 -> 0 | AK30: =COUNTIFS(Juin!$C30:$AG30,"m")/2 -> 0 | AL30: =COUNTIFS(Juin!$C30:$AG30,"a")/2 -> 0
C31: =IF(C29>0,C29,IF(C30>0,C30,"")) | D31: =IF(D29>0,D29,IF(D30>0,D30,"")) | E31: =IF(E29>0,E29,IF(E30>0,E30,"")) | F31: =IF(F29>0,F29,IF(F30>0,F30,"")) | G31: =IF(G29>0,G29,IF(G30>0,G30,"")) | H31: =IF(H29>0,H29,IF(H30>0,H30,"")) | I31: =IF(I29>0,I29,IF(I30>0,I30,"")) | J31: =IF(J29>0,J29,IF(J30>0,J30,"")) | ... AG31: =IF(AG29>0,AG29,IF(AG30>0,AG30,"")) | AH31: =SUM(AH29:AH30) -> 0 | AI31: =SUM(AI29:AI30) -> 0 | AJ31: =SUM(AJ29:AJ30) -> 0 | AK31: =SUM(AK29:AK30) -> 0 | AL31: =SUM(AL29:AL30) -> 0 | AM31: 30.37 | AN31: =IF(A30="","",IF(A30>NomMois,0,IF(A30<$A$3,2.08,(NETWORKDAYS(A30,$A$2)/21.66667)*2.08))) -> 2.08 | AO31: =IF(AN31="",0,+AN31) -> 2.08 | AQ31: =+AM31-AI31 -> 30.37 | AR31: =+AP31-AJ31 -> 0 | AS31: =+AO31+AQ31 -> 32.45
B33: Matin | K33: CP | AH33: =COUNTA(Juin!$C33:$AF33) -> 1 | AI33: =(COUNTIFS(Juin!$C33:$AF33,("cp")))/2 -> 0.5 | AJ33: =COUNTIFS(Juin!$C33:$AG33,"RTT")/2 -> 0 | AK33: =COUNTIFS(Juin!$C33:$AG33,"m")/2 -> 0 | AL33: =COUNTIFS(Juin!$C33:$AG33,"a")/2 -> 0
A34: 42110 | B34: A-M | K34: CP | AH34: =COUNTA(Juin!$C34:$AF34) -> 1 | AI34: =(COUNTIFS(Juin!$C34:$AF34,("cp")))/2 -> 0.5 | AJ34: =COUNTIFS(Juin!$C34:$AG34,"RTT")/2 -> 0 | AK34: =COUNTIFS(Juin!$C34:$AG34,"m")/2 -> 0 | AL34: =COUNTIFS(Juin!$C34:$AG34,"a")/2 -> 0
C35: =IF(C33>0,C33,IF(C34>0,C34,"")) | D35: =IF(D33>0,D33,IF(D34>0,D34,"")) | E35: =IF(E33>0,E33,IF(E34>0,E34,"")) | F35: =IF(F33>0,F33,IF(F34>0,F34,"")) | G35: =IF(G33>0,G33,IF(G34>0,G34,"")) | H35: =IF(H33>0,H33,IF(H34>0,H34,"")) | I35: =IF(I33>0,I33,IF(I34>0,I34,"")) | J35: =IF(J33>0,J33,IF(J34>0,J34,"")) | ... AF35: =IF(AF33>0,AF33,IF(AF34>0,AF34,"")) | AG35: =SUM(AG33:AG34) -> 0 | AH35: =SUM(AH33:AH34) -> 2 | AI35: =SUM(AI33:AI34) -> 1 | AJ35: =SUM(AJ33:AJ34) -> 0 | AK35: =SUM(AK33:AK34) -> 0 | AL35: =SUM(AL33:AL34) -> 0 | AM35: 14.56 | AN35: =IF(A34="","",IF(A34>NomMois,0,IF(A34<$A$3,2.08,(NETWORKDAYS(A34,$A$2)/21.66667)*2.08))) -> 2.08 | AO35: =IF(AN35="",0,+AN35) -> 2.08 | AQ35: =+AM35-AI35 -> 13.56 | AR35: =+AP35-AJ35 -> 0 | AS35: =+AO35+AQ35 -> 15.64
B37: Matin | AH37: =COUNTA(Juin!$C37:$AF37) -> 0 | AI37: =(COUNTIFS(Juin!$C37:$AF37,("cp")))/2 -> 0 | AJ37: =COUNTIFS(Juin!$C37:$AG37,"RTT")/2 -> 0 | AK37: =COUNTIFS(Juin!$C37:$AG37,"m")/2 -> 0 | AL37: =COUNTIFS(Juin!$C37:$AG37,"a")/2 -> 0
A38: 42373 | B38: A-M | AH38: =COUNTA(Juin!$C38:$AF38) -> 0 | AI38: =(COUNTIFS(Juin!$C38:$AF38,("cp")))/2 -> 0 | AJ38: =COUNTIFS(Juin!$C38:$AG38,"RTT")/2 -> 0 | AK38: =COUNTIFS(Juin!$C38:$AG38,"m")/2 -> 0 | AL38: =COUNTIFS(Juin!$C38:$AG38,"a")/2 -> 0
C39: =IF(C37>0,C37,IF(C38>0,C38,"")) | D39: =IF(D37>0,D37,IF(D38>0,D38,"")) | E39: =IF(E37>0,E37,IF(E38>0,E38,"")) | F39: =IF(F37>0,F37,IF(F38>0,F38,"")) | G39: =IF(G37>0,G37,IF(G38>0,G38,"")) | H39: =IF(H37>0,H37,IF(H38>0,H38,"")) | I39: =IF(I37>0,I37,IF(I38>0,I38,"")) | J39: =IF(J37>0,J37,IF(J38>0,J38,"")) | ... AF39: =IF(AF37>0,AF37,IF(AF38>0,AF38,"")) | AG39: =SUM(AG37:AG38) -> 0 | AH39: =SUM(AH37:AH38) -> 0 | AI39: =SUM(AI37:AI38) -> 0 | AJ39: =SUM(AJ37:AJ38) -> 0 | AK39: =SUM(AK37:AK38) -> 0 | AL39: =SUM(AL37:AL38) -> 0 | AM39: 14.14 | AN39: =IF(A38="","",IF(A38>NomMois,0,IF(A38<$A$3,2.08,(NETWORKDAYS(A38,$A$2)/21.66667)*2.08))) -> 2.08 | AO39: =IF(AN39="",0,+AN39) -> 2.08 | AQ39: =+AM39-AI39 -> 14.14 | AR39: =+AP39-AJ39 -> 0 | AS39: =+AO39+AQ39 -> 16.22
B41: Matin | AH41: =COUNTA(Juin!$C41:$AF41) -> 0 | AI41: =(COUNTIFS(Juin!$C41:$AF41,("cp")))/2 -> 0 | AJ41: =COUNTIFS(Juin!$C41:$AG41,"RTT")/2 -> 0 | AK41: =COUNTIFS(Juin!$C41:$AG41,"m")/2 -> 0 | AL41: =COUNTIFS(Juin!$C41:$AG41,"a")/2 -> 0
A42: 41821 | B42: A-M | AH42: =COUNTA(Juin!$C42:$AF42) -> 0 | AI42: =(COUNTIFS(Juin!$C42:$AF42,("cp")))/2 -> 0 | AJ42: =COUNTIFS(Juin!$C42:$AG42,"RTT")/2 -> 0 | AK42: =COUNTIFS(Juin!$C42:$AG42,"m")/2 -> 0 | AL42: =COUNTIFS(Juin!$C42:$AG42,"a")/2 -> 0
C43: =IF(C41>0,C41,IF(C42>0,C42,"")) | D43: =IF(D41>0,D41,IF(D42>0,D42,"")) | E43: =IF(E41>0,E41,IF(E42>0,E42,"")) | F43: =IF(F41>0,F41,IF(F42>0,F42,"")) | G43: =IF(G41>0,G41,IF(G42>0,G42,"")) | H43: =IF(H41>0,H41,IF(H42>0,H42,"")) | I43: =IF(I41>0,I41,IF(I42>0,I42,"")) | J43: =IF(J41>0,J41,IF(J42>0,J42,"")) | ... AG43: =IF(AG41>0,AG41,IF(AG42>0,AG42,"")) | AH43: =SUM(AH41:AH42) -> 0 | AI43: =SUM(AI41:AI42) -> 0 | AJ43: =SUM(AJ41:AJ42) -> 0 | AK43: =SUM(AK41:AK42) -> 0 | AL43: =SUM(AL41:AL42) -> 0 | AM43: 20.38 | AN43: =IF(A42="","",IF(A42>NomMois,0,IF(A42<$A$3,2.08,(NETWORKDAYS(A42,$A$2)/21.66667)*2.08))) -> 2.08 | AO43: =IF(AN43="",0,+AN43) -> 2.08 | AQ43: =+AM43-AI43 -> 20.38 | AR43: =+AP43-AJ43 -> 0 | AS43: =+AO43+AQ43 -> 22.46
B45: Matin | AH45: =COUNTA(Juin!$C45:$AF45) -> 0 | AI45: =(COUNTIFS(Juin!$C45:$AF45,("cp")))/2 -> 0 | AJ45: =COUNTIFS(Juin!$C45:$AG45,"RTT")/2 -> 0 | AK45: =COUNTIFS(Juin!$C45:$AG45,"m")/2 -> 0 | AL45: =COUNTIFS(Juin!$C45:$AG45,"a")/2 -> 0
A46: 40575 | B46: A-M | AH46: =COUNTA(Juin!$C46:$AF46) -> 0 | AI46: =(COUNTIFS(Juin!$C46:$AF46,("cp")))/2 -> 0 | AJ46: =COUNTIFS(Juin!$C46:$AG46,"RTT")/2 -> 0 | AK46: =COUNTIFS(Juin!$C46:$AG46,"m")/2 -> 0 | AL46: =COUNTIFS(Juin!$C46:$AG46,"a")/2 -> 0
C47: =IF(C45>0,C45,IF(C46>0,C46,"")) | D47: =IF(D45>0,D45,IF(D46>0,D46,"")) | E47: =IF(E45>0,E45,IF(E46>0,E46,"")) | F47: =IF(F45>0,F45,IF(F46>0,F46,"")) | G47: =IF(G45>0,G45,IF(G46>0,G46,"")) | H47: =IF(H45>0,H45,IF(H46>0,H46,"")) | I47: =IF(I45>0,I45,IF(I46>0,I46,"")) | J47: =IF(J45>0,J45,IF(J46>0,J46,"")) | ... AG47: =IF(AG45>0,AG45,IF(AG46>0,AG46,"")) | AH47: =SUM(AH45:AH46) -> 0 | AI47: =SUM(AI45:AI46) -> 0 | AJ47: =SUM(AJ45:AJ46) -> 0 | AK47: =SUM(AK45:AK46) -> 0 | AL47: =SUM(AL45:AL46) -> 0 | AM47: 24.96 | AN47: =IF(A46="","",IF(A46>NomMois,0,IF(A46<$A$3,2.08,(NETWORKDAYS(A46,$A$2)/21.66667)*2.08))) -> 2.08 | AO47: =IF(AN47="",0,+AN47) -> 2.08 | AQ47: =+AM47-AI47 -> 24.96 | AR47: =+AP47-AJ47 -> 0 | AS47: =+AO47+AQ47 -> 27.04
B49: Matin | AH49: =COUNTA(Juin!$C49:$AF49) -> 0 | AI49: =(COUNTIFS(Juin!$C49:$AF49,("cp")))/2 -> 0 | AJ49: =COUNTIFS(Juin!$C49:$AG49,"RTT")/2 -> 0 | AK49: =COUNTIFS(Juin!$C49:$AG49,"m")/2 -> 0 | AL49: =COUNTIFS(Juin!$C49:$AG49,"a")/2 -> 0
A50: 42793 | B50: A-M | AH50: =COUNTA(Juin!$C50:$AF50) -> 0 | AI50: =(COUNTIFS(Juin!$C50:$AF50,("cp")))/2 -> 0 | AJ50: =COUNTIFS(Juin!$C50:$AG50,"RTT")/2 -> 0 | AK50: =COUNTIFS(Juin!$C50:$AG50,"m")/2 -> 0 | AL50: =COUNTIFS(Juin!$C50:$AG50,"a")/2 -> 0 | AN50: =IF(A49="","",IF(A49>NomMois,0,IF(A49<$A$3,2.08,(NETWORKDAYS(A49,$A$2)/21.66667)*2.08))) | AO50: =IF(AN50="",0,+AN50) -> 0
C51: =IF(C49>0,C49,IF(C50>0,C50,"")) | D51: =IF(D49>0,D49,IF(D50>0,D50,"")) | E51: =IF(E49>0,E49,IF(E50>0,E50,"")) | F51: =IF(F49>0,F49,IF(F50>0,F50,"")) | G51: =IF(G49>0,G49,IF(G50>0,G50,"")) | H51: =IF(H49>0,H49,IF(H50>0,H50,"")) | I51: =IF(I49>0,I49,IF(I50>0,I50,"")) | J51: =IF(J49>0,J49,IF(J50>0,J50,"")) | ... AG51: =IF(AG49>0,AG49,IF(AG50>0,AG50,"")) | AH51: =SUM(AH49:AH50) -> 0 | AI51: =SUM(AI49:AI50) -> 0 | AJ51: =SUM(AJ49:AJ50) -> 0 | AK51: =SUM(AK49:AK50) -> 0 | AL51: =SUM(AL49:AL50) -> 0 | AM51: 6.41 | AN51: =IF(A50="","",IF(A50>NomMois,0,IF(A50<$A$3,2.08,(NETWORKDAYS(A50,$A$2)/21.66667)*2.08))) -> 2.08 | AO51: =IF(AN51="",0,+AN51) -> 2.08 | AQ51: =+AM51-AI51 -> 6.41 | AR51: =+AP51-AJ51 -> 0 | AS51: =+AO51+AQ51 -> 8.49
B53: Matin | AH53: =COUNTA(Juin!$C53:$AF53) -> 0 | AI53: =(COUNTIFS(Juin!$C53:$AF53,("cp")))/2 -> 0 | AJ53: =COUNTIFS(Juin!$C53:$AG53,"RTT")/2 -> 0 | AK53: =COUNTIFS(Juin!$C53:$AG53,"m")/2 -> 0 | AL53: =COUNTIFS(Juin!$C53:$AG53,"a")/2 -> 0
A54: 42660 | B54: A-M | AH54: =COUNTA(Juin!$C54:$AF54) -> 0 | AI54: =(COUNTIFS(Juin!$C54:$AF54,("cp")))/2 -> 0 | AJ54: =COUNTIFS(Juin!$C54:$AG54,"RTT")/2 -> 0 | AK54: =COUNTIFS(Juin!$C54:$AG54,"m")/2 -> 0 | AL54: =COUNTIFS(Juin!$C54:$AG54,"a")/2 -> 0
C55: =IF(C53>0,C53,IF(C54>0,C54,"")) | D55: =IF(D53>0,D53,IF(D54>0,D54,"")) | E55: =IF(E53>0,E53,IF(E54>0,E54,"")) | F55: =IF(F53>0,F53,IF(F54>0,F54,"")) | G55: =IF(G53>0,G53,IF(G54>0,G54,"")) | H55: =IF(H53>0,H53,IF(H54>0,H54,"")) | I55: =IF(I53>0,I53,IF(I54>0,I54,"")) | J55: =IF(J53>0,J53,IF(J54>0,J54,"")) | ... AG55: =IF(AG53>0,AG53,IF(AG54>0,AG54,"")) | AH55: =SUM(AH53:AH54) -> 0 | AI55: =SUM(AI53:AI54) -> 0 | AJ55: =SUM(AJ53:AJ54) -> 0 | AK55: =SUM(AK53:AK54) -> 0 | AL55: =SUM(AL53:AL54) -> 0 | AM55: 15.68 | AN55: =IF(A54="","",IF(A54>NomMois,0,IF(A54<$A$3,2.08,(NETWORKDAYS(A54,$A$2)/21.66667)*2.08))) -> 2.08 | AO55: =IF(AN55="",0,+AN55) -> 2.08 | AQ55: =+AM55-AI55 -> 15.68 | AR55: =+AP55-AJ55 -> 0 | AS55: =+AO55+AQ55 -> 17.76
B57: Matin | AH57: =COUNTA(Juin!$C57:$AF57) -> 0 | AI57: =(COUNTIFS(Juin!$C57:$AF57,("cp")))/2 -> 0 | AJ57: =COUNTIFS(Juin!$C57:$AG57,"RTT")/2 -> 0 | AK57: =COUNTIFS(Juin!$C57:$AG57,"m")/2 -> 0 | AL57: =COUNTIFS(Juin!$C57:$AG57,"a")/2 -> 0
A58: 42975 | B58: A-M | AH58: =COUNTA(Juin!$C58:$AF58) -> 0 | AI58: =(COUNTIFS(Juin!$C58:$AF58,("cp")))/2 -> 0 | AJ58: =COUNTIFS(Juin!$C58:$AG58,"RTT")/2 -> 0 | AK58: =COUNTIFS(Juin!$C58:$AG58,"m")/2 -> 0 | AL58: =COUNTIFS(Juin!$C58:$AG58,"a")/2 -> 0
C59: =IF(C57>0,C57,IF(C58>0,C58,"")) | D59: =IF(D57>0,D57,IF(D58>0,D58,"")) | E59: =IF(E57>0,E57,IF(E58>0,E58,"")) | F59: =IF(F57>0,F57,IF(F58>0,F58,"")) | G59: =IF(G57>0,G57,IF(G58>0,G58,"")) | H59: =IF(H57>0,H57,IF(H58>0,H58,"")) | I59: =IF(I57>0,I57,IF(I58>0,I58,"")) | J59: =IF(J57>0,J57,IF(J58>0,J58,"")) | ... AG59: =IF(AG57>0,AG57,IF(AG58>0,AG58,"")) | AH59: =SUM(AH57:AH58) -> 0 | AI59: =SUM(AI57:AI58) -> 0 | AJ59: =SUM(AJ57:AJ58) -> 0 | AK59: =SUM(AK57:AK58) -> 0 | AL59: =SUM(AL57:AL58) -> 0 | AM59: 0 | AN59: =IF(A58="","",IF(A58>NomMois,0,IF(A58<$A$3,2.08,(NETWORKDAYS(A58,$A$2)/21.66667)*2.08))) -> 0 | AO59: =IF(AN59="",0,+AN59) -> 0 | AQ59: =+AM59-AI59 -> 0 | AR59: =+AP59-AJ59 -> 0 | AS59: =+AO59+AQ59 -> 0
B61: Matin | AH61: =COUNTA(Juin!$C61:$AF61) -> 0 | AI61: =(COUNTIFS(Juin!$C61:$AF61,("cp")))/2 -> 0 | AJ61: =COUNTIFS(Juin!$C61:$AG61,"RTT")/2 -> 0 | AK61: =COUNTIFS(Juin!$C61:$AG61,"m")/2 -> 0 | AL61: =COUNTIFS(Juin!$C61:$AG61,"a")/2 -> 0
A62: 42646 | B62: A-M | AH62: =COUNTA(Juin!$C62:$AF62) -> 0 | AI62: =(COUNTIFS(Juin!$C62:$AF62,("cp")))/2 -> 0 | AJ62: =COUNTIFS(Juin!$C62:$AG62,"RTT")/2 -> 0 | AK62: =COUNTIFS(Juin!$C62:$AG62,"m")/2 -> 0 | AL62: =COUNTIFS(Juin!$C62:$AG62,"a")/2 -> 0
C63: =IF(C61>0,C61,IF(C62>0,C62,"")) | D63: =IF(D61>0,D61,IF(D62>0,D62,"")) | E63: =IF(E61>0,E61,IF(E62>0,E62,"")) | F63: =IF(F61>0,F61,IF(F62>0,F62,"")) | G63: =IF(G61>0,G61,IF(G62>0,G62,"")) | H63: =IF(H61>0,H61,IF(H62>0,H62,"")) | I63: =IF(I61>0,I61,IF(I62>0,I62,"")) | J63: =IF(J61>0,J61,IF(J62>0,J62,"")) | ... AG63: =IF(AG61>0,AG61,IF(AG62>0,AG62,"")) | AH63: =SUM(AH61:AH62) -> 0 | AI63: =SUM(AI61:AI62) -> 0 | AJ63: =SUM(AJ61:AJ62) -> 0 | AK63: =SUM(AK61:AK62) -> 0 | AL63: =SUM(AL61:AL62) -> 0 | AM63: 16.64 | AN63: =IF(A62="","",IF(A62>NomMois,0,IF(A62<$A$3,2.08,(NETWORKDAYS(A62,$A$2)/21.66667)*2.08))) -> 2.08 | AO63: =IF(AN63="",0,+AN63) -> 2.08 | AQ63: =+AM63-AI63 -> 16.64 | AR63: =+AP63-AJ63 -> 0 | AS63: =+AO63+AQ63 -> 18.72
AH64: 0 | AI64: 0 | AJ64: 0 | AK64: 0 | AL64: 0
B65: Matin | AH65: =COUNTA(Juin!$C65:$AF65) -> 0 | AI65: =(COUNTIFS(Juin!$C65:$AF65,("cp")))/2 -> 0 | AJ65: =COUNTIFS(Juin!$C65:$AG65,"RTT")/2 -> 0 | AK65: =COUNTIFS(Juin!$C65:$AG65,"m")/2 -> 0 | AL65: =COUNTIFS(Juin!$C65:$AG65,"a")/2 -> 0
A66: 42410 | B66: A-M | AH66: =COUNTA(Juin!$C66:$AF66) -> 0 | AI66: =(COUNTIFS(Juin!$C66:$AF66,("cp")))/2 -> 0 | AJ66: =COUNTIFS(Juin!$C66:$AG66,"RTT")/2 -> 0 | AK66: =COUNTIFS(Juin!$C66:$AG66,"m")/2 -> 0 | AL66: =COUNTIFS(Juin!$C66:$AG66,"a")/2 -> 0
C67: =IF(C65>0,C65,IF(C66>0,C66,"")) | D67: =IF(D65>0,D65,IF(D66>0,D66,"")) | E67: =IF(E65>0,E65,IF(E66>0,E66,"")) | F67: =IF(F65>0,F65,IF(F66>0,F66,"")) | G67: =IF(G65>0,G65,IF(G66>0,G66,"")) | H67: =IF(H65>0,H65,IF(H66>0,H66,"")) | I67: =IF(I65>0,I65,IF(I66>0,I66,"")) | J67: =IF(J65>0,J65,IF(J66>0,J66,"")) | ... AG67: =IF(AG65>0,AG65,IF(AG66>0,AG66,"")) | AH67: =SUM(AH65:AH66) -> 0 | AI67: =SUM(AI65:AI66) -> 0 | AJ67: =SUM(AJ65:AJ66) -> 0 | AK67: =SUM(AK65:AK66) -> 0 | AL67: =SUM(AL65:AL66) -> 0 | AM67: 22.46 | AN67: =IF(A66="","",IF(A66>NomMois,0,IF(A66<$A$3,2.08,(NETWORKDAYS(A66,$A$2)/21.66667)*2.08))) -> 2.08 | AO67: =IF(AN67="",0,+AN67) -> 2.08 | AQ67: =+AM67-AI67 -> 22.46 | AR67: =+AP67-AJ67 -> 0 | AS67: =+AO67+AQ67 -> 24.54
B69: Matin | AH69: =COUNTA(Juin!$C69:$AF69) -> 0 | AI69: =(COUNTIFS(Juin!$C69:$AF69,("cp")))/2 -> 0 | AJ69: =COUNTIFS(Juin!$C69:$AG69,"RTT")/2 -> 0 | AK69: =COUNTIFS(Juin!$C69:$AG69,"m")/2 -> 0 | AL69: =COUNTIFS(Juin!$C69:$AG69,"a")/2 -> 0
A70: 41701 | B70: A-M | AH70: =COUNTA(Juin!$C70:$AF70) -> 0 | AI70: =(COUNTIFS(Juin!$C70:$AF70,("cp")))/2 -> 0 | AJ70: =COUNTIFS(Juin!$C70:$AG70,"RTT")/2 -> 0 | AK70: =COUNTIFS(Juin!$C70:$AG70,"m")/2 -> 0 | AL70: =COUNTIFS(Juin!$C70:$AG70,"a")/2 -> 0
C71: =IF(C69>0,C69,IF(C70>0,C70,"")) | D71: =IF(D69>0,D69,IF(D70>0,D70,"")) | E71: =IF(E69>0,E69,IF(E70>0,E70,"")) | F71: =IF(F69>0,F69,IF(F70>0,F70,"")) | G71: =IF(G69>0,G69,IF(G70>0,G70,"")) | H71: =IF(H69>0,H69,IF(H70>0,H70,"")) | I71: =IF(I69>0,I69,IF(I70>0,I70,"")) | J71: =IF(J69>0,J69,IF(J70>0,J70,"")) | ... AG71: =IF(AG69>0,AG69,IF(AG70>0,AG70,"")) | AH71: =SUM(AH69:AH70) -> 0 | AI71: =SUM(AI69:AI70) -> 0 | AJ71: =SUM(AJ69:AJ70) -> 0 | AK71: =SUM(AK69:AK70) -> 0 | AL71: =SUM(AL69:AL70) -> 0 | AM71: 45.34 | AN71: =IF(A70="","",IF(A70>NomMois,0,IF(A70<$A$3,2.08,(NETWORKDAYS(A70,$A$2)/21.66667)*2.08))) -> 2.08 | AO71: =IF(AN71="",0,+AN71) -> 2.08 | AQ71: =+AM71-AI71 -> 45.34 | AR71: =+AP71-AJ71 -> 0 | AS71: =+AO71+AQ71 -> 47.42
B73: Matin | AH73: =COUNTA(Juin!$C73:$AF73) -> 0 | AI73: =(COUNTIFS(Juin!$C73:$AF73,("cp")))/2 -> 0 | AJ73: =COUNTIFS(Juin!$C73:$AG73,"RTT")/2 -> 0 | AK73: =COUNTIFS(Juin!$C73:$AG73,"m")/2 -> 0 | AL73: =COUNTIFS(Juin!$C73:$AG73,"a")/2 -> 0
A74: 42979 | B74: A-M | AH74: =COUNTA(Juin!$C74:$AF74) -> 0 | AI74: =(COUNTIFS(Juin!$C74:$AF74,("cp")))/2 -> 0 | AJ74: =COUNTIFS(Juin!$C74:$AG74,"RTT")/2 -> 0 | AK74: =COUNTIFS(Juin!$C74:$AG74,"m")/2 -> 0 | AL74: =COUNTIFS(Juin!$C74:$AG74,"a")/2 -> 0
C75: =IF(C73>0,C73,IF(C74>0,C74,"")) | D75: =IF(D73>0,D73,IF(D74>0,D74,"")) | E75: =IF(E73>0,E73,IF(E74>0,E74,"")) | F75: =IF(F73>0,F73,IF(F74>0,F74,"")) | G75: =IF(G73>0,G73,IF(G74>0,G74,"")) | H75: =IF(H73>0,H73,IF(H74>0,H74,"")) | I75: =IF(I73>0,I73,IF(I74>0,I74,"")) | J75: =IF(J73>0,J73,IF(J74>0,J74,"")) | ... AG75: =IF(AG73>0,AG73,IF(AG74>0,AG74,"")) | AH75: =SUM(AH73:AH74) -> 0 | AI75: =SUM(AI73:AI74) -> 0 | AJ75: =SUM(AJ73:AJ74) -> 0 | AK75: =SUM(AK73:AK74) -> 0 | AL75: =SUM(AL73:AL74) -> 0 | AM75: 0 | AN75: =IF(A74="","",IF(A74>NomMois,0,IF(A74<$A$3,2.08,(NETWORKDAYS(A74,$A$2)/21.66667)*2.08))) -> 0 | AO75: =IF(AN75="",0,+AN75) -> 0 | AQ75: =+AM75-AI75 -> 0 | AR75: =+AP75-AJ75 -> 0 | AS75: =+AO75+AQ75 -> 0
B77: Matin | AH77: =COUNTA(Juin!$C77:$AF77) -> 0 | AI77: =(COUNTIFS(Juin!$C77:$AF77,("cp")))/2 -> 0 | AJ77: =COUNTIFS(Juin!$C77:$AG77,"RTT")/2 -> 0 | AK77: =COUNTIFS(Juin!$C77:$AG77,"m")/2 -> 0 | AL77: =COUNTIFS(Juin!$C77:$AG77,"a")/2 -> 0
A78: 43059 | B78: A-M | AH78: =COUNTA(Juin!$C78:$AF78) -> 0 | AI78: =(COUNTIFS(Juin!$C78:$AF78,("cp")))/2 -> 0 | AJ78: =COUNTIFS(Juin!$C78:$AG78,"RTT")/2 -> 0 | AK78: =COUNTIFS(Juin!$C78:$AG78,"m")/2 -> 0 | AL78: =COUNTIFS(Juin!$C78:$AG78,"a")/2 -> 0
C79: =IF(C77>0,C77,IF(C78>0,C78,"")) | D79: =IF(D77>0,D77,IF(D78>0,D78,"")) | E79: =IF(E77>0,E77,IF(E78>0,E78,"")) | F79: =IF(F77>0,F77,IF(F78>0,F78,"")) | G79: =IF(G77>0,G77,IF(G78>0,G78,"")) | H79: =IF(H77>0,H77,IF(H78>0,H78,"")) | I79: =IF(I77>0,I77,IF(I78>0,I78,"")) | J79: =IF(J77>0,J77,IF(J78>0,J78,"")) | ... AG79: =IF(AG77>0,AG77,IF(AG78>0,AG78,"")) | AH79: =SUM(AH77:AH78) -> 0 | AI79: =SUM(AI77:AI78) -> 0 | AJ79: =SUM(AJ77:AJ78) -> 0 | AK79: =SUM(AK77:AK78) -> 0 | AL79: =SUM(AL77:AL78) -> 0 | AM79: 0 | AN79: =IF(A78="","",IF(A78>NomMois,0,IF(A78<$A$3,2.08,(NETWORKDAYS(A78,$A$2)/21.66667)*2.08))) -> 0 | AO79: =IF(AN79="",0,+AN79) -> 0 | AQ79: =+AM79-AI79 -> 0 | AR79: =+AP79-AJ79 -> 0 | AS79: =+AO79+AQ79 -> 0
B81: Matin | AH81: =COUNTA(Juin!$C81:$AF81) -> 0 | AI81: =(COUNTIFS(Juin!$C81:$AF81,("cp")))/2 -> 0 | AJ81: =COUNTIFS(Juin!$C81:$AG81,"RTT")/2 -> 0 | AK81: =COUNTIFS(Juin!$C81:$AG81,"m")/2 -> 0 | AL81: =COUNTIFS(Juin!$C81:$AG81,"a")/2 -> 0
A82: 42506 | B82: A-M | AH82: =COUNTA(Juin!$C82:$AF82) -> 0 | AI82: =(COUNTIFS(Juin!$C82:$AF82,("cp")))/2 -> 0 | AJ82: =COUNTIFS(Juin!$C82:$AG82,"RTT")/2 -> 0 | AK82: =COUNTIFS(Juin!$C82:$AG82,"m")/2 -> 0 | AL82: =COUNTIFS(Juin!$C82:$AG82,"a")/2 -> 0
C83: =IF(C81>0,C81,IF(C82>0,C82,"")) | D83: =IF(D81>0,D81,IF(D82>0,D82,"")) | E83: =IF(E81>0,E81,IF(E82>0,E82,"")) | F83: =IF(F81>0,F81,IF(F82>0,F82,"")) | G83: =IF(G81>0,G81,IF(G82>0,G82,"")) | H83: =IF(H81>0,H81,IF(H82>0,H82,"")) | I83: =IF(I81>0,I81,IF(I82>0,I82,"")) | J83: =IF(J81>0,J81,IF(J82>0,J82,"")) | ... AG83: =IF(AG81>0,AG81,IF(AG82>0,AG82,"")) | AH83: =SUM(AH81:AH82) -> 0 | AI83: =SUM(AI81:AI82) -> 0 | AJ83: =SUM(AJ81:AJ82) -> 0 | AK83: =SUM(AK81:AK82) -> 0 | AL83: =SUM(AL81:AL82) -> 0 | AM83: -9.98 | AN83: =IF(A82="","",IF(A82>NomMois,0,IF(A82<$A$3,2.08,(NETWORKDAYS(A82,$A$2)/21.66667)*2.08))) -> 2.08 | AO83: =IF(AN83="",0,+AN83) -> 2.08 | AQ83: =+AM83-AI83 -> -9.98 | AR83: =+AP83-AJ83 -> 0 | AS83: =+AO83+AQ83 -> -7.9
B85: Matin | AH85: =COUNTA(Juin!$C85:$AF85) -> 0 | AI85: =(COUNTIFS(Juin!$C85:$AF85,("cp")))/2 -> 0 | AJ85: =COUNTIFS(Juin!$C85:$AG85,"RTT")/2 -> 0 | AK85: =COUNTIFS(Juin!$C85:$AG85,"m")/2 -> 0 | AL85: =COUNTIFS(Juin!$C85:$AG85,"a")/2 -> 0
A86: 42303 | B86: A-M | AH86: =COUNTA(Juin!$C86:$AF86) -> 0 | AI86: =(COUNTIFS(Juin!$C86:$AF86,("cp")))/2 -> 0 | AJ86: =COUNTIFS(Juin!$C86:$AG86,"RTT")/2 -> 0 | AK86: =COUNTIFS(Juin!$C86:$AG86,"m")/2 -> 0 | AL86: =COUNTIFS(Juin!$C86:$AG86,"a")/2 -> 0
C87: =IF(C85>0,C85,IF(C86>0,C86,"")) | D87: =IF(D85>0,D85,IF(D86>0,D86,"")) | E87: =IF(E85>0,E85,IF(E86>0,E86,"")) | F87: =IF(F85>0,F85,IF(F86>0,F86,"")) | G87: =IF(G85>0,G85,IF(G86>0,G86,"")) | H87: =IF(H85>0,H85,IF(H86>0,H86,"")) | I87: =IF(I85>0,I85,IF(I86>0,I86,"")) | J87: =IF(J85>0,J85,IF(J86>0,J86,"")) | ... AG87: =IF(AG85>0,AG85,IF(AG86>0,AG86,"")) | AH87: =SUM(AH85:AH86) -> 0 | AI87: =SUM(AI85:AI86) -> 0 | AJ87: =SUM(AJ85:AJ86) -> 0 | AK87: =SUM(AK85:AK86) -> 0 | AL87: =SUM(AL85:AL86) -> 0 | AM87: 12.02 | AN87: =IF(A86="","",IF(A86>NomMois,0,IF(A86<$A$3,2.5,(NETWORKDAYS(A86,$A$2)/21.66667)*2.5))) -> 2.5 | AO87: =IF(AN87="",0,+AN87) -> 2.5 | AQ87: =+AM87-AI87 -> 12.02 | AR87: =+AP87-AJ87 -> 0 | AS87: =+AO87+AQ87 -> 14.52
B89: Matin | AH89: =COUNTA(Juin!$C89:$AF89) -> 0 | AI89: =(COUNTIFS(Juin!$C89:$AF89,("cp")))/2 -> 0 | AJ89: =COUNTIFS(Juin!$C89:$AG89,"RTT")/2 -> 0 | AK89: =COUNTIFS(Juin!$C89:$AG89,"m")/2 -> 0 | AL89: =COUNTIFS(Juin!$C89:$AG89,"a")/2 -> 0
A90: 42303 | B90: A-M | AH90: =COUNTA(Juin!$C90:$AF90) -> 0 | AI90: =(COUNTIFS(Juin!$C90:$AF90,("cp")))/2 -> 0 | AJ90: =COUNTIFS(Juin!$C90:$AG90,"RTT")/2 -> 0 | AK90: =COUNTIFS(Juin!$C90:$AG90,"m")/2 -> 0 | AL90: =COUNTIFS(Juin!$C90:$AG90,"a")/2 -> 0
C91: =IF(C89>0,C89,IF(C90>0,C90,"")) | D91: =IF(D89>0,D89,IF(D90>0,D90,"")) | E91: =IF(E89>0,E89,IF(E90>0,E90,"")) | F91: =IF(F89>0,F89,IF(F90>0,F90,"")) | G91: =IF(G89>0,G89,IF(G90>0,G90,"")) | H91: =IF(H89>0,H89,IF(H90>0,H90,"")) | I91: =IF(I89>0,I89,IF(I90>0,I90,"")) | J91: =IF(J89>0,J89,IF(J90>0,J90,"")) | ... AG91: =IF(AG89>0,AG89,IF(AG90>0,AG90,"")) | AH91: =SUM(AH89:AH90) -> 0 | AI91: =SUM(AI89:AI90) -> 0 | AJ91: =SUM(AJ89:AJ90) -> 0 | AK91: =SUM(AK89:AK90) -> 0 | AL91: =SUM(AL89:AL90) -> 0 | AM91: -0.82 | AN91: =IF(A90="","",IF(A90>NomMois,0,IF(A90<$A$3,2.5,(NETWORKDAYS(A90,$A$2)/21.66667)*2.5))) -> 2.5 | AO91: =IF(AN91="",0,+AN91) -> 2.5 | AQ91: =+AM91-AI91 -> -0.82 | AR91: =+AP91-AJ91 -> 0 | AS91: =+AO91+AQ91 -> 1.68
B93: Matin | AH93: =COUNTA(Juin!$C93:$AF93) -> 0 | AI93: =(COUNTIFS(Juin!$C93:$AF93,("cp")))/2 -> 0 | AJ93: =COUNTIFS(Juin!$C93:$AG93,"RTT")/2 -> 0 | AK93: =COUNTIFS(Juin!$C93:$AG93,"m")/2 -> 0 | AL93: =COUNTIFS(Juin!$C93:$AG93,"a")/2 -> 0
A94: 42921 | B94: A-M | AH94: =COUNTA(Juin!$C94:$AF94) -> 0 | AI94: =(COUNTIFS(Juin!$C94:$AF94,("cp")))/2 -> 0 | AJ94: =COUNTIFS(Juin!$C94:$AG94,"RTT")/2 -> 0 | AK94: =COUNTIFS(Juin!$C94:$AG94,"m")/2 -> 0 | AL94: =COUNTIFS(Juin!$C94:$AG94,"a")/2 -> 0
C95: =IF(C93>0,C93,IF(C94>0,C94,"")) | D95: =IF(D93>0,D93,IF(D94>0,D94,"")) | E95: =IF(E93>0,E93,IF(E94>0,E94,"")) | F95: =IF(F93>0,F93,IF(F94>0,F94,"")) | G95: =IF(G93>0,G93,IF(G94>0,G94,"")) | H95: =IF(H93>0,H93,IF(H94>0,H94,"")) | I95: =IF(I93>0,I93,IF(I94>0,I94,"")) | J95: =IF(J93>0,J93,IF(J94>0,J94,"")) | ... AG95: =IF(AG93>0,AG93,IF(AG94>0,AG94,"")) | AH95: =SUM(AH93:AH94) -> 0 | AI95: =SUM(AI93:AI94) -> 0 | AJ95: =SUM(AJ93:AJ94) -> 0 | AK95: =SUM(AK93:AK94) -> 0 | AL95: =SUM(AL93:AL94) -> 0 | AM95: 0 | AN95: =IF(A94="","",IF(A94>NomMois,0,IF(A94<$A$3,2.08,(NETWORKDAYS(A94,$A$2)/21.66667)*2.08))) -> 0 | AO95: =IF(AN95="",0,+AN95) -> 0 | AQ95: =+AM95-AI95 -> 0 | AR95: =+AP95-AJ95 -> 0 | AS95: =+AO95+AQ95 -> 0
B97: Matin | M97: CP | N97: CP | O97: CP | AH97: =COUNTA(Juin!$C97:$AF97) -> 3 | AI97: =(COUNTIFS(Juin!$C97:$AF97,("cp")))/2 -> 1.5 | AJ97: =COUNTIFS(Juin!$C97:$AG97,"RTT")/2 -> 0 | AK97: =COUNTIFS(Juin!$C97:$AG97,"m")/2 -> 0 | AL97: =COUNTIFS(Juin!$C97:$AG97,"a")/2 -> 0
A98: 42736 | B98: A-M | M98: CP | N98: CP | O98: CP | AH98: =COUNTA(Juin!$C98:$AF98) -> 3 | AI98: =(COUNTIFS(Juin!$C98:$AF98,("cp")))/2 -> 1.5 | AJ98: =COUNTIFS(Juin!$C98:$AG98,"RTT")/2 -> 0 | AK98: =COUNTIFS(Juin!$C98:$AG98,"m")/2 -> 0 | AL98: =COUNTIFS(Juin!$C98:$AG98,"a")/2 -> 0
C99: =IF(C97>0,C97,IF(C98>0,C98,"")) | D99: =IF(D97>0,D97,IF(D98>0,D98,"")) | E99: =IF(E97>0,E97,IF(E98>0,E98,"")) | F99: =IF(F97>0,F97,IF(F98>0,F98,"")) | G99: =IF(G97>0,G97,IF(G98>0,G98,"")) | H99: =IF(H97>0,H97,IF(H98>0,H98,"")) | I99: =IF(I97>0,I97,IF(I98>0,I98,"")) | J99: =IF(J97>0,J97,IF(J98>0,J98,"")) | ... AG99: =IF(AG97>0,AG97,IF(AG98>0,AG98,"")) | AH99: =SUM(AH97:AH98) -> 6 | AI99: =SUM(AI97:AI98) -> 3 | AJ99: =SUM(AJ97:AJ98) -> 0 | AK99: =SUM(AK97:AK98) -> 0 | AL99: =SUM(AL97:AL98) -> 0 | AM99: 5.41 | AN99: =IF(A98="","",IF(A98>NomMois,0,IF(A98<$A$3,2.08,(NETWORKDAYS(A98,$A$2)/21.66667)*2.08))) -> 2.08 | AO99: =IF(AN99="",0,+AN99) -> 2.08 | AQ99: =+AM99-AI99 -> 2.41 | AR99: =+AP99-AJ99 -> 0 | AS99: =+AO99+AQ99 -> 4.49
B101: Matin | AH101: =COUNTA(Juin!$C101:$AF101) -> 0 | AI101: =(COUNTIFS(Juin!$C101:$AF101,("cp")))/2 -> 0 | AJ101: =COUNTIFS(Juin!$C101:$AG101,"RTT")/2 -> 0 | AK101: =COUNTIFS(Juin!$C101:$AG101,"m")/2 -> 0 | AL101: =COUNTIFS(Juin!$C101:$AG101,"a")/2 -> 0
A102: 42814 | B102: A-M | AH102: =COUNTA(Juin!$C102:$AF102) -> 0 | AI102: =(COUNTIFS(Juin!$C102:$AF102,("cp")))/2 -> 0 | AJ102: =COUNTIFS(Juin!$C102:$AG102,"RTT")/2 -> 0 | AK102: =COUNTIFS(Juin!$C102:$AG102,"m")/2 -> 0 | AL102: =COUNTIFS(Juin!$C102:$AG102,"a")/2 -> 0
C103: =IF(C101>0,C101,IF(C102>0,C102,"")) | D103: =IF(D101>0,D101,IF(D102>0,D102,"")) | E103: =IF(E101>0,E101,IF(E102>0,E102,"")) | F103: =IF(F101>0,F101,IF(F102>0,F102,"")) | G103: =IF(G101>0,G101,IF(G102>0,G102,"")) | H103: =IF(H101>0,H101,IF(H102>0,H102,"")) | I103: =IF(I101>0,I101,IF(I102>0,I102,"")) | J103: =IF(J101>0,J101,IF(J102>0,J102,"")) | ... AG103: =IF(AG101>0,AG101,IF(AG102>0,AG102,"")) | AH103: =SUM(AH101:AH102) -> 0 | AI103: =SUM(AI101:AI102) -> 0 | AJ103: =SUM(AJ101:AJ102) -> 0 | AK103: =SUM(AK101:AK102) -> 0 | AL103: =SUM(AL101:AL102) -> 0 | AM103: 2.65 | AN103: =IF(A102="","",IF(A102>NomMois,0,IF(A102<$A$3,2.08,(NETWORKDAYS(A102,$A$2)/21.66667)*2.08))) -> 2.08 | AO103: =IF(AN103="",0,+AN103) -> 2.08 | AQ103: =+AM103-AI103 -> 2.65 | AR103: =+AP103-AJ103 -> 0 | AS103: =+AO103+AQ103 -> 4.73
B105: Matin | AH105: =COUNTA(Juin!$C105:$AF105) -> 0 | AI105: =(COUNTIFS(Juin!$C105:$AF105,("cp")))/2 -> 0 | AJ105: =COUNTIFS(Juin!$C105:$AG105,"RTT")/2 -> 0 | AK105: =COUNTIFS(Juin!$C105:$AG105,"m")/2 -> 0 | AL105: =COUNTIFS(Juin!$C105:$AG105,"a")/2 -> 0
A106: 43037 | B106: A-M | AH106: =COUNTA(Juin!$C106:$AF106) -> 0 | AI106: =(COUNTIFS(Juin!$C106:$AF106,("cp")))/2 -> 0 | AJ106: =COUNTIFS(Juin!$C106:$AG106,"RTT")/2 -> 0 | AK106: =COUNTIFS(Juin!$C106:$AG106,"m")/2 -> 0 | AL106: =COUNTIFS(Juin!$C106:$AG106,"a")/2 -> 0
C107: =IF(C105>0,C105,IF(C106>0,C106,"")) | D107: =IF(D105>0,D105,IF(D106>0,D106,"")) | E107: =IF(E105>0,E105,IF(E106>0,E106,"")) | F107: =IF(F105>0,F105,IF(F106>0,F106,"")) | G107: =IF(G105>0,G105,IF(G106>0,G106,"")) | H107: =IF(H105>0,H105,IF(H106>0,H106,"")) | I107: =IF(I105>0,I105,IF(I106>0,I106,"")) | J107: =IF(J105>0,J105,IF(J106>0,J106,"")) | ... AG107: =IF(AG105>0,AG105,IF(AG106>0,AG106,"")) | AH107: =SUM(AH105:AH106) -> 0 | AI107: =SUM(AI105:AI106) -> 0 | AJ107: =SUM(AJ105:AJ106) -> 0 | AK107: =SUM(AK105:AK106) -> 0 | AL107: =SUM(AL105:AL106) -> 0 | AM107: 0 | AN107: =IF(A106="","",IF(A106>NomMois,0,IF(A106<$A$3,2.08,(NETWORKDAYS(A106,$A$2)/21.66667)*2.08))) -> 0 | AO107: =IF(AN107="",0,+AN107) -> 0 | AQ107: =+AM107-AI107 -> 0 | AR107: =+AP107-AJ107 -> 0 | AS107: =+AO107+AQ107 -> 0
B109: Matin | AH109: =COUNTA(Juin!$C109:$AF109) -> 0 | AI109: =(COUNTIFS(Juin!$C109:$AF109,("cp")))/2 -> 0 | AJ109: =COUNTIFS(Juin!$C109:$AG109,"RTT")/2 -> 0 | AK109: =COUNTIFS(Juin!$C109:$AG109,"m")/2 -> 0 | AL109: =COUNTIFS(Juin!$C109:$AG109,"a")/2 -> 0
A110: 42991 | B110: A-M | AH110: =COUNTA(Juin!$C110:$AF110) -> 0 | AI110: =(COUNTIFS(Juin!$C110:$AF110,("cp")))/2 -> 0 | AJ110: =COUNTIFS(Juin!$C110:$AG110,"RTT")/2 -> 0 | AK110: =COUNTIFS(Juin!$C110:$AG110,"m")/2 -> 0 | AL110: =COUNTIFS(Juin!$C110:$AG110,"a")/2 -> 0
C111: =IF(C109>0,C109,IF(C110>0,C110,"")) | D111: =IF(D109>0,D109,IF(D110>0,D110,"")) | E111: =IF(E109>0,E109,IF(E110>0,E110,"")) | F111: =IF(F109>0,F109,IF(F110>0,F110,"")) | G111: =IF(G109>0,G109,IF(G110>0,G110,"")) | H111: =IF(H109>0,H109,IF(H110>0,H110,"")) | I111: =IF(I109>0,I109,IF(I110>0,I110,"")) | J111: =IF(J109>0,J109,IF(J110>0,J110,"")) | ... AG111: =IF(AG109>0,AG109,IF(AG110>0,AG110,"")) | AH111: =SUM(AH109:AH110) -> 0 | AI111: =SUM(AI109:AI110) -> 0 | AJ111: =SUM(AJ109:AJ110) -> 0 | AK111: =SUM(AK109:AK110) -> 0 | AL111: =SUM(AL109:AL110) -> 0 | AM111: 0 | AN111: =IF(A110="","",IF(A110>NomMois,0,IF(A110<$A$3,2.08,(NETWORKDAYS(A110,$A$2)/21.66667)*2.08))) -> 0 | AO111: =IF(AN111="",0,+AN111) -> 0 | AQ111: =+AM111-AI111 -> 0 | AR111: =+AP111-AJ111 -> 0 | AS111: =+AO111+AQ111 -> 0
B113: Matin | AH113: =COUNTA(Juin!$C113:$AF113) -> 0 | AI113: =(COUNTIFS(Juin!$C113:$AF113,("cp")))/2 -> 0 | AJ113: =COUNTIFS(Juin!$C113:$AG113,"RTT")/2 -> 0 | AK113: =COUNTIFS(Juin!$C113:$AG113,"m")/2 -> 0 | AL113: =COUNTIFS(Juin!$C113:$AG113,"a")/2 -> 0
A114: 43052 | B114: A-M | AH114: =COUNTA(Juin!$C114:$AF114) -> 0 | AI114: =(COUNTIFS(Juin!$C114:$AF114,("cp")))/2 -> 0 | AJ114: =COUNTIFS(Juin!$C114:$AG114,"RTT")/2 -> 0 | AK114: =COUNTIFS(Juin!$C114:$AG114,"m")/2 -> 0 | AL114: =COUNTIFS(Juin!$C114:$AG114,"a")/2 -> 0
C115: =IF(C113>0,C113,IF(C114>0,C114,"")) | D115: =IF(D113>0,D113,IF(D114>0,D114,"")) | E115: =IF(E113>0,E113,IF(E114>0,E114,"")) | F115: =IF(F113>0,F113,IF(F114>0,F114,"")) | G115: =IF(G113>0,G113,IF(G114>0,G114,"")) | H115: =IF(H113>0,H113,IF(H114>0,H114,"")) | I115: =IF(I113>0,I113,IF(I114>0,I114,"")) | J115: =IF(J113>0,J113,IF(J114>0,J114,"")) | ... AG115: =IF(AG113>0,AG113,IF(AG114>0,AG114,"")) | AH115: =SUM(AH113:AH114) -> 0 | AI115: =SUM(AI113:AI114) -> 0 | AJ115: =SUM(AJ113:AJ114) -> 0 | AK115: =SUM(AK113:AK114) -> 0 | AL115: =SUM(AL113:AL114) -> 0 | AM115: 0 | AN115: =IF(A114="","",IF(A114>NomMois,0,IF(A114<$A$3,2.08,(NETWORKDAYS(A114,$A$2)/21.66667)*2.08))) -> 0 | AO115: =IF(AN115="",0,+AN115) -> 0 | AQ115: =+AM115-AI115 -> 0 | AR115: =+AP115-AJ115 -> 0 | AS115: =+AO115+AQ115 -> 0
B117: Matin | AH117: =COUNTA(Juin!$C117:$AF117) -> 0 | AI117: =(COUNTIFS(Juin!$C117:$AF117,("cp")))/2 -> 0 | AJ117: =COUNTIFS(Juin!$C117:$AG117,"RTT")/2 -> 0 | AK117: =COUNTIFS(Juin!$C117:$AG117,"m")/2 -> 0 | AL117: =COUNTIFS(Juin!$C117:$AG117,"a")/2 -> 0
B118: A-M | AH118: =COUNTA(Juin!$C118:$AF118) -> 0 | AI118: =(COUNTIFS(Juin!$C118:$AF118,("cp")))/2 -> 0 | AJ118: =COUNTIFS(Juin!$C118:$AG118,"RTT")/2 -> 0 | AK118: =COUNTIFS(Juin!$C118:$AG118,"m")/2 -> 0 | AL118: =COUNTIFS(Juin!$C118:$AG118,"a")/2 -> 0
C119: =IF(C117>0,C117,IF(C118>0,C118,"")) | D119: =IF(D117>0,D117,IF(D118>0,D118,"")) | E119: =IF(E117>0,E117,IF(E118>0,E118,"")) | F119: =IF(F117>0,F117,IF(F118>0,F118,"")) | G119: =IF(G117>0,G117,IF(G118>0,G118,"")) | H119: =IF(H117>0,H117,IF(H118>0,H118,"")) | I119: =IF(I117>0,I117,IF(I118>0,I118,"")) | J119: =IF(J117>0,J117,IF(J118>0,J118,"")) | ... AG119: =IF(AG117>0,AG117,IF(AG118>0,AG118,"")) | AH119: =SUM(AH117:AH118) -> 0 | AI119: =SUM(AI117:AI118) -> 0 | AJ119: =SUM(AJ117:AJ118) -> 0 | AK119: =SUM(AK117:AK118) -> 0 | AL119: =SUM(AL117:AL118) -> 0 | AM119: 0 | AN119: =IF(A118="","",IF(A118>NomMois,0,IF(A118<$A$3,2.08,(NETWORKDAYS(A118,$A$2)/21.66667)*2.08))) | AO119: =IF(AN119="",0,+AN119) -> 0 | AQ119: =+AM119-AI119 -> 0 | AR119: =+AP119-AJ119 -> 0 | AS119: =+AO119+AQ119 -> 0
B121: Matin | AH121: =COUNTA(Juin!$C121:$AF121) -> 0 | AI121: =(COUNTIFS(Juin!$C121:$AF121,("cp")))/2 -> 0 | AJ121: =COUNTIFS(Juin!$C121:$AG121,"RTT")/2 -> 0 | AK121: =COUNTIFS(Juin!$C121:$AG121,"m")/2 -> 0 | AL121: =COUNTIFS(Juin!$C121:$AG121,"a")/2 -> 0
B122: A-M | AH122: =COUNTA(Juin!$C122:$AF122) -> 0 | AI122: =(COUNTIFS(Juin!$C122:$AF122,("cp")))/2 -> 0 | AJ122: =COUNTIFS(Juin!$C122:$AG122,"RTT")/2 -> 0 | AK122: =COUNTIFS(Juin!$C122:$AG122,"m")/2 -> 0 | AL122: =COUNTIFS(Juin!$C122:$AG122,"a")/2 -> 0
C123: =IF(C121>0,C121,IF(C122>0,C122,"")) | D123: =IF(D121>0,D121,IF(D122>0,D122,"")) | E123: =IF(E121>0,E121,IF(E122>0,E122,"")) | F123: =IF(F121>0,F121,IF(F122>0,F122,"")) | G123: =IF(G121>0,G121,IF(G122>0,G122,"")) | H123: =IF(H121>0,H121,IF(H122>0,H122,"")) | I123: =IF(I121>0,I121,IF(I122>0,I122,"")) | J123: =IF(J121>0,J121,IF(J122>0,J122,"")) | ... AG123: =IF(AG121>0,AG121,IF(AG122>0,AG122,"")) | AH123: =SUM(AH121:AH122) -> 0 | AI123: =SUM(AI121:AI122) -> 0 | AJ123: =SUM(AJ121:AJ122) -> 0 | AK123: =SUM(AK121:AK122) -> 0 | AL123: =SUM(AL121:AL122) -> 0 | AM123: 0 | AN123: =IF(A122="","",IF(A122>NomMois,0,IF(A122<$A$3,2.08,(NETWORKDAYS(A122,$A$2)/21.66667)*2.08))) | AO123: =IF(AN123="",0,+AN123) -> 0 | AQ123: =+AM123-AI123 -> 0 | AR123: =+AP123-AJ123 -> 0 | AS123: =+AO123+AQ123 -> 0
C127: Clé de couleur | H127: CP | I127: Congés | L127: RTT | M127: RTT | P127: M | Q127: Maladie | T127: A | U127: Absence injustifiée | Z127: Personnalisé 2

Sheet Juillet
A1: Planification des absences des employés
A2: 42947 | C2: Dates d’absence | AH2: 2017 | AI2: Nombre de jours pris | AM2: Nombre de Jours acquis | AQ2: Solde
A3: 42917 | C3: =TEXT(WEEKDAY(DATE(CalendrierAnnée,7,1),1),"jjj") -> sam | D3: =TEXT(WEEKDAY(DATE(CalendrierAnnée,7,2),1),"jjj") -> dim | E3: =TEXT(WEEKDAY(DATE(CalendrierAnnée,7,3),1),"jjj") -> lun | F3: =TEXT(WEEKDAY(DATE(CalendrierAnnée,7,4),1),"jjj") -> mar | G3: =TEXT(WEEKDAY(DATE(CalendrierAnnée,7,5),1),"jjj") -> mer | H3: =TEXT(WEEKDAY(DATE(CalendrierAnnée,7,6),1),"jjj") -> jeu | I3: =TEXT(WEEKDAY(DATE(CalendrierAnnée,7,7),1),"jjj") -> ven | J3: =TEXT(WEEKDAY(DATE(CalendrierAnnée,7,8),1),"jjj") -> sam | K3: =TEXT(WEEKDAY(DATE(CalendrierAnnée,7,9),1),"jjj") -> dim | L3: =TEXT(WEEKDAY(DATE(CalendrierAnnée,7,10),1),"jjj") -> lun | M3: =TEXT(WEEKDAY(DATE(CalendrierAnnée,7,11),1),"jjj") -> mar | N3: =TEXT(WEEKDAY(DATE(CalendrierAnnée,7,12),1),"jjj") -> mer | O3: =TEXT(WEEKDAY(DATE(CalendrierAnnée,7,13),1),"jjj") -> jeu | P3: =TEXT(WEEKDAY(DATE(CalendrierAnnée,7,14),1),"jjj") -> ven | Q3: =TEXT(WEEKDAY(DATE(CalendrierAnnée,7,15),1),"jjj") -> sam | R3: =TEXT(WEEKDAY(DATE(CalendrierAnnée,7,16),1),"jjj") -> dim | S3: =TEXT(WEEKDAY(DATE(CalendrierAnnée,7,17),1),"jjj") -> lun | T3: =TEXT(WEEKDAY(DATE(CalendrierAnnée,7,18),1),"jjj") -> mar | U3: =TEXT(WEEKDAY(DATE(CalendrierAnnée,7,19),1),"jjj") -> mer | V3: =TEXT(WEEKDAY(DATE(CalendrierAnnée,7,20),1),"jjj") -> jeu | W3: =TEXT(WEEKDAY(DATE(CalendrierAnnée,7,21),1),"jjj") -> ven | X3: =TEXT(WEEKDAY(DATE(CalendrierAnnée,7,22),1),"jjj") -> sam | Y3: =TEXT(WEEKDAY(DATE(CalendrierAnnée,7,23),1),"jjj") -> dim | Z3: =TEXT(WEEKDAY(DATE(CalendrierAnnée,7,24),1),"jjj") -> lun | AA3: =TEXT(WEEKDAY(DATE(CalendrierAnnée,7,25),1),"jjj") -> mar | AB3: =TEXT(WEEKDAY(DATE(CalendrierAnnée,7,26),1),"jjj") -> mer | AC3: =TEXT(WEEKDAY(DATE(CalendrierAnnée,7,27),1),"jjj") -> jeu | AD3: =TEXT(WEEKDAY(DATE(CalendrierAnnée,7,28),1),"jjj") -> ven | AE3: =TEXT(WEEKDAY(DATE(CalendrierAnnée,7,29),1),"jjj") -> sam | AF3: =TEXT(WEEKDAY(DATE(CalendrierAnnée,7,30),1),"jjj") -> dim | AG3: =TEXT(WEEKDAY(DATE(CalendrierAnnée,7,31),1),"jjj") -> lun
A4: Nom de l’employé | C4: 1 | D4: 2 | E4: 3 | F4: 4 | G4: 5 | H4: 6 | I4: 7 | J4: 8 | K4: 9 | L4: 10 | M4: 11 | N4: 12 | O4: 13 | P4: 14 | Q4: 15 | R4: 16 | S4: 17 | T4: 18 | U4: 19 | V4: 20 | W4: 21 | X4: 22 | Y4: 23 | Z4: 24 | AA4: 25 | AB4: 26 | AC4: 27 | AD4: 28 | AE4: 29 | AF4: 30 | AG4: 31 | AH4: Nombre total de demi-journées | AI4: CP | AJ4: RTT | AK4: M | AL4: A | AM4: C P Acquis | AN4: CP en cours sur le mois | AO4: CP en cours cumulés | AP4: RTT acquis | AQ4: CP | AR4: RTT | AS4: DATE DE SORTIE et SOLDE CP
B5: Matin | AH5: =COUNTA(Juillet!$C5:$AG5) -> 0 | AI5: =(COUNTIFS(Juillet!$C5:$AG5,("cp")))/2+Juin!AI5 -> 0 | AJ5: =COUNTIFS(Juillet!$C5:$AG5,"RTT")/2+Juin!AJ5 -> 0 | AK5: =COUNTIFS(Juillet!$C5:$AG5,"m")/2+Juin!AK5 -> 0 | AL5: =COUNTIFS(Juillet!$C5:$AG5,"a")/2+Juin!AL5 -> 0
A6: 41722 | B6: A-M | AH6: =COUNTA(Juillet!$C6:$AG6) -> 0 | AI6: =(COUNTIFS(Juillet!$C6:$AG6,("cp")))/2+Juin!AI6 -> 0 | AJ6: =COUNTIFS(Juillet!$C6:$AG6,"RTT")/2+Juin!AJ6 -> 0 | AK6: =COUNTIFS(Juillet!$C6:$AG6,"m")/2+Juin!AK6 -> 0 | AL6: =COUNTIFS(Juillet!$C6:$AG6,"a")/2+Juin!AL6 -> 0
C7: =IF(C5>0,C5,IF(C6>0,C6,"")) | D7: =IF(D5>0,D5,IF(D6>0,D6,"")) | E7: =IF(E5>0,E5,IF(E6>0,E6,"")) | F7: =IF(F5>0,F5,IF(F6>0,F6,"")) | G7: =IF(G5>0,G5,IF(G6>0,G6,"")) | H7: =IF(H5>0,H5,IF(H6>0,H6,"")) | I7: =IF(I5>0,I5,IF(I6>0,I6,"")) | J7: =IF(J5>0,J5,IF(J6>0,J6,"")) | ... AG7: =IF(AG5>0,AG5,IF(AG6>0,AG6,"")) | AH7: =SUM(AH5:AH6) -> 0 | AI7: =SUM(AI5:AI6) -> 0 | AJ7: =SUM(AJ5:AJ6) -> 0 | AK7: =SUM(AK5:AK6) -> 0 | AL7: =SUM(AL5:AL6) -> 0 | AM7: =+Juin!AM7 -> 9.15 | AN7: =IF(A6="","",IF(A6>NomMois,0,IF(A6<$A$3,2.08,(NETWORKDAYS(A6,$A$2)/21.66667)*2.08))) -> 2.08 | AO7: =IF( AN7="",0,+AN7+Juin!AO7) -> 4.16 | AQ7: =+AM7-AI7 -> 9.15 | AR7: =+AP7-AJ7 -> 0 | AS7: =+AO7+AQ7 -> 13.31
B9: Matin | AA9: CP | AB9: CP | AC9: CP | AD9: CP | AG9: CP | AH9: =COUNTA(Juillet!$C9:$AG9) -> 5 | AI9: =(COUNTIFS(Juillet!$C9:$AG9,("cp")))/2+Juin!AI9 -> 2.5 | AJ9: =COUNTIFS(Juillet!$C9:$AG9,"RTT")/2+Juin!AJ9 -> 0 | AK9: =COUNTIFS(Juillet!$C9:$AG9,"m")/2+Juin!AK9 -> 0 | AL9: =COUNTIFS(Juillet!$C9:$AG9,"a")/2+Juin!AL9 -> 0
A10: 42740 | B10: A-M | AA10: CP | AB10: CP | AC10: CP | AD10: CP | AG10: CP | AH10: =COUNTA(Juillet!$C10:$AG10) -> 5 | AI10: =(COUNTIFS(Juillet!$C10:$AG10,("cp")))/2+Juin!AI10 -> 2.5 | AJ10: =COUNTIFS(Juillet!$C10:$AG10,"RTT")/2+Juin!AJ10 -> 0 | AK10: =COUNTIFS(Juillet!$C10:$AG10,"m")/2+Juin!AK10 -> 0 | AL10: =COUNTIFS(Juillet!$C10:$AG10,"a")/2+Juin!AL10 -> 0
C11: =IF(C9>0,C9,IF(C10>0,C10,"")) | D11: =IF(D9>0,D9,IF(D10>0,D10,"")) | E11: =IF(E9>0,E9,IF(E10>0,E10,"")) | F11: =IF(F9>0,F9,IF(F10>0,F10,"")) | G11: =IF(G9>0,G9,IF(G10>0,G10,"")) | H11: =IF(H9>0,H9,IF(H10>0,H10,"")) | I11: =IF(I9>0,I9,IF(I10>0,I10,"")) | J11: =IF(J9>0,J9,IF(J10>0,J10,"")) | ... AG11: =IF(AG9>0,AG9,IF(AG10>0,AG10,"")) -> CP | AH11: =SUM(AH9:AH10) -> 10 | AI11: =SUM(AI9:AI10) -> 5 | AJ11: =SUM(AJ9:AJ10) -> 0 | AK11: =SUM(AK9:AK10) -> 0 | AL11: =SUM(AL9:AL10) -> 0 | AM11: =+Juin!AM11 -> 10.32 | AN11: =IF(A10="","",IF(A10>NomMois,0,IF(A10<$A$3,2.08,(NETWORKDAYS(A10,$A$2)/21.66667)*2.08))) -> 2.08 | AO11: =IF( AN11="",0,+AN11+Juin!AO11) -> 4.16 | AQ11: =+AM11-AI11 -> 5.32 | AR11: =+AP11-AJ11 -> 0 | AS11: =+AO11+AQ11 -> 9.48
B13: Matin | G13: A | L13: A | AC13: A | AH13: =COUNTA(Juillet!$C13:$AG13) -> 3 | AI13: =(COUNTIFS(Juillet!$C13:$AG13,("cp")))/2+Juin!AI13 -> 0 | AJ13: =COUNTIFS(Juillet!$C13:$AG13,"RTT")/2+Juin!AJ13 -> 0 | AK13: =COUNTIFS(Juillet!$C13:$AG13,"m")/2+Juin!AK13 -> 0 | AL13: =COUNTIFS(Juillet!$C13:$AG13,"a")/2+Juin!AL13 -> 1.5
A14: 42891 | B14: A-M | L14: A | AC14: A | AH14: =COUNTA(Juillet!$C14:$AG14) -> 2 | AI14: =(COUNTIFS(Juillet!$C14:$AG14,("cp")))/2+Juin!AI14 -> 0 | AJ14: =COUNTIFS(Juillet!$C14:$AG14,"RTT")/2+Juin!AJ14 -> 0 | AK14: =COUNTIFS(Juillet!$C14:$AG14,"m")/2+Juin!AK14 -> 0 | AL14: =COUNTIFS(Juillet!$C14:$AG14,"a")/2+Juin!AL14 -> 1 | AS14: 43014
C15: =IF(C13>0,C13,IF(C14>0,C14,"")) | D15: =IF(D13>0,D13,IF(D14>0,D14,"")) | E15: =IF(E13>0,E13,IF(E14>0,E14,"")) | F15: =IF(F13>0,F13,IF(F14>0,F14,"")) | G15: =IF(G13>0,G13,IF(G14>0,G14,"")) -> A | H15: =IF(H13>0,H13,IF(H14>0,H14,"")) | I15: =IF(I13>0,I13,IF(I14>0,I14,"")) | J15: =IF(J13>0,J13,IF(J14>0,J14,"")) | ... AG15: =IF(AG13>0,AG13,IF(AG14>0,AG14,"")) | AH15: =SUM(AH13:AH14) -> 5 | AI15: =SUM(AI13:AI14) -> 0 | AJ15: =SUM(AJ13:AJ14) -> 0 | AK15: =SUM(AK13:AK14) -> 0 | AL15: =SUM(AL13:AL14) -> 2.5 | AM15: =+Juin!AM15 -> 0 | AN15: =IF(A14="","",IF(A14>NomMois,0,IF(A14<$A$3,2.08,(NETWORKDAYS(A14,$A$2)/21.66667)*2.08))) -> 2.08 | AO15: =IF( AN15="",0,+AN15+Juin!AO15) -> 3.9999997 | AQ15: =+AM15-AI15 -> 0 | AR15: =+AP15-AJ15 -> 0 | AS15: =+AO15+AQ15 -> 3.9999997
B17: Matin | AH17: =COUNTA(Juillet!$C17:$AG17) -> 0 | AI17: =(COUNTIFS(Juillet!$C17:$AG17,("cp")))/2+Juin!AI17 -> 0 | AJ17: =COUNTIFS(Juillet!$C17:$AG17,"RTT")/2+Juin!AJ17 -> 0 | AK17: =COUNTIFS(Juillet!$C17:$AG17,"m")/2+Juin!AK17 -> 0 | AL17: =COUNTIFS(Juillet!$C17:$AG17,"a")/2+Juin!AL17 -> 0
A18: 38923 | B18: A-M | AH18: =COUNTA(Juillet!$C18:$AG18) -> 0 | AI18: =(COUNTIFS(Juillet!$C18:$AG18,("cp")))/2+Juin!AI18 -> 0 | AJ18: =COUNTIFS(Juillet!$C18:$AG18,"RTT")/2+Juin!AJ18 -> 0 | AK18: =COUNTIFS(Juillet!$C18:$AG18,"m")/2+Juin!AK18 -> 0 | AL18: =COUNTIFS(Juillet!$C18:$AG18,"a")/2+Juin!AL18 -> 0
C19: =IF(C17>0,C17,IF(C18>0,C18,"")) | D19: =IF(D17>0,D17,IF(D18>0,D18,"")) | E19: =IF(E17>0,E17,IF(E18>0,E18,"")) | F19: =IF(F17>0,F17,IF(F18>0,F18,"")) | G19: =IF(G17>0,G17,IF(G18>0,G18,"")) | H19: =IF(H17>0,H17,IF(H18>0,H18,"")) | I19: =IF(I17>0,I17,IF(I18>0,I18,"")) | J19: =IF(J17>0,J17,IF(J18>0,J18,"")) | ... AG19: =IF(AG17>0,AG17,IF(AG18>0,AG18,"")) | AH19: =SUM(AH17:AH18) -> 0 | AI19: =SUM(AI17:AI18) -> 0 | AJ19: =SUM(AJ17:AJ18) -> 0 | AK19: =SUM(AK17:AK18) -> 0 | AL19: =SUM(AL17:AL18) -> 0 | AM19: =+Juin!AM19 -> 24.54 | AN19: =IF(A18="","",IF(A18>NomMois,0,IF(A18<$A$3,2.08,(NETWORKDAYS(A18,$A$2)/21.66667)*2.08))) -> 2.08 | AO19: =IF( AN19="",0,+AN19+Juin!AO19) -> 4.16 | AQ19: =+AM19-AI19 -> 24.54 | AR19: =+AP19-AJ19 -> 0 | AS19: =+AO19+AQ19 -> 28.7
B21: Matin | W21: CP | Z21: CP | AH21: =COUNTA(Juillet!$C21:$AG21) -> 2 | AI21: =(COUNTIFS(Juillet!$C21:$AG21,("cp")))/2+Juin!AI21 -> 1 | AJ21: =COUNTIFS(Juillet!$C21:$AG21,"RTT")/2+Juin!AJ21 -> 0 | AK21: =COUNTIFS(Juillet!$C21:$AG21,"m")/2+Juin!AK21 -> 0 | AL21: =COUNTIFS(Juillet!$C21:$AG21,"a")/2+Juin!AL21 -> 0
A22: 41824 | B22: A-M | W22: CP | Z22: CP | AH22: =COUNTA(Juillet!$C22:$AG22) -> 2 | AI22: =(COUNTIFS(Juillet!$C22:$AG22,("cp")))/2+Juin!AI22 -> 1 | AJ22: =COUNTIFS(Juillet!$C22:$AG22,"RTT")/2+Juin!AJ22 -> 0 | AK22: =COUNTIFS(Juillet!$C22:$AG22,"m")/2+Juin!AK22 -> 0 | AL22: =COUNTIFS(Juillet!$C22:$AG22,"a")/2+Juin!AL22 -> 0
C23: =IF(C21>0,C21,IF(C22>0,C22,"")) | D23: =IF(D21>0,D21,IF(D22>0,D22,"")) | E23: =IF(E21>0,E21,IF(E22>0,E22,"")) | F23: =IF(F21>0,F21,IF(F22>0,F22,"")) | G23: =IF(G21>0,G21,IF(G22>0,G22,"")) | H23: =IF(H21>0,H21,IF(H22>0,H22,"")) | I23: =IF(I21>0,I21,IF(I22>0,I22,"")) | J23: =IF(J21>0,J21,IF(J22>0,J22,"")) | ... AG23: =IF(AG21>0,AG21,IF(AG22>0,AG22,"")) | AH23: =SUM(AH21:AH22) -> 4 | AI23: =SUM(AI21:AI22) -> 2 | AJ23: =SUM(AJ21:AJ22) -> 0 | AK23: =SUM(AK21:AK22) -> 0 | AL23: =SUM(AL21:AL22) -> 0 | AM23: =+Juin!AM23 -> 11.23 | AN23: =IF(A22="","",IF(A22>NomMois,0,IF(A22<$A$3,2.08,(NETWORKDAYS(A22,$A$2)/21.66667)*2.08))) -> 2.08 | AO23: =IF( AN23="",0,+AN23+Juin!AO23) -> 4.16 | AQ23: =+AM23-AI23 -> 9.23 | AR23: =+AP23-AJ23 -> 0 | AS23: =+AO23+AQ23 -> 13.39
B25: Matin | AH25: =COUNTA(Juillet!$C25:$AG25) -> 0 | AI25: =(COUNTIFS(Juillet!$C25:$AG25,("cp")))/2+Juin!AI25 -> 1 | AJ25: =COUNTIFS(Juillet!$C25:$AG25,"RTT")/2+Juin!AJ25 -> 0 | AK25: =COUNTIFS(Juillet!$C25:$AG25,"m")/2+Juin!AK25 -> 0 | AL25: =COUNTIFS(Juillet!$C25:$AG25,"a")/2+Juin!AL25 -> 0
A26: 38626 | B26: A-M | AH26: =COUNTA(Juillet!$C26:$AG26) -> 0 | AI26: =(COUNTIFS(Juillet!$C26:$AG26,("cp")))/2+Juin!AI26 -> 1 | AJ26: =COUNTIFS(Juillet!$C26:$AG26,"RTT")/2+Juin!AJ26 -> 0 | AK26: =COUNTIFS(Juillet!$C26:$AG26,"m")/2+Juin!AK26 -> 0 | AL26: =COUNTIFS(Juillet!$C26:$AG26,"a")/2+Juin!AL26 -> 0
C27: =IF(C25>0,C25,IF(C26>0,C26,"")) | D27: =IF(D25>0,D25,IF(D26>0,D26,"")) | E27: =IF(E25>0,E25,IF(E26>0,E26,"")) | F27: =IF(F25>0,F25,IF(F26>0,F26,"")) | G27: =IF(G25>0,G25,IF(G26>0,G26,"")) | H27: =IF(H25>0,H25,IF(H26>0,H26,"")) | I27: =IF(I25>0,I25,IF(I26>0,I26,"")) | J27: =IF(J25>0,J25,IF(J26>0,J26,"")) | ... AG27: =IF(AG25>0,AG25,IF(AG26>0,AG26,"")) | AH27: =SUM(AH25:AH26) -> 0 | AI27: =SUM(AI25:AI26) -> 2 | AJ27: =SUM(AJ25:AJ26) -> 0 | AK27: =SUM(AK25:AK26) -> 0 | AL27: =SUM(AL25:AL26) -> 0 | AM27: =+Juin!AM27 -> 28.7 | AN27: =IF(A26="","",IF(A26>NomMois,0,IF(A26<$A$3,2.08,(NETWORKDAYS(A26,$A$2)/21.66667)*2.08))) -> 2.08 | AO27: =IF( AN27="",0,+AN27+Juin!AO27) -> 4.16 | AQ27: =+AM27-AI27 -> 26.7 | AR27: =+AP27-AJ27 -> 0 | AS27: =+AO27+AQ27 -> 30.86
B29: Matin | AH29: =COUNTA(Juillet!$C29:$AG29) -> 0 | AI29: =(COUNTIFS(Juillet!$C29:$AG29,("cp")))/2+Juin!AI29 -> 0 | AJ29: =COUNTIFS(Juillet!$C29:$AG29,"RTT")/2+Juin!AJ29 -> 0 | AK29: =COUNTIFS(Juillet!$C29:$AG29,"m")/2+Juin!AK29 -> 0 | AL29: =COUNTIFS(Juillet!$C29:$AG29,"a")/2+Juin!AL29 -> 0
A30: 36892 | B30: A-M | AH30: =COUNTA(Juillet!$C30:$AG30) -> 0 | AI30: =(COUNTIFS(Juillet!$C30:$AG30,("cp")))/2+Juin!AI30 -> 0 | AJ30: =COUNTIFS(Juillet!$C30:$AG30,"RTT")/2+Juin!AJ30 -> 0 | AK30: =COUNTIFS(Juillet!$C30:$AG30,"m")/2+Juin!AK30 -> 0 | AL30: =COUNTIFS(Juillet!$C30:$AG30,"a")/2+Juin!AL30 -> 0
C31: =IF(C29>0,C29,IF(C30>0,C30,"")) | D31: =IF(D29>0,D29,IF(D30>0,D30,"")) | E31: =IF(E29>0,E29,IF(E30>0,E30,"")) | F31: =IF(F29>0,F29,IF(F30>0,F30,"")) | G31: =IF(G29>0,G29,IF(G30>0,G30,"")) | H31: =IF(H29>0,H29,IF(H30>0,H30,"")) | I31: =IF(I29>0,I29,IF(I30>0,I30,"")) | J31: =IF(J29>0,J29,IF(J30>0,J30,"")) | ... AG31: =IF(AG29>0,AG29,IF(AG30>0,AG30,"")) | AH31: =SUM(AH29:AH30) -> 0 | AI31: =SUM(AI29:AI30) -> 0 | AJ31: =SUM(AJ29:AJ30) -> 0 | AK31: =SUM(AK29:AK30) -> 0 | AL31: =SUM(AL29:AL30) -> 0 | AM31: =+Juin!AM31 -> 30.37 | AN31: =IF(A30="","",IF(A30>NomMois,0,IF(A30<$A$3,2.08,(NETWORKDAYS(A30,$A$2)/21.66667)*2.08))) -> 2.08 | AO31: =IF( AN31="",0,+AN31+Juin!AO31) -> 4.16 | AQ31: =+AM31-AI31 -> 30.37 | AR31: =+AP31-AJ31 -> 0 | AS31: =+AO31+AQ31 -> 34.53
B33: Matin | S33: CP | T33: CP | U33: CP | V33: CP | W33: CP | Z33: CP | AA33: CP | AB33: CP | AC33: CP | AD33: CP | AG33: CP | AH33: =COUNTA(Juillet!$C33:$AG33) -> 11 | AI33: =(COUNTIFS(Juillet!$C33:$AG33,("cp")))/2+Juin!AI33 -> 6 | AJ33: =COUNTIFS(Juillet!$C33:$AG33,"RTT")/2+Juin!AJ33 -> 0 | AK33: =COUNTIFS(Juillet!$C33:$AG33,"m")/2+Juin!AK33 -> 0 | AL33: =COUNTIFS(Juillet!$C33:$AG33,"a")/2+Juin!AL33 -> 0
A34: 42110 | B34: A-M | S34: CP | T34: CP | U34: CP | V34: CP | W34: CP | Z34: CP | AA34: CP | AB34: CP | AC34: CP | AD34: CP | AG34: CP | AH34: =COUNTA(Juillet!$C34:$AG34) -> 11 | AI34: =(COUNTIFS(Juillet!$C34:$AG34,("cp")))/2+Juin!AI34 -> 6 | AJ34: =COUNTIFS(Juillet!$C34:$AG34,"RTT")/2+Juin!AJ34 -> 0 | AK34: =COUNTIFS(Juillet!$C34:$AG34,"m")/2+Juin!AK34 -> 0 | AL34: =COUNTIFS(Juillet!$C34:$AG34,"a")/2+Juin!AL34 -> 0
C35: =IF(C33>0,C33,IF(C34>0,C34,"")) | D35: =IF(D33>0,D33,IF(D34>0,D34,"")) | E35: =IF(E33>0,E33,IF(E34>0,E34,"")) | F35: =IF(F33>0,F33,IF(F34>0,F34,"")) | G35: =IF(G33>0,G33,IF(G34>0,G34,"")) | H35: =IF(H33>0,H33,IF(H34>0,H34,"")) | I35: =IF(I33>0,I33,IF(I34>0,I34,"")) | J35: =IF(J33>0,J33,IF(J34>0,J34,"")) | ... AG35: =IF(AG33>0,AG33,IF(AG34>0,AG34,"")) -> CP | AH35: =SUM(AH33:AH34) -> 22 | AI35: =SUM(AI33:AI34) -> 12 | AJ35: =SUM(AJ33:AJ34) -> 0 | AK35: =SUM(AK33:AK34) -> 0 | AL35: =SUM(AL33:AL34) -> 0 | AM35: =+Juin!AM35 -> 14.56 | AN35: =IF(A34="","",IF(A34>NomMois,0,IF(A34<$A$3,2.08,(NETWORKDAYS(A34,$A$2)/21.66667)*2.08))) -> 2.08 | AO35: =IF( AN35="",0,+AN35+Juin!AO35) -> 4.16 | AQ35: =+AM35-AI35 -> 2.56 | AR35: =+AP35-AJ35 -> 0 | AS35: =+AO35+AQ35 -> 6.72
B37: Matin | AH37: =COUNTA(Juillet!$C37:$AG37) -> 0 | AI37: =(COUNTIFS(Juillet!$C37:$AG37,("cp")))/2+Juin!AI37 -> 0 | AJ37: =COUNTIFS(Juillet!$C37:$AG37,"RTT")/2+Juin!AJ37 -> 0 | AK37: =COUNTIFS(Juillet!$C37:$AG37,"m")/2+Juin!AK37 -> 0 | AL37: =COUNTIFS(Juillet!$C37:$AG37,"a")/2+Juin!AL37 -> 0
A38: 42373 | B38: A-M | AH38: =COUNTA(Juillet!$C38:$AG38) -> 0 | AI38: =(COUNTIFS(Juillet!$C38:$AG38,("cp")))/2+Juin!AI38 -> 0 | AJ38: =COUNTIFS(Juillet!$C38:$AG38,"RTT")/2+Juin!AJ38 -> 0 | AK38: =COUNTIFS(Juillet!$C38:$AG38,"m")/2+Juin!AK38 -> 0 | AL38: =COUNTIFS(Juillet!$C38:$AG38,"a")/2+Juin!AL38 -> 0
C39: =IF(C37>0,C37,IF(C38>0,C38,"")) | D39: =IF(D37>0,D37,IF(D38>0,D38,"")) | E39: =IF(E37>0,E37,IF(E38>0,E38,"")) | F39: =IF(F37>0,F37,IF(F38>0,F38,"")) | G39: =IF(G37>0,G37,IF(G38>0,G38,"")) | H39: =IF(H37>0,H37,IF(H38>0,H38,"")) | I39: =IF(I37>0,I37,IF(I38>0,I38,"")) | J39: =IF(J37>0,J37,IF(J38>0,J38,"")) | ... AG39: =IF(AG37>0,AG37,IF(AG38>0,AG38,"")) | AH39: =SUM(AH37:AH38) -> 0 | AI39: =SUM(AI37:AI38) -> 0 | AJ39: =SUM(AJ37:AJ38) -> 0 | AK39: =SUM(AK37:AK38) -> 0 | AL39: =SUM(AL37:AL38) -> 0 | AM39: =+Juin!AM39 -> 14.14 | AN39: =IF(A38="","",IF(A38>NomMois,0,IF(A38<$A$3,2.08,(NETWORKDAYS(A38,$A$2)/21.66667)*2.08))) -> 2.08 | AO39: =IF( AN39="",0,+AN39+Juin!AO39) -> 4.16 | AQ39: =+AM39-AI39 -> 14.14 | AR39: =+AP39-AJ39 -> 0 | AS39: =+AO39+AQ39 -> 18.3
B41: Matin | E41: CP | F41: CP | G41: CP | H41: CP | I41: CP | S41: CP | T41: CP | U41: CP | V41: CP | W41: CP | Z41: CP | AA41: CP | AB41: CP | AC41: CP | AD41: CP | AH41: =COUNTA(Juillet!$C41:$AG41) -> 15 | AI41: =(COUNTIFS(Juillet!$C41:$AG41,("cp")))/2+Juin!AI41 -> 7.5 | AJ41: =COUNTIFS(Juillet!$C41:$AG41,"RTT")/2+Juin!AJ41 -> 0 | AK41: =COUNTIFS(Juillet!$C41:$AG41,"m")/2+Juin!AK41 -> 0 | AL41: =COUNTIFS(Juillet!$C41:$AG41,"a")/2+Juin!AL41 -> 0
A42: 41821 | B42: A-M | E42: CP | F42: CP | G42: CP | H42: CP | I42: CP | S42: CP | T42: CP | U42: CP | V42: CP | W42: CP | Z42: CP | AA42: CP | AB42: CP | AC42: CP | AD42: CP | AH42: =COUNTA(Juillet!$C42:$AG42) -> 15 | AI42: =(COUNTIFS(Juillet!$C42:$AG42,("cp")))/2+Juin!AI42 -> 7.5 | AJ42: =COUNTIFS(Juillet!$C42:$AG42,"RTT")/2+Juin!AJ42 -> 0 | AK42: =COUNTIFS(Juillet!$C42:$AG42,"m")/2+Juin!AK42 -> 0 | AL42: =COUNTIFS(Juillet!$C42:$AG42,"a")/2+Juin!AL42 -> 0
C43: =IF(C41>0,C41,IF(C42>0,C42,"")) | D43: =IF(D41>0,D41,IF(D42>0,D42,"")) | E43: =IF(E41>0,E41,IF(E42>0,E42,"")) -> CP | F43: =IF(F41>0,F41,IF(F42>0,F42,"")) -> CP | G43: =IF(G41>0,G41,IF(G42>0,G42,"")) -> CP | H43: =IF(H41>0,H41,IF(H42>0,H42,"")) -> CP | I43: =IF(I41>0,I41,IF(I42>0,I42,"")) -> CP | J43: =IF(J41>0,J41,IF(J42>0,J42,"")) | ... AG43: =IF(AG41>0,AG41,IF(AG42>0,AG42,"")) | AH43: =SUM(AH41:AH42) -> 30 | AI43: =SUM(AI41:AI42) -> 15 | AJ43: =SUM(AJ41:AJ42) -> 0 | AK43: =SUM(AK41:AK42) -> 0 | AL43: =SUM(AL41:AL42) -> 0 | AM43: =+Juin!AM43 -> 20.38 | AN43: =IF(A42="","",IF(A42>NomMois,0,IF(A42<$A$3,2.08,(NETWORKDAYS(A42,$A$2)/21.66667)*2.08))) -> 2.08 | AO43: =IF( AN43="",0,+AN43+Juin!AO43) -> 4.16 | AQ43: =+AM43-AI43 -> 5.38 | AR43: =+AP43-AJ43 -> 0 | AS43: =+AO43+AQ43 -> 9.54
AH44: =COUNTA(Juillet!$C44:$AG44) -> 0 | AI44: =(COUNTIFS(Juillet!$C44:$AF44,("cp")))/2 -> 0 | AJ44: =COUNTIFS(Juillet!$C44:$AF44,"RTT")/2 -> 0 | AK44: =COUNTIFS(Juillet!$C44:$AF44,"m")/2 -> 0 | AL44: =COUNTIFS(Juillet!$C44:$AF44,"a")/2 -> 0
B45: Matin | AH45: =COUNTA(Juillet!$C45:$AG45) -> 0 | AI45: =(COUNTIFS(Juillet!$C45:$AG45,("cp")))/2+Juin!AI45 -> 0 | AJ45: =COUNTIFS(Juillet!$C45:$AG45,"RTT")/2+Juin!AJ45 -> 0 | AK45: =COUNTIFS(Juillet!$C45:$AG45,"m")/2+Juin!AK45 -> 0 | AL45: =COUNTIFS(Juillet!$C45:$AG45,"a")/2+Juin!AL45 -> 0
A46: 40575 | B46: A-M | AC46: CP | AH46: =COUNTA(Juillet!$C46:$AG46) -> 1 | AI46: =(COUNTIFS(Juillet!$C46:$AG46,("cp")))/2+Juin!AI46 -> 0.5 | AJ46: =COUNTIFS(Juillet!$C46:$AG46,"RTT")/2+Juin!AJ46 -> 0 | AK46: =COUNTIFS(Juillet!$C46:$AG46,"m")/2+Juin!AK46 -> 0 | AL46: =COUNTIFS(Juillet!$C46:$AG46,"a")/2+Juin!AL46 -> 0
C47: =IF(C45>0,C45,IF(C46>0,C46,"")) | D47: =IF(D45>0,D45,IF(D46>0,D46,"")) | E47: =IF(E45>0,E45,IF(E46>0,E46,"")) | F47: =IF(F45>0,F45,IF(F46>0,F46,"")) | G47: =IF(G45>0,G45,IF(G46>0,G46,"")) | H47: =IF(H45>0,H45,IF(H46>0,H46,"")) | I47: =IF(I45>0,I45,IF(I46>0,I46,"")) | J47: =IF(J45>0,J45,IF(J46>0,J46,"")) | ... AG47: =IF(AG45>0,AG45,IF(AG46>0,AG46,"")) | AH47: =SUM(AH45:AH46) -> 1 | AI47: =SUM(AI45:AI46) -> 0.5 | AJ47: =SUM(AJ45:AJ46) -> 0 | AK47: =SUM(AK45:AK46) -> 0 | AL47: =SUM(AL45:AL46) -> 0 | AM47: =+Juin!AM47 -> 24.96 | AN47: =IF(A46="","",IF(A46>NomMois,0,IF(A46<$A$3,2.08,(NETWORKDAYS(A46,$A$2)/21.66667)*2.08))) -> 2.08 | AO47: =IF( AN47="",0,+AN47+Juin!AO47) -> 4.16 | AQ47: =+AM47-AI47 -> 24.46 | AR47: =+AP47-AJ47 -> 0 | AS47: =+AO47+AQ47 -> 28.62
B49: Matin | O49: CP | AH49: =COUNTA(Juillet!$C49:$AG49) -> 1 | AI49: =(COUNTIFS(Juillet!$C49:$AG49,("cp")))/2+Juin!AI49 -> 0.5 | AJ49: =COUNTIFS(Juillet!$C49:$AG49,"RTT")/2+Juin!AJ49 -> 0 | AK49: =COUNTIFS(Juillet!$C49:$AG49,"m")/2+Juin!AK49 -> 0 | AL49: =COUNTIFS(Juillet!$C49:$AG49,"a")/2+Juin!AL49 -> 0
A50: 42793 | B50: A-M | O50: CP | AH50: =COUNTA(Juillet!$C50:$AG50) -> 1 | AI50: =(COUNTIFS(Juillet!$C50:$AG50,("cp")))/2+Juin!AI50 -> 0.5 | AJ50: =COUNTIFS(Juillet!$C50:$AG50,"RTT")/2+Juin!AJ50 -> 0 | AK50: =COUNTIFS(Juillet!$C50:$AG50,"m")/2+Juin!AK50 -> 0 | AL50: =COUNTIFS(Juillet!$C50:$AG50,"a")/2+Juin!AL50 -> 0
C51: =IF(C49>0,C49,IF(C50>0,C50,"")) | D51: =IF(D49>0,D49,IF(D50>0,D50,"")) | E51: =IF(E49>0,E49,IF(E50>0,E50,"")) | F51: =IF(F49>0,F49,IF(F50>0,F50,"")) | G51: =IF(G49>0,G49,IF(G50>0,G50,"")) | H51: =IF(H49>0,H49,IF(H50>0,H50,"")) | I51: =IF(I49>0,I49,IF(I50>0,I50,"")) | J51: =IF(J49>0,J49,IF(J50>0,J50,"")) | ... AG51: =IF(AG49>0,AG49,IF(AG50>0,AG50,"")) | AH51: =SUM(AH49:AH50) -> 2 | AI51: =SUM(AI49:AI50) -> 1 | AJ51: =SUM(AJ49:AJ50) -> 0 | AK51: =SUM(AK49:AK50) -> 0 | AL51: =SUM(AL49:AL50) -> 0 | AM51: =+Juin!AM51 -> 6.41 | AN51: =IF(A50="","",IF(A50>NomMois,0,IF(A50<$A$3,2.08,(NETWORKDAYS(A50,$A$2)/21.66667)*2.08))) -> 2.08 | AO51: =IF( AN51="",0,+AN51+Juin!AO51) -> 4.16 | AQ51: =+AM51-AI51 -> 5.41 | AR51: =+AP51-AJ51 -> 0 | AS51: =+AO51+AQ51 -> 9.57
B53: Matin | U53: CP | V53: CP | W53: CP | Z53: CP | AA53: CP | AB53: CP | AC53: CP | AD53: CP | AG53: CP | AH53: =COUNTA(Juillet!$C53:$AG53) -> 9 | AI53: =(COUNTIFS(Juillet!$C53:$AG53,("cp")))/2+Juin!AI53 -> 4.5 | AJ53: =COUNTIFS(Juillet!$C53:$AG53,"RTT")/2+Juin!AJ53 -> 0 | AK53: =COUNTIFS(Juillet!$C53:$AG53,"m")/2+Juin!AK53 -> 0 | AL53: =COUNTIFS(Juillet!$C53:$AG53,"a")/2+Juin!AL53 -> 0
A54: 42660 | B54: A-M | U54: CP | V54: CP | W54: CP | Z54: CP | AA54: CP | AB54: CP | AC54: CP | AD54: CP | AG54: CP | AH54: =COUNTA(Juillet!$C54:$AG54) -> 9 | AI54: =(COUNTIFS(Juillet!$C54:$AG54,("cp")))/2+Juin!AI54 -> 4.5 | AJ54: =COUNTIFS(Juillet!$C54:$AG54,"RTT")/2+Juin!AJ54 -> 0 | AK54: =COUNTIFS(Juillet!$C54:$AG54,"m")/2+Juin!AK54 -> 0 | AL54: =COUNTIFS(Juillet!$C54:$AG54,"a")/2+Juin!AL54 -> 0
C55: =IF(C53>0,C53,IF(C54>0,C54,"")) | D55: =IF(D53>0,D53,IF(D54>0,D54,"")) | E55: =IF(E53>0,E53,IF(E54>0,E54,"")) | F55: =IF(F53>0,F53,IF(F54>0,F54,"")) | G55: =IF(G53>0,G53,IF(G54>0,G54,"")) | H55: =IF(H53>0,H53,IF(H54>0,H54,"")) | I55: =IF(I53>0,I53,IF(I54>0,I54,"")) | J55: =IF(J53>0,J53,IF(J54>0,J54,"")) | ... AG55: =IF(AG53>0,AG53,IF(AG54>0,AG54,"")) -> CP | AH55: =SUM(AH53:AH54) -> 18 | AI55: =SUM(AI53:AI54) -> 9 | AJ55: =SUM(AJ53:AJ54) -> 0 | AK55: =SUM(AK53:AK54) -> 0 | AL55: =SUM(AL53:AL54) -> 0 | AM55: =+Juin!AM55 -> 15.68 | AN55: =IF(A54="","",IF(A54>NomMois,0,IF(A54<$A$3,2.08,(NETWORKDAYS(A54,$A$2)/21.66667)*2.08))) -> 2.08 | AO55: =IF( AN55="",0,+AN55+Juin!AO55) -> 4.16 | AQ55: =+AM55-AI55 -> 6.68 | AR55: =+AP55-AJ55 -> 0 | AS55: =+AO55+AQ55 -> 10.84
B57: Matin | AH57: =COUNTA(Juillet!$C57:$AG57) -> 0 | AI57: =(COUNTIFS(Juillet!$C57:$AG57,("cp")))/2+Juin!AI57 -> 0 | AJ57: =COUNTIFS(Juillet!$C57:$AG57,"RTT")/2+Juin!AJ57 -> 0 | AK57: =COUNTIFS(Juillet!$C57:$AG57,"m")/2+Juin!AK57 -> 0 | AL57: =COUNTIFS(Juillet!$C57:$AG57,"a")/2+Juin!AL57 -> 0
A58: 42975 | B58: A-M | AH58: =COUNTA(Juillet!$C58:$AG58) -> 0 | AI58: =(COUNTIFS(Juillet!$C58:$AG58,("cp")))/2+Juin!AI58 -> 0 | AJ58: =COUNTIFS(Juillet!$C58:$AG58,"RTT")/2+Juin!AJ58 -> 0 | AK58: =COUNTIFS(Juillet!$C58:$AG58,"m")/2+Juin!AK58 -> 0 | AL58: =COUNTIFS(Juillet!$C58:$AG58,"a")/2+Juin!AL58 -> 0
C59: =IF(C57>0,C57,IF(C58>0,C58,"")) | D59: =IF(D57>0,D57,IF(D58>0,D58,"")) | E59: =IF(E57>0,E57,IF(E58>0,E58,"")) | F59: =IF(F57>0,F57,IF(F58>0,F58,"")) | G59: =IF(G57>0,G57,IF(G58>0,G58,"")) | H59: =IF(H57>0,H57,IF(H58>0,H58,"")) | I59: =IF(I57>0,I57,IF(I58>0,I58,"")) | J59: =IF(J57>0,J57,IF(J58>0,J58,"")) | ... AG59: =IF(AG57>0,AG57,IF(AG58>0,AG58,"")) | AH59: =SUM(AH57:AH58) -> 0 | AI59: =SUM(AI57:AI58) -> 0 | AJ59: =SUM(AJ57:AJ58) -> 0 | AK59: =SUM(AK57:AK58) -> 0 | AL59: =SUM(AL57:AL58) -> 0 | AM59: =+Juin!AM59 -> 0 | AN59: =IF(A58="","",IF(A58>NomMois,0,IF(A58<$A$3,2.08,(NETWORKDAYS(A58,$A$2)/21.66667)*2.08))) -> 0 | AO59: =IF( AN59="",0,+AN59+Juin!AO59) -> 0 | AQ59: =+AM59-AI59 -> 0 | AR59: =+AP59-AJ59 -> 0 | AS59: =+AO59+AQ59 -> 0
B61: Matin | E61: CP | F61: CP | G61: CP | H61: CP | I61: CP | S61: CP | T61: CP | U61: CP | AH61: =COUNTA(Juillet!$C61:$AG61) -> 8 | AI61: =(COUNTIFS(Juillet!$C61:$AG61,("cp")))/2+Juin!AI61 -> 4 | AJ61: =COUNTIFS(Juillet!$C61:$AG61,"RTT")/2+Juin!AJ61 -> 0 | AK61: =COUNTIFS(Juillet!$C61:$AG61,"m")/2+Juin!AK61 -> 0 | AL61: =COUNTIFS(Juillet!$C61:$AG61,"a")/2+Juin!AL61 -> 0
A62: 42646 | B62: A-M | E62: CP | F62: CP | G62: CP | H62: CP | I62: CP | S62: CP | T62: CP | U62: CP | AH62: =COUNTA(Juillet!$C62:$AG62) -> 8 | AI62: =(COUNTIFS(Juillet!$C62:$AG62,("cp")))/2+Juin!AI62 -> 4 | AJ62: =COUNTIFS(Juillet!$C62:$AG62,"RTT")/2+Juin!AJ62 -> 0 | AK62: =COUNTIFS(Juillet!$C62:$AG62,"m")/2+Juin!AK62 -> 0 | AL62: =COUNTIFS(Juillet!$C62:$AG62,"a")/2+Juin!AL62 -> 0
C63: =IF(C61>0,C61,IF(C62>0,C62,"")) | D63: =IF(D61>0,D61,IF(D62>0,D62,"")) | E63: =IF(E61>0,E61,IF(E62>0,E62,"")) -> CP | F63: =IF(F61>0,F61,IF(F62>0,F62,"")) -> CP | G63: =IF(G61>0,G61,IF(G62>0,G62,"")) -> CP | H63: =IF(H61>0,H61,IF(H62>0,H62,"")) -> CP | I63: =IF(I61>0,I61,IF(I62>0,I62,"")) -> CP | J63: =IF(J61>0,J61,IF(J62>0,J62,"")) | ... AG63: =IF(AG61>0,AG61,IF(AG62>0,AG62,"")) | AH63: =SUM(AH61:AH62) -> 16 | AI63: =SUM(AI61:AI62) -> 8 | AJ63: =SUM(AJ61:AJ62) -> 0 | AK63: =SUM(AK61:AK62) -> 0 | AL63: =SUM(AL61:AL62) -> 0 | AM63: =+Juin!AM63 -> 16.64 | AN63: =IF(A62="","",IF(A62>NomMois,0,IF(A62<$A$3,2.08,(NETWORKDAYS(A62,$A$2)/21.66667)*2.08))) -> 2.08 | AO63: =IF( AN63="",0,+AN63+Juin!AO63) -> 4.16 | AQ63: =+AM63-AI63 -> 8.64 | AR63: =+AP63-AJ63 -> 0 | AS63: =+AO63+AQ63 -> 12.8
AH64: 0 | AI64: 0 | AJ64: 0 | AK64: 0 | AL64: 0
B65: Matin | N65: CP | O65: CP | S65: CP | T65: CP | U65: CP | V65: CP | W65: CP | Z65: CP | AA65: CP | AH65: =COUNTA(Juillet!$C65:$AG65) -> 9 | AI65: =(COUNTIFS(Juillet!$C65:$AG65,("cp")))/2+Juin!AI65 -> 4.5 | AJ65: =COUNTIFS(Juillet!$C65:$AG65,"RTT")/2+Juin!AJ65 -> 0 | AK65: =COUNTIFS(Juillet!$C65:$AG65,"m")/2+Juin!AK65 -> 0 | AL65: =COUNTIFS(Juillet!$C65:$AG65,"a")/2+Juin!AL65 -> 0
A66: 42410 | B66: A-M | N66: CP | O66: CP | S66: CP | T66: CP | U66: CP | V66: CP | W66: CP | Z66: CP | AA66: CP | AH66: =COUNTA(Juillet!$C66:$AG66) -> 9 | AI66: =(COUNTIFS(Juillet!$C66:$AG66,("cp")))/2+Juin!AI66 -> 4.5 | AJ66: =COUNTIFS(Juillet!$C66:$AG66,"RTT")/2+Juin!AJ66 -> 0 | AK66: =COUNTIFS(Juillet!$C66:$AG66,"m")/2+Juin!AK66 -> 0 | AL66: =COUNTIFS(Juillet!$C66:$AG66,"a")/2+Juin!AL66 -> 0
C67: =IF(C65>0,C65,IF(C66>0,C66,"")) | D67: =IF(D65>0,D65,IF(D66>0,D66,"")) | E67: =IF(E65>0,E65,IF(E66>0,E66,"")) | F67: =IF(F65>0,F65,IF(F66>0,F66,"")) | G67: =IF(G65>0,G65,IF(G66>0,G66,"")) | H67: =IF(H65>0,H65,IF(H66>0,H66,"")) | I67: =IF(I65>0,I65,IF(I66>0,I66,"")) | J67: =IF(J65>0,J65,IF(J66>0,J66,"")) | ... AG67: =IF(AG65>0,AG65,IF(AG66>0,AG66,"")) | AH67: =SUM(AH65:AH66) -> 18 | AI67: =SUM(AI65:AI66) -> 9 | AJ67: =SUM(AJ65:AJ66) -> 0 | AK67: =SUM(AK65:AK66) -> 0 | AL67: =SUM(AL65:AL66) -> 0 | AM67: =+Juin!AM67 -> 22.46 | AN67: =IF(A66="","",IF(A66>NomMois,0,IF(A66<$A$3,2.08,(NETWORKDAYS(A66,$A$2)/21.66667)*2.08))) -> 2.08 | AO67: =IF( AN67="",0,+AN67+Juin!AO67) -> 4.16 | AQ67: =+AM67-AI67 -> 13.46 | AR67: =+AP67-AJ67 -> 0 | AS67: =+AO67+AQ67 -> 17.62
B69: Matin | E69: A | F69: A | AC69: CP | AD69: CP | AG69: CP | AH69: =COUNTA(Juillet!$C69:$AG69) -> 5 | AI69: =(COUNTIFS(Juillet!$C69:$AG69,("cp")))/2+Juin!AI69 -> 1.5 | AJ69: =COUNTIFS(Juillet!$C69:$AG69,"RTT")/2+Juin!AJ69 -> 0 | AK69: =COUNTIFS(Juillet!$C69:$AG69,"m")/2+Juin!AK69 -> 0 | AL69: =COUNTIFS(Juillet!$C69:$AG69,"a")/2+Juin!AL69 -> 1
A70: 41701 | B70: A-M | E70: A | F70: A | AC70: CP | AD70: CP | AG70: CP | AH70: =COUNTA(Juillet!$C70:$AG70) -> 5 | AI70: =(COUNTIFS(Juillet!$C70:$AG70,("cp")))/2+Juin!AI70 -> 1.5 | AJ70: =COUNTIFS(Juillet!$C70:$AG70,"RTT")/2+Juin!AJ70 -> 0 | AK70: =COUNTIFS(Juillet!$C70:$AG70,"m")/2+Juin!AK70 -> 0 | AL70: =COUNTIFS(Juillet!$C70:$AG70,"a")/2+Juin!AL70 -> 1
C71: =IF(C69>0,C69,IF(C70>0,C70,"")) | D71: =IF(D69>0,D69,IF(D70>0,D70,"")) | E71: =IF(E69>0,E69,IF(E70>0,E70,"")) -> A | F71: =IF(F69>0,F69,IF(F70>0,F70,"")) -> A | G71: =IF(G69>0,G69,IF(G70>0,G70,"")) | H71: =IF(H69>0,H69,IF(H70>0,H70,"")) | I71: =IF(I69>0,I69,IF(I70>0,I70,"")) | J71: =IF(J69>0,J69,IF(J70>0,J70,"")) | ... AB71: =IF(AB69>0,AB69,IF(AB70>0,AB70,"")) | AC71: CP | AD71: =IF(AD69>0,AD69,IF(AD70>0,AD70,"")) -> CP | AF71: =IF(AF69>0,AF69,IF(AF70>0,AF70,"")) | AG71: =IF(AG69>0,AG69,IF(AG70>0,AG70,"")) -> CP | AH71: =SUM(AH69:AH70) -> 10 | AI71: =SUM(AI69:AI70) -> 3 | AJ71: =SUM(AJ69:AJ70) -> 0 | AK71: =SUM(AK69:AK70) -> 0 | AL71: =SUM(AL69:AL70) -> 2 | AM71: =+Juin!AM71 -> 45.34 | AN71: =IF(A70="","",IF(A70>NomMois,0,IF(A70<$A$3,2.08,(NETWORKDAYS(A70,$A$2)/21.66667)*2.08))) -> 2.08 | AO71: =IF( AN71="",0,+AN71+Juin!AO71) -> 4.16 | AQ71: =+AM71-AI71 -> 42.34 | AR71: =+AP71-AJ71 -> 0 | AS71: =+AO71+AQ71 -> 46.5
B73: Matin | AH73: =COUNTA(Juillet!$C73:$AG73) -> 0 | AI73: =(COUNTIFS(Juillet!$C73:$AG73,("cp")))/2+Juin!AI73 -> 0 | AJ73: =COUNTIFS(Juillet!$C73:$AG73,"RTT")/2+Juin!AJ73 -> 0 | AK73: =COUNTIFS(Juillet!$C73:$AG73,"m")/2+Juin!AK73 -> 0 | AL73: =COUNTIFS(Juillet!$C73:$AG73,"a")/2+Juin!AL73 -> 0
A74: 42979 | B74: A-M | AH74: =COUNTA(Juillet!$C74:$AG74) -> 0 | AI74: =(COUNTIFS(Juillet!$C74:$AG74,("cp")))/2+Juin!AI74 -> 0 | AJ74: =COUNTIFS(Juillet!$C74:$AG74,"RTT")/2+Juin!AJ74 -> 0 | AK74: =COUNTIFS(Juillet!$C74:$AG74,"m")/2+Juin!AK74 -> 0 | AL74: =COUNTIFS(Juillet!$C74:$AG74,"a")/2+Juin!AL74 -> 0
C75: =IF(C73>0,C73,IF(C74>0,C74,"")) | D75: =IF(D73>0,D73,IF(D74>0,D74,"")) | E75: =IF(E73>0,E73,IF(E74>0,E74,"")) | F75: =IF(F73>0,F73,IF(F74>0,F74,"")) | G75: =IF(G73>0,G73,IF(G74>0,G74,"")) | H75: =IF(H73>0,H73,IF(H74>0,H74,"")) | I75: =IF(I73>0,I73,IF(I74>0,I74,"")) | J75: =IF(J73>0,J73,IF(J74>0,J74,"")) | ... AG75: =IF(AG73>0,AG73,IF(AG74>0,AG74,"")) | AH75: =SUM(AH73:AH74) -> 0 | AI75: =SUM(AI73:AI74) -> 0 | AJ75: =SUM(AJ73:AJ74) -> 0 | AK75: =SUM(AK73:AK74) -> 0 | AL75: =SUM(AL73:AL74) -> 0 | AM75: =+Juin!AM75 -> 0 | AN75: =IF(A74="","",IF(A74>NomMois,0,IF(A74<$A$3,2.08,(NETWORKDAYS(A74,$A$2)/21.66667)*2.08))) -> 0 | AO75: =IF( AN75="",0,+AN75+Juin!AO75) -> 0 | AQ75: =+AM75-AI75 -> 0 | AR75: =+AP75-AJ75 -> 0 | AS75: =+AO75+AQ75 -> 0
B77: Matin | AH77: =COUNTA(Juillet!$C77:$AG77) -> 0 | AI77: =(COUNTIFS(Juillet!$C77:$AG77,("cp")))/2+Juin!AI77 -> 0 | AJ77: =COUNTIFS(Juillet!$C77:$AG77,"RTT")/2+Juin!AJ77 -> 0 | AK77: =COUNTIFS(Juillet!$C77:$AG77,"m")/2+Juin!AK77 -> 0 | AL77: =COUNTIFS(Juillet!$C77:$AG77,"a")/2+Juin!AL77 -> 0
A78: 43059 | B78: A-M | AH78: =COUNTA(Juillet!$C78:$AG78) -> 0 | AI78: =(COUNTIFS(Juillet!$C78:$AG78,("cp")))/2+Juin!AI78 -> 0 | AJ78: =COUNTIFS(Juillet!$C78:$AG78,"RTT")/2+Juin!AJ78 -> 0 | AK78: =COUNTIFS(Juillet!$C78:$AG78,"m")/2+Juin!AK78 -> 0 | AL78: =COUNTIFS(Juillet!$C78:$AG78,"a")/2+Juin!AL78 -> 0
C79: =IF(C77>0,C77,IF(C78>0,C78,"")) | D79: =IF(D77>0,D77,IF(D78>0,D78,"")) | E79: =IF(E77>0,E77,IF(E78>0,E78,"")) | F79: =IF(F77>0,F77,IF(F78>0,F78,"")) | G79: =IF(G77>0,G77,IF(G78>0,G78,"")) | H79: =IF(H77>0,H77,IF(H78>0,H78,"")) | I79: =IF(I77>0,I77,IF(I78>0,I78,"")) | J79: =IF(J77>0,J77,IF(J78>0,J78,"")) | ... AG79: =IF(AG77>0,AG77,IF(AG78>0,AG78,"")) | AH79: =SUM(AH77:AH78) -> 0 | AI79: =SUM(AI77:AI78) -> 0 | AJ79: =SUM(AJ77:AJ78) -> 0 | AK79: =SUM(AK77:AK78) -> 0 | AL79: =SUM(AL77:AL78) -> 0 | AM79: =+Juin!AM79 -> 0 | AN79: =IF(A78="","",IF(A78>NomMois,0,IF(A78<$A$3,2.08,(NETWORKDAYS(A78,$A$2)/21.66667)*2.08))) -> 0 | AO79: =IF( AN79="",0,+AN79+Juin!AO79) -> 0 | AQ79: =+AM79-AI79 -> 0 | AR79: =+AP79-AJ79 -> 0 | AS79: =+AO79+AQ79 -> 0
B81: Matin | AH81: =COUNTA(Juillet!$C81:$AG81) -> 0 | AI81: =(COUNTIFS(Juillet!$C81:$AG81,("cp")))/2+Juin!AI81 -> 0 | AJ81: =COUNTIFS(Juillet!$C81:$AG81,"RTT")/2+Juin!AJ81 -> 0 | AK81: =COUNTIFS(Juillet!$C81:$AG81,"m")/2+Juin!AK81 -> 0 | AL81: =COUNTIFS(Juillet!$C81:$AG81,"a")/2+Juin!AL81 -> 0
A82: 42506 | B82: A-M | AH82: =COUNTA(Juillet!$C82:$AG82) -> 0 | AI82: =(COUNTIFS(Juillet!$C82:$AG82,("cp")))/2+Juin!AI82 -> 0 | AJ82: =COUNTIFS(Juillet!$C82:$AG82,"RTT")/2+Juin!AJ82 -> 0 | AK82: =COUNTIFS(Juillet!$C82:$AG82,"m")/2+Juin!AK82 -> 0 | AL82: =COUNTIFS(Juillet!$C82:$AG82,"a")/2+Juin!AL82 -> 0
C83: =IF(C81>0,C81,IF(C82>0,C82,"")) | D83: =IF(D81>0,D81,IF(D82>0,D82,"")) | E83: =IF(E81>0,E81,IF(E82>0,E82,"")) | F83: =IF(F81>0,F81,IF(F82>0,F82,"")) | G83: =IF(G81>0,G81,IF(G82>0,G82,"")) | H83: =IF(H81>0,H81,IF(H82>0,H82,"")) | I83: =IF(I81>0,I81,IF(I82>0,I82,"")) | J83: =IF(J81>0,J81,IF(J82>0,J82,"")) | ... AG83: =IF(AG81>0,AG81,IF(AG82>0,AG82,"")) | AH83: =SUM(AH81:AH82) -> 0 | AI83: =SUM(AI81:AI82) -> 0 | AJ83: =SUM(AJ81:AJ82) -> 0 | AK83: =SUM(AK81:AK82) -> 0 | AL83: =SUM(AL81:AL82) -> 0 | AM83: =+Juin!AM83 -> -9.98 | AN83: =IF(A82="","",IF(A82>NomMois,0,IF(A82<$A$3,2.08,(NETWORKDAYS(A82,$A$2)/21.66667)*2.08))) -> 2.08 | AO83: =IF( AN83="",0,+AN83+Juin!AO83) -> 4.16 | AQ83: =+AM83-AI83 -> -9.98 | AR83: =+AP83-AJ83 -> 0 | AS83: =+AO83+AQ83 -> -5.82
B85: Matin | S85: CP | T85: CP | U85: CP | V85: CP | W85: CP | Z85: CP | AA85: CP | AB85: CP | AC85: CP | AD85: CP | AE85: CP | AG85: CP | AH85: =COUNTA(Juillet!$C85:$AG85) -> 12 | AI85: =(COUNTIFS(Juillet!$C85:$AG85,("cp")))/2+Juin!AI85 -> 6 | AJ85: =COUNTIFS(Juillet!$C85:$AG85,"RTT")/2+Juin!AJ85 -> 0 | AK85: =COUNTIFS(Juillet!$C85:$AG85,"m")/2+Juin!AK85 -> 0 | AL85: =COUNTIFS(Juillet!$C85:$AG85,"a")/2+Juin!AL85 -> 0
A86: 42303 | B86: A-M | S86: CP | T86: CP | U86: CP | V86: CP | W86: CP | Z86: CP | AA86: CP | AB86: CP | AC86: CP | AD86: CP | AE86: CP | AG86: CP | AH86: =COUNTA(Juillet!$C86:$AG86) -> 12 | AI86: =(COUNTIFS(Juillet!$C86:$AG86,("cp")))/2+Juin!AI86 -> 6 | AJ86: =COUNTIFS(Juillet!$C86:$AG86,"RTT")/2+Juin!AJ86 -> 0 | AK86: =COUNTIFS(Juillet!$C86:$AG86,"m")/2+Juin!AK86 -> 0 | AL86: =COUNTIFS(Juillet!$C86:$AG86,"a")/2+Juin!AL86 -> 0
C87: =IF(C85>0,C85,IF(C86>0,C86,"")) | D87: =IF(D85>0,D85,IF(D86>0,D86,"")) | E87: =IF(E85>0,E85,IF(E86>0,E86,"")) | F87: =IF(F85>0,F85,IF(F86>0,F86,"")) | G87: =IF(G85>0,G85,IF(G86>0,G86,"")) | H87: =IF(H85>0,H85,IF(H86>0,H86,"")) | I87: =IF(I85>0,I85,IF(I86>0,I86,"")) | J87: =IF(J85>0,J85,IF(J86>0,J86,"")) | ... AG87: =IF(AG85>0,AG85,IF(AG86>0,AG86,"")) -> CP | AH87: =SUM(AH85:AH86) -> 24 | AI87: =SUM(AI85:AI86) -> 12 | AJ87: =SUM(AJ85:AJ86) -> 0 | AK87: =SUM(AK85:AK86) -> 0 | AL87: =SUM(AL85:AL86) -> 0 | AM87: =+Juin!AM87 -> 12.02 | AN87: =IF(A86="","",IF(A86>NomMois,0,IF(A86<$A$3,2.5,(NETWORKDAYS(A86,$A$2)/21.66667)*2.5))) -> 2.5 | AO87: =IF( AN87="",0,+AN87+Juin!AO87) -> 5 | AQ87: =+AM87-AI87 -> 0.02 | AR87: =+AP87-AJ87 -> 0 | AS87: =+AO87+AQ87 -> 5.02
B89: Matin | AH89: =COUNTA(Juillet!$C89:$AG89) -> 0 | AI89: =(COUNTIFS(Juillet!$C89:$AG89,("cp")))/2+Juin!AI89 -> 0 | AJ89: =COUNTIFS(Juillet!$C89:$AG89,"RTT")/2+Juin!AJ89 -> 0 | AK89: =COUNTIFS(Juillet!$C89:$AG89,"m")/2+Juin!AK89 -> 0 | AL89: =COUNTIFS(Juillet!$C89:$AG89,"a")/2+Juin!AL89 -> 0
A90: 42303 | B90: A-M | AH90: =COUNTA(Juillet!$C90:$AG90) -> 0 | AI90: =(COUNTIFS(Juillet!$C90:$AG90,("cp")))/2+Juin!AI90 -> 0 | AJ90: =COUNTIFS(Juillet!$C90:$AG90,"RTT")/2+Juin!AJ90 -> 0 | AK90: =COUNTIFS(Juillet!$C90:$AG90,"m")/2+Juin!AK90 -> 0 | AL90: =COUNTIFS(Juillet!$C90:$AG90,"a")/2+Juin!AL90 -> 0
C91: =IF(C89>0,C89,IF(C90>0,C90,"")) | D91: =IF(D89>0,D89,IF(D90>0,D90,"")) | E91: =IF(E89>0,E89,IF(E90>0,E90,"")) | F91: =IF(F89>0,F89,IF(F90>0,F90,"")) | G91: =IF(G89>0,G89,IF(G90>0,G90,"")) | H91: =IF(H89>0,H89,IF(H90>0,H90,"")) | I91: =IF(I89>0,I89,IF(I90>0,I90,"")) | J91: =IF(J89>0,J89,IF(J90>0,J90,"")) | ... AG91: =IF(AG89>0,AG89,IF(AG90>0,AG90,"")) | AH91: =SUM(AH89:AH90) -> 0 | AI91: =SUM(AI89:AI90) -> 0 | AJ91: =SUM(AJ89:AJ90) -> 0 | AK91: =SUM(AK89:AK90) -> 0 | AL91: =SUM(AL89:AL90) -> 0 | AM91: =+Juin!AM91 -> -0.82 | AN91: =IF(A90="","",IF(A90>NomMois,0,IF(A90<$A$3,2.5,(NETWORKDAYS(A90,$A$2)/21.66667)*2.5))) -> 2.5 | AO91: =IF( AN91="",0,+AN91+Juin!AO91) -> 5 | AQ91: =+AM91-AI91 -> -0.82 | AR91: =+AP91-AJ91 -> 0 | AS91: =+AO91+AQ91 -> 4.18
B93: Matin | AA93: M | AB93: M | AC93: M | AH93: =COUNTA(Juillet!$C93:$AG93) -> 3 | AI93: =(COUNTIFS(Juillet!$C93:$AG93,("cp")))/2+Juin!AI93 -> 0 | AJ93: =COUNTIFS(Juillet!$C93:$AG93,"RTT")/2+Juin!AJ93 -> 0 | AK93: =COUNTIFS(Juillet!$C93:$AG93,"m")/2+Juin!AK93 -> 1.5 | AL93: =COUNTIFS(Juillet!$C93:$AG93,"a")/2+Juin!AL93 -> 0
A94: 42921 | B94: A-M | AA94: M | AB94: M | AC94: M | AH94: =COUNTA(Juillet!$C94:$AG94) -> 3 | AI94: =(COUNTIFS(Juillet!$C94:$AG94,("cp")))/2+Juin!AI94 -> 0 | AJ94: =COUNTIFS(Juillet!$C94:$AG94,"RTT")/2+Juin!AJ94 -> 0 | AK94: =COUNTIFS(Juillet!$C94:$AG94,"m")/2+Juin!AK94 -> 1.5 | AL94: =COUNTIFS(Juillet!$C94:$AG94,"a")/2+Juin!AL94 -> 0
C95: =IF(C93>0,C93,IF(C94>0,C94,"")) | D95: =IF(D93>0,D93,IF(D94>0,D94,"")) | E95: =IF(E93>0,E93,IF(E94>0,E94,"")) | F95: =IF(F93>0,F93,IF(F94>0,F94,"")) | G95: =IF(G93>0,G93,IF(G94>0,G94,"")) | H95: =IF(H93>0,H93,IF(H94>0,H94,"")) | I95: =IF(I93>0,I93,IF(I94>0,I94,"")) | J95: =IF(J93>0,J93,IF(J94>0,J94,"")) | ... AG95: =IF(AG93>0,AG93,IF(AG94>0,AG94,"")) | AH95: =SUM(AH93:AH94) -> 6 | AI95: =SUM(AI93:AI94) -> 0 | AJ95: =SUM(AJ93:AJ94) -> 0 | AK95: =SUM(AK93:AK94) -> 3 | AL95: =SUM(AL93:AL94) -> 0 | AM95: =+Juin!AM95 -> 0 | AN95: =IF(A94="","",IF(A94>NomMois,0,IF(A94<$A$3,2.08,(NETWORKDAYS(A94,$A$2)/21.66667)*2.08))) -> 1.8239997 | AO95: =IF( AN95="",0,+AN95+Juin!AO95) -> 1.8239997 | AQ95: =+AM95-AI95 -> 0 | AR95: =+AP95-AJ95 -> 0 | AS95: =+AO95+AQ95 -> 1.8239997
B97: Matin | S97: CP | T97: CP | U97: CP | V97: CP | W97: CP | Z97: CP | AA97: CP | AB97: CP | AC97: CP | AD97: CP | AE97: CP | AH97: =COUNTA(Juillet!$C97:$AG97) -> 11 | AI97: =(COUNTIFS(Juillet!$C97:$AG97,("cp")))/2+Juin!AI97 -> 7 | AJ97: =COUNTIFS(Juillet!$C97:$AG97,"RTT")/2+Juin!AJ97 -> 0 | AK97: =COUNTIFS(Juillet!$C97:$AG97,"m")/2+Juin!AK97 -> 0 | AL97: =COUNTIFS(Juillet!$C97:$AG97,"a")/2+Juin!AL97 -> 0
A98: 42736 | B98: A-M | S98: CP | T98: CP | U98: CP | V98: CP | W98: CP | Z98: CP | AA98: CP | AB98: CP | AC98: CP | AD98: CP | AE98: CP | AH98: =COUNTA(Juillet!$C98:$AG98) -> 11 | AI98: =(COUNTIFS(Juillet!$C98:$AG98,("cp")))/2+Juin!AI98 -> 7 | AJ98: =COUNTIFS(Juillet!$C98:$AG98,"RTT")/2+Juin!AJ98 -> 0 | AK98: =COUNTIFS(Juillet!$C98:$AG98,"m")/2+Juin!AK98 -> 0 | AL98: =COUNTIFS(Juillet!$C98:$AG98,"a")/2+Juin!AL98 -> 0
C99: =IF(C97>0,C97,IF(C98>0,C98,"")) | D99: =IF(D97>0,D97,IF(D98>0,D98,"")) | E99: =IF(E97>0,E97,IF(E98>0,E98,"")) | F99: =IF(F97>0,F97,IF(F98>0,F98,"")) | G99: =IF(G97>0,G97,IF(G98>0,G98,"")) | H99: =IF(H97>0,H97,IF(H98>0,H98,"")) | I99: =IF(I97>0,I97,IF(I98>0,I98,"")) | J99: =IF(J97>0,J97,IF(J98>0,J98,"")) | ... W99: =IF(W97>0,W97,IF(W98>0,W98,"")) -> CP | Z99: =IF(Z97>0,Z97,IF(Z98>0,Z98,"")) -> CP | AA99: =IF(AA97>0,AA97,IF(AA98>0,AA98,"")) -> CP | AB99: =IF(AB97>0,AB97,IF(AB98>0,AB98,"")) -> CP | AC99: =IF(AC97>0,AC97,IF(AC98>0,AC98,"")) -> CP | AD99: =IF(AD97>0,AD97,IF(AD98>0,AD98,"")) -> CP | AE99: =IF(AE97>0,AE97,IF(AE98>0,AE98,"")) -> CP | AG99: =IF(AG97>0,AG97,IF(AG98>0,AG98,"")) | AH99: =SUM(AH97:AH98) -> 22 | AI99: =SUM(AI97:AI98) -> 14 | AJ99: =SUM(AJ97:AJ98) -> 0 | AK99: =SUM(AK97:AK98) -> 0 | AL99: =SUM(AL97:AL98) -> 0 | AM99: =+Juin!AM99 -> 5.41 | AN99: =IF(A98="","",IF(A98>NomMois,0,IF(A98<$A$3,2.08,(NETWORKDAYS(A98,$A$2)/21.66667)*2.08))) -> 2.08 | AO99: =IF( AN99="",0,+AN99+Juin!AO99) -> 4.16 | AQ99: =+AM99-AI99 -> -8.59 | AR99: =+AP99-AJ99 -> 0 | AS99: =+AO99+AQ99 -> -4.43
B101: Matin | AH101: =COUNTA(Juillet!$C101:$AG101) -> 0 | AI101: =(COUNTIFS(Juillet!$C101:$AG101,("cp")))/2+Juin!AI101 -> 0 | AJ101: =COUNTIFS(Juillet!$C101:$AG101,"RTT")/2+Juin!AJ101 -> 0 | AK101: =COUNTIFS(Juillet!$C101:$AG101,"m")/2+Juin!AK101 -> 0 | AL101: =COUNTIFS(Juillet!$C101:$AG101,"a")/2+Juin!AL101 -> 0
A102: 42814 | B102: A-M | AH102: =COUNTA(Juillet!$C102:$AG102) -> 0 | AI102: =(COUNTIFS(Juillet!$C102:$AG102,("cp")))/2+Juin!AI102 -> 0 | AJ102: =COUNTIFS(Juillet!$C102:$AG102,"RTT")/2+Juin!AJ102 -> 0 | AK102: =COUNTIFS(Juillet!$C102:$AG102,"m")/2+Juin!AK102 -> 0 | AL102: =COUNTIFS(Juillet!$C102:$AG102,"a")/2+Juin!AL102 -> 0
C103: =IF(C101>0,C101,IF(C102>0,C102,"")) | D103: =IF(D101>0,D101,IF(D102>0,D102,"")) | E103: =IF(E101>0,E101,IF(E102>0,E102,"")) | F103: =IF(F101>0,F101,IF(F102>0,F102,"")) | G103: =IF(G101>0,G101,IF(G102>0,G102,"")) | H103: =IF(H101>0,H101,IF(H102>0,H102,"")) | I103: =IF(I101>0,I101,IF(I102>0,I102,"")) | J103: =IF(J101>0,J101,IF(J102>0,J102,"")) | ... AG103: =IF(AG101>0,AG101,IF(AG102>0,AG102,"")) | AH103: =SUM(AH101:AH102) -> 0 | AI103: =SUM(AI101:AI102) -> 0 | AJ103: =SUM(AJ101:AJ102) -> 0 | AK103: =SUM(AK101:AK102) -> 0 | AL103: =SUM(AL101:AL102) -> 0 | AM103: =+Juin!AM103 -> 2.65 | AN103: =IF(A102="","",IF(A102>NomMois,0,IF(A102<$A$3,2.08,(NETWORKDAYS(A102,$A$2)/21.66667)*2.08))) -> 2.08 | AO103: =IF( AN103="",0,+AN103+Juin!AO103) -> 4.16 | AQ103: =+AM103-AI103 -> 2.65 | AR103: =+AP103-AJ103 -> 0 | AS103: =+AO103+AQ103 -> 6.81
B105: Matin | AH105: =COUNTA(Juillet!$C105:$AG105) -> 0 | AI105: =(COUNTIFS(Juillet!$C105:$AG105,("cp")))/2+Juin!AI105 -> 0 | AJ105: =COUNTIFS(Juillet!$C105:$AG105,"RTT")/2+Juin!AJ105 -> 0 | AK105: =COUNTIFS(Juillet!$C105:$AG105,"m")/2+Juin!AK105 -> 0 | AL105: =COUNTIFS(Juillet!$C105:$AG105,"a")/2+Juin!AL105 -> 0
A106: 43037 | B106: A-M | AH106: =COUNTA(Juillet!$C106:$AG106) -> 0 | AI106: =(COUNTIFS(Juillet!$C106:$AG106,("cp")))/2+Juin!AI106 -> 0 | AJ106: =COUNTIFS(Juillet!$C106:$AG106,"RTT")/2+Juin!AJ106 -> 0 | AK106: =COUNTIFS(Juillet!$C106:$AG106,"m")/2+Juin!AK106 -> 0 | AL106: =COUNTIFS(Juillet!$C106:$AG106,"a")/2+Juin!AL106 -> 0
C107: =IF(C105>0,C105,IF(C106>0,C106,"")) | D107: =IF(D105>0,D105,IF(D106>0,D106,"")) | E107: =IF(E105>0,E105,IF(E106>0,E106,"")) | F107: =IF(F105>0,F105,IF(F106>0,F106,"")) | G107: =IF(G105>0,G105,IF(G106>0,G106,"")) | H107: =IF(H105>0,H105,IF(H106>0,H106,"")) | I107: =IF(I105>0,I105,IF(I106>0,I106,"")) | J107: =IF(J105>0,J105,IF(J106>0,J106,"")) | ... AG107: =IF(AG105>0,AG105,IF(AG106>0,AG106,"")) | AH107: =SUM(AH105:AH106) -> 0 | AI107: =SUM(AI105:AI106) -> 0 | AJ107: =SUM(AJ105:AJ106) -> 0 | AK107: =SUM(AK105:AK106) -> 0 | AL107: =SUM(AL105:AL106) -> 0 | AM107: =+Juin!AM107 -> 0 | AN107: =IF(A106="","",IF(A106>NomMois,0,IF(A106<$A$3,2.08,(NETWORKDAYS(A106,$A$2)/21.66667)*2.08))) -> 0 | AO107: =IF( AN107="",0,+AN107+Juin!AO107) -> 0 | AQ107: =+AM107-AI107 -> 0 | AR107: =+AP107-AJ107 -> 0 | AS107: =+AO107+AQ107 -> 0
B109: Matin | AH109: =COUNTA(Juillet!$C109:$AG109) -> 0 | AI109: =(COUNTIFS(Juillet!$C109:$AG109,("cp")))/2+Juin!AI109 -> 0 | AJ109: =COUNTIFS(Juillet!$C109:$AG109,"RTT")/2+Juin!AJ109 -> 0 | AK109: =COUNTIFS(Juillet!$C109:$AG109,"m")/2+Juin!AK109 -> 0 | AL109: =COUNTIFS(Juillet!$C109:$AG109,"a")/2+Juin!AL109 -> 0
A110: 42991 | B110: A-M | AH110: =COUNTA(Juillet!$C110:$AG110) -> 0 | AI110: =(COUNTIFS(Juillet!$C110:$AG110,("cp")))/2+Juin!AI110 -> 0 | AJ110: =COUNTIFS(Juillet!$C110:$AG110,"RTT")/2+Juin!AJ110 -> 0 | AK110: =COUNTIFS(Juillet!$C110:$AG110,"m")/2+Juin!AK110 -> 0 | AL110: =COUNTIFS(Juillet!$C110:$AG110,"a")/2+Juin!AL110 -> 0
C111: =IF(C109>0,C109,IF(C110>0,C110,"")) | D111: =IF(D109>0,D109,IF(D110>0,D110,"")) | E111: =IF(E109>0,E109,IF(E110>0,E110,"")) | F111: =IF(F109>0,F109,IF(F110>0,F110,"")) | G111: =IF(G109>0,G109,IF(G110>0,G110,"")) | H111: =IF(H109>0,H109,IF(H110>0,H110,"")) | I111: =IF(I109>0,I109,IF(I110>0,I110,"")) | J111: =IF(J109>0,J109,IF(J110>0,J110,"")) | ... AG111: =IF(AG109>0,AG109,IF(AG110>0,AG110,"")) | AH111: =SUM(AH109:AH110) -> 0 | AI111: =SUM(AI109:AI110) -> 0 | AJ111: =SUM(AJ109:AJ110) -> 0 | AK111: =SUM(AK109:AK110) -> 0 | AL111: =SUM(AL109:AL110) -> 0 | AM111: =+Juin!AM111 -> 0 | AN111: =IF(A110="","",IF(A110>NomMois,0,IF(A110<$A$3,2.08,(NETWORKDAYS(A110,$A$2)/21.66667)*2.08))) -> 0 | AO111: =IF( AN111="",0,+AN111+Juin!AO111) -> 0 | AQ111: =+AM111-AI111 -> 0 | AR111: =+AP111-AJ111 -> 0 | AS111: =+AO111+AQ111 -> 0
B113: Matin | AH113: =COUNTA(Juillet!$C113:$AG113) -> 0 | AI113: =(COUNTIFS(Juillet!$C113:$AG113,("cp")))/2+Juin!AI113 -> 0 | AJ113: =COUNTIFS(Juillet!$C113:$AG113,"RTT")/2+Juin!AJ113 -> 0 | AK113: =COUNTIFS(Juillet!$C113:$AG113,"m")/2+Juin!AK113 -> 0 | AL113: =COUNTIFS(Juillet!$C113:$AG113,"a")/2+Juin!AL113 -> 0
A114: 43052 | B114: A-M | AH114: =COUNTA(Juillet!$C114:$AG114) -> 0 | AI114: =(COUNTIFS(Juillet!$C114:$AG114,("cp")))/2+Juin!AI114 -> 0 | AJ114: =COUNTIFS(Juillet!$C114:$AG114,"RTT")/2+Juin!AJ114 -> 0 | AK114: =COUNTIFS(Juillet!$C114:$AG114,"m")/2+Juin!AK114 -> 0 | AL114: =COUNTIFS(Juillet!$C114:$AG114,"a")/2+Juin!AL114 -> 0
C115: =IF(C113>0,C113,IF(C114>0,C114,"")) | D115: =IF(D113>0,D113,IF(D114>0,D114,"")) | E115: =IF(E113>0,E113,IF(E114>0,E114,"")) | F115: =IF(F113>0,F113,IF(F114>0,F114,"")) | G115: =IF(G113>0,G113,IF(G114>0,G114,"")) | H115: =IF(H113>0,H113,IF(H114>0,H114,"")) | I115: =IF(I113>0,I113,IF(I114>0,I114,"")) | J115: =IF(J113>0,J113,IF(J114>0,J114,"")) | ... W115: =IF(W113>0,W113,IF(W114>0,W114,"")) | Z115: =IF(Z113>0,Z113,IF(Z114>0,Z114,"")) | AA115: =IF(AA113>0,AA113,IF(AA114>0,AA114,"")) | AB115: =IF(AB113>0,AB113,IF(AB114>0,AB114,"")) | AC115: =IF(AC113>0,AC113,IF(AC114>0,AC114,"")) | AD115: =IF(AD113>0,AD113,IF(AD114>0,AD114,"")) | AE115: =IF(AE113>0,AE113,IF(AE114>0,AE114,"")) | AG115: =IF(AG113>0,AG113,IF(AG114>0,AG114,"")) | AH115: =SUM(AH113:AH114) -> 0 | AI115: =SUM(AI113:AI114) -> 0 | AJ115: =SUM(AJ113:AJ114) -> 0 | AK115: =SUM(AK113:AK114) -> 0 | AL115: =SUM(AL113:AL114) -> 0 | AM115: =+Juin!AM115 -> 0 | AN115: =IF(A114="","",IF(A114>NomMois,0,IF(A114<$A$3,2.08,(NETWORKDAYS(A114,$A$2)/21.66667)*2.08))) -> 0 | AO115: =IF( AN115="",0,+AN115+Juin!AO115) -> 0 | AQ115: =+AM115-AI115 -> 0 | AR115: =+AP115-AJ115 -> 0 | AS115: =+AO115+AQ115 -> 0
B117: Matin | AH117: =COUNTA(Juillet!$C117:$AG117) -> 0 | AI117: =(COUNTIFS(Juillet!$C117:$AG117,("cp")))/2+Juin!AI117 -> 0 | AJ117: =COUNTIFS(Juillet!$C117:$AG117,"RTT")/2+Juin!AJ117 -> 0 | AK117: =COUNTIFS(Juillet!$C117:$AG117,"m")/2+Juin!AK117 -> 0 | AL117: =COUNTIFS(Juillet!$C117:$AG117,"a")/2+Juin!AL117 -> 0
B118: A-M | AH118: =COUNTA(Juillet!$C118:$AG118) -> 0 | AI118: =(COUNTIFS(Juillet!$C118:$AG118,("cp")))/2+Juin!AI118 -> 0 | AJ118: =COUNTIFS(Juillet!$C118:$AG118,"RTT")/2+Juin!AJ118 -> 0 | AK118: =COUNTIFS(Juillet!$C118:$AG118,"m")/2+Juin!AK118 -> 0 | AL118: =COUNTIFS(Juillet!$C118:$AG118,"a")/2+Juin!AL118 -> 0
C119: =IF(C117>0,C117,IF(C118>0,C118,"")) | D119: =IF(D117>0,D117,IF(D118>0,D118,"")) | E119: =IF(E117>0,E117,IF(E118>0,E118,"")) | F119: =IF(F117>0,F117,IF(F118>0,F118,"")) | G119: =IF(G117>0,G117,IF(G118>0,G118,"")) | H119: =IF(H117>0,H117,IF(H118>0,H118,"")) | I119: =IF(I117>0,I117,IF(I118>0,I118,"")) | J119: =IF(J117>0,J117,IF(J118>0,J118,"")) | ... W119: =IF(W117>0,W117,IF(W118>0,W118,"")) | Z119: =IF(Z117>0,Z117,IF(Z118>0,Z118,"")) | AA119: =IF(AA117>0,AA117,IF(AA118>0,AA118,"")) | AB119: =IF(AB117>0,AB117,IF(AB118>0,AB118,"")) | AC119: =IF(AC117>0,AC117,IF(AC118>0,AC118,"")) | AD119: =IF(AD117>0,AD117,IF(AD118>0,AD118,"")) | AE119: =IF(AE117>0,AE117,IF(AE118>0,AE118,"")) | AG119: =IF(AG117>0,AG117,IF(AG118>0,AG118,"")) | AH119: =SUM(AH117:AH118) -> 0 | AI119: =SUM(AI117:AI118) -> 0 | AJ119: =SUM(AJ117:AJ118) -> 0 | AK119: =SUM(AK117:AK118) -> 0 | AL119: =SUM(AL117:AL118) -> 0 | AM119: =+Juin!AM119 -> 0 | AN119: =IF(A118="","",IF(A118>NomMois,0,IF(A118<$A$3,2.08,(NETWORKDAYS(A118,$A$2)/21.66667)*2.08))) | AO119: =IF( AN119="",0,+AN119+Juin!AO119) -> 0 | AQ119: =+AM119-AI119 -> 0 | AR119: =+AP119-AJ119 -> 0 | AS119: =+AO119+AQ119 -> 0
B121: Matin | AH121: =COUNTA(Juillet!$C121:$AG121) -> 0 | AI121: =(COUNTIFS(Juillet!$C121:$AG121,("cp")))/2+Juin!AI121 -> 0 | AJ121: =COUNTIFS(Juillet!$C121:$AG121,"RTT")/2+Juin!AJ121 -> 0 | AK121: =COUNTIFS(Juillet!$C121:$AG121,"m")/2+Juin!AK121 -> 0 | AL121: =COUNTIFS(Juillet!$C121:$AG121,"a")/2+Juin!AL121 -> 0
B122: A-M | AH122: =COUNTA(Juillet!$C122:$AG122) -> 0 | AI122: =(COUNTIFS(Juillet!$C122:$AG122,("cp")))/2+Juin!AI122 -> 0 | AJ122: =COUNTIFS(Juillet!$C122:$AG122,"RTT")/2+Juin!AJ122 -> 0 | AK122: =COUNTIFS(Juillet!$C122:$AG122,"m")/2+Juin!AK122 -> 0 | AL122: =COUNTIFS(Juillet!$C122:$AG122,"a")/2+Juin!AL122 -> 0
C123: =IF(C121>0,C121,IF(C122>0,C122,"")) | D123: =IF(D121>0,D121,IF(D122>0,D122,"")) | E123: =IF(E121>0,E121,IF(E122>0,E122,"")) | F123: =IF(F121>0,F121,IF(F122>0,F122,"")) | G123: =IF(G121>0,G121,IF(G122>0,G122,"")) | H123: =IF(H121>0,H121,IF(H122>0,H122,"")) | I123: =IF(I121>0,I121,IF(I122>0,I122,"")) | J123: =IF(J121>0,J121,IF(J122>0,J122,"")) | ... AG123: =IF(AG121>0,AG121,IF(AG122>0,AG122,"")) | AH123: =SUM(AH121:AH122) -> 0 | AI123: =SUM(AI121:AI122) -> 0 | AJ123: =SUM(AJ121:AJ122) -> 0 | AK123: =SUM(AK121:AK122) -> 0 | AL123: =SUM(AL121:AL122) -> 0 | AM123: =+Juin!AM123 -> 0 | AN123: =IF(A122="","",IF(A122>NomMois,0,IF(A122<$A$3,2.08,(NETWORKDAYS(A122,$A$2)/21.66667)*2.08))) | AO123: =IF( AN123="",0,+AN123+Juin!AO123) -> 0 | AQ123: =+AM123-AI123 -> 0 | AR123: =+AP123-AJ123 -> 0 | AS123: =+AO123+AQ123 -> 0
A127: X | C127: Clé de couleur | H127: CP | I127: Congés | L127: RTT | M127: RTT | P127: M | Q127: Maladie | T127: A | U127: Absence injustifiée | Z127: Personnalisé 2

Sheet Août
A1: Planification des absences des employés
A2: 42978 | C2: Dates d’absence | AH2: 2017 | AI2: Nombre de jours pris | AM2: Nombre de Jours acquis | AQ2: Solde
A3: 42948 | C3: =TEXT(WEEKDAY(DATE(CalendrierAnnée,7,1),1),"jjj") -> sam | D3: =TEXT(WEEKDAY(DATE(CalendrierAnnée,7,2),1),"jjj") -> dim | E3: =TEXT(WEEKDAY(DATE(CalendrierAnnée,7,3),1),"jjj") -> lun | F3: =TEXT(WEEKDAY(DATE(CalendrierAnnée,7,4),1),"jjj") -> mar | G3: =TEXT(WEEKDAY(DATE(CalendrierAnnée,7,5),1),"jjj") -> mer | H3: =TEXT(WEEKDAY(DATE(CalendrierAnnée,7,6),1),"jjj") -> jeu | I3: =TEXT(WEEKDAY(DATE(CalendrierAnnée,7,7),1),"jjj") -> ven | J3: =TEXT(WEEKDAY(DATE(CalendrierAnnée,7,8),1),"jjj") -> sam | K3: =TEXT(WEEKDAY(DATE(CalendrierAnnée,7,9),1),"jjj") -> dim | L3: =TEXT(WEEKDAY(DATE(CalendrierAnnée,7,10),1),"jjj") -> lun | M3: =TEXT(WEEKDAY(DATE(CalendrierAnnée,7,11),1),"jjj") -> mar | N3: =TEXT(WEEKDAY(DATE(CalendrierAnnée,7,12),1),"jjj") -> mer | O3: =TEXT(WEEKDAY(DATE(CalendrierAnnée,7,13),1),"jjj") -> jeu | P3: =TEXT(WEEKDAY(DATE(CalendrierAnnée,7,14),1),"jjj") -> ven | Q3: =TEXT(WEEKDAY(DATE(CalendrierAnnée,7,15),1),"jjj") -> sam | R3: =TEXT(WEEKDAY(DATE(CalendrierAnnée,7,16),1),"jjj") -> dim | S3: =TEXT(WEEKDAY(DATE(CalendrierAnnée,7,17),1),"jjj") -> lun | T3: =TEXT(WEEKDAY(DATE(CalendrierAnnée,7,18),1),"jjj") -> mar | U3: =TEXT(WEEKDAY(DATE(CalendrierAnnée,7,19),1),"jjj") -> mer | V3: =TEXT(WEEKDAY(DATE(CalendrierAnnée,7,20),1),"jjj") -> jeu | W3: =TEXT(WEEKDAY(DATE(CalendrierAnnée,7,21),1),"jjj") -> ven | X3: =TEXT(WEEKDAY(DATE(CalendrierAnnée,7,22),1),"jjj") -> sam | Y3: =TEXT(WEEKDAY(DATE(CalendrierAnnée,7,23),1),"jjj") -> dim | Z3: =TEXT(WEEKDAY(DATE(CalendrierAnnée,7,24),1),"jjj") -> lun | AA3: =TEXT(WEEKDAY(DATE(CalendrierAnnée,7,25),1),"jjj") -> mar | AB3: =TEXT(WEEKDAY(DATE(CalendrierAnnée,7,26),1),"jjj") -> mer | AC3: =TEXT(WEEKDAY(DATE(CalendrierAnnée,7,27),1),"jjj") -> jeu | AD3: =TEXT(WEEKDAY(DATE(CalendrierAnnée,7,28),1),"jjj") -> ven | AE3: =TEXT(WEEKDAY(DATE(CalendrierAnnée,7,29),1),"jjj") -> sam | AF3: =TEXT(WEEKDAY(DATE(CalendrierAnnée,7,30),1),"jjj") -> dim | AG3: =TEXT(WEEKDAY(DATE(CalendrierAnnée,7,31),1),"jjj") -> lun
A4: Nom de l’employé | C4: 1 | D4: 2 | E4: 3 | F4: 4 | G4: 5 | H4: 6 | I4: 7 | J4: 8 | K4: 9 | L4: 10 | M4: 11 | N4: 12 | O4: 13 | P4: 14 | Q4: 15 | R4: 16 | S4: 17 | T4: 18 | U4: 19 | V4: 20 | W4: 21 | X4: 22 | Y4: 23 | Z4: 24 | AA4: 25 | AB4: 26 | AC4: 27 | AD4: 28 | AE4: 29 | AF4: 30 | AG4: 31 | AH4: Nombre total de demi-journées | AI4: CP | AJ4: RTT | AK4: M | AL4: A | AM4: C P Acquis | AN4: CP en cours sur le mois | AO4: CP en cours cumulés | AP4: RTT acquis | AQ4: CP | AR4: RTT | AS4: DATE DE SORTIE et SOLDE CP
B5: Matin | T5: CP | W5: CP | X5: CP | Y5: CP | Z5: CP | AD5: CP | AE5: CP | AF5: CP | AG5: CP | AH5: =COUNTA(Août!$C5:$AG5) -> 9 | AI5: =(COUNTIFS(Août!$C5:$AG5,("cp")))/2+Juillet!AI5 -> 4.5 | AJ5: =COUNTIFS(Août!$C5:$AG5,"RTT")/2+Juillet!AJ5 -> 0 | AK5: =COUNTIFS(Août!$C5:$AG5,"m")/2+Juillet!AK5 -> 0 | AL5: =COUNTIFS(Août!$C5:$AG5,"a")/2+Juillet!AL5 -> 0
A6: 41722 | B6: A-M | T6: CP | W6: CP | X6: CP | Y6: CP | Z6: CP | AD6: CP | AE6: CP | AF6: CP | AG6: CP | AH6: =COUNTA(Août!$C6:$AG6) -> 9 | AI6: =(COUNTIFS(Août!$C6:$AG6,("cp")))/2+Juillet!AI6 -> 4.5 | AJ6: =COUNTIFS(Août!$C6:$AG6,"RTT")/2+Juillet!AJ6 -> 0 | AK6: =COUNTIFS(Août!$C6:$AG6,"m")/2+Juillet!AK6 -> 0 | AL6: =COUNTIFS(Août!$C6:$AG6,"a")/2+Juillet!AL6 -> 0
C7: =IF(C5>0,C5,IF(C6>0,C6,"")) | D7: =IF(D5>0,D5,IF(D6>0,D6,"")) | E7: =IF(E5>0,E5,IF(E6>0,E6,"")) | F7: =IF(F5>0,F5,IF(F6>0,F6,"")) | G7: =IF(G5>0,G5,IF(G6>0,G6,"")) | H7: =IF(H5>0,H5,IF(H6>0,H6,"")) | I7: =IF(I5>0,I5,IF(I6>0,I6,"")) | J7: =IF(J5>0,J5,IF(J6>0,J6,"")) | ... AG7: =IF(AG5>0,AG5,IF(AG6>0,AG6,"")) -> CP | AH7: =SUM(AH5:AH6) -> 18 | AI7: =SUM(AI5:AI6) -> 9 | AJ7: =SUM(AJ5:AJ6) -> 0 | AK7: =SUM(AK5:AK6) -> 0 | AL7: =SUM(AL5:AL6) -> 0 | AM7: =+Juin!AM7 -> 9.15 | AN7: =IF(A6="","",IF(A6>NomMois,0,IF(A6<$A$3,2.08,(NETWORKDAYS(A6,$A$2)/21.66667)*2.08))) -> 2.08 | AO7: =IF( AN7="",0,+AN7+Juillet!AO7) -> 6.24 | AQ7: =+AM7-AI7 -> 0.15 | AR7: =+AP7-AJ7 -> 0 | AS7: =+AO7+AQ7 -> 6.39
B9: Matin | C9: CP | D9: CP | AH9: =COUNTA(Août!$C9:$AG9) -> 2 | AI9: =(COUNTIFS(Août!$C9:$AG9,("cp")))/2+Juillet!AI9 -> 3.5 | AJ9: =COUNTIFS(Août!$C9:$AG9,"RTT")/2+Juillet!AJ9 -> 0 | AK9: =COUNTIFS(Août!$C9:$AG9,"m")/2+Juillet!AK9 -> 0 | AL9: =COUNTIFS(Août!$C9:$AG9,"a")/2+Juillet!AL9 -> 0
A10: 42740 | B10: A-M | C10: CP | D10: CP | AH10: =COUNTA(Août!$C10:$AG10) -> 2 | AI10: =(COUNTIFS(Août!$C10:$AG10,("cp")))/2+Juillet!AI10 -> 3.5 | AJ10: =COUNTIFS(Août!$C10:$AG10,"RTT")/2+Juillet!AJ10 -> 0 | AK10: =COUNTIFS(Août!$C10:$AG10,"m")/2+Juillet!AK10 -> 0 | AL10: =COUNTIFS(Août!$C10:$AG10,"a")/2+Juillet!AL10 -> 0
C11: =IF(C9>0,C9,IF(C10>0,C10,"")) -> CP | D11: =IF(D9>0,D9,IF(D10>0,D10,"")) -> CP | E11: =IF(E9>0,E9,IF(E10>0,E10,"")) | F11: =IF(F9>0,F9,IF(F10>0,F10,"")) | G11: =IF(G9>0,G9,IF(G10>0,G10,"")) | H11: =IF(H9>0,H9,IF(H10>0,H10,"")) | I11: =IF(I9>0,I9,IF(I10>0,I10,"")) | J11: =IF(J9>0,J9,IF(J10>0,J10,"")) | ... AG11: =IF(AG9>0,AG9,IF(AG10>0,AG10,"")) | AH11: =SUM(AH9:AH10) -> 4 | AI11: =SUM(AI9:AI10) -> 7 | AJ11: =SUM(AJ9:AJ10) -> 0 | AK11: =SUM(AK9:AK10) -> 0 | AL11: =SUM(AL9:AL10) -> 0 | AM11: =+Juin!AM11 -> 10.32 | AN11: =IF(A10="","",IF(A10>NomMois,0,IF(A10<$A$3,2.08,(NETWORKDAYS(A10,$A$2)/21.66667)*2.08))) -> 2.08 | AO11: =IF( AN11="",0,+AN11+Juillet!AO11) -> 6.24 | AQ11: =+AM11-AI11 -> 3.32 | AR11: =+AP11-AJ11 -> 0 | AS11: =+AO11+AQ11 -> 9.56
B13: Matin | P13: CP | AH13: =COUNTA(Août!$C13:$AG13) -> 1 | AI13: =(COUNTIFS(Août!$C13:$AG13,("cp")))/2+Juillet!AI13 -> 0.5 | AJ13: =COUNTIFS(Août!$C13:$AG13,"RTT")/2+Juillet!AJ13 -> 0 | AK13: =COUNTIFS(Août!$C13:$AG13,"m")/2+Juillet!AK13 -> 0 | AL13: =COUNTIFS(Août!$C13:$AG13,"a")/2+Juillet!AL13 -> 1.5
A14: 42891 | B14: A-M | P14: CP | AH14: =COUNTA(Août!$C14:$AG14) -> 1 | AI14: =(COUNTIFS(Août!$C14:$AG14,("cp")))/2+Juillet!AI14 -> 0.5 | AJ14: =COUNTIFS(Août!$C14:$AG14,"RTT")/2+Juillet!AJ14 -> 0 | AK14: =COUNTIFS(Août!$C14:$AG14,"m")/2+Juillet!AK14 -> 0 | AL14: =COUNTIFS(Août!$C14:$AG14,"a")/2+Juillet!AL14 -> 1 | AS14: 43014
C15: =IF(C13>0,C13,IF(C14>0,C14,"")) | D15: =IF(D13>0,D13,IF(D14>0,D14,"")) | E15: =IF(E13>0,E13,IF(E14>0,E14,"")) | F15: =IF(F13>0,F13,IF(F14>0,F14,"")) | G15: =IF(G13>0,G13,IF(G14>0,G14,"")) | H15: =IF(H13>0,H13,IF(H14>0,H14,"")) | I15: =IF(I13>0,I13,IF(I14>0,I14,"")) | J15: =IF(J13>0,J13,IF(J14>0,J14,"")) | ... AG15: =IF(AG13>0,AG13,IF(AG14>0,AG14,"")) | AH15: =SUM(AH13:AH14) -> 2 | AI15: =SUM(AI13:AI14) -> 1 | AJ15: =SUM(AJ13:AJ14) -> 0 | AK15: =SUM(AK13:AK14) -> 0 | AL15: =SUM(AL13:AL14) -> 2.5 | AM15: =+Juin!AM15 -> 0 | AN15: =IF(A14="","",IF(A14>NomMois,0,IF(A14<$A$3,2.08,(NETWORKDAYS(A14,$A$2)/21.66667)*2.08))) -> 2.08 | AO15: =IF( AN15="",0,+AN15+Juillet!AO15) -> 6.0799997 | AQ15: =+AM15-AI15 -> -1 | AR15: =+AP15-AJ15 -> 0 | AS15: =+AO15+AQ15 -> 5.0799997
B17: Matin | W17: CP | X17: CP | Y17: CP | Z17: CP | AA17: CP | AD17: CP | AE17: CP | AF17: CP | AG17: CP | AH17: =COUNTA(Août!$C17:$AG17) -> 9 | AI17: =(COUNTIFS(Août!$C17:$AG17,("cp")))/2+Juillet!AI17 -> 4.5 | AJ17: =COUNTIFS(Août!$C17:$AG17,"RTT")/2+Juillet!AJ17 -> 0 | AK17: =COUNTIFS(Août!$C17:$AG17,"m")/2+Juillet!AK17 -> 0 | AL17: =COUNTIFS(Août!$C17:$AG17,"a")/2+Juillet!AL17 -> 0
A18: 38923 | B18: A-M | W18: CP | X18: CP | Y18: CP | Z18: CP | AA18: CP | AD18: CP | AE18: CP | AF18: CP | AG18: CP | AH18: =COUNTA(Août!$C18:$AG18) -> 9 | AI18: =(COUNTIFS(Août!$C18:$AG18,("cp")))/2+Juillet!AI18 -> 4.5 | AJ18: =COUNTIFS(Août!$C18:$AG18,"RTT")/2+Juillet!AJ18 -> 0 | AK18: =COUNTIFS(Août!$C18:$AG18,"m")/2+Juillet!AK18 -> 0 | AL18: =COUNTIFS(Août!$C18:$AG18,"a")/2+Juillet!AL18 -> 0
C19: =IF(C17>0,C17,IF(C18>0,C18,"")) | D19: =IF(D17>0,D17,IF(D18>0,D18,"")) | E19: =IF(E17>0,E17,IF(E18>0,E18,"")) | F19: =IF(F17>0,F17,IF(F18>0,F18,"")) | G19: =IF(G17>0,G17,IF(G18>0,G18,"")) | H19: =IF(H17>0,H17,IF(H18>0,H18,"")) | I19: =IF(I17>0,I17,IF(I18>0,I18,"")) | J19: =IF(J17>0,J17,IF(J18>0,J18,"")) | ... AG19: =IF(AG17>0,AG17,IF(AG18>0,AG18,"")) -> CP | AH19: =SUM(AH17:AH18) -> 18 | AI19: =SUM(AI17:AI18) -> 9 | AJ19: =SUM(AJ17:AJ18) -> 0 | AK19: =SUM(AK17:AK18) -> 0 | AL19: =SUM(AL17:AL18) -> 0 | AM19: =+Juin!AM19 -> 24.54 | AN19: =IF(A18="","",IF(A18>NomMois,0,IF(A18<$A$3,2.08,(NETWORKDAYS(A18,$A$2)/21.66667)*2.08))) -> 2.08 | AO19: =IF( AN19="",0,+AN19+Juillet!AO19) -> 6.24 | AQ19: =+AM19-AI19 -> 15.54 | AR19: =+AP19-AJ19 -> 0 | AS19: =+AO19+AQ19 -> 21.78
B21: Matin | AH21: =COUNTA(Août!$C21:$AG21) -> 0 | AI21: =(COUNTIFS(Août!$C21:$AG21,("cp")))/2+Juillet!AI21 -> 1 | AJ21: =COUNTIFS(Août!$C21:$AG21,"RTT")/2+Juillet!AJ21 -> 0 | AK21: =COUNTIFS(Août!$C21:$AG21,"m")/2+Juillet!AK21 -> 0 | AL21: =COUNTIFS(Août!$C21:$AG21,"a")/2+Juillet!AL21 -> 0
A22: 41824 | B22: A-M | AH22: =COUNTA(Août!$C22:$AG22) -> 0 | AI22: =(COUNTIFS(Août!$C22:$AG22,("cp")))/2+Juillet!AI22 -> 1 | AJ22: =COUNTIFS(Août!$C22:$AG22,"RTT")/2+Juillet!AJ22 -> 0 | AK22: =COUNTIFS(Août!$C22:$AG22,"m")/2+Juillet!AK22 -> 0 | AL22: =COUNTIFS(Août!$C22:$AG22,"a")/2+Juillet!AL22 -> 0
C23: =IF(C21>0,C21,IF(C22>0,C22,"")) | D23: =IF(D21>0,D21,IF(D22>0,D22,"")) | E23: =IF(E21>0,E21,IF(E22>0,E22,"")) | F23: =IF(F21>0,F21,IF(F22>0,F22,"")) | G23: =IF(G21>0,G21,IF(G22>0,G22,"")) | H23: =IF(H21>0,H21,IF(H22>0,H22,"")) | I23: =IF(I21>0,I21,IF(I22>0,I22,"")) | J23: =IF(J21>0,J21,IF(J22>0,J22,"")) | ... AG23: =IF(AG21>0,AG21,IF(AG22>0,AG22,"")) | AH23: =SUM(AH21:AH22) -> 0 | AI23: =SUM(AI21:AI22) -> 2 | AJ23: =SUM(AJ21:AJ22) -> 0 | AK23: =SUM(AK21:AK22) -> 0 | AL23: =SUM(AL21:AL22) -> 0 | AM23: =+Juin!AM23 -> 11.23 | AN23: =IF(A22="","",IF(A22>NomMois,0,IF(A22<$A$3,2.08,(NETWORKDAYS(A22,$A$2)/21.66667)*2.08))) -> 2.08 | AO23: =IF( AN23="",0,+AN23+Juillet!AO23) -> 6.24 | AQ23: =+AM23-AI23 -> 9.23 | AR23: =+AP23-AJ23 -> 0 | AS23: =+AO23+AQ23 -> 15.47
B25: Matin | V25: CP | W25: CP | X25: CP | Y25: CP | Z25: CP | AH25: =COUNTA(Août!$C25:$AG25) -> 5 | AI25: =(COUNTIFS(Août!$C25:$AG25,("cp")))/2+Juillet!AI25 -> 3.5 | AJ25: =COUNTIFS(Août!$C25:$AG25,"RTT")/2+Juillet!AJ25 -> 0 | AK25: =COUNTIFS(Août!$C25:$AG25,"m")/2+Juillet!AK25 -> 0 | AL25: =COUNTIFS(Août!$C25:$AG25,"a")/2+Juillet!AL25 -> 0
A26: 38626 | B26: A-M | V26: CP | W26: CP | X26: CP | Y26: CP | Z26: CP | AH26: =COUNTA(Août!$C26:$AG26) -> 5 | AI26: =(COUNTIFS(Août!$C26:$AG26,("cp")))/2+Juillet!AI26 -> 3.5 | AJ26: =COUNTIFS(Août!$C26:$AG26,"RTT")/2+Juillet!AJ26 -> 0 | AK26: =COUNTIFS(Août!$C26:$AG26,"m")/2+Juillet!AK26 -> 0 | AL26: =COUNTIFS(Août!$C26:$AG26,"a")/2+Juillet!AL26 -> 0
C27: =IF(C25>0,C25,IF(C26>0,C26,"")) | D27: =IF(D25>0,D25,IF(D26>0,D26,"")) | E27: =IF(E25>0,E25,IF(E26>0,E26,"")) | F27: =IF(F25>0,F25,IF(F26>0,F26,"")) | G27: =IF(G25>0,G25,IF(G26>0,G26,"")) | H27: =IF(H25>0,H25,IF(H26>0,H26,"")) | I27: =IF(I25>0,I25,IF(I26>0,I26,"")) | J27: =IF(J25>0,J25,IF(J26>0,J26,"")) | ... AG27: =IF(AG25>0,AG25,IF(AG26>0,AG26,"")) | AH27: =SUM(AH25:AH26) -> 10 | AI27: =SUM(AI25:AI26) -> 7 | AJ27: =SUM(AJ25:AJ26) -> 0 | AK27: =SUM(AK25:AK26) -> 0 | AL27: =SUM(AL25:AL26) -> 0 | AM27: =+Juin!AM27 -> 28.7 | AN27: =IF(A26="","",IF(A26>NomMois,0,IF(A26<$A$3,2.08,(NETWORKDAYS(A26,$A$2)/21.66667)*2.08))) -> 2.08 | AO27: =IF( AN27="",0,+AN27+Juillet!AO27) -> 6.24 | AQ27: =+AM27-AI27 -> 21.7 | AR27: =+AP27-AJ27 -> 0 | AS27: =+AO27+AQ27 -> 27.94
AN28: =IF(A27="","",IF(A27>NomMois,0,IF(A27<$A$3,2.08,(NETWORKDAYS(A27,$A$2)/21.66667)*2.08))) | AO28: =IF( AN28="",0,+AN28+Juillet!AO28) -> 0
B29: Matin | I29: CP | J29: CP | K29: CP | L29: CP | M29: CP | P29: CP | R29: CP | S29: CP | T29: CP | W29: CP | X29: CP | Y29: CP | Z29: CP | AA29: CP | AD29: CP | AH29: =COUNTA(Août!$C29:$AG29) -> 15 | AI29: =(COUNTIFS(Août!$C29:$AG29,("cp")))/2+Juillet!AI29 -> 7.5 | AJ29: =COUNTIFS(Août!$C29:$AG29,"RTT")/2+Juillet!AJ29 -> 0 | AK29: =COUNTIFS(Août!$C29:$AG29,"m")/2+Juillet!AK29 -> 0 | AL29: =COUNTIFS(Août!$C29:$AG29,"a")/2+Juillet!AL29 -> 0
A30: 36892 | B30: A-M | F30: CP | I30: CP | J30: CP | K30: CP | L30: CP | M30: CP | P30: CP | R30: CP | S30: CP | T30: CP | W30: CP | X30: CP | Y30: CP | Z30: CP | AA30: CP | AD30: CP | AH30: =COUNTA(Août!$C30:$AG30) -> 16 | AI30: =(COUNTIFS(Août!$C30:$AG30,("cp")))/2+Juillet!AI30 -> 8 | AJ30: =COUNTIFS(Août!$C30:$AG30,"RTT")/2+Juillet!AJ30 -> 0 | AK30: =COUNTIFS(Août!$C30:$AG30,"m")/2+Juillet!AK30 -> 0 | AL30: =COUNTIFS(Août!$C30:$AG30,"a")/2+Juillet!AL30 -> 0
C31: =IF(C29>0,C29,IF(C30>0,C30,"")) | D31: =IF(D29>0,D29,IF(D30>0,D30,"")) | E31: =IF(E29>0,E29,IF(E30>0,E30,"")) | F31: =IF(F29>0,F29,IF(F30>0,F30,"")) -> CP | G31: =IF(G29>0,G29,IF(G30>0,G30,"")) | H31: =IF(H29>0,H29,IF(H30>0,H30,"")) | I31: =IF(I29>0,I29,IF(I30>0,I30,"")) -> CP | J31: =IF(J29>0,J29,IF(J30>0,J30,"")) -> CP | ... AG31: =IF(AG29>0,AG29,IF(AG30>0,AG30,"")) | AH31: =SUM(AH29:AH30) -> 31 | AI31: =SUM(AI29:AI30) -> 15.5 | AJ31: =SUM(AJ29:AJ30) -> 0 | AK31: =SUM(AK29:AK30) -> 0 | AL31: =SUM(AL29:AL30) -> 0 | AM31: =+Juin!AM31 -> 30.37 | AN31: =IF(A30="","",IF(A30>NomMois,0,IF(A30<$A$3,2.08,(NETWORKDAYS(A30,$A$2)/21.66667)*2.08))) -> 2.08 | AO31: =IF( AN31="",0,+AN31+Juillet!AO31) -> 6.24 | AQ31: =+AM31-AI31 -> 14.87 | AR31: =+AP31-AJ31 -> 0 | AS31: =+AO31+AQ31 -> 21.11
B33: Matin | C33: CP | D33: CP | E33: CP | F33: CP | AH33: =COUNTA(Août!$C33:$AG33) -> 4 | AI33: =(COUNTIFS(Août!$C33:$AG33,("cp")))/2+Juillet!AI33 -> 8 | AJ33: =COUNTIFS(Août!$C33:$AG33,"RTT")/2+Juillet!AJ33 -> 0 | AK33: =COUNTIFS(Août!$C33:$AG33,"m")/2+Juillet!AK33 -> 0 | AL33: =COUNTIFS(Août!$C33:$AG33,"a")/2+Juillet!AL33 -> 0
A34: 42110 | B34: A-M | C34: CP | D34: CP | E34: CP | F34: CP | AH34: =COUNTA(Août!$C34:$AG34) -> 4 | AI34: =(COUNTIFS(Août!$C34:$AG34,("cp")))/2+Juillet!AI34 -> 8 | AJ34: =COUNTIFS(Août!$C34:$AG34,"RTT")/2+Juillet!AJ34 -> 0 | AK34: =COUNTIFS(Août!$C34:$AG34,"m")/2+Juillet!AK34 -> 0 | AL34: =COUNTIFS(Août!$C34:$AG34,"a")/2+Juillet!AL34 -> 0
C35: =IF(C33>0,C33,IF(C34>0,C34,"")) -> CP | D35: =IF(D33>0,D33,IF(D34>0,D34,"")) -> CP | E35: =IF(E33>0,E33,IF(E34>0,E34,"")) -> CP | F35: =IF(F33>0,F33,IF(F34>0,F34,"")) -> CP | G35: =IF(G33>0,G33,IF(G34>0,G34,"")) | H35: =IF(H33>0,H33,IF(H34>0,H34,"")) | I35: =IF(I33>0,I33,IF(I34>0,I34,"")) | J35: =IF(J33>0,J33,IF(J34>0,J34,"")) | ... AG35: =IF(AG33>0,AG33,IF(AG34>0,AG34,"")) | AH35: =SUM(AH33:AH34) -> 8 | AI35: =SUM(AI33:AI34) -> 16 | AJ35: =SUM(AJ33:AJ34) -> 0 | AK35: =SUM(AK33:AK34) -> 0 | AL35: =SUM(AL33:AL34) -> 0 | AM35: =+Juin!AM35 -> 14.56 | AN35: =IF(A34="","",IF(A34>NomMois,0,IF(A34<$A$3,2.08,(NETWORKDAYS(A34,$A$2)/21.66667)*2.08))) -> 2.08 | AO35: =IF( AN35="",0,+AN35+Juillet!AO35) -> 6.24 | AQ35: =+AM35-AI35 -> -1.44 | AR35: =+AP35-AJ35 -> 0 | AS35: =+AO35+AQ35 -> 4.8
B37: Matin | M37: CP | P37: CP | R37: CP | S37: CP | T37: CP | W37: CP | X37: CP | Y37: CP | Z37: CP | AA37: CP | AH37: =COUNTA(Août!$C37:$AG37) -> 10 | AI37: =(COUNTIFS(Août!$C37:$AG37,("cp")))/2+Juillet!AI37 -> 5 | AJ37: =COUNTIFS(Août!$C37:$AG37,"RTT")/2+Juillet!AJ37 -> 0 | AK37: =COUNTIFS(Août!$C37:$AG37,"m")/2+Juillet!AK37 -> 0 | AL37: =COUNTIFS(Août!$C37:$AG37,"a")/2+Juillet!AL37 -> 0
A38: 42373 | B38: A-M | M38: CP | P38: CP | R38: CP | S38: CP | T38: CP | W38: CP | X38: CP | Y38: CP | Z38: CP | AA38: CP | AH38: =COUNTA(Août!$C38:$AG38) -> 10 | AI38: =(COUNTIFS(Août!$C38:$AG38,("cp")))/2+Juillet!AI38 -> 5 | AJ38: =COUNTIFS(Août!$C38:$AG38,"RTT")/2+Juillet!AJ38 -> 0 | AK38: =COUNTIFS(Août!$C38:$AG38,"m")/2+Juillet!AK38 -> 0 | AL38: =COUNTIFS(Août!$C38:$AG38,"a")/2+Juillet!AL38 -> 0
C39: =IF(C37>0,C37,IF(C38>0,C38,"")) | D39: =IF(D37>0,D37,IF(D38>0,D38,"")) | E39: =IF(E37>0,E37,IF(E38>0,E38,"")) | F39: =IF(F37>0,F37,IF(F38>0,F38,"")) | G39: =IF(G37>0,G37,IF(G38>0,G38,"")) | H39: =IF(H37>0,H37,IF(H38>0,H38,"")) | I39: =IF(I37>0,I37,IF(I38>0,I38,"")) | J39: =IF(J37>0,J37,IF(J38>0,J38,"")) | ... AG39: =IF(AG37>0,AG37,IF(AG38>0,AG38,"")) | AH39: =SUM(AH37:AH38) -> 20 | AI39: =SUM(AI37:AI38) -> 10 | AJ39: =SUM(AJ37:AJ38) -> 0 | AK39: =SUM(AK37:AK38) -> 0 | AL39: =SUM(AL37:AL38) -> 0 | AM39: =+Juin!AM39 -> 14.14 | AN39: =IF(A38="","",IF(A38>NomMois,0,IF(A38<$A$3,2.08,(NETWORKDAYS(A38,$A$2)/21.66667)*2.08))) -> 2.08 | AO39: =IF( AN39="",0,+AN39+Juillet!AO39) -> 6.24 | AQ39: =+AM39-AI39 -> 4.14 | AR39: =+AP39-AJ39 -> 0 | AS39: =+AO39+AQ39 -> 10.38
B41: Matin | AH41: =COUNTA(Août!$C41:$AG41) -> 0 | AI41: =(COUNTIFS(Août!$C41:$AG41,("cp")))/2+Juillet!AI41 -> 7.5 | AJ41: =COUNTIFS(Août!$C41:$AG41,"RTT")/2+Juillet!AJ41 -> 0 | AK41: =COUNTIFS(Août!$C41:$AG41,"m")/2+Juillet!AK41 -> 0 | AL41: =COUNTIFS(Août!$C41:$AG41,"a")/2+Juillet!AL41 -> 0
A42: 41821 | B42: A-M | AH42: =COUNTA(Août!$C42:$AG42) -> 0 | AI42: =(COUNTIFS(Août!$C42:$AG42,("cp")))/2+Juillet!AI42 -> 7.5 | AJ42: =COUNTIFS(Août!$C42:$AG42,"RTT")/2+Juillet!AJ42 -> 0 | AK42: =COUNTIFS(Août!$C42:$AG42,"m")/2+Juillet!AK42 -> 0 | AL42: =COUNTIFS(Août!$C42:$AG42,"a")/2+Juillet!AL42 -> 0
C43: =IF(C41>0,C41,IF(C42>0,C42,"")) | D43: =IF(D41>0,D41,IF(D42>0,D42,"")) | E43: =IF(E41>0,E41,IF(E42>0,E42,"")) | F43: =IF(F41>0,F41,IF(F42>0,F42,"")) | G43: =IF(G41>0,G41,IF(G42>0,G42,"")) | H43: =IF(H41>0,H41,IF(H42>0,H42,"")) | I43: =IF(I41>0,I41,IF(I42>0,I42,"")) | J43: =IF(J41>0,J41,IF(J42>0,J42,"")) | ... AG43: =IF(AG41>0,AG41,IF(AG42>0,AG42,"")) | AH43: =SUM(AH41:AH42) -> 0 | AI43: =SUM(AI41:AI42) -> 15 | AJ43: =SUM(AJ41:AJ42) -> 0 | AK43: =SUM(AK41:AK42) -> 0 | AL43: =SUM(AL41:AL42) -> 0 | AM43: =+Juin!AM43 -> 20.38 | AN43: =IF(A42="","",IF(A42>NomMois,0,IF(A42<$A$3,2.08,(NETWORKDAYS(A42,$A$2)/21.66667)*2.08))) -> 2.08 | AO43: =IF( AN43="",0,+AN43+Juillet!AO43) -> 6.24 | AQ43: =+AM43-AI43 -> 5.38 | AR43: =+AP43-AJ43 -> 0 | AS43: =+AO43+AQ43 -> 11.62
AH44: =COUNTA(Août!$C44:$AG44) -> 0 | AI44: =(COUNTIFS(Août!$C44:$AF44,("cp")))/2 -> 0 | AJ44: =COUNTIFS(Août!$C44:$AF44,"RTT")/2 -> 0 | AK44: =COUNTIFS(Août!$C44:$AF44,"m")/2 -> 0 | AL44: =COUNTIFS(Août!$C44:$AF44,"a")/2 -> 0
B45: Matin | AH45: =COUNTA(Août!$C45:$AG45) -> 0 | AI45: =(COUNTIFS(Août!$C45:$AG45,("cp")))/2+Juillet!AI45 -> 0 | AJ45: =COUNTIFS(Août!$C45:$AG45,"RTT")/2+Juillet!AJ45 -> 0 | AK45: =COUNTIFS(Août!$C45:$AG45,"m")/2+Juillet!AK45 -> 0 | AL45: =COUNTIFS(Août!$C45:$AG45,"a")/2+Juillet!AL45 -> 0
A46: 40575 | B46: A-M | AH46: =COUNTA(Août!$C46:$AG46) -> 0 | AI46: =(COUNTIFS(Août!$C46:$AG46,("cp")))/2+Juillet!AI46 -> 0.5 | AJ46: =COUNTIFS(Août!$C46:$AG46,"RTT")/2+Juillet!AJ46 -> 0 | AK46: =COUNTIFS(Août!$C46:$AG46,"m")/2+Juillet!AK46 -> 0 | AL46: =COUNTIFS(Août!$C46:$AG46,"a")/2+Juillet!AL46 -> 0
C47: =IF(C45>0,C45,IF(C46>0,C46,"")) | D47: =IF(D45>0,D45,IF(D46>0,D46,"")) | E47: =IF(E45>0,E45,IF(E46>0,E46,"")) | F47: =IF(F45>0,F45,IF(F46>0,F46,"")) | G47: =IF(G45>0,G45,IF(G46>0,G46,"")) | H47: =IF(H45>0,H45,IF(H46>0,H46,"")) | I47: =IF(I45>0,I45,IF(I46>0,I46,"")) | J47: =IF(J45>0,J45,IF(J46>0,J46,"")) | ... AG47: =IF(AG45>0,AG45,IF(AG46>0,AG46,"")) | AH47: =SUM(AH45:AH46) -> 0 | AI47: =SUM(AI45:AI46) -> 0.5 | AJ47: =SUM(AJ45:AJ46) -> 0 | AK47: =SUM(AK45:AK46) -> 0 | AL47: =SUM(AL45:AL46) -> 0 | AM47: =+Juin!AM47 -> 24.96 | AN47: =IF(A46="","",IF(A46>NomMois,0,IF(A46<$A$3,2.08,(NETWORKDAYS(A46,$A$2)/21.66667)*2.08))) -> 2.08 | AO47: =IF( AN47="",0,+AN47+Juillet!AO47) -> 6.24 | AQ47: =+AM47-AI47 -> 24.46 | AR47: =+AP47-AJ47 -> 0 | AS47: =+AO47+AQ47 -> 30.7
B49: Matin | AH49: =COUNTA(Août!$C49:$AG49) -> 0 | AI49: =(COUNTIFS(Août!$C49:$AG49,("cp")))/2+Juillet!AI49 -> 0.5 | AJ49: =COUNTIFS(Août!$C49:$AG49,"RTT")/2+Juillet!AJ49 -> 0 | AK49: =COUNTIFS(Août!$C49:$AG49,"m")/2+Juillet!AK49 -> 0 | AL49: =COUNTIFS(Août!$C49:$AG49,"a")/2+Juillet!AL49 -> 0
A50: 42793 | B50: A-M | AH50: =COUNTA(Août!$C50:$AG50) -> 0 | AI50: =(COUNTIFS(Août!$C50:$AG50,("cp")))/2+Juillet!AI50 -> 0.5 | AJ50: =COUNTIFS(Août!$C50:$AG50,"RTT")/2+Juillet!AJ50 -> 0 | AK50: =COUNTIFS(Août!$C50:$AG50,"m")/2+Juillet!AK50 -> 0 | AL50: =COUNTIFS(Août!$C50:$AG50,"a")/2+Juillet!AL50 -> 0
C51: =IF(C49>0,C49,IF(C50>0,C50,"")) | D51: =IF(D49>0,D49,IF(D50>0,D50,"")) | E51: =IF(E49>0,E49,IF(E50>0,E50,"")) | F51: =IF(F49>0,F49,IF(F50>0,F50,"")) | G51: =IF(G49>0,G49,IF(G50>0,G50,"")) | H51: =IF(H49>0,H49,IF(H50>0,H50,"")) | I51: =IF(I49>0,I49,IF(I50>0,I50,"")) | J51: =IF(J49>0,J49,IF(J50>0,J50,"")) | ... AG51: =IF(AG49>0,AG49,IF(AG50>0,AG50,"")) | AH51: =SUM(AH49:AH50) -> 0 | AI51: =SUM(AI49:AI50) -> 1 | AJ51: =SUM(AJ49:AJ50) -> 0 | AK51: =SUM(AK49:AK50) -> 0 | AL51: =SUM(AL49:AL50) -> 0 | AM51: =+Juin!AM51 -> 6.41 | AN51: =IF(A50="","",IF(A50>NomMois,0,IF(A50<$A$3,2.08,(NETWORKDAYS(A50,$A$2)/21.66667)*2.08))) -> 2.08 | AO51: =IF( AN51="",0,+AN51+Juillet!AO51) -> 6.24 | AQ51: =+AM51-AI51 -> 5.41 | AR51: =+AP51-AJ51 -> 0 | AS51: =+AO51+AQ51 -> 11.65
B53: Matin | C53: CP | D53: CP | E53: CP | F53: CP | I53: CP | J53: CP | K53: CP | L53: CP | M53: CP | AH53: =COUNTA(Août!$C53:$AG53) -> 9 | AI53: =(COUNTIFS(Août!$C53:$AG53,("cp")))/2+Juillet!AI53 -> 9 | AJ53: =COUNTIFS(Août!$C53:$AG53,"RTT")/2+Juillet!AJ53 -> 0 | AK53: =COUNTIFS(Août!$C53:$AG53,"m")/2+Juillet!AK53 -> 0 | AL53: =COUNTIFS(Août!$C53:$AG53,"a")/2+Juillet!AL53 -> 0
A54: 42660 | B54: A-M | C54: CP | D54: CP | E54: CP | F54: CP | I54: CP | J54: CP | K54: CP | L54: CP | M54: CP | AH54: =COUNTA(Août!$C54:$AG54) -> 9 | AI54: =(COUNTIFS(Août!$C54:$AG54,("cp")))/2+Juillet!AI54 -> 9 | AJ54: =COUNTIFS(Août!$C54:$AG54,"RTT")/2+Juillet!AJ54 -> 0 | AK54: =COUNTIFS(Août!$C54:$AG54,"m")/2+Juillet!AK54 -> 0 | AL54: =COUNTIFS(Août!$C54:$AG54,"a")/2+Juillet!AL54 -> 0
C55: =IF(C53>0,C53,IF(C54>0,C54,"")) -> CP | D55: =IF(D53>0,D53,IF(D54>0,D54,"")) -> CP | E55: =IF(E53>0,E53,IF(E54>0,E54,"")) -> CP | F55: =IF(F53>0,F53,IF(F54>0,F54,"")) -> CP | G55: =IF(G53>0,G53,IF(G54>0,G54,"")) | H55: =IF(H53>0,H53,IF(H54>0,H54,"")) | I55: =IF(I53>0,I53,IF(I54>0,I54,"")) -> CP | J55: =IF(J53>0,J53,IF(J54>0,J54,"")) -> CP | ... AG55: =IF(AG53>0,AG53,IF(AG54>0,AG54,"")) | AH55: =SUM(AH53:AH54) -> 18 | AI55: =SUM(AI53:AI54) -> 18 | AJ55: =SUM(AJ53:AJ54) -> 0 | AK55: =SUM(AK53:AK54) -> 0 | AL55: =SUM(AL53:AL54) -> 0 | AM55: =+Juin!AM55 -> 15.68 | AN55: =IF(A54="","",IF(A54>NomMois,0,IF(A54<$A$3,2.08,(NETWORKDAYS(A54,$A$2)/21.66667)*2.08))) -> 2.08 | AO55: =IF( AN55="",0,+AN55+Juillet!AO55) -> 6.24 | AQ55: =+AM55-AI55 -> -2.32 | AR55: =+AP55-AJ55 -> 0 | AS55: =+AO55+AQ55 -> 3.92
B57: Matin | AH57: =COUNTA(Août!$C57:$AG57) -> 0 | AI57: =(COUNTIFS(Août!$C57:$AG57,("cp")))/2+Juillet!AI57 -> 0 | AJ57: =COUNTIFS(Août!$C57:$AG57,"RTT")/2+Juillet!AJ57 -> 0 | AK57: =COUNTIFS(Août!$C57:$AG57,"m")/2+Juillet!AK57 -> 0 | AL57: =COUNTIFS(Août!$C57:$AG57,"a")/2+Juillet!AL57 -> 0
A58: 42975 | B58: A-M | AH58: =COUNTA(Août!$C58:$AG58) -> 0 | AI58: =(COUNTIFS(Août!$C58:$AG58,("cp")))/2+Juillet!AI58 -> 0 | AJ58: =COUNTIFS(Août!$C58:$AG58,"RTT")/2+Juillet!AJ58 -> 0 | AK58: =COUNTIFS(Août!$C58:$AG58,"m")/2+Juillet!AK58 -> 0 | AL58: =COUNTIFS(Août!$C58:$AG58,"a")/2+Juillet!AL58 -> 0
C59: =IF(C57>0,C57,IF(C58>0,C58,"")) | D59: =IF(D57>0,D57,IF(D58>0,D58,"")) | E59: =IF(E57>0,E57,IF(E58>0,E58,"")) | F59: =IF(F57>0,F57,IF(F58>0,F58,"")) | G59: =IF(G57>0,G57,IF(G58>0,G58,"")) | H59: =IF(H57>0,H57,IF(H58>0,H58,"")) | I59: =IF(I57>0,I57,IF(I58>0,I58,"")) | J59: =IF(J57>0,J57,IF(J58>0,J58,"")) | ... AG59: =IF(AG57>0,AG57,IF(AG58>0,AG58,"")) | AH59: =SUM(AH57:AH58) -> 0 | AI59: =SUM(AI57:AI58) -> 0 | AJ59: =SUM(AJ57:AJ58) -> 0 | AK59: =SUM(AK57:AK58) -> 0 | AL59: =SUM(AL57:AL58) -> 0 | AM59: 0 | AN59: =IF(A58="","",IF(A58>NomMois,0,IF(A58<$A$3,2.08,(NETWORKDAYS(A58,$A$2)/21.66667)*2.08))) -> 0.38399994 | AO59: =IF( AN59="",0,+AN59+Juillet!AO59) -> 0.38399994 | AQ59: =+AM59-AI59 -> 0 | AR59: =+AP59-AJ59 -> 0 | AS59: =+AO59+AQ59 -> 0.38399994
B61: Matin | AH61: =COUNTA(Août!$C61:$AG61) -> 0 | AI61: =(COUNTIFS(Août!$C61:$AG61,("cp")))/2+Juillet!AI61 -> 4 | AJ61: =COUNTIFS(Août!$C61:$AG61,"RTT")/2+Juillet!AJ61 -> 0 | AK61: =COUNTIFS(Août!$C61:$AG61,"m")/2+Juillet!AK61 -> 0 | AL61: =COUNTIFS(Août!$C61:$AG61,"a")/2+Juillet!AL61 -> 0
A62: 42646 | B62: A-M | AH62: =COUNTA(Août!$C62:$AG62) -> 0 | AI62: =(COUNTIFS(Août!$C62:$AG62,("cp")))/2+Juillet!AI62 -> 4 | AJ62: =COUNTIFS(Août!$C62:$AG62,"RTT")/2+Juillet!AJ62 -> 0 | AK62: =COUNTIFS(Août!$C62:$AG62,"m")/2+Juillet!AK62 -> 0 | AL62: =COUNTIFS(Août!$C62:$AG62,"a")/2+Juillet!AL62 -> 0
C63: =IF(C61>0,C61,IF(C62>0,C62,"")) | D63: =IF(D61>0,D61,IF(D62>0,D62,"")) | E63: =IF(E61>0,E61,IF(E62>0,E62,"")) | F63: =IF(F61>0,F61,IF(F62>0,F62,"")) | G63: =IF(G61>0,G61,IF(G62>0,G62,"")) | H63: =IF(H61>0,H61,IF(H62>0,H62,"")) | I63: =IF(I61>0,I61,IF(I62>0,I62,"")) | J63: =IF(J61>0,J61,IF(J62>0,J62,"")) | ... AG63: =IF(AG61>0,AG61,IF(AG62>0,AG62,"")) | AH63: =SUM(AH61:AH62) -> 0 | AI63: =SUM(AI61:AI62) -> 8 | AJ63: =SUM(AJ61:AJ62) -> 0 | AK63: =SUM(AK61:AK62) -> 0 | AL63: =SUM(AL61:AL62) -> 0 | AM63: =+Juin!AM63 -> 16.64 | AN63: =IF(A62="","",IF(A62>NomMois,0,IF(A62<$A$3,2.08,(NETWORKDAYS(A62,$A$2)/21.66667)*2.08))) -> 2.08 | AO63: =IF( AN63="",0,+AN63+Juillet!AO63) -> 6.24 | AQ63: =+AM63-AI63 -> 8.64 | AR63: =+AP63-AJ63 -> 0 | AS63: =+AO63+AQ63 -> 14.88
AH64: 0 | AI64: 0 | AJ64: 0 | AK64: 0 | AL64: 0
B65: Matin | AH65: =COUNTA(Août!$C65:$AG65) -> 0 | AI65: =(COUNTIFS(Août!$C65:$AG65,("cp")))/2+Juillet!AI65 -> 4.5 | AJ65: =COUNTIFS(Août!$C65:$AG65,"RTT")/2+Juillet!AJ65 -> 0 | AK65: =COUNTIFS(Août!$C65:$AG65,"m")/2+Juillet!AK65 -> 0 | AL65: =COUNTIFS(Août!$C65:$AG65,"a")/2+Juillet!AL65 -> 0
A66: 42410 | B66: A-M | AH66: =COUNTA(Août!$C66:$AG66) -> 0 | AI66: =(COUNTIFS(Août!$C66:$AG66,("cp")))/2+Juillet!AI66 -> 4.5 | AJ66: =COUNTIFS(Août!$C66:$AG66,"RTT")/2+Juillet!AJ66 -> 0 | AK66: =COUNTIFS(Août!$C66:$AG66,"m")/2+Juillet!AK66 -> 0 | AL66: =COUNTIFS(Août!$C66:$AG66,"a")/2+Juillet!AL66 -> 0
C67: =IF(C65>0,C65,IF(C66>0,C66,"")) | D67: =IF(D65>0,D65,IF(D66>0,D66,"")) | E67: =IF(E65>0,E65,IF(E66>0,E66,"")) | F67: =IF(F65>0,F65,IF(F66>0,F66,"")) | G67: =IF(G65>0,G65,IF(G66>0,G66,"")) | H67: =IF(H65>0,H65,IF(H66>0,H66,"")) | I67: =IF(I65>0,I65,IF(I66>0,I66,"")) | J67: =IF(J65>0,J65,IF(J66>0,J66,"")) | ... AG67: =IF(AG65>0,AG65,IF(AG66>0,AG66,"")) | AH67: =SUM(AH65:AH66) -> 0 | AI67: =SUM(AI65:AI66) -> 9 | AJ67: =SUM(AJ65:AJ66) -> 0 | AK67: =SUM(AK65:AK66) -> 0 | AL67: =SUM(AL65:AL66) -> 0 | AM67: =+Juin!AM67 -> 22.46 | AN67: =IF(A66="","",IF(A66>NomMois,0,IF(A66<$A$3,2.08,(NETWORKDAYS(A66,$A$2)/21.66667)*2.08))) -> 2.08 | AO67: =IF( AN67="",0,+AN67+Juillet!AO67) -> 6.24 | AQ67: =+AM67-AI67 -> 13.46 | AR67: =+AP67-AJ67 -> 0 | AS67: =+AO67+AQ67 -> 19.7
B69: Matin | C69: CP | D69: CP | E69: CP | F69: CP | I69: CP | J69: CP | K69: CP | L69: CP | M69: CP | P69: CP | R69: CP | S69: CP | T69: CP | W69: CP | X69: CP | Y69: CP | Z69: CP | AH69: =COUNTA(Août!$C69:$AG69) -> 17 | AI69: =(COUNTIFS(Août!$C69:$AG69,("cp")))/2+Juillet!AI69 -> 10 | AJ69: =COUNTIFS(Août!$C69:$AG69,"RTT")/2+Juillet!AJ69 -> 0 | AK69: =COUNTIFS(Août!$C69:$AG69,"m")/2+Juillet!AK69 -> 0 | AL69: =COUNTIFS(Août!$C69:$AG69,"a")/2+Juillet!AL69 -> 1
A70: 41701 | B70: A-M | C70: CP | D70: CP | E70: CP | F70: CP | I70: CP | J70: CP | K70: CP | L70: CP | M70: CP | P70: CP | R70: CP | S70: CP | T70: CP | W70: CP | X70: CP | Y70: CP | Z70: CP | AH70: =COUNTA(Août!$C70:$AG70) -> 17 | AI70: =(COUNTIFS(Août!$C70:$AG70,("cp")))/2+Juillet!AI70 -> 10 | AJ70: =COUNTIFS(Août!$C70:$AG70,"RTT")/2+Juillet!AJ70 -> 0 | AK70: =COUNTIFS(Août!$C70:$AG70,"m")/2+Juillet!AK70 -> 0 | AL70: =COUNTIFS(Août!$C70:$AG70,"a")/2+Juillet!AL70 -> 1
C71: =IF(C69>0,C69,IF(C70>0,C70,"")) -> CP | D71: =IF(D69>0,D69,IF(D70>0,D70,"")) -> CP | E71: =IF(E69>0,E69,IF(E70>0,E70,"")) -> CP | F71: =IF(F69>0,F69,IF(F70>0,F70,"")) -> CP | G71: =IF(G69>0,G69,IF(G70>0,G70,"")) | H71: =IF(H69>0,H69,IF(H70>0,H70,"")) | I71: =IF(I69>0,I69,IF(I70>0,I70,"")) -> CP | J71: =IF(J69>0,J69,IF(J70>0,J70,"")) -> CP | ... AD71: =IF(AD69>0,AD69,IF(AD70>0,AD70,"")) | AF71: =IF(AF69>0,AF69,IF(AF70>0,AF70,"")) | AG71: =IF(AG69>0,AG69,IF(AG70>0,AG70,"")) | AH71: =SUM(AH69:AH70) -> 34 | AI71: =SUM(AI69:AI70) -> 20 | AJ71: =SUM(AJ69:AJ70) -> 0 | AK71: =SUM(AK69:AK70) -> 0 | AL71: =SUM(AL69:AL70) -> 2 | AM71: =+Juin!AM71 -> 45.34 | AN71: =IF(A70="","",IF(A70>NomMois,0,IF(A70<$A$3,2.08,(NETWORKDAYS(A70,$A$2)/21.66667)*2.08))) -> 2.08 | AO71: =IF( AN71="",0,+AN71+Juillet!AO71) -> 6.24 | AQ71: =+AM71-AI71 -> 25.34 | AR71: =+AP71-AJ71 -> 0 | AS71: =+AO71+AQ71 -> 31.58
B73: Matin | AH73: =COUNTA(Août!$C73:$AG73) -> 0 | AI73: =(COUNTIFS(Août!$C73:$AG73,("cp")))/2+Juillet!AI73 -> 0 | AJ73: =COUNTIFS(Août!$C73:$AG73,"RTT")/2+Juillet!AJ73 -> 0 | AK73: =COUNTIFS(Août!$C73:$AG73,"m")/2+Juillet!AK73 -> 0 | AL73: =COUNTIFS(Août!$C73:$AG73,"a")/2+Juillet!AL73 -> 0
A74: 42979 | B74: A-M | AH74: =COUNTA(Août!$C74:$AG74) -> 0 | AI74: =(COUNTIFS(Août!$C74:$AG74,("cp")))/2+Juillet!AI74 -> 0 | AJ74: =COUNTIFS(Août!$C74:$AG74,"RTT")/2+Juillet!AJ74 -> 0 | AK74: =COUNTIFS(Août!$C74:$AG74,"m")/2+Juillet!AK74 -> 0 | AL74: =COUNTIFS(Août!$C74:$AG74,"a")/2+Juillet!AL74 -> 0
C75: =IF(C73>0,C73,IF(C74>0,C74,"")) | D75: =IF(D73>0,D73,IF(D74>0,D74,"")) | E75: =IF(E73>0,E73,IF(E74>0,E74,"")) | F75: =IF(F73>0,F73,IF(F74>0,F74,"")) | G75: =IF(G73>0,G73,IF(G74>0,G74,"")) | H75: =IF(H73>0,H73,IF(H74>0,H74,"")) | I75: =IF(I73>0,I73,IF(I74>0,I74,"")) | J75: =IF(J73>0,J73,IF(J74>0,J74,"")) | ... AG75: =IF(AG73>0,AG73,IF(AG74>0,AG74,"")) | AH75: =SUM(AH73:AH74) -> 0 | AI75: =SUM(AI73:AI74) -> 0 | AJ75: =SUM(AJ73:AJ74) -> 0 | AK75: =SUM(AK73:AK74) -> 0 | AL75: =SUM(AL73:AL74) -> 0 | AM75: =+Juin!AM75 -> 0 | AN75: =IF(A74="","",IF(A74>NomMois,0,IF(A74<$A$3,2.08,(NETWORKDAYS(A74,$A$2)/21.66667)*2.08))) -> 0 | AO75: =IF( AN75="",0,+AN75+Juillet!AO75) -> 0 | AQ75: =+AM75-AI75 -> 0 | AR75: =+AP75-AJ75 -> 0 | AS75: =+AO75+AQ75 -> 0
B77: Matin | AH77: =COUNTA(Août!$C77:$AG77) -> 0 | AI77: =(COUNTIFS(Août!$C77:$AG77,("cp")))/2+Juillet!AI77 -> 0 | AJ77: =COUNTIFS(Août!$C77:$AG77,"RTT")/2+Juillet!AJ77 -> 0 | AK77: =COUNTIFS(Août!$C77:$AG77,"m")/2+Juillet!AK77 -> 0 | AL77: =COUNTIFS(Août!$C77:$AG77,"a")/2+Juillet!AL77 -> 0
A78: 43059 | B78: A-M | AH78: =COUNTA(Août!$C78:$AG78) -> 0 | AI78: =(COUNTIFS(Août!$C78:$AG78,("cp")))/2+Juillet!AI78 -> 0 | AJ78: =COUNTIFS(Août!$C78:$AG78,"RTT")/2+Juillet!AJ78 -> 0 | AK78: =COUNTIFS(Août!$C78:$AG78,"m")/2+Juillet!AK78 -> 0 | AL78: =COUNTIFS(Août!$C78:$AG78,"a")/2+Juillet!AL78 -> 0
C79: =IF(C77>0,C77,IF(C78>0,C78,"")) | D79: =IF(D77>0,D77,IF(D78>0,D78,"")) | E79: =IF(E77>0,E77,IF(E78>0,E78,"")) | F79: =IF(F77>0,F77,IF(F78>0,F78,"")) | G79: =IF(G77>0,G77,IF(G78>0,G78,"")) | H79: =IF(H77>0,H77,IF(H78>0,H78,"")) | I79: =IF(I77>0,I77,IF(I78>0,I78,"")) | J79: =IF(J77>0,J77,IF(J78>0,J78,"")) | ... AG79: =IF(AG77>0,AG77,IF(AG78>0,AG78,"")) | AH79: =SUM(AH77:AH78) -> 0 | AI79: =SUM(AI77:AI78) -> 0 | AJ79: =SUM(AJ77:AJ78) -> 0 | AK79: =SUM(AK77:AK78) -> 0 | AL79: =SUM(AL77:AL78) -> 0 | AM79: =+Juin!AM79 -> 0 | AN79: =IF(A78="","",IF(A78>NomMois,0,IF(A78<$A$3,2.08,(NETWORKDAYS(A78,$A$2)/21.66667)*2.08))) -> 0 | AO79: =IF( AN79="",0,+AN79+Juillet!AO79) -> 0 | AQ79: =+AM79-AI79 -> 0 | AR79: =+AP79-AJ79 -> 0 | AS79: =+AO79+AQ79 -> 0
B81: Matin | AH81: =COUNTA(Août!$C81:$AG81) -> 0 | AI81: =(COUNTIFS(Août!$C81:$AG81,("cp")))/2+Juillet!AI81 -> 0 | AJ81: =COUNTIFS(Août!$C81:$AG81,"RTT")/2+Juillet!AJ81 -> 0 | AK81: =COUNTIFS(Août!$C81:$AG81,"m")/2+Juillet!AK81 -> 0 | AL81: =COUNTIFS(Août!$C81:$AG81,"a")/2+Juillet!AL81 -> 0
A82: 42506 | B82: A-M | AH82: =COUNTA(Août!$C82:$AG82) -> 0 | AI82: =(COUNTIFS(Août!$C82:$AG82,("cp")))/2+Juillet!AI82 -> 0 | AJ82: =COUNTIFS(Août!$C82:$AG82,"RTT")/2+Juillet!AJ82 -> 0 | AK82: =COUNTIFS(Août!$C82:$AG82,"m")/2+Juillet!AK82 -> 0 | AL82: =COUNTIFS(Août!$C82:$AG82,"a")/2+Juillet!AL82 -> 0
C83: =IF(C81>0,C81,IF(C82>0,C82,"")) | D83: =IF(D81>0,D81,IF(D82>0,D82,"")) | E83: =IF(E81>0,E81,IF(E82>0,E82,"")) | F83: =IF(F81>0,F81,IF(F82>0,F82,"")) | G83: =IF(G81>0,G81,IF(G82>0,G82,"")) | H83: =IF(H81>0,H81,IF(H82>0,H82,"")) | I83: =IF(I81>0,I81,IF(I82>0,I82,"")) | J83: =IF(J81>0,J81,IF(J82>0,J82,"")) | ... AG83: =IF(AG81>0,AG81,IF(AG82>0,AG82,"")) | AH83: =SUM(AH81:AH82) -> 0 | AI83: =SUM(AI81:AI82) -> 0 | AJ83: =SUM(AJ81:AJ82) -> 0 | AK83: =SUM(AK81:AK82) -> 0 | AL83: =SUM(AL81:AL82) -> 0 | AM83: =+Juin!AM83 -> -9.98 | AN83: =IF(A82="","",IF(A82>NomMois,0,IF(A82<$A$3,2.08,(NETWORKDAYS(A82,$A$2)/21.66667)*2.08))) -> 2.08 | AO83: =IF( AN83="",0,+AN83+Juillet!AO83) -> 6.24 | AQ83: =+AM83-AI83 -> -9.98 | AR83: =+AP83-AJ83 -> 0 | AS83: =+AO83+AQ83 -> -3.74
B85: Matin | C85: cp | D85: cp | E85: cp | F85: cp | I85: cp | J85: cp | K85: cp | L85: cp | M85: cp | AH85: =COUNTA(Août!$C85:$AG85) -> 9 | AI85: =(COUNTIFS(Août!$C85:$AG85,("cp")))/2+Juillet!AI85 -> 10.5 | AJ85: =COUNTIFS(Août!$C85:$AG85,"RTT")/2+Juillet!AJ85 -> 0 | AK85: =COUNTIFS(Août!$C85:$AG85,"m")/2+Juillet!AK85 -> 0 | AL85: =COUNTIFS(Août!$C85:$AG85,"a")/2+Juillet!AL85 -> 0
A86: 42303 | B86: A-M | C86: cp | D86: cp | E86: cp | F86: cp | I86: cp | J86: cp | K86: cp | L86: cp | M86: cp | AH86: =COUNTA(Août!$C86:$AG86) -> 9 | AI86: =(COUNTIFS(Août!$C86:$AG86,("cp")))/2+Juillet!AI86 -> 10.5 | AJ86: =COUNTIFS(Août!$C86:$AG86,"RTT")/2+Juillet!AJ86 -> 0 | AK86: =COUNTIFS(Août!$C86:$AG86,"m")/2+Juillet!AK86 -> 0 | AL86: =COUNTIFS(Août!$C86:$AG86,"a")/2+Juillet!AL86 -> 0
C87: =IF(C85>0,C85,IF(C86>0,C86,"")) -> cp | D87: =IF(D85>0,D85,IF(D86>0,D86,"")) -> cp | E87: =IF(E85>0,E85,IF(E86>0,E86,"")) -> cp | F87: =IF(F85>0,F85,IF(F86>0,F86,"")) -> cp | G87: =IF(G85>0,G85,IF(G86>0,G86,"")) | H87: =IF(H85>0,H85,IF(H86>0,H86,"")) | I87: =IF(I85>0,I85,IF(I86>0,I86,"")) -> cp | J87: =IF(J85>0,J85,IF(J86>0,J86,"")) -> cp | ... AG87: =IF(AG85>0,AG85,IF(AG86>0,AG86,"")) | AH87: =SUM(AH85:AH86) -> 18 | AI87: =SUM(AI85:AI86) -> 21 | AJ87: =SUM(AJ85:AJ86) -> 0 | AK87: =SUM(AK85:AK86) -> 0 | AL87: =SUM(AL85:AL86) -> 0 | AM87: =+Juin!AM87 -> 12.02 | AN87: =IF(A86="","",IF(A86>NomMois,0,IF(A86<$A$3,2.5,(NETWORKDAYS(A86,$A$2)/21.66667)*2.5))) -> 2.5 | AO87: =IF( AN87="",0,+AN87+Juillet!AO87) -> 7.5 | AQ87: =+AM87-AI87 -> -8.98 | AR87: =+AP87-AJ87 -> 0 | AS87: =+AO87+AQ87 -> -1.48
B89: Matin | C89: CP | D89: CP | E89: CP | F89: CP | I89: CP | J89: CP | K89: CP | L89: CP | M89: CP | P89: CP | Q89: CP | R89: CP | S89: CP | T89: CP | W89: CP | X89: CP | Y89: CP | Z89: CP | AA89: CP | AD89: CP | AE89: CP | AF89: CP | AG89: CP | AH89: =COUNTA(Août!$C89:$AG89) -> 23 | AI89: =(COUNTIFS(Août!$C89:$AG89,("cp")))/2+Juillet!AI89 -> 11.5 | AJ89: =COUNTIFS(Août!$C89:$AG89,"RTT")/2+Juillet!AJ89 -> 0 | AK89: =COUNTIFS(Août!$C89:$AG89,"m")/2+Juillet!AK89 -> 0 | AL89: =COUNTIFS(Août!$C89:$AG89,"a")/2+Juillet!AL89 -> 0
A90: 42303 | B90: A-M | C90: CP | D90: CP | E90: CP | F90: CP | I90: CP | J90: CP | K90: CP | L90: CP | M90: CP | P90: CP | Q90: CP | R90: CP | S90: CP | T90: CP | W90: CP | X90: CP | Y90: CP | Z90: CP | AA90: CP | AD90: CP | AE90: CP | AF90: CP | AG90: CP | AH90: =COUNTA(Août!$C90:$AG90) -> 23 | AI90: =(COUNTIFS(Août!$C90:$AG90,("cp")))/2+Juillet!AI90 -> 11.5 | AJ90: =COUNTIFS(Août!$C90:$AG90,"RTT")/2+Juillet!AJ90 -> 0 | AK90: =COUNTIFS(Août!$C90:$AG90,"m")/2+Juillet!AK90 -> 0 | AL90: =COUNTIFS(Août!$C90:$AG90,"a")/2+Juillet!AL90 -> 0
C91: =IF(C89>0,C89,IF(C90>0,C90,"")) -> CP | D91: =IF(D89>0,D89,IF(D90>0,D90,"")) -> CP | E91: =IF(E89>0,E89,IF(E90>0,E90,"")) -> CP | F91: =IF(F89>0,F89,IF(F90>0,F90,"")) -> CP | G91: =IF(G89>0,G89,IF(G90>0,G90,"")) | H91: =IF(H89>0,H89,IF(H90>0,H90,"")) | I91: =IF(I89>0,I89,IF(I90>0,I90,"")) -> CP | J91: =IF(J89>0,J89,IF(J90>0,J90,"")) -> CP | ... AG91: =IF(AG89>0,AG89,IF(AG90>0,AG90,"")) -> CP | AH91: =SUM(AH89:AH90) -> 46 | AI91: =SUM(AI89:AI90) -> 23 | AJ91: =SUM(AJ89:AJ90) -> 0 | AK91: =SUM(AK89:AK90) -> 0 | AL91: =SUM(AL89:AL90) -> 0 | AM91: =+Juin!AM91 -> -0.82 | AN91: =IF(A90="","",IF(A90>NomMois,0,IF(A90<$A$3,2.5,(NETWORKDAYS(A90,$A$2)/21.66667)*2.5))) -> 2.5 | AO91: =IF( AN91="",0,+AN91+Juillet!AO91) -> 7.5 | AQ91: =+AM91-AI91 -> -23.82 | AR91: =+AP91-AJ91 -> 0 | AS91: =+AO91+AQ91 -> -16.32
B93: Matin | C93: M | D93: M | E93: M | F93: M | I93: M | J93: M | K93: M | AH93: =COUNTA(Août!$C93:$AG93) -> 7 | AI93: =(COUNTIFS(Août!$C93:$AG93,("cp")))/2+Juillet!AI93 -> 0 | AJ93: =COUNTIFS(Août!$C93:$AG93,"RTT")/2+Juillet!AJ93 -> 0 | AK93: =COUNTIFS(Août!$C93:$AG93,"m")/2+Juillet!AK93 -> 5 | AL93: =COUNTIFS(Août!$C93:$AG93,"a")/2+Juillet!AL93 -> 0
A94: 42921 | B94: A-M | C94: M | D94: M | E94: M | F94: M | I94: M | J94: M | K94: M | AH94: =COUNTA(Août!$C94:$AG94) -> 7 | AI94: =(COUNTIFS(Août!$C94:$AG94,("cp")))/2+Juillet!AI94 -> 0 | AJ94: =COUNTIFS(Août!$C94:$AG94,"RTT")/2+Juillet!AJ94 -> 0 | AK94: =COUNTIFS(Août!$C94:$AG94,"m")/2+Juillet!AK94 -> 5 | AL94: =COUNTIFS(Août!$C94:$AG94,"a")/2+Juillet!AL94 -> 0
C95: =IF(C93>0,C93,IF(C94>0,C94,"")) -> M | D95: =IF(D93>0,D93,IF(D94>0,D94,"")) -> M | E95: =IF(E93>0,E93,IF(E94>0,E94,"")) -> M | F95: =IF(F93>0,F93,IF(F94>0,F94,"")) -> M | G95: =IF(G93>0,G93,IF(G94>0,G94,"")) | H95: =IF(H93>0,H93,IF(H94>0,H94,"")) | I95: =IF(I93>0,I93,IF(I94>0,I94,"")) -> M | J95: =IF(J93>0,J93,IF(J94>0,J94,"")) -> M | ... AG95: =IF(AG93>0,AG93,IF(AG94>0,AG94,"")) | AH95: =SUM(AH93:AH94) -> 14 | AI95: =SUM(AI93:AI94) -> 0 | AJ95: =SUM(AJ93:AJ94) -> 0 | AK95: =SUM(AK93:AK94) -> 10 | AL95: =SUM(AL93:AL94) -> 0 | AM95: =+Juin!AM95 -> 0 | AN95: =IF(A94="","",IF(A94>NomMois,0,IF(A94<$A$3,2.08,(NETWORKDAYS(A94,$A$2)/21.66667)*2.08))) -> 2.08 | AO95: =IF( AN95="",0,+AN95+Juillet!AO95) -> 3.9039997 | AQ95: =+AM95-AI95 -> 0 | AR95: =+AP95-AJ95 -> 0 | AS95: =+AO95+AQ95 -> 3.9039997
B97: Matin | C97: CP | D97: CP | E97: CP | F97: CP | I97: CP | J97: CP | K97: CP | L97: CP | M97: CP | AH97: =COUNTA(Août!$C97:$AG97) -> 9 | AI97: =(COUNTIFS(Août!$C97:$AG97,("cp")))/2+Juillet!AI97 -> 11.5 | AJ97: =COUNTIFS(Août!$C97:$AG97,"RTT")/2+Juillet!AJ97 -> 0 | AK97: =COUNTIFS(Août!$C97:$AG97,"m")/2+Juillet!AK97 -> 0 | AL97: =COUNTIFS(Août!$C97:$AG97,"a")/2+Juillet!AL97 -> 0
A98: 42736 | B98: A-M | C98: CP | D98: CP | E98: CP | F98: CP | I98: CP | J98: CP | K98: CP | L98: CP | M98: CP | AH98: =COUNTA(Août!$C98:$AG98) -> 9 | AI98: =(COUNTIFS(Août!$C98:$AG98,("cp")))/2+Juillet!AI98 -> 11.5 | AJ98: =COUNTIFS(Août!$C98:$AG98,"RTT")/2+Juillet!AJ98 -> 0 | AK98: =COUNTIFS(Août!$C98:$AG98,"m")/2+Juillet!AK98 -> 0 | AL98: =COUNTIFS(Août!$C98:$AG98,"a")/2+Juillet!AL98 -> 0
C99: =IF(C97>0,C97,IF(C98>0,C98,"")) -> CP | D99: =IF(D97>0,D97,IF(D98>0,D98,"")) -> CP | E99: =IF(E97>0,E97,IF(E98>0,E98,"")) -> CP | F99: =IF(F97>0,F97,IF(F98>0,F98,"")) -> CP | G99: =IF(G97>0,G97,IF(G98>0,G98,"")) | H99: =IF(H97>0,H97,IF(H98>0,H98,"")) | I99: =IF(I97>0,I97,IF(I98>0,I98,"")) -> CP | J99: =IF(J97>0,J97,IF(J98>0,J98,"")) -> CP | ... W99: =IF(W97>0,W97,IF(W98>0,W98,"")) | Z99: =IF(Z97>0,Z97,IF(Z98>0,Z98,"")) | AA99: =IF(AA97>0,AA97,IF(AA98>0,AA98,"")) | AB99: =IF(AB97>0,AB97,IF(AB98>0,AB98,"")) | AC99: =IF(AC97>0,AC97,IF(AC98>0,AC98,"")) | AD99: =IF(AD97>0,AD97,IF(AD98>0,AD98,"")) | AE99: =IF(AE97>0,AE97,IF(AE98>0,AE98,"")) | AG99: =IF(AG97>0,AG97,IF(AG98>0,AG98,"")) | AH99: =SUM(AH97:AH98) -> 18 | AI99: =SUM(AI97:AI98) -> 23 | AJ99: =SUM(AJ97:AJ98) -> 0 | AK99: =SUM(AK97:AK98) -> 0 | AL99: =SUM(AL97:AL98) -> 0 | AM99: =+Juin!AM99 -> 5.41 | AN99: =IF(A98="","",IF(A98>NomMois,0,IF(A98<$A$3,2.08,(NETWORKDAYS(A98,$A$2)/21.66667)*2.08))) -> 2.08 | AO99: =IF( AN99="",0,+AN99+Juillet!AO99) -> 6.24 | AQ99: =+AM99-AI99 -> -17.59 | AR99: =+AP99-AJ99 -> 0 | AS99: =+AO99+AQ99 -> -11.35
B101: Matin | C101: CP | D101: CP | E101: CP | F101: CP | AH101: =COUNTA(Août!$C101:$AG101) -> 4 | AI101: =(COUNTIFS(Août!$C101:$AG101,("cp")))/2+Juillet!AI101 -> 2 | AJ101: =COUNTIFS(Août!$C101:$AG101,"RTT")/2+Juillet!AJ101 -> 0 | AK101: =COUNTIFS(Août!$C101:$AG101,"m")/2+Juillet!AK101 -> 0 | AL101: =COUNTIFS(Août!$C101:$AG101,"a")/2+Juillet!AL101 -> 0
A102: 42814 | B102: A-M | C102: CP | D102: CP | E102: CP | F102: CP | AH102: =COUNTA(Août!$C102:$AG102) -> 4 | AI102: =(COUNTIFS(Août!$C102:$AG102,("cp")))/2+Juillet!AI102 -> 2 | AJ102: =COUNTIFS(Août!$C102:$AG102,"RTT")/2+Juillet!AJ102 -> 0 | AK102: =COUNTIFS(Août!$C102:$AG102,"m")/2+Juillet!AK102 -> 0 | AL102: =COUNTIFS(Août!$C102:$AG102,"a")/2+Juillet!AL102 -> 0
C103: =IF(C101>0,C101,IF(C102>0,C102,"")) -> CP | D103: =IF(D101>0,D101,IF(D102>0,D102,"")) -> CP | E103: =IF(E101>0,E101,IF(E102>0,E102,"")) -> CP | F103: =IF(F101>0,F101,IF(F102>0,F102,"")) -> CP | G103: =IF(G101>0,G101,IF(G102>0,G102,"")) | H103: =IF(H101>0,H101,IF(H102>0,H102,"")) | I103: =IF(I101>0,I101,IF(I102>0,I102,"")) | J103: =IF(J101>0,J101,IF(J102>0,J102,"")) | ... AG103: =IF(AG101>0,AG101,IF(AG102>0,AG102,"")) | AH103: =SUM(AH101:AH102) -> 8 | AI103: =SUM(AI101:AI102) -> 4 | AJ103: =SUM(AJ101:AJ102) -> 0 | AK103: =SUM(AK101:AK102) -> 0 | AL103: =SUM(AL101:AL102) -> 0 | AM103: =+Juin!AM103 -> 2.65 | AN103: =IF(A102="","",IF(A102>NomMois,0,IF(A102<$A$3,2.08,(NETWORKDAYS(A102,$A$2)/21.66667)*2.08))) -> 2.08 | AO103: =IF( AN103="",0,+AN103+Juillet!AO103) -> 6.24 | AQ103: =+AM103-AI103 -> -1.35 | AR103: =+AP103-AJ103 -> 0 | AS103: =+AO103+AQ103 -> 4.89
B105: Matin | AH105: =COUNTA(Août!$C105:$AG105) -> 0 | AI105: =(COUNTIFS(Août!$C105:$AG105,("cp")))/2+Juillet!AI105 -> 0 | AJ105: =COUNTIFS(Août!$C105:$AG105,"RTT")/2+Juillet!AJ105 -> 0 | AK105: =COUNTIFS(Août!$C105:$AG105,"m")/2+Juillet!AK105 -> 0 | AL105: =COUNTIFS(Août!$C105:$AG105,"a")/2+Juillet!AL105 -> 0
A106: 43037 | B106: A-M | AH106: =COUNTA(Août!$C106:$AG106) -> 0 | AI106: =(COUNTIFS(Août!$C106:$AG106,("cp")))/2+Juillet!AI106 -> 0 | AJ106: =COUNTIFS(Août!$C106:$AG106,"RTT")/2+Juillet!AJ106 -> 0 | AK106: =COUNTIFS(Août!$C106:$AG106,"m")/2+Juillet!AK106 -> 0 | AL106: =COUNTIFS(Août!$C106:$AG106,"a")/2+Juillet!AL106 -> 0
C107: =IF(C105>0,C105,IF(C106>0,C106,"")) | D107: =IF(D105>0,D105,IF(D106>0,D106,"")) | E107: =IF(E105>0,E105,IF(E106>0,E106,"")) | F107: =IF(F105>0,F105,IF(F106>0,F106,"")) | G107: =IF(G105>0,G105,IF(G106>0,G106,"")) | H107: =IF(H105>0,H105,IF(H106>0,H106,"")) | I107: =IF(I105>0,I105,IF(I106>0,I106,"")) | J107: =IF(J105>0,J105,IF(J106>0,J106,"")) | ... AG107: =IF(AG105>0,AG105,IF(AG106>0,AG106,"")) | AH107: =SUM(AH105:AH106) -> 0 | AI107: =SUM(AI105:AI106) -> 0 | AJ107: =SUM(AJ105:AJ106) -> 0 | AK107: =SUM(AK105:AK106) -> 0 | AL107: =SUM(AL105:AL106) -> 0 | AM107: 0 | AN107: =IF(A106="","",IF(A106>NomMois,0,IF(A106<$A$3,2.08,(NETWORKDAYS(A106,$A$2)/21.66667)*2.08))) -> 0 | AO107: =IF( AN107="",0,+AN107+Juillet!AO107) -> 0 | AQ107: =+AM107-AI107 -> 0 | AR107: =+AP107-AJ107 -> 0 | AS107: =+AO107+AQ107 -> 0
B109: Matin | AH109: =COUNTA(Août!$C109:$AG109) -> 0 | AI109: =(COUNTIFS(Août!$C109:$AG109,("cp")))/2+Juillet!AI109 -> 0 | AJ109: =COUNTIFS(Août!$C109:$AG109,"RTT")/2+Juillet!AJ109 -> 0 | AK109: =COUNTIFS(Août!$C109:$AG109,"m")/2+Juillet!AK109 -> 0 | AL109: =COUNTIFS(Août!$C109:$AG109,"a")/2+Juillet!AL109 -> 0
A110: 42991 | B110: A-M | AH110: =COUNTA(Août!$C110:$AG110) -> 0 | AI110: =(COUNTIFS(Août!$C110:$AG110,("cp")))/2+Juillet!AI110 -> 0 | AJ110: =COUNTIFS(Août!$C110:$AG110,"RTT")/2+Juillet!AJ110 -> 0 | AK110: =COUNTIFS(Août!$C110:$AG110,"m")/2+Juillet!AK110 -> 0 | AL110: =COUNTIFS(Août!$C110:$AG110,"a")/2+Juillet!AL110 -> 0
C111: =IF(C109>0,C109,IF(C110>0,C110,"")) | D111: =IF(D109>0,D109,IF(D110>0,D110,"")) | E111: =IF(E109>0,E109,IF(E110>0,E110,"")) | F111: =IF(F109>0,F109,IF(F110>0,F110,"")) | G111: =IF(G109>0,G109,IF(G110>0,G110,"")) | H111: =IF(H109>0,H109,IF(H110>0,H110,"")) | I111: =IF(I109>0,I109,IF(I110>0,I110,"")) | J111: =IF(J109>0,J109,IF(J110>0,J110,"")) | ... AG111: =IF(AG109>0,AG109,IF(AG110>0,AG110,"")) | AH111: =SUM(AH109:AH110) -> 0 | AI111: =SUM(AI109:AI110) -> 0 | AJ111: =SUM(AJ109:AJ110) -> 0 | AK111: =SUM(AK109:AK110) -> 0 | AL111: =SUM(AL109:AL110) -> 0 | AM111: 0 | AN111: =IF(A110="","",IF(A110>NomMois,0,IF(A110<$A$3,2.08,(NETWORKDAYS(A110,$A$2)/21.66667)*2.08))) -> 0 | AO111: =IF( AN111="",0,+AN111+Juillet!AO111) -> 0 | AQ111: =+AM111-AI111 -> 0 | AR111: =+AP111-AJ111 -> 0 | AS111: =+AO111+AQ111 -> 0
B113: Matin | AH113: =COUNTA(Août!$C113:$AG113) -> 0 | AI113: =(COUNTIFS(Août!$C113:$AG113,("cp")))/2+Juillet!AI113 -> 0 | AJ113: =COUNTIFS(Août!$C113:$AG113,"RTT")/2+Juillet!AJ113 -> 0 | AK113: =COUNTIFS(Août!$C113:$AG113,"m")/2+Juillet!AK113 -> 0 | AL113: =COUNTIFS(Août!$C113:$AG113,"a")/2+Juillet!AL113 -> 0
A114: 43052 | B114: A-M | AH114: =COUNTA(Août!$C114:$AG114) -> 0 | AI114: =(COUNTIFS(Août!$C114:$AG114,("cp")))/2+Juillet!AI114 -> 0 | AJ114: =COUNTIFS(Août!$C114:$AG114,"RTT")/2+Juillet!AJ114 -> 0 | AK114: =COUNTIFS(Août!$C114:$AG114,"m")/2+Juillet!AK114 -> 0 | AL114: =COUNTIFS(Août!$C114:$AG114,"a")/2+Juillet!AL114 -> 0
C115: =IF(C113>0,C113,IF(C114>0,C114,"")) | D115: =IF(D113>0,D113,IF(D114>0,D114,"")) | E115: =IF(E113>0,E113,IF(E114>0,E114,"")) | F115: =IF(F113>0,F113,IF(F114>0,F114,"")) | G115: =IF(G113>0,G113,IF(G114>0,G114,"")) | H115: =IF(H113>0,H113,IF(H114>0,H114,"")) | I115: =IF(I113>0,I113,IF(I114>0,I114,"")) | J115: =IF(J113>0,J113,IF(J114>0,J114,"")) | ... W115: =IF(W113>0,W113,IF(W114>0,W114,"")) | Z115: =IF(Z113>0,Z113,IF(Z114>0,Z114,"")) | AA115: =IF(AA113>0,AA113,IF(AA114>0,AA114,"")) | AB115: =IF(AB113>0,AB113,IF(AB114>0,AB114,"")) | AC115: =IF(AC113>0,AC113,IF(AC114>0,AC114,"")) | AD115: =IF(AD113>0,AD113,IF(AD114>0,AD114,"")) | AE115: =IF(AE113>0,AE113,IF(AE114>0,AE114,"")) | AG115: =IF(AG113>0,AG113,IF(AG114>0,AG114,"")) | AH115: =SUM(AH113:AH114) -> 0 | AI115: =SUM(AI113:AI114) -> 0 | AJ115: =SUM(AJ113:AJ114) -> 0 | AK115: =SUM(AK113:AK114) -> 0 | AL115: =SUM(AL113:AL114) -> 0 | AM115: 0 | AN115: =IF(A114="","",IF(A114>NomMois,0,IF(A114<$A$3,2.08,(NETWORKDAYS(A114,$A$2)/21.66667)*2.08))) -> 0 | AO115: =IF( AN115="",0,+AN115+Juillet!AO115) -> 0 | AQ115: =+AM115-AI115 -> 0 | AR115: =+AP115-AJ115 -> 0 | AS115: =+AO115+AQ115 -> 0
B117: Matin | AH117: =COUNTA(Août!$C117:$AG117) -> 0 | AI117: =(COUNTIFS(Août!$C117:$AG117,("cp")))/2+Juillet!AI117 -> 0 | AJ117: =COUNTIFS(Août!$C117:$AG117,"RTT")/2+Juillet!AJ117 -> 0 | AK117: =COUNTIFS(Août!$C117:$AG117,"m")/2+Juillet!AK117 -> 0 | AL117: =COUNTIFS(Août!$C117:$AG117,"a")/2+Juillet!AL117 -> 0
B118: A-M | AH118: =COUNTA(Août!$C118:$AG118) -> 0 | AI118: =(COUNTIFS(Août!$C118:$AG118,("cp")))/2+Juillet!AI118 -> 0 | AJ118: =COUNTIFS(Août!$C118:$AG118,"RTT")/2+Juillet!AJ118 -> 0 | AK118: =COUNTIFS(Août!$C118:$AG118,"m")/2+Juillet!AK118 -> 0 | AL118: =COUNTIFS(Août!$C118:$AG118,"a")/2+Juillet!AL118 -> 0
C119: =IF(C117>0,C117,IF(C118>0,C118,"")) | D119: =IF(D117>0,D117,IF(D118>0,D118,"")) | E119: =IF(E117>0,E117,IF(E118>0,E118,"")) | F119: =IF(F117>0,F117,IF(F118>0,F118,"")) | G119: =IF(G117>0,G117,IF(G118>0,G118,"")) | H119: =IF(H117>0,H117,IF(H118>0,H118,"")) | I119: =IF(I117>0,I117,IF(I118>0,I118,"")) | J119: =IF(J117>0,J117,IF(J118>0,J118,"")) | ... W119: =IF(W117>0,W117,IF(W118>0,W118,"")) | Z119: =IF(Z117>0,Z117,IF(Z118>0,Z118,"")) | AA119: =IF(AA117>0,AA117,IF(AA118>0,AA118,"")) | AB119: =IF(AB117>0,AB117,IF(AB118>0,AB118,"")) | AC119: =IF(AC117>0,AC117,IF(AC118>0,AC118,"")) | AD119: =IF(AD117>0,AD117,IF(AD118>0,AD118,"")) | AE119: =IF(AE117>0,AE117,IF(AE118>0,AE118,"")) | AG119: =IF(AG117>0,AG117,IF(AG118>0,AG118,"")) | AH119: =SUM(AH117:AH118) -> 0 | AI119: =SUM(AI117:AI118) -> 0 | AJ119: =SUM(AJ117:AJ118) -> 0 | AK119: =SUM(AK117:AK118) -> 0 | AL119: =SUM(AL117:AL118) -> 0 | AM119: 0 | AN119: =IF(A118="","",IF(A118>NomMois,0,IF(A118<$A$3,2.08,(NETWORKDAYS(A118,$A$2)/21.66667)*2.08))) | AO119: =IF( AN119="",0,+AN119+Juillet!AO119) -> 0 | AQ119: =+AM119-AI119 -> 0 | AR119: =+AP119-AJ119 -> 0 | AS119: =+AO119+AQ119 -> 0
B121: Matin | AH121: =COUNTA(Août!$C121:$AG121) -> 0 | AI121: =(COUNTIFS(Août!$C121:$AG121,("cp")))/2+Juillet!AI121 -> 0 | AJ121: =COUNTIFS(Août!$C121:$AG121,"RTT")/2+Juillet!AJ121 -> 0 | AK121: =COUNTIFS(Août!$C121:$AG121,"m")/2+Juillet!AK121 -> 0 | AL121: =COUNTIFS(Août!$C121:$AG121,"a")/2+Juillet!AL121 -> 0
B122: A-M | AH122: =COUNTA(Août!$C122:$AG122) -> 0 | AI122: =(COUNTIFS(Août!$C122:$AG122,("cp")))/2+Juillet!AI122 -> 0 | AJ122: =COUNTIFS(Août!$C122:$AG122,"RTT")/2+Juillet!AJ122 -> 0 | AK122: =COUNTIFS(Août!$C122:$AG122,"m")/2+Juillet!AK122 -> 0 | AL122: =COUNTIFS(Août!$C122:$AG122,"a")/2+Juillet!AL122 -> 0
C123: =IF(C121>0,C121,IF(C122>0,C122,"")) | D123: =IF(D121>0,D121,IF(D122>0,D122,"")) | E123: =IF(E121>0,E121,IF(E122>0,E122,"")) | F123: =IF(F121>0,F121,IF(F122>0,F122,"")) | G123: =IF(G121>0,G121,IF(G122>0,G122,"")) | H123: =IF(H121>0,H121,IF(H122>0,H122,"")) | I123: =IF(I121>0,I121,IF(I122>0,I122,"")) | J123: =IF(J121>0,J121,IF(J122>0,J122,"")) | ... AG123: =IF(AG121>0,AG121,IF(AG122>0,AG122,"")) | AH123: =SUM(AH121:AH122) -> 0 | AI123: =SUM(AI121:AI122) -> 0 | AJ123: =SUM(AJ121:AJ122) -> 0 | AK123: =SUM(AK121:AK122) -> 0 | AL123: =SUM(AL121:AL122) -> 0 | AM123: 0 | AN123: =IF(A122="","",IF(A122>NomMois,0,IF(A122<$A$3,2.08,(NETWORKDAYS(A122,$A$2)/21.66667)*2.08))) | AO123: =IF( AN123="",0,+AN123+Juillet!AO123) -> 0 | AQ123: =+AM123-AI123 -> 0 | AR123: =+AP123-AJ123 -> 0 | AS123: =+AO123+AQ123 -> 0
A127: X | C127: Clé de couleur | H127: CP | I127: Congés | L127: RTT | M127: RTT | P127: M | Q127: Maladie | T127: A | U127: Absence injustifiée | Z127: Personnalisé 2

Sheet Septembre
A1: Planification des absences des employés
A2: 43008 | C2: Dates d’absence | AH2: 2017 | AI2: Nombre de jours pris | AM2: Nombre de Jours acquis | AQ2: Solde
A3: 42979 | C3: =TEXT(WEEKDAY(DATE(CalendrierAnnée,9,1),1),"jjj") -> ven | D3: =TEXT(WEEKDAY(DATE(CalendrierAnnée,9,2),1),"jjj") -> sam | E3: =TEXT(WEEKDAY(DATE(CalendrierAnnée,9,3),1),"jjj") -> dim | F3: =TEXT(WEEKDAY(DATE(CalendrierAnnée,9,4),1),"jjj") -> lun | G3: =TEXT(WEEKDAY(DATE(CalendrierAnnée,9,5),1),"jjj") -> mar | H3: =TEXT(WEEKDAY(DATE(CalendrierAnnée,9,6),1),"jjj") -> mer | I3: =TEXT(WEEKDAY(DATE(CalendrierAnnée,9,7),1),"jjj") -> jeu | J3: =TEXT(WEEKDAY(DATE(CalendrierAnnée,9,8),1),"jjj") -> ven | K3: =TEXT(WEEKDAY(DATE(CalendrierAnnée,9,9),1),"jjj") -> sam | L3: =TEXT(WEEKDAY(DATE(CalendrierAnnée,9,10),1),"jjj") -> dim | M3: =TEXT(WEEKDAY(DATE(CalendrierAnnée,9,11),1),"jjj") -> lun | N3: =TEXT(WEEKDAY(DATE(CalendrierAnnée,9,12),1),"jjj") -> mar | O3: =TEXT(WEEKDAY(DATE(CalendrierAnnée,9,13),1),"jjj") -> mer | P3: =TEXT(WEEKDAY(DATE(CalendrierAnnée,9,14),1),"jjj") -> jeu | Q3: =TEXT(WEEKDAY(DATE(CalendrierAnnée,9,15),1),"jjj") -> ven | R3: =TEXT(WEEKDAY(DATE(CalendrierAnnée,9,16),1),"jjj") -> sam | S3: =TEXT(WEEKDAY(DATE(CalendrierAnnée,9,17),1),"jjj") -> dim | T3: =TEXT(WEEKDAY(DATE(CalendrierAnnée,9,18),1),"jjj") -> lun | U3: =TEXT(WEEKDAY(DATE(CalendrierAnnée,9,19),1),"jjj") -> mar | V3: =TEXT(WEEKDAY(DATE(CalendrierAnnée,9,20),1),"jjj") -> mer | W3: =TEXT(WEEKDAY(DATE(CalendrierAnnée,9,21),1),"jjj") -> jeu | X3: =TEXT(WEEKDAY(DATE(CalendrierAnnée,9,22),1),"jjj") -> ven | Y3: =TEXT(WEEKDAY(DATE(CalendrierAnnée,9,23),1),"jjj") -> sam | Z3: =TEXT(WEEKDAY(DATE(CalendrierAnnée,9,24),1),"jjj") -> dim | AA3: =TEXT(WEEKDAY(DATE(CalendrierAnnée,9,25),1),"jjj") -> lun | AB3: =TEXT(WEEKDAY(DATE(CalendrierAnnée,9,26),1),"jjj") -> mar | AC3: =TEXT(WEEKDAY(DATE(CalendrierAnnée,9,27),1),"jjj") -> mer | AD3: =TEXT(WEEKDAY(DATE(CalendrierAnnée,9,28),1),"jjj") -> jeu | AE3: =TEXT(WEEKDAY(DATE(CalendrierAnnée,9,29),1),"jjj") -> ven | AF3: =TEXT(WEEKDAY(DATE(CalendrierAnnée,9,30),1),"jjj") -> sam
A4: Nom de l’employé | C4: 1 | D4: 2 | E4: 3 | F4: 4 | G4: 5 | H4: 6 | I4: 7 | J4: 8 | K4: 9 | L4: 10 | M4: 11 | N4: 12 | O4: 13 | P4: 14 | Q4: 15 | R4: 16 | S4: 17 | T4: 18 | U4: 19 | V4: 20 | W4: 21 | X4: 22 | Y4: 23 | Z4: 24 | AA4: 25 | AB4: 26 | AC4: 27 | AD4: 28 | AE4: 29 | AF4: 30 | AH4: Nombre total de demi-journées | AI4: CP | AJ4: RTT | AK4: M | AL4: A | AM4: C P Acquis | AN4: CP en cours sur le mois | AO4: CP en cours cumulés | AP4: RTT acquis | AQ4: CP | AR4: RTT | AS4: DATE DE SORTIE et SOLDE CP
B5: Matin | C5: CP | AH5: =COUNTA(Septembre!$C5:$AG5) -> 1 | AI5: =(COUNTIFS(Septembre!$C5:$AG5,("cp")))/2+Août!AI5 -> 5 | AJ5: =COUNTIFS(Septembre!$C5:$AG5,"RTT")/2+Août!AJ5 -> 0 | AK5: =COUNTIFS(Septembre!$C5:$AG5,"m")/2+Août!AK5 -> 0 | AL5: =COUNTIFS(Septembre!$C5:$AG5,"a")/2+Août!AL5 -> 0
A6: 41722 | B6: A-M | C6: CP | AH6: =COUNTA(Septembre!$C6:$AG6) -> 1 | AI6: =(COUNTIFS(Septembre!$C6:$AG6,("cp")))/2+Août!AI6 -> 5 | AJ6: =COUNTIFS(Septembre!$C6:$AG6,"RTT")/2+Août!AJ6 -> 0 | AK6: =COUNTIFS(Septembre!$C6:$AG6,"m")/2+Août!AK6 -> 0 | AL6: =COUNTIFS(Septembre!$C6:$AG6,"a")/2+Août!AL6 -> 0
C7: =IF(C5>0,C5,IF(C6>0,C6,"")) -> CP | D7: =IF(D5>0,D5,IF(D6>0,D6,"")) | E7: =IF(E5>0,E5,IF(E6>0,E6,"")) | F7: =IF(F5>0,F5,IF(F6>0,F6,"")) | G7: =IF(G5>0,G5,IF(G6>0,G6,"")) | H7: =IF(H5>0,H5,IF(H6>0,H6,"")) | I7: =IF(I5>0,I5,IF(I6>0,I6,"")) | J7: =IF(J5>0,J5,IF(J6>0,J6,"")) | ... AG7: =IF(AG5>0,AG5,IF(AG6>0,AG6,"")) | AH7: =SUM(AH5:AH6) -> 2 | AI7: =SUM(AI5:AI6) -> 10 | AJ7: =SUM(AJ5:AJ6) -> 0 | AK7: =SUM(AK5:AK6) -> 0 | AL7: =SUM(AL5:AL6) -> 0 | AM7: =Juin!AM7 -> 9.15 | AN7: =IF(A6="","",IF(A6>NomMois,0,IF(A6<$A$3,2.08,(NETWORKDAYS(A6,$A$2)/21.66667)*2.08))) -> 2.08 | AO7: =IF( AN7="",0,+AN7+Août!AO7) -> 8.32 | AQ7: =+AM7-AI7 -> -0.85 | AR7: =+AP7-AJ7 -> 0 | AS7: =+AO7+AQ7 -> 7.47
B9: Matin | AH9: =COUNTA(Septembre!$C9:$AG9) -> 0 | AI9: =(COUNTIFS(Septembre!$C9:$AG9,("cp")))/2+Août!AI9 -> 3.5 | AJ9: =COUNTIFS(Septembre!$C9:$AG9,"RTT")/2+Août!AJ9 -> 0 | AK9: =COUNTIFS(Septembre!$C9:$AG9,"m")/2+Août!AK9 -> 0 | AL9: =COUNTIFS(Septembre!$C9:$AG9,"a")/2+Août!AL9 -> 0
A10: 42740 | B10: A-M | AH10: =COUNTA(Septembre!$C10:$AG10) -> 0 | AI10: =(COUNTIFS(Septembre!$C10:$AG10,("cp")))/2+Août!AI10 -> 3.5 | AJ10: =COUNTIFS(Septembre!$C10:$AG10,"RTT")/2+Août!AJ10 -> 0 | AK10: =COUNTIFS(Septembre!$C10:$AG10,"m")/2+Août!AK10 -> 0 | AL10: =COUNTIFS(Septembre!$C10:$AG10,"a")/2+Août!AL10 -> 0
C11: =IF(C9>0,C9,IF(C10>0,C10,"")) | D11: =IF(D9>0,D9,IF(D10>0,D10,"")) | E11: =IF(E9>0,E9,IF(E10>0,E10,"")) | F11: =IF(F9>0,F9,IF(F10>0,F10,"")) | G11: =IF(G9>0,G9,IF(G10>0,G10,"")) | H11: =IF(H9>0,H9,IF(H10>0,H10,"")) | I11: =IF(I9>0,I9,IF(I10>0,I10,"")) | J11: =IF(J9>0,J9,IF(J10>0,J10,"")) | ... AG11: =IF(AG9>0,AG9,IF(AG10>0,AG10,"")) | AH11: =SUM(AH9:AH10) -> 0 | AI11: =SUM(AI9:AI10) -> 7 | AJ11: =SUM(AJ9:AJ10) -> 0 | AK11: =SUM(AK9:AK10) -> 0 | AL11: =SUM(AL9:AL10) -> 0 | AM11: =Juin!AM11 -> 10.32 | AN11: =IF(A10="","",IF(A10>NomMois,0,IF(A10<$A$3,2.08,(NETWORKDAYS(A10,$A$2)/21.66667)*2.08))) -> 2.08 | AO11: =IF( AN11="",0,+AN11+Août!AO11) -> 8.32 | AQ11: =+AM11-AI11 -> 3.32 | AR11: =+AP11-AJ11 -> 0 | AS11: =+AO11+AQ11 -> 11.64
B13: Matin | AH13: =COUNTA(Septembre!$C13:$AG13) -> 0 | AI13: =(COUNTIFS(Septembre!$C13:$AG13,("cp")))/2+Août!AI13 -> 0.5 | AJ13: =COUNTIFS(Septembre!$C13:$AG13,"RTT")/2+Août!AJ13 -> 0 | AK13: =COUNTIFS(Septembre!$C13:$AG13,"m")/2+Août!AK13 -> 0 | AL13: =COUNTIFS(Septembre!$C13:$AG13,"a")/2+Août!AL13 -> 1.5
A14: 42891 | B14: A-M | AH14: =COUNTA(Septembre!$C14:$AG14) -> 0 | AI14: =(COUNTIFS(Septembre!$C14:$AG14,("cp")))/2+Août!AI14 -> 0.5 | AJ14: =COUNTIFS(Septembre!$C14:$AG14,"RTT")/2+Août!AJ14 -> 0 | AK14: =COUNTIFS(Septembre!$C14:$AG14,"m")/2+Août!AK14 -> 0 | AL14: =COUNTIFS(Septembre!$C14:$AG14,"a")/2+Août!AL14 -> 1 | AS14: 43014
C15: =IF(C13>0,C13,IF(C14>0,C14,"")) | D15: =IF(D13>0,D13,IF(D14>0,D14,"")) | E15: =IF(E13>0,E13,IF(E14>0,E14,"")) | F15: =IF(F13>0,F13,IF(F14>0,F14,"")) | G15: =IF(G13>0,G13,IF(G14>0,G14,"")) | H15: =IF(H13>0,H13,IF(H14>0,H14,"")) | I15: =IF(I13>0,I13,IF(I14>0,I14,"")) | J15: =IF(J13>0,J13,IF(J14>0,J14,"")) | ... AG15: =IF(AG13>0,AG13,IF(AG14>0,AG14,"")) | AH15: =SUM(AH13:AH14) -> 0 | AI15: =SUM(AI13:AI14) -> 1 | AJ15: =SUM(AJ13:AJ14) -> 0 | AK15: =SUM(AK13:AK14) -> 0 | AL15: =SUM(AL13:AL14) -> 2.5 | AM15: =Juin!AM15 -> 0 | AN15: =IF(A14="","",IF(A14>NomMois,0,IF(A14<$A$3,2.08,(NETWORKDAYS(A14,$A$2)/21.66667)*2.08))) -> 2.08 | AO15: =IF( AN15="",0,+AN15+Août!AO15) -> 8.1599997 | AQ15: =+AM15-AI15 -> -1 | AR15: =+AP15-AJ15 -> 0 | AS15: =+AO15+AQ15 -> 7.1599997
B17: Matin | C17: CP | AH17: =COUNTA(Septembre!$C17:$AG17) -> 1 | AI17: =(COUNTIFS(Septembre!$C17:$AG17,("cp")))/2+Août!AI17 -> 5 | AJ17: =COUNTIFS(Septembre!$C17:$AG17,"RTT")/2+Août!AJ17 -> 0 | AK17: =COUNTIFS(Septembre!$C17:$AG17,"m")/2+Août!AK17 -> 0 | AL17: =COUNTIFS(Septembre!$C17:$AG17,"a")/2+Août!AL17 -> 0
A18: 38923 | B18: A-M | C18: CP | AH18: =COUNTA(Septembre!$C18:$AG18) -> 1 | AI18: =(COUNTIFS(Septembre!$C18:$AG18,("cp")))/2+Août!AI18 -> 5 | AJ18: =COUNTIFS(Septembre!$C18:$AG18,"RTT")/2+Août!AJ18 -> 0 | AK18: =COUNTIFS(Septembre!$C18:$AG18,"m")/2+Août!AK18 -> 0 | AL18: =COUNTIFS(Septembre!$C18:$AG18,"a")/2+Août!AL18 -> 0
C19: =IF(C17>0,C17,IF(C18>0,C18,"")) -> CP | D19: =IF(D17>0,D17,IF(D18>0,D18,"")) | E19: =IF(E17>0,E17,IF(E18>0,E18,"")) | F19: =IF(F17>0,F17,IF(F18>0,F18,"")) | G19: =IF(G17>0,G17,IF(G18>0,G18,"")) | H19: =IF(H17>0,H17,IF(H18>0,H18,"")) | I19: =IF(I17>0,I17,IF(I18>0,I18,"")) | J19: =IF(J17>0,J17,IF(J18>0,J18,"")) | ... AG19: =IF(AG17>0,AG17,IF(AG18>0,AG18,"")) | AH19: =SUM(AH17:AH18) -> 2 | AI19: =SUM(AI17:AI18) -> 10 | AJ19: =SUM(AJ17:AJ18) -> 0 | AK19: =SUM(AK17:AK18) -> 0 | AL19: =SUM(AL17:AL18) -> 0 | AM19: =Juin!AM19 -> 24.54 | AN19: =IF(A18="","",IF(A18>NomMois,0,IF(A18<$A$3,2.08,(NETWORKDAYS(A18,$A$2)/21.66667)*2.08))) -> 2.08 | AO19: =IF( AN19="",0,+AN19+Août!AO19) -> 8.32 | AQ19: =+AM19-AI19 -> 14.54 | AR19: =+AP19-AJ19 -> 0 | AS19: =+AO19+AQ19 -> 22.86
B21: Matin | AH21: =COUNTA(Septembre!$C21:$AG21) -> 0 | AI21: =(COUNTIFS(Septembre!$C21:$AG21,("cp")))/2+Août!AI21 -> 1 | AJ21: =COUNTIFS(Septembre!$C21:$AG21,"RTT")/2+Août!AJ21 -> 0 | AK21: =COUNTIFS(Septembre!$C21:$AG21,"m")/2+Août!AK21 -> 0 | AL21: =COUNTIFS(Septembre!$C21:$AG21,"a")/2+Août!AL21 -> 0
A22: 41824 | B22: A-M | AH22: =COUNTA(Septembre!$C22:$AG22) -> 0 | AI22: =(COUNTIFS(Septembre!$C22:$AG22,("cp")))/2+Août!AI22 -> 1 | AJ22: =COUNTIFS(Septembre!$C22:$AG22,"RTT")/2+Août!AJ22 -> 0 | AK22: =COUNTIFS(Septembre!$C22:$AG22,"m")/2+Août!AK22 -> 0 | AL22: =COUNTIFS(Septembre!$C22:$AG22,"a")/2+Août!AL22 -> 0
C23: =IF(C21>0,C21,IF(C22>0,C22,"")) | D23: =IF(D21>0,D21,IF(D22>0,D22,"")) | E23: =IF(E21>0,E21,IF(E22>0,E22,"")) | F23: =IF(F21>0,F21,IF(F22>0,F22,"")) | G23: =IF(G21>0,G21,IF(G22>0,G22,"")) | H23: =IF(H21>0,H21,IF(H22>0,H22,"")) | I23: =IF(I21>0,I21,IF(I22>0,I22,"")) | J23: =IF(J21>0,J21,IF(J22>0,J22,"")) | ... AG23: =IF(AG21>0,AG21,IF(AG22>0,AG22,"")) | AH23: =SUM(AH21:AH22) -> 0 | AI23: =SUM(AI21:AI22) -> 2 | AJ23: =SUM(AJ21:AJ22) -> 0 | AK23: =SUM(AK21:AK22) -> 0 | AL23: =SUM(AL21:AL22) -> 0 | AM23: =Juin!AM23 -> 11.23 | AN23: =IF(A22="","",IF(A22>NomMois,0,IF(A22<$A$3,2.08,(NETWORKDAYS(A22,$A$2)/21.66667)*2.08))) -> 2.08 | AO23: =IF( AN23="",0,+AN23+Août!AO23) -> 8.32 | AQ23: =+AM23-AI23 -> 9.23 | AR23: =+AP23-AJ23 -> 0 | AS23: =+AO23+AQ23 -> 17.55
B25: Matin | AH25: =COUNTA(Septembre!$C25:$AG25) -> 0 | AI25: =(COUNTIFS(Septembre!$C25:$AG25,("cp")))/2+Août!AI25 -> 3.5 | AJ25: =COUNTIFS(Septembre!$C25:$AG25,"RTT")/2+Août!AJ25 -> 0 | AK25: =COUNTIFS(Septembre!$C25:$AG25,"m")/2+Août!AK25 -> 0 | AL25: =COUNTIFS(Septembre!$C25:$AG25,"a")/2+Août!AL25 -> 0
A26: 38626 | B26: A-M | AH26: =COUNTA(Septembre!$C26:$AG26) -> 0 | AI26: =(COUNTIFS(Septembre!$C26:$AG26,("cp")))/2+Août!AI26 -> 3.5 | AJ26: =COUNTIFS(Septembre!$C26:$AG26,"RTT")/2+Août!AJ26 -> 0 | AK26: =COUNTIFS(Septembre!$C26:$AG26,"m")/2+Août!AK26 -> 0 | AL26: =COUNTIFS(Septembre!$C26:$AG26,"a")/2+Août!AL26 -> 0
C27: =IF(C25>0,C25,IF(C26>0,C26,"")) | D27: =IF(D25>0,D25,IF(D26>0,D26,"")) | E27: =IF(E25>0,E25,IF(E26>0,E26,"")) | F27: =IF(F25>0,F25,IF(F26>0,F26,"")) | G27: =IF(G25>0,G25,IF(G26>0,G26,"")) | H27: =IF(H25>0,H25,IF(H26>0,H26,"")) | I27: =IF(I25>0,I25,IF(I26>0,I26,"")) | J27: =IF(J25>0,J25,IF(J26>0,J26,"")) | ... AG27: =IF(AG25>0,AG25,IF(AG26>0,AG26,"")) | AH27: =SUM(AH25:AH26) -> 0 | AI27: =SUM(AI25:AI26) -> 7 | AJ27: =SUM(AJ25:AJ26) -> 0 | AK27: =SUM(AK25:AK26) -> 0 | AL27: =SUM(AL25:AL26) -> 0 | AM27: =Juin!AM27 -> 28.7 | AN27: =IF(A26="","",IF(A26>NomMois,0,IF(A26<$A$3,2.08,(NETWORKDAYS(A26,$A$2)/21.66667)*2.08))) -> 2.08 | AO27: =IF( AN27="",0,+AN27+Août!AO27) -> 8.32 | AQ27: =+AM27-AI27 -> 21.7 | AR27: =+AP27-AJ27 -> 0 | AS27: =+AO27+AQ27 -> 30.02
B29: Matin | AH29: =COUNTA(Septembre!$C29:$AG29) -> 0 | AI29: =(COUNTIFS(Septembre!$C29:$AG29,("cp")))/2+Août!AI29 -> 7.5 | AJ29: =COUNTIFS(Septembre!$C29:$AG29,"RTT")/2+Août!AJ29 -> 0 | AK29: =COUNTIFS(Septembre!$C29:$AG29,"m")/2+Août!AK29 -> 0 | AL29: =COUNTIFS(Septembre!$C29:$AG29,"a")/2+Août!AL29 -> 0
A30: 36892 | B30: A-M | AH30: =COUNTA(Septembre!$C30:$AG30) -> 0 | AI30: =(COUNTIFS(Septembre!$C30:$AG30,("cp")))/2+Août!AI30 -> 8 | AJ30: =COUNTIFS(Septembre!$C30:$AG30,"RTT")/2+Août!AJ30 -> 0 | AK30: =COUNTIFS(Septembre!$C30:$AG30,"m")/2+Août!AK30 -> 0 | AL30: =COUNTIFS(Septembre!$C30:$AG30,"a")/2+Août!AL30 -> 0
C31: =IF(C29>0,C29,IF(C30>0,C30,"")) | D31: =IF(D29>0,D29,IF(D30>0,D30,"")) | E31: =IF(E29>0,E29,IF(E30>0,E30,"")) | F31: =IF(F29>0,F29,IF(F30>0,F30,"")) | G31: =IF(G29>0,G29,IF(G30>0,G30,"")) | H31: =IF(H29>0,H29,IF(H30>0,H30,"")) | I31: =IF(I29>0,I29,IF(I30>0,I30,"")) | J31: =IF(J29>0,J29,IF(J30>0,J30,"")) | ... AG31: =IF(AG29>0,AG29,IF(AG30>0,AG30,"")) | AH31: =SUM(AH29:AH30) -> 0 | AI31: =SUM(AI29:AI30) -> 15.5 | AJ31: =SUM(AJ29:AJ30) -> 0 | AK31: =SUM(AK29:AK30) -> 0 | AL31: =SUM(AL29:AL30) -> 0 | AM31: =Juin!AM31 -> 30.37 | AN31: =IF(A30="","",IF(A30>NomMois,0,IF(A30<$A$3,2.08,(NETWORKDAYS(A30,$A$2)/21.66667)*2.08))) -> 2.08 | AO31: =IF( AN31="",0,+AN31+Août!AO31) -> 8.32 | AQ31: =+AM31-AI31 -> 14.87 | AR31: =+AP31-AJ31 -> 0 | AS31: =+AO31+AQ31 -> 23.19
B33: Matin | AH33: =COUNTA(Septembre!$C33:$AG33) -> 0 | AI33: =(COUNTIFS(Septembre!$C33:$AG33,("cp")))/2+Août!AI33 -> 8 | AJ33: =COUNTIFS(Septembre!$C33:$AG33,"RTT")/2+Août!AJ33 -> 0 | AK33: =COUNTIFS(Septembre!$C33:$AG33,"m")/2+Août!AK33 -> 0 | AL33: =COUNTIFS(Septembre!$C33:$AG33,"a")/2+Août!AL33 -> 0
A34: 42110 | B34: A-M | AH34: =COUNTA(Septembre!$C34:$AG34) -> 0 | AI34: =(COUNTIFS(Septembre!$C34:$AG34,("cp")))/2+Août!AI34 -> 8 | AJ34: =COUNTIFS(Septembre!$C34:$AG34,"RTT")/2+Août!AJ34 -> 0 | AK34: =COUNTIFS(Septembre!$C34:$AG34,"m")/2+Août!AK34 -> 0 | AL34: =COUNTIFS(Septembre!$C34:$AG34,"a")/2+Août!AL34 -> 0
C35: =IF(C33>0,C33,IF(C34>0,C34,"")) | D35: =IF(D33>0,D33,IF(D34>0,D34,"")) | E35: =IF(E33>0,E33,IF(E34>0,E34,"")) | F35: =IF(F33>0,F33,IF(F34>0,F34,"")) | G35: =IF(G33>0,G33,IF(G34>0,G34,"")) | H35: =IF(H33>0,H33,IF(H34>0,H34,"")) | I35: =IF(I33>0,I33,IF(I34>0,I34,"")) | J35: =IF(J33>0,J33,IF(J34>0,J34,"")) | ... AG35: =IF(AG33>0,AG33,IF(AG34>0,AG34,"")) | AH35: =SUM(AH33:AH34) -> 0 | AI35: =SUM(AI33:AI34) -> 16 | AJ35: =SUM(AJ33:AJ34) -> 0 | AK35: =SUM(AK33:AK34) -> 0 | AL35: =SUM(AL33:AL34) -> 0 | AM35: =Juin!AM35 -> 14.56 | AN35: =IF(A34="","",IF(A34>NomMois,0,IF(A34<$A$3,2.08,(NETWORKDAYS(A34,$A$2)/21.66667)*2.08))) -> 2.08 | AO35: =IF( AN35="",0,+AN35+Août!AO35) -> 8.32 | AQ35: =+AM35-AI35 -> -1.44 | AR35: =+AP35-AJ35 -> 0 | AS35: =+AO35+AQ35 -> 6.88
B37: Matin | AA37: CP | AH37: =COUNTA(Septembre!$C37:$AG37) -> 1 | AI37: =(COUNTIFS(Septembre!$C37:$AG37,("cp")))/2+Août!AI37 -> 5.5 | AJ37: =COUNTIFS(Septembre!$C37:$AG37,"RTT")/2+Août!AJ37 -> 0 | AK37: =COUNTIFS(Septembre!$C37:$AG37,"m")/2+Août!AK37 -> 0 | AL37: =COUNTIFS(Septembre!$C37:$AG37,"a")/2+Août!AL37 -> 0
A38: 42373 | B38: A-M | AA38: CP | AH38: =COUNTA(Septembre!$C38:$AG38) -> 1 | AI38: =(COUNTIFS(Septembre!$C38:$AG38,("cp")))/2+Août!AI38 -> 5.5 | AJ38: =COUNTIFS(Septembre!$C38:$AG38,"RTT")/2+Août!AJ38 -> 0 | AK38: =COUNTIFS(Septembre!$C38:$AG38,"m")/2+Août!AK38 -> 0 | AL38: =COUNTIFS(Septembre!$C38:$AG38,"a")/2+Août!AL38 -> 0
C39: =IF(C37>0,C37,IF(C38>0,C38,"")) | D39: =IF(D37>0,D37,IF(D38>0,D38,"")) | E39: =IF(E37>0,E37,IF(E38>0,E38,"")) | F39: =IF(F37>0,F37,IF(F38>0,F38,"")) | G39: =IF(G37>0,G37,IF(G38>0,G38,"")) | H39: =IF(H37>0,H37,IF(H38>0,H38,"")) | I39: =IF(I37>0,I37,IF(I38>0,I38,"")) | J39: =IF(J37>0,J37,IF(J38>0,J38,"")) | ... AG39: =IF(AG37>0,AG37,IF(AG38>0,AG38,"")) | AH39: =SUM(AH37:AH38) -> 2 | AI39: =SUM(AI37:AI38) -> 11 | AJ39: =SUM(AJ37:AJ38) -> 0 | AK39: =SUM(AK37:AK38) -> 0 | AL39: =SUM(AL37:AL38) -> 0 | AM39: =Juin!AM39 -> 14.14 | AN39: =IF(A38="","",IF(A38>NomMois,0,IF(A38<$A$3,2.08,(NETWORKDAYS(A38,$A$2)/21.66667)*2.08))) -> 2.08 | AO39: =IF( AN39="",0,+AN39+Août!AO39) -> 8.32 | AQ39: =+AM39-AI39 -> 3.14 | AR39: =+AP39-AJ39 -> 0 | AS39: =+AO39+AQ39 -> 11.46
B41: Matin | AH41: =COUNTA(Septembre!$C41:$AG41) -> 0 | AI41: =(COUNTIFS(Septembre!$C41:$AG41,("cp")))/2+Août!AI41 -> 7.5 | AJ41: =COUNTIFS(Septembre!$C41:$AG41,"RTT")/2+Août!AJ41 -> 0 | AK41: =COUNTIFS(Septembre!$C41:$AG41,"m")/2+Août!AK41 -> 0 | AL41: =COUNTIFS(Septembre!$C41:$AG41,"a")/2+Août!AL41 -> 0
A42: 41821 | B42: A-M | AH42: =COUNTA(Septembre!$C42:$AG42) -> 0 | AI42: =(COUNTIFS(Septembre!$C42:$AG42,("cp")))/2+Août!AI42 -> 7.5 | AJ42: =COUNTIFS(Septembre!$C42:$AG42,"RTT")/2+Août!AJ42 -> 0 | AK42: =COUNTIFS(Septembre!$C42:$AG42,"m")/2+Août!AK42 -> 0 | AL42: =COUNTIFS(Septembre!$C42:$AG42,"a")/2+Août!AL42 -> 0
C43: =IF(C41>0,C41,IF(C42>0,C42,"")) | D43: =IF(D41>0,D41,IF(D42>0,D42,"")) | E43: =IF(E41>0,E41,IF(E42>0,E42,"")) | F43: =IF(F41>0,F41,IF(F42>0,F42,"")) | G43: =IF(G41>0,G41,IF(G42>0,G42,"")) | H43: =IF(H41>0,H41,IF(H42>0,H42,"")) | I43: =IF(I41>0,I41,IF(I42>0,I42,"")) | J43: =IF(J41>0,J41,IF(J42>0,J42,"")) | ... AG43: =IF(AG41>0,AG41,IF(AG42>0,AG42,"")) | AH43: =SUM(AH41:AH42) -> 0 | AI43: =SUM(AI41:AI42) -> 15 | AJ43: =SUM(AJ41:AJ42) -> 0 | AK43: =SUM(AK41:AK42) -> 0 | AL43: =SUM(AL41:AL42) -> 0 | AM43: =Juin!AM43 -> 20.38 | AN43: =IF(A42="","",IF(A42>NomMois,0,IF(A42<$A$3,2.08,(NETWORKDAYS(A42,$A$2)/21.66667)*2.08))) -> 2.08 | AO43: =IF( AN43="",0,+AN43+Août!AO43) -> 8.32 | AQ43: =+AM43-AI43 -> 5.38 | AR43: =+AP43-AJ43 -> 0 | AS43: =+AO43+AQ43 -> 13.7
B45: Matin | AH45: =COUNTA(Septembre!$C45:$AG45) -> 0 | AI45: =(COUNTIFS(Septembre!$C45:$AG45,("cp")))/2+Août!AI45 -> 0 | AJ45: =COUNTIFS(Septembre!$C45:$AG45,"RTT")/2+Août!AJ45 -> 0 | AK45: =COUNTIFS(Septembre!$C45:$AG45,"m")/2+Août!AK45 -> 0 | AL45: =COUNTIFS(Septembre!$C45:$AG45,"a")/2+Août!AL45 -> 0
A46: 40575 | B46: A-M | AH46: =COUNTA(Septembre!$C46:$AG46) -> 0 | AI46: =(COUNTIFS(Septembre!$C46:$AG46,("cp")))/2+Août!AI46 -> 0.5 | AJ46: =COUNTIFS(Septembre!$C46:$AG46,"RTT")/2+Août!AJ46 -> 0 | AK46: =COUNTIFS(Septembre!$C46:$AG46,"m")/2+Août!AK46 -> 0 | AL46: =COUNTIFS(Septembre!$C46:$AG46,"a")/2+Août!AL46 -> 0
C47: =IF(C45>0,C45,IF(C46>0,C46,"")) | D47: =IF(D45>0,D45,IF(D46>0,D46,"")) | E47: =IF(E45>0,E45,IF(E46>0,E46,"")) | F47: =IF(F45>0,F45,IF(F46>0,F46,"")) | G47: =IF(G45>0,G45,IF(G46>0,G46,"")) | H47: =IF(H45>0,H45,IF(H46>0,H46,"")) | I47: =IF(I45>0,I45,IF(I46>0,I46,"")) | J47: =IF(J45>0,J45,IF(J46>0,J46,"")) | ... AG47: =IF(AG45>0,AG45,IF(AG46>0,AG46,"")) | AH47: =SUM(AH45:AH46) -> 0 | AI47: =SUM(AI45:AI46) -> 0.5 | AJ47: =SUM(AJ45:AJ46) -> 0 | AK47: =SUM(AK45:AK46) -> 0 | AL47: =SUM(AL45:AL46) -> 0 | AM47: =Juin!AM47 -> 24.96 | AN47: =IF(A46="","",IF(A46>NomMois,0,IF(A46<$A$3,2.08,(NETWORKDAYS(A46,$A$2)/21.66667)*2.08))) -> 2.08 | AO47: =IF( AN47="",0,+AN47+Août!AO47) -> 8.32 | AQ47: =+AM47-AI47 -> 24.46 | AR47: =+AP47-AJ47 -> 0 | AS47: =+AO47+AQ47 -> 32.78
B49: Matin | AH49: =COUNTA(Septembre!$C49:$AG49) -> 0 | AI49: =(COUNTIFS(Septembre!$C49:$AG49,("cp")))/2+Août!AI49 -> 0.5 | AJ49: =COUNTIFS(Septembre!$C49:$AG49,"RTT")/2+Août!AJ49 -> 0 | AK49: =COUNTIFS(Septembre!$C49:$AG49,"m")/2+Août!AK49 -> 0 | AL49: =COUNTIFS(Septembre!$C49:$AG49,"a")/2+Août!AL49 -> 0
A50: 42793 | B50: A-M | AH50: =COUNTA(Septembre!$C50:$AG50) -> 0 | AI50: =(COUNTIFS(Septembre!$C50:$AG50,("cp")))/2+Août!AI50 -> 0.5 | AJ50: =COUNTIFS(Septembre!$C50:$AG50,"RTT")/2+Août!AJ50 -> 0 | AK50: =COUNTIFS(Septembre!$C50:$AG50,"m")/2+Août!AK50 -> 0 | AL50: =COUNTIFS(Septembre!$C50:$AG50,"a")/2+Août!AL50 -> 0
C51: =IF(C49>0,C49,IF(C50>0,C50,"")) | D51: =IF(D49>0,D49,IF(D50>0,D50,"")) | E51: =IF(E49>0,E49,IF(E50>0,E50,"")) | F51: =IF(F49>0,F49,IF(F50>0,F50,"")) | G51: =IF(G49>0,G49,IF(G50>0,G50,"")) | H51: =IF(H49>0,H49,IF(H50>0,H50,"")) | I51: =IF(I49>0,I49,IF(I50>0,I50,"")) | J51: =IF(J49>0,J49,IF(J50>0,J50,"")) | ... AG51: =IF(AG49>0,AG49,IF(AG50>0,AG50,"")) | AH51: =SUM(AH49:AH50) -> 0 | AI51: =SUM(AI49:AI50) -> 1 | AJ51: =SUM(AJ49:AJ50) -> 0 | AK51: =SUM(AK49:AK50) -> 0 | AL51: =SUM(AL49:AL50) -> 0 | AM51: =Juin!AM51 -> 6.41 | AN51: =IF(A50="","",IF(A50>NomMois,0,IF(A50<$A$3,2.08,(NETWORKDAYS(A50,$A$2)/21.66667)*2.08))) -> 2.08 | AO51: =IF( AN51="",0,+AN51+Août!AO51) -> 8.32 | AQ51: =+AM51-AI51 -> 5.41 | AR51: =+AP51-AJ51 -> 0 | AS51: =+AO51+AQ51 -> 13.73
B53: Matin | AH53: =COUNTA(Septembre!$C53:$AG53) -> 0 | AI53: =(COUNTIFS(Septembre!$C53:$AG53,("cp")))/2+Août!AI53 -> 9 | AJ53: =COUNTIFS(Septembre!$C53:$AG53,"RTT")/2+Août!AJ53 -> 0 | AK53: =COUNTIFS(Septembre!$C53:$AG53,"m")/2+Août!AK53 -> 0 | AL53: =COUNTIFS(Septembre!$C53:$AG53,"a")/2+Août!AL53 -> 0
A54: 42660 | B54: A-M | AH54: =COUNTA(Septembre!$C54:$AG54) -> 0 | AI54: =(COUNTIFS(Septembre!$C54:$AG54,("cp")))/2+Août!AI54 -> 9 | AJ54: =COUNTIFS(Septembre!$C54:$AG54,"RTT")/2+Août!AJ54 -> 0 | AK54: =COUNTIFS(Septembre!$C54:$AG54,"m")/2+Août!AK54 -> 0 | AL54: =COUNTIFS(Septembre!$C54:$AG54,"a")/2+Août!AL54 -> 0
C55: =IF(C53>0,C53,IF(C54>0,C54,"")) | D55: =IF(D53>0,D53,IF(D54>0,D54,"")) | E55: =IF(E53>0,E53,IF(E54>0,E54,"")) | F55: =IF(F53>0,F53,IF(F54>0,F54,"")) | G55: =IF(G53>0,G53,IF(G54>0,G54,"")) | H55: =IF(H53>0,H53,IF(H54>0,H54,"")) | I55: =IF(I53>0,I53,IF(I54>0,I54,"")) | J55: =IF(J53>0,J53,IF(J54>0,J54,"")) | ... AG55: =IF(AG53>0,AG53,IF(AG54>0,AG54,"")) | AH55: =SUM(AH53:AH54) -> 0 | AI55: =SUM(AI53:AI54) -> 18 | AJ55: =SUM(AJ53:AJ54) -> 0 | AK55: =SUM(AK53:AK54) -> 0 | AL55: =SUM(AL53:AL54) -> 0 | AM55: =Juin!AM55 -> 15.68 | AN55: =IF(A54="","",IF(A54>NomMois,0,IF(A54<$A$3,2.08,(NETWORKDAYS(A54,$A$2)/21.66667)*2.08))) -> 2.08 | AO55: =IF( AN55="",0,+AN55+Août!AO55) -> 8.32 | AQ55: =+AM55-AI55 -> -2.32 | AR55: =+AP55-AJ55 -> 0 | AS55: =+AO55+AQ55 -> 6
B57: Matin | AH57: =COUNTA(Septembre!$C57:$AG57) -> 0 | AI57: =(COUNTIFS(Septembre!$C57:$AG57,("cp")))/2+Août!AI57 -> 0 | AJ57: =COUNTIFS(Septembre!$C57:$AG57,"RTT")/2+Août!AJ57 -> 0 | AK57: =COUNTIFS(Septembre!$C57:$AG57,"m")/2+Août!AK57 -> 0 | AL57: =COUNTIFS(Septembre!$C57:$AG57,"a")/2+Août!AL57 -> 0
A58: 42975 | B58: A-M | AH58: =COUNTA(Septembre!$C58:$AG58) -> 0 | AI58: =(COUNTIFS(Septembre!$C58:$AG58,("cp")))/2+Août!AI58 -> 0 | AJ58: =COUNTIFS(Septembre!$C58:$AG58,"RTT")/2+Août!AJ58 -> 0 | AK58: =COUNTIFS(Septembre!$C58:$AG58,"m")/2+Août!AK58 -> 0 | AL58: =COUNTIFS(Septembre!$C58:$AG58,"a")/2+Août!AL58 -> 0
C59: =IF(C57>0,C57,IF(C58>0,C58,"")) | D59: =IF(D57>0,D57,IF(D58>0,D58,"")) | E59: =IF(E57>0,E57,IF(E58>0,E58,"")) | F59: =IF(F57>0,F57,IF(F58>0,F58,"")) | G59: =IF(G57>0,G57,IF(G58>0,G58,"")) | H59: =IF(H57>0,H57,IF(H58>0,H58,"")) | I59: =IF(I57>0,I57,IF(I58>0,I58,"")) | J59: =IF(J57>0,J57,IF(J58>0,J58,"")) | ... AG59: =IF(AG57>0,AG57,IF(AG58>0,AG58,"")) | AH59: =SUM(AH57:AH58) -> 0 | AI59: =SUM(AI57:AI58) -> 0 | AJ59: =SUM(AJ57:AJ58) -> 0 | AK59: =SUM(AK57:AK58) -> 0 | AL59: =SUM(AL57:AL58) -> 0 | AM59: 0 | AN59: =IF(A58="","",IF(A58>NomMois,0,IF(A58<$A$3,2.08,(NETWORKDAYS(A58,$A$2)/21.66667)*2.08))) -> 2.08 | AO59: =IF( AN59="",0,+AN59+Août!AO59) -> 2.4639999 | AQ59: =+AM59-AI59 -> 0 | AR59: =+AP59-AJ59 -> 0 | AS59: =+AO59+AQ59 -> 2.4639999
B61: Matin | AH61: =COUNTA(Septembre!$C61:$AG61) -> 0 | AI61: =(COUNTIFS(Septembre!$C61:$AG61,("cp")))/2+Août!AI61 -> 4 | AJ61: =COUNTIFS(Septembre!$C61:$AG61,"RTT")/2+Août!AJ61 -> 0 | AK61: =COUNTIFS(Septembre!$C61:$AG61,"m")/2+Août!AK61 -> 0 | AL61: =COUNTIFS(Septembre!$C61:$AG61,"a")/2+Août!AL61 -> 0
A62: 42646 | B62: A-M | AH62: =COUNTA(Septembre!$C62:$AG62) -> 0 | AI62: =(COUNTIFS(Septembre!$C62:$AG62,("cp")))/2+Août!AI62 -> 4 | AJ62: =COUNTIFS(Septembre!$C62:$AG62,"RTT")/2+Août!AJ62 -> 0 | AK62: =COUNTIFS(Septembre!$C62:$AG62,"m")/2+Août!AK62 -> 0 | AL62: =COUNTIFS(Septembre!$C62:$AG62,"a")/2+Août!AL62 -> 0
C63: =IF(C61>0,C61,IF(C62>0,C62,"")) | D63: =IF(D61>0,D61,IF(D62>0,D62,"")) | E63: =IF(E61>0,E61,IF(E62>0,E62,"")) | F63: =IF(F61>0,F61,IF(F62>0,F62,"")) | G63: =IF(G61>0,G61,IF(G62>0,G62,"")) | H63: =IF(H61>0,H61,IF(H62>0,H62,"")) | I63: =IF(I61>0,I61,IF(I62>0,I62,"")) | J63: =IF(J61>0,J61,IF(J62>0,J62,"")) | ... AG63: =IF(AG61>0,AG61,IF(AG62>0,AG62,"")) | AH63: =SUM(AH61:AH62) -> 0 | AI63: =SUM(AI61:AI62) -> 8 | AJ63: =SUM(AJ61:AJ62) -> 0 | AK63: =SUM(AK61:AK62) -> 0 | AL63: =SUM(AL61:AL62) -> 0 | AM63: =Juin!AM63 -> 16.64 | AN63: =IF(A62="","",IF(A62>NomMois,0,IF(A62<$A$3,2.08,(NETWORKDAYS(A62,$A$2)/21.66667)*2.08))) -> 2.08 | AO63: =IF( AN63="",0,+AN63+Août!AO63) -> 8.32 | AQ63: =+AM63-AI63 -> 8.64 | AR63: =+AP63-AJ63 -> 0 | AS63: =+AO63+AQ63 -> 16.96
AH64: 0 | AI64: 0 | AJ64: 0 | AK64: 0 | AL64: 0
B65: Matin | F65: CP | G65: CP | H65: CP | I65: CP | J65: CP | M65: CP | N65: CP | AH65: =COUNTA(Septembre!$C65:$AG65) -> 7 | AI65: =(COUNTIFS(Septembre!$C65:$AG65,("cp")))/2+Août!AI65 -> 8 | AJ65: =COUNTIFS(Septembre!$C65:$AG65,"RTT")/2+Août!AJ65 -> 0 | AK65: =COUNTIFS(Septembre!$C65:$AG65,"m")/2+Août!AK65 -> 0 | AL65: =COUNTIFS(Septembre!$C65:$AG65,"a")/2+Août!AL65 -> 0
A66: 42410 | B66: A-M | F66: CP | G66: CP | H66: CP | I66: CP | J66: CP | M66: CP | N66: CP | AH66: =COUNTA(Septembre!$C66:$AG66) -> 7 | AI66: =(COUNTIFS(Septembre!$C66:$AG66,("cp")))/2+Août!AI66 -> 8 | AJ66: =COUNTIFS(Septembre!$C66:$AG66,"RTT")/2+Août!AJ66 -> 0 | AK66: =COUNTIFS(Septembre!$C66:$AG66,"m")/2+Août!AK66 -> 0 | AL66: =COUNTIFS(Septembre!$C66:$AG66,"a")/2+Août!AL66 -> 0
C67: =IF(C65>0,C65,IF(C66>0,C66,"")) | D67: =IF(D65>0,D65,IF(D66>0,D66,"")) | E67: =IF(E65>0,E65,IF(E66>0,E66,"")) | F67: =IF(F65>0,F65,IF(F66>0,F66,"")) -> CP | G67: =IF(G65>0,G65,IF(G66>0,G66,"")) -> CP | H67: =IF(H65>0,H65,IF(H66>0,H66,"")) -> CP | I67: =IF(I65>0,I65,IF(I66>0,I66,"")) -> CP | J67: =IF(J65>0,J65,IF(J66>0,J66,"")) -> CP | ... AG67: =IF(AG65>0,AG65,IF(AG66>0,AG66,"")) | AH67: =SUM(AH65:AH66) -> 14 | AI67: =SUM(AI65:AI66) -> 16 | AJ67: =SUM(AJ65:AJ66) -> 0 | AK67: =SUM(AK65:AK66) -> 0 | AL67: =SUM(AL65:AL66) -> 0 | AM67: =Juin!AM67 -> 22.46 | AN67: =IF(A66="","",IF(A66>NomMois,0,IF(A66<$A$3,2.08,(NETWORKDAYS(A66,$A$2)/21.66667)*2.08))) -> 2.08 | AO67: =IF( AN67="",0,+AN67+Août!AO67) -> 8.32 | AQ67: =+AM67-AI67 -> 6.46 | AR67: =+AP67-AJ67 -> 0 | AS67: =+AO67+AQ67 -> 14.78
B69: Matin | AH69: =COUNTA(Septembre!$C69:$AG69) -> 0 | AI69: =(COUNTIFS(Septembre!$C69:$AG69,("cp")))/2+Août!AI69 -> 10 | AJ69: =COUNTIFS(Septembre!$C69:$AG69,"RTT")/2+Août!AJ69 -> 0 | AK69: =COUNTIFS(Septembre!$C69:$AG69,"m")/2+Août!AK69 -> 0 | AL69: =COUNTIFS(Septembre!$C69:$AG69,"a")/2+Août!AL69 -> 1
A70: 41701 | B70: A-M | AH70: =COUNTA(Septembre!$C70:$AG70) -> 0 | AI70: =(COUNTIFS(Septembre!$C70:$AG70,("cp")))/2+Août!AI70 -> 10 | AJ70: =COUNTIFS(Septembre!$C70:$AG70,"RTT")/2+Août!AJ70 -> 0 | AK70: =COUNTIFS(Septembre!$C70:$AG70,"m")/2+Août!AK70 -> 0 | AL70: =COUNTIFS(Septembre!$C70:$AG70,"a")/2+Août!AL70 -> 1
C71: =IF(C69>0,C69,IF(C70>0,C70,"")) | D71: =IF(D69>0,D69,IF(D70>0,D70,"")) | E71: =IF(E69>0,E69,IF(E70>0,E70,"")) | F71: =IF(F69>0,F69,IF(F70>0,F70,"")) | G71: =IF(G69>0,G69,IF(G70>0,G70,"")) | H71: =IF(H69>0,H69,IF(H70>0,H70,"")) | I71: =IF(I69>0,I69,IF(I70>0,I70,"")) | J71: =IF(J69>0,J69,IF(J70>0,J70,"")) | ... AG71: =IF(AG69>0,AG69,IF(AG70>0,AG70,"")) | AH71: =SUM(AH69:AH70) -> 0 | AI71: =SUM(AI69:AI70) -> 20 | AJ71: =SUM(AJ69:AJ70) -> 0 | AK71: =SUM(AK69:AK70) -> 0 | AL71: =SUM(AL69:AL70) -> 2 | AM71: =Juin!AM71 -> 45.34 | AN71: =IF(A70="","",IF(A70>NomMois,0,IF(A70<$A$3,2.08,(NETWORKDAYS(A70,$A$2)/21.66667)*2.08))) -> 2.08 | AO71: =IF( AN71="",0,+AN71+Août!AO71) -> 8.32 | AQ71: =+AM71-AI71 -> 25.34 | AR71: =+AP71-AJ71 -> 0 | AS71: =+AO71+AQ71 -> 33.66
B73: Matin | AH73: =COUNTA(Septembre!$C73:$AG73) -> 0 | AI73: =(COUNTIFS(Septembre!$C73:$AG73,("cp")))/2+Août!AI73 -> 0 | AJ73: =COUNTIFS(Septembre!$C73:$AG73,"RTT")/2+Août!AJ73 -> 0 | AK73: =COUNTIFS(Septembre!$C73:$AG73,"m")/2+Août!AK73 -> 0 | AL73: =COUNTIFS(Septembre!$C73:$AG73,"a")/2+Août!AL73 -> 0
A74: 42979 | B74: A-M | AH74: =COUNTA(Septembre!$C74:$AG74) -> 0 | AI74: =(COUNTIFS(Septembre!$C74:$AG74,("cp")))/2+Août!AI74 -> 0 | AJ74: =COUNTIFS(Septembre!$C74:$AG74,"RTT")/2+Août!AJ74 -> 0 | AK74: =COUNTIFS(Septembre!$C74:$AG74,"m")/2+Août!AK74 -> 0 | AL74: =COUNTIFS(Septembre!$C74:$AG74,"a")/2+Août!AL74 -> 0
C75: =IF(C73>0,C73,IF(C74>0,C74,"")) | D75: =IF(D73>0,D73,IF(D74>0,D74,"")) | E75: =IF(E73>0,E73,IF(E74>0,E74,"")) | F75: =IF(F73>0,F73,IF(F74>0,F74,"")) | G75: =IF(G73>0,G73,IF(G74>0,G74,"")) | H75: =IF(H73>0,H73,IF(H74>0,H74,"")) | I75: =IF(I73>0,I73,IF(I74>0,I74,"")) | J75: =IF(J73>0,J73,IF(J74>0,J74,"")) | ... AG75: =IF(AG73>0,AG73,IF(AG74>0,AG74,"")) | AH75: =SUM(AH73:AH74) -> 0 | AI75: =SUM(AI73:AI74) -> 0 | AJ75: =SUM(AJ73:AJ74) -> 0 | AK75: =SUM(AK73:AK74) -> 0 | AL75: =SUM(AL73:AL74) -> 0 | AM75: =Juin!AM75 -> 0 | AN75: =IF(A74="","",IF(A74>NomMois,0,IF(A74<$A$3,2.08,(NETWORKDAYS(A74,$A$2)/21.66667)*2.08))) -> 2.0159997 | AO75: =IF( AN75="",0,+AN75+Août!AO75) -> 2.0159997 | AQ75: =+AM75-AI75 -> 0 | AR75: =+AP75-AJ75 -> 0 | AS75: =+AO75+AQ75 -> 2.0159997
B77: Matin | AH77: =COUNTA(Septembre!$C77:$AG77) -> 0 | AI77: =(COUNTIFS(Septembre!$C77:$AG77,("cp")))/2+Août!AI77 -> 0 | AJ77: =COUNTIFS(Septembre!$C77:$AG77,"RTT")/2+Août!AJ77 -> 0 | AK77: =COUNTIFS(Septembre!$C77:$AG77,"m")/2+Août!AK77 -> 0 | AL77: =COUNTIFS(Septembre!$C77:$AG77,"a")/2+Août!AL77 -> 0
A78: 43059 | B78: A-M | AH78: =COUNTA(Septembre!$C78:$AG78) -> 0 | AI78: =(COUNTIFS(Septembre!$C78:$AG78,("cp")))/2+Août!AI78 -> 0 | AJ78: =COUNTIFS(Septembre!$C78:$AG78,"RTT")/2+Août!AJ78 -> 0 | AK78: =COUNTIFS(Septembre!$C78:$AG78,"m")/2+Août!AK78 -> 0 | AL78: =COUNTIFS(Septembre!$C78:$AG78,"a")/2+Août!AL78 -> 0
C79: =IF(C77>0,C77,IF(C78>0,C78,"")) | D79: =IF(D77>0,D77,IF(D78>0,D78,"")) | E79: =IF(E77>0,E77,IF(E78>0,E78,"")) | F79: =IF(F77>0,F77,IF(F78>0,F78,"")) | G79: =IF(G77>0,G77,IF(G78>0,G78,"")) | H79: =IF(H77>0,H77,IF(H78>0,H78,"")) | I79: =IF(I77>0,I77,IF(I78>0,I78,"")) | J79: =IF(J77>0,J77,IF(J78>0,J78,"")) | ... AG79: =IF(AG77>0,AG77,IF(AG78>0,AG78,"")) | AH79: =SUM(AH77:AH78) -> 0 | AI79: =SUM(AI77:AI78) -> 0 | AJ79: =SUM(AJ77:AJ78) -> 0 | AK79: =SUM(AK77:AK78) -> 0 | AL79: =SUM(AL77:AL78) -> 0 | AM79: =Juin!AM79 -> 0 | AN79: =IF(A78="","",IF(A78>NomMois,0,IF(A78<$A$3,2.08,(NETWORKDAYS(A78,$A$2)/21.66667)*2.08))) -> 0 | AO79: =IF( AN79="",0,+AN79+Août!AO79) -> 0 | AQ79: =+AM79-AI79 -> 0 | AR79: =+AP79-AJ79 -> 0 | AS79: =+AO79+AQ79 -> 0
B81: Matin | F81: CP | G81: CP | H81: CP | I81: CP | J81: CP | AH81: =COUNTA(Septembre!$C81:$AG81) -> 5 | AI81: =(COUNTIFS(Septembre!$C81:$AG81,("cp")))/2+Août!AI81 -> 2.5 | AJ81: =COUNTIFS(Septembre!$C81:$AG81,"RTT")/2+Août!AJ81 -> 0 | AK81: =COUNTIFS(Septembre!$C81:$AG81,"m")/2+Août!AK81 -> 0 | AL81: =COUNTIFS(Septembre!$C81:$AG81,"a")/2+Août!AL81 -> 0
A82: 42506 | B82: A-M | F82: CP | G82: CP | H82: CP | I82: CP | J82: CP | AH82: =COUNTA(Septembre!$C82:$AG82) -> 5 | AI82: =(COUNTIFS(Septembre!$C82:$AG82,("cp")))/2+Août!AI82 -> 2.5 | AJ82: =COUNTIFS(Septembre!$C82:$AG82,"RTT")/2+Août!AJ82 -> 0 | AK82: =COUNTIFS(Septembre!$C82:$AG82,"m")/2+Août!AK82 -> 0 | AL82: =COUNTIFS(Septembre!$C82:$AG82,"a")/2+Août!AL82 -> 0
C83: =IF(C81>0,C81,IF(C82>0,C82,"")) | D83: =IF(D81>0,D81,IF(D82>0,D82,"")) | E83: =IF(E81>0,E81,IF(E82>0,E82,"")) | F83: =IF(F81>0,F81,IF(F82>0,F82,"")) -> CP | G83: =IF(G81>0,G81,IF(G82>0,G82,"")) -> CP | H83: =IF(H81>0,H81,IF(H82>0,H82,"")) -> CP | I83: =IF(I81>0,I81,IF(I82>0,I82,"")) -> CP | J83: =IF(J81>0,J81,IF(J82>0,J82,"")) -> CP | ... AG83: =IF(AG81>0,AG81,IF(AG82>0,AG82,"")) | AH83: =SUM(AH81:AH82) -> 10 | AI83: =SUM(AI81:AI82) -> 5 | AJ83: =SUM(AJ81:AJ82) -> 0 | AK83: =SUM(AK81:AK82) -> 0 | AL83: =SUM(AL81:AL82) -> 0 | AM83: =Juin!AM83 -> -9.98 | AN83: =IF(A82="","",IF(A82>NomMois,0,IF(A82<$A$3,2.08,(NETWORKDAYS(A82,$A$2)/21.66667)*2.08))) -> 2.08 | AO83: =IF( AN83="",0,+AN83+Août!AO83) -> 8.32 | AQ83: =+AM83-AI83 -> -14.98 | AR83: =+AP83-AJ83 -> 0 | AS83: =+AO83+AQ83 -> -6.66
B85: Matin | AH85: =COUNTA(Septembre!$C85:$AG85) -> 0 | AI85: =(COUNTIFS(Septembre!$C85:$AG85,("cp")))/2+Août!AI85 -> 10.5 | AJ85: =COUNTIFS(Septembre!$C85:$AG85,"RTT")/2+Août!AJ85 -> 0 | AK85: =COUNTIFS(Septembre!$C85:$AG85,"m")/2+Août!AK85 -> 0 | AL85: =COUNTIFS(Septembre!$C85:$AG85,"a")/2+Août!AL85 -> 0
A86: 42303 | B86: A-M | AH86: =COUNTA(Septembre!$C86:$AG86) -> 0 | AI86: =(COUNTIFS(Septembre!$C86:$AG86,("cp")))/2+Août!AI86 -> 10.5 | AJ86: =COUNTIFS(Septembre!$C86:$AG86,"RTT")/2+Août!AJ86 -> 0 | AK86: =COUNTIFS(Septembre!$C86:$AG86,"m")/2+Août!AK86 -> 0 | AL86: =COUNTIFS(Septembre!$C86:$AG86,"a")/2+Août!AL86 -> 0
C87: =IF(C85>0,C85,IF(C86>0,C86,"")) | D87: =IF(D85>0,D85,IF(D86>0,D86,"")) | E87: =IF(E85>0,E85,IF(E86>0,E86,"")) | F87: =IF(F85>0,F85,IF(F86>0,F86,"")) | G87: =IF(G85>0,G85,IF(G86>0,G86,"")) | H87: =IF(H85>0,H85,IF(H86>0,H86,"")) | I87: =IF(I85>0,I85,IF(I86>0,I86,"")) | J87: =IF(J85>0,J85,IF(J86>0,J86,"")) | ... AG87: =IF(AG85>0,AG85,IF(AG86>0,AG86,"")) | AH87: =SUM(AH85:AH86) -> 0 | AI87: =SUM(AI85:AI86) -> 21 | AJ87: =SUM(AJ85:AJ86) -> 0 | AK87: =SUM(AK85:AK86) -> 0 | AL87: =SUM(AL85:AL86) -> 0 | AM87: =Juin!AM87 -> 12.02 | AN87: =IF(A86="","",IF(A86>NomMois,0,IF(A86<$A$3,2.5,(NETWORKDAYS(A86,$A$2)/21.66667)*2.5))) -> 2.5 | AO87: =IF( AN87="",0,+AN87+Août!AO87) -> 10 | AQ87: =+AM87-AI87 -> -8.98 | AR87: =+AP87-AJ87 -> 0 | AS87: =+AO87+AQ87 -> 1.02
B89: Matin | AH89: =COUNTA(Septembre!$C89:$AG89) -> 0 | AI89: =(COUNTIFS(Septembre!$C89:$AG89,("cp")))/2+Août!AI89 -> 11.5 | AJ89: =COUNTIFS(Septembre!$C89:$AG89,"RTT")/2+Août!AJ89 -> 0 | AK89: =COUNTIFS(Septembre!$C89:$AG89,"m")/2+Août!AK89 -> 0 | AL89: =COUNTIFS(Septembre!$C89:$AG89,"a")/2+Août!AL89 -> 0
A90: 42303 | B90: A-M | AH90: =COUNTA(Septembre!$C90:$AG90) -> 0 | AI90: =(COUNTIFS(Septembre!$C90:$AG90,("cp")))/2+Août!AI90 -> 11.5 | AJ90: =COUNTIFS(Septembre!$C90:$AG90,"RTT")/2+Août!AJ90 -> 0 | AK90: =COUNTIFS(Septembre!$C90:$AG90,"m")/2+Août!AK90 -> 0 | AL90: =COUNTIFS(Septembre!$C90:$AG90,"a")/2+Août!AL90 -> 0
C91: =IF(C89>0,C89,IF(C90>0,C90,"")) | D91: =IF(D89>0,D89,IF(D90>0,D90,"")) | E91: =IF(E89>0,E89,IF(E90>0,E90,"")) | F91: =IF(F89>0,F89,IF(F90>0,F90,"")) | G91: =IF(G89>0,G89,IF(G90>0,G90,"")) | H91: =IF(H89>0,H89,IF(H90>0,H90,"")) | I91: =IF(I89>0,I89,IF(I90>0,I90,"")) | J91: =IF(J89>0,J89,IF(J90>0,J90,"")) | ... AG91: =IF(AG89>0,AG89,IF(AG90>0,AG90,"")) | AH91: =SUM(AH89:AH90) -> 0 | AI91: =SUM(AI89:AI90) -> 23 | AJ91: =SUM(AJ89:AJ90) -> 0 | AK91: =SUM(AK89:AK90) -> 0 | AL91: =SUM(AL89:AL90) -> 0 | AM91: =Juin!AM91 -> -0.82 | AN91: =IF(A90="","",IF(A90>NomMois,0,IF(A90<$A$3,2.5,(NETWORKDAYS(A90,$A$2)/21.66667)*2.5))) -> 2.5 | AO91: =IF( AN91="",0,+AN91+Août!AO91) -> 10 | AQ91: =+AM91-AI91 -> -23.82 | AR91: =+AP91-AJ91 -> 0 | AS91: =+AO91+AQ91 -> -13.82
B93: Matin | AH93: =COUNTA(Septembre!$C93:$AG93) -> 0 | AI93: =(COUNTIFS(Septembre!$C93:$AG93,("cp")))/2+Août!AI93 -> 0 | AJ93: =COUNTIFS(Septembre!$C93:$AG93,"RTT")/2+Août!AJ93 -> 0 | AK93: =COUNTIFS(Septembre!$C93:$AG93,"m")/2+Août!AK93 -> 5 | AL93: =COUNTIFS(Septembre!$C93:$AG93,"a")/2+Août!AL93 -> 0
A94: 42921 | B94: A-M | AH94: =COUNTA(Septembre!$C94:$AG94) -> 0 | AI94: =(COUNTIFS(Septembre!$C94:$AG94,("cp")))/2+Août!AI94 -> 0 | AJ94: =COUNTIFS(Septembre!$C94:$AG94,"RTT")/2+Août!AJ94 -> 0 | AK94: =COUNTIFS(Septembre!$C94:$AG94,"m")/2+Août!AK94 -> 5 | AL94: =COUNTIFS(Septembre!$C94:$AG94,"a")/2+Août!AL94 -> 0
C95: =IF(C93>0,C93,IF(C94>0,C94,"")) | D95: =IF(D93>0,D93,IF(D94>0,D94,"")) | E95: =IF(E93>0,E93,IF(E94>0,E94,"")) | F95: =IF(F93>0,F93,IF(F94>0,F94,"")) | G95: =IF(G93>0,G93,IF(G94>0,G94,"")) | H95: =IF(H93>0,H93,IF(H94>0,H94,"")) | I95: =IF(I93>0,I93,IF(I94>0,I94,"")) | J95: =IF(J93>0,J93,IF(J94>0,J94,"")) | ... AG95: =IF(AG93>0,AG93,IF(AG94>0,AG94,"")) | AH95: =SUM(AH93:AH94) -> 0 | AI95: =SUM(AI93:AI94) -> 0 | AJ95: =SUM(AJ93:AJ94) -> 0 | AK95: =SUM(AK93:AK94) -> 10 | AL95: =SUM(AL93:AL94) -> 0 | AM95: =Juin!AM95 -> 0 | AN95: =IF(A94="","",IF(A94>NomMois,0,IF(A94<$A$3,2.08,(NETWORKDAYS(A94,$A$2)/21.66667)*2.08))) -> 2.08 | AO95: =IF( AN95="",0,+AN95+Août!AO95) -> 5.9839997 | AQ95: =+AM95-AI95 -> 0 | AR95: =+AP95-AJ95 -> 0 | AS95: =+AO95+AQ95 -> 5.9839997
B97: Matin | AH97: =COUNTA(Septembre!$C97:$AG97) -> 0 | AI97: =(COUNTIFS(Septembre!$C97:$AG97,("cp")))/2+Août!AI97 -> 11.5 | AJ97: =COUNTIFS(Septembre!$C97:$AG97,"RTT")/2+Août!AJ97 -> 0 | AK97: =COUNTIFS(Septembre!$C97:$AG97,"m")/2+Août!AK97 -> 0 | AL97: =COUNTIFS(Septembre!$C97:$AG97,"a")/2+Août!AL97 -> 0
A98: 42736 | B98: A-M | AH98: =COUNTA(Septembre!$C98:$AG98) -> 0 | AI98: =(COUNTIFS(Septembre!$C98:$AG98,("cp")))/2+Août!AI98 -> 11.5 | AJ98: =COUNTIFS(Septembre!$C98:$AG98,"RTT")/2+Août!AJ98 -> 0 | AK98: =COUNTIFS(Septembre!$C98:$AG98,"m")/2+Août!AK98 -> 0 | AL98: =COUNTIFS(Septembre!$C98:$AG98,"a")/2+Août!AL98 -> 0
C99: =IF(C97>0,C97,IF(C98>0,C98,"")) | D99: =IF(D97>0,D97,IF(D98>0,D98,"")) | E99: =IF(E97>0,E97,IF(E98>0,E98,"")) | F99: =IF(F97>0,F97,IF(F98>0,F98,"")) | G99: =IF(G97>0,G97,IF(G98>0,G98,"")) | H99: =IF(H97>0,H97,IF(H98>0,H98,"")) | I99: =IF(I97>0,I97,IF(I98>0,I98,"")) | J99: =IF(J97>0,J97,IF(J98>0,J98,"")) | ... AG99: =IF(AG97>0,AG97,IF(AG98>0,AG98,"")) | AH99: =SUM(AH97:AH98) -> 0 | AI99: =SUM(AI97:AI98) -> 23 | AJ99: =SUM(AJ97:AJ98) -> 0 | AK99: =SUM(AK97:AK98) -> 0 | AL99: =SUM(AL97:AL98) -> 0 | AM99: =Juin!AM99 -> 5.41 | AN99: =IF(A98="","",IF(A98>NomMois,0,IF(A98<$A$3,2.08,(NETWORKDAYS(A98,$A$2)/21.66667)*2.08))) -> 2.08 | AO99: =IF( AN99="",0,+AN99+Août!AO99) -> 8.32 | AQ99: =+AM99-AI99 -> -17.59 | AR99: =+AP99-AJ99 -> 0 | AS99: =+AO99+AQ99 -> -9.27
B101: Matin | AH101: =COUNTA(Septembre!$C101:$AG101) -> 0 | AI101: =(COUNTIFS(Septembre!$C101:$AG101,("cp")))/2+Août!AI101 -> 2 | AJ101: =COUNTIFS(Septembre!$C101:$AG101,"RTT")/2+Août!AJ101 -> 0 | AK101: =COUNTIFS(Septembre!$C101:$AG101,"m")/2+Août!AK101 -> 0 | AL101: =COUNTIFS(Septembre!$C101:$AG101,"a")/2+Août!AL101 -> 0
A102: 42814 | B102: A-M | AH102: =COUNTA(Septembre!$C102:$AG102) -> 0 | AI102: =(COUNTIFS(Septembre!$C102:$AG102,("cp")))/2+Août!AI102 -> 2 | AJ102: =COUNTIFS(Septembre!$C102:$AG102,"RTT")/2+Août!AJ102 -> 0 | AK102: =COUNTIFS(Septembre!$C102:$AG102,"m")/2+Août!AK102 -> 0 | AL102: =COUNTIFS(Septembre!$C102:$AG102,"a")/2+Août!AL102 -> 0
C103: =IF(C101>0,C101,IF(C102>0,C102,"")) | D103: =IF(D101>0,D101,IF(D102>0,D102,"")) | E103: =IF(E101>0,E101,IF(E102>0,E102,"")) | F103: =IF(F101>0,F101,IF(F102>0,F102,"")) | G103: =IF(G101>0,G101,IF(G102>0,G102,"")) | H103: =IF(H101>0,H101,IF(H102>0,H102,"")) | I103: =IF(I101>0,I101,IF(I102>0,I102,"")) | J103: =IF(J101>0,J101,IF(J102>0,J102,"")) | ... AG103: =IF(AG101>0,AG101,IF(AG102>0,AG102,"")) | AH103: =SUM(AH101:AH102) -> 0 | AI103: =SUM(AI101:AI102) -> 4 | AJ103: =SUM(AJ101:AJ102) -> 0 | AK103: =SUM(AK101:AK102) -> 0 | AL103: =SUM(AL101:AL102) -> 0 | AM103: =Juin!AM103 -> 2.65 | AN103: =IF(A102="","",IF(A102>NomMois,0,IF(A102<$A$3,2.08,(NETWORKDAYS(A102,$A$2)/21.66667)*2.08))) -> 2.08 | AO103: =IF( AN103="",0,+AN103+Août!AO103) -> 8.32 | AQ103: =+AM103-AI103 -> -1.35 | AR103: =+AP103-AJ103 -> 0 | AS103: =+AO103+AQ103 -> 6.97
B105: Matin | AH105: =COUNTA(Septembre!$C105:$AG105) -> 0 | AI105: =(COUNTIFS(Septembre!$C105:$AG105,("cp")))/2+Août!AI105 -> 0 | AJ105: =COUNTIFS(Septembre!$C105:$AG105,"RTT")/2+Août!AJ105 -> 0 | AK105: =COUNTIFS(Septembre!$C105:$AG105,"m")/2+Août!AK105 -> 0 | AL105: =COUNTIFS(Septembre!$C105:$AG105,"a")/2+Août!AL105 -> 0
A106: 43037 | B106: A-M | AH106: =COUNTA(Septembre!$C106:$AG106) -> 0 | AI106: =(COUNTIFS(Septembre!$C106:$AG106,("cp")))/2+Août!AI106 -> 0 | AJ106: =COUNTIFS(Septembre!$C106:$AG106,"RTT")/2+Août!AJ106 -> 0 | AK106: =COUNTIFS(Septembre!$C106:$AG106,"m")/2+Août!AK106 -> 0 | AL106: =COUNTIFS(Septembre!$C106:$AG106,"a")/2+Août!AL106 -> 0
C107: =IF(C105>0,C105,IF(C106>0,C106,"")) | D107: =IF(D105>0,D105,IF(D106>0,D106,"")) | E107: =IF(E105>0,E105,IF(E106>0,E106,"")) | F107: =IF(F105>0,F105,IF(F106>0,F106,"")) | G107: =IF(G105>0,G105,IF(G106>0,G106,"")) | H107: =IF(H105>0,H105,IF(H106>0,H106,"")) | I107: =IF(I105>0,I105,IF(I106>0,I106,"")) | J107: =IF(J105>0,J105,IF(J106>0,J106,"")) | ... AG107: =IF(AG105>0,AG105,IF(AG106>0,AG106,"")) | AH107: =SUM(AH105:AH106) -> 0 | AI107: =SUM(AI105:AI106) -> 0 | AJ107: =SUM(AJ105:AJ106) -> 0 | AK107: =SUM(AK105:AK106) -> 0 | AL107: =SUM(AL105:AL106) -> 0 | AM107: 0 | AN107: =IF(A106="","",IF(A106>NomMois,0,IF(A106<$A$3,2.08,(NETWORKDAYS(A106,$A$2)/21.66667)*2.08))) -> 0 | AO107: =IF( AN107="",0,+AN107+Août!AO107) -> 0 | AQ107: =+AM107-AI107 -> 0 | AR107: =+AP107-AJ107 -> 0 | AS107: =+AO107+AQ107 -> 0
B109: Matin | AH109: =COUNTA(Septembre!$C109:$AG109) -> 0 | AI109: =(COUNTIFS(Septembre!$C109:$AG109,("cp")))/2+Août!AI109 -> 0 | AJ109: =COUNTIFS(Septembre!$C109:$AG109,"RTT")/2+Août!AJ109 -> 0 | AK109: =COUNTIFS(Septembre!$C109:$AG109,"m")/2+Août!AK109 -> 0 | AL109: =COUNTIFS(Septembre!$C109:$AG109,"a")/2+Août!AL109 -> 0
A110: 42991 | B110: A-M | AH110: =COUNTA(Septembre!$C110:$AG110) -> 0 | AI110: =(COUNTIFS(Septembre!$C110:$AG110,("cp")))/2+Août!AI110 -> 0 | AJ110: =COUNTIFS(Septembre!$C110:$AG110,"RTT")/2+Août!AJ110 -> 0 | AK110: =COUNTIFS(Septembre!$C110:$AG110,"m")/2+Août!AK110 -> 0 | AL110: =COUNTIFS(Septembre!$C110:$AG110,"a")/2+Août!AL110 -> 0
C111: =IF(C109>0,C109,IF(C110>0,C110,"")) | D111: =IF(D109>0,D109,IF(D110>0,D110,"")) | E111: =IF(E109>0,E109,IF(E110>0,E110,"")) | F111: =IF(F109>0,F109,IF(F110>0,F110,"")) | G111: =IF(G109>0,G109,IF(G110>0,G110,"")) | H111: =IF(H109>0,H109,IF(H110>0,H110,"")) | I111: =IF(I109>0,I109,IF(I110>0,I110,"")) | J111: =IF(J109>0,J109,IF(J110>0,J110,"")) | ... AG111: =IF(AG109>0,AG109,IF(AG110>0,AG110,"")) | AH111: =SUM(AH109:AH110) -> 0 | AI111: =SUM(AI109:AI110) -> 0 | AJ111: =SUM(AJ109:AJ110) -> 0 | AK111: =SUM(AK109:AK110) -> 0 | AL111: =SUM(AL109:AL110) -> 0 | AM111: 0 | AN111: =IF(A110="","",IF(A110>NomMois,0,IF(A110<$A$3,2.08,(NETWORKDAYS(A110,$A$2)/21.66667)*2.08))) -> 1.2479998 | AO111: =IF( AN111="",0,+AN111+Août!AO111) -> 1.2479998 | AQ111: =+AM111-AI111 -> 0 | AR111: =+AP111-AJ111 -> 0 | AS111: =+AO111+AQ111 -> 1.2479998
B113: Matin | AH113: =COUNTA(Septembre!$C113:$AG113) -> 0 | AI113: =(COUNTIFS(Septembre!$C113:$AG113,("cp")))/2+Août!AI113 -> 0 | AJ113: =COUNTIFS(Septembre!$C113:$AG113,"RTT")/2+Août!AJ113 -> 0 | AK113: =COUNTIFS(Septembre!$C113:$AG113,"m")/2+Août!AK113 -> 0 | AL113: =COUNTIFS(Septembre!$C113:$AG113,"a")/2+Août!AL113 -> 0
A114: 43052 | B114: A-M | AH114: =COUNTA(Septembre!$C114:$AG114) -> 0 | AI114: =(COUNTIFS(Septembre!$C114:$AG114,("cp")))/2+Août!AI114 -> 0 | AJ114: =COUNTIFS(Septembre!$C114:$AG114,"RTT")/2+Août!AJ114 -> 0 | AK114: =COUNTIFS(Septembre!$C114:$AG114,"m")/2+Août!AK114 -> 0 | AL114: =COUNTIFS(Septembre!$C114:$AG114,"a")/2+Août!AL114 -> 0
C115: =IF(C113>0,C113,IF(C114>0,C114,"")) | D115: =IF(D113>0,D113,IF(D114>0,D114,"")) | E115: =IF(E113>0,E113,IF(E114>0,E114,"")) | F115: =IF(F113>0,F113,IF(F114>0,F114,"")) | G115: =IF(G113>0,G113,IF(G114>0,G114,"")) | H115: =IF(H113>0,H113,IF(H114>0,H114,"")) | I115: =IF(I113>0,I113,IF(I114>0,I114,"")) | J115: =IF(J113>0,J113,IF(J114>0,J114,"")) | ... AG115: =IF(AG113>0,AG113,IF(AG114>0,AG114,"")) | AH115: =SUM(AH113:AH114) -> 0 | AI115: =SUM(AI113:AI114) -> 0 | AJ115: =SUM(AJ113:AJ114) -> 0 | AK115: =SUM(AK113:AK114) -> 0 | AL115: =SUM(AL113:AL114) -> 0 | AM115: 0 | AN115: =IF(A114="","",IF(A114>NomMois,0,IF(A114<$A$3,2.08,(NETWORKDAYS(A114,$A$2)/21.66667)*2.08))) -> 0 | AO115: =IF( AN115="",0,+AN115+Août!AO115) -> 0 | AQ115: =+AM115-AI115 -> 0 | AR115: =+AP115-AJ115 -> 0 | AS115: =+AO115+AQ115 -> 0
B117: Matin | AH117: =COUNTA(Septembre!$C117:$AG117) -> 0 | AI117: =(COUNTIFS(Septembre!$C117:$AG117,("cp")))/2+Août!AI117 -> 0 | AJ117: =COUNTIFS(Septembre!$C117:$AG117,"RTT")/2+Août!AJ117 -> 0 | AK117: =COUNTIFS(Septembre!$C117:$AG117,"m")/2+Août!AK117 -> 0 | AL117: =COUNTIFS(Septembre!$C117:$AG117,"a")/2+Août!AL117 -> 0
B118: A-M | AH118: =COUNTA(Septembre!$C118:$AG118) -> 0 | AI118: =(COUNTIFS(Septembre!$C118:$AG118,("cp")))/2+Août!AI118 -> 0 | AJ118: =COUNTIFS(Septembre!$C118:$AG118,"RTT")/2+Août!AJ118 -> 0 | AK118: =COUNTIFS(Septembre!$C118:$AG118,"m")/2+Août!AK118 -> 0 | AL118: =COUNTIFS(Septembre!$C118:$AG118,"a")/2+Août!AL118 -> 0
C119: =IF(C117>0,C117,IF(C118>0,C118,"")) | D119: =IF(D117>0,D117,IF(D118>0,D118,"")) | E119: =IF(E117>0,E117,IF(E118>0,E118,"")) | F119: =IF(F117>0,F117,IF(F118>0,F118,"")) | G119: =IF(G117>0,G117,IF(G118>0,G118,"")) | H119: =IF(H117>0,H117,IF(H118>0,H118,"")) | I119: =IF(I117>0,I117,IF(I118>0,I118,"")) | J119: =IF(J117>0,J117,IF(J118>0,J118,"")) | ... AG119: =IF(AG117>0,AG117,IF(AG118>0,AG118,"")) | AH119: =SUM(AH117:AH118) -> 0 | AI119: =SUM(AI117:AI118) -> 0 | AJ119: =SUM(AJ117:AJ118) -> 0 | AK119: =SUM(AK117:AK118) -> 0 | AL119: =SUM(AL117:AL118) -> 0 | AM119: 0 | AN119: =IF(A118="","",IF(A118>NomMois,0,IF(A118<$A$3,2.08,(NETWORKDAYS(A118,$A$2)/21.66667)*2.08))) | AO119: =IF( AN119="",0,+AN119+Août!AO119) -> 0 | AQ119: =+AM119-AI119 -> 0 | AR119: =+AP119-AJ119 -> 0 | AS119: =+AO119+AQ119 -> 0
B121: Matin | AH121: =COUNTA(Septembre!$C121:$AG121) -> 0 | AI121: =(COUNTIFS(Septembre!$C121:$AG121,("cp")))/2+Août!AI121 -> 0 | AJ121: =COUNTIFS(Septembre!$C121:$AG121,"RTT")/2+Août!AJ121 -> 0 | AK121: =COUNTIFS(Septembre!$C121:$AG121,"m")/2+Août!AK121 -> 0 | AL121: =COUNTIFS(Septembre!$C121:$AG121,"a")/2+Août!AL121 -> 0
B122: A-M | AH122: =COUNTA(Septembre!$C122:$AG122) -> 0 | AI122: =(COUNTIFS(Septembre!$C122:$AG122,("cp")))/2+Août!AI122 -> 0 | AJ122: =COUNTIFS(Septembre!$C122:$AG122,"RTT")/2+Août!AJ122 -> 0 | AK122: =COUNTIFS(Septembre!$C122:$AG122,"m")/2+Août!AK122 -> 0 | AL122: =COUNTIFS(Septembre!$C122:$AG122,"a")/2+Août!AL122 -> 0
C123: =IF(C121>0,C121,IF(C122>0,C122,"")) | D123: =IF(D121>0,D121,IF(D122>0,D122,"")) | E123: =IF(E121>0,E121,IF(E122>0,E122,"")) | F123: =IF(F121>0,F121,IF(F122>0,F122,"")) | G123: =IF(G121>0,G121,IF(G122>0,G122,"")) | H123: =IF(H121>0,H121,IF(H122>0,H122,"")) | I123: =IF(I121>0,I121,IF(I122>0,I122,"")) | J123: =IF(J121>0,J121,IF(J122>0,J122,"")) | ... AG123: =IF(AG121>0,AG121,IF(AG122>0,AG122,"")) | AH123: =SUM(AH121:AH122) -> 0 | AI123: =SUM(AI121:AI122) -> 0 | AJ123: =SUM(AJ121:AJ122) -> 0 | AK123: =SUM(AK121:AK122) -> 0 | AL123: =SUM(AL121:AL122) -> 0 | AM123: 0 | AN123: =IF(A122="","",IF(A122>NomMois,0,IF(A122<$A$3,2.08,(NETWORKDAYS(A122,$A$2)/21.66667)*2.08))) | AO123: =IF( AN123="",0,+AN123+Août!AO123) -> 0 | AQ123: =+AM123-AI123 -> 0 | AR123: =+AP123-AJ123 -> 0 | AS123: =+AO123+AQ123 -> 0
C127: Clé de couleur | H127: CP | I127: Congés | L127: RTT | M127: RTT | P127: M | Q127: Maladie | T127: A | U127: Absence injustifiée | Z127: Personnalisé 2

Sheet Octobre
A1: Planification des absences des employés
A2: 43039 | C2: Dates d’absence | AH2: 2017 | AI2: Nombre de jours pris | AM2: Nombre de Jours acquis | AQ2: Solde
A3: 43009 | C3: =TEXT(WEEKDAY(DATE(CalendrierAnnée,10,1),1),"jjj") -> dim | D3: =TEXT(WEEKDAY(DATE(CalendrierAnnée,10,2),1),"jjj") -> lun | E3: =TEXT(WEEKDAY(DATE(CalendrierAnnée,10,3),1),"jjj") -> mar | F3: =TEXT(WEEKDAY(DATE(CalendrierAnnée,10,4),1),"jjj") -> mer | G3: =TEXT(WEEKDAY(DATE(CalendrierAnnée,10,5),1),"jjj") -> jeu | H3: =TEXT(WEEKDAY(DATE(CalendrierAnnée,10,6),1),"jjj") -> ven | I3: =TEXT(WEEKDAY(DATE(CalendrierAnnée,10,7),1),"jjj") -> sam | J3: =TEXT(WEEKDAY(DATE(CalendrierAnnée,10,8),1),"jjj") -> dim | K3: =TEXT(WEEKDAY(DATE(CalendrierAnnée,10,9),1),"jjj") -> lun | L3: =TEXT(WEEKDAY(DATE(CalendrierAnnée,10,10),1),"jjj") -> mar | M3: =TEXT(WEEKDAY(DATE(CalendrierAnnée,10,11),1),"jjj") -> mer | N3: =TEXT(WEEKDAY(DATE(CalendrierAnnée,10,12),1),"jjj") -> jeu | O3: =TEXT(WEEKDAY(DATE(CalendrierAnnée,10,13),1),"jjj") -> ven | P3: =TEXT(WEEKDAY(DATE(CalendrierAnnée,10,14),1),"jjj") -> sam | Q3: =TEXT(WEEKDAY(DATE(CalendrierAnnée,10,15),1),"jjj") -> dim | R3: =TEXT(WEEKDAY(DATE(CalendrierAnnée,10,16),1),"jjj") -> lun | S3: =TEXT(WEEKDAY(DATE(CalendrierAnnée,10,17),1),"jjj") -> mar | T3: =TEXT(WEEKDAY(DATE(CalendrierAnnée,10,18),1),"jjj") -> mer | U3: =TEXT(WEEKDAY(DATE(CalendrierAnnée,10,19),1),"jjj") -> jeu | V3: =TEXT(WEEKDAY(DATE(CalendrierAnnée,10,20),1),"jjj") -> ven | W3: =TEXT(WEEKDAY(DATE(CalendrierAnnée,10,21),1),"jjj") -> sam | X3: =TEXT(WEEKDAY(DATE(CalendrierAnnée,10,22),1),"jjj") -> dim | Y3: =TEXT(WEEKDAY(DATE(CalendrierAnnée,10,23),1),"jjj") -> lun | Z3: =TEXT(WEEKDAY(DATE(CalendrierAnnée,10,24),1),"jjj") -> mar | AA3: =TEXT(WEEKDAY(DATE(CalendrierAnnée,10,25),1),"jjj") -> mer | AB3: =TEXT(WEEKDAY(DATE(CalendrierAnnée,10,26),1),"jjj") -> jeu | AC3: =TEXT(WEEKDAY(DATE(CalendrierAnnée,10,27),1),"jjj") -> ven | AD3: =TEXT(WEEKDAY(DATE(CalendrierAnnée,10,28),1),"jjj") -> sam | AE3: =TEXT(WEEKDAY(DATE(CalendrierAnnée,10,29),1),"jjj") -> dim | AF3: =TEXT(WEEKDAY(DATE(CalendrierAnnée,10,30),1),"jjj") -> lun | AG3: =TEXT(WEEKDAY(DATE(CalendrierAnnée,10,31),1),"jjj") -> mar
A4: Nom de l’employé | C4: 1 | D4: 2 | E4: 3 | F4: 4 | G4: 5 | H4: 6 | I4: 7 | J4: 8 | K4: 9 | L4: 10 | M4: 11 | N4: 12 | O4: 13 | P4: 14 | Q4: 15 | R4: 16 | S4: 17 | T4: 18 | U4: 19 | V4: 20 | W4: 21 | X4: 22 | Y4: 23 | Z4: 24 | AA4: 25 | AB4: 26 | AC4: 27 | AD4: 28 | AE4: 29 | AF4: 30 | AG4: 31 | AH4: Nombre total de demi-journées | AI4: CP | AJ4: RTT | AK4: M | AL4: A | AM4: C P Acquis | AN4: CP en cours sur le mois | AO4: CP en cours cumulés | AP4: RTT acquis | AQ4: CP | AR4: RTT | AS4: DATE DE SORTIE et SOLDE CP
B5: Matin | AA5: CP | AB5: CP | AH5: =COUNTA(Octobre!$C5:$AG5) -> 2 | AI5: =(COUNTIFS(Octobre!$C5:$AG5,("cp")))/2+Septembre!AI5 -> 6 | AJ5: =COUNTIFS(Octobre!$C5:$AG5,"RTT")/2+Septembre!AJ5 -> 0 | AK5: =COUNTIFS(Octobre!$C5:$AG5,"m")/2+Septembre!AK5 -> 0 | AL5: =COUNTIFS(Octobre!$C5:$AG5,"a")/2+Septembre!AL5 -> 0
A6: 41722 | B6: A-M | AA6: CP | AB6: CP | AH6: =COUNTA(Octobre!$C6:$AG6) -> 2 | AI6: =(COUNTIFS(Octobre!$C6:$AG6,("cp")))/2+Septembre!AI6 -> 6 | AJ6: =COUNTIFS(Octobre!$C6:$AG6,"RTT")/2+Septembre!AJ6 -> 0 | AK6: =COUNTIFS(Octobre!$C6:$AG6,"m")/2+Septembre!AK6 -> 0 | AL6: =COUNTIFS(Octobre!$C6:$AG6,"a")/2+Septembre!AL6 -> 0
C7: =IF(C5>0,C5,IF(C6>0,C6,"")) | D7: =IF(D5>0,D5,IF(D6>0,D6,"")) | E7: =IF(E5>0,E5,IF(E6>0,E6,"")) | F7: =IF(F5>0,F5,IF(F6>0,F6,"")) | G7: =IF(G5>0,G5,IF(G6>0,G6,"")) | H7: =IF(H5>0,H5,IF(H6>0,H6,"")) | I7: =IF(I5>0,I5,IF(I6>0,I6,"")) | J7: =IF(J5>0,J5,IF(J6>0,J6,"")) | ... AG7: =IF(AG5>0,AG5,IF(AG6>0,AG6,"")) | AH7: =SUM(AH5:AH6) -> 4 | AI7: =SUM(AI5:AI6) -> 12 | AJ7: =SUM(AJ5:AJ6) -> 0 | AK7: =SUM(AK5:AK6) -> 0 | AL7: =SUM(AL5:AL6) -> 0 | AM7: =Juin!AM7 -> 9.15 | AN7: =IF(A6="","",IF(A6>NomMois,0,IF(A6<$A$3,2.08,(NETWORKDAYS(A6,$A$2)/21.66667)*2.08))) -> 2.08 | AO7: =IF( AN7="",Septembre!AO7,+AN7+Septembre!AO7) -> 10.4 | AQ7: =+AM7-AI7 -> -2.85 | AR7: =+AP7-AJ7 -> 0 | AS7: =+AO7+AQ7 -> 7.55
B9: Matin | AH9: =COUNTA(Octobre!$C9:$AG9) -> 0 | AI9: =(COUNTIFS(Octobre!$C9:$AG9,("cp")))/2+Septembre!AI9 -> 3.5 | AJ9: =COUNTIFS(Octobre!$C9:$AG9,"RTT")/2+Septembre!AJ9 -> 0 | AK9: =COUNTIFS(Octobre!$C9:$AG9,"m")/2+Septembre!AK9 -> 0 | AL9: =COUNTIFS(Octobre!$C9:$AG9,"a")/2+Septembre!AL9 -> 0
A10: 42740 | B10: A-M | AH10: =COUNTA(Octobre!$C10:$AG10) -> 0 | AI10: =(COUNTIFS(Octobre!$C10:$AG10,("cp")))/2+Septembre!AI10 -> 3.5 | AJ10: =COUNTIFS(Octobre!$C10:$AG10,"RTT")/2+Septembre!AJ10 -> 0 | AK10: =COUNTIFS(Octobre!$C10:$AG10,"m")/2+Septembre!AK10 -> 0 | AL10: =COUNTIFS(Octobre!$C10:$AG10,"a")/2+Septembre!AL10 -> 0
C11: =IF(C9>0,C9,IF(C10>0,C10,"")) | D11: =IF(D9>0,D9,IF(D10>0,D10,"")) | E11: =IF(E9>0,E9,IF(E10>0,E10,"")) | F11: =IF(F9>0,F9,IF(F10>0,F10,"")) | G11: =IF(G9>0,G9,IF(G10>0,G10,"")) | H11: =IF(H9>0,H9,IF(H10>0,H10,"")) | I11: =IF(I9>0,I9,IF(I10>0,I10,"")) | J11: =IF(J9>0,J9,IF(J10>0,J10,"")) | ... AG11: =IF(AG9>0,AG9,IF(AG10>0,AG10,"")) | AH11: =SUM(AH9:AH10) -> 0 | AI11: =SUM(AI9:AI10) -> 7 | AJ11: =SUM(AJ9:AJ10) -> 0 | AK11: =SUM(AK9:AK10) -> 0 | AL11: =SUM(AL9:AL10) -> 0 | AM11: =Juin!AM11 -> 10.32 | AN11: =IF(A10="","",IF(A10>NomMois,0,IF(A10<$A$3,2.08,(NETWORKDAYS(A10,$A$2)/21.66667)*2.08))) -> 2.08 | AO11: =IF( AN11="",Septembre!AO11,+AN11+Septembre!AO11) -> 10.4 | AQ11: =+AM11-AI11 -> 3.32 | AR11: =+AP11-AJ11 -> 0 | AS11: =+AO11+AQ11 -> 13.72
B13: Matin | AH13: =COUNTA(Octobre!$C13:$AG13) -> 0 | AI13: =(COUNTIFS(Octobre!$C13:$AG13,("cp")))/2+Septembre!AI13 -> 0.5 | AJ13: =COUNTIFS(Octobre!$C13:$AG13,"RTT")/2+Septembre!AJ13 -> 0 | AK13: =COUNTIFS(Octobre!$C13:$AG13,"m")/2+Septembre!AK13 -> 0 | AL13: =COUNTIFS(Octobre!$C13:$AG13,"a")/2+Septembre!AL13 -> 1.5
A14: 42891 | B14: A-M | AH14: =COUNTA(Octobre!$C14:$AG14) -> 0 | AI14: =(COUNTIFS(Octobre!$C14:$AG14,("cp")))/2+Septembre!AI14 -> 0.5 | AJ14: =COUNTIFS(Octobre!$C14:$AG14,"RTT")/2+Septembre!AJ14 -> 0 | AK14: =COUNTIFS(Octobre!$C14:$AG14,"m")/2+Septembre!AK14 -> 0 | AL14: =COUNTIFS(Octobre!$C14:$AG14,"a")/2+Septembre!AL14 -> 1 | AS14: 43014
C15: =IF(C13>0,C13,IF(C14>0,C14,"")) | D15: =IF(D13>0,D13,IF(D14>0,D14,"")) | E15: =IF(E13>0,E13,IF(E14>0,E14,"")) | F15: =IF(F13>0,F13,IF(F14>0,F14,"")) | G15: =IF(G13>0,G13,IF(G14>0,G14,"")) | H15: =IF(H13>0,H13,IF(H14>0,H14,"")) | I15: =IF(I13>0,I13,IF(I14>0,I14,"")) | J15: =IF(J13>0,J13,IF(J14>0,J14,"")) | ... AG15: =IF(AG13>0,AG13,IF(AG14>0,AG14,"")) | AH15: =SUM(AH13:AH14) -> 0 | AI15: =SUM(AI13:AI14) -> 1 | AJ15: =SUM(AJ13:AJ14) -> 0 | AK15: =SUM(AK13:AK14) -> 0 | AL15: =SUM(AL13:AL14) -> 2.5 | AM15: =Juin!AM15 -> 0 | AN15: =IF(A14="","",IF(A14>NomMois,0,IF(A14<$A$3,2.08,(NETWORKDAYS(A14,$A$2)/21.66667)*2.08))) -> 2.08 | AO15: =IF( AN15="",Septembre!AO15,+AN15+Septembre!AO15) -> 10.24 | AQ15: =+AM15-AI15 -> -1 | AR15: =+AP15-AJ15 -> 0 | AS15: =+AO15+AQ15 -> 9.2399997
B17: Matin | AH17: =COUNTA(Octobre!$C17:$AG17) -> 0 | AI17: =(COUNTIFS(Octobre!$C17:$AG17,("cp")))/2+Septembre!AI17 -> 5 | AJ17: =COUNTIFS(Octobre!$C17:$AG17,"RTT")/2+Septembre!AJ17 -> 0 | AK17: =COUNTIFS(Octobre!$C17:$AG17,"m")/2+Septembre!AK17 -> 0 | AL17: =COUNTIFS(Octobre!$C17:$AG17,"a")/2+Septembre!AL17 -> 0
A18: 38923 | B18: A-M | AH18: =COUNTA(Octobre!$C18:$AG18) -> 0 | AI18: =(COUNTIFS(Octobre!$C18:$AG18,("cp")))/2+Septembre!AI18 -> 5 | AJ18: =COUNTIFS(Octobre!$C18:$AG18,"RTT")/2+Septembre!AJ18 -> 0 | AK18: =COUNTIFS(Octobre!$C18:$AG18,"m")/2+Septembre!AK18 -> 0 | AL18: =COUNTIFS(Octobre!$C18:$AG18,"a")/2+Septembre!AL18 -> 0
C19: =IF(C17>0,C17,IF(C18>0,C18,"")) | D19: =IF(D17>0,D17,IF(D18>0,D18,"")) | E19: =IF(E17>0,E17,IF(E18>0,E18,"")) | F19: =IF(F17>0,F17,IF(F18>0,F18,"")) | G19: =IF(G17>0,G17,IF(G18>0,G18,"")) | H19: =IF(H17>0,H17,IF(H18>0,H18,"")) | I19: =IF(I17>0,I17,IF(I18>0,I18,"")) | J19: =IF(J17>0,J17,IF(J18>0,J18,"")) | ... AG19: =IF(AG17>0,AG17,IF(AG18>0,AG18,"")) | AH19: =SUM(AH17:AH18) -> 0 | AI19: =SUM(AI17:AI18) -> 10 | AJ19: =SUM(AJ17:AJ18) -> 0 | AK19: =SUM(AK17:AK18) -> 0 | AL19: =SUM(AL17:AL18) -> 0 | AM19: =Juin!AM19 -> 24.54 | AN19: =IF(A18="","",IF(A18>NomMois,0,IF(A18<$A$3,2.08,(NETWORKDAYS(A18,$A$2)/21.66667)*2.08))) -> 2.08 | AO19: =IF( AN19="",Septembre!AO19,+AN19+Septembre!AO19) -> 10.4 | AQ19: =+AM19-AI19 -> 14.54 | AR19: =+AP19-AJ19 -> 0 | AS19: =+AO19+AQ19 -> 24.94
B21: Matin | D21: A | AH21: =COUNTA(Octobre!$C21:$AG21) -> 1 | AI21: =(COUNTIFS(Octobre!$C21:$AG21,("cp")))/2+Septembre!AI21 -> 1 | AJ21: =COUNTIFS(Octobre!$C21:$AG21,"RTT")/2+Septembre!AJ21 -> 0 | AK21: =COUNTIFS(Octobre!$C21:$AG21,"m")/2+Septembre!AK21 -> 0 | AL21: =COUNTIFS(Octobre!$C21:$AG21,"a")/2+Septembre!AL21 -> 0.5
A22: 41824 | B22: A-M | D22: A | AH22: =COUNTA(Octobre!$C22:$AG22) -> 1 | AI22: =(COUNTIFS(Octobre!$C22:$AG22,("cp")))/2+Septembre!AI22 -> 1 | AJ22: =COUNTIFS(Octobre!$C22:$AG22,"RTT")/2+Septembre!AJ22 -> 0 | AK22: =COUNTIFS(Octobre!$C22:$AG22,"m")/2+Septembre!AK22 -> 0 | AL22: =COUNTIFS(Octobre!$C22:$AG22,"a")/2+Septembre!AL22 -> 0.5
C23: =IF(C21>0,C21,IF(C22>0,C22,"")) | D23: =IF(D21>0,D21,IF(D22>0,D22,"")) -> A | E23: =IF(E21>0,E21,IF(E22>0,E22,"")) | F23: =IF(F21>0,F21,IF(F22>0,F22,"")) | G23: =IF(G21>0,G21,IF(G22>0,G22,"")) | H23: =IF(H21>0,H21,IF(H22>0,H22,"")) | I23: =IF(I21>0,I21,IF(I22>0,I22,"")) | J23: =IF(J21>0,J21,IF(J22>0,J22,"")) | ... AG23: =IF(AG21>0,AG21,IF(AG22>0,AG22,"")) | AH23: =SUM(AH21:AH22) -> 2 | AI23: =SUM(AI21:AI22) -> 2 | AJ23: =SUM(AJ21:AJ22) -> 0 | AK23: =SUM(AK21:AK22) -> 0 | AL23: =SUM(AL21:AL22) -> 1 | AM23: =Juin!AM23 -> 11.23 | AN23: =IF(A22="","",IF(A22>NomMois,0,IF(A22<$A$3,2.08,(NETWORKDAYS(A22,$A$2)/21.66667)*2.08))) -> 2.08 | AO23: =IF( AN23="",Septembre!AO23,+AN23+Septembre!AO23) -> 10.4 | AQ23: =+AM23-AI23 -> 9.23 | AR23: =+AP23-AJ23 -> 0 | AS23: =+AO23+AQ23 -> 19.63
B25: Matin | AH25: =COUNTA(Octobre!$C25:$AG25) -> 0 | AI25: =(COUNTIFS(Octobre!$C25:$AG25,("cp")))/2+Septembre!AI25 -> 3.5 | AJ25: =COUNTIFS(Octobre!$C25:$AG25,"RTT")/2+Septembre!AJ25 -> 0 | AK25: =COUNTIFS(Octobre!$C25:$AG25,"m")/2+Septembre!AK25 -> 0 | AL25: =COUNTIFS(Octobre!$C25:$AG25,"a")/2+Septembre!AL25 -> 0
A26: 38626 | B26: A-M | AH26: =COUNTA(Octobre!$C26:$AG26) -> 0 | AI26: =(COUNTIFS(Octobre!$C26:$AG26,("cp")))/2+Septembre!AI26 -> 3.5 | AJ26: =COUNTIFS(Octobre!$C26:$AG26,"RTT")/2+Septembre!AJ26 -> 0 | AK26: =COUNTIFS(Octobre!$C26:$AG26,"m")/2+Septembre!AK26 -> 0 | AL26: =COUNTIFS(Octobre!$C26:$AG26,"a")/2+Septembre!AL26 -> 0
C27: =IF(C25>0,C25,IF(C26>0,C26,"")) | D27: =IF(D25>0,D25,IF(D26>0,D26,"")) | E27: =IF(E25>0,E25,IF(E26>0,E26,"")) | F27: =IF(F25>0,F25,IF(F26>0,F26,"")) | G27: =IF(G25>0,G25,IF(G26>0,G26,"")) | H27: =IF(H25>0,H25,IF(H26>0,H26,"")) | I27: =IF(I25>0,I25,IF(I26>0,I26,"")) | J27: =IF(J25>0,J25,IF(J26>0,J26,"")) | ... AG27: =IF(AG25>0,AG25,IF(AG26>0,AG26,"")) | AH27: =SUM(AH25:AH26) -> 0 | AI27: =SUM(AI25:AI26) -> 7 | AJ27: =SUM(AJ25:AJ26) -> 0 | AK27: =SUM(AK25:AK26) -> 0 | AL27: =SUM(AL25:AL26) -> 0 | AM27: =Juin!AM27 -> 28.7 | AN27: =IF(A26="","",IF(A26>NomMois,0,IF(A26<$A$3,2.08,(NETWORKDAYS(A26,$A$2)/21.66667)*2.08))) -> 2.08 | AO27: =IF( AN27="",Septembre!AO27,+AN27+Septembre!AO27) -> 10.4 | AQ27: =+AM27-AI27 -> 21.7 | AR27: =+AP27-AJ27 -> 0 | AS27: =+AO27+AQ27 -> 32.1
B29: Matin | AH29: =COUNTA(Octobre!$C29:$AG29) -> 0 | AI29: =(COUNTIFS(Octobre!$C29:$AG29,("cp")))/2+Septembre!AI29 -> 7.5 | AJ29: =COUNTIFS(Octobre!$C29:$AG29,"RTT")/2+Septembre!AJ29 -> 0 | AK29: =COUNTIFS(Octobre!$C29:$AG29,"m")/2+Septembre!AK29 -> 0 | AL29: =COUNTIFS(Octobre!$C29:$AG29,"a")/2+Septembre!AL29 -> 0
A30: 36892 | B30: A-M | AH30: =COUNTA(Octobre!$C30:$AG30) -> 0 | AI30: =(COUNTIFS(Octobre!$C30:$AG30,("cp")))/2+Septembre!AI30 -> 8 | AJ30: =COUNTIFS(Octobre!$C30:$AG30,"RTT")/2+Septembre!AJ30 -> 0 | AK30: =COUNTIFS(Octobre!$C30:$AG30,"m")/2+Septembre!AK30 -> 0 | AL30: =COUNTIFS(Octobre!$C30:$AG30,"a")/2+Septembre!AL30 -> 0
C31: =IF(C29>0,C29,IF(C30>0,C30,"")) | D31: =IF(D29>0,D29,IF(D30>0,D30,"")) | E31: =IF(E29>0,E29,IF(E30>0,E30,"")) | F31: =IF(F29>0,F29,IF(F30>0,F30,"")) | G31: =IF(G29>0,G29,IF(G30>0,G30,"")) | H31: =IF(H29>0,H29,IF(H30>0,H30,"")) | I31: =IF(I29>0,I29,IF(I30>0,I30,"")) | J31: =IF(J29>0,J29,IF(J30>0,J30,"")) | ... AG31: =IF(AG29>0,AG29,IF(AG30>0,AG30,"")) | AH31: =SUM(AH29:AH30) -> 0 | AI31: =SUM(AI29:AI30) -> 15.5 | AJ31: =SUM(AJ29:AJ30) -> 0 | AK31: =SUM(AK29:AK30) -> 0 | AL31: =SUM(AL29:AL30) -> 0 | AM31: =Juin!AM31 -> 30.37 | AN31: =IF(A30="","",IF(A30>NomMois,0,IF(A30<$A$3,2.08,(NETWORKDAYS(A30,$A$2)/21.66667)*2.08))) -> 2.08 | AO31: =IF( AN31="",Septembre!AO31,+AN31+Septembre!AO31) -> 10.4 | AQ31: =+AM31-AI31 -> 14.87 | AR31: =+AP31-AJ31 -> 0 | AS31: =+AO31+AQ31 -> 25.27
AN32: =IF(A31="","",IF(A31>NomMois,0,IF(A31<$A$3,2.08,(NETWORKDAYS(A31,$A$2)/21.66667)*2.08))) | AO32: =IF( AN32="",0,+AN32+Septembre!AO32) -> 0
B33: Matin | AH33: =COUNTA(Octobre!$C33:$AG33) -> 0 | AI33: =(COUNTIFS(Octobre!$C33:$AG33,("cp")))/2+Septembre!AI33 -> 8 | AJ33: =COUNTIFS(Octobre!$C33:$AG33,"RTT")/2+Septembre!AJ33 -> 0 | AK33: =COUNTIFS(Octobre!$C33:$AG33,"m")/2+Septembre!AK33 -> 0 | AL33: =COUNTIFS(Octobre!$C33:$AG33,"a")/2+Septembre!AL33 -> 0
A34: 42110 | B34: A-M | AH34: =COUNTA(Octobre!$C34:$AG34) -> 0 | AI34: =(COUNTIFS(Octobre!$C34:$AG34,("cp")))/2+Septembre!AI34 -> 8 | AJ34: =COUNTIFS(Octobre!$C34:$AG34,"RTT")/2+Septembre!AJ34 -> 0 | AK34: =COUNTIFS(Octobre!$C34:$AG34,"m")/2+Septembre!AK34 -> 0 | AL34: =COUNTIFS(Octobre!$C34:$AG34,"a")/2+Septembre!AL34 -> 0
C35: =IF(C33>0,C33,IF(C34>0,C34,"")) | D35: =IF(D33>0,D33,IF(D34>0,D34,"")) | E35: =IF(E33>0,E33,IF(E34>0,E34,"")) | F35: =IF(F33>0,F33,IF(F34>0,F34,"")) | G35: =IF(G33>0,G33,IF(G34>0,G34,"")) | H35: =IF(H33>0,H33,IF(H34>0,H34,"")) | I35: =IF(I33>0,I33,IF(I34>0,I34,"")) | J35: =IF(J33>0,J33,IF(J34>0,J34,"")) | ... AG35: =IF(AG33>0,AG33,IF(AG34>0,AG34,"")) | AH35: =SUM(AH33:AH34) -> 0 | AI35: =SUM(AI33:AI34) -> 16 | AJ35: =SUM(AJ33:AJ34) -> 0 | AK35: =SUM(AK33:AK34) -> 0 | AL35: =SUM(AL33:AL34) -> 0 | AM35: =Juin!AM35 -> 14.56 | AN35: =IF(A34="","",IF(A34>NomMois,0,IF(A34<$A$3,2.08,(NETWORKDAYS(A34,$A$2)/21.66667)*2.08))) -> 2.08 | AO35: =IF( AN35="",Septembre!AO35,+AN35+Septembre!AO35) -> 10.4 | AQ35: =+AM35-AI35 -> -1.44 | AR35: =+AP35-AJ35 -> 0 | AS35: =+AO35+AQ35 -> 8.96
B37: Matin | AH37: =COUNTA(Octobre!$C37:$AG37) -> 0 | AI37: =(COUNTIFS(Octobre!$C37:$AG37,("cp")))/2+Septembre!AI37 -> 5.5 | AJ37: =COUNTIFS(Octobre!$C37:$AG37,"RTT")/2+Septembre!AJ37 -> 0 | AK37: =COUNTIFS(Octobre!$C37:$AG37,"m")/2+Septembre!AK37 -> 0 | AL37: =COUNTIFS(Octobre!$C37:$AG37,"a")/2+Septembre!AL37 -> 0
A38: 42373 | B38: A-M | AH38: =COUNTA(Octobre!$C38:$AG38) -> 0 | AI38: =(COUNTIFS(Octobre!$C38:$AG38,("cp")))/2+Septembre!AI38 -> 5.5 | AJ38: =COUNTIFS(Octobre!$C38:$AG38,"RTT")/2+Septembre!AJ38 -> 0 | AK38: =COUNTIFS(Octobre!$C38:$AG38,"m")/2+Septembre!AK38 -> 0 | AL38: =COUNTIFS(Octobre!$C38:$AG38,"a")/2+Septembre!AL38 -> 0
C39: =IF(C37>0,C37,IF(C38>0,C38,"")) | D39: =IF(D37>0,D37,IF(D38>0,D38,"")) | E39: =IF(E37>0,E37,IF(E38>0,E38,"")) | F39: =IF(F37>0,F37,IF(F38>0,F38,"")) | G39: =IF(G37>0,G37,IF(G38>0,G38,"")) | H39: =IF(H37>0,H37,IF(H38>0,H38,"")) | I39: =IF(I37>0,I37,IF(I38>0,I38,"")) | J39: =IF(J37>0,J37,IF(J38>0,J38,"")) | ... AG39: =IF(AG37>0,AG37,IF(AG38>0,AG38,"")) | AH39: =SUM(AH37:AH38) -> 0 | AI39: =SUM(AI37:AI38) -> 11 | AJ39: =SUM(AJ37:AJ38) -> 0 | AK39: =SUM(AK37:AK38) -> 0 | AL39: =SUM(AL37:AL38) -> 0 | AM39: =Juin!AM39 -> 14.14 | AN39: =IF(A38="","",IF(A38>NomMois,0,IF(A38<$A$3,2.08,(NETWORKDAYS(A38,$A$2)/21.66667)*2.08))) -> 2.08 | AO39: =IF( AN39="",Septembre!AO39,+AN39+Septembre!AO39) -> 10.4 | AQ39: =+AM39-AI39 -> 3.14 | AR39: =+AP39-AJ39 -> 0 | AS39: =+AO39+AQ39 -> 13.54
