Workbook
Name _1erNiveau: [1]Menu!$B$3:$F$3
Name Cause: [1]Menu!$J$4:$J$8
Name Retraité: [1]Menu!$K$4:$K$8
Name Status: [1]Menu!$I$4:$I$8

Sheet Liste
A1: STATUE | B1: COMMENTAIRE | C1: NATURE | D1: TYPE | E1: ItemId | F1: InventBatchId | G1: WMSPalletId | H1: InventLocationId | I1: WMSLocationId | J1: LocationDescription | K1: ErrorCauseId | L1: description | M1: InventQty
C2: Produit Finis | D2: SPF | E2: SPF.012.735 | F2: OF0_100000 | G2: _054105480058210878 | H2: PRI | I2: 1357 | J2: GH 35.0.1 | K2: 23 | L2: Conditionnement Conditionnement N°lot | M2: 60000000000000
C3: Produit Finis | D3: TEX | E3: TEX.014.641 | F3: OF0_100001 | G3: _054105480058256654 | H3: PRU | I3: 99205 | J3: CERATEC 0.0.0 | K3: 12 | L3: Conditionnement Physique Fuite | M3: 5000000000000
C4: Produit Finis | D4: TEX | E4: TEX.014.641 | F4: OF0_100002 | G4: _054105480058256661 | H4: PRU | I4: 63875 | J4: Q5 1.0.1 | K4: 12 | L4: Conditionnement Physique Fuite | M4: 5000000000000
C5: Produit Finis | D5: TEX | E5: TEX.012.067 | F5: OF0_100003 | G5: _054105480058295363 | H5: PRI | I5: 62079 | J5: AK 2.2.1 | K5: 17 | L5: Conditionnement quarantaine | M5: 60000000000000
C6: Produit Finis | D6: TEX | E6: TEX.012.067 | F6: OF0_100004 | G6: _054105480058298142 | H6: PRI | I6: 64338 | J6: cc 0.1.4 | K6: 17 | L6: Conditionnement quarantaine | M6: 60000000000000
C7: Produit Finis | D7: TEX | E7: TEX.012.067 | F7: OF0_100005 | G7: _054105480058298692 | H7: PRI | I7: 64348 | J7: cc 0.4.2 | K7: 17 | L7: Conditionnement quarantaine | M7: 60000000000000
C8: Produit Finis | D8: TEX | E8: TEX.012.067 | F8: OF0_100006 | G8: _054105480058298777 | H8: PRI | I8: 61585 | J8: AH 8.2.2 | K8: 17 | L8: Ancienne Cause Fuite | M8: 60000000000000
C9: Produit Finis | D9: TEX | E9: TEX.012.067 | F9: OF0_100007 | G9: _054105480058298937 | H9: PRI | I9: 63408 | J9: CC 3.4.2 | K9: 17 | L9: Ancienne Cause Fuite | M9: 60000000000000
C10: Produit Finis | D10: TEX | E10: TEX.012.067 | F10: OF0_100008 | G10: _054105480058299040 | H10: PRI | I10: 63417 | J10: CC 4.1.3 | K10: 17 | L10: Ancienne Cause Fuite | M10: 60000000000000
C11: Produit Finis | D11: S&S | E11: S&S.014.137 | F11: OF0_100009 | G11: _054105480058311551 | H11: PRI | I11: 609 | J11: LM 33.0.1 | K11: 2 | L11: Ancienne Cause Fuite | M11: 32000000000000
C12: Produit Finis | D12: SPF | E12: SPF.009.009 | F12: OF0_100010 | G12: _054105480058414092 | H12: QUA | I12: 60844 | J12: AE 2.0.4 | K12: 9 | L12: Conditionnement quarantaine | M12: 110000000000000
C13: Produit Finis | D13: VSL | E13: VSL.008.667 | F13: OF0_100011 | G13: _054105480058414849 | H13: PRI | I13: 1737 | J13: Q14 1.0.1 | K13: 3 | L13: Ancienne Cause Crash | M13: 98000000000000
C14: Produit Finis | D14: SPF | E14: SPF.009.009 | F14: OF0_100012 | G14: _054105480058418526 | H14: QUA | I14: 60574 | J14: AC 9.0.4 | K14: 9 | L14: Conditionnement quarantaine | M14: 110000000000000

Sheet BDD
A1: Liste ?? | E1: ItemId | F1: InventBatchId | G1: WMSPalletId | H1: InventLocationId | I1: WMSLocationId | J1: LocationDescription | K1: ErrorCauseId | L1: description | M1: InventQty
A2: =IF(B2="NEW","NEW","ok") -> NEW | B2: =IF(ISERROR(VLOOKUP(G2,Liste!G:G,1,FALSE)),"New",VLOOKUP(G2,Liste!G:G,1,FALSE)) -> New | E2: TEX.011.235 | F2: OF0_99996 | G2: _054105480058191306 | H2: PRI | I2: 60257 | J2: AB 3.2.4 | K2: 17 | L2: Conditionnement Physique Fuite | M2: 36000000000000
A3: =IF(B3="NEW","NEW","ok") -> NEW | B3: =IF(ISERROR(VLOOKUP(G3,Liste!G:G,1,FALSE)),"New",VLOOKUP(G3,Liste!G:G,1,FALSE)) -> New | E3: TEX.011.235 | F3: OF0_99997 | G3: _054105480058191436 | H3: PRI | I3: 60254 | J3: AB 3.2.1 | K3: 17 | L3: Conditionnement Physique Fuite | M3: 36000000000000
A4: =IF(B4="NEW","NEW","ok") -> NEW | B4: =IF(ISERROR(VLOOKUP(G4,Liste!G:G,1,FALSE)),"New",VLOOKUP(G4,Liste!G:G,1,FALSE)) -> New | E4: TEX.011.235 | F4: OF0_99998 | G4: _054105480058191627 | H4: PRI | I4: 62612 | J4: AM 8.2.4 | K4: 17 | L4: Conditionnement quarantaine | M4: 36000000000000
A5: =IF(B5="NEW","NEW","ok") -> NEW | B5: =IF(ISERROR(VLOOKUP(G5,Liste!G:G,1,FALSE)),"New",VLOOKUP(G5,Liste!G:G,1,FALSE)) -> New | E5: TEX.011.235 | F5: OF0_99999 | G5: _054105480058191924 | H5: PRI | I5: 62610 | J5: AM 8.2.2 | K5: 17 | L5: Conditionnement quarantaine | M5: 36000000000000
A6: =IF(B6="NEW","NEW","ok") -> ok | B6: =IF(ISERROR(VLOOKUP(G6,Liste!G:G,1,FALSE)),"New",VLOOKUP(G6,Liste!G:G,1,FALSE)) -> _054105480058210878 | E6: SPF.012.735 | F6: OF0_100000 | G6: _054105480058210878 | H6: PRI | I6: 1357 | J6: GH 35.0.1 | K6: 23 | L6: Conditionnement Conditionnement N°lot | M6: 60000000000000
A7: =IF(B7="NEW","NEW","ok") -> ok | B7: =IF(ISERROR(VLOOKUP(G7,Liste!G:G,1,FALSE)),"New",VLOOKUP(G7,Liste!G:G,1,FALSE)) -> _054105480058256654 | E7: TEX.014.641 | F7: OF0_100001 | G7: _054105480058256654 | H7: PRU | I7: 99205 | J7: CERATEC 0.0.0 | K7: 12 | L7: Conditionnement Physique Fuite | M7: 5000000000000
A8: =IF(B8="NEW","NEW","ok") -> ok | B8: =IF(ISERROR(VLOOKUP(G8,Liste!G:G,1,FALSE)),"New",VLOOKUP(G8,Liste!G:G,1,FALSE)) -> _054105480058256661 | E8: TEX.014.641 | F8: OF0_100002 | G8: _054105480058256661 | H8: PRU | I8: 63875 | J8: Q5 1.0.1 | K8: 12 | L8: Conditionnement Physique Fuite | M8: 5000000000000
A9: =IF(B9="NEW","NEW","ok") -> ok | B9: =IF(ISERROR(VLOOKUP(G9,Liste!G:G,1,FALSE)),"New",VLOOKUP(G9,Liste!G:G,1,FALSE)) -> _054105480058295363 | E9: TEX.012.067 | F9: OF0_100003 | G9: _054105480058295363 | H9: PRI | I9: 62079 | J9: AK 2.2.1 | K9: 17 | L9: Conditionnement quarantaine | M9: 60000000000000
A10: =IF(B10="NEW","NEW","ok") -> ok | B10: =IF(ISERROR(VLOOKUP(G10,Liste!G:G,1,FALSE)),"New",VLOOKUP(G10,Liste!G:G,1,FALSE)) -> _054105480058298142 | E10: TEX.012.067 | F10: OF0_100004 | G10: _054105480058298142 | H10: PRI | I10: 64338 | J10: cc 0.1.4 | K10: 17 | L10: Conditionnement quarantaine | M10: 60000000000000
A11: =IF(B11="NEW","NEW","ok") -> ok | B11: =IF(ISERROR(VLOOKUP(G11,Liste!G:G,1,FALSE)),"New",VLOOKUP(G11,Liste!G:G,1,FALSE)) -> _054105480058298692 | E11: TEX.012.067 | F11: OF0_100005 | G11: _054105480058298692 | H11: PRI | I11: 64348 | J11: cc 0.4.2 | K11: 17 | L11: Conditionnement quarantaine | M11: 60000000000000
A12: =IF(B12="NEW","NEW","ok") -> ok | B12: =IF(ISERROR(VLOOKUP(G12,Liste!G:G,1,FALSE)),"New",VLOOKUP(G12,Liste!G:G,1,FALSE)) -> _054105480058298777 | E12: TEX.012.067 | F12: OF0_100006 | G12: _054105480058298777 | H12: PRI | I12: 61585 | J12: AH 8.2.2 | K12: 17 | L12: Ancienne Cause Fuite | M12: 60000000000000
A13: =IF(B13="NEW","NEW","ok") -> ok | B13: =IF(ISERROR(VLOOKUP(G13,Liste!G:G,1,FALSE)),"New",VLOOKUP(G13,Liste!G:G,1,FALSE)) -> _054105480058298937 | E13: TEX.012.067 | F13: OF0_100007 | G13: _054105480058298937 | H13: PRI | I13: 63408 | J13: CC 3.4.2 | K13: 17 | L13: Ancienne Cause Fuite | M13: 60000000000000
... A21: =IF(B21="NEW","NEW","ok") -> NEW | B21: =IF(ISERROR(VLOOKUP(G21,Liste!G:G,1,FALSE)),"New",VLOOKUP(G21,Liste!G:G,1,FALSE)) -> New | E21: SPF.009.009 | F21: OF0_100015 | G21: _054105480058419387 | H21: QUA | I21: 60024 | J21: AA 2.0.4 | K21: 9 | L21: Conditionnement quarantaine | M21: 109000000000000
A22: =IF(B22="NEW","NEW","ok") -> NEW | B22: =IF(ISERROR(VLOOKUP(G22,Liste!G:G,1,FALSE)),"New",VLOOKUP(G22,Liste!G:G,1,FALSE)) -> New
A23: =IF(B23="NEW","NEW","ok") -> NEW | B23: =IF(ISERROR(VLOOKUP(G23,Liste!G:G,1,FALSE)),"New",VLOOKUP(G23,Liste!G:G,1,FALSE)) -> New
A24: =IF(B24="NEW","NEW","ok") -> NEW | B24: =IF(ISERROR(VLOOKUP(G24,Liste!G:G,1,FALSE)),"New",VLOOKUP(G24,Liste!G:G,1,FALSE)) -> New
A25: =IF(B25="NEW","NEW","ok") -> NEW | B25: =IF(ISERROR(VLOOKUP(G25,Liste!G:G,1,FALSE)),"New",VLOOKUP(G25,Liste!G:G,1,FALSE)) -> New
A26: =IF(B26="NEW","NEW","ok") -> NEW | B26: =IF(ISERROR(VLOOKUP(G26,Liste!G:G,1,FALSE)),"New",VLOOKUP(G26,Liste!G:G,1,FALSE)) -> New
A27: =IF(B27="NEW","NEW","ok") -> NEW | B27: =IF(ISERROR(VLOOKUP(G27,Liste!G:G,1,FALSE)),"New",VLOOKUP(G27,Liste!G:G,1,FALSE)) -> New
A28: =IF(B28="NEW","NEW","ok") -> NEW | B28: =IF(ISERROR(VLOOKUP(G28,Liste!G:G,1,FALSE)),"New",VLOOKUP(G28,Liste!G:G,1,FALSE)) -> New
A29: =IF(B29="NEW","NEW","ok") -> NEW | B29: =IF(ISERROR(VLOOKUP(G29,Liste!G:G,1,FALSE)),"New",VLOOKUP(G29,Liste!G:G,1,FALSE)) -> New
A30: =IF(B30="NEW","NEW","ok") -> NEW | B30: =IF(ISERROR(VLOOKUP(G30,Liste!G:G,1,FALSE)),"New",VLOOKUP(G30,Liste!G:G,1,FALSE)) -> New
A31: =IF(B31="NEW","NEW","ok") -> NEW | B31: =IF(ISERROR(VLOOKUP(G31,Liste!G:G,1,FALSE)),"New",VLOOKUP(G31,Liste!G:G,1,FALSE)) -> New
A32: =IF(B32="NEW","NEW","ok") -> NEW | B32: =IF(ISERROR(VLOOKUP(G32,Liste!G:G,1,FALSE)),"New",VLOOKUP(G32,Liste!G:G,1,FALSE)) -> New
A33: =IF(B33="NEW","NEW","ok") -> NEW | B33: =IF(ISERROR(VLOOKUP(G33,Liste!G:G,1,FALSE)),"New",VLOOKUP(G33,Liste!G:G,1,FALSE)) -> New
... A5346: =IF(B5346="NEW","NEW","ok") -> NEW | B5346: =IF(ISERROR(VLOOKUP(G5346,Liste!G:G,1,FALSE)),"New",VLOOKUP(G5346,Liste!G:G,1,FALSE)) -> New
