Workbook

Sheet DONNEES
A1: DATE CROISIERE | B1: BATEAU | C1: AMBIANCE | D1: SEJOUR | E1: POINTS SEJOUR | F1: FORFAITS PRE PAYES | G1: POINTS FORFAITS | H1: POINTS OBTENUS | I1: TOTAL FABIEN
A2: DU 11/02/2026 au 17/02/2026 | B2: MSF FANTASIA | C2: YACHT CLUB | D2: de 5 à 9 nuits ou 6 à 10 jours | E2: {=_xlfn.LET(_xlpm.r,_xlfn.XLOOKUP(Tableau2[[#This Row],[AMBIANCE]]&Tableau2[[#This Row],[SEJOUR]],Tableau1[AMBIANCE]&Tableau1[DUREE],Tableau1[points],""),IF(_xlpm.r=0,"",_xlpm.r))} -> 1500 | F2: BOISSONS | G2: =_xlfn.LET(_xlpm.r,_xlfn.XLOOKUP(Tableau2[[#This Row],[FORFAITS PRE PAYES]],Tableau1[[FORFAITS ]],Tableau1[FORFAITS PRE PAYES],""),IF(_xlpm.r=0,"",_xlpm.r)) -> 200 | H2: =IF(COUNTIF(A$1:A2,Tableau2[[#This Row],[DATE CROISIERE]])>1,"",SUMIFS(Tableau2[POINTS SEJOUR],Tableau2[DATE CROISIERE],Tableau2[[#This Row],[DATE CROISIERE]])+SUMIFS(Tableau2[POINTS FORFAITS],Tableau2[DATE CROISIERE],Tableau2[[#This Row],[DATE CROISIERE]])) -> 1800 | I2: =ENTREES!$G$2+SUM($H$2:H2) -> 56800
A3: DU 11/02/2026 au 17/02/2026 | E3: {=_xlfn.LET(_xlpm.r,_xlfn.XLOOKUP(Tableau2[[#This Row],[AMBIANCE]]&Tableau2[[#This Row],[SEJOUR]],Tableau1[AMBIANCE]&Tableau1[DUREE],Tableau1[points],""),IF(_xlpm.r=0,"",_xlpm.r))} | F3: BONUS | G3: =_xlfn.LET(_xlpm.r,_xlfn.XLOOKUP(Tableau2[[#This Row],[FORFAITS PRE PAYES]],Tableau1[[FORFAITS ]],Tableau1[FORFAITS PRE PAYES],""),IF(_xlpm.r=0,"",_xlpm.r)) -> 100 | H3: =IF(COUNTIF(A$1:A3,Tableau2[[#This Row],[DATE CROISIERE]])>1,"",SUMIFS(Tableau2[POINTS SEJOUR],Tableau2[DATE CROISIERE],Tableau2[[#This Row],[DATE CROISIERE]])+SUMIFS(Tableau2[POINTS FORFAITS],Tableau2[DATE CROISIERE],Tableau2[[#This Row],[DATE CROISIERE]])) | I3: =ENTREES!$G$2+SUM($H$2:H3) -> 56800
A4: DU 21/03 AU 18/03/2026 | B4: MSC DIVINA | C4: FANTASTICA | D4: de 5 à 9 nuits ou 6 à 10 jours | E4: {=_xlfn.LET(_xlpm.r,_xlfn.XLOOKUP(Tableau2[[#This Row],[AMBIANCE]]&Tableau2[[#This Row],[SEJOUR]],Tableau1[AMBIANCE]&Tableau1[DUREE],Tableau1[points],""),IF(_xlpm.r=0,"",_xlpm.r))} -> 700 | F4: EXCURSION 1 | G4: =_xlfn.LET(_xlpm.r,_xlfn.XLOOKUP(Tableau2[[#This Row],[FORFAITS PRE PAYES]],Tableau1[[FORFAITS ]],Tableau1[FORFAITS PRE PAYES],""),IF(_xlpm.r=0,"",_xlpm.r)) -> 100 | H4: =IF(COUNTIF(A$1:A4,Tableau2[[#This Row],[DATE CROISIERE]])>1,"",SUMIFS(Tableau2[POINTS SEJOUR],Tableau2[DATE CROISIERE],Tableau2[[#This Row],[DATE CROISIERE]])+SUMIFS(Tableau2[POINTS FORFAITS],Tableau2[DATE CROISIERE],Tableau2[[#This Row],[DATE CROISIERE]])) -> 1100 | I4: =ENTREES!$G$2+SUM($H$2:H4) -> 57900
A5: DU 21/03 AU 18/03/2026 | E5: {=_xlfn.LET(_xlpm.r,_xlfn.XLOOKUP(Tableau2[[#This Row],[AMBIANCE]]&Tableau2[[#This Row],[SEJOUR]],Tableau1[AMBIANCE]&Tableau1[DUREE],Tableau1[points],""),IF(_xlpm.r=0,"",_xlpm.r))} | F5: INTERNET - WIFI | G5: =_xlfn.LET(_xlpm.r,_xlfn.XLOOKUP(Tableau2[[#This Row],[FORFAITS PRE PAYES]],Tableau1[[FORFAITS ]],Tableau1[FORFAITS PRE PAYES],""),IF(_xlpm.r=0,"",_xlpm.r)) -> 100 | H5: =IF(COUNTIF(A$1:A5,Tableau2[[#This Row],[DATE CROISIERE]])>1,"",SUMIFS(Tableau2[POINTS SEJOUR],Tableau2[DATE CROISIERE],Tableau2[[#This Row],[DATE CROISIERE]])+SUMIFS(Tableau2[POINTS FORFAITS],Tableau2[DATE CROISIERE],Tableau2[[#This Row],[DATE CROISIERE]])) | I5: =ENTREES!$G$2+SUM($H$2:H5) -> 57900
A6: DU 21/03 AU 18/03/2026 | E6: {=_xlfn.LET(_xlpm.r,_xlfn.XLOOKUP(Tableau2[[#This Row],[AMBIANCE]]&Tableau2[[#This Row],[SEJOUR]],Tableau1[AMBIANCE]&Tableau1[DUREE],Tableau1[points],""),IF(_xlpm.r=0,"",_xlpm.r))} | F6: BOISSONS | G6: =_xlfn.LET(_xlpm.r,_xlfn.XLOOKUP(Tableau2[[#This Row],[FORFAITS PRE PAYES]],Tableau1[[FORFAITS ]],Tableau1[FORFAITS PRE PAYES],""),IF(_xlpm.r=0,"",_xlpm.r)) -> 200 | H6: =IF(COUNTIF(A$1:A6,Tableau2[[#This Row],[DATE CROISIERE]])>1,"",SUMIFS(Tableau2[POINTS SEJOUR],Tableau2[DATE CROISIERE],Tableau2[[#This Row],[DATE CROISIERE]])+SUMIFS(Tableau2[POINTS FORFAITS],Tableau2[DATE CROISIERE],Tableau2[[#This Row],[DATE CROISIERE]])) | I6: =ENTREES!$G$2+SUM($H$2:H6) -> 57900
A7: Du 01/05/2026 au 15/5/2026 | C7: YACHT CLUB | D7: de plus de 9 nuits ou 10 jours | E7: {=_xlfn.LET(_xlpm.r,_xlfn.XLOOKUP(Tableau2[[#This Row],[AMBIANCE]]&Tableau2[[#This Row],[SEJOUR]],Tableau1[AMBIANCE]&Tableau1[DUREE],Tableau1[points],""),IF(_xlpm.r=0,"",_xlpm.r))} -> 2000 | F7: BOISSONS | G7: =_xlfn.LET(_xlpm.r,_xlfn.XLOOKUP(Tableau2[[#This Row],[FORFAITS PRE PAYES]],Tableau1[[FORFAITS ]],Tableau1[FORFAITS PRE PAYES],""),IF(_xlpm.r=0,"",_xlpm.r)) -> 200 | H7: =IF(COUNTIF(A$1:A7,Tableau2[[#This Row],[DATE CROISIERE]])>1,"",SUMIFS(Tableau2[POINTS SEJOUR],Tableau2[DATE CROISIERE],Tableau2[[#This Row],[DATE CROISIERE]])+SUMIFS(Tableau2[POINTS FORFAITS],Tableau2[DATE CROISIERE],Tableau2[[#This Row],[DATE CROISIERE]])) -> 2900 | I7: =ENTREES!$G$2+SUM($H$2:H7) -> 60800
A8: Du 01/05/2026 au 15/5/2026 | E8: {=_xlfn.LET(_xlpm.r,_xlfn.XLOOKUP(Tableau2[[#This Row],[AMBIANCE]]&Tableau2[[#This Row],[SEJOUR]],Tableau1[AMBIANCE]&Tableau1[DUREE],Tableau1[points],""),IF(_xlpm.r=0,"",_xlpm.r))} | F8: BONUS | G8: =_xlfn.LET(_xlpm.r,_xlfn.XLOOKUP(Tableau2[[#This Row],[FORFAITS PRE PAYES]],Tableau1[[FORFAITS ]],Tableau1[FORFAITS PRE PAYES],""),IF(_xlpm.r=0,"",_xlpm.r)) -> 100 | H8: =IF(COUNTIF(A$1:A8,Tableau2[[#This Row],[DATE CROISIERE]])>1,"",SUMIFS(Tableau2[POINTS SEJOUR],Tableau2[DATE CROISIERE],Tableau2[[#This Row],[DATE CROISIERE]])+SUMIFS(Tableau2[POINTS FORFAITS],Tableau2[DATE CROISIERE],Tableau2[[#This Row],[DATE CROISIERE]])) | I8: =ENTREES!$G$2+SUM($H$2:H8) -> 60800
A9: Du 01/05/2026 au 15/5/2026 | E9: {=_xlfn.LET(_xlpm.r,_xlfn.XLOOKUP(Tableau2[[#This Row],[AMBIANCE]]&Tableau2[[#This Row],[SEJOUR]],Tableau1[AMBIANCE]&Tableau1[DUREE],Tableau1[points],""),IF(_xlpm.r=0,"",_xlpm.r))} | F9: DIVERS | G9: =_xlfn.LET(_xlpm.r,_xlfn.XLOOKUP(Tableau2[[#This Row],[FORFAITS PRE PAYES]],Tableau1[[FORFAITS ]],Tableau1[FORFAITS PRE PAYES],""),IF(_xlpm.r=0,"",_xlpm.r)) -> 100 | H9: =IF(COUNTIF(A$1:A9,Tableau2[[#This Row],[DATE CROISIERE]])>1,"",SUMIFS(Tableau2[POINTS SEJOUR],Tableau2[DATE CROISIERE],Tableau2[[#This Row],[DATE CROISIERE]])+SUMIFS(Tableau2[POINTS FORFAITS],Tableau2[DATE CROISIERE],Tableau2[[#This Row],[DATE CROISIERE]])) | I9: =ENTREES!$G$2+SUM($H$2:H9) -> 60800
A10: Du 01/05/2026 au 15/5/2026 | E10: {=_xlfn.LET(_xlpm.r,_xlfn.XLOOKUP(Tableau2[[#This Row],[AMBIANCE]]&Tableau2[[#This Row],[SEJOUR]],Tableau1[AMBIANCE]&Tableau1[DUREE],Tableau1[points],""),IF(_xlpm.r=0,"",_xlpm.r))} | F10: ANNIVERSAIRE | G10: =_xlfn.LET(_xlpm.r,_xlfn.XLOOKUP(Tableau2[[#This Row],[FORFAITS PRE PAYES]],Tableau1[[FORFAITS ]],Tableau1[FORFAITS PRE PAYES],""),IF(_xlpm.r=0,"",_xlpm.r)) -> 200 | H10: =IF(COUNTIF(A$1:A10,Tableau2[[#This Row],[DATE CROISIERE]])>1,"",SUMIFS(Tableau2[POINTS SEJOUR],Tableau2[DATE CROISIERE],Tableau2[[#This Row],[DATE CROISIERE]])+SUMIFS(Tableau2[POINTS FORFAITS],Tableau2[DATE CROISIERE],Tableau2[[#This Row],[DATE CROISIERE]])) | I10: =ENTREES!$G$2+SUM($H$2:H10) -> 60800
A11: Du 01/05/2026 au 15/5/2026 | E11: {=_xlfn.LET(_xlpm.r,_xlfn.XLOOKUP(Tableau2[[#This Row],[AMBIANCE]]&Tableau2[[#This Row],[SEJOUR]],Tableau1[AMBIANCE]&Tableau1[DUREE],Tableau1[points],""),IF(_xlpm.r=0,"",_xlpm.r))} | F11: EXCURSION 3 | G11: =_xlfn.LET(_xlpm.r,_xlfn.XLOOKUP(Tableau2[[#This Row],[FORFAITS PRE PAYES]],Tableau1[[FORFAITS ]],Tableau1[FORFAITS PRE PAYES],""),IF(_xlpm.r=0,"",_xlpm.r)) -> 300 | H11: =IF(COUNTIF(A$1:A11,Tableau2[[#This Row],[DATE CROISIERE]])>1,"",SUMIFS(Tableau2[POINTS SEJOUR],Tableau2[DATE CROISIERE],Tableau2[[#This Row],[DATE CROISIERE]])+SUMIFS(Tableau2[POINTS FORFAITS],Tableau2[DATE CROISIERE],Tableau2[[#This Row],[DATE CROISIERE]])) | I11: =ENTREES!$G$2+SUM($H$2:H11) -> 60800
A12: Du 14/07/2026 au 15/07/2026 | C12: BELLA | D12: Inférieure à 5 nuits ou 6 jour | E12: {=_xlfn.LET(_xlpm.r,_xlfn.XLOOKUP(Tableau2[[#This Row],[AMBIANCE]]&Tableau2[[#This Row],[SEJOUR]],Tableau1[AMBIANCE]&Tableau1[DUREE],Tableau1[points],""),IF(_xlpm.r=0,"",_xlpm.r))} -> 200 | G12: =_xlfn.LET(_xlpm.r,_xlfn.XLOOKUP(Tableau2[[#This Row],[FORFAITS PRE PAYES]],Tableau1[[FORFAITS ]],Tableau1[FORFAITS PRE PAYES],""),IF(_xlpm.r=0,"",_xlpm.r)) | H12: =IF(COUNTIF(A$1:A13,Tableau2[[#This Row],[DATE CROISIERE]])>1,"",SUMIFS(Tableau2[POINTS SEJOUR],Tableau2[DATE CROISIERE],Tableau2[[#This Row],[DATE CROISIERE]])+SUMIFS(Tableau2[POINTS FORFAITS],Tableau2[DATE CROISIERE],Tableau2[[#This Row],[DATE CROISIERE]])) -> 200 | I12: =ENTREES!$G$2+SUM($H$2:H13) -> 62700
A13: du 01/08/2026 au 15/08/2026 | B13: MSC EURIBIA | C13: YACHT CLUB | D13: de 5 à 9 nuits ou 6 à 10 jours | E13: {=_xlfn.LET(_xlpm.r,_xlfn.XLOOKUP(Tableau2[[#This Row],[AMBIANCE]]&Tableau2[[#This Row],[SEJOUR]],Tableau1[AMBIANCE]&Tableau1[DUREE],Tableau1[points],""),IF(_xlpm.r=0,"",_xlpm.r))} -> 1500 | F13: ANNIVERSAIRE | G13: =_xlfn.LET(_xlpm.r,_xlfn.XLOOKUP(Tableau2[[#This Row],[FORFAITS PRE PAYES]],Tableau1[[FORFAITS ]],Tableau1[FORFAITS PRE PAYES],""),IF(_xlpm.r=0,"",_xlpm.r)) -> 200 | H13: =IF(COUNTIF(A$1:A13,Tableau2[[#This Row],[DATE CROISIERE]])>1,"",SUMIFS(Tableau2[POINTS SEJOUR],Tableau2[DATE CROISIERE],Tableau2[[#This Row],[DATE CROISIERE]])+SUMIFS(Tableau2[POINTS FORFAITS],Tableau2[DATE CROISIERE],Tableau2[[#This Row],[DATE CROISIERE]])) -> 1700 | I13: =ENTREES!$G$2+SUM($H$2:H13) -> 62700

Sheet ENTREES
A1: NOMS BATEAUX | B1: AMBIANCE | C1: DUREE | D1: points | E1: FORFAITS | F1: FORFAITS PRE PAYES | G1: FABIEN
A2: MSC ARMONIA | B2: BELLA | C2: Inférieure à 5 nuits ou 6 jour | D2: 200 | E2: BOISSONS | F2: 200 | G2: 55000
A3: MSC BELLISSIMA | B3: BELLA | C3: de 5 à 9 nuits ou 6 à 10 jours | D3: 500 | E3: INTERNET - WIFI | F3: 100
A4: MSC DIVINA | B4: BELLA | C4: de plus de 9 nuits ou 10 jours | D4: 700 | E4: EXCURSION 1 | F4: 100
A5: MSC EURIBIA | B5: FANTASTICA | C5: Inférieure à 5 nuits ou 6 jour | D5: 400 | E5: EXCURSION 2 | F5: 200
A6: MSF FANTASIA | B6: FANTASTICA | C6: de 5 à 9 nuits ou 6 à 10 jours | D6: 700 | E6: EXCURSION 3 | F6: 300
A7: MSC GRANDIOSA | B7: FANTASTICA | C7: de plus de 9 nuits ou 10 jours | D7: 1000 | E7: BONUS | F7: 100
A8: MSC LIRICA | B8: AUREA | C8: Inférieure à 5 nuits ou 6 jour | D8: 600 | E8: ANNIVERSAIRE | F8: 200
A9: MSC MAGNIFICA | B9: AUREA | C9: de 5 à 9 nuits ou 6 à 10 jours | D9: 1000 | E9: DIVERS | F9: 100
A10: MSC MERAVIGLIA | B10: AUREA | C10: de plus de 9 nuits ou 10 jours | D10: 1500 | E10: AUTRES | F10: 100
A11: MSC MUSICA | B11: YACHT CLUB | C11: Inférieure à 5 nuits ou 6 jour | D11: 800
A12: MSC OPERA | B12: YACHT CLUB | C12: de 5 à 9 nuits ou 6 à 10 jours | D12: 1500
A13: MSC ORCHESTRA | B13: YACHT CLUB | C13: de plus de 9 nuits ou 10 jours | D13: 2000
A14: MSC POESIA
A15: MSC PREZIOSA
A16: MSC SEASCAPE
A17: MSCSEASHORE
A18: MSC SEASIDE
A19: MSC SEAVIEW
A20: MSC SINFONIA
A21: MSC SPLENDIDA
A22: MSC VIRTUOSA
A23: MSC WORLD AMERICA
A24: MSC WORLD EUROPA
A25: MSC WORLD ASIA
A26: MSC WORLD ATLANTIC
