Workbook

Sheet TONNE FORFAIT
A1: =TODAY() -> 42739
A3: Equipe M. FRERET | K3: CO/300141 | T3: Jours | U3: Tps Journalier
A4: N° TONNE/ NOMS | B4: Matricule | C4: Heure | D4: Panier | E4: H. SAL 10% | F4: H. SAL 20% | G4: PRIME HP | H4: Tps route Chauf. | I4: Tps route Pass. | J4: NDF | K4: INOX | L4: 20M3 | M4: Tonne : Hydro : | N4: Heure suppl. | P4: Commentaire | T4: Lundi | U4: 7.6
D5: 210 | E5: 391 | F5: 392 | G5: 372 | H5: 400 | I5: 396 | K5: =IF(A6<>"",INDEX(PARAMETRE!O:O,MATCH('TONNE FORFAIT'!A6,PARAMETRE!M:M,0)),"") -> FORF1 | L5: =IF(A10<>"",INDEX(PARAMETRE!O:O,MATCH('TONNE FORFAIT'!A10,PARAMETRE!M:M,0)),"") | M5: =IF(A14<>"",INDEX(PARAMETRE!O:O,MATCH('TONNE FORFAIT'!A14,PARAMETRE!M:M,0)),"") | N5: Début | O5: Fin | T5: Mardi | U5: 7.6
A6: TV27 | B6: =IF(A6<>"",INDEX(PARAMETRE!N:N,MATCH('TONNE FORFAIT'!A6,PARAMETRE!M:M,0)),"") -> 6765 | C6: =SUM(K6:M6) -> 7.6 | K6: 7.6 | T6: Mercredi | U6: 7.6
A7: ALLEAUME Fabrice | B7: =IF(A7<>"",INDEX(PARAMETRE!B:B,MATCH('TONNE FORFAIT'!A7,PARAMETRE!A:A,0)),"") -> 903240 | C7: =SUM(K7:M7) -> 8.6 | K7: 8.6 | N7: 13h00 | O7: 14h00 | P7: Interne | T7: Jeudi | U7: 7.6
B8: =IF(A8<>"",INDEX(PARAMETRE!B:B,MATCH('TONNE FORFAIT'!A8,PARAMETRE!A:A,0)),"") | C8: =SUM(K8:M8) -> 0 | T8: Vendredi | U8: 4.6
B9: =IF(A9<>"",INDEX(PARAMETRE!B:B,MATCH('TONNE FORFAIT'!A9,PARAMETRE!A:A,0)),"") | C9: =SUM(K9:M9) -> 0
B10: =IF(A10<>"",INDEX(PARAMETRE!N:N,MATCH('TONNE FORFAIT'!A10,PARAMETRE!M:M,0)),"") | C10: =SUM(K10:M10) -> 0
B11: =IF(A11<>"",INDEX(PARAMETRE!B:B,MATCH('TONNE FORFAIT'!A11,PARAMETRE!A:A,0)),"") | C11: =SUM(K11:M11) -> 0
B12: =IF(A12<>"",INDEX(PARAMETRE!B:B,MATCH('TONNE FORFAIT'!A12,PARAMETRE!A:A,0)),"") | C12: =SUM(K12:M12) -> 0
B13: =IF(A13<>"",INDEX(PARAMETRE!B:B,MATCH('TONNE FORFAIT'!A13,PARAMETRE!A:A,0)),"") | C13: =SUM(K13:M13) -> 0
B14: =IF(A14<>"",INDEX(PARAMETRE!N:N,MATCH('TONNE FORFAIT'!A14,PARAMETRE!M:M,0)),"") | C14: =SUM(K14:M14) -> 0
B15: =IF(A15<>"",INDEX(PARAMETRE!B:B,MATCH('TONNE FORFAIT'!A15,PARAMETRE!A:A,0)),"") | C15: =SUM(K15:M15) -> 0
B16: =IF(A16<>"",INDEX(PARAMETRE!B:B,MATCH('TONNE FORFAIT'!A16,PARAMETRE!A:A,0)),"") | C16: =SUM(K16:M16) -> 0
B17: =IF(A17<>"",INDEX(PARAMETRE!B:B,MATCH('TONNE FORFAIT'!A17,PARAMETRE!A:A,0)),"") | C17: =SUM(K17:M17) -> 0

Sheet CE-BENNE-ABS
A1: =TODAY() -> 42739
A3: Equipe M. FRERET | K3: DC/200996 | O3: CO/300141
A4: NOMS | B4: Matricule | C4: Heure | D4: Panier | E4: H. SAL 10% | F4: H. SAL 20% | G4: PRIME HP | H4: Tps route Chauf. | I4: Tps route Pass. | J4: NDF | K4: COMEST | L4: PHENATE | M4: Air de transit | N4: Stockage Bidons | O4: Chef Equipe | P4: Heure suppl. | R4: Commentaire
D5: 210 | E5: 391 | F5: 392 | G5: 372 | H5: 400 | I5: 396 | M5: TRANSIT | N5: STOCKA | O5: CE | P5: Début | Q5: Fin
A6: BENNE 6m3 | C6: JN | K6: 1 | L6: 1 | M6: 3 | N6: 1
A7: CUVE STOCKAGE 30m3 | C7: JN | M7: 3
C8: =SUM(K8:O8) -> 0
C9: =SUM(K9:O9) -> 0
A10: FRERET Michel | B10: =IF(A10<>"",INDEX(PARAMETRE!B:B,MATCH('CE-BENNE-ABS'!A10,PARAMETRE!A:A,0)),"") -> 1528 | C10: =SUM(K10:O10) -> 0
C11: =SUM(K11:O11) -> 0
C12: =SUM(K12:O12) -> 0
B13: =IF(A13<>"",INDEX(PARAMETRE!B:B,MATCH('CE-BENNE-ABS'!A13,PARAMETRE!A:A,0)),"") | C13: =SUM(K13:O13) -> 0
B14: =IF(A14<>"",INDEX(PARAMETRE!B:B,MATCH('CE-BENNE-ABS'!A14,PARAMETRE!A:A,0)),"") | C14: =SUM(K14:O14) -> 0
B15: =IF(A15<>"",INDEX(PARAMETRE!B:B,MATCH('CE-BENNE-ABS'!A15,PARAMETRE!A:A,0)),"") | C15: =SUM(K15:O15) -> 0
B16: =IF(A16<>"",INDEX(PARAMETRE!B:B,MATCH('CE-BENNE-ABS'!A16,PARAMETRE!A:A,0)),"") | C16: =SUM(K16:O16) -> 0
B17: =IF(A17<>"",INDEX(PARAMETRE!B:B,MATCH('CE-BENNE-ABS'!A17,PARAMETRE!A:A,0)),"") | C17: =SUM(K17:O17) -> 0

Sheet AMPLIROLL PELLE
A1: =TODAY() -> 42739
A3: Equipe M. FRERET | K3: CO/300141 | N3: DC/200996
A4: N° TONNE/ NOMS | B4: Matricule | C4: Heure | D4: Panier | E4: H. SAL 10% | F4: H. SAL 20% | G4: PRIME HP | H4: Tps route Chauf. | I4: Tps route Pass. | J4: NDF | K4: Rotation Sedibex | L4: Rotation Interne | M4: Curage Benne | O4: Rotation MBS | P4: Heure suppl. | R4: Commentaire
D5: 210 | E5: 391 | F5: 392 | G5: 372 | H5: 400 | I5: 396 | K5: 1 | L5: 1 | M5: 1 | P5: Début | Q5: Fin
B6: =IF(A6<>"",INDEX(PARAMETRE!B:B,MATCH('AMPLIROLL PELLE'!A6,PARAMETRE!A:A,0)),"") | C6: =SUM(K6:M6) -> 0
A7: AMPLIROLL | C7: =SUM(K7:M7) -> 0
A8: PELLETEUSE | B8: PETYS | C8: =SUM(K8:M8) -> 0
B10: =IF(A10<>"",INDEX(PARAMETRE!B:B,MATCH('AMPLIROLL PELLE'!A10,PARAMETRE!A:A,0)),"") | C10: =SUM(K10:M10) -> 0
C11: =SUM(K11:M11) -> 0
B12: =IF(A12<>"",INDEX(PARAMETRE!B:B,MATCH('AMPLIROLL PELLE'!A12,PARAMETRE!A:A,0)),"")
B13: =IF(A13<>"",INDEX(PARAMETRE!B:B,MATCH('AMPLIROLL PELLE'!A13,PARAMETRE!A:A,0)),"") | C13: =SUM(K13:M13) -> 0
B14: =IF(A14<>"",INDEX(PARAMETRE!B:B,MATCH('AMPLIROLL PELLE'!A14,PARAMETRE!A:A,0)),"") | C14: =SUM(K14:M14) -> 0
B15: =IF(A15<>"",INDEX(PARAMETRE!B:B,MATCH('AMPLIROLL PELLE'!A15,PARAMETRE!A:A,0)),"") | C15: =SUM(K15:M15) -> 0
B16: =IF(A16<>"",INDEX(PARAMETRE!B:B,MATCH('AMPLIROLL PELLE'!A16,PARAMETRE!A:A,0)),"") | C16: =SUM(K16:M16) -> 0

Sheet TONNE SUPP POMPE HP
A1: =TODAY() -> 42739
A3: Equipe M. FRERET
A4: N° TONNE/ NOMS | B4: Matricule | C4: Heure | D4: Panier | E4: H. SAL 10% | F4: H. SAL 20% | G4: PRIME HP | H4: Tps route Chauf. | I4: Tps route Pass. | J4: NDF | O4: Heure suppl. | Q4: Commentaire
D5: 210 | E5: 391 | F5: 392 | G5: 372 | H5: 400 | I5: 396 | K5: =IF(A6<>"",INDEX(PARAMETRE!Z:Z,MATCH('TONNE SUPP POMPE HP'!A6,PARAMETRE!Y:Y,0)),"") | L5: =IF(A10<>"",INDEX(PARAMETRE!Z:Z,MATCH('TONNE SUPP POMPE HP'!A10,PARAMETRE!Y:Y,0)),"") | M5: =IF(A14<>"",INDEX(PARAMETRE!Z:Z,MATCH('TONNE SUPP POMPE HP'!A14,PARAMETRE!Y:Y,0)),"") | N5: =IF(A18<>"",INDEX(PARAMETRE!Z:Z,MATCH('TONNE SUPP POMPE HP'!A18,PARAMETRE!Y:Y,0)),"") | O5: Début | P5: Fin
B6: =IF(A6<>"",INDEX(PARAMETRE!N:N,MATCH('TONNE SUPP POMPE HP'!A6,PARAMETRE!M:M,0)),"") | C6: =SUM(K6:N6) -> 0
B7: =IF(A7<>"",INDEX(PARAMETRE!B:B,MATCH('TONNE SUPP POMPE HP'!A7,PARAMETRE!A:A,0)),"") | C7: =SUM(K7:N7) -> 0
B8: =IF(A8<>"",INDEX(PARAMETRE!B:B,MATCH('TONNE SUPP POMPE HP'!A8,PARAMETRE!A:A,0)),"") | C8: =SUM(K8:N8) -> 0
B9: =IF(A9<>"",INDEX(PARAMETRE!B:B,MATCH('TONNE SUPP POMPE HP'!A9,PARAMETRE!A:A,0)),"") | C9: =SUM(K9:N9) -> 0
B10: =IF(A10<>"",INDEX(PARAMETRE!N:N,MATCH('TONNE SUPP POMPE HP'!A10,PARAMETRE!M:M,0)),"") | C10: =SUM(K10:N10) -> 0
B11: =IF(A11<>"",INDEX(PARAMETRE!B:B,MATCH('TONNE SUPP POMPE HP'!A11,PARAMETRE!A:A,0)),"") | C11: =SUM(K11:N11) -> 0
B12: =IF(A12<>"",INDEX(PARAMETRE!B:B,MATCH('TONNE SUPP POMPE HP'!A12,PARAMETRE!A:A,0)),"") | C12: =SUM(K12:N12) -> 0
B13: =IF(A13<>"",INDEX(PARAMETRE!B:B,MATCH('TONNE SUPP POMPE HP'!A13,PARAMETRE!A:A,0)),"") | C13: =SUM(K13:N13) -> 0
B14: =IF(A14<>"",INDEX(PARAMETRE!N:N,MATCH('TONNE SUPP POMPE HP'!A14,PARAMETRE!M:M,0)),"") | C14: =SUM(K14:N14) -> 0
B15: =IF(A15<>"",INDEX(PARAMETRE!B:B,MATCH('TONNE SUPP POMPE HP'!A15,PARAMETRE!A:A,0)),"") | C15: =SUM(K15:N15) -> 0
B16: =IF(A16<>"",INDEX(PARAMETRE!B:B,MATCH('TONNE SUPP POMPE HP'!A16,PARAMETRE!A:A,0)),"") | C16: =SUM(K16:N16) -> 0
B17: =IF(A17<>"",INDEX(PARAMETRE!B:B,MATCH('TONNE SUPP POMPE HP'!A17,PARAMETRE!A:A,0)),"") | C17: =SUM(K17:N17) -> 0
B18: =IF(A18<>"",INDEX(PARAMETRE!N:N,MATCH('TONNE SUPP POMPE HP'!A18,PARAMETRE!M:M,0)),"") | C18: =SUM(K18:N18) -> 0
B19: =IF(A19<>"",INDEX(PARAMETRE!B:B,MATCH('TONNE SUPP POMPE HP'!A19,PARAMETRE!A:A,0)),"") | C19: =SUM(K19:N19) -> 0
B20: =IF(A20<>"",INDEX(PARAMETRE!B:B,MATCH('TONNE SUPP POMPE HP'!A20,PARAMETRE!A:A,0)),"") | C20: =SUM(K20:N20) -> 0
B21: =IF(A21<>"",INDEX(PARAMETRE!B:B,MATCH('TONNE SUPP POMPE HP'!A21,PARAMETRE!A:A,0)),"") | C21: =SUM(K21:N21) -> 0

Sheet BATEAU
A1: =TODAY() -> 42739
A3: Equipe M. FRERET | K3: DC/200995
A4: N° TONNE/ NOMS | B4: Matricule | C4: Heure | D4: Panier | E4: H. SAL 10% | F4: H. SAL 20% | G4: PRIME HP | H4: Tps route Chauf. | I4: Tps route Pass. | J4: NDF | O4: Heure suppl. | Q4: Commentaire
D5: 210 | E5: 391 | F5: 392 | G5: 372 | H5: 400 | I5: 396 | O5: Début | P5: Fin
B6: =IF(A6<>"",INDEX(PARAMETRE!N:N,MATCH(BATEAU!A6,PARAMETRE!M:M,0)),"") | C6: =SUM(K6:N6) -> 0 | O6: 0 | P6: 0.33333333
B7: =IF(A7<>"",INDEX(PARAMETRE!B:B,MATCH(BATEAU!A7,PARAMETRE!A:A,0)),"") | C7: =SUM(K7:N7) -> 0
B8: =IF(A8<>"",INDEX(PARAMETRE!B:B,MATCH(BATEAU!A8,PARAMETRE!A:A,0)),"") | C8: =SUM(K8:N8) -> 0
B9: =IF(A9<>"",INDEX(PARAMETRE!B:B,MATCH(BATEAU!A9,PARAMETRE!A:A,0)),"") | C9: =SUM(K9:N9) -> 0
B10: =IF(A10<>"",INDEX(PARAMETRE!N:N,MATCH(BATEAU!A10,PARAMETRE!M:M,0)),"") | C10: =SUM(K10:N10) -> 0
B11: =IF(A11<>"",INDEX(PARAMETRE!B:B,MATCH(BATEAU!A11,PARAMETRE!A:A,0)),"") | C11: =SUM(K11:N11) -> 0
B12: =IF(A12<>"",INDEX(PARAMETRE!B:B,MATCH(BATEAU!A12,PARAMETRE!A:A,0)),"") | C12: =SUM(K12:N12) -> 0
B13: =IF(A13<>"",INDEX(PARAMETRE!B:B,MATCH(BATEAU!A13,PARAMETRE!A:A,0)),"") | C13: =SUM(K13:N13) -> 0
B14: =IF(A14<>"",INDEX(PARAMETRE!N:N,MATCH(BATEAU!A14,PARAMETRE!M:M,0)),"") | C14: =SUM(K14:N14) -> 0
B15: =IF(A15<>"",INDEX(PARAMETRE!B:B,MATCH(BATEAU!A15,PARAMETRE!A:A,0)),"") | C15: =SUM(K15:N15) -> 0
B16: =IF(A16<>"",INDEX(PARAMETRE!B:B,MATCH(BATEAU!A16,PARAMETRE!A:A,0)),"") | C16: =SUM(K16:N16) -> 0
B17: =IF(A17<>"",INDEX(PARAMETRE!B:B,MATCH(BATEAU!A17,PARAMETRE!A:A,0)),"") | C17: =SUM(K17:N17) -> 0

Sheet PARAMETRE
A1: Nom | B1: Matricule | E1: N° Tonne | F1: Immat. | G1: Forfait | M1: HP | N1: Immat. | Q1: AMPLIROLL | R1: Immat. | T1: TV27 | U1: FORF1S | V1: V920 | W1: ACIER | Y1: HP502 | Z1: DC/200996
A2: ALLEAUME Fabrice | B2: 903240 | E2: TV27 | F2: 6765 | G2: FORF1 | H2: FORF1S | I2: V920 | J2: ACIER | M2: HP502 | N2: BH345 | O2: DC/200996 | Q2: AMPLIROLL | R2: 2235 | T2: TV26 | U2: FORF1S | V2: V989 | W2: ACIER | Y2: HP503 | Z2: DC/200996
A3: BENIKLHEF Jean Jacques | B3: 1617 | E3: TV26 | F3: 6763 | G3: FORF1 | I3: V989 | M3: HP503 | N3: 3890 | Q3: AMPLIROLL | R3: 4842 | T3: TV28 | U3: FORF1S | V3: V2962 | W3: ACIER | Y3: HP504 | Z3: DC/200996
A4: BERTHELOT Roger | B4: 1684 | E4: TV28 | F4: 6269 | G4: FORF1 | I4: V2962 | M4: HP504 | N4: 1497 | Q4: PELLETEUSE | T4: TV30 | U4: FORF1S | V4: V2920 | W4: ACIER | Y4: HP505 | Z4: DC/200996
A5: BOQUET Eric | B5: 1296 | E5: TV30 | F5: CB059 | G5: FORF1 | I5: V2920 | M5: HP505 | N5: CR691 | T5: TV22 | U5: FORF1S | V5: V2518 | W5: ACIER | Y5: HP506 | Z5: DC/200996
A6: CARPENTIER Christian | B6: 1461 | E6: TV22 | F6: 7758 | G6: FORF1 | I6: V2518 | M6: HP506 | N6: CC118 | V6: V962 | Y6: HP802 | Z6: DC/200996
A7: CARPENTIER Patrice | B7: 1034 | I7: V962 | M7: HP802 | N7: 5826 | V7: V2517 | Y7: HP803 | Z7: DC/200996
A8: CROCHEMORE Yves | B8: 1185 | I8: V2517 | M8: HP803 | N8: 2502 | V8: V1040 | Y8: HP804 | Z8: DC/200996
A9: FLEURY Marc | B9: 1734 | I9: V1040 | M9: HP804 | N9: 804 | V9: UNITE SULFO | Y9: HP805 | Z9: DC/200996
A10: FRERET Michel | B10: 1528 | I10: UNITE SULFO | M10: HP805 | N10: AM269 | T10: TV19 | U10: FORF2S | V10: FORF2S | W10: FORF2S | Y10: TV19 | Z10: FORF2S
A11: GEBERT Johnny | B11: 1949 | E11: TV19 | F11: 5229 | G11: FORF2 | H11: FORF2S | I11: FORF2S | J11: FORF2S | M11: TV27 | N11: 6765 | O11: FORF1 | T11: TV23 | Y11: TV23 | Z11: FORF2S
A12: HEDAK Tahar | B12: 1669 | E12: TV23 | F12: 8167 | G12: FORF2 | M12: TV26 | N12: 6763 | O12: FORF1 | T12: TV11 | Y12: TV11 | Z12: FORF2S
A13: JUSTIN Kevin | B13: 1937 | E13: TV11 | F13: AZ670 | G13: FORF2 | M13: TV28 | N13: 6269 | O13: FORF1 | T13: TV12 | Y13: TV12 | Z13: FORF2S
A14: MUTEL Quentin | B14: 907863 | E14: TV12 | F14: BD045 | G14: FORF2 | M14: TV30 | N14: CB059 | O14: FORF1 | Y14: TV20 | Z14: HYDRO
A15: PESTEL Gregory | B15: 1932 | E15: TV20 | F15: 4677 | G15: FORF3 | H15: HYDRO | I15: HYDRO | J15: HYDRO | M15: TV22 | N15: 7758 | O15: FORF1 | Y15: TV31 | Z15: HYDRO
A16: PRETAVOINE Mickael | B16: 1755 | E16: TV31 | F16: CB502 | G16: FORF3 | M16: TV19 | N16: 5229 | O16: FORF2 | Y16: TV09 | Z16: HYDRO
A17: VINCENT David | B17: 1712 | E17: TV08 | F17: 4863 | G17: ACIER | H17: INOX | I17: V920 | J17: ACIER | M17: TV23 | N17: 8167 | O17: FORF2 | Y17: TV33 | Z17: HYDRO
I18: V989 | M18: TV11 | N18: AZ670 | O18: FORF2 | Y18: TV03 | Z18: ACIER
I19: V2962 | M19: TV12 | N19: BD045 | O19: FORF2 | Y19: TV10 | Z19: ACIER
I20: V2920 | M20: TV20 | N20: 4677 | O20: FORF3 | Y20: TV08
I21: V2518 | M21: TV31 | N21: CB502 | O21: FORF3 | Y21: TV27
I22: V962 | M22: TV08 | N22: 4863 | Y22: TV26
I23: V2517 | M23: TV09 | N23: 6297 | Y23: TV28
I24: V1040 | M24: TV33 | N24: BK267 | Y24: TV30
I25: UNITE SULFO | M25: TV03 | N25: 3315 | Y25: TV22
E26: TV09 | F26: 6297 | G26: HYDRO | H26: HYDRO | I26: HYDRO | J26: HYDRO | M26: TV10 | N26: 3760 | Y26: TV34
E27: TV33 | F27: BK267 | G27: HYDRO | M27: TV34 | N27: DA365
E28: TV03 | F28: 3315 | G28: ACIER | H28: ACIER | I28: ACIER | J28: ACIER
E29: TV10 | F29: 3760 | G29: ACIER
E30: TV34 | F30: DA365 | G30: ACIDE | H30: ACIER
