Workbook

Sheet oldOTB
A1: N de résa | B1: date de resa | C1: date in | D1: date out | E1: nb de jours | F1: saison | G1: stratégie | H1: se/we | I1: société | J1: nom du contact | K1: mail | L1: salle | M1: MEP | N1: nb de pax | O1: sr/je | P1: canal de réservation | Q1: nom cc | S1: 1 | T1: 2 | U1: 3 | V1: 4 | W1: 5 | X1: 6 | Y1: 7
C2: 42374 | D2: 42374 | E2: =D2-C2+1 -> 1 | I2: GMPA | J2: SANDRINE DUDOT | L2: ETOILE | S2: =IF($E2>=S$1,CONCATENATE($C2,$L2),"") -> 42374ETOILE | T2: =IF($E2>=T$1,CONCATENATE($C2+1,$L2),"") | U2: =IF($E2>=U$1,CONCATENATE($C2+2,$L2),"") | V2: =IF($E2>=V$1,CONCATENATE($C2+3,$L2),"") | W2: =IF($E2>=W$1,CONCATENATE($C2+4,$L2),"") | X2: =IF($E2>=X$1,CONCATENATE($C2+5,$L2),"") | Y2: =IF($E2>=Y$1,CONCATENATE($C2+6,$L2),"") | Z2: =I2&" "&N2&"pax"&" "&"en"&" "&M2 -> GMPA pax en
C3: 42374 | D3: 42375 | E3: =D3-C3+1 -> 2 | I3: COACH EVENEMENT | L3: LOUVRE | S3: =IF($E3>=S$1,CONCATENATE($C3,$L3),"") -> 42374LOUVRE | T3: =IF($E3>=T$1,CONCATENATE($C3+1,$L3),"") -> 42375LOUVRE | U3: =IF($E3>=U$1,CONCATENATE($C3+2,$L3),"") | V3: =IF($E3>=V$1,CONCATENATE($C3+3,$L3),"") | W3: =IF($E3>=W$1,CONCATENATE($C3+4,$L3),"") | X3: =IF($E3>=X$1,CONCATENATE($C3+5,$L3),"") | Y3: =IF($E3>=Y$1,CONCATENATE($C3+6,$L3),"") | Z3: =I3&" "&N3&"pax"&" "&"en"&" "&M3 -> COACH EVENEMENT pax en
C4: 42375 | D4: 42376 | E4: =D4-C4+1 -> 2 | I4: FNAC | L4: ETOILE | S4: =IF($E4>=S$1,CONCATENATE($C4,$L4),"") -> 42375ETOILE | T4: =IF($E4>=T$1,CONCATENATE($C4+1,$L4),"") -> 42376ETOILE | U4: =IF($E4>=U$1,CONCATENATE($C4+2,$L4),"") | V4: =IF($E4>=V$1,CONCATENATE($C4+3,$L4),"") | W4: =IF($E4>=W$1,CONCATENATE($C4+4,$L4),"") | X4: =IF($E4>=X$1,CONCATENATE($C4+5,$L4),"") | Y4: =IF($E4>=Y$1,CONCATENATE($C4+6,$L4),"") | Z4: =I4&" "&N4&"pax"&" "&"en"&" "&M4 -> FNAC pax en
C5: 42375 | D5: 42375 | E5: =D5-C5+1 -> 1 | I5: BURALISTES | L5: GRENELLE | S5: =IF($E5>=S$1,CONCATENATE($C5,$L5),"") -> 42375GRENELLE | T5: =IF($E5>=T$1,CONCATENATE($C5+1,$L5),"") | U5: =IF($E5>=U$1,CONCATENATE($C5+2,$L5),"") | V5: =IF($E5>=V$1,CONCATENATE($C5+3,$L5),"") | W5: =IF($E5>=W$1,CONCATENATE($C5+4,$L5),"") | X5: =IF($E5>=X$1,CONCATENATE($C5+5,$L5),"") | Y5: =IF($E5>=Y$1,CONCATENATE($C5+6,$L5),"") | Z5: =I5&" "&N5&"pax"&" "&"en"&" "&M5 -> BURALISTES pax en
C6: 42375 | D6: 42376 | E6: =D6-C6+1 -> 2 | I6: UNEP | L6: PICASSO-GREVIN | M6: U | N6: 30 | S6: =IF($E6>=S$1,CONCATENATE($C6,$L6),"") -> 42375PICASSO-GREVIN | T6: =IF($E6>=T$1,CONCATENATE($C6+1,$L6),"") -> 42376PICASSO-GREVIN | U6: =IF($E6>=U$1,CONCATENATE($C6+2,$L6),"") | V6: =IF($E6>=V$1,CONCATENATE($C6+3,$L6),"") | W6: =IF($E6>=W$1,CONCATENATE($C6+4,$L6),"") | X6: =IF($E6>=X$1,CONCATENATE($C6+5,$L6),"") | Y6: =IF($E6>=Y$1,CONCATENATE($C6+6,$L6),"") | Z6: =I6&" "&N6&"pax"&" "&"en"&" "&M6 -> UNEP 30pax en U
C7: 42376 | D7: 42376 | E7: =D7-C7+1 -> 1 | I7: INTERNE | L7: ABBESSES | S7: =IF($E7>=S$1,CONCATENATE($C7,$L7),"") -> 42376ABBESSES | T7: =IF($E7>=T$1,CONCATENATE($C7+1,$L7),"") | U7: =IF($E7>=U$1,CONCATENATE($C7+2,$L7),"") | V7: =IF($E7>=V$1,CONCATENATE($C7+3,$L7),"") | W7: =IF($E7>=W$1,CONCATENATE($C7+4,$L7),"") | X7: =IF($E7>=X$1,CONCATENATE($C7+5,$L7),"") | Y7: =IF($E7>=Y$1,CONCATENATE($C7+6,$L7),"") | Z7: =I7&" "&N7&"pax"&" "&"en"&" "&M7 -> INTERNE pax en
C8: 42376 | D8: 42377 | E8: =D8-C8+1 -> 2 | I8: PLASTIC OMNIUM | L8: GRENELLE | S8: =IF($E8>=S$1,CONCATENATE($C8,$L8),"") -> 42376GRENELLE | T8: =IF($E8>=T$1,CONCATENATE($C8+1,$L8),"") -> 42377GRENELLE | U8: =IF($E8>=U$1,CONCATENATE($C8+2,$L8),"") | V8: =IF($E8>=V$1,CONCATENATE($C8+3,$L8),"") | W8: =IF($E8>=W$1,CONCATENATE($C8+4,$L8),"") | X8: =IF($E8>=X$1,CONCATENATE($C8+5,$L8),"") | Y8: =IF($E8>=Y$1,CONCATENATE($C8+6,$L8),"") | Z8: =I8&" "&N8&"pax"&" "&"en"&" "&M8 -> PLASTIC OMNIUM pax en
C9: 42376 | D9: 42376 | E9: =D9-C9+1 -> 1 | I9: ALLIANZ | L9: MIRABEAU | N9: 58 | S9: =IF($E9>=S$1,CONCATENATE($C9,$L9),"") -> 42376MIRABEAU | T9: =IF($E9>=T$1,CONCATENATE($C9+1,$L9),"") | U9: =IF($E9>=U$1,CONCATENATE($C9+2,$L9),"") | V9: =IF($E9>=V$1,CONCATENATE($C9+3,$L9),"") | W9: =IF($E9>=W$1,CONCATENATE($C9+4,$L9),"") | X9: =IF($E9>=X$1,CONCATENATE($C9+5,$L9),"") | Y9: =IF($E9>=Y$1,CONCATENATE($C9+6,$L9),"") | Z9: =I9&" "&N9&"pax"&" "&"en"&" "&M9 -> ALLIANZ 58pax en
C10: 42377 | D10: 42377 | E10: =D10-C10+1 -> 1 | I10: INTERNE | L10: CARNAVALET | S10: =IF($E10>=S$1,CONCATENATE($C10,$L10),"") -> 42377CARNAVALET | T10: =IF($E10>=T$1,CONCATENATE($C10+1,$L10),"") | U10: =IF($E10>=U$1,CONCATENATE($C10+2,$L10),"") | V10: =IF($E10>=V$1,CONCATENATE($C10+3,$L10),"") | W10: =IF($E10>=W$1,CONCATENATE($C10+4,$L10),"") | X10: =IF($E10>=X$1,CONCATENATE($C10+5,$L10),"") | Y10: =IF($E10>=Y$1,CONCATENATE($C10+6,$L10),"") | Z10: =I10&" "&N10&"pax"&" "&"en"&" "&M10 -> INTERNE pax en
C11: 42377 | D11: 42377 | E11: =D11-C11+1 -> 1 | I11: JP CARRERE | L11: LOUVRE | N11: 6 | S11: =IF($E11>=S$1,CONCATENATE($C11,$L11),"") -> 42377LOUVRE | T11: =IF($E11>=T$1,CONCATENATE($C11+1,$L11),"") | U11: =IF($E11>=U$1,CONCATENATE($C11+2,$L11),"") | V11: =IF($E11>=V$1,CONCATENATE($C11+3,$L11),"") | W11: =IF($E11>=W$1,CONCATENATE($C11+4,$L11),"") | X11: =IF($E11>=X$1,CONCATENATE($C11+5,$L11),"") | Y11: =IF($E11>=Y$1,CONCATENATE($C11+6,$L11),"") | Z11: =I11&" "&N11&"pax"&" "&"en"&" "&M11 -> JP CARRERE 6pax en
C12: 42379 | D12: 42379 | E12: =D12-C12+1 -> 1 | I12: JJ BOUCHET | L12: LOUVRE | S12: =IF($E12>=S$1,CONCATENATE($C12,$L12),"") -> 42379LOUVRE | T12: =IF($E12>=T$1,CONCATENATE($C12+1,$L12),"") | U12: =IF($E12>=U$1,CONCATENATE($C12+2,$L12),"") | V12: =IF($E12>=V$1,CONCATENATE($C12+3,$L12),"") | W12: =IF($E12>=W$1,CONCATENATE($C12+4,$L12),"") | X12: =IF($E12>=X$1,CONCATENATE($C12+5,$L12),"") | Y12: =IF($E12>=Y$1,CONCATENATE($C12+6,$L12),"") | Z12: =I12&" "&N12&"pax"&" "&"en"&" "&M12 -> JJ BOUCHET pax en
C13: 42380 | D13: 42380 | E13: =D13-C13+1 -> 1 | I13: MASE | L13: ABESSES | S13: =IF($E13>=S$1,CONCATENATE($C13,$L13),"") -> 42380ABESSES | T13: =IF($E13>=T$1,CONCATENATE($C13+1,$L13),"") | U13: =IF($E13>=U$1,CONCATENATE($C13+2,$L13),"") | V13: =IF($E13>=V$1,CONCATENATE($C13+3,$L13),"") | W13: =IF($E13>=W$1,CONCATENATE($C13+4,$L13),"") | X13: =IF($E13>=X$1,CONCATENATE($C13+5,$L13),"") | Y13: =IF($E13>=Y$1,CONCATENATE($C13+6,$L13),"") | Z13: =I13&" "&N13&"pax"&" "&"en"&" "&M13 -> MASE pax en
C14: 42380 | D14: 42384 | E14: =D14-C14+1 -> 5 | I14: GMPA | L14: DAUPHINE | M14: AUTRE | S14: =IF($E14>=S$1,CONCATENATE($C14,$L14),"") -> 42380DAUPHINE | T14: =IF($E14>=T$1,CONCATENATE($C14+1,$L14),"") -> 42381DAUPHINE | U14: =IF($E14>=U$1,CONCATENATE($C14+2,$L14),"") -> 42382DAUPHINE | V14: =IF($E14>=V$1,CONCATENATE($C14+3,$L14),"") -> 42383DAUPHINE | W14: =IF($E14>=W$1,CONCATENATE($C14+4,$L14),"") -> 42384DAUPHINE | X14: =IF($E14>=X$1,CONCATENATE($C14+5,$L14),"") | Y14: =IF($E14>=Y$1,CONCATENATE($C14+6,$L14),"") | Z14: =I14&" "&N14&"pax"&" "&"en"&" "&M14 -> GMPA pax en AUTRE
C15: 42380 | D15: 42380 | E15: =D15-C15+1 -> 1 | I15: INTERNE | L15: ETOILE | S15: =IF($E15>=S$1,CONCATENATE($C15,$L15),"") -> 42380ETOILE | T15: =IF($E15>=T$1,CONCATENATE($C15+1,$L15),"") | U15: =IF($E15>=U$1,CONCATENATE($C15+2,$L15),"") | V15: =IF($E15>=V$1,CONCATENATE($C15+3,$L15),"") | W15: =IF($E15>=W$1,CONCATENATE($C15+4,$L15),"") | X15: =IF($E15>=X$1,CONCATENATE($C15+5,$L15),"") | Y15: =IF($E15>=Y$1,CONCATENATE($C15+6,$L15),"") | Z15: =I15&" "&N15&"pax"&" "&"en"&" "&M15 -> INTERNE pax en
C16: 42381 | D16: 42382 | E16: =D16-C16+1 -> 2 | I16: INTERNE | L16: ABESSES | S16: =IF($E16>=S$1,CONCATENATE($C16,$L16),"") -> 42381ABESSES | T16: =IF($E16>=T$1,CONCATENATE($C16+1,$L16),"") -> 42382ABESSES | U16: =IF($E16>=U$1,CONCATENATE($C16+2,$L16),"") | V16: =IF($E16>=V$1,CONCATENATE($C16+3,$L16),"") | W16: =IF($E16>=W$1,CONCATENATE($C16+4,$L16),"") | X16: =IF($E16>=X$1,CONCATENATE($C16+5,$L16),"") | Y16: =IF($E16>=Y$1,CONCATENATE($C16+6,$L16),"") | Z16: =I16&" "&N16&"pax"&" "&"en"&" "&M16 -> INTERNE pax en
C17: 42381 | D17: 42381 | E17: =D17-C17+1 -> 1 | I17: GMPA | L17: CARNAVALET | M17: THEATRE | N17: 25 | S17: =IF($E17>=S$1,CONCATENATE($C17,$L17),"") -> 42381CARNAVALET | T17: =IF($E17>=T$1,CONCATENATE($C17+1,$L17),"") | U17: =IF($E17>=U$1,CONCATENATE($C17+2,$L17),"") | V17: =IF($E17>=V$1,CONCATENATE($C17+3,$L17),"") | W17: =IF($E17>=W$1,CONCATENATE($C17+4,$L17),"") | X17: =IF($E17>=X$1,CONCATENATE($C17+5,$L17),"") | Y17: =IF($E17>=Y$1,CONCATENATE($C17+6,$L17),"") | Z17: =I17&" "&N17&"pax"&" "&"en"&" "&M17 -> GMPA 25pax en THEATRE
C18: 42381 | D18: 42381 | E18: =D18-C18+1 -> 1 | I18: PLASTIC OMNIUM | L18: ETOILE | S18: =IF($E18>=S$1,CONCATENATE($C18,$L18),"") -> 42381ETOILE | T18: =IF($E18>=T$1,CONCATENATE($C18+1,$L18),"") | U18: =IF($E18>=U$1,CONCATENATE($C18+2,$L18),"") | V18: =IF($E18>=V$1,CONCATENATE($C18+3,$L18),"") | W18: =IF($E18>=W$1,CONCATENATE($C18+4,$L18),"") | X18: =IF($E18>=X$1,CONCATENATE($C18+5,$L18),"") | Y18: =IF($E18>=Y$1,CONCATENATE($C18+6,$L18),"") | Z18: =I18&" "&N18&"pax"&" "&"en"&" "&M18 -> PLASTIC OMNIUM pax en
C19: 42381 | D19: 42381 | E19: =D19-C19+1 -> 1 | I19: GMPA | L19: GRENELLE | M19: THEATRE | N19: 25 | S19: =IF($E19>=S$1,CONCATENATE($C19,$L19),"") -> 42381GRENELLE | T19: =IF($E19>=T$1,CONCATENATE($C19+1,$L19),"") | U19: =IF($E19>=U$1,CONCATENATE($C19+2,$L19),"") | V19: =IF($E19>=V$1,CONCATENATE($C19+3,$L19),"") | W19: =IF($E19>=W$1,CONCATENATE($C19+4,$L19),"") | X19: =IF($E19>=X$1,CONCATENATE($C19+5,$L19),"") | Y19: =IF($E19>=Y$1,CONCATENATE($C19+6,$L19),"") | Z19: =I19&" "&N19&"pax"&" "&"en"&" "&M19 -> GMPA 25pax en THEATRE
C20: 42381 | D20: 42381 | E20: =D20-C20+1 -> 1 | I20: GMPA | L20: IENA | M20: THEATRE | N20: 25 | S20: =IF($E20>=S$1,CONCATENATE($C20,$L20),"") -> 42381IENA | T20: =IF($E20>=T$1,CONCATENATE($C20+1,$L20),"") | U20: =IF($E20>=U$1,CONCATENATE($C20+2,$L20),"") | V20: =IF($E20>=V$1,CONCATENATE($C20+3,$L20),"") | W20: =IF($E20>=W$1,CONCATENATE($C20+4,$L20),"") | X20: =IF($E20>=X$1,CONCATENATE($C20+5,$L20),"") | Y20: =IF($E20>=Y$1,CONCATENATE($C20+6,$L20),"") | Z20: =I20&" "&N20&"pax"&" "&"en"&" "&M20 -> GMPA 25pax en THEATRE
C21: 42381 | D21: 42716 | E21: =D21-C21+1 -> 336 | I21: GMPA | L21: LOUVRE | M21: THEATRE | N21: 25 | S21: =IF($E21>=S$1,CONCATENATE($C21,$L21),"") -> 42381LOUVRE | T21: =IF($E21>=T$1,CONCATENATE($C21+1,$L21),"") -> 42382LOUVRE | U21: =IF($E21>=U$1,CONCATENATE($C21+2,$L21),"") -> 42383LOUVRE | V21: =IF($E21>=V$1,CONCATENATE($C21+3,$L21),"") -> 42384LOUVRE | W21: =IF($E21>=W$1,CONCATENATE($C21+4,$L21),"") -> 42385LOUVRE | X21: =IF($E21>=X$1,CONCATENATE($C21+5,$L21),"") -> 42386LOUVRE | Y21: =IF($E21>=Y$1,CONCATENATE($C21+6,$L21),"") -> 42387LOUVRE | Z21: =I21&" "&N21&"pax"&" "&"en"&" "&M21 -> GMPA 25pax en THEATRE
C22: 42381 | D22: 42716 | E22: =D22-C22+1 -> 336 | I22: GMPA | L22: MIRABEAU | M22: THEATRE | N22: 25 | S22: =IF($E22>=S$1,CONCATENATE($C22,$L22),"") -> 42381MIRABEAU | T22: =IF($E22>=T$1,CONCATENATE($C22+1,$L22),"") -> 42382MIRABEAU | U22: =IF($E22>=U$1,CONCATENATE($C22+2,$L22),"") -> 42383MIRABEAU | V22: =IF($E22>=V$1,CONCATENATE($C22+3,$L22),"") -> 42384MIRABEAU | W22: =IF($E22>=W$1,CONCATENATE($C22+4,$L22),"") -> 42385MIRABEAU | X22: =IF($E22>=X$1,CONCATENATE($C22+5,$L22),"") -> 42386MIRABEAU | Y22: =IF($E22>=Y$1,CONCATENATE($C22+6,$L22),"") -> 42387MIRABEAU | Z22: =I22&" "&N22&"pax"&" "&"en"&" "&M22 -> GMPA 25pax en THEATRE
C23: 42381 | D23: 42719 | E23: =D23-C23+1 -> 339 | I23: FNAC | L23: MONCEAU | S23: =IF($E23>=S$1,CONCATENATE($C23,$L23),"") -> 42381MONCEAU | T23: =IF($E23>=T$1,CONCATENATE($C23+1,$L23),"") -> 42382MONCEAU | U23: =IF($E23>=U$1,CONCATENATE($C23+2,$L23),"") -> 42383MONCEAU | V23: =IF($E23>=V$1,CONCATENATE($C23+3,$L23),"") -> 42384MONCEAU | W23: =IF($E23>=W$1,CONCATENATE($C23+4,$L23),"") -> 42385MONCEAU | X23: =IF($E23>=X$1,CONCATENATE($C23+5,$L23),"") -> 42386MONCEAU | Y23: =IF($E23>=Y$1,CONCATENATE($C23+6,$L23),"") -> 42387MONCEAU | Z23: =I23&" "&N23&"pax"&" "&"en"&" "&M23 -> FNAC pax en
C24: 42381 | D24: 42381 | E24: =D24-C24+1 -> 1 | I24: GMPA | L24: RODIN-PICASSO-GREVIN | M24: THEATRE | N24: 185 | S24: =IF($E24>=S$1,CONCATENATE($C24,$L24),"") -> 42381RODIN-PICASSO-GREVIN | T24: =IF($E24>=T$1,CONCATENATE($C24+1,$L24),"") | U24: =IF($E24>=U$1,CONCATENATE($C24+2,$L24),"") | V24: =IF($E24>=V$1,CONCATENATE($C24+3,$L24),"") | W24: =IF($E24>=W$1,CONCATENATE($C24+4,$L24),"") | X24: =IF($E24>=X$1,CONCATENATE($C24+5,$L24),"") | Y24: =IF($E24>=Y$1,CONCATENATE($C24+6,$L24),"") | Z24: =I24&" "&N24&"pax"&" "&"en"&" "&M24 -> GMPA 185pax en THEATRE
C25: 42381 | D25: 42716 | E25: =D25-C25+1 -> 336 | I25: GMPA | L25: SULLY | M25: THEATRE | N25: 25 | S25: =IF($E25>=S$1,CONCATENATE($C25,$L25),"") -> 42381SULLY | T25: =IF($E25>=T$1,CONCATENATE($C25+1,$L25),"") -> 42382SULLY | U25: =IF($E25>=U$1,CONCATENATE($C25+2,$L25),"") -> 42383SULLY | V25: =IF($E25>=V$1,CONCATENATE($C25+3,$L25),"") -> 42384SULLY | W25: =IF($E25>=W$1,CONCATENATE($C25+4,$L25),"") -> 42385SULLY | X25: =IF($E25>=X$1,CONCATENATE($C25+5,$L25),"") -> 42386SULLY | Y25: =IF($E25>=Y$1,CONCATENATE($C25+6,$L25),"") -> 42387SULLY | Z25: =I25&" "&N25&"pax"&" "&"en"&" "&M25 -> GMPA 25pax en THEATRE
C26: 42382 | D26: 42384 | E26: =D26-C26+1 -> 3 | I26: GMPA | L26: CARNAVALET-RODIN | M26: U | N26: 35 | S26: =IF($E26>=S$1,CONCATENATE($C26,$L26),"") -> 42382CARNAVALET-RODIN | T26: =IF($E26>=T$1,CONCATENATE($C26+1,$L26),"") -> 42383CARNAVALET-RODIN | U26: =IF($E26>=U$1,CONCATENATE($C26+2,$L26),"") -> 42384CARNAVALET-RODIN | V26: =IF($E26>=V$1,CONCATENATE($C26+3,$L26),"") | W26: =IF($E26>=W$1,CONCATENATE($C26+4,$L26),"") | X26: =IF($E26>=X$1,CONCATENATE($C26+5,$L26),"") | Y26: =IF($E26>=Y$1,CONCATENATE($C26+6,$L26),"") | Z26: =I26&" "&N26&"pax"&" "&"en"&" "&M26 -> GMPA 35pax en U
C27: 42382 | D27: 42382 | E27: =D27-C27+1 -> 1 | I27: GEFCO | L27: ETOILE | S27: =IF($E27>=S$1,CONCATENATE($C27,$L27),"") -> 42382ETOILE | T27: =IF($E27>=T$1,CONCATENATE($C27+1,$L27),"") | U27: =IF($E27>=U$1,CONCATENATE($C27+2,$L27),"") | V27: =IF($E27>=V$1,CONCATENATE($C27+3,$L27),"") | W27: =IF($E27>=W$1,CONCATENATE($C27+4,$L27),"") | X27: =IF($E27>=X$1,CONCATENATE($C27+5,$L27),"") | Y27: =IF($E27>=Y$1,CONCATENATE($C27+6,$L27),"") | Z27: =I27&" "&N27&"pax"&" "&"en"&" "&M27 -> GEFCO pax en
C28: 42382 | D28: 42384 | E28: =D28-C28+1 -> 3 | I28: GMPA | L28: GRENELLE-SULLY | M28: U | N28: 30 | S28: =IF($E28>=S$1,CONCATENATE($C28,$L28),"") -> 42382GRENELLE-SULLY | T28: =IF($E28>=T$1,CONCATENATE($C28+1,$L28),"") -> 42383GRENELLE-SULLY | U28: =IF($E28>=U$1,CONCATENATE($C28+2,$L28),"") -> 42384GRENELLE-SULLY | V28: =IF($E28>=V$1,CONCATENATE($C28+3,$L28),"") | W28: =IF($E28>=W$1,CONCATENATE($C28+4,$L28),"") | X28: =IF($E28>=X$1,CONCATENATE($C28+5,$L28),"") | Y28: =IF($E28>=Y$1,CONCATENATE($C28+6,$L28),"") | Z28: =I28&" "&N28&"pax"&" "&"en"&" "&M28 -> GMPA 30pax en U
C29: 42382 | D29: 42384 | E29: =D29-C29+1 -> 3 | I29: GMPA | L29: MIRABEAU-IENA | M29: U | N29: 35 | S29: =IF($E29>=S$1,CONCATENATE($C29,$L29),"") -> 42382MIRABEAU-IENA | T29: =IF($E29>=T$1,CONCATENATE($C29+1,$L29),"") -> 42383MIRABEAU-IENA | U29: =IF($E29>=U$1,CONCATENATE($C29+2,$L29),"") -> 42384MIRABEAU-IENA | V29: =IF($E29>=V$1,CONCATENATE($C29+3,$L29),"") | W29: =IF($E29>=W$1,CONCATENATE($C29+4,$L29),"") | X29: =IF($E29>=X$1,CONCATENATE($C29+5,$L29),"") | Y29: =IF($E29>=Y$1,CONCATENATE($C29+6,$L29),"") | Z29: =I29&" "&N29&"pax"&" "&"en"&" "&M29 -> GMPA 35pax en U
C30: 42382 | D30: 42384 | E30: =D30-C30+1 -> 3 | I30: GMPA | L30: PICASSO-GREVIN | M30: U | N30: 30 | S30: =IF($E30>=S$1,CONCATENATE($C30,$L30),"") -> 42382PICASSO-GREVIN | T30: =IF($E30>=T$1,CONCATENATE($C30+1,$L30),"") -> 42383PICASSO-GREVIN | U30: =IF($E30>=U$1,CONCATENATE($C30+2,$L30),"") -> 42384PICASSO-GREVIN | V30: =IF($E30>=V$1,CONCATENATE($C30+3,$L30),"") | W30: =IF($E30>=W$1,CONCATENATE($C30+4,$L30),"") | X30: =IF($E30>=X$1,CONCATENATE($C30+5,$L30),"") | Y30: =IF($E30>=Y$1,CONCATENATE($C30+6,$L30),"") | Z30: =I30&" "&N30&"pax"&" "&"en"&" "&M30 -> GMPA 30pax en U
C31: 42383 | D31: 42383 | E31: =D31-C31+1 -> 1 | I31: GEFCO | L31: ABESSES | S31: =IF($E31>=S$1,CONCATENATE($C31,$L31),"") -> 42383ABESSES | T31: =IF($E31>=T$1,CONCATENATE($C31+1,$L31),"") | U31: =IF($E31>=U$1,CONCATENATE($C31+2,$L31),"") | V31: =IF($E31>=V$1,CONCATENATE($C31+3,$L31),"") | W31: =IF($E31>=W$1,CONCATENATE($C31+4,$L31),"") | X31: =IF($E31>=X$1,CONCATENATE($C31+5,$L31),"") | Y31: =IF($E31>=Y$1,CONCATENATE($C31+6,$L31),"") | Z31: =I31&" "&N31&"pax"&" "&"en"&" "&M31 -> GEFCO pax en
C32: 42383 | D32: 42383 | E32: =D32-C32+1 -> 1 | I32: STRAUTMANN | L32: ETOILES | S32: =IF($E32>=S$1,CONCATENATE($C32,$L32),"") -> 42383ETOILES | T32: =IF($E32>=T$1,CONCATENATE($C32+1,$L32),"") | U32: =IF($E32>=U$1,CONCATENATE($C32+2,$L32),"") | V32: =IF($E32>=V$1,CONCATENATE($C32+3,$L32),"") | W32: =IF($E32>=W$1,CONCATENATE($C32+4,$L32),"") | X32: =IF($E32>=X$1,CONCATENATE($C32+5,$L32),"") | Y32: =IF($E32>=Y$1,CONCATENATE($C32+6,$L32),"") | Z32: =I32&" "&N32&"pax"&" "&"en"&" "&M32 -> STRAUTMANN pax en
C33: 42384 | D33: 42384 | E33: =D33-C33+1 -> 1 | I33: UNCME | L33: ABBESSES | S33: =IF($E33>=S$1,CONCATENATE($C33,$L33),"") -> 42384ABBESSES | T33: =IF($E33>=T$1,CONCATENATE($C33+1,$L33),"") | U33: =IF($E33>=U$1,CONCATENATE($C33+2,$L33),"") | V33: =IF($E33>=V$1,CONCATENATE($C33+3,$L33),"") | W33: =IF($E33>=W$1,CONCATENATE($C33+4,$L33),"") | X33: =IF($E33>=X$1,CONCATENATE($C33+5,$L33),"") | Y33: =IF($E33>=Y$1,CONCATENATE($C33+6,$L33),"") | Z33: =I33&" "&N33&"pax"&" "&"en"&" "&M33 -> UNCME pax en
C34: 42384 | D34: 42384 | E34: =D34-C34+1 -> 1 | I34: GEFCO | L34: ETOILE | S34: =IF($E34>=S$1,CONCATENATE($C34,$L34),"") -> 42384ETOILE | T34: =IF($E34>=T$1,CONCATENATE($C34+1,$L34),"") | U34: =IF($E34>=U$1,CONCATENATE($C34+2,$L34),"") | V34: =IF($E34>=V$1,CONCATENATE($C34+3,$L34),"") | W34: =IF($E34>=W$1,CONCATENATE($C34+4,$L34),"") | X34: =IF($E34>=X$1,CONCATENATE($C34+5,$L34),"") | Y34: =IF($E34>=Y$1,CONCATENATE($C34+6,$L34),"") | Z34: =I34&" "&N34&"pax"&" "&"en"&" "&M34 -> GEFCO pax en
C35: 42384 | D35: 42384 | E35: =D35-C35+1 -> 1 | I35: LOUVRE | L35: GMPA | M35: AUTRE | S35: =IF($E35>=S$1,CONCATENATE($C35,$L35),"") -> 42384GMPA | T35: =IF($E35>=T$1,CONCATENATE($C35+1,$L35),"") | U35: =IF($E35>=U$1,CONCATENATE($C35+2,$L35),"") | V35: =IF($E35>=V$1,CONCATENATE($C35+3,$L35),"") | W35: =IF($E35>=W$1,CONCATENATE($C35+4,$L35),"") | X35: =IF($E35>=X$1,CONCATENATE($C35+5,$L35),"") | Y35: =IF($E35>=Y$1,CONCATENATE($C35+6,$L35),"") | Z35: =I35&" "&N35&"pax"&" "&"en"&" "&M35 -> LOUVRE pax en AUTRE
C36: 42385 | D36: 42385 | E36: =D36-C36+1 -> 1 | I36: UNCME | L36: GRENELLE | S36: =IF($E36>=S$1,CONCATENATE($C36,$L36),"") -> 42385GRENELLE | T36: =IF($E36>=T$1,CONCATENATE($C36+1,$L36),"") | U36: =IF($E36>=U$1,CONCATENATE($C36+2,$L36),"") | V36: =IF($E36>=V$1,CONCATENATE($C36+3,$L36),"") | W36: =IF($E36>=W$1,CONCATENATE($C36+4,$L36),"") | X36: =IF($E36>=X$1,CONCATENATE($C36+5,$L36),"") | Y36: =IF($E36>=Y$1,CONCATENATE($C36+6,$L36),"") | Z36: =I36&" "&N36&"pax"&" "&"en"&" "&M36 -> UNCME pax en
C37: 42385 | D37: 42385 | E37: =D37-C37+1 -> 1 | I37: UNCME | L37: MONCEAU | S37: =IF($E37>=S$1,CONCATENATE($C37,$L37),"") -> 42385MONCEAU | T37: =IF($E37>=T$1,CONCATENATE($C37+1,$L37),"") | U37: =IF($E37>=U$1,CONCATENATE($C37+2,$L37),"") | V37: =IF($E37>=V$1,CONCATENATE($C37+3,$L37),"") | W37: =IF($E37>=W$1,CONCATENATE($C37+4,$L37),"") | X37: =IF($E37>=X$1,CONCATENATE($C37+5,$L37),"") | Y37: =IF($E37>=Y$1,CONCATENATE($C37+6,$L37),"") | Z37: =I37&" "&N37&"pax"&" "&"en"&" "&M37 -> UNCME pax en
C38: 42385 | D38: 42386 | E38: =D38-C38+1 -> 2 | I38: CORPS MEMOIRE | L38: PICASSO-GREVIN | S38: =IF($E38>=S$1,CONCATENATE($C38,$L38),"") -> 42385PICASSO-GREVIN | T38: =IF($E38>=T$1,CONCATENATE($C38+1,$L38),"") -> 42386PICASSO-GREVIN | U38: =IF($E38>=U$1,CONCATENATE($C38+2,$L38),"") | V38: =IF($E38>=V$1,CONCATENATE($C38+3,$L38),"") | W38: =IF($E38>=W$1,CONCATENATE($C38+4,$L38),"") | X38: =IF($E38>=X$1,CONCATENATE($C38+5,$L38),"") | Y38: =IF($E38>=Y$1,CONCATENATE($C38+6,$L38),"") | Z38: =I38&" "&N38&"pax"&" "&"en"&" "&M38 -> CORPS MEMOIRE pax en
C39: 42385 | D39: 42385 | E39: =D39-C39+1 -> 1 | I39: UNCME | L39: SULLY | S39: =IF($E39>=S$1,CONCATENATE($C39,$L39),"") -> 42385SULLY | T39: =IF($E39>=T$1,CONCATENATE($C39+1,$L39),"") | U39: =IF($E39>=U$1,CONCATENATE($C39+2,$L39),"") | V39: =IF($E39>=V$1,CONCATENATE($C39+3,$L39),"") | W39: =IF($E39>=W$1,CONCATENATE($C39+4,$L39),"") | X39: =IF($E39>=X$1,CONCATENATE($C39+5,$L39),"") | Y39: =IF($E39>=Y$1,CONCATENATE($C39+6,$L39),"") | Z39: =I39&" "&N39&"pax"&" "&"en"&" "&M39 -> UNCME pax en
C40: 42386 | D40: 42386 | E40: =D40-C40+1 -> 1 | I40: JJ BOUCHET | L40: LOUVRE | S40: =IF($E40>=S$1,CONCATENATE($C40,$L40),"") -> 42386LOUVRE | T40: =IF($E40>=T$1,CONCATENATE($C40+1,$L40),"") | U40: =IF($E40>=U$1,CONCATENATE($C40+2,$L40),"") | V40: =IF($E40>=V$1,CONCATENATE($C40+3,$L40),"") | W40: =IF($E40>=W$1,CONCATENATE($C40+4,$L40),"") | X40: =IF($E40>=X$1,CONCATENATE($C40+5,$L40),"") | Y40: =IF($E40>=Y$1,CONCATENATE($C40+6,$L40),"") | Z40: =I40&" "&N40&"pax"&" "&"en"&" "&M40 -> JJ BOUCHET pax en
C41: 42387 | D41: 42387 | E41: =D41-C41+1 -> 1 | I41: PLASTIC OMNIUM | L41: CARNAVALET | S41: =IF($E41>=S$1,CONCATENATE($C41,$L41),"") -> 42387CARNAVALET | T41: =IF($E41>=T$1,CONCATENATE($C41+1,$L41),"") | U41: =IF($E41>=U$1,CONCATENATE($C41+2,$L41),"") | V41: =IF($E41>=V$1,CONCATENATE($C41+3,$L41),"") | W41: =IF($E41>=W$1,CONCATENATE($C41+4,$L41),"") | X41: =IF($E41>=X$1,CONCATENATE($C41+5,$L41),"") | Y41: =IF($E41>=Y$1,CONCATENATE($C41+6,$L41),"") | Z41: =I41&" "&N41&"pax"&" "&"en"&" "&M41 -> PLASTIC OMNIUM pax en
C42: 42387 | D42: 42387 | E42: =D42-C42+1 -> 1 | I42: GEFCO | L42: GREVIN | S42: =IF($E42>=S$1,CONCATENATE($C42,$L42),"") -> 42387GREVIN | T42: =IF($E42>=T$1,CONCATENATE($C42+1,$L42),"") | U42: =IF($E42>=U$1,CONCATENATE($C42+2,$L42),"") | V42: =IF($E42>=V$1,CONCATENATE($C42+3,$L42),"") | W42: =IF($E42>=W$1,CONCATENATE($C42+4,$L42),"") | X42: =IF($E42>=X$1,CONCATENATE($C42+5,$L42),"") | Y42: =IF($E42>=Y$1,CONCATENATE($C42+6,$L42),"") | Z42: =I42&" "&N42&"pax"&" "&"en"&" "&M42 -> GEFCO pax en
C43: 42387 | D43: 42387 | E43: =D43-C43+1 -> 1 | I43: INTERNE | L43: INTERNE | N43: 18 | S43: =IF($E43>=S$1,CONCATENATE($C43,$L43),"") -> 42387INTERNE | T43: =IF($E43>=T$1,CONCATENATE($C43+1,$L43),"") | U43: =IF($E43>=U$1,CONCATENATE($C43+2,$L43),"") | V43: =IF($E43>=V$1,CONCATENATE($C43+3,$L43),"") | W43: =IF($E43>=W$1,CONCATENATE($C43+4,$L43),"") | X43: =IF($E43>=X$1,CONCATENATE($C43+5,$L43),"") | Y43: =IF($E43>=Y$1,CONCATENATE($C43+6,$L43),"") | Z43: =I43&" "&N43&"pax"&" "&"en"&" "&M43 -> INTERNE 18pax en
C44: 42387 | D44: 42387 | E44: =D44-C44+1 -> 1 | I44: INTERNE | L44: INTERNE | S44: =IF($E44>=S$1,CONCATENATE($C44,$L44),"") -> 42387INTERNE | T44: =IF($E44>=T$1,CONCATENATE($C44+1,$L44),"") | U44: =IF($E44>=U$1,CONCATENATE($C44+2,$L44),"") | V44: =IF($E44>=V$1,CONCATENATE($C44+3,$L44),"") | W44: =IF($E44>=W$1,CONCATENATE($C44+4,$L44),"") | X44: =IF($E44>=X$1,CONCATENATE($C44+5,$L44),"") | Y44: =IF($E44>=Y$1,CONCATENATE($C44+6,$L44),"") | Z44: =I44&" "&N44&"pax"&" "&"en"&" "&M44 -> INTERNE pax en
C45: 42388 | D45: 42388 | E45: =D45-C45+1 -> 1 | I45: INTERNE | L45: ABESSES | S45: =IF($E45>=S$1,CONCATENATE($C45,$L45),"") -> 42388ABESSES | T45: =IF($E45>=T$1,CONCATENATE($C45+1,$L45),"") | U45: =IF($E45>=U$1,CONCATENATE($C45+2,$L45),"") | V45: =IF($E45>=V$1,CONCATENATE($C45+3,$L45),"") | W45: =IF($E45>=W$1,CONCATENATE($C45+4,$L45),"") | X45: =IF($E45>=X$1,CONCATENATE($C45+5,$L45),"") | Y45: =IF($E45>=Y$1,CONCATENATE($C45+6,$L45),"") | Z45: =I45&" "&N45&"pax"&" "&"en"&" "&M45 -> INTERNE pax en
C46: 42388 | D46: 42389 | E46: =D46-C46+1 -> 2 | I46: PHYTEUROP | L46: CARNAVALET | M46: U | N46: 25 | S46: =IF($E46>=S$1,CONCATENATE($C46,$L46),"") -> 42388CARNAVALET | T46: =IF($E46>=T$1,CONCATENATE($C46+1,$L46),"") -> 42389CARNAVALET | U46: =IF($E46>=U$1,CONCATENATE($C46+2,$L46),"") | V46: =IF($E46>=V$1,CONCATENATE($C46+3,$L46),"") | W46: =IF($E46>=W$1,CONCATENATE($C46+4,$L46),"") | X46: =IF($E46>=X$1,CONCATENATE($C46+5,$L46),"") | Y46: =IF($E46>=Y$1,CONCATENATE($C46+6,$L46),"") | Z46: =I46&" "&N46&"pax"&" "&"en"&" "&M46 -> PHYTEUROP 25pax en U
C47: 42388 | D47: 42388 | E47: =D47-C47+1 -> 1 | I47: INTERNE | L47: ETOILE | S47: =IF($E47>=S$1,CONCATENATE($C47,$L47),"") -> 42388ETOILE | T47: =IF($E47>=T$1,CONCATENATE($C47+1,$L47),"") | U47: =IF($E47>=U$1,CONCATENATE($C47+2,$L47),"") | V47: =IF($E47>=V$1,CONCATENATE($C47+3,$L47),"") | W47: =IF($E47>=W$1,CONCATENATE($C47+4,$L47),"") | X47: =IF($E47>=X$1,CONCATENATE($C47+5,$L47),"") | Y47: =IF($E47>=Y$1,CONCATENATE($C47+6,$L47),"") | Z47: =I47&" "&N47&"pax"&" "&"en"&" "&M47 -> INTERNE pax en
C48: 42388 | D48: 42390 | E48: =D48-C48+1 -> 3 | I48: INITIAL | L48: GREVIN | M48: U | N48: 22 | S48: =IF($E48>=S$1,CONCATENATE($C48,$L48),"") -> 42388GREVIN | T48: =IF($E48>=T$1,CONCATENATE($C48+1,$L48),"") -> 42389GREVIN | U48: =IF($E48>=U$1,CONCATENATE($C48+2,$L48),"") -> 42390GREVIN | V48: =IF($E48>=V$1,CONCATENATE($C48+3,$L48),"") | W48: =IF($E48>=W$1,CONCATENATE($C48+4,$L48),"") | X48: =IF($E48>=X$1,CONCATENATE($C48+5,$L48),"") | Y48: =IF($E48>=Y$1,CONCATENATE($C48+6,$L48),"") | Z48: =I48&" "&N48&"pax"&" "&"en"&" "&M48 -> INITIAL 22pax en U
C49: 42388 | D49: 42388 | E49: =D49-C49+1 -> 1 | I49: CFE CGC | L49: IENA | S49: =IF($E49>=S$1,CONCATENATE($C49,$L49),"") -> 42388IENA | T49: =IF($E49>=T$1,CONCATENATE($C49+1,$L49),"") | U49: =IF($E49>=U$1,CONCATENATE($C49+2,$L49),"") | V49: =IF($E49>=V$1,CONCATENATE($C49+3,$L49),"") | W49: =IF($E49>=W$1,CONCATENATE($C49+4,$L49),"") | X49: =IF($E49>=X$1,CONCATENATE($C49+5,$L49),"") | Y49: =IF($E49>=Y$1,CONCATENATE($C49+6,$L49),"") | Z49: =I49&" "&N49&"pax"&" "&"en"&" "&M49 -> CFE CGC pax en
C50: 42388 | D50: 42390 | E50: =D50-C50+1 -> 3 | I50: INITIAL | L50: LOUVRE | M50: U | N50: 6 | S50: =IF($E50>=S$1,CONCATENATE($C50,$L50),"") -> 42388LOUVRE | T50: =IF($E50>=T$1,CONCATENATE($C50+1,$L50),"") -> 42389LOUVRE | U50: =IF($E50>=U$1,CONCATENATE($C50+2,$L50),"") -> 42390LOUVRE | V50: =IF($E50>=V$1,CONCATENATE($C50+3,$L50),"") | W50: =IF($E50>=W$1,CONCATENATE($C50+4,$L50),"") | X50: =IF($E50>=X$1,CONCATENATE($C50+5,$L50),"") | Y50: =IF($E50>=Y$1,CONCATENATE($C50+6,$L50),"") | Z50: =I50&" "&N50&"pax"&" "&"en"&" "&M50 -> INITIAL 6pax en U
C51: 42388 | D51: 42388 | E51: =D51-C51+1 -> 1 | I51: CFE CGC | L51: MIRABEAU | S51: =IF($E51>=S$1,CONCATENATE($C51,$L51),"") -> 42388MIRABEAU | T51: =IF($E51>=T$1,CONCATENATE($C51+1,$L51),"") | U51: =IF($E51>=U$1,CONCATENATE($C51+2,$L51),"") | V51: =IF($E51>=V$1,CONCATENATE($C51+3,$L51),"") | W51: =IF($E51>=W$1,CONCATENATE($C51+4,$L51),"") | X51: =IF($E51>=X$1,CONCATENATE($C51+5,$L51),"") | Y51: =IF($E51>=Y$1,CONCATENATE($C51+6,$L51),"") | Z51: =I51&" "&N51&"pax"&" "&"en"&" "&M51 -> CFE CGC pax en
C52: 42389 | D52: 42389 | E52: =D52-C52+1 -> 1 | I52: PHYTEUROP | L52: CARNAVALET | M52: U | N52: 25 | S52: =IF($E52>=S$1,CONCATENATE($C52,$L52),"") -> 42389CARNAVALET | T52: =IF($E52>=T$1,CONCATENATE($C52+1,$L52),"") | U52: =IF($E52>=U$1,CONCATENATE($C52+2,$L52),"") | V52: =IF($E52>=V$1,CONCATENATE($C52+3,$L52),"") | W52: =IF($E52>=W$1,CONCATENATE($C52+4,$L52),"") | X52: =IF($E52>=X$1,CONCATENATE($C52+5,$L52),"") | Y52: =IF($E52>=Y$1,CONCATENATE($C52+6,$L52),"") | Z52: =I52&" "&N52&"pax"&" "&"en"&" "&M52 -> PHYTEUROP 25pax en U
C53: 42389 | D53: 42389 | E53: =D53-C53+1 -> 1 | I53: INTERNE | L53: DAUPHINE | S53: =IF($E53>=S$1,CONCATENATE($C53,$L53),"") -> 42389DAUPHINE | T53: =IF($E53>=T$1,CONCATENATE($C53+1,$L53),"") | U53: =IF($E53>=U$1,CONCATENATE($C53+2,$L53),"") | V53: =IF($E53>=V$1,CONCATENATE($C53+3,$L53),"") | W53: =IF($E53>=W$1,CONCATENATE($C53+4,$L53),"") | X53: =IF($E53>=X$1,CONCATENATE($C53+5,$L53),"") | Y53: =IF($E53>=Y$1,CONCATENATE($C53+6,$L53),"") | Z53: =I53&" "&N53&"pax"&" "&"en"&" "&M53 -> INTERNE pax en
C54: 42389 | D54: 42389 | E54: =D54-C54+1 -> 1 | I54: INTERNE | L54: ETOILE | S54: =IF($E54>=S$1,CONCATENATE($C54,$L54),"") -> 42389ETOILE | T54: =IF($E54>=T$1,CONCATENATE($C54+1,$L54),"") | U54: =IF($E54>=U$1,CONCATENATE($C54+2,$L54),"") | V54: =IF($E54>=V$1,CONCATENATE($C54+3,$L54),"") | W54: =IF($E54>=W$1,CONCATENATE($C54+4,$L54),"") | X54: =IF($E54>=X$1,CONCATENATE($C54+5,$L54),"") | Y54: =IF($E54>=Y$1,CONCATENATE($C54+6,$L54),"") | Z54: =I54&" "&N54&"pax"&" "&"en"&" "&M54 -> INTERNE pax en
C55: 42389 | D55: 42392 | E55: =D55-C55+1 -> 4 | I55: COLAS | L55: GRENELLE | S55: =IF($E55>=S$1,CONCATENATE($C55,$L55),"") -> 42389GRENELLE | T55: =IF($E55>=T$1,CONCATENATE($C55+1,$L55),"") -> 42390GRENELLE | U55: =IF($E55>=U$1,CONCATENATE($C55+2,$L55),"") -> 42391GRENELLE | V55: =IF($E55>=V$1,CONCATENATE($C55+3,$L55),"") -> 42392GRENELLE | W55: =IF($E55>=W$1,CONCATENATE($C55+4,$L55),"") | X55: =IF($E55>=X$1,CONCATENATE($C55+5,$L55),"") | Y55: =IF($E55>=Y$1,CONCATENATE($C55+6,$L55),"") | Z55: =I55&" "&N55&"pax"&" "&"en"&" "&M55 -> COLAS pax en
C56: 42389 | D56: 42390 | E56: =D56-C56+1 -> 2 | I56: INITIAL | L56: GREVIN | M56: U | N56: 22 | S56: =IF($E56>=S$1,CONCATENATE($C56,$L56),"") -> 42389GREVIN | T56: =IF($E56>=T$1,CONCATENATE($C56+1,$L56),"") -> 42390GREVIN | U56: =IF($E56>=U$1,CONCATENATE($C56+2,$L56),"") | V56: =IF($E56>=V$1,CONCATENATE($C56+3,$L56),"") | W56: =IF($E56>=W$1,CONCATENATE($C56+4,$L56),"") | X56: =IF($E56>=X$1,CONCATENATE($C56+5,$L56),"") | Y56: =IF($E56>=Y$1,CONCATENATE($C56+6,$L56),"") | Z56: =I56&" "&N56&"pax"&" "&"en"&" "&M56 -> INITIAL 22pax en U
C57: 42389 | D57: 42390 | E57: =D57-C57+1 -> 2 | I57: INITIAL | L57: LOUVRE | M57: U | N57: 10 | S57: =IF($E57>=S$1,CONCATENATE($C57,$L57),"") -> 42389LOUVRE | T57: =IF($E57>=T$1,CONCATENATE($C57+1,$L57),"") -> 42390LOUVRE | U57: =IF($E57>=U$1,CONCATENATE($C57+2,$L57),"") | V57: =IF($E57>=V$1,CONCATENATE($C57+3,$L57),"") | W57: =IF($E57>=W$1,CONCATENATE($C57+4,$L57),"") | X57: =IF($E57>=X$1,CONCATENATE($C57+5,$L57),"") | Y57: =IF($E57>=Y$1,CONCATENATE($C57+6,$L57),"") | Z57: =I57&" "&N57&"pax"&" "&"en"&" "&M57 -> INITIAL 10pax en U
C58: 42389 | D58: 42389 | E58: =D58-C58+1 -> 1 | I58: RM CLUB | L58: MIRABEAU-IENA | M58: THEATRE | N58: 40 | S58: =IF($E58>=S$1,CONCATENATE($C58,$L58),"") -> 42389MIRABEAU-IENA | T58: =IF($E58>=T$1,CONCATENATE($C58+1,$L58),"") | U58: =IF($E58>=U$1,CONCATENATE($C58+2,$L58),"") | V58: =IF($E58>=V$1,CONCATENATE($C58+3,$L58),"") | W58: =IF($E58>=W$1,CONCATENATE($C58+4,$L58),"") | X58: =IF($E58>=X$1,CONCATENATE($C58+5,$L58),"") | Y58: =IF($E58>=Y$1,CONCATENATE($C58+6,$L58),"") | Z58: =I58&" "&N58&"pax"&" "&"en"&" "&M58 -> RM CLUB 40pax en THEATRE
C59: 42389 | D59: 42389 | E59: =D59-C59+1 -> 1 | I59: LES RESTOS DU COEURS | L59: MONCEAU | N59: 70 | S59: =IF($E59>=S$1,CONCATENATE($C59,$L59),"") -> 42389MONCEAU | T59: =IF($E59>=T$1,CONCATENATE($C59+1,$L59),"") | U59: =IF($E59>=U$1,CONCATENATE($C59+2,$L59),"") | V59: =IF($E59>=V$1,CONCATENATE($C59+3,$L59),"") | W59: =IF($E59>=W$1,CONCATENATE($C59+4,$L59),"") | X59: =IF($E59>=X$1,CONCATENATE($C59+5,$L59),"") | Y59: =IF($E59>=Y$1,CONCATENATE($C59+6,$L59),"") | Z59: =I59&" "&N59&"pax"&" "&"en"&" "&M59 -> LES RESTOS DU COEURS 70pax en
C60: 42389 | D60: 42389 | E60: =D60-C60+1 -> 1 | I60: GEFCO | L60: PICASSO | S60: =IF($E60>=S$1,CONCATENATE($C60,$L60),"") -> 42389PICASSO | T60: =IF($E60>=T$1,CONCATENATE($C60+1,$L60),"") | U60: =IF($E60>=U$1,CONCATENATE($C60+2,$L60),"") | V60: =IF($E60>=V$1,CONCATENATE($C60+3,$L60),"") | W60: =IF($E60>=W$1,CONCATENATE($C60+4,$L60),"") | X60: =IF($E60>=X$1,CONCATENATE($C60+5,$L60),"") | Y60: =IF($E60>=Y$1,CONCATENATE($C60+6,$L60),"") | Z60: =I60&" "&N60&"pax"&" "&"en"&" "&M60 -> GEFCO pax en
C61: 42389 | D61: 42389 | E61: =D61-C61+1 -> 1 | I61: SOGEPARK | L61: RODIN | M61: THEATRE | N61: 35 | S61: =IF($E61>=S$1,CONCATENATE($C61,$L61),"") -> 42389RODIN | T61: =IF($E61>=T$1,CONCATENATE($C61+1,$L61),"") | U61: =IF($E61>=U$1,CONCATENATE($C61+2,$L61),"") | V61: =IF($E61>=V$1,CONCATENATE($C61+3,$L61),"") | W61: =IF($E61>=W$1,CONCATENATE($C61+4,$L61),"") | X61: =IF($E61>=X$1,CONCATENATE($C61+5,$L61),"") | Y61: =IF($E61>=Y$1,CONCATENATE($C61+6,$L61),"") | Z61: =I61&" "&N61&"pax"&" "&"en"&" "&M61 -> SOGEPARK 35pax en THEATRE
C62: 42389 | D62: 42392 | E62: =D62-C62+1 -> 4 | I62: COLAS | L62: SULLY | S62: =IF($E62>=S$1,CONCATENATE($C62,$L62),"") -> 42389SULLY | T62: =IF($E62>=T$1,CONCATENATE($C62+1,$L62),"") -> 42390SULLY | U62: =IF($E62>=U$1,CONCATENATE($C62+2,$L62),"") -> 42391SULLY | V62: =IF($E62>=V$1,CONCATENATE($C62+3,$L62),"") -> 42392SULLY | W62: =IF($E62>=W$1,CONCATENATE($C62+4,$L62),"") | X62: =IF($E62>=X$1,CONCATENATE($C62+5,$L62),"") | Y62: =IF($E62>=Y$1,CONCATENATE($C62+6,$L62),"") | Z62: =I62&" "&N62&"pax"&" "&"en"&" "&M62 -> COLAS pax en
C63: 42390 | D63: 42390 | E63: =D63-C63+1 -> 1 | I63: INTERNE | L63: ABBESSES | S63: =IF($E63>=S$1,CONCATENATE($C63,$L63),"") -> 42390ABBESSES | T63: =IF($E63>=T$1,CONCATENATE($C63+1,$L63),"") | U63: =IF($E63>=U$1,CONCATENATE($C63+2,$L63),"") | V63: =IF($E63>=V$1,CONCATENATE($C63+3,$L63),"") | W63: =IF($E63>=W$1,CONCATENATE($C63+4,$L63),"") | X63: =IF($E63>=X$1,CONCATENATE($C63+5,$L63),"") | Y63: =IF($E63>=Y$1,CONCATENATE($C63+6,$L63),"") | Z63: =I63&" "&N63&"pax"&" "&"en"&" "&M63 -> INTERNE pax en
C64: 42390 | D64: 42390 | E64: =D64-C64+1 -> 1 | I64: INTERNE | L64: ETOILE | S64: =IF($E64>=S$1,CONCATENATE($C64,$L64),"") -> 42390ETOILE | T64: =IF($E64>=T$1,CONCATENATE($C64+1,$L64),"") | U64: =IF($E64>=U$1,CONCATENATE($C64+2,$L64),"") | V64: =IF($E64>=V$1,CONCATENATE($C64+3,$L64),"") | W64: =IF($E64>=W$1,CONCATENATE($C64+4,$L64),"") | X64: =IF($E64>=X$1,CONCATENATE($C64+5,$L64),"") | Y64: =IF($E64>=Y$1,CONCATENATE($C64+6,$L64),"") | Z64: =I64&" "&N64&"pax"&" "&"en"&" "&M64 -> INTERNE pax en
C65: 42390 | D65: 42391 | E65: =D65-C65+1 -> 2 | I65: ESA LES CHARPENTIERS DE DEMAIN | L65: MIRABEAU-IENA | N65: 37 | S65: =IF($E65>=S$1,CONCATENATE($C65,$L65),"") -> 42390MIRABEAU-IENA | T65: =IF($E65>=T$1,CONCATENATE($C65+1,$L65),"") -> 42391MIRABEAU-IENA | U65: =IF($E65>=U$1,CONCATENATE($C65+2,$L65),"") | V65: =IF($E65>=V$1,CONCATENATE($C65+3,$L65),"") | W65: =IF($E65>=W$1,CONCATENATE($C65+4,$L65),"") | X65: =IF($E65>=X$1,CONCATENATE($C65+5,$L65),"") | Y65: =IF($E65>=Y$1,CONCATENATE($C65+6,$L65),"") | Z65: =I65&" "&N65&"pax"&" "&"en"&" "&M65 -> ESA LES CHARPENTIERS DE DEMAIN 37pax en
C66: 42390 | D66: 42390 | E66: =D66-C66+1 -> 1 | I66: ALLIANZ | L66: MONCEAU | N66: 35 | S66: =IF($E66>=S$1,CONCATENATE($C66,$L66),"") -> 42390MONCEAU | T66: =IF($E66>=T$1,CONCATENATE($C66+1,$L66),"") | U66: =IF($E66>=U$1,CONCATENATE($C66+2,$L66),"") | V66: =IF($E66>=V$1,CONCATENATE($C66+3,$L66),"") | W66: =IF($E66>=W$1,CONCATENATE($C66+4,$L66),"") | X66: =IF($E66>=X$1,CONCATENATE($C66+5,$L66),"") | Y66: =IF($E66>=Y$1,CONCATENATE($C66+6,$L66),"") | Z66: =I66&" "&N66&"pax"&" "&"en"&" "&M66 -> ALLIANZ 35pax en
C67: 42390 | D67: 42390 | E67: =D67-C67+1 -> 1 | I67: COLAS | L67: PICASSO | S67: =IF($E67>=S$1,CONCATENATE($C67,$L67),"") -> 42390PICASSO | T67: =IF($E67>=T$1,CONCATENATE($C67+1,$L67),"") | U67: =IF($E67>=U$1,CONCATENATE($C67+2,$L67),"") | V67: =IF($E67>=V$1,CONCATENATE($C67+3,$L67),"") | W67: =IF($E67>=W$1,CONCATENATE($C67+4,$L67),"") | X67: =IF($E67>=X$1,CONCATENATE($C67+5,$L67),"") | Y67: =IF($E67>=Y$1,CONCATENATE($C67+6,$L67),"") | Z67: =I67&" "&N67&"pax"&" "&"en"&" "&M67 -> COLAS pax en
C68: 42391 | D68: 42391 | E68: =D68-C68+1 -> 1 | I68: REXEL | L68: CARNAVALET | M68: THEATRE | N68: 40 | S68: =IF($E68>=S$1,CONCATENATE($C68,$L68),"") -> 42391CARNAVALET | T68: =IF($E68>=T$1,CONCATENATE($C68+1,$L68),"") | U68: =IF($E68>=U$1,CONCATENATE($C68+2,$L68),"") | V68: =IF($E68>=V$1,CONCATENATE($C68+3,$L68),"") | W68: =IF($E68>=W$1,CONCATENATE($C68+4,$L68),"") | X68: =IF($E68>=X$1,CONCATENATE($C68+5,$L68),"") | Y68: =IF($E68>=Y$1,CONCATENATE($C68+6,$L68),"") | Z68: =I68&" "&N68&"pax"&" "&"en"&" "&M68 -> REXEL 40pax en THEATRE
C69: 42391 | D69: 42391 | E69: =D69-C69+1 -> 1 | I69: INTERNE | L69: DAUPHINE | S69: =IF($E69>=S$1,CONCATENATE($C69,$L69),"") -> 42391DAUPHINE | T69: =IF($E69>=T$1,CONCATENATE($C69+1,$L69),"") | U69: =IF($E69>=U$1,CONCATENATE($C69+2,$L69),"") | V69: =IF($E69>=V$1,CONCATENATE($C69+3,$L69),"") | W69: =IF($E69>=W$1,CONCATENATE($C69+4,$L69),"") | X69: =IF($E69>=X$1,CONCATENATE($C69+5,$L69),"") | Y69: =IF($E69>=Y$1,CONCATENATE($C69+6,$L69),"") | Z69: =I69&" "&N69&"pax"&" "&"en"&" "&M69 -> INTERNE pax en
C70: 42391 | D70: 42391 | E70: =D70-C70+1 -> 1 | I70: INTERNE | L70: MONCEAU | M70: CABARET | N70: 65 | S70: =IF($E70>=S$1,CONCATENATE($C70,$L70),"") -> 42391MONCEAU | T70: =IF($E70>=T$1,CONCATENATE($C70+1,$L70),"") | U70: =IF($E70>=U$1,CONCATENATE($C70+2,$L70),"") | V70: =IF($E70>=V$1,CONCATENATE($C70+3,$L70),"") | W70: =IF($E70>=W$1,CONCATENATE($C70+4,$L70),"") | X70: =IF($E70>=X$1,CONCATENATE($C70+5,$L70),"") | Y70: =IF($E70>=Y$1,CONCATENATE($C70+6,$L70),"") | Z70: =I70&" "&N70&"pax"&" "&"en"&" "&M70 -> INTERNE 65pax en CABARET
C71: 42392 | D71: 42392 | E71: =D71-C71+1 -> 1 | I71: FFA | L71: PICASSO-GREVIN | S71: =IF($E71>=S$1,CONCATENATE($C71,$L71),"") -> 42392PICASSO-GREVIN | T71: =IF($E71>=T$1,CONCATENATE($C71+1,$L71),"") | U71: =IF($E71>=U$1,CONCATENATE($C71+2,$L71),"") | V71: =IF($E71>=V$1,CONCATENATE($C71+3,$L71),"") | W71: =IF($E71>=W$1,CONCATENATE($C71+4,$L71),"") | X71: =IF($E71>=X$1,CONCATENATE($C71+5,$L71),"") | Y71: =IF($E71>=Y$1,CONCATENATE($C71+6,$L71),"") | Z71: =I71&" "&N71&"pax"&" "&"en"&" "&M71 -> FFA pax en
C72: 42395 | D72: 42395 | E72: =D72-C72+1 -> 1 | I72: INTERNE | L72: ABESSES | S72: =IF($E72>=S$1,CONCATENATE($C72,$L72),"") -> 42395ABESSES | T72: =IF($E72>=T$1,CONCATENATE($C72+1,$L72),"") | U72: =IF($E72>=U$1,CONCATENATE($C72+2,$L72),"") | V72: =IF($E72>=V$1,CONCATENATE($C72+3,$L72),"") | W72: =IF($E72>=W$1,CONCATENATE($C72+4,$L72),"") | X72: =IF($E72>=X$1,CONCATENATE($C72+5,$L72),"") | Y72: =IF($E72>=Y$1,CONCATENATE($C72+6,$L72),"") | Z72: =I72&" "&N72&"pax"&" "&"en"&" "&M72 -> INTERNE pax en
C73: 42395 | D73: 42395 | E73: =D73-C73+1 -> 1 | I73: INTERNE | L73: CARNAVALET | S73: =IF($E73>=S$1,CONCATENATE($C73,$L73),"") -> 42395CARNAVALET | T73: =IF($E73>=T$1,CONCATENATE($C73+1,$L73),"") | U73: =IF($E73>=U$1,CONCATENATE($C73+2,$L73),"") | V73: =IF($E73>=V$1,CONCATENATE($C73+3,$L73),"") | W73: =IF($E73>=W$1,CONCATENATE($C73+4,$L73),"") | X73: =IF($E73>=X$1,CONCATENATE($C73+5,$L73),"") | Y73: =IF($E73>=Y$1,CONCATENATE($C73+6,$L73),"") | Z73: =I73&" "&N73&"pax"&" "&"en"&" "&M73 -> INTERNE pax en
C74: 42395 | D74: 42395 | E74: =D74-C74+1 -> 1 | I74: INTERNE | L74: DAUPHINE | S74: =IF($E74>=S$1,CONCATENATE($C74,$L74),"") -> 42395DAUPHINE | T74: =IF($E74>=T$1,CONCATENATE($C74+1,$L74),"") | U74: =IF($E74>=U$1,CONCATENATE($C74+2,$L74),"") | V74: =IF($E74>=V$1,CONCATENATE($C74+3,$L74),"") | W74: =IF($E74>=W$1,CONCATENATE($C74+4,$L74),"") | X74: =IF($E74>=X$1,CONCATENATE($C74+5,$L74),"") | Y74: =IF($E74>=Y$1,CONCATENATE($C74+6,$L74),"") | Z74: =I74&" "&N74&"pax"&" "&"en"&" "&M74 -> INTERNE pax en
C75: 42395 | D75: 42395 | E75: =D75-C75+1 -> 1 | I75: INTERNE | L75: ETOILE | S75: =IF($E75>=S$1,CONCATENATE($C75,$L75),"") -> 42395ETOILE | T75: =IF($E75>=T$1,CONCATENATE($C75+1,$L75),"") | U75: =IF($E75>=U$1,CONCATENATE($C75+2,$L75),"") | V75: =IF($E75>=V$1,CONCATENATE($C75+3,$L75),"") | W75: =IF($E75>=W$1,CONCATENATE($C75+4,$L75),"") | X75: =IF($E75>=X$1,CONCATENATE($C75+5,$L75),"") | Y75: =IF($E75>=Y$1,CONCATENATE($C75+6,$L75),"") | Z75: =I75&" "&N75&"pax"&" "&"en"&" "&M75 -> INTERNE pax en
C76: 42395 | D76: 42397 | E76: =D76-C76+1 -> 3 | I76: COLAS | L76: GRENELLE | S76: =IF($E76>=S$1,CONCATENATE($C76,$L76),"") -> 42395GRENELLE | T76: =IF($E76>=T$1,CONCATENATE($C76+1,$L76),"") -> 42396GRENELLE | U76: =IF($E76>=U$1,CONCATENATE($C76+2,$L76),"") -> 42397GRENELLE | V76: =IF($E76>=V$1,CONCATENATE($C76+3,$L76),"") | W76: =IF($E76>=W$1,CONCATENATE($C76+4,$L76),"") | X76: =IF($E76>=X$1,CONCATENATE($C76+5,$L76),"") | Y76: =IF($E76>=Y$1,CONCATENATE($C76+6,$L76),"") | Z76: =I76&" "&N76&"pax"&" "&"en"&" "&M76 -> COLAS pax en
C77: 42395 | D77: 42398 | E77: =D77-C77+1 -> 4 | I77: GEFCO | L77: IENA | S77: =IF($E77>=S$1,CONCATENATE($C77,$L77),"") -> 42395IENA | T77: =IF($E77>=T$1,CONCATENATE($C77+1,$L77),"") -> 42396IENA | U77: =IF($E77>=U$1,CONCATENATE($C77+2,$L77),"") -> 42397IENA | V77: =IF($E77>=V$1,CONCATENATE($C77+3,$L77),"") -> 42398IENA | W77: =IF($E77>=W$1,CONCATENATE($C77+4,$L77),"") | X77: =IF($E77>=X$1,CONCATENATE($C77+5,$L77),"") | Y77: =IF($E77>=Y$1,CONCATENATE($C77+6,$L77),"") | Z77: =I77&" "&N77&"pax"&" "&"en"&" "&M77 -> GEFCO pax en
C78: 42395 | D78: 42397 | E78: =D78-C78+1 -> 3 | I78: COLAS | L78: SULLY | S78: =IF($E78>=S$1,CONCATENATE($C78,$L78),"") -> 42395SULLY | T78: =IF($E78>=T$1,CONCATENATE($C78+1,$L78),"") -> 42396SULLY | U78: =IF($E78>=U$1,CONCATENATE($C78+2,$L78),"") -> 42397SULLY | V78: =IF($E78>=V$1,CONCATENATE($C78+3,$L78),"") | W78: =IF($E78>=W$1,CONCATENATE($C78+4,$L78),"") | X78: =IF($E78>=X$1,CONCATENATE($C78+5,$L78),"") | Y78: =IF($E78>=Y$1,CONCATENATE($C78+6,$L78),"") | Z78: =I78&" "&N78&"pax"&" "&"en"&" "&M78 -> COLAS pax en
C79: 42396 | D79: 42397 | E79: =D79-C79+1 -> 2 | I79: INTERNE | L79: ETOILE | S79: =IF($E79>=S$1,CONCATENATE($C79,$L79),"") -> 42396ETOILE | T79: =IF($E79>=T$1,CONCATENATE($C79+1,$L79),"") -> 42397ETOILE | U79: =IF($E79>=U$1,CONCATENATE($C79+2,$L79),"") | V79: =IF($E79>=V$1,CONCATENATE($C79+3,$L79),"") | W79: =IF($E79>=W$1,CONCATENATE($C79+4,$L79),"") | X79: =IF($E79>=X$1,CONCATENATE($C79+5,$L79),"") | Y79: =IF($E79>=Y$1,CONCATENATE($C79+6,$L79),"") | Z79: =I79&" "&N79&"pax"&" "&"en"&" "&M79 -> INTERNE pax en
C80: 42397 | D80: 42397 | E80: =D80-C80+1 -> 1 | I80: INTERNE | L80: ABESSES | S80: =IF($E80>=S$1,CONCATENATE($C80,$L80),"") -> 42397ABESSES | T80: =IF($E80>=T$1,CONCATENATE($C80+1,$L80),"") | U80: =IF($E80>=U$1,CONCATENATE($C80+2,$L80),"") | V80: =IF($E80>=V$1,CONCATENATE($C80+3,$L80),"") | W80: =IF($E80>=W$1,CONCATENATE($C80+4,$L80),"") | X80: =IF($E80>=X$1,CONCATENATE($C80+5,$L80),"") | Y80: =IF($E80>=Y$1,CONCATENATE($C80+6,$L80),"") | Z80: =I80&" "&N80&"pax"&" "&"en"&" "&M80 -> INTERNE pax en
C81: 42397 | D81: 42397 | E81: =D81-C81+1 -> 1 | I81: INTERNE | L81: DAUPHINE | S81: =IF($E81>=S$1,CONCATENATE($C81,$L81),"") -> 42397DAUPHINE | T81: =IF($E81>=T$1,CONCATENATE($C81+1,$L81),"") | U81: =IF($E81>=U$1,CONCATENATE($C81+2,$L81),"") | V81: =IF($E81>=V$1,CONCATENATE($C81+3,$L81),"") | W81: =IF($E81>=W$1,CONCATENATE($C81+4,$L81),"") | X81: =IF($E81>=X$1,CONCATENATE($C81+5,$L81),"") | Y81: =IF($E81>=Y$1,CONCATENATE($C81+6,$L81),"") | Z81: =I81&" "&N81&"pax"&" "&"en"&" "&M81 -> INTERNE pax en
C82: 42397 | D82: 42397 | E82: =D82-C82+1 -> 1 | I82: REXEL | L82: MIRABEAU | M82: THEATRE | N82: 32 | S82: =IF($E82>=S$1,CONCATENATE($C82,$L82),"") -> 42397MIRABEAU | T82: =IF($E82>=T$1,CONCATENATE($C82+1,$L82),"") | U82: =IF($E82>=U$1,CONCATENATE($C82+2,$L82),"") | V82: =IF($E82>=V$1,CONCATENATE($C82+3,$L82),"") | W82: =IF($E82>=W$1,CONCATENATE($C82+4,$L82),"") | X82: =IF($E82>=X$1,CONCATENATE($C82+5,$L82),"") | Y82: =IF($E82>=Y$1,CONCATENATE($C82+6,$L82),"") | Z82: =I82&" "&N82&"pax"&" "&"en"&" "&M82 -> REXEL 32pax en THEATRE
C83: 42397 | D83: 42398 | E83: =D83-C83+1 -> 2 | I83: FNAC | L83: MONCEAU | S83: =IF($E83>=S$1,CONCATENATE($C83,$L83),"") -> 42397MONCEAU | T83: =IF($E83>=T$1,CONCATENATE($C83+1,$L83),"") -> 42398MONCEAU | U83: =IF($E83>=U$1,CONCATENATE($C83+2,$L83),"") | V83: =IF($E83>=V$1,CONCATENATE($C83+3,$L83),"") | W83: =IF($E83>=W$1,CONCATENATE($C83+4,$L83),"") | X83: =IF($E83>=X$1,CONCATENATE($C83+5,$L83),"") | Y83: =IF($E83>=Y$1,CONCATENATE($C83+6,$L83),"") | Z83: =I83&" "&N83&"pax"&" "&"en"&" "&M83 -> FNAC pax en
C84: 42397 | D84: 42398 | E84: =D84-C84+1 -> 2 | I84: CNBH | L84: ORSAY | S84: =IF($E84>=S$1,CONCATENATE($C84,$L84),"") -> 42397ORSAY | T84: =IF($E84>=T$1,CONCATENATE($C84+1,$L84),"") -> 42398ORSAY | U84: =IF($E84>=U$1,CONCATENATE($C84+2,$L84),"") | V84: =IF($E84>=V$1,CONCATENATE($C84+3,$L84),"") | W84: =IF($E84>=W$1,CONCATENATE($C84+4,$L84),"") | X84: =IF($E84>=X$1,CONCATENATE($C84+5,$L84),"") | Y84: =IF($E84>=Y$1,CONCATENATE($C84+6,$L84),"") | Z84: =I84&" "&N84&"pax"&" "&"en"&" "&M84 -> CNBH pax en
C85: 42398 | D85: 42398 | E85: =D85-C85+1 -> 1 | I85: NOREVA PHARMA | L85: GRENELLE-SULLY | M85: U | N85: 30 | S85: =IF($E85>=S$1,CONCATENATE($C85,$L85),"") -> 42398GRENELLE-SULLY | T85: =IF($E85>=T$1,CONCATENATE($C85+1,$L85),"") | U85: =IF($E85>=U$1,CONCATENATE($C85+2,$L85),"") | V85: =IF($E85>=V$1,CONCATENATE($C85+3,$L85),"") | W85: =IF($E85>=W$1,CONCATENATE($C85+4,$L85),"") | X85: =IF($E85>=X$1,CONCATENATE($C85+5,$L85),"") | Y85: =IF($E85>=Y$1,CONCATENATE($C85+6,$L85),"") | Z85: =I85&" "&N85&"pax"&" "&"en"&" "&M85 -> NOREVA PHARMA 30pax en U
C86: 42398 | D86: 42398 | E86: =D86-C86+1 -> 1 | I86: FORCOMED | L86: MIRABEAU | M86: THEATRE | N86: 30 | S86: =IF($E86>=S$1,CONCATENATE($C86,$L86),"") -> 42398MIRABEAU | T86: =IF($E86>=T$1,CONCATENATE($C86+1,$L86),"") | U86: =IF($E86>=U$1,CONCATENATE($C86+2,$L86),"") | V86: =IF($E86>=V$1,CONCATENATE($C86+3,$L86),"") | W86: =IF($E86>=W$1,CONCATENATE($C86+4,$L86),"") | X86: =IF($E86>=X$1,CONCATENATE($C86+5,$L86),"") | Y86: =IF($E86>=Y$1,CONCATENATE($C86+6,$L86),"") | Z86: =I86&" "&N86&"pax"&" "&"en"&" "&M86 -> FORCOMED 30pax en THEATRE
C87: 42399 | D87: 42400 | E87: =D87-C87+1 -> 2 | I87: CORPS MEMOIRE | L87: GREVIN | S87: =IF($E87>=S$1,CONCATENATE($C87,$L87),"") -> 42399GREVIN | T87: =IF($E87>=T$1,CONCATENATE($C87+1,$L87),"") -> 42400GREVIN | U87: =IF($E87>=U$1,CONCATENATE($C87+2,$L87),"") | V87: =IF($E87>=V$1,CONCATENATE($C87+3,$L87),"") | W87: =IF($E87>=W$1,CONCATENATE($C87+4,$L87),"") | X87: =IF($E87>=X$1,CONCATENATE($C87+5,$L87),"") | Y87: =IF($E87>=Y$1,CONCATENATE($C87+6,$L87),"") | Z87: =I87&" "&N87&"pax"&" "&"en"&" "&M87 -> CORPS MEMOIRE pax en
C88: 42399 | D88: 42399 | E88: =D88-C88+1 -> 1 | I88: GETM | L88: MIRABEAU | S88: =IF($E88>=S$1,CONCATENATE($C88,$L88),"") -> 42399MIRABEAU | T88: =IF($E88>=T$1,CONCATENATE($C88+1,$L88),"") | U88: =IF($E88>=U$1,CONCATENATE($C88+2,$L88),"") | V88: =IF($E88>=V$1,CONCATENATE($C88+3,$L88),"") | W88: =IF($E88>=W$1,CONCATENATE($C88+4,$L88),"") | X88: =IF($E88>=X$1,CONCATENATE($C88+5,$L88),"") | Y88: =IF($E88>=Y$1,CONCATENATE($C88+6,$L88),"") | Z88: =I88&" "&N88&"pax"&" "&"en"&" "&M88 -> GETM pax en
C89: 42401 | D89: 42402 | E89: =D89-C89+1 -> 2 | I89: LES RESTAURANTS DU CŒURS | L89: CARNAVALET-RODIN-PICASSO-GREVIN | M89: THEATRE | N89: 250 | R89: CONFIRME | S89: =IF($E89>=S$1,CONCATENATE($C89,$L89),"") -> 42401CARNAVALET-RODIN-PICASSO-GREVIN | T89: =IF($E89>=T$1,CONCATENATE($C89+1,$L89),"") -> 42402CARNAVALET-RODIN-PICASSO-GREVIN | U89: =IF($E89>=U$1,CONCATENATE($C89+2,$L89),"") | V89: =IF($E89>=V$1,CONCATENATE($C89+3,$L89),"") | W89: =IF($E89>=W$1,CONCATENATE($C89+4,$L89),"") | X89: =IF($E89>=X$1,CONCATENATE($C89+5,$L89),"") | Y89: =IF($E89>=Y$1,CONCATENATE($C89+6,$L89),"") | Z89: =I89&" "&N89&"pax"&" "&"en"&" "&M89 -> LES RESTAURANTS DU CŒURS 250pax en THEATRE
C90: 42401 | D90: 42401 | E90: =D90-C90+1 -> 1 | I90: NBS | L90: ETOILE | M90: OVALE | R90: CONFIRME | S90: =IF($E90>=S$1,CONCATENATE($C90,$L90),"") -> 42401ETOILE | T90: =IF($E90>=T$1,CONCATENATE($C90+1,$L90),"") | U90: =IF($E90>=U$1,CONCATENATE($C90+2,$L90),"") | V90: =IF($E90>=V$1,CONCATENATE($C90+3,$L90),"") | W90: =IF($E90>=W$1,CONCATENATE($C90+4,$L90),"") | X90: =IF($E90>=X$1,CONCATENATE($C90+5,$L90),"") | Y90: =IF($E90>=Y$1,CONCATENATE($C90+6,$L90),"") | Z90: =I90&" "&N90&"pax"&" "&"en"&" "&M90 -> NBS pax en OVALE
C91: 42401 | D91: 42402 | E91: =D91-C91+1 -> 2 | I91: LES RESTAURANTS DU CŒURS | L91: MONCEAU | R91: CONFIRME | S91: =IF($E91>=S$1,CONCATENATE($C91,$L91),"") -> 42401MONCEAU | T91: =IF($E91>=T$1,CONCATENATE($C91+1,$L91),"") -> 42402MONCEAU | U91: =IF($E91>=U$1,CONCATENATE($C91+2,$L91),"") | V91: =IF($E91>=V$1,CONCATENATE($C91+3,$L91),"") | W91: =IF($E91>=W$1,CONCATENATE($C91+4,$L91),"") | X91: =IF($E91>=X$1,CONCATENATE($C91+5,$L91),"") | Y91: =IF($E91>=Y$1,CONCATENATE($C91+6,$L91),"") | Z91: =I91&" "&N91&"pax"&" "&"en"&" "&M91 -> LES RESTAURANTS DU CŒURS pax en
C92: 42402 | D92: 42402 | E92: =D92-C92+1 -> 1 | I92: INTERNE | L92: ABBESSES | M92: OVALE | R92: CONFIRME | S92: =IF($E92>=S$1,CONCATENATE($C92,$L92),"") -> 42402ABBESSES | T92: =IF($E92>=T$1,CONCATENATE($C92+1,$L92),"") | U92: =IF($E92>=U$1,CONCATENATE($C92+2,$L92),"") | V92: =IF($E92>=V$1,CONCATENATE($C92+3,$L92),"") | W92: =IF($E92>=W$1,CONCATENATE($C92+4,$L92),"") | X92: =IF($E92>=X$1,CONCATENATE($C92+5,$L92),"") | Y92: =IF($E92>=Y$1,CONCATENATE($C92+6,$L92),"") | Z92: =I92&" "&N92&"pax"&" "&"en"&" "&M92 -> INTERNE pax en OVALE
C93: 42402 | D93: 42402 | E93: =D93-C93+1 -> 1 | I93: INTERNE | L93: DAUPHINE | M93: OVALE | R93: CONFIRME | S93: =IF($E93>=S$1,CONCATENATE($C93,$L93),"") -> 42402DAUPHINE | T93: =IF($E93>=T$1,CONCATENATE($C93+1,$L93),"") | U93: =IF($E93>=U$1,CONCATENATE($C93+2,$L93),"") | V93: =IF($E93>=V$1,CONCATENATE($C93+3,$L93),"") | W93: =IF($E93>=W$1,CONCATENATE($C93+4,$L93),"") | X93: =IF($E93>=X$1,CONCATENATE($C93+5,$L93),"") | Y93: =IF($E93>=Y$1,CONCATENATE($C93+6,$L93),"") | Z93: =I93&" "&N93&"pax"&" "&"en"&" "&M93 -> INTERNE pax en OVALE
B94: janvier | C94: 42402 | D94: 42404 | E94: =D94-C94+1 -> 3 | I94: CIDB | J94: BRIGITTE QUETGLAS | K94: quetglas@cidb.org | L94: ETOILE | M94: OVALE | N94: 9 | O94: JE | P94: Direct | Q94: Hugo | R94: CONFIRME | S94: =IF($E94>=S$1,CONCATENATE($C94,$L94),"") -> 42402ETOILE | T94: =IF($E94>=T$1,CONCATENATE($C94+1,$L94),"") -> 42403ETOILE | U94: =IF($E94>=U$1,CONCATENATE($C94+2,$L94),"") -> 42404ETOILE | V94: =IF($E94>=V$1,CONCATENATE($C94+3,$L94),"") | W94: =IF($E94>=W$1,CONCATENATE($C94+4,$L94),"") | X94: =IF($E94>=X$1,CONCATENATE($C94+5,$L94),"") | Y94: =IF($E94>=Y$1,CONCATENATE($C94+6,$L94),"") | Z94: =I94&" "&N94&"pax"&" "&"en"&" "&M94 -> CIDB 9pax en OVALE
C95: 42403 | D95: 42403 | E95: =D95-C95+1 -> 1 | I95: MAPA SPONTEX | L95: ABBESSES | M95: OVALE | N95: 8 | R95: CONFIRME | S95: =IF($E95>=S$1,CONCATENATE($C95,$L95),"") -> 42403ABBESSES | T95: =IF($E95>=T$1,CONCATENATE($C95+1,$L95),"") | U95: =IF($E95>=U$1,CONCATENATE($C95+2,$L95),"") | V95: =IF($E95>=V$1,CONCATENATE($C95+3,$L95),"") | W95: =IF($E95>=W$1,CONCATENATE($C95+4,$L95),"") | X95: =IF($E95>=X$1,CONCATENATE($C95+5,$L95),"") | Y95: =IF($E95>=Y$1,CONCATENATE($C95+6,$L95),"") | Z95: =I95&" "&N95&"pax"&" "&"en"&" "&M95 -> MAPA SPONTEX 8pax en OVALE
C96: 42403 | D96: 42404 | E96: =D96-C96+1 -> 2 | I96: LA SPA | L96: CARNAVALET-RODIN | M96: THEATRE | N96: 90 | R96: CONFIRME | S96: =IF($E96>=S$1,CONCATENATE($C96,$L96),"") -> 42403CARNAVALET-RODIN | T96: =IF($E96>=T$1,CONCATENATE($C96+1,$L96),"") -> 42404CARNAVALET-RODIN | U96: =IF($E96>=U$1,CONCATENATE($C96+2,$L96),"") | V96: =IF($E96>=V$1,CONCATENATE($C96+3,$L96),"") | W96: =IF($E96>=W$1,CONCATENATE($C96+4,$L96),"") | X96: =IF($E96>=X$1,CONCATENATE($C96+5,$L96),"") | Y96: =IF($E96>=Y$1,CONCATENATE($C96+6,$L96),"") | Z96: =I96&" "&N96&"pax"&" "&"en"&" "&M96 -> LA SPA 90pax en THEATRE
C97: 42403 | D97: 42403 | E97: =D97-C97+1 -> 1 | I97: MAPA SPONTEX | L97: DAUPHINE | M97: OVALE | N97: 8 | R97: CONFIRME | S97: =IF($E97>=S$1,CONCATENATE($C97,$L97),"") -> 42403DAUPHINE | T97: =IF($E97>=T$1,CONCATENATE($C97+1,$L97),"") | U97: =IF($E97>=U$1,CONCATENATE($C97+2,$L97),"") | V97: =IF($E97>=V$1,CONCATENATE($C97+3,$L97),"") | W97: =IF($E97>=W$1,CONCATENATE($C97+4,$L97),"") | X97: =IF($E97>=X$1,CONCATENATE($C97+5,$L97),"") | Y97: =IF($E97>=Y$1,CONCATENATE($C97+6,$L97),"") | Z97: =I97&" "&N97&"pax"&" "&"en"&" "&M97 -> MAPA SPONTEX 8pax en OVALE
B98: janvier | C98: 42403 | D98: 42403 | E98: =D98-C98+1 -> 1 | I98: GEFCO | J98: MALKIC Johanna | K98: johanna.malkic@gefco.net | L98: GREVIN | M98: U | P98: Direct | Q98: Alice | R98: CONFIRME | S98: =IF($E98>=S$1,CONCATENATE($C98,$L98),"") -> 42403GREVIN | T98: =IF($E98>=T$1,CONCATENATE($C98+1,$L98),"") | U98: =IF($E98>=U$1,CONCATENATE($C98+2,$L98),"") | V98: =IF($E98>=V$1,CONCATENATE($C98+3,$L98),"") | W98: =IF($E98>=W$1,CONCATENATE($C98+4,$L98),"") | X98: =IF($E98>=X$1,CONCATENATE($C98+5,$L98),"") | Y98: =IF($E98>=Y$1,CONCATENATE($C98+6,$L98),"") | Z98: =I98&" "&N98&"pax"&" "&"en"&" "&M98 -> GEFCO pax en U
B99: janvier | C99: 42403 | D99: 42403 | E99: =D99-C99+1 -> 1 | I99: GEFCO | J99: MALKIC Johanna | K99: johanna.malkic@gefco.net | L99: LOUVRE | M99: U | N99: 11 | O99: SR | P99: Direct | Q99: Alice | R99: CONFIRME | S99: =IF($E99>=S$1,CONCATENATE($C99,$L99),"") -> 42403LOUVRE | T99: =IF($E99>=T$1,CONCATENATE($C99+1,$L99),"") | U99: =IF($E99>=U$1,CONCATENATE($C99+2,$L99),"") | V99: =IF($E99>=V$1,CONCATENATE($C99+3,$L99),"") | W99: =IF($E99>=W$1,CONCATENATE($C99+4,$L99),"") | X99: =IF($E99>=X$1,CONCATENATE($C99+5,$L99),"") | Y99: =IF($E99>=Y$1,CONCATENATE($C99+6,$L99),"") | Z99: =I99&" "&N99&"pax"&" "&"en"&" "&M99 -> GEFCO 11pax en U
B100: janvier | C100: 42403 | D100: 42403 | E100: =D100-C100+1 -> 1 | I100: SMI IBIS projet HS France | J100: ALLAIS Karen | K100: karen.allais@accor.com | L100: MIRABEAU-IENA-GRENELLE | N100: 50 | O100: JE | P100: Direct | Q100: Lamia | R100: CONFIRME | S100: =IF($E100>=S$1,CONCATENATE($C100,$L100),"") -> 42403MIRABEAU-IENA-GRENELLE | T100: =IF($E100>=T$1,CONCATENATE($C100+1,$L100),"") | U100: =IF($E100>=U$1,CONCATENATE($C100+2,$L100),"") | V100: =IF($E100>=V$1,CONCATENATE($C100+3,$L100),"") | W100: =IF($E100>=W$1,CONCATENATE($C100+4,$L100),"") | X100: =IF($E100>=X$1,CONCATENATE($C100+5,$L100),"") | Y100: =IF($E100>=Y$1,CONCATENATE($C100+6,$L100),"") | Z100: =I100&" "&N100&"pax"&" "&"en"&" "&M100 -> SMI IBIS projet HS France 50pax en
...

Sheet otb2017
A1: N de résa | B1: date de resa | C1: date in | D1: date out | E1: nb de jours | F1: saison | G1: stratégie | H1: se/we | I1: société | J1: nom du contact | K1: mail | L1: salle | M1: MEP | N1: nb de pax | O1: sr/je | P1: canal de réservation | Q1: nom cc | R1: statut | S1: ca | T1: pas déplaçable
C2: 42376 | D2: 42376 | E2: =_xlfn.DAYS(D2,C2)+1 -> 1 | I2: INTERNE | L2: ABBESSES
C3: 42380 | D3: 42380 | E3: =_xlfn.DAYS(D3,C3)+1 -> 1 | I3: MASE | L3: ABBESSES
C4: 42381 | D4: 42382 | E4: =_xlfn.DAYS(D4,C4)+1 -> 2 | I4: INTERNE | L4: ABBESSES
C5: 42383 | D5: 42383 | E5: =_xlfn.DAYS(D5,C5)+1 -> 1 | I5: GEFCO | L5: ABBESSES
C6: 42384 | D6: 42384 | E6: =_xlfn.DAYS(D6,C6)+1 -> 1 | I6: UNCME | L6: ABBESSES
C7: 42388 | D7: 42388 | E7: =_xlfn.DAYS(D7,C7)+1 -> 1 | I7: INTERNE | L7: ABBESSES
C8: 42390 | D8: 42390 | E8: =_xlfn.DAYS(D8,C8)+1 -> 1 | I8: INTERNE | L8: ABBESSES
C9: 42395 | D9: 42395 | E9: =_xlfn.DAYS(D9,C9)+1 -> 1 | I9: INTERNE | L9: ABBESSES
C10: 42397 | D10: 42397 | E10: =_xlfn.DAYS(D10,C10)+1 -> 1 | I10: INTERNE | L10: ABBESSES
C11: 42402 | D11: 42402 | E11: =_xlfn.DAYS(D11,C11)+1 -> 1 | I11: INTERNE | L11: ABBESSES | M11: OVALE | R11: CONFIRME
C12: 42403 | D12: 42403 | E12: =_xlfn.DAYS(D12,C12)+1 -> 1 | I12: MAPA SPONTEX | L12: ABBESSES | M12: OVALE | N12: 8 | R12: CONFIRME
C13: 42404 | D13: 42404 | E13: =_xlfn.DAYS(D13,C13)+1 -> 1 | I13: INTERNE | L13: ABBESSES
C14: 42405 | D14: 42405 | E14: =_xlfn.DAYS(D14,C14)+1 -> 1 | I14: MAPA SPONTEX | L14: ABBESSES | M14: OVALE | N14: 10 | R14: CONFIRME
C15: 42408 | D15: 42408 | E15: =_xlfn.DAYS(D15,C15)+1 -> 1 | I15: INTERNE | L15: ABBESSES
C16: 42409 | D16: 42409 | E16: =_xlfn.DAYS(D16,C16)+1 -> 1 | I16: INTERNE | L16: ABBESSES
C17: 42410 | D17: 42410 | E17: =_xlfn.DAYS(D17,C17)+1 -> 1 | I17: INTERNE | L17: ABBESSES
C18: 42416 | D18: 42416 | E18: =_xlfn.DAYS(D18,C18)+1 -> 1 | I18: INTERNE | L18: ABBESSES
C19: 42418 | D19: 42418 | E19: =_xlfn.DAYS(D19,C19)+1 -> 1 | I19: INTERNE | L19: ABBESSES
B20: fevrier | C20: 42419 | D20: 42419 | E20: =_xlfn.DAYS(D20,C20)+1 -> 1 | I20: CALGON CARBON | J20: VANGEEL Patricia | K20: pvangeel@calgoncarbon-eu.com | L20: ABBESSES | N20: 4 | O20: LOSA | P20: Direct | Q20: Alice | R20: CONFIRME | S20: 228
C21: 42425 | D21: 42425 | E21: =_xlfn.DAYS(D21,C21)+1 -> 1 | I21: INTERNE | L21: ABBESSES
C22: 42426 | D22: 42426 | E22: =_xlfn.DAYS(D22,C22)+1 -> 1 | I22: INTERNE | L22: ABBESSES
C23: 42430 | D23: 42431 | E23: =_xlfn.DAYS(D23,C23)+1 -> 2 | I23: STARDSTED | L23: ABBESSES
C24: 42443 | D24: 42443 | E24: =_xlfn.DAYS(D24,C24)+1 -> 1 | I24: ASFODELEC | L24: ABBESSES
C25: 42444 | D25: 42444 | E25: =_xlfn.DAYS(D25,C25)+1 -> 1 | I25: INTERNE | L25: ABBESSES
C26: 42445 | D26: 42445 | E26: =_xlfn.DAYS(D26,C26)+1 -> 1 | I26: TV5 MONDE | L26: ABBESSES | N26: 8
C27: 42446 | D27: 42447 | E27: =_xlfn.DAYS(D27,C27)+1 -> 2 | I27: HOTEL F1 | L27: ABBESSES | M27: AUTRE
C28: 42450 | D28: 42452 | E28: =_xlfn.DAYS(D28,C28)+1 -> 3 | I28: INTERNE | L28: ABBESSES
C29: 42453 | D29: 42453 | E29: =_xlfn.DAYS(D29,C29)+1 -> 1 | I29: LYONNAISES DES EAUX | L29: ABBESSES
C30: 42454 | D30: 42454 | E30: =_xlfn.DAYS(D30,C30)+1 -> 1 | I30: INTERNE | L30: ABBESSES
C31: 42458 | D31: 42458 | E31: =_xlfn.DAYS(D31,C31)+1 -> 1 | I31: INTERNE | L31: ABBESSES
C32: 42464 | D32: 42464 | E32: =_xlfn.DAYS(D32,C32)+1 -> 1 | I32: SOGEPARK | L32: ABBESSES
C33: 42465 | D33: 42465 | E33: =_xlfn.DAYS(D33,C33)+1 -> 1 | I33: INTERNE | L33: ABBESSES
C34: 42467 | D34: 42467 | E34: =_xlfn.DAYS(D34,C34)+1 -> 1 | I34: INTERNE | L34: ABBESSES
C35: 42471 | D35: 42471 | E35: =_xlfn.DAYS(D35,C35)+1 -> 1 | I35: INTERNE | L35: ABBESSES
C36: 42472 | D36: 42472 | E36: =_xlfn.DAYS(D36,C36)+1 -> 1 | I36: INTERNE | L36: ABBESSES
B37: avril | C37: 42474 | D37: 42475 | E37: =_xlfn.DAYS(D37,C37)+1 -> 2 | I37: RZB LIGHTING France | J37: SERIN ERIC | K37: eric.serin@rzb.eu | L37: ABBESSES | N37: 3 | O37: SR | P37: Direct | Q37: Lamia | R37: CONFIRME | S37: 621.45
C38: 42479 | D38: 42479 | E38: =_xlfn.DAYS(D38,C38)+1 -> 1 | I38: INTERNE | L38: ABBESSES
C39: 42486 | D39: 42486 | E39: =_xlfn.DAYS(D39,C39)+1 -> 1 | I39: INTERNE | L39: ABBESSES
C40: 42487 | D40: 42487 | E40: =_xlfn.DAYS(D40,C40)+1 -> 1 | I40: LAFARGE | L40: ABBESSES
C41: 42500 | D41: 42500 | E41: =_xlfn.DAYS(D41,C41)+1 -> 1 | I41: INTERNE | L41: ABBESSES | M41: OVALE
C42: 42501 | D42: 42501 | E42: =_xlfn.DAYS(D42,C42)+1 -> 1 | I42: JANSSEN | L42: ABBESSES | M42: OVALE
C43: 42515 | D43: 42516 | E43: =_xlfn.DAYS(D43,C43)+1 -> 2 | I43: OTIS | L43: ABBESSES | M43: OVALE
C44: 42522 | D44: 42524 | E44: =_xlfn.DAYS(D44,C44)+1 -> 3 | I44: INTERNE | L44: ABBESSES
C45: 42530 | D45: 42530 | E45: =_xlfn.DAYS(D45,C45)+1 -> 1 | I45: ID VERDE | L45: ABBESSES | M45: OVALE
C46: 42549 | D46: 42550 | E46: =_xlfn.DAYS(D46,C46)+1 -> 2 | I46: ACP | L46: ABBESSES | M46: OVALE | N46: 4
C47: 42551 | D47: 42552 | E47: =_xlfn.DAYS(D47,C47)+1 -> 2 | I47: CEDH | L47: ABBESSES | M47: OVALE
C48: 42552 | D48: 42552 | E48: =_xlfn.DAYS(D48,C48)+1 -> 1 | I48: CEDH | L48: ABBESSES | M48: OVALE
C49: 42556 | D49: 42556 | E49: =_xlfn.DAYS(D49,C49)+1 -> 1 | I49: INTERNE | L49: ABBESSES | M49: OVALE
C50: 42577 | D50: 42577 | E50: =_xlfn.DAYS(D50,C50)+1 -> 1 | I50: OTIS | L50: ABBESSES | N50: 6
C51: 42628 | D51: 42628 | E51: =_xlfn.DAYS(D51,C51)+1 -> 1 | I51: OTIS | L51: ABBESSES
C52: 42635 | D52: 42635 | E52: =_xlfn.DAYS(D52,C52)+1 -> 1 | I52: TAKTIK TRAJECTOIRE | L52: ABBESSES | N52: 2
C53: 42439 | D53: 42439 | E53: =_xlfn.DAYS(D53,C53)+1 -> 1 | I53: SAINT GOBAIN | L53: ANCIEN BAR | M53: COCKTAIL | N53: 20
C54: 42446 | D54: 42447 | E54: =_xlfn.DAYS(D54,C54)+1 -> 2 | I54: HOTEL F1 | L54: ANCIEN BAR
C55: 42453 | D55: 42453 | E55: =_xlfn.DAYS(D55,C55)+1 -> 1 | I55: VEOLIA | L55: ANCIEN BAR | M55: COCKTAIL | N55: 10
C56: 42458 | D56: 42458 | E56: =_xlfn.DAYS(D56,C56)+1 -> 1 | I56: BRIOCHE PASQUIER | L56: ANCIEN BAR
C57: 42468 | D57: 42468 | E57: =_xlfn.DAYS(D57,C57)+1 -> 1 | I57: STEF | L57: ANCIEN BAR
C58: 42539 | D58: 42539 | E58: =_xlfn.DAYS(D58,C58)+1 -> 1 | I58: SMPF | L58: ANCIEN BAR
C59: 42626 | D59: 42626 | E59: =_xlfn.DAYS(D59,C59)+1 -> 1 | I59: LA POSTE | L59: ANCIEN BAR
C60: 42629 | D60: 42629 | E60: =_xlfn.DAYS(D60,C60)+1 -> 1 | I60: LINKCITY | L60: ANCIEN BAR
C61: 42635 | D61: 42635 | E61: =_xlfn.DAYS(D61,C61)+1 -> 1 | I61: RM CLUB | L61: ANCIEN BAR
C62: 42634 | D62: 42634 | E62: =_xlfn.DAYS(D62,C62)+1 -> 1 | I62: INTERNE | L62: BATIGNOLLES | N62: 16
C63: 42377 | D63: 42377 | E63: =_xlfn.DAYS(D63,C63)+1 -> 1 | I63: INTERNE | L63: CARNAVALET
C64: 42381 | D64: 42381 | E64: =_xlfn.DAYS(D64,C64)+1 -> 1 | I64: GMPA | L64: CARNAVALET | M64: THEATRE | N64: 25
C65: 42387 | D65: 42387 | E65: =_xlfn.DAYS(D65,C65)+1 -> 1 | I65: PLASTIC OMNIUM | L65: CARNAVALET
C66: 42388 | D66: 42389 | E66: =_xlfn.DAYS(D66,C66)+1 -> 2 | I66: PHYTEUROP | L66: CARNAVALET | M66: U | N66: 25
C67: 42389 | D67: 42389 | E67: =_xlfn.DAYS(D67,C67)+1 -> 1 | I67: PHYTEUROP | L67: CARNAVALET | M67: U | N67: 25
C68: 42391 | D68: 42391 | E68: =_xlfn.DAYS(D68,C68)+1 -> 1 | I68: REXEL | L68: CARNAVALET | M68: THEATRE | N68: 40
C69: 42395 | D69: 42395 | E69: =_xlfn.DAYS(D69,C69)+1 -> 1 | I69: INTERNE | L69: CARNAVALET
B70: janvier | C70: 42415 | D70: 42416 | E70: =_xlfn.DAYS(D70,C70)+1 -> 2 | I70: PLASTIC OMNIUM | J70: DUPREZ Marie Isabelle | K70: marie-isabelle.duprez@plasticomnium.com | L70: CARNAVALET | M70: U | N70: 18 | O70: SR | P70: Direct | Q70: Alice | R70: CONFIRME | S70: 4132.5
C71: 42424 | D71: 42424 | E71: =_xlfn.DAYS(D71,C71)+1 -> 1 | I71: SHOOTING PHOTO GOOGLE | L71: CARNAVALET
C72: 42425 | D72: 42425 | E72: =_xlfn.DAYS(D72,C72)+1 -> 1 | I72: INTERNE | L72: CARNAVALET
C73: 42445 | D73: 42445 | E73: =_xlfn.DAYS(D73,C73)+1 -> 1 | I73: HOTEL F1 | L73: CARNAVALET
C74: 42461 | D74: 42462 | E74: =_xlfn.DAYS(D74,C74)+1 -> 2 | I74: FNAAFP | L74: CARNAVALET
C75: 42500 | D75: 42500 | E75: =_xlfn.DAYS(D75,C75)+1 -> 1 | I75: CAMAIEU | L75: CARNAVALET | M75: U | N75: 17
C76: 42501 | D76: 42501 | E76: =_xlfn.DAYS(D76,C76)+1 -> 1 | I76: CAMAIEU | L76: CARNAVALET | M76: U | N76: 10
C77: 42503 | D77: 42503 | E77: =_xlfn.DAYS(D77,C77)+1 -> 1 | I77: CAMAIEU | L77: CARNAVALET | M77: U | N77: 10
C78: 42514 | D78: 42514 | E78: =_xlfn.DAYS(D78,C78)+1 -> 1 | I78: INTERNE | L78: CARNAVALET | M78: CARRE
C79: 42515 | D79: 42516 | E79: =_xlfn.DAYS(D79,C79)+1 -> 2 | I79: HOYA | L79: CARNAVALET | M79: U | N79: 20
C80: 42528 | D80: 42528 | E80: =_xlfn.DAYS(D80,C80)+1 -> 1 | I80: APPEL MEDICAL | L80: CARNAVALET | M80: CARRE
C81: 42530 | D81: 42530 | E81: =_xlfn.DAYS(D81,C81)+1 -> 1 | I81: VFLI | L81: CARNAVALET
C82: 42536 | D82: 42536 | E82: =_xlfn.DAYS(D82,C82)+1 -> 1 | I82: ENGIE | L82: CARNAVALET | M82: U | N82: 20
C83: 42537 | D83: 42537 | E83: =_xlfn.DAYS(D83,C83)+1 -> 1 | I83: IKEA | L83: CARNAVALET | M83: CARRE
C84: 42538 | D84: 42538 | E84: =_xlfn.DAYS(D84,C84)+1 -> 1 | I84: BRIOCHE DORE | L84: CARNAVALET
C85: 42541 | D85: 42541 | E85: =_xlfn.DAYS(D85,C85)+1 -> 1 | I85: BURALISTES | L85: CARNAVALET
C86: 42545 | D86: 42545 | E86: =_xlfn.DAYS(D86,C86)+1 -> 1 | I86: RATP | L86: CARNAVALET
C87: 42549 | D87: 42549 | E87: =_xlfn.DAYS(D87,C87)+1 -> 1 | I87: FNAC | L87: CARNAVALET
C88: 42571 | D88: 42571 | E88: =_xlfn.DAYS(D88,C88)+1 -> 1 | I88: EIFFAGE | L88: CARNAVALET | M88: U | N88: 25
C89: 42590 | D89: 42590 | E89: =_xlfn.DAYS(D89,C89)+1 -> 1 | I89: MALATESTA | L89: CARNAVALET | M89: CLASSE | N89: 31
C90: 42616 | D90: 42617 | E90: =_xlfn.DAYS(D90,C90)+1 -> 2 | I90: OBJECTIF KINE | L90: CARNAVALET
C91: 42619 | D91: 42620 | E91: =_xlfn.DAYS(D91,C91)+1 -> 2 | I91: VKF | L91: CARNAVALET
C92: 42621 | D92: 42621 | E92: =_xlfn.DAYS(D92,C92)+1 -> 1 | I92: INTERNE | L92: CARNAVALET
C93: 42625 | D93: 42625 | E93: =_xlfn.DAYS(D93,C93)+1 -> 1 | I93: INTERNE | L93: CARNAVALET
C94: 42627 | D94: 42627 | E94: =_xlfn.DAYS(D94,C94)+1 -> 1 | I94: INTERNE | L94: CARNAVALET | M94: THEATRE
C95: 42632 | D95: 42633 | E95: =_xlfn.DAYS(D95,C95)+1 -> 2 | I95: MANPOWER | L95: CARNAVALET
C96: 42382 | D96: 42384 | E96: =_xlfn.DAYS(D96,C96)+1 -> 3 | I96: GMPA | L96: CARNAVALET-RODIN | M96: U | N96: 35
C97: 42403 | D97: 42404 | E97: =_xlfn.DAYS(D97,C97)+1 -> 2 | I97: LA SPA | L97: CARNAVALET-RODIN | M97: THEATRE | N97: 90 | R97: CONFIRME
C98: 42413 | D98: 42413 | E98: =_xlfn.DAYS(D98,C98)+1 -> 1 | I98: FFR SECRETAIRE GENERAUX | L98: CARNAVALET-RODIN
C99: 42437 | D99: 42439 | E99: =_xlfn.DAYS(D99,C99)+1 -> 3 | I99: ACCORHOTELS | L99: CARNAVALET-RODIN | M99: THEATRE | N99: 73
C100: 42451 | D100: 42452 | E100: =_xlfn.DAYS(D100,C100)+1 -> 2 | I100: FNAC | L100: CARNAVALET-RODIN
...

Sheet dispo2017
H1: =CONCATENATE(H2) -> 42379 | I1: =CONCATENATE(I2) -> 42380 | J1: =CONCATENATE(J2) -> 42381 | K1: =CONCATENATE(K2) -> 42382 | L1: =CONCATENATE(L2) -> 42383 | M1: =CONCATENATE(M2) -> 42384 | N1: =CONCATENATE(N2) -> 42385
B2: date in | C2: nb de jours | D2: nb de pax | E2: mep | G2: Tous les jours | H2: =B3 -> 42379 | I2: =IF(C3>=2,H2+1," ") -> 42380 | J2: =IF(C3>=3,I2+1," ") -> 42381 | K2: =IF(C3>=4,J2+1," ") -> 42382 | L2: =IF(C3>=5,K2+1," ") -> 42383 | M2: =IF(C3>=6,L2+1," ") -> 42384 | N2: =IF(C3>=7,M2+1," ") -> 42385
A3: =TEXT(B3,"mmmmmmmm") -> janvier | B3: 42379 | C3: 7 | D3: 10 | E3: U | G3: =IF(AND($I$2<>" ",H3=B29,I3=B29),B29,(IF(AND($J$2<>" ",H3=B29,I3=B29,J3=B29),B29,(IF(AND($K$2<>" ",H3=B29,I3=B29,J3=B29,K3=B29),B29,(IF(AND($L$2<>" ",H3=B29,I3=B29,J3=B29,K3=B29,L3=B29),B29,(IF(AND($M$2<>" ",H3=B29,I3=B29,J3=B29,K3=B29,L3=B29,M3=B29),B29,"NON"))))))))) -> ABBESSES | H3: =F29 -> ABBESSES | I3: =IFERROR(I29," ") -> ABBESSES | J3: =IFERROR(L29," ") -> ABBESSES | K3: =IFERROR(O29," ") -> ABBESSES | L3: =IFERROR(R29," ") -> ABBESSES | M3: =IFERROR(U29," ") | N3: =IFERROR(X29," ") -> ABBESSES | Q3: =IF(COUNTIF(H3:N3," ")=0,B29,"")
G4: =IF(OR(AND($I$2<>" ",H4=B30,I4=B30),AND($J$2<>" ",H4=B30,I4=B30,J4=B30),AND($K$2<>" ",H4=B30,I4=B30,J4=B30,K4=B30),AND($L$2<>" ",H4=B30,I4=B30,J4=B30,K4=B30,L4=B30),AND($M$2<>" ",H4=B30,I4=B30,J4=B30,K4=B30,L4=B30,M4=B30),AND($N$2<>" ",H4=B30,I4=B30,J4=B30,K4=B30,L4=B30,M4=B30,N4=B30)),B30,"NON") -> BATIGNOLLES | H4: =F30 -> BATIGNOLLES | I4: =IFERROR(I30," ") -> BATIGNOLLES | J4: =IFERROR(L30," ") -> BATIGNOLLES | K4: =IFERROR(O30," ") -> BATIGNOLLES | L4: =IFERROR(R30," ") -> BATIGNOLLES | M4: =IFERROR(U30," ") -> BATIGNOLLES | N4: =IFERROR(X30," ") -> BATIGNOLLES | Q4: =IF(COUNTIF(H4:N4," ")=0,B30,"") -> BATIGNOLLES
G5: =IF(OR(AND($I$2<>" ",H5=B31,I5=B31),AND($J$2<>" ",H5=B31,I5=B31,J5=B31),AND($K$2<>" ",H5=B31,I5=B31,J5=B31,K5=B31),AND($L$2<>" ",H5=B31,I5=B31,J5=B31,K5=B31,L5=B31),AND($M$2<>" ",H5=B31,I5=B31,J5=B31,K5=B31,L5=B31,M5=B31),AND($N$2<>" ",H5=B31,I5=B31,J5=B31,K5=B31,L5=B31,M5=B31,N5=B31)),B31,"NON") -> CARNAVALET | H5: =F31 -> CARNAVALET | I5: =IFERROR(I31," ") -> CARNAVALET | J5: =IFERROR(L31," ") | K5: =IFERROR(O31," ") | L5: =IFERROR(R31," ") | M5: =IFERROR(U31," ") | N5: =IFERROR(X31," ") -> CARNAVALET | Q5: =IF(COUNTIF(H5:N5," ")=0,B31,"")
G6: =IF(OR(AND($I$2<>" ",H6=B32,I6=B32),AND($J$2<>" ",H6=B32,I6=B32,J6=B32),AND($K$2<>" ",H6=B32,I6=B32,J6=B32,K6=B32),AND($L$2<>" ",H6=B32,I6=B32,J6=B32,K6=B32,L6=B32),AND($M$2<>" ",H6=B32,I6=B32,J6=B32,K6=B32,L6=B32,M6=B32),AND($N$2<>" ",H6=B32,I6=B32,J6=B32,K6=B32,L6=B32,M6=B32,N6=B32)),B32,"NON") -> CLICHY | H6: =F32 -> CLICHY | I6: =IFERROR(I32," ") -> CLICHY | J6: =IFERROR(L32," ") -> CLICHY | K6: =IFERROR(O32," ") -> CLICHY | L6: =IFERROR(R32," ") -> CLICHY | M6: =IFERROR(U32," ") -> CLICHY | N6: =IFERROR(X32," ") -> CLICHY | Q6: =IF(COUNTIF(H6:N6," ")=0,B32,"") -> CLICHY
G7: =IF(OR(AND($I$2<>" ",H7=B33,I7=B33),AND($J$2<>" ",H7=B33,I7=B33,J7=B33),AND($K$2<>" ",H7=B33,I7=B33,J7=B33,K7=B33),AND($L$2<>" ",H7=B33,I7=B33,J7=B33,K7=B33,L7=B33),AND($M$2<>" ",H7=B33,I7=B33,J7=B33,K7=B33,L7=B33,M7=B33),AND($N$2<>" ",H7=B33,I7=B33,J7=B33,K7=B33,L7=B33,M7=B33,N7=B33)),B33,"NON") -> NON | H7: =F33 -> DAUPHINE | I7: =IFERROR(I33," ") | J7: =IFERROR(L33," ") | K7: =IFERROR(O33," ") | L7: =IFERROR(R33," ") | M7: =IFERROR(U33," ") | N7: =IFERROR(X33," ") -> DAUPHINE | Q7: =IF(COUNTIF(H7:N7," ")=0,B33,"")
G8: =IF(OR(AND($I$2<>" ",H8=B34,I8=B34),AND($J$2<>" ",H8=B34,I8=B34,J8=B34),AND($K$2<>" ",H8=B34,I8=B34,J8=B34,K8=B34),AND($L$2<>" ",H8=B34,I8=B34,J8=B34,K8=B34,L8=B34),AND($M$2<>" ",H8=B34,I8=B34,J8=B34,K8=B34,L8=B34,M8=B34),AND($N$2<>" ",H8=B34,I8=B34,J8=B34,K8=B34,L8=B34,M8=B34,N8=B34)),B34,"NON") -> NON | H8: =F34 -> ETOILE | I8: =IFERROR(I34," ") | J8: =IFERROR(L34," ") | K8: =IFERROR(O34," ") | L8: =IFERROR(R34," ") | M8: =IFERROR(U34," ") | N8: =IFERROR(X34," ") -> ETOILE | Q8: =IF(COUNTIF(H8:N8," ")=0,B34,"")
G9: =IF(OR(AND($I$2<>" ",H9=B35,I9=B35),AND($J$2<>" ",H9=B35,I9=B35,J9=B35),AND($K$2<>" ",H9=B35,I9=B35,J9=B35,K9=B35),AND($L$2<>" ",H9=B35,I9=B35,J9=B35,K9=B35,L9=B35),AND($M$2<>" ",H9=B35,I9=B35,J9=B35,K9=B35,L9=B35,M9=B35),AND($N$2<>" ",H9=B35,I9=B35,J9=B35,K9=B35,L9=B35,M9=B35,N9=B35)),B35,"NON") -> GRENELLE | H9: =F35 -> GRENELLE | I9: =IFERROR(I35," ") -> GRENELLE | J9: =IFERROR(L35," ") | K9: =IFERROR(O35," ") | L9: =IFERROR(R35," ") | M9: =IFERROR(U35," ") | N9: =IFERROR(X35," ") | Q9: =IF(COUNTIF(H9:N9," ")=0,B35,"")
G10: =IF(OR(AND($I$2<>" ",H10=B36,I10=B36),AND($J$2<>" ",H10=B36,I10=B36,J10=B36),AND($K$2<>" ",H10=B36,I10=B36,J10=B36,K10=B36),AND($L$2<>" ",H10=B36,I10=B36,J10=B36,K10=B36,L10=B36),AND($M$2<>" ",H10=B36,I10=B36,J10=B36,K10=B36,L10=B36,M10=B36),AND($N$2<>" ",H10=B36,I10=B36,J10=B36,K10=B36,L10=B36,M10=B36,N10=B36)),B36,"NON") -> GREVIN | H10: =F36 -> GREVIN | I10: =IFERROR(I36," ") -> GREVIN | J10: =IFERROR(L36," ") | K10: =IFERROR(O36," ") | L10: =IFERROR(R36," ") | M10: =IFERROR(U36," ") | N10: =IFERROR(X36," ") | Q10: =IF(COUNTIF(H10:N10," ")=0,B36,"")
G11: =IF(OR(AND($I$2<>" ",H11=B37,I11=B37),AND($J$2<>" ",H11=B37,I11=B37,J11=B37),AND($K$2<>" ",H11=B37,I11=B37,J11=B37,K11=B37),AND($L$2<>" ",H11=B37,I11=B37,J11=B37,K11=B37,L11=B37),AND($M$2<>" ",H11=B37,I11=B37,J11=B37,K11=B37,L11=B37,M11=B37),AND($N$2<>" ",H11=B37,I11=B37,J11=B37,K11=B37,L11=B37,M11=B37,N11=B37)),B37,"NON") -> IENA | H11: =F37 -> IENA | I11: =IFERROR(I37," ") -> IENA | J11: =IFERROR(L37," ") | K11: =IFERROR(O37," ") | L11: =IFERROR(R37," ") | M11: =IFERROR(U37," ") | N11: =IFERROR(X37," ") -> IENA | Q11: =IF(COUNTIF(H11:N11," ")=0,B37,"")
G12: =IF(OR(AND($I$2<>" ",H12=B38,I12=B38),AND($J$2<>" ",H12=B38,I12=B38,J12=B38),AND($K$2<>" ",H12=B38,I12=B38,J12=B38,K12=B38),AND($L$2<>" ",H12=B38,I12=B38,J12=B38,K12=B38,L12=B38),AND($M$2<>" ",H12=B38,I12=B38,J12=B38,K12=B38,L12=B38,M12=B38),AND($N$2<>" ",H12=B38,I12=B38,J12=B38,K12=B38,L12=B38,M12=B38,N12=B38)),B38,"NON") -> NON | H12: =F38 | I12: =IFERROR(I38," ") -> LOUVRE | J12: =IFERROR(L38," ") | K12: =IFERROR(O38," ") | L12: =IFERROR(R38," ") | M12: =IFERROR(U38," ") | N12: =IFERROR(X38," ") | Q12: =IF(COUNTIF(H12:N12," ")=0,B38,"")
G13: =IF(OR(AND($I$2<>" ",H13=B39,I13=B39),AND($J$2<>" ",H13=B39,I13=B39,J13=B39),AND($K$2<>" ",H13=B39,I13=B39,J13=B39,K13=B39),AND($L$2<>" ",H13=B39,I13=B39,J13=B39,K13=B39,L13=B39),AND($M$2<>" ",H13=B39,I13=B39,J13=B39,K13=B39,L13=B39,M13=B39),AND($N$2<>" ",H13=B39,I13=B39,J13=B39,K13=B39,L13=B39,M13=B39,N13=B39)),B39,"NON") -> MADELEINE | H13: =F39 -> MADELEINE | I13: =IFERROR(I39," ") -> MADELEINE | J13: =IFERROR(L39," ") -> MADELEINE | K13: =IFERROR(O39," ") -> MADELEINE | L13: =IFERROR(R39," ") -> MADELEINE | M13: =IFERROR(U39," ") -> MADELEINE | N13: =IFERROR(X39," ") -> MADELEINE | Q13: =IF(COUNTIF(H13:N13," ")=0,B39,"") -> MADELEINE
G14: =IF(OR(AND($I$2<>" ",H14=B40,I14=B40),AND($J$2<>" ",H14=B40,I14=B40,J14=B40),AND($K$2<>" ",H14=B40,I14=B40,J14=B40,K14=B40),AND($L$2<>" ",H14=B40,I14=B40,J14=B40,K14=B40,L14=B40),AND($M$2<>" ",H14=B40,I14=B40,J14=B40,K14=B40,L14=B40,M14=B40),AND($N$2<>" ",H14=B40,I14=B40,J14=B40,K14=B40,L14=B40,M14=B40,N14=B40)),B40,"NON") -> MIRABEAU | H14: =F40 -> MIRABEAU | I14: =IFERROR(I40," ") -> MIRABEAU | J14: =IFERROR(L40," ") | K14: =IFERROR(O40," ") | L14: =IFERROR(R40," ") | M14: =IFERROR(U40," ") | N14: =IFERROR(X40," ") | Q14: =IF(COUNTIF(H14:N14," ")=0,B40,"")
G15: =IF(OR(AND($I$2<>" ",H15=B41,I15=B41),AND($J$2<>" ",H15=B41,I15=B41,J15=B41),AND($K$2<>" ",H15=B41,I15=B41,J15=B41,K15=B41),AND($L$2<>" ",H15=B41,I15=B41,J15=B41,K15=B41,L15=B41),AND($M$2<>" ",H15=B41,I15=B41,J15=B41,K15=B41,L15=B41,M15=B41),AND($N$2<>" ",H15=B41,I15=B41,J15=B41,K15=B41,L15=B41,M15=B41,N15=B41)),B41,"NON") -> MONCEAU | H15: =F41 -> MONCEAU | I15: =IFERROR(I41," ") -> MONCEAU | J15: =IFERROR(L41," ") | K15: =IFERROR(O41," ") | L15: =IFERROR(R41," ") | M15: =IFERROR(U41," ") | N15: =IFERROR(X41," ") | Q15: =IF(COUNTIF(H15:N15," ")=0,B41,"")
... G22: =IF(OR(AND($I$2<>" ",H22=B48,I22=B48),AND($J$2<>" ",H22=B48,I22=B48,J22=B48),AND($K$2<>" ",H22=B48,I22=B48,J22=B48,K22=B48),AND($L$2<>" ",H22=B48,I22=B48,J22=B48,K22=B48,L22=B48),AND($M$2<>" ",H22=B48,I22=B48,J22=B48,K22=B48,L22=B48,M22=B48),AND($N$2<>" ",H22=B48,I22=B48,J22=B48,K22=B48,L22=B48,M22=B48,N22=B48)),B48,"NON") -> MADELEINE | H22: =F48 -> MADELEINE | I22: =IFERROR(I48," ") -> MADELEINE | J22: =IFERROR(L48," ") -> MADELEINE | K22: =IFERROR(O48," ") -> MADELEINE | L22: =IFERROR(R48," ") -> MADELEINE | M22: =IFERROR(U48," ") -> MADELEINE | N22: =IFERROR(X48," ") -> MADELEINE | Q22: =IF(COUNTIF(H22:N22," ")=0,B48,"") -> MADELEINE
A24: U | B24: NL
A25: Classe | B25: OL
A26: Theatre | B26: OO
A27: Cocktail | B27: NO | E27: 1 | H27: 2 | K27: 3 | N27: 4 | Q27: 5 | T27: 6 | W27: 7
A28: Cabaret | B28: Salles | C28: test capacité | D28: =CONCATENATE("libre le ",TEXT(H2,"jj/mm/aa")) -> libre le 10/01/16 | E28: concat | F28: salles dispo | G28: =CONCATENATE("libre le ",TEXT(I2,"jj/mm/aa")) -> libre le 11/01/16 | H28: concat | I28: salles dispo | J28: =CONCATENATE("libre le ",TEXT(J2,"jj/mm/aa")) -> libre le 12/01/16 | K28: concat | L28: salles dispo | M28: =CONCATENATE("libre le ",TEXT(K2,"jj/mm/aa")) -> libre le 13/01/16 | N28: concat | O28: salles dispo | P28: =CONCATENATE("libre le ",TEXT(L2,"jj/mm/aa")) -> libre le 14/01/16 | Q28: concat | R28: salles dispo | S28: =CONCATENATE("libre le ",TEXT(M2,"jj/mm/aa")) -> libre le 15/01/16 | T28: concat | U28: salles dispo | V28: =CONCATENATE("libre le ",TEXT(N2,"jj/mm/aa")) -> libre le 16/01/16 | W28: concat | X28: salles dispo
A29: 1 | B29: ABBESSES | C29: =IF($D$3<=(VLOOKUP($B29,'capacité salles'!$A$1:$G$40,2,FALSE)),"O","N") -> O | D29: =IF(VLOOKUP($B29,INDIRECT(""&$A$3&"!$AJ$4:$BO$23"),MATCH($H$2,INDIRECT(""&$A$3&"!$AJ$4:$BO$4"),0),FALSE)=$H$1,"L","O") -> L | E29: =CONCATENATE(C29,D29) -> OL | F29: =IF(E29="OL",B29," " ) -> ABBESSES | G29: =IF(VLOOKUP($B29,INDIRECT(""&$A$3&"!$AJ$4:$BO$23"),MATCH($I$2,INDIRECT(""&$A$3&"!$AJ$4:$BO$4"),0),FALSE)=$I$1,"L","O") -> L | H29: =CONCATENATE($C29,G29) -> OL | I29: =IF(H29="OL",$B29," " ) -> ABBESSES | J29: =IF(VLOOKUP($B29,INDIRECT(""&$A$3&"!$AJ$4:$BO$23"),MATCH($J$2,INDIRECT(""&$A$3&"!$AJ$4:$BO$4"),0),FALSE)=$J$1,"L","O") -> L | K29: =CONCATENATE($C$29,J29) -> OL | L29: =IF(K29="OL",B29," " ) -> ABBESSES | M29: =IF(VLOOKUP($B29,INDIRECT(""&$A$3&"!$AJ$4:$BO$23"),MATCH($K$2,INDIRECT(""&$A$3&"!$AJ$4:$BO$4"),0),FALSE)=$K$1,"L","O") -> L | N29: =CONCATENATE(C29,M29) -> OL | O29: =IF(N29="OL",B29," " ) -> ABBESSES | P29: =IF(VLOOKUP($B29,INDIRECT(""&$A$3&"!$AJ$4:$BO$23"),MATCH($L$2,INDIRECT(""&$A$3&"!$AJ$4:$BO$4"),0),FALSE)=$L$1,"L","O") -> L | Q29: =CONCATENATE(C29,P29) -> OL | R29: =IF(Q29="OL",B29," " ) -> ABBESSES | S29: =IF(VLOOKUP($B29,INDIRECT(""&$A$3&"!$AJ$4:$BO$23"),MATCH($M$2,INDIRECT(""&$A$3&"!$AJ$4:$BO$4"),0),FALSE)=$M$1,"L","O") -> O | T29: =CONCATENATE(C29,S29) -> OO | U29: =IF(T29="OL",B29," " ) | V29: =IF(VLOOKUP($B29,INDIRECT(""&$A$3&"!$AJ$4:$BO$23"),MATCH($N$2,INDIRECT(""&$A$3&"!$AJ$4:$BO$4"),0),FALSE)=$N$1,"L","O") -> L | W29: =CONCATENATE(C29,V29) -> OL | X29: =IF(W29="OL",B29," " ) -> ABBESSES
A30: 2 | B30: BATIGNOLLES | C30: =IF($D$3<=(VLOOKUP($B30,'capacité salles'!$A$1:$G$40,2,FALSE)),"O","N") -> O | D30: =IF(VLOOKUP($B30,INDIRECT(""&$A$3&"!$AJ$4:$BO$23"),MATCH($H$2,INDIRECT(""&$A$3&"!$AJ$4:$BO$4"),0),FALSE)=$H$1,"L","O") -> L | E30: =CONCATENATE(C30,D30) -> OL | F30: =IF(E30="OL",B30," " ) -> BATIGNOLLES | G30: =IF(VLOOKUP($B30,INDIRECT(""&$A$3&"!$AJ$4:$BO$23"),MATCH($I$2,INDIRECT(""&$A$3&"!$AJ$4:$BO$4"),0),FALSE)=$I$1,"L","O") -> L | H30: =CONCATENATE($C30,G30) -> OL | I30: =IF(H30="OL",$B30," " ) -> BATIGNOLLES | J30: =IF(VLOOKUP($B30,INDIRECT(""&$A$3&"!$AJ$4:$BO$23"),MATCH($J$2,INDIRECT(""&$A$3&"!$AJ$4:$BO$4"),0),FALSE)=$J$1,"L","O") -> L | K30: =CONCATENATE($C$29,J30) -> OL | L30: =IF(K30="OL",B30," " ) -> BATIGNOLLES | M30: =IF(VLOOKUP($B30,INDIRECT(""&$A$3&"!$AJ$4:$BO$23"),MATCH($K$2,INDIRECT(""&$A$3&"!$AJ$4:$BO$4"),0),FALSE)=$K$1,"L","O") -> L | N30: =CONCATENATE(C30,M30) -> OL | O30: =IF(N30="OL",B30," " ) -> BATIGNOLLES | P30: =IF(VLOOKUP($B30,INDIRECT(""&$A$3&"!$AJ$4:$BO$23"),MATCH($L$2,INDIRECT(""&$A$3&"!$AJ$4:$BO$4"),0),FALSE)=$L$1,"L","O") -> L | Q30: =CONCATENATE(C30,P30) -> OL | R30: =IF(Q30="OL",B30," " ) -> BATIGNOLLES | S30: =IF(VLOOKUP($B30,INDIRECT(""&$A$3&"!$AJ$4:$BO$23"),MATCH($M$2,INDIRECT(""&$A$3&"!$AJ$4:$BO$4"),0),FALSE)=$M$1,"L","O") -> L | T30: =CONCATENATE(C30,S30) -> OL | U30: =IF(T30="OL",B30," " ) -> BATIGNOLLES | V30: =IF(VLOOKUP($B30,INDIRECT(""&$A$3&"!$AJ$4:$BO$23"),MATCH($N$2,INDIRECT(""&$A$3&"!$AJ$4:$BO$4"),0),FALSE)=$N$1,"L","O") -> L | W30: =CONCATENATE(C30,V30) -> OL | X30: =IF(W30="OL",B30," " ) -> BATIGNOLLES
A31: 3 | B31: CARNAVALET | C31: =IF($D$3<=(VLOOKUP($B31,'capacité salles'!$A$1:$G$40,2,FALSE)),"O","N") -> O | D31: =IF(VLOOKUP($B31,INDIRECT(""&$A$3&"!$AJ$4:$BO$23"),MATCH($H$2,INDIRECT(""&$A$3&"!$AJ$4:$BO$4"),0),FALSE)=$H$1,"L","O") -> L | E31: =CONCATENATE(C31,D31) -> OL | F31: =IF(E31="OL",B31," " ) -> CARNAVALET | G31: =IF(VLOOKUP($B31,INDIRECT(""&$A$3&"!$AJ$4:$BO$23"),MATCH($I$2,INDIRECT(""&$A$3&"!$AJ$4:$BO$4"),0),FALSE)=$I$1,"L","O") -> L | H31: =CONCATENATE($C31,G31) -> OL | I31: =IF(H31="OL",$B31," " ) -> CARNAVALET | J31: =IF(VLOOKUP($B31,INDIRECT(""&$A$3&"!$AJ$4:$BO$23"),MATCH($J$2,INDIRECT(""&$A$3&"!$AJ$4:$BO$4"),0),FALSE)=$J$1,"L","O") -> O | K31: =CONCATENATE($C$29,J31) -> OO | L31: =IF(K31="OL",B31," " ) | M31: =IF(VLOOKUP($B31,INDIRECT(""&$A$3&"!$AJ$4:$BO$23"),MATCH($K$2,INDIRECT(""&$A$3&"!$AJ$4:$BO$4"),0),FALSE)=$K$1,"L","O") -> O | N31: =CONCATENATE(C31,M31) -> OO | O31: =IF(N31="OL",B31," " ) | P31: =IF(VLOOKUP($B31,INDIRECT(""&$A$3&"!$AJ$4:$BO$23"),MATCH($L$2,INDIRECT(""&$A$3&"!$AJ$4:$BO$4"),0),FALSE)=$L$1,"L","O") -> O | Q31: =CONCATENATE(C31,P31) -> OO | R31: =IF(Q31="OL",B31," " ) | S31: =IF(VLOOKUP($B31,INDIRECT(""&$A$3&"!$AJ$4:$BO$23"),MATCH($M$2,INDIRECT(""&$A$3&"!$AJ$4:$BO$4"),0),FALSE)=$M$1,"L","O") -> O | T31: =CONCATENATE(C31,S31) -> OO | U31: =IF(T31="OL",B31," " ) | V31: =IF(VLOOKUP($B31,INDIRECT(""&$A$3&"!$AJ$4:$BO$23"),MATCH($N$2,INDIRECT(""&$A$3&"!$AJ$4:$BO$4"),0),FALSE)=$N$1,"L","O") -> L | W31: =CONCATENATE(C31,V31) -> OL | X31: =IF(W31="OL",B31," " ) -> CARNAVALET
A32: 4 | B32: CLICHY | C32: =IF($D$3<=(VLOOKUP($B32,'capacité salles'!$A$1:$G$40,2,FALSE)),"O","N") -> O | D32: =IF(VLOOKUP($B32,INDIRECT(""&$A$3&"!$AJ$4:$BO$23"),MATCH($H$2,INDIRECT(""&$A$3&"!$AJ$4:$BO$4"),0),FALSE)=$H$1,"L","O") -> L | E32: =CONCATENATE(C32,D32) -> OL | F32: =IF(E32="OL",B32," " ) -> CLICHY | G32: =IF(VLOOKUP($B32,INDIRECT(""&$A$3&"!$AJ$4:$BO$23"),MATCH($I$2,INDIRECT(""&$A$3&"!$AJ$4:$BO$4"),0),FALSE)=$I$1,"L","O") -> L | H32: =CONCATENATE($C32,G32) -> OL | I32: =IF(H32="OL",$B32," " ) -> CLICHY | J32: =IF(VLOOKUP($B32,INDIRECT(""&$A$3&"!$AJ$4:$BO$23"),MATCH($J$2,INDIRECT(""&$A$3&"!$AJ$4:$BO$4"),0),FALSE)=$J$1,"L","O") -> L | K32: =CONCATENATE($C$29,J32) -> OL | L32: =IF(K32="OL",B32," " ) -> CLICHY | M32: =IF(VLOOKUP($B32,INDIRECT(""&$A$3&"!$AJ$4:$BO$23"),MATCH($K$2,INDIRECT(""&$A$3&"!$AJ$4:$BO$4"),0),FALSE)=$K$1,"L","O") -> L | N32: =CONCATENATE(C32,M32) -> OL | O32: =IF(N32="OL",B32," " ) -> CLICHY | P32: =IF(VLOOKUP($B32,INDIRECT(""&$A$3&"!$AJ$4:$BO$23"),MATCH($L$2,INDIRECT(""&$A$3&"!$AJ$4:$BO$4"),0),FALSE)=$L$1,"L","O") -> L | Q32: =CONCATENATE(C32,P32) -> OL | R32: =IF(Q32="OL",B32," " ) -> CLICHY | S32: =IF(VLOOKUP($B32,INDIRECT(""&$A$3&"!$AJ$4:$BO$23"),MATCH($M$2,INDIRECT(""&$A$3&"!$AJ$4:$BO$4"),0),FALSE)=$M$1,"L","O") -> L | T32: =CONCATENATE(C32,S32) -> OL | U32: =IF(T32="OL",B32," " ) -> CLICHY | V32: =IF(VLOOKUP($B32,INDIRECT(""&$A$3&"!$AJ$4:$BO$23"),MATCH($N$2,INDIRECT(""&$A$3&"!$AJ$4:$BO$4"),0),FALSE)=$N$1,"L","O") -> L | W32: =CONCATENATE(C32,V32) -> OL | X32: =IF(W32="OL",B32," " ) -> CLICHY
A33: 5 | B33: DAUPHINE | C33: =IF($D$3<=(VLOOKUP($B33,'capacité salles'!$A$1:$G$40,2,FALSE)),"O","N") -> O | D33: =IF(VLOOKUP($B33,INDIRECT(""&$A$3&"!$AJ$4:$BO$23"),MATCH($H$2,INDIRECT(""&$A$3&"!$AJ$4:$BO$4"),0),FALSE)=$H$1,"L","O") -> L | E33: =CONCATENATE(C33,D33) -> OL | F33: =IF(E33="OL",B33," " ) -> DAUPHINE | G33: =IF(VLOOKUP($B33,INDIRECT(""&$A$3&"!$AJ$4:$BO$23"),MATCH($I$2,INDIRECT(""&$A$3&"!$AJ$4:$BO$4"),0),FALSE)=$I$1,"L","O") -> O | H33: =CONCATENATE($C33,G33) -> OO | I33: =IF(H33="OL",$B33," " ) | J33: =IF(VLOOKUP($B33,INDIRECT(""&$A$3&"!$AJ$4:$BO$23"),MATCH($J$2,INDIRECT(""&$A$3&"!$AJ$4:$BO$4"),0),FALSE)=$J$1,"L","O") -> O | K33: =CONCATENATE($C$29,J33) -> OO | L33: =IF(K33="OL",B33," " ) | M33: =IF(VLOOKUP($B33,INDIRECT(""&$A$3&"!$AJ$4:$BO$23"),MATCH($K$2,INDIRECT(""&$A$3&"!$AJ$4:$BO$4"),0),FALSE)=$K$1,"L","O") -> O | N33: =CONCATENATE(C33,M33) -> OO | O33: =IF(N33="OL",B33," " ) | P33: =IF(VLOOKUP($B33,INDIRECT(""&$A$3&"!$AJ$4:$BO$23"),MATCH($L$2,INDIRECT(""&$A$3&"!$AJ$4:$BO$4"),0),FALSE)=$L$1,"L","O") -> O | Q33: =CONCATENATE(C33,P33) -> OO | R33: =IF(Q33="OL",B33," " ) | S33: =IF(VLOOKUP($B33,INDIRECT(""&$A$3&"!$AJ$4:$BO$23"),MATCH($M$2,INDIRECT(""&$A$3&"!$AJ$4:$BO$4"),0),FALSE)=$M$1,"L","O") -> O | T33: =CONCATENATE(C33,S33) -> OO | U33: =IF(T33="OL",B33," " ) | V33: =IF(VLOOKUP($B33,INDIRECT(""&$A$3&"!$AJ$4:$BO$23"),MATCH($N$2,INDIRECT(""&$A$3&"!$AJ$4:$BO$4"),0),FALSE)=$N$1,"L","O") -> L | W33: =CONCATENATE(C33,V33) -> OL | X33: =IF(W33="OL",B33," " ) -> DAUPHINE
A34: 6 | B34: ETOILE | C34: =IF($D$3<=(VLOOKUP($B34,'capacité salles'!$A$1:$G$40,2,FALSE)),"O","N") -> O | D34: =IF(VLOOKUP($B34,INDIRECT(""&$A$3&"!$AJ$4:$BO$23"),MATCH($H$2,INDIRECT(""&$A$3&"!$AJ$4:$BO$4"),0),FALSE)=$H$1,"L","O") -> L | E34: =CONCATENATE(C34,D34) -> OL | F34: =IF(E34="OL",B34," " ) -> ETOILE | G34: =IF(VLOOKUP($B34,INDIRECT(""&$A$3&"!$AJ$4:$BO$23"),MATCH($I$2,INDIRECT(""&$A$3&"!$AJ$4:$BO$4"),0),FALSE)=$I$1,"L","O") -> O | H34: =CONCATENATE($C34,G34) -> OO | I34: =IF(H34="OL",$B34," " ) | J34: =IF(VLOOKUP($B34,INDIRECT(""&$A$3&"!$AJ$4:$BO$23"),MATCH($J$2,INDIRECT(""&$A$3&"!$AJ$4:$BO$4"),0),FALSE)=$J$1,"L","O") -> O | K34: =CONCATENATE($C$29,J34) -> OO | L34: =IF(K34="OL",B34," " ) | M34: =IF(VLOOKUP($B34,INDIRECT(""&$A$3&"!$AJ$4:$BO$23"),MATCH($K$2,INDIRECT(""&$A$3&"!$AJ$4:$BO$4"),0),FALSE)=$K$1,"L","O") -> O | N34: =CONCATENATE(C34,M34) -> OO | O34: =IF(N34="OL",B34," " ) | P34: =IF(VLOOKUP($B34,INDIRECT(""&$A$3&"!$AJ$4:$BO$23"),MATCH($L$2,INDIRECT(""&$A$3&"!$AJ$4:$BO$4"),0),FALSE)=$L$1,"L","O") -> O | Q34: =CONCATENATE(C34,P34) -> OO | R34: =IF(Q34="OL",B34," " ) | S34: =IF(VLOOKUP($B34,INDIRECT(""&$A$3&"!$AJ$4:$BO$23"),MATCH($M$2,INDIRECT(""&$A$3&"!$AJ$4:$BO$4"),0),FALSE)=$M$1,"L","O") -> O | T34: =CONCATENATE(C34,S34) -> OO | U34: =IF(T34="OL",B34," " ) | V34: =IF(VLOOKUP($B34,INDIRECT(""&$A$3&"!$AJ$4:$BO$23"),MATCH($N$2,INDIRECT(""&$A$3&"!$AJ$4:$BO$4"),0),FALSE)=$N$1,"L","O") -> L | W34: =CONCATENATE(C34,V34) -> OL | X34: =IF(W34="OL",B34," " ) -> ETOILE
A35: 7 | B35: GRENELLE | C35: =IF($D$3<=(VLOOKUP($B35,'capacité salles'!$A$1:$G$40,2,FALSE)),"O","N") -> O | D35: =IF(VLOOKUP($B35,INDIRECT(""&$A$3&"!$AJ$4:$BO$23"),MATCH($H$2,INDIRECT(""&$A$3&"!$AJ$4:$BO$4"),0),FALSE)=$H$1,"L","O") -> L | E35: =CONCATENATE(C35,D35) -> OL | F35: =IF(E35="OL",B35," " ) -> GRENELLE | G35: =IF(VLOOKUP($B35,INDIRECT(""&$A$3&"!$AJ$4:$BO$23"),MATCH($I$2,INDIRECT(""&$A$3&"!$AJ$4:$BO$4"),0),FALSE)=$I$1,"L","O") -> L | H35: =CONCATENATE($C35,G35) -> OL | I35: =IF(H35="OL",$B35," " ) -> GRENELLE | J35: =IF(VLOOKUP($B35,INDIRECT(""&$A$3&"!$AJ$4:$BO$23"),MATCH($J$2,INDIRECT(""&$A$3&"!$AJ$4:$BO$4"),0),FALSE)=$J$1,"L","O") -> O | K35: =CONCATENATE($C$29,J35) -> OO | L35: =IF(K35="OL",B35," " ) | M35: =IF(VLOOKUP($B35,INDIRECT(""&$A$3&"!$AJ$4:$BO$23"),MATCH($K$2,INDIRECT(""&$A$3&"!$AJ$4:$BO$4"),0),FALSE)=$K$1,"L","O") -> O | N35: =CONCATENATE(C35,M35) -> OO | O35: =IF(N35="OL",B35," " ) | P35: =IF(VLOOKUP($B35,INDIRECT(""&$A$3&"!$AJ$4:$BO$23"),MATCH($L$2,INDIRECT(""&$A$3&"!$AJ$4:$BO$4"),0),FALSE)=$L$1,"L","O") -> O | Q35: =CONCATENATE(C35,P35) -> OO | R35: =IF(Q35="OL",B35," " ) | S35: =IF(VLOOKUP($B35,INDIRECT(""&$A$3&"!$AJ$4:$BO$23"),MATCH($M$2,INDIRECT(""&$A$3&"!$AJ$4:$BO$4"),0),FALSE)=$M$1,"L","O") -> O | T35: =CONCATENATE(C35,S35) -> OO | U35: =IF(T35="OL",B35," " ) | V35: =IF(VLOOKUP($B35,INDIRECT(""&$A$3&"!$AJ$4:$BO$23"),MATCH($N$2,INDIRECT(""&$A$3&"!$AJ$4:$BO$4"),0),FALSE)=$N$1,"L","O") -> O | W35: =CONCATENATE(C35,V35) -> OO | X35: =IF(W35="OL",B35," " )
A36: 8 | B36: GREVIN | C36: =IF($D$3<=(VLOOKUP($B36,'capacité salles'!$A$1:$G$40,2,FALSE)),"O","N") -> O | D36: =IF(VLOOKUP($B36,INDIRECT(""&$A$3&"!$AJ$4:$BO$23"),MATCH($H$2,INDIRECT(""&$A$3&"!$AJ$4:$BO$4"),0),FALSE)=$H$1,"L","O") -> L | E36: =CONCATENATE(C36,D36) -> OL | F36: =IF(E36="OL",B36," " ) -> GREVIN | G36: =IF(VLOOKUP($B36,INDIRECT(""&$A$3&"!$AJ$4:$BO$23"),MATCH($I$2,INDIRECT(""&$A$3&"!$AJ$4:$BO$4"),0),FALSE)=$I$1,"L","O") -> L | H36: =CONCATENATE($C36,G36) -> OL | I36: =IF(H36="OL",$B36," " ) -> GREVIN | J36: =IF(VLOOKUP($B36,INDIRECT(""&$A$3&"!$AJ$4:$BO$23"),MATCH($J$2,INDIRECT(""&$A$3&"!$AJ$4:$BO$4"),0),FALSE)=$J$1,"L","O") -> O | K36: =CONCATENATE($C$29,J36) -> OO | L36: =IF(K36="OL",B36," " ) | M36: =IF(VLOOKUP($B36,INDIRECT(""&$A$3&"!$AJ$4:$BO$23"),MATCH($K$2,INDIRECT(""&$A$3&"!$AJ$4:$BO$4"),0),FALSE)=$K$1,"L","O") -> O | N36: =CONCATENATE(C36,M36) -> OO | O36: =IF(N36="OL",B36," " ) | P36: =IF(VLOOKUP($B36,INDIRECT(""&$A$3&"!$AJ$4:$BO$23"),MATCH($L$2,INDIRECT(""&$A$3&"!$AJ$4:$BO$4"),0),FALSE)=$L$1,"L","O") -> O | Q36: =CONCATENATE(C36,P36) -> OO | R36: =IF(Q36="OL",B36," " ) | S36: =IF(VLOOKUP($B36,INDIRECT(""&$A$3&"!$AJ$4:$BO$23"),MATCH($M$2,INDIRECT(""&$A$3&"!$AJ$4:$BO$4"),0),FALSE)=$M$1,"L","O") -> O | T36: =CONCATENATE(C36,S36) -> OO | U36: =IF(T36="OL",B36," " ) | V36: =IF(VLOOKUP($B36,INDIRECT(""&$A$3&"!$AJ$4:$BO$23"),MATCH($N$2,INDIRECT(""&$A$3&"!$AJ$4:$BO$4"),0),FALSE)=$N$1,"L","O") -> O | W36: =CONCATENATE(C36,V36) -> OO | X36: =IF(W36="OL",B36," " )
A37: 9 | B37: IENA | C37: =IF($D$3<=(VLOOKUP($B37,'capacité salles'!$A$1:$G$40,2,FALSE)),"O","N") -> O | D37: =IF(VLOOKUP($B37,INDIRECT(""&$A$3&"!$AJ$4:$BO$23"),MATCH($H$2,INDIRECT(""&$A$3&"!$AJ$4:$BO$4"),0),FALSE)=$H$1,"L","O") -> L | E37: =CONCATENATE(C37,D37) -> OL | F37: =IF(E37="OL",B37," " ) -> IENA | G37: =IF(VLOOKUP($B37,INDIRECT(""&$A$3&"!$AJ$4:$BO$23"),MATCH($I$2,INDIRECT(""&$A$3&"!$AJ$4:$BO$4"),0),FALSE)=$I$1,"L","O") -> L | H37: =CONCATENATE($C37,G37) -> OL | I37: =IF(H37="OL",$B37," " ) -> IENA | J37: =IF(VLOOKUP($B37,INDIRECT(""&$A$3&"!$AJ$4:$BO$23"),MATCH($J$2,INDIRECT(""&$A$3&"!$AJ$4:$BO$4"),0),FALSE)=$J$1,"L","O") -> O | K37: =CONCATENATE($C$29,J37) -> OO | L37: =IF(K37="OL",B37," " ) | M37: =IF(VLOOKUP($B37,INDIRECT(""&$A$3&"!$AJ$4:$BO$23"),MATCH($K$2,INDIRECT(""&$A$3&"!$AJ$4:$BO$4"),0),FALSE)=$K$1,"L","O") -> O | N37: =CONCATENATE(C37,M37) -> OO | O37: =IF(N37="OL",B37," " ) | P37: =IF(VLOOKUP($B37,INDIRECT(""&$A$3&"!$AJ$4:$BO$23"),MATCH($L$2,INDIRECT(""&$A$3&"!$AJ$4:$BO$4"),0),FALSE)=$L$1,"L","O") -> O | Q37: =CONCATENATE(C37,P37) -> OO | R37: =IF(Q37="OL",B37," " ) | S37: =IF(VLOOKUP($B37,INDIRECT(""&$A$3&"!$AJ$4:$BO$23"),MATCH($M$2,INDIRECT(""&$A$3&"!$AJ$4:$BO$4"),0),FALSE)=$M$1,"L","O") -> O | T37: =CONCATENATE(C37,S37) -> OO | U37: =IF(T37="OL",B37," " ) | V37: =IF(VLOOKUP($B37,INDIRECT(""&$A$3&"!$AJ$4:$BO$23"),MATCH($N$2,INDIRECT(""&$A$3&"!$AJ$4:$BO$4"),0),FALSE)=$N$1,"L","O") -> L | W37: =CONCATENATE(C37,V37) -> OL | X37: =IF(W37="OL",B37," " ) -> IENA
A38: 10 | B38: LOUVRE | C38: =IF($D$3<=(VLOOKUP($B38,'capacité salles'!$A$1:$G$40,2,FALSE)),"O","N") -> O | D38: =IF(VLOOKUP($B38,INDIRECT(""&$A$3&"!$AJ$4:$BO$23"),MATCH($H$2,INDIRECT(""&$A$3&"!$AJ$4:$BO$4"),0),FALSE)=$H$1,"L","O") -> O | E38: =CONCATENATE(C38,D38) -> OO | F38: =IF(E38="OL",B38," " ) | G38: =IF(VLOOKUP($B38,INDIRECT(""&$A$3&"!$AJ$4:$BO$23"),MATCH($I$2,INDIRECT(""&$A$3&"!$AJ$4:$BO$4"),0),FALSE)=$I$1,"L","O") -> L | H38: =CONCATENATE($C38,G38) -> OL | I38: =IF(H38="OL",$B38," " ) -> LOUVRE | J38: =IF(VLOOKUP($B38,INDIRECT(""&$A$3&"!$AJ$4:$BO$23"),MATCH($J$2,INDIRECT(""&$A$3&"!$AJ$4:$BO$4"),0),FALSE)=$J$1,"L","O") -> O | K38: =CONCATENATE($C$29,J38) -> OO | L38: =IF(K38="OL",B38," " ) | M38: =IF(VLOOKUP($B38,INDIRECT(""&$A$3&"!$AJ$4:$BO$23"),MATCH($K$2,INDIRECT(""&$A$3&"!$AJ$4:$BO$4"),0),FALSE)=$K$1,"L","O") -> O | N38: =CONCATENATE(C38,M38) -> OO | O38: =IF(N38="OL",B38," " ) | P38: =IF(VLOOKUP($B38,INDIRECT(""&$A$3&"!$AJ$4:$BO$23"),MATCH($L$2,INDIRECT(""&$A$3&"!$AJ$4:$BO$4"),0),FALSE)=$L$1,"L","O") -> O | Q38: =CONCATENATE(C38,P38) -> OO | R38: =IF(Q38="OL",B38," " ) | S38: =IF(VLOOKUP($B38,INDIRECT(""&$A$3&"!$AJ$4:$BO$23"),MATCH($M$2,INDIRECT(""&$A$3&"!$AJ$4:$BO$4"),0),FALSE)=$M$1,"L","O") -> O | T38: =CONCATENATE(C38,S38) -> OO | U38: =IF(T38="OL",B38," " ) | V38: =IF(VLOOKUP($B38,INDIRECT(""&$A$3&"!$AJ$4:$BO$23"),MATCH($N$2,INDIRECT(""&$A$3&"!$AJ$4:$BO$4"),0),FALSE)=$N$1,"L","O") -> O | W38: =CONCATENATE(C38,V38) -> OO | X38: =IF(W38="OL",B38," " )
A39: 11 | B39: MADELEINE | C39: =IF($D$3<=(VLOOKUP($B39,'capacité salles'!$A$1:$G$40,2,FALSE)),"O","N") -> O | D39: =IF(VLOOKUP($B39,INDIRECT(""&$A$3&"!$AJ$4:$BO$23"),MATCH($H$2,INDIRECT(""&$A$3&"!$AJ$4:$BO$4"),0),FALSE)=$H$1,"L","O") -> L | E39: =CONCATENATE(C39,D39) -> OL | F39: =IF(E39="OL",B39," " ) -> MADELEINE | G39: =IF(VLOOKUP($B39,INDIRECT(""&$A$3&"!$AJ$4:$BO$23"),MATCH($I$2,INDIRECT(""&$A$3&"!$AJ$4:$BO$4"),0),FALSE)=$I$1,"L","O") -> L | H39: =CONCATENATE($C39,G39) -> OL | I39: =IF(H39="OL",$B39," " ) -> MADELEINE | J39: =IF(VLOOKUP($B39,INDIRECT(""&$A$3&"!$AJ$4:$BO$23"),MATCH($J$2,INDIRECT(""&$A$3&"!$AJ$4:$BO$4"),0),FALSE)=$J$1,"L","O") -> L | K39: =CONCATENATE($C$29,J39) -> OL | L39: =IF(K39="OL",B39," " ) -> MADELEINE | M39: =IF(VLOOKUP($B39,INDIRECT(""&$A$3&"!$AJ$4:$BO$23"),MATCH($K$2,INDIRECT(""&$A$3&"!$AJ$4:$BO$4"),0),FALSE)=$K$1,"L","O") -> L | N39: =CONCATENATE(C39,M39) -> OL | O39: =IF(N39="OL",B39," " ) -> MADELEINE | P39: =IF(VLOOKUP($B39,INDIRECT(""&$A$3&"!$AJ$4:$BO$23"),MATCH($L$2,INDIRECT(""&$A$3&"!$AJ$4:$BO$4"),0),FALSE)=$L$1,"L","O") -> L | Q39: =CONCATENATE(C39,P39) -> OL | R39: =IF(Q39="OL",B39," " ) -> MADELEINE | S39: =IF(VLOOKUP($B39,INDIRECT(""&$A$3&"!$AJ$4:$BO$23"),MATCH($M$2,INDIRECT(""&$A$3&"!$AJ$4:$BO$4"),0),FALSE)=$M$1,"L","O") -> L | T39: =CONCATENATE(C39,S39) -> OL | U39: =IF(T39="OL",B39," " ) -> MADELEINE | V39: =IF(VLOOKUP($B39,INDIRECT(""&$A$3&"!$AJ$4:$BO$23"),MATCH($N$2,INDIRECT(""&$A$3&"!$AJ$4:$BO$4"),0),FALSE)=$N$1,"L","O") -> L | W39: =CONCATENATE(C39,V39) -> OL | X39: =IF(W39="OL",B39," " ) -> MADELEINE
A40: 12 | B40: MIRABEAU | C40: =IF($D$3<=(VLOOKUP($B40,'capacité salles'!$A$1:$G$40,2,FALSE)),"O","N") -> O | D40: =IF(VLOOKUP($B40,INDIRECT(""&$A$3&"!$AJ$4:$BO$23"),MATCH($H$2,INDIRECT(""&$A$3&"!$AJ$4:$BO$4"),0),FALSE)=$H$1,"L","O") -> L | E40: =CONCATENATE(C40,D40) -> OL | F40: =IF(E40="OL",B40," " ) -> MIRABEAU | G40: =IF(VLOOKUP($B40,INDIRECT(""&$A$3&"!$AJ$4:$BO$23"),MATCH($I$2,INDIRECT(""&$A$3&"!$AJ$4:$BO$4"),0),FALSE)=$I$1,"L","O") -> L | H40: =CONCATENATE($C40,G40) -> OL | I40: =IF(H40="OL",$B40," " ) -> MIRABEAU | J40: =IF(VLOOKUP($B40,INDIRECT(""&$A$3&"!$AJ$4:$BO$23"),MATCH($J$2,INDIRECT(""&$A$3&"!$AJ$4:$BO$4"),0),FALSE)=$J$1,"L","O") -> O | K40: =CONCATENATE($C$29,J40) -> OO | L40: =IF(K40="OL",B40," " ) | M40: =IF(VLOOKUP($B40,INDIRECT(""&$A$3&"!$AJ$4:$BO$23"),MATCH($K$2,INDIRECT(""&$A$3&"!$AJ$4:$BO$4"),0),FALSE)=$K$1,"L","O") -> O | N40: =CONCATENATE(C40,M40) -> OO | O40: =IF(N40="OL",B40," " ) | P40: =IF(VLOOKUP($B40,INDIRECT(""&$A$3&"!$AJ$4:$BO$23"),MATCH($L$2,INDIRECT(""&$A$3&"!$AJ$4:$BO$4"),0),FALSE)=$L$1,"L","O") -> O | Q40: =CONCATENATE(C40,P40) -> OO | R40: =IF(Q40="OL",B40," " ) | S40: =IF(VLOOKUP($B40,INDIRECT(""&$A$3&"!$AJ$4:$BO$23"),MATCH($M$2,INDIRECT(""&$A$3&"!$AJ$4:$BO$4"),0),FALSE)=$M$1,"L","O") -> O | T40: =CONCATENATE(C40,S40) -> OO | U40: =IF(T40="OL",B40," " ) | V40: =IF(VLOOKUP($B40,INDIRECT(""&$A$3&"!$AJ$4:$BO$23"),MATCH($N$2,INDIRECT(""&$A$3&"!$AJ$4:$BO$4"),0),FALSE)=$N$1,"L","O") -> O | W40: =CONCATENATE(C40,V40) -> OO | X40: =IF(W40="OL",B40," " )
... A48: 20 | B48: MADELEINE | C48: =IF($D$3<=(VLOOKUP($B48,'capacité salles'!$A$1:$G$40,2,FALSE)),"O","N") -> O | D48: =IF(VLOOKUP($B48,INDIRECT(""&$A$3&"!$AJ$4:$BO$23"),MATCH($H$2,INDIRECT(""&$A$3&"!$AJ$4:$BO$4"),0),FALSE)=$H$1,"L","O") -> L | E48: =CONCATENATE(C48,D48) -> OL | F48: =IF(E48="OL",B48," " ) -> MADELEINE | G48: =IF(VLOOKUP($B48,INDIRECT(""&$A$3&"!$AJ$4:$BO$23"),MATCH($I$2,INDIRECT(""&$A$3&"!$AJ$4:$BO$4"),0),FALSE)=$I$1,"L","O") -> L | H48: =CONCATENATE($C48,G48) -> OL | I48: =IF(H48="OL",$B48," " ) -> MADELEINE | J48: =IF(VLOOKUP($B48,INDIRECT(""&$A$3&"!$AJ$4:$BO$23"),MATCH($J$2,INDIRECT(""&$A$3&"!$AJ$4:$BO$4"),0),FALSE)=$J$1,"L","O") -> L | K48: =CONCATENATE($C$29,J48) -> OL | L48: =IF(K48="OL",B48," " ) -> MADELEINE | M48: =IF(VLOOKUP($B48,INDIRECT(""&$A$3&"!$AJ$4:$BO$23"),MATCH($K$2,INDIRECT(""&$A$3&"!$AJ$4:$BO$4"),0),FALSE)=$K$1,"L","O") -> L | N48: =CONCATENATE(C48,M48) -> OL | O48: =IF(N48="OL",B48," " ) -> MADELEINE | P48: =IF(VLOOKUP($B48,INDIRECT(""&$A$3&"!$AJ$4:$BO$23"),MATCH($L$2,INDIRECT(""&$A$3&"!$AJ$4:$BO$4"),0),FALSE)=$L$1,"L","O") -> L | Q48: =CONCATENATE(C48,P48) -> OL | R48: =IF(Q48="OL",B48," " ) -> MADELEINE | S48: =IF(VLOOKUP($B48,INDIRECT(""&$A$3&"!$AJ$4:$BO$23"),MATCH($M$2,INDIRECT(""&$A$3&"!$AJ$4:$BO$4"),0),FALSE)=$M$1,"L","O") -> L | T48: =CONCATENATE(C48,S48) -> OL | U48: =IF(T48="OL",B48," " ) -> MADELEINE | V48: =IF(VLOOKUP($B48,INDIRECT(""&$A$3&"!$AJ$4:$BO$23"),MATCH($N$2,INDIRECT(""&$A$3&"!$AJ$4:$BO$4"),0),FALSE)=$N$1,"L","O") -> L | W48: =CONCATENATE(C48,V48) -> OL | X48: =IF(W48="OL",B48," " ) -> MADELEINE
A49: 21 | B49: ORSAY | C49: =IF($D$3<=(VLOOKUP($B49,'capacité salles'!$A$1:$G$40,2,FALSE)),"O","N") -> N | D49: =IF(VLOOKUP($B49,INDIRECT(""&$A$3&"!$AJ$4:$BO$23"),MATCH($H$2,INDIRECT(""&$A$3&"!$AJ$4:$BO$4"),0),FALSE)=$H$1,"L","O") -> #N/A | E49: =CONCATENATE(C49,D49) -> #N/A | F49: =IF(E49="OO",B49," " ) -> #N/A | G49: =IF(VLOOKUP($B49,INDIRECT(""&$A$3&"!$AJ$4:$BO$23"),MATCH($I$2,INDIRECT(""&$A$3&"!$AJ$4:$BO$4"),0),FALSE)=$I$1,"L","O") -> #N/A | H49: =CONCATENATE(F49,G49) -> #N/A | I49: =IF(H49="OO",E49," " ) -> #N/A | J49: =IF(VLOOKUP($B49,INDIRECT(""&$A$3&"!$AJ$4:$BO$23"),MATCH($J$2,INDIRECT(""&$A$3&"!$AJ$4:$BO$4"),0),FALSE)=$J$1,"L","O") -> #N/A | K49: =CONCATENATE(I49,J49) -> #N/A | L49: =IF(K49="OO",H49," " ) -> #N/A | M49: =IF(VLOOKUP($B49,INDIRECT(""&$A$3&"!$AJ$4:$BO$23"),MATCH($K$2,INDIRECT(""&$A$3&"!$AJ$4:$BO$4"),0),FALSE)=$K$1,"L","O") -> #N/A | N49: =CONCATENATE(L49,M49) -> #N/A | O49: =IF(N49="OO",K49," " ) -> #N/A | P49: =IF(VLOOKUP($B49,INDIRECT(""&$A$3&"!$AJ$4:$BO$23"),MATCH($L$2,INDIRECT(""&$A$3&"!$AJ$4:$BO$4"),0),FALSE)=$L$1,"L","O") -> #N/A | Q49: =CONCATENATE(C49,P49) -> #N/A | R49: =IF(Q49="OL",B49," " ) -> #N/A | S49: =IF(VLOOKUP($B49,INDIRECT(""&$A$3&"!$AJ$4:$BO$23"),MATCH($M$2,INDIRECT(""&$A$3&"!$AJ$4:$BO$4"),0),FALSE)=$M$1,"L","O") -> #N/A | T49: =CONCATENATE(R49,S49) -> #N/A | U49: =IF(T49="OL",B49," " ) -> #N/A | V49: =IF(VLOOKUP($B49,INDIRECT(""&$A$3&"!$AJ$4:$BO$23"),MATCH($N$2,INDIRECT(""&$A$3&"!$AJ$4:$BO$4"),0),FALSE)=$N$1,"L","O") -> #N/A | W49: =CONCATENATE(U49,V49) -> #N/A | X49: =IF(W49="OO",T49," " ) -> #N/A
A50: 22 | B50: ANCIEN BAR | C50: =IF($D$3<=(VLOOKUP($B50,'capacité salles'!$A$1:$G$40,2,FALSE)),"O","N") -> N | D50: =IF(VLOOKUP($B50,INDIRECT(""&$A$3&"!$AJ$4:$BO$23"),MATCH($H$2,INDIRECT(""&$A$3&"!$AJ$4:$BO$4"),0),FALSE)=$H$1,"L","O") -> #N/A | E50: =CONCATENATE(C50,D50) -> #N/A | F50: =IF(E50="OO",B50," " ) -> #N/A | G50: =IF(VLOOKUP($B50,INDIRECT(""&$A$3&"!$AJ$4:$BO$23"),MATCH($I$2,INDIRECT(""&$A$3&"!$AJ$4:$BO$4"),0),FALSE)=$I$1,"L","O") -> #N/A | H50: =CONCATENATE(F50,G50) -> #N/A | I50: =IF(H50="OO",E50," " ) -> #N/A | J50: =IF(VLOOKUP($B50,INDIRECT(""&$A$3&"!$AJ$4:$BO$23"),MATCH($J$2,INDIRECT(""&$A$3&"!$AJ$4:$BO$4"),0),FALSE)=$J$1,"L","O") -> #N/A | K50: =CONCATENATE(I50,J50) -> #N/A | L50: =IF(K50="OO",H50," " ) -> #N/A | M50: =IF(VLOOKUP($B50,INDIRECT(""&$A$3&"!$AJ$4:$BO$23"),MATCH($K$2,INDIRECT(""&$A$3&"!$AJ$4:$BO$4"),0),FALSE)=$K$1,"L","O") -> #N/A | N50: =CONCATENATE(L50,M50) -> #N/A | O50: =IF(N50="OO",K50," " ) -> #N/A | P50: =IF(VLOOKUP($B50,INDIRECT(""&$A$3&"!$AJ$4:$BO$23"),MATCH($L$2,INDIRECT(""&$A$3&"!$AJ$4:$BO$4"),0),FALSE)=$L$1,"L","O") -> #N/A | Q50: =CONCATENATE(C50,P50) -> #N/A | R50: =IF(Q50="OL",B50," " ) -> #N/A | S50: =IF(VLOOKUP($B50,INDIRECT(""&$A$3&"!$AJ$4:$BO$23"),MATCH($M$2,INDIRECT(""&$A$3&"!$AJ$4:$BO$4"),0),FALSE)=$M$1,"L","O") -> #N/A | T50: =CONCATENATE(R50,S50) -> #N/A | U50: =IF(T50="OL",B50," " ) -> #N/A | V50: =IF(VLOOKUP($B50,INDIRECT(""&$A$3&"!$AJ$4:$BO$23"),MATCH($N$2,INDIRECT(""&$A$3&"!$AJ$4:$BO$4"),0),FALSE)=$N$1,"L","O") -> #N/A | W50: =CONCATENATE(U50,V50) -> #N/A | X50: =IF(W50="OO",T50," " ) -> #N/A
A51: 23 | B51: CARNAVALET-RODIN | C51: =IF($D$3<=(VLOOKUP($B51,'capacité salles'!$A$1:$G$40,2,FALSE)),"O","N") -> O | D51: =IF(VLOOKUP($B51,INDIRECT(""&$A$3&"!$AJ$4:$BO$23"),MATCH($H$2,INDIRECT(""&$A$3&"!$AJ$4:$BO$4"),0),FALSE)=$H$1,"L","O") -> #N/A | E51: =CONCATENATE(C51,D51) -> #N/A | F51: =IF(E51="OO",B51," " ) -> #N/A | G51: =IF(VLOOKUP($B51,INDIRECT(""&$A$3&"!$AJ$4:$BO$23"),MATCH($I$2,INDIRECT(""&$A$3&"!$AJ$4:$BO$4"),0),FALSE)=$I$1,"L","O") -> #N/A | H51: =CONCATENATE(F51,G51) -> #N/A | I51: =IF(H51="OO",E51," " ) -> #N/A | J51: =IF(VLOOKUP($B51,INDIRECT(""&$A$3&"!$AJ$4:$BO$23"),MATCH($J$2,INDIRECT(""&$A$3&"!$AJ$4:$BO$4"),0),FALSE)=$J$1,"L","O") -> #N/A | K51: =CONCATENATE(I51,J51) -> #N/A | L51: =IF(K51="OO",H51," " ) -> #N/A | M51: =IF(VLOOKUP($B51,INDIRECT(""&$A$3&"!$AJ$4:$BO$23"),MATCH($K$2,INDIRECT(""&$A$3&"!$AJ$4:$BO$4"),0),FALSE)=$K$1,"L","O") -> #N/A | N51: =CONCATENATE(L51,M51) -> #N/A | O51: =IF(N51="OO",K51," " ) -> #N/A | P51: =IF(VLOOKUP($B51,INDIRECT(""&$A$3&"!$AJ$4:$BO$23"),MATCH($L$2,INDIRECT(""&$A$3&"!$AJ$4:$BO$4"),0),FALSE)=$L$1,"L","O") -> #N/A | Q51: =CONCATENATE(C51,P51) -> #N/A | R51: =IF(Q51="OL",B51," " ) -> #N/A | S51: =IF(VLOOKUP($B51,INDIRECT(""&$A$3&"!$AJ$4:$BO$23"),MATCH($M$2,INDIRECT(""&$A$3&"!$AJ$4:$BO$4"),0),FALSE)=$M$1,"L","O") -> #N/A | T51: =CONCATENATE(R51,S51) -> #N/A | U51: =IF(T51="OL",B51," " ) -> #N/A | V51: =IF(VLOOKUP($B51,INDIRECT(""&$A$3&"!$AJ$4:$BO$23"),MATCH($N$2,INDIRECT(""&$A$3&"!$AJ$4:$BO$4"),0),FALSE)=$N$1,"L","O") -> #N/A | W51: =CONCATENATE(U51,V51) -> #N/A | X51: =IF(W51="OO",T51," " ) -> #N/A
A52: 24 | B52: CARNAVALET-RODIN-PICASSO | C52: =IF($D$3<=(VLOOKUP($B52,'capacité salles'!$A$1:$G$40,2,FALSE)),"O","N") -> O | D52: =IF(VLOOKUP($B52,INDIRECT(""&$A$3&"!$AJ$4:$BO$23"),MATCH($H$2,INDIRECT(""&$A$3&"!$AJ$4:$BO$4"),0),FALSE)=$H$1,"L","O") -> #N/A | E52: =CONCATENATE(C52,D52) -> #N/A | F52: =IF(E52="OO",B52," " ) -> #N/A | G52: =IF(VLOOKUP($B52,INDIRECT(""&$A$3&"!$AJ$4:$BO$23"),MATCH($I$2,INDIRECT(""&$A$3&"!$AJ$4:$BO$4"),0),FALSE)=$I$1,"L","O") -> #N/A | H52: =CONCATENATE(F52,G52) -> #N/A | I52: =IF(H52="OO",E52," " ) -> #N/A | J52: =IF(VLOOKUP($B52,INDIRECT(""&$A$3&"!$AJ$4:$BO$23"),MATCH($J$2,INDIRECT(""&$A$3&"!$AJ$4:$BO$4"),0),FALSE)=$J$1,"L","O") -> #N/A | K52: =CONCATENATE(I52,J52) -> #N/A | L52: =IF(K52="OO",H52," " ) -> #N/A | M52: =IF(VLOOKUP($B52,INDIRECT(""&$A$3&"!$AJ$4:$BO$23"),MATCH($K$2,INDIRECT(""&$A$3&"!$AJ$4:$BO$4"),0),FALSE)=$K$1,"L","O") -> #N/A | N52: =CONCATENATE(L52,M52) -> #N/A | O52: =IF(N52="OO",K52," " ) -> #N/A | P52: =IF(VLOOKUP($B52,INDIRECT(""&$A$3&"!$AJ$4:$BO$23"),MATCH($L$2,INDIRECT(""&$A$3&"!$AJ$4:$BO$4"),0),FALSE)=$L$1,"L","O") -> #N/A | Q52: =CONCATENATE(C52,P52) -> #N/A | R52: =IF(Q52="OL",B52," " ) -> #N/A | S52: =IF(VLOOKUP($B52,INDIRECT(""&$A$3&"!$AJ$4:$BO$23"),MATCH($M$2,INDIRECT(""&$A$3&"!$AJ$4:$BO$4"),0),FALSE)=$M$1,"L","O") -> #N/A | T52: =CONCATENATE(R52,S52) -> #N/A | U52: =IF(T52="OL",B52," " ) -> #N/A | V52: =IF(VLOOKUP($B52,INDIRECT(""&$A$3&"!$AJ$4:$BO$23"),MATCH($N$2,INDIRECT(""&$A$3&"!$AJ$4:$BO$4"),0),FALSE)=$N$1,"L","O") -> #N/A | W52: =CONCATENATE(U52,V52) -> #N/A | X52: =IF(W52="OO",T52," " ) -> #N/A
A53: 25 | B53: CARNAVALET-RODIN-PICASSO-GREVIN | C53: =IF($D$3<=(VLOOKUP($B53,'capacité salles'!$A$1:$G$40,2,FALSE)),"O","N") -> O | D53: =IF(VLOOKUP($B53,INDIRECT(""&$A$3&"!$AJ$4:$BO$23"),MATCH($H$2,INDIRECT(""&$A$3&"!$AJ$4:$BO$4"),0),FALSE)=$H$1,"L","O") -> #N/A | E53: =CONCATENATE(C53,D53) -> #N/A | F53: =IF(E53="OO",B53," " ) -> #N/A | G53: =IF(VLOOKUP($B53,INDIRECT(""&$A$3&"!$AJ$4:$BO$23"),MATCH($I$2,INDIRECT(""&$A$3&"!$AJ$4:$BO$4"),0),FALSE)=$I$1,"L","O") -> #N/A | H53: =CONCATENATE(F53,G53) -> #N/A | I53: =IF(H53="OO",E53," " ) -> #N/A | J53: =IF(VLOOKUP($B53,INDIRECT(""&$A$3&"!$AJ$4:$BO$23"),MATCH($J$2,INDIRECT(""&$A$3&"!$AJ$4:$BO$4"),0),FALSE)=$J$1,"L","O") -> #N/A | K53: =CONCATENATE(I53,J53) -> #N/A | L53: =IF(K53="OO",H53," " ) -> #N/A | M53: =IF(VLOOKUP($B53,INDIRECT(""&$A$3&"!$AJ$4:$BO$23"),MATCH($K$2,INDIRECT(""&$A$3&"!$AJ$4:$BO$4"),0),FALSE)=$K$1,"L","O") -> #N/A | N53: =CONCATENATE(L53,M53) -> #N/A | O53: =IF(N53="OO",K53," " ) -> #N/A | P53: =IF(VLOOKUP($B53,INDIRECT(""&$A$3&"!$AJ$4:$BO$23"),MATCH($L$2,INDIRECT(""&$A$3&"!$AJ$4:$BO$4"),0),FALSE)=$L$1,"L","O") -> #N/A | Q53: =CONCATENATE(C53,P53) -> #N/A | R53: =IF(Q53="OL",B53," " ) -> #N/A | S53: =IF(VLOOKUP($B53,INDIRECT(""&$A$3&"!$AJ$4:$BO$23"),MATCH($M$2,INDIRECT(""&$A$3&"!$AJ$4:$BO$4"),0),FALSE)=$M$1,"L","O") -> #N/A | T53: =CONCATENATE(R53,S53) -> #N/A | U53: =IF(T53="OL",B53," " ) -> #N/A | V53: =IF(VLOOKUP($B53,INDIRECT(""&$A$3&"!$AJ$4:$BO$23"),MATCH($N$2,INDIRECT(""&$A$3&"!$AJ$4:$BO$4"),0),FALSE)=$N$1,"L","O") -> #N/A | W53: =CONCATENATE(U53,V53) -> #N/A | X53: =IF(W53="OO",T53," " ) -> #N/A
A54: 26 | B54: CLICHY-BATIGNOLLES | C54: =IF($D$3<=(VLOOKUP($B54,'capacité salles'!$A$1:$G$40,2,FALSE)),"O","N") -> O | D54: =IF(VLOOKUP($B54,INDIRECT(""&$A$3&"!$AJ$4:$BO$23"),MATCH($H$2,INDIRECT(""&$A$3&"!$AJ$4:$BO$4"),0),FALSE)=$H$1,"L","O") -> #N/A | E54: =CONCATENATE(C54,D54) -> #N/A | F54: =IF(E54="OO",B54," " ) -> #N/A | G54: =IF(VLOOKUP($B54,INDIRECT(""&$A$3&"!$AJ$4:$BO$23"),MATCH($I$2,INDIRECT(""&$A$3&"!$AJ$4:$BO$4"),0),FALSE)=$I$1,"L","O") -> #N/A | H54: =CONCATENATE(F54,G54) -> #N/A | I54: =IF(H54="OO",E54," " ) -> #N/A | J54: =IF(VLOOKUP($B54,INDIRECT(""&$A$3&"!$AJ$4:$BO$23"),MATCH($J$2,INDIRECT(""&$A$3&"!$AJ$4:$BO$4"),0),FALSE)=$J$1,"L","O") -> #N/A | K54: =CONCATENATE(I54,J54) -> #N/A | L54: =IF(K54="OO",H54," " ) -> #N/A | M54: =IF(VLOOKUP($B54,INDIRECT(""&$A$3&"!$AJ$4:$BO$23"),MATCH($K$2,INDIRECT(""&$A$3&"!$AJ$4:$BO$4"),0),FALSE)=$K$1,"L","O") -> #N/A | N54: =CONCATENATE(L54,M54) -> #N/A | O54: =IF(N54="OO",K54," " ) -> #N/A | P54: =IF(VLOOKUP($B54,INDIRECT(""&$A$3&"!$AJ$4:$BO$23"),MATCH($L$2,INDIRECT(""&$A$3&"!$AJ$4:$BO$4"),0),FALSE)=$L$1,"L","O") -> #N/A | Q54: =CONCATENATE(C54,P54) -> #N/A | R54: =IF(Q54="OL",B54," " ) -> #N/A | S54: =IF(VLOOKUP($B54,INDIRECT(""&$A$3&"!$AJ$4:$BO$23"),MATCH($M$2,INDIRECT(""&$A$3&"!$AJ$4:$BO$4"),0),FALSE)=$M$1,"L","O") -> #N/A | T54: =CONCATENATE(R54,S54) -> #N/A | U54: =IF(T54="OL",B54," " ) -> #N/A | V54: =IF(VLOOKUP($B54,INDIRECT(""&$A$3&"!$AJ$4:$BO$23"),MATCH($N$2,INDIRECT(""&$A$3&"!$AJ$4:$BO$4"),0),FALSE)=$N$1,"L","O") -> #N/A | W54: =CONCATENATE(U54,V54) -> #N/A | X54: =IF(W54="OO",T54," " ) -> #N/A
A55: 27 | B55: DAUPHINE-ETOILE | C55: =IF($D$3<=(VLOOKUP($B55,'capacité salles'!$A$1:$G$40,2,FALSE)),"O","N") -> O | D55: =IF(VLOOKUP($B55,INDIRECT(""&$A$3&"!$AJ$4:$BO$23"),MATCH($H$2,INDIRECT(""&$A$3&"!$AJ$4:$BO$4"),0),FALSE)=$H$1,"L","O") -> #N/A | E55: =CONCATENATE(C55,D55) -> #N/A | F55: =IF(E55="OO",B55," " ) -> #N/A | G55: =IF(VLOOKUP($B55,INDIRECT(""&$A$3&"!$AJ$4:$BO$23"),MATCH($I$2,INDIRECT(""&$A$3&"!$AJ$4:$BO$4"),0),FALSE)=$I$1,"L","O") -> #N/A | H55: =CONCATENATE(F55,G55) -> #N/A | I55: =IF(H55="OO",E55," " ) -> #N/A | J55: =IF(VLOOKUP($B55,INDIRECT(""&$A$3&"!$AJ$4:$BO$23"),MATCH($J$2,INDIRECT(""&$A$3&"!$AJ$4:$BO$4"),0),FALSE)=$J$1,"L","O") -> #N/A | K55: =CONCATENATE(I55,J55) -> #N/A | L55: =IF(K55="OO",H55," " ) -> #N/A | M55: =IF(VLOOKUP($B55,INDIRECT(""&$A$3&"!$AJ$4:$BO$23"),MATCH($K$2,INDIRECT(""&$A$3&"!$AJ$4:$BO$4"),0),FALSE)=$K$1,"L","O") -> #N/A | N55: =CONCATENATE(L55,M55) -> #N/A | O55: =IF(N55="OO",K55," " ) -> #N/A | P55: =IF(VLOOKUP($B55,INDIRECT(""&$A$3&"!$AJ$4:$BO$23"),MATCH($L$2,INDIRECT(""&$A$3&"!$AJ$4:$BO$4"),0),FALSE)=$L$1,"L","O") -> #N/A | Q55: =CONCATENATE(C55,P55) -> #N/A | R55: =IF(Q55="OL",B55," " ) -> #N/A | S55: =IF(VLOOKUP($B55,INDIRECT(""&$A$3&"!$AJ$4:$BO$23"),MATCH($M$2,INDIRECT(""&$A$3&"!$AJ$4:$BO$4"),0),FALSE)=$M$1,"L","O") -> #N/A | T55: =CONCATENATE(R55,S55) -> #N/A | U55: =IF(T55="OL",B55," " ) -> #N/A | V55: =IF(VLOOKUP($B55,INDIRECT(""&$A$3&"!$AJ$4:$BO$23"),MATCH($N$2,INDIRECT(""&$A$3&"!$AJ$4:$BO$4"),0),FALSE)=$N$1,"L","O") -> #N/A | W55: =CONCATENATE(U55,V55) -> #N/A | X55: =IF(W55="OO",T55," " ) -> #N/A
A56: 28 | B56: GRENELLE-SULLY | C56: =IF($D$3<=(VLOOKUP($B56,'capacité salles'!$A$1:$G$40,2,FALSE)),"O","N") -> O | D56: =IF(VLOOKUP($B56,INDIRECT(""&$A$3&"!$AJ$4:$BO$23"),MATCH($H$2,INDIRECT(""&$A$3&"!$AJ$4:$BO$4"),0),FALSE)=$H$1,"L","O") -> #N/A | E56: =CONCATENATE(C56,D56) -> #N/A | F56: =IF(E56="OO",B56," " ) -> #N/A | G56: =IF(VLOOKUP($B56,INDIRECT(""&$A$3&"!$AJ$4:$BO$23"),MATCH($I$2,INDIRECT(""&$A$3&"!$AJ$4:$BO$4"),0),FALSE)=$I$1,"L","O") -> #N/A | H56: =CONCATENATE(F56,G56) -> #N/A | I56: =IF(H56="OO",E56," " ) -> #N/A | J56: =IF(VLOOKUP($B56,INDIRECT(""&$A$3&"!$AJ$4:$BO$23"),MATCH($J$2,INDIRECT(""&$A$3&"!$AJ$4:$BO$4"),0),FALSE)=$J$1,"L","O") -> #N/A | K56: =CONCATENATE(I56,J56) -> #N/A | L56: =IF(K56="OO",H56," " ) -> #N/A | M56: =IF(VLOOKUP($B56,INDIRECT(""&$A$3&"!$AJ$4:$BO$23"),MATCH($K$2,INDIRECT(""&$A$3&"!$AJ$4:$BO$4"),0),FALSE)=$K$1,"L","O") -> #N/A | N56: =CONCATENATE(L56,M56) -> #N/A | O56: =IF(N56="OO",K56," " ) -> #N/A | P56: =IF(VLOOKUP($B56,INDIRECT(""&$A$3&"!$AJ$4:$BO$23"),MATCH($L$2,INDIRECT(""&$A$3&"!$AJ$4:$BO$4"),0),FALSE)=$L$1,"L","O") -> #N/A | Q56: =CONCATENATE(C56,P56) -> #N/A | R56: =IF(Q56="OL",B56," " ) -> #N/A | S56: =IF(VLOOKUP($B56,INDIRECT(""&$A$3&"!$AJ$4:$BO$23"),MATCH($M$2,INDIRECT(""&$A$3&"!$AJ$4:$BO$4"),0),FALSE)=$M$1,"L","O") -> #N/A | T56: =CONCATENATE(R56,S56) -> #N/A | U56: =IF(T56="OL",B56," " ) -> #N/A | V56: =IF(VLOOKUP($B56,INDIRECT(""&$A$3&"!$AJ$4:$BO$23"),MATCH($N$2,INDIRECT(""&$A$3&"!$AJ$4:$BO$4"),0),FALSE)=$N$1,"L","O") -> #N/A | W56: =CONCATENATE(U56,V56) -> #N/A | X56: =IF(W56="OO",T56," " ) -> #N/A
A57: 29 | B57: IENA-GRENELLE | C57: =IF($D$3<=(VLOOKUP($B57,'capacité salles'!$A$1:$G$40,2,FALSE)),"O","N") -> O | D57: =IF(VLOOKUP($B57,INDIRECT(""&$A$3&"!$AJ$4:$BO$23"),MATCH($H$2,INDIRECT(""&$A$3&"!$AJ$4:$BO$4"),0),FALSE)=$H$1,"L","O") -> #N/A | E57: =CONCATENATE(C57,D57) -> #N/A | F57: =IF(E57="OO",B57," " ) -> #N/A | G57: =IF(VLOOKUP($B57,INDIRECT(""&$A$3&"!$AJ$4:$BO$23"),MATCH($I$2,INDIRECT(""&$A$3&"!$AJ$4:$BO$4"),0),FALSE)=$I$1,"L","O") -> #N/A | H57: =CONCATENATE(F57,G57) -> #N/A | I57: =IF(H57="OO",E57," " ) -> #N/A | J57: =IF(VLOOKUP($B57,INDIRECT(""&$A$3&"!$AJ$4:$BO$23"),MATCH($J$2,INDIRECT(""&$A$3&"!$AJ$4:$BO$4"),0),FALSE)=$J$1,"L","O") -> #N/A | K57: =CONCATENATE(I57,J57) -> #N/A | L57: =IF(K57="OO",H57," " ) -> #N/A | M57: =IF(VLOOKUP($B57,INDIRECT(""&$A$3&"!$AJ$4:$BO$23"),MATCH($K$2,INDIRECT(""&$A$3&"!$AJ$4:$BO$4"),0),FALSE)=$K$1,"L","O") -> #N/A | N57: =CONCATENATE(L57,M57) -> #N/A | O57: =IF(N57="OO",K57," " ) -> #N/A | P57: =IF(VLOOKUP($B57,INDIRECT(""&$A$3&"!$AJ$4:$BO$23"),MATCH($L$2,INDIRECT(""&$A$3&"!$AJ$4:$BO$4"),0),FALSE)=$L$1,"L","O") -> #N/A | Q57: =CONCATENATE(C57,P57) -> #N/A | R57: =IF(Q57="OL",B57," " ) -> #N/A | S57: =IF(VLOOKUP($B57,INDIRECT(""&$A$3&"!$AJ$4:$BO$23"),MATCH($M$2,INDIRECT(""&$A$3&"!$AJ$4:$BO$4"),0),FALSE)=$M$1,"L","O") -> #N/A | T57: =CONCATENATE(R57,S57) -> #N/A | U57: =IF(T57="OL",B57," " ) -> #N/A | V57: =IF(VLOOKUP($B57,INDIRECT(""&$A$3&"!$AJ$4:$BO$23"),MATCH($N$2,INDIRECT(""&$A$3&"!$AJ$4:$BO$4"),0),FALSE)=$N$1,"L","O") -> #N/A | W57: =CONCATENATE(U57,V57) -> #N/A | X57: =IF(W57="OO",T57," " ) -> #N/A
A58: 30 | B58: IENA-GRENELLE-SULLY | C58: =IF($D$3<=(VLOOKUP($B58,'capacité salles'!$A$1:$G$40,2,FALSE)),"O","N") -> O | D58: =IF(VLOOKUP($B58,INDIRECT(""&$A$3&"!$AJ$4:$BO$23"),MATCH($H$2,INDIRECT(""&$A$3&"!$AJ$4:$BO$4"),0),FALSE)=$H$1,"L","O") -> #N/A | E58: =CONCATENATE(C58,D58) -> #N/A | F58: =IF(E58="OO",B58," " ) -> #N/A | G58: =IF(VLOOKUP($B58,INDIRECT(""&$A$3&"!$AJ$4:$BO$23"),MATCH($I$2,INDIRECT(""&$A$3&"!$AJ$4:$BO$4"),0),FALSE)=$I$1,"L","O") -> #N/A | H58: =CONCATENATE(F58,G58) -> #N/A | I58: =IF(H58="OO",E58," " ) -> #N/A | J58: =IF(VLOOKUP($B58,INDIRECT(""&$A$3&"!$AJ$4:$BO$23"),MATCH($J$2,INDIRECT(""&$A$3&"!$AJ$4:$BO$4"),0),FALSE)=$J$1,"L","O") -> #N/A | K58: =CONCATENATE(I58,J58) -> #N/A | L58: =IF(K58="OO",H58," " ) -> #N/A | M58: =IF(VLOOKUP($B58,INDIRECT(""&$A$3&"!$AJ$4:$BO$23"),MATCH($K$2,INDIRECT(""&$A$3&"!$AJ$4:$BO$4"),0),FALSE)=$K$1,"L","O") -> #N/A | N58: =CONCATENATE(L58,M58) -> #N/A | O58: =IF(N58="OO",K58," " ) -> #N/A | P58: =IF(VLOOKUP($B58,INDIRECT(""&$A$3&"!$AJ$4:$BO$23"),MATCH($L$2,INDIRECT(""&$A$3&"!$AJ$4:$BO$4"),0),FALSE)=$L$1,"L","O") -> #N/A | Q58: =CONCATENATE(C58,P58) -> #N/A | R58: =IF(Q58="OL",B58," " ) -> #N/A | S58: =IF(VLOOKUP($B58,INDIRECT(""&$A$3&"!$AJ$4:$BO$23"),MATCH($M$2,INDIRECT(""&$A$3&"!$AJ$4:$BO$4"),0),FALSE)=$M$1,"L","O") -> #N/A | T58: =CONCATENATE(R58,S58) -> #N/A | U58: =IF(T58="OL",B58," " ) -> #N/A | V58: =IF(VLOOKUP($B58,INDIRECT(""&$A$3&"!$AJ$4:$BO$23"),MATCH($N$2,INDIRECT(""&$A$3&"!$AJ$4:$BO$4"),0),FALSE)=$N$1,"L","O") -> #N/A | W58: =CONCATENATE(U58,V58) -> #N/A | X58: =IF(W58="OO",T58," " ) -> #N/A
A59: 31 | B59: IENA-GRENELLE-SULLY-MIRABEAU | C59: =IF($D$3<=(VLOOKUP($B59,'capacité salles'!$A$1:$G$40,2,FALSE)),"O","N") -> O | D59: =IF(VLOOKUP($B59,INDIRECT(""&$A$3&"!$AJ$4:$BO$23"),MATCH($H$2,INDIRECT(""&$A$3&"!$AJ$4:$BO$4"),0),FALSE)=$H$1,"L","O") -> #N/A | E59: =CONCATENATE(C59,D59) -> #N/A | F59: =IF(E59="OO",B59," " ) -> #N/A | G59: =IF(VLOOKUP($B59,INDIRECT(""&$A$3&"!$AJ$4:$BO$23"),MATCH($I$2,INDIRECT(""&$A$3&"!$AJ$4:$BO$4"),0),FALSE)=$I$1,"L","O") -> #N/A | H59: =CONCATENATE(F59,G59) -> #N/A | I59: =IF(H59="OO",E59," " ) -> #N/A | J59: =IF(VLOOKUP($B59,INDIRECT(""&$A$3&"!$AJ$4:$BO$23"),MATCH($J$2,INDIRECT(""&$A$3&"!$AJ$4:$BO$4"),0),FALSE)=$J$1,"L","O") -> #N/A | K59: =CONCATENATE(I59,J59) -> #N/A | L59: =IF(K59="OO",H59," " ) -> #N/A | M59: =IF(VLOOKUP($B59,INDIRECT(""&$A$3&"!$AJ$4:$BO$23"),MATCH($K$2,INDIRECT(""&$A$3&"!$AJ$4:$BO$4"),0),FALSE)=$K$1,"L","O") -> #N/A | N59: =CONCATENATE(L59,M59) -> #N/A | O59: =IF(N59="OO",K59," " ) -> #N/A | P59: =IF(VLOOKUP($B59,INDIRECT(""&$A$3&"!$AJ$4:$BO$23"),MATCH($L$2,INDIRECT(""&$A$3&"!$AJ$4:$BO$4"),0),FALSE)=$L$1,"L","O") -> #N/A | Q59: =CONCATENATE(C59,P59) -> #N/A | R59: =IF(Q59="OL",B59," " ) -> #N/A | S59: =IF(VLOOKUP($B59,INDIRECT(""&$A$3&"!$AJ$4:$BO$23"),MATCH($M$2,INDIRECT(""&$A$3&"!$AJ$4:$BO$4"),0),FALSE)=$M$1,"L","O") -> #N/A | T59: =CONCATENATE(R59,S59) -> #N/A | U59: =IF(T59="OL",B59," " ) -> #N/A | V59: =IF(VLOOKUP($B59,INDIRECT(""&$A$3&"!$AJ$4:$BO$23"),MATCH($N$2,INDIRECT(""&$A$3&"!$AJ$4:$BO$4"),0),FALSE)=$N$1,"L","O") -> #N/A | W59: =CONCATENATE(U59,V59) -> #N/A | X59: =IF(W59="OO",T59," " ) -> #N/A
A60: 32 | B60: LOUVRE-CARNAVALET-RODIN-PICASSO-GREVIN | C60: =IF($D$3<=(VLOOKUP($B60,'capacité salles'!$A$1:$G$40,2,FALSE)),"O","N") -> O | D60: =IF(VLOOKUP($B60,INDIRECT(""&$A$3&"!$AJ$4:$BO$23"),MATCH($H$2,INDIRECT(""&$A$3&"!$AJ$4:$BO$4"),0),FALSE)=$H$1,"L","O") -> #N/A | E60: =CONCATENATE(C60,D60) -> #N/A | F60: =IF(E60="OO",B60," " ) -> #N/A | G60: =IF(VLOOKUP($B60,INDIRECT(""&$A$3&"!$AJ$4:$BO$23"),MATCH($I$2,INDIRECT(""&$A$3&"!$AJ$4:$BO$4"),0),FALSE)=$I$1,"L","O") -> #N/A | H60: =CONCATENATE(F60,G60) -> #N/A | I60: =IF(H60="OO",E60," " ) -> #N/A | J60: =IF(VLOOKUP($B60,INDIRECT(""&$A$3&"!$AJ$4:$BO$23"),MATCH($J$2,INDIRECT(""&$A$3&"!$AJ$4:$BO$4"),0),FALSE)=$J$1,"L","O") -> #N/A | K60: =CONCATENATE(I60,J60) -> #N/A | L60: =IF(K60="OO",H60," " ) -> #N/A | M60: =IF(VLOOKUP($B60,INDIRECT(""&$A$3&"!$AJ$4:$BO$23"),MATCH($K$2,INDIRECT(""&$A$3&"!$AJ$4:$BO$4"),0),FALSE)=$K$1,"L","O") -> #N/A | N60: =CONCATENATE(L60,M60) -> #N/A | O60: =IF(N60="OO",K60," " ) -> #N/A | P60: =IF(VLOOKUP($B60,INDIRECT(""&$A$3&"!$AJ$4:$BO$23"),MATCH($L$2,INDIRECT(""&$A$3&"!$AJ$4:$BO$4"),0),FALSE)=$L$1,"L","O") -> #N/A | Q60: =CONCATENATE(C60,P60) -> #N/A | R60: =IF(Q60="OL",B60," " ) -> #N/A | S60: =IF(VLOOKUP($B60,INDIRECT(""&$A$3&"!$AJ$4:$BO$23"),MATCH($M$2,INDIRECT(""&$A$3&"!$AJ$4:$BO$4"),0),FALSE)=$M$1,"L","O") -> #N/A | T60: =CONCATENATE(R60,S60) -> #N/A | U60: =IF(T60="OL",B60," " ) -> #N/A | V60: =IF(VLOOKUP($B60,INDIRECT(""&$A$3&"!$AJ$4:$BO$23"),MATCH($N$2,INDIRECT(""&$A$3&"!$AJ$4:$BO$4"),0),FALSE)=$N$1,"L","O") -> #N/A | W60: =CONCATENATE(U60,V60) -> #N/A | X60: =IF(W60="OO",T60," " ) -> #N/A
... A68: 40 | B68: RODIN-PICASSO-GREVIN-CARNAVALET | C68: =IF($D$3<=(VLOOKUP($B68,'capacité salles'!$A$1:$G$40,2,FALSE)),"O","N") -> O | D68: =IF(VLOOKUP($B68,INDIRECT(""&$A$3&"!$AJ$4:$BO$23"),MATCH($H$2,INDIRECT(""&$A$3&"!$AJ$4:$BO$4"),0),FALSE)=$H$1,"L","O") -> #N/A | E68: =CONCATENATE(C68,D68) -> #N/A | F68: =IF(E68="OO",B68," " ) -> #N/A | G68: =IF(VLOOKUP($B68,INDIRECT(""&$A$3&"!$AJ$4:$BO$23"),MATCH($I$2,INDIRECT(""&$A$3&"!$AJ$4:$BO$4"),0),FALSE)=$I$1,"L","O") -> #N/A | H68: =CONCATENATE(F68,G68) -> #N/A | I68: =IF(H68="OO",E68," " ) -> #N/A | J68: =IF(VLOOKUP($B68,INDIRECT(""&$A$3&"!$AJ$4:$BO$23"),MATCH($J$2,INDIRECT(""&$A$3&"!$AJ$4:$BO$4"),0),FALSE)=$J$1,"L","O") -> #N/A | K68: =CONCATENATE(I68,J68) -> #N/A | L68: =IF(K68="OO",H68," " ) -> #N/A | M68: =IF(VLOOKUP($B68,INDIRECT(""&$A$3&"!$AJ$4:$BO$23"),MATCH($K$2,INDIRECT(""&$A$3&"!$AJ$4:$BO$4"),0),FALSE)=$K$1,"L","O") -> #N/A | N68: =CONCATENATE(L68,M68) -> #N/A | O68: =IF(N68="OO",K68," " ) -> #N/A | P68: =IF(VLOOKUP($B68,INDIRECT(""&$A$3&"!$AJ$4:$BO$23"),MATCH($L$2,INDIRECT(""&$A$3&"!$AJ$4:$BO$4"),0),FALSE)=$L$1,"L","O") -> #N/A | Q68: =CONCATENATE(C68,P68) -> #N/A | R68: =IF(Q68="OL",B68," " ) -> #N/A | S68: =IF(VLOOKUP($B68,INDIRECT(""&$A$3&"!$AJ$4:$BO$23"),MATCH($M$2,INDIRECT(""&$A$3&"!$AJ$4:$BO$4"),0),FALSE)=$M$1,"L","O") -> #N/A | T68: =CONCATENATE(R68,S68) -> #N/A | U68: =IF(T68="OL",B68," " ) -> #N/A | V68: =IF(VLOOKUP($B68,INDIRECT(""&$A$3&"!$AJ$4:$BO$23"),MATCH($N$2,INDIRECT(""&$A$3&"!$AJ$4:$BO$4"),0),FALSE)=$N$1,"L","O") -> #N/A | W68: =CONCATENATE(U68,V68) -> #N/A | X68: =IF(W68="OO",T68," " ) -> #N/A
A69: 41
A70: 42
A71: 43
A72: 44
A73: 45
A74: 46
A75: 47
A76: 48
A77: 49
A78: 50
A79: 51
A80: 52
... A128: 100

Sheet capacité salles
A1: Nom de la salle | B1: cap min | C1: Théatre | D1: Salle U | E1: Salle Réunion | F1: Salle classe | G1: Banquet | L1: Surface | M1: Hauteur
A2: ABBESSES | B2: =MIN(C2:G2) -> 10 | E2: 10 | L2: 18 m2 | M2: 2,5 m
A3: ANCIEN BAR | L3: 36 m2 | M3: 0 m
A4: BATIGNOLLES | B4: =MIN(C4:G4) -> 12 | D4: 12 | E4: 12 | L4: 73 m2 | M4: 2,5 m
A5: CARNAVALET | B5: =MIN(C5:G5) -> 24 | C5: 55 | D5: 24 | E5: 30 | F5: 36 | L5: 47 m2 | M5: 0 m
A6: CARNAVALET-RODIN | B6: 46 | L6: 18 m2 | M6: 2,5 m
A7: CARNAVALET-RODIN-PICASSO | B7: 60 | L7: 37 m2 | M7: 2,5 m
A8: CARNAVALET-RODIN-PICASSO-GREVIN | B8: 82 | L8: 54 m2 | M8: 2,5 m
A9: CLICHY | B9: =MIN(C9:G9) -> 15 | D9: 15 | E9: 15 | L9: 54 m2 | M9: 2,5 m
A10: CLICHY-BATIGNOLLES | B10: 17 | L10: 54 m2 | M10: 2,5 m
A11: DAUPHINE | B11: =MIN(C11:G11) -> 10 | E11: 10 | L11: 46 m2 | M11: 2,5 m
A12: DAUPHINE-ETOILE | B12: 26 | L12: 37 m2 | M12: 2,5 m
A13: ETOILE | B13: =MIN(C13:G13) -> 16 | E13: 16 | L13: 73 m2 | M13: 2,5 m
A14: GRENELLE | B14: =MIN(C14:G14) -> 24 | C14: 50 | D14: 24 | E14: 28 | F14: 28 | L14: 225 m2 | M14: 2,5 m
A15: GRENELLE-SULLY | B15: 48 | L15: 87 m2 | M15: 0 m
A16: GREVIN | B16: =MIN(C16:G16) -> 22 | C16: 48 | D16: 22 | E16: 24 | F16: 24 | L16: 54 m2 | M16: 2,5 m
A17: IENA | B17: =MIN(C17:G17) -> 24 | C17: 50 | D17: 24 | E17: 28 | F17: 28 | L17: 44 m2 | M17: 2,5 m
A18: IENA-GRENELLE | B18: 48 | L18: 54 m2 | M18: 2,5 m
A19: IENA-GRENELLE-SULLY | B19: 72 | L19: 37 m2 | M19: 2,5 m
A20: IENA-GRENELLE-SULLY-MIRABEAU | B20: 96 | L20: 26 m2 | M20: 2,5 m
A21: LOUVRE | B21: =MIN(C21:G21) -> 16 | C21: 30 | D21: 16 | E21: 18 | F21: 18
A22: LOUVRE-CARNAVALET-RODIN-PICASSO-GREVIN | B22: 98
A23: MADELEINE | B23: =MIN(C23:G23) -> 16 | E23: 16
A24: MIRABEAU | B24: =MIN(C24:G24) -> 24 | C24: 60 | D24: 24 | E24: 30 | F24: 36
A25: MIRABEAU-IENA | B25: 48
A26: MIRABEAU-IENA-GRENELLE | B26: 72
A27: MIRABEAU-IENA-GRENELLE-SULLY | B27: 96
A28: MONCEAU | B28: =MIN(C28:G28) -> 50 | C28: 190 | D28: 50 | E28: 60 | F28: 110 | G28: 100
A29: ORSAY
A30: ORSAY+NIVEAU 1
A31: PARIS | B31: =MIN(C31:G31) -> 32 | D31: 32 | E31: 32
A32: PICASSO | B32: =MIN(C32:G32) -> 14 | C32: 48 | D32: 22 | E32: 14 | F32: 24
A33: PICASSO-GREVIN | B33: 36
A34: RODIN | B34: =MIN(C34:G34) -> 22 | C34: 48 | D34: 22 | E34: 24 | F34: 24
A35: RODIN-PICASSO | B35: 36
A36: RODIN-PICASSO-GREVIN | B36: 58
A37: RODIN-PICASSO-GREVIN-CARNAVALET | B37: 82
A38: SULLY | B38: =MIN(C38:G38) -> 24 | C38: 50 | D38: 24 | E38: 28 | F38: 28
A39: VENDOME | B39: =MIN(C39:G39) -> 16 | E39: 16
A40: WAGRAM | B40: =MIN(C40:G40) -> 12 | E40: 12

Sheet janvier
A1: =TODAY() -> 42746 | E1: 42370 | F1: 42371 | G1: 42372 | H1: 42373 | I1: 42374 | J1: 42375 | K1: 42376 | L1: 42377 | M1: 42378 | N1: 42379 | O1: 42380 | P1: 42381 | Q1: 42382 | R1: 42383 | S1: 42384 | T1: 42385 | U1: 42386 | V1: 42387 | W1: 42388 | X1: 42389 | Y1: 42390 | Z1: 42391 | AA1: 42392 | AB1: 42393 | AC1: 42394 | AD1: 42395 | AE1: 42396 | AF1: 42397 | AG1: 42398 | AH1: 42399 | AI1: 42400
A2: Jour de la semaine | E2: =WEEKDAY(E1,2) -> 5 | F2: =WEEKDAY(F1,2) -> 6 | G2: =WEEKDAY(G1,2) -> 7 | H2: =WEEKDAY(H1,2) -> 1 | I2: =WEEKDAY(I1,2) -> 2 | J2: =WEEKDAY(J1,2) -> 3 | K2: =WEEKDAY(K1,2) -> 4 | L2: =WEEKDAY(L1,2) -> 5 | ... AI2: =WEEKDAY(AI1,2) -> 7
A3: Vacances scolaire/ jours fériés - FR
A4: NOM DE LA SALLE | AK4: 42370 | AL4: 42371 | AM4: 42372 | AN4: 42373 | AO4: 42374 | AP4: 42375 | AQ4: 42376 | AR4: 42377 | AS4: 42378 | AT4: 42379 | AU4: 42380 | AV4: 42381 | AW4: 42382 | AX4: 42383 | AY4: 42384 | AZ4: 42385 | BA4: 42386 | BB4: 42387 | BC4: 42388 | BD4: 42389 | BE4: 42390 | BF4: 42391 | BG4: 42392 | BH4: 42393 | BI4: 42394 | BJ4: 42395 | BK4: 42396 | BL4: 42397 | BM4: 42398 | BN4: 42399 | BO4: 42400
A5: ABBESSES | E5: =IFERROR(VLOOKUP(CONCATENATE(E$1,"*ABBESSES*"),oldOTB!$S:$Z,8,FALSE),IFERROR(VLOOKUP(CONCATENATE(E$1,"*ABBESSES*"),oldOTB!$T:$Z,7,FALSE),IFERROR(VLOOKUP(CONCATENATE(E$1,"*ABBESSES*"),oldOTB!$U:$Z,6,FALSE),IFERROR(VLOOKUP(CONCATENATE(E$1,"*ABBESSES*"),oldOTB!$V:$Z,5,FALSE),IFERROR(VLOOKUP(CONCATENATE(E$1,"*ABBESSES*"),oldOTB!$W:$Z,4,FALSE),IFERROR(VLOOKUP(CONCATENATE(E$1,"*ABBESSES*"),oldOTB!$X:$Z,3,FALSE),IFERROR(VLOOKUP(CONCATENATE(E$1,"*ABBESSES*"),oldOTB!$Y:$Z,2,FALSE),""))))))) | F5: =IFERROR(VLOOKUP(CONCATENATE(F$1,"*ABBESSES*"),oldOTB!$S:$Z,8,FALSE),IFERROR(VLOOKUP(CONCATENATE(F$1,"*ABBESSES*"),oldOTB!$T:$Z,7,FALSE),IFERROR(VLOOKUP(CONCATENATE(F$1,"*ABBESSES*"),oldOTB!$U:$Z,6,FALSE),IFERROR(VLOOKUP(CONCATENATE(F$1,"*ABBESSES*"),oldOTB!$V:$Z,5,FALSE),IFERROR(VLOOKUP(CONCATENATE(F$1,"*ABBESSES*"),oldOTB!$W:$Z,4,FALSE),IFERROR(VLOOKUP(CONCATENATE(F$1,"*ABBESSES*"),oldOTB!$X:$Z,3,FALSE),IFERROR(VLOOKUP(CONCATENATE(F$1,"*ABBESSES*"),oldOTB!$Y:$Z,2,FALSE),""))))))) | G5: =IFERROR(VLOOKUP(CONCATENATE(G$1,"*ABBESSES*"),oldOTB!$S:$Z,8,FALSE),IFERROR(VLOOKUP(CONCATENATE(G$1,"*ABBESSES*"),oldOTB!$T:$Z,7,FALSE),IFERROR(VLOOKUP(CONCATENATE(G$1,"*ABBESSES*"),oldOTB!$U:$Z,6,FALSE),IFERROR(VLOOKUP(CONCATENATE(G$1,"*ABBESSES*"),oldOTB!$V:$Z,5,FALSE),IFERROR(VLOOKUP(CONCATENATE(G$1,"*ABBESSES*"),oldOTB!$W:$Z,4,FALSE),IFERROR(VLOOKUP(CONCATENATE(G$1,"*ABBESSES*"),oldOTB!$X:$Z,3,FALSE),IFERROR(VLOOKUP(CONCATENATE(G$1,"*ABBESSES*"),oldOTB!$Y:$Z,2,FALSE),""))))))) | H5: =IFERROR(VLOOKUP(CONCATENATE(H$1,"*ABBESSES*"),oldOTB!$S:$Z,8,FALSE),IFERROR(VLOOKUP(CONCATENATE(H$1,"*ABBESSES*"),oldOTB!$T:$Z,7,FALSE),IFERROR(VLOOKUP(CONCATENATE(H$1,"*ABBESSES*"),oldOTB!$U:$Z,6,FALSE),IFERROR(VLOOKUP(CONCATENATE(H$1,"*ABBESSES*"),oldOTB!$V:$Z,5,FALSE),IFERROR(VLOOKUP(CONCATENATE(H$1,"*ABBESSES*"),oldOTB!$W:$Z,4,FALSE),IFERROR(VLOOKUP(CONCATENATE(H$1,"*ABBESSES*"),oldOTB!$X:$Z,3,FALSE),IFERROR(VLOOKUP(CONCATENATE(H$1,"*ABBESSES*"),oldOTB!$Y:$Z,2,FALSE),""))))))) | I5: =IFERROR(VLOOKUP(CONCATENATE(I$1,"*ABBESSES*"),oldOTB!$S:$Z,8,FALSE),IFERROR(VLOOKUP(CONCATENATE(I$1,"*ABBESSES*"),oldOTB!$T:$Z,7,FALSE),IFERROR(VLOOKUP(CONCATENATE(I$1,"*ABBESSES*"),oldOTB!$U:$Z,6,FALSE),IFERROR(VLOOKUP(CONCATENATE(I$1,"*ABBESSES*"),oldOTB!$V:$Z,5,FALSE),IFERROR(VLOOKUP(CONCATENATE(I$1,"*ABBESSES*"),oldOTB!$W:$Z,4,FALSE),IFERROR(VLOOKUP(CONCATENATE(I$1,"*ABBESSES*"),oldOTB!$X:$Z,3,FALSE),IFERROR(VLOOKUP(CONCATENATE(I$1,"*ABBESSES*"),oldOTB!$Y:$Z,2,FALSE),""))))))) | J5: =IFERROR(VLOOKUP(CONCATENATE(J$1,"*ABBESSES*"),oldOTB!$S:$Z,8,FALSE),IFERROR(VLOOKUP(CONCATENATE(J$1,"*ABBESSES*"),oldOTB!$T:$Z,7,FALSE),IFERROR(VLOOKUP(CONCATENATE(J$1,"*ABBESSES*"),oldOTB!$U:$Z,6,FALSE),IFERROR(VLOOKUP(CONCATENATE(J$1,"*ABBESSES*"),oldOTB!$V:$Z,5,FALSE),IFERROR(VLOOKUP(CONCATENATE(J$1,"*ABBESSES*"),oldOTB!$W:$Z,4,FALSE),IFERROR(VLOOKUP(CONCATENATE(J$1,"*ABBESSES*"),oldOTB!$X:$Z,3,FALSE),IFERROR(VLOOKUP(CONCATENATE(J$1,"*ABBESSES*"),oldOTB!$Y:$Z,2,FALSE),""))))))) | K5: =IFERROR(VLOOKUP(CONCATENATE(K$1,"*ABBESSES*"),oldOTB!$S:$Z,8,FALSE),IFERROR(VLOOKUP(CONCATENATE(K$1,"*ABBESSES*"),oldOTB!$T:$Z,7,FALSE),IFERROR(VLOOKUP(CONCATENATE(K$1,"*ABBESSES*"),oldOTB!$U:$Z,6,FALSE),IFERROR(VLOOKUP(CONCATENATE(K$1,"*ABBESSES*"),oldOTB!$V:$Z,5,FALSE),IFERROR(VLOOKUP(CONCATENATE(K$1,"*ABBESSES*"),oldOTB!$W:$Z,4,FALSE),IFERROR(VLOOKUP(CONCATENATE(K$1,"*ABBESSES*"),oldOTB!$X:$Z,3,FALSE),IFERROR(VLOOKUP(CONCATENATE(K$1,"*ABBESSES*"),oldOTB!$Y:$Z,2,FALSE),""))))))) -> INTERNE pax en | L5: =IFERROR(VLOOKUP(CONCATENATE(L$1,"*ABBESSES*"),oldOTB!$S:$Z,8,FALSE),IFERROR(VLOOKUP(CONCATENATE(L$1,"*ABBESSES*"),oldOTB!$T:$Z,7,FALSE),IFERROR(VLOOKUP(CONCATENATE(L$1,"*ABBESSES*"),oldOTB!$U:$Z,6,FALSE),IFERROR(VLOOKUP(CONCATENATE(L$1,"*ABBESSES*"),oldOTB!$V:$Z,5,FALSE),IFERROR(VLOOKUP(CONCATENATE(L$1,"*ABBESSES*"),oldOTB!$W:$Z,4,FALSE),IFERROR(VLOOKUP(CONCATENATE(L$1,"*ABBESSES*"),oldOTB!$X:$Z,3,FALSE),IFERROR(VLOOKUP(CONCATENATE(L$1,"*ABBESSES*"),oldOTB!$Y:$Z,2,FALSE),""))))))) | ... AI5: =IFERROR(VLOOKUP(CONCATENATE(AI$1,"*ABBESSES*"),oldOTB!$S:$Z,8,FALSE),IFERROR(VLOOKUP(CONCATENATE(AI$1,"*ABBESSES*"),oldOTB!$T:$Z,7,FALSE),IFERROR(VLOOKUP(CONCATENATE(AI$1,"*ABBESSES*"),oldOTB!$U:$Z,6,FALSE),IFERROR(VLOOKUP(CONCATENATE(AI$1,"*ABBESSES*"),oldOTB!$V:$Z,5,FALSE),IFERROR(VLOOKUP(CONCATENATE(AI$1,"*ABBESSES*"),oldOTB!$W:$Z,4,FALSE),IFERROR(VLOOKUP(CONCATENATE(AI$1,"*ABBESSES*"),oldOTB!$X:$Z,3,FALSE),IFERROR(VLOOKUP(CONCATENATE(AI$1,"*ABBESSES*"),oldOTB!$Y:$Z,2,FALSE),""))))))) | AJ5: ABBESSES | AK5: =CONCATENATE(E$1,E5) -> 42370 | AL5: =CONCATENATE(F$1,F5) -> 42371 | AM5: =CONCATENATE(G$1,G5) -> 42372 | AN5: =CONCATENATE(H$1,H5) -> 42373 | AO5: =CONCATENATE(I$1,I5) -> 42374 | AP5: =CONCATENATE(J$1,J5) -> 42375 | AQ5: =CONCATENATE(K$1,K5) -> 42376INTERNE pax en | AR5: =CONCATENATE(L$1,L5) -> 42377 | ... BO5: =CONCATENATE(AI$1,AI5) -> 42400
A6: DAUPHINE | E6: =IFERROR(VLOOKUP(CONCATENATE(E$1,"*DAUPHINE*"),oldOTB!$S:$Z,8,FALSE),IFERROR(VLOOKUP(CONCATENATE(E$1,"*DAUPHINE*"),oldOTB!$T:$Z,7,FALSE),IFERROR(VLOOKUP(CONCATENATE(E$1,"*DAUPHINE*"),oldOTB!$U:$Z,6,FALSE),IFERROR(VLOOKUP(CONCATENATE(E$1,"*DAUPHINE*"),oldOTB!$V:$Z,5,FALSE),IFERROR(VLOOKUP(CONCATENATE(E$1,"*DAUPHINE*"),oldOTB!$W:$Z,4,FALSE),IFERROR(VLOOKUP(CONCATENATE(E$1,"*DAUPHINE*"),oldOTB!$X:$Z,3,FALSE),IFERROR(VLOOKUP(CONCATENATE(E$1,"*DAUPHINE*"),oldOTB!$Y:$Z,2,FALSE),""))))))) | F6: =IFERROR(VLOOKUP(CONCATENATE(F$1,"*DAUPHINE*"),oldOTB!$S:$Z,8,FALSE),IFERROR(VLOOKUP(CONCATENATE(F$1,"*DAUPHINE*"),oldOTB!$T:$Z,7,FALSE),IFERROR(VLOOKUP(CONCATENATE(F$1,"*DAUPHINE*"),oldOTB!$U:$Z,6,FALSE),IFERROR(VLOOKUP(CONCATENATE(F$1,"*DAUPHINE*"),oldOTB!$V:$Z,5,FALSE),IFERROR(VLOOKUP(CONCATENATE(F$1,"*DAUPHINE*"),oldOTB!$W:$Z,4,FALSE),IFERROR(VLOOKUP(CONCATENATE(F$1,"*DAUPHINE*"),oldOTB!$X:$Z,3,FALSE),IFERROR(VLOOKUP(CONCATENATE(F$1,"*DAUPHINE*"),oldOTB!$Y:$Z,2,FALSE),""))))))) | G6: =IFERROR(VLOOKUP(CONCATENATE(G$1,"*DAUPHINE*"),oldOTB!$S:$Z,8,FALSE),IFERROR(VLOOKUP(CONCATENATE(G$1,"*DAUPHINE*"),oldOTB!$T:$Z,7,FALSE),IFERROR(VLOOKUP(CONCATENATE(G$1,"*DAUPHINE*"),oldOTB!$U:$Z,6,FALSE),IFERROR(VLOOKUP(CONCATENATE(G$1,"*DAUPHINE*"),oldOTB!$V:$Z,5,FALSE),IFERROR(VLOOKUP(CONCATENATE(G$1,"*DAUPHINE*"),oldOTB!$W:$Z,4,FALSE),IFERROR(VLOOKUP(CONCATENATE(G$1,"*DAUPHINE*"),oldOTB!$X:$Z,3,FALSE),IFERROR(VLOOKUP(CONCATENATE(G$1,"*DAUPHINE*"),oldOTB!$Y:$Z,2,FALSE),""))))))) | H6: =IFERROR(VLOOKUP(CONCATENATE(H$1,"*DAUPHINE*"),oldOTB!$S:$Z,8,FALSE),IFERROR(VLOOKUP(CONCATENATE(H$1,"*DAUPHINE*"),oldOTB!$T:$Z,7,FALSE),IFERROR(VLOOKUP(CONCATENATE(H$1,"*DAUPHINE*"),oldOTB!$U:$Z,6,FALSE),IFERROR(VLOOKUP(CONCATENATE(H$1,"*DAUPHINE*"),oldOTB!$V:$Z,5,FALSE),IFERROR(VLOOKUP(CONCATENATE(H$1,"*DAUPHINE*"),oldOTB!$W:$Z,4,FALSE),IFERROR(VLOOKUP(CONCATENATE(H$1,"*DAUPHINE*"),oldOTB!$X:$Z,3,FALSE),IFERROR(VLOOKUP(CONCATENATE(H$1,"*DAUPHINE*"),oldOTB!$Y:$Z,2,FALSE),""))))))) | I6: =IFERROR(VLOOKUP(CONCATENATE(I$1,"*DAUPHINE*"),oldOTB!$S:$Z,8,FALSE),IFERROR(VLOOKUP(CONCATENATE(I$1,"*DAUPHINE*"),oldOTB!$T:$Z,7,FALSE),IFERROR(VLOOKUP(CONCATENATE(I$1,"*DAUPHINE*"),oldOTB!$U:$Z,6,FALSE),IFERROR(VLOOKUP(CONCATENATE(I$1,"*DAUPHINE*"),oldOTB!$V:$Z,5,FALSE),IFERROR(VLOOKUP(CONCATENATE(I$1,"*DAUPHINE*"),oldOTB!$W:$Z,4,FALSE),IFERROR(VLOOKUP(CONCATENATE(I$1,"*DAUPHINE*"),oldOTB!$X:$Z,3,FALSE),IFERROR(VLOOKUP(CONCATENATE(I$1,"*DAUPHINE*"),oldOTB!$Y:$Z,2,FALSE),""))))))) | J6: =IFERROR(VLOOKUP(CONCATENATE(J$1,"*DAUPHINE*"),oldOTB!$S:$Z,8,FALSE),IFERROR(VLOOKUP(CONCATENATE(J$1,"*DAUPHINE*"),oldOTB!$T:$Z,7,FALSE),IFERROR(VLOOKUP(CONCATENATE(J$1,"*DAUPHINE*"),oldOTB!$U:$Z,6,FALSE),IFERROR(VLOOKUP(CONCATENATE(J$1,"*DAUPHINE*"),oldOTB!$V:$Z,5,FALSE),IFERROR(VLOOKUP(CONCATENATE(J$1,"*DAUPHINE*"),oldOTB!$W:$Z,4,FALSE),IFERROR(VLOOKUP(CONCATENATE(J$1,"*DAUPHINE*"),oldOTB!$X:$Z,3,FALSE),IFERROR(VLOOKUP(CONCATENATE(J$1,"*DAUPHINE*"),oldOTB!$Y:$Z,2,FALSE),""))))))) | K6: =IFERROR(VLOOKUP(CONCATENATE(K$1,"*DAUPHINE*"),oldOTB!$S:$Z,8,FALSE),IFERROR(VLOOKUP(CONCATENATE(K$1,"*DAUPHINE*"),oldOTB!$T:$Z,7,FALSE),IFERROR(VLOOKUP(CONCATENATE(K$1,"*DAUPHINE*"),oldOTB!$U:$Z,6,FALSE),IFERROR(VLOOKUP(CONCATENATE(K$1,"*DAUPHINE*"),oldOTB!$V:$Z,5,FALSE),IFERROR(VLOOKUP(CONCATENATE(K$1,"*DAUPHINE*"),oldOTB!$W:$Z,4,FALSE),IFERROR(VLOOKUP(CONCATENATE(K$1,"*DAUPHINE*"),oldOTB!$X:$Z,3,FALSE),IFERROR(VLOOKUP(CONCATENATE(K$1,"*DAUPHINE*"),oldOTB!$Y:$Z,2,FALSE),""))))))) | L6: =IFERROR(VLOOKUP(CONCATENATE(L$1,"*DAUPHINE*"),oldOTB!$S:$Z,8,FALSE),IFERROR(VLOOKUP(CONCATENATE(L$1,"*DAUPHINE*"),oldOTB!$T:$Z,7,FALSE),IFERROR(VLOOKUP(CONCATENATE(L$1,"*DAUPHINE*"),oldOTB!$U:$Z,6,FALSE),IFERROR(VLOOKUP(CONCATENATE(L$1,"*DAUPHINE*"),oldOTB!$V:$Z,5,FALSE),IFERROR(VLOOKUP(CONCATENATE(L$1,"*DAUPHINE*"),oldOTB!$W:$Z,4,FALSE),IFERROR(VLOOKUP(CONCATENATE(L$1,"*DAUPHINE*"),oldOTB!$X:$Z,3,FALSE),IFERROR(VLOOKUP(CONCATENATE(L$1,"*DAUPHINE*"),oldOTB!$Y:$Z,2,FALSE),""))))))) | ... AI6: =IFERROR(VLOOKUP(CONCATENATE(AI$1,"*DAUPHINE*"),oldOTB!$S:$Z,8,FALSE),IFERROR(VLOOKUP(CONCATENATE(AI$1,"*DAUPHINE*"),oldOTB!$T:$Z,7,FALSE),IFERROR(VLOOKUP(CONCATENATE(AI$1,"*DAUPHINE*"),oldOTB!$U:$Z,6,FALSE),IFERROR(VLOOKUP(CONCATENATE(AI$1,"*DAUPHINE*"),oldOTB!$V:$Z,5,FALSE),IFERROR(VLOOKUP(CONCATENATE(AI$1,"*DAUPHINE*"),oldOTB!$W:$Z,4,FALSE),IFERROR(VLOOKUP(CONCATENATE(AI$1,"*DAUPHINE*"),oldOTB!$X:$Z,3,FALSE),IFERROR(VLOOKUP(CONCATENATE(AI$1,"*DAUPHINE*"),oldOTB!$Y:$Z,2,FALSE),""))))))) | AJ6: DAUPHINE | AK6: =CONCATENATE(E$1,E6) -> 42370 | AL6: =CONCATENATE(F$1,F6) -> 42371 | AM6: =CONCATENATE(G$1,G6) -> 42372 | AN6: =CONCATENATE(H$1,H6) -> 42373 | AO6: =CONCATENATE(I$1,I6) -> 42374 | AP6: =CONCATENATE(J$1,J6) -> 42375 | AQ6: =CONCATENATE(K$1,K6) -> 42376 | AR6: =CONCATENATE(L$1,L6) -> 42377 | ... BO6: =CONCATENATE(AI$1,AI6) -> 42400
A7: WAGRAM | E7: =IFERROR(VLOOKUP(CONCATENATE(E$1,"*WAGRAM*"),oldOTB!$S:$Z,8,FALSE),IFERROR(VLOOKUP(CONCATENATE(E$1,"*WAGRAM*"),oldOTB!$T:$Z,7,FALSE),IFERROR(VLOOKUP(CONCATENATE(E$1,"*WAGRAM*"),oldOTB!$U:$Z,6,FALSE),IFERROR(VLOOKUP(CONCATENATE(E$1,"*WAGRAM*"),oldOTB!$V:$Z,5,FALSE),IFERROR(VLOOKUP(CONCATENATE(E$1,"*WAGRAM*"),oldOTB!$W:$Z,4,FALSE),IFERROR(VLOOKUP(CONCATENATE(E$1,"*WAGRAM*"),oldOTB!$X:$Z,3,FALSE),IFERROR(VLOOKUP(CONCATENATE(E$1,"*WAGRAM*"),oldOTB!$Y:$Z,2,FALSE),""))))))) | F7: =IFERROR(VLOOKUP(CONCATENATE(F$1,"*WAGRAM*"),oldOTB!$S:$Z,8,FALSE),IFERROR(VLOOKUP(CONCATENATE(F$1,"*WAGRAM*"),oldOTB!$T:$Z,7,FALSE),IFERROR(VLOOKUP(CONCATENATE(F$1,"*WAGRAM*"),oldOTB!$U:$Z,6,FALSE),IFERROR(VLOOKUP(CONCATENATE(F$1,"*WAGRAM*"),oldOTB!$V:$Z,5,FALSE),IFERROR(VLOOKUP(CONCATENATE(F$1,"*WAGRAM*"),oldOTB!$W:$Z,4,FALSE),IFERROR(VLOOKUP(CONCATENATE(F$1,"*WAGRAM*"),oldOTB!$X:$Z,3,FALSE),IFERROR(VLOOKUP(CONCATENATE(F$1,"*WAGRAM*"),oldOTB!$Y:$Z,2,FALSE),""))))))) | G7: =IFERROR(VLOOKUP(CONCATENATE(G$1,"*WAGRAM*"),oldOTB!$S:$Z,8,FALSE),IFERROR(VLOOKUP(CONCATENATE(G$1,"*WAGRAM*"),oldOTB!$T:$Z,7,FALSE),IFERROR(VLOOKUP(CONCATENATE(G$1,"*WAGRAM*"),oldOTB!$U:$Z,6,FALSE),IFERROR(VLOOKUP(CONCATENATE(G$1,"*WAGRAM*"),oldOTB!$V:$Z,5,FALSE),IFERROR(VLOOKUP(CONCATENATE(G$1,"*WAGRAM*"),oldOTB!$W:$Z,4,FALSE),IFERROR(VLOOKUP(CONCATENATE(G$1,"*WAGRAM*"),oldOTB!$X:$Z,3,FALSE),IFERROR(VLOOKUP(CONCATENATE(G$1,"*WAGRAM*"),oldOTB!$Y:$Z,2,FALSE),""))))))) | H7: =IFERROR(VLOOKUP(CONCATENATE(H$1,"*WAGRAM*"),oldOTB!$S:$Z,8,FALSE),IFERROR(VLOOKUP(CONCATENATE(H$1,"*WAGRAM*"),oldOTB!$T:$Z,7,FALSE),IFERROR(VLOOKUP(CONCATENATE(H$1,"*WAGRAM*"),oldOTB!$U:$Z,6,FALSE),IFERROR(VLOOKUP(CONCATENATE(H$1,"*WAGRAM*"),oldOTB!$V:$Z,5,FALSE),IFERROR(VLOOKUP(CONCATENATE(H$1,"*WAGRAM*"),oldOTB!$W:$Z,4,FALSE),IFERROR(VLOOKUP(CONCATENATE(H$1,"*WAGRAM*"),oldOTB!$X:$Z,3,FALSE),IFERROR(VLOOKUP(CONCATENATE(H$1,"*WAGRAM*"),oldOTB!$Y:$Z,2,FALSE),""))))))) | I7: =IFERROR(VLOOKUP(CONCATENATE(I$1,"*WAGRAM*"),oldOTB!$S:$Z,8,FALSE),IFERROR(VLOOKUP(CONCATENATE(I$1,"*WAGRAM*"),oldOTB!$T:$Z,7,FALSE),IFERROR(VLOOKUP(CONCATENATE(I$1,"*WAGRAM*"),oldOTB!$U:$Z,6,FALSE),IFERROR(VLOOKUP(CONCATENATE(I$1,"*WAGRAM*"),oldOTB!$V:$Z,5,FALSE),IFERROR(VLOOKUP(CONCATENATE(I$1,"*WAGRAM*"),oldOTB!$W:$Z,4,FALSE),IFERROR(VLOOKUP(CONCATENATE(I$1,"*WAGRAM*"),oldOTB!$X:$Z,3,FALSE),IFERROR(VLOOKUP(CONCATENATE(I$1,"*WAGRAM*"),oldOTB!$Y:$Z,2,FALSE),""))))))) | J7: =IFERROR(VLOOKUP(CONCATENATE(J$1,"*WAGRAM*"),oldOTB!$S:$Z,8,FALSE),IFERROR(VLOOKUP(CONCATENATE(J$1,"*WAGRAM*"),oldOTB!$T:$Z,7,FALSE),IFERROR(VLOOKUP(CONCATENATE(J$1,"*WAGRAM*"),oldOTB!$U:$Z,6,FALSE),IFERROR(VLOOKUP(CONCATENATE(J$1,"*WAGRAM*"),oldOTB!$V:$Z,5,FALSE),IFERROR(VLOOKUP(CONCATENATE(J$1,"*WAGRAM*"),oldOTB!$W:$Z,4,FALSE),IFERROR(VLOOKUP(CONCATENATE(J$1,"*WAGRAM*"),oldOTB!$X:$Z,3,FALSE),IFERROR(VLOOKUP(CONCATENATE(J$1,"*WAGRAM*"),oldOTB!$Y:$Z,2,FALSE),""))))))) | K7: =IFERROR(VLOOKUP(CONCATENATE(K$1,"*WAGRAM*"),oldOTB!$S:$Z,8,FALSE),IFERROR(VLOOKUP(CONCATENATE(K$1,"*WAGRAM*"),oldOTB!$T:$Z,7,FALSE),IFERROR(VLOOKUP(CONCATENATE(K$1,"*WAGRAM*"),oldOTB!$U:$Z,6,FALSE),IFERROR(VLOOKUP(CONCATENATE(K$1,"*WAGRAM*"),oldOTB!$V:$Z,5,FALSE),IFERROR(VLOOKUP(CONCATENATE(K$1,"*WAGRAM*"),oldOTB!$W:$Z,4,FALSE),IFERROR(VLOOKUP(CONCATENATE(K$1,"*WAGRAM*"),oldOTB!$X:$Z,3,FALSE),IFERROR(VLOOKUP(CONCATENATE(K$1,"*WAGRAM*"),oldOTB!$Y:$Z,2,FALSE),""))))))) | L7: =IFERROR(VLOOKUP(CONCATENATE(L$1,"*WAGRAM*"),oldOTB!$S:$Z,8,FALSE),IFERROR(VLOOKUP(CONCATENATE(L$1,"*WAGRAM*"),oldOTB!$T:$Z,7,FALSE),IFERROR(VLOOKUP(CONCATENATE(L$1,"*WAGRAM*"),oldOTB!$U:$Z,6,FALSE),IFERROR(VLOOKUP(CONCATENATE(L$1,"*WAGRAM*"),oldOTB!$V:$Z,5,FALSE),IFERROR(VLOOKUP(CONCATENATE(L$1,"*WAGRAM*"),oldOTB!$W:$Z,4,FALSE),IFERROR(VLOOKUP(CONCATENATE(L$1,"*WAGRAM*"),oldOTB!$X:$Z,3,FALSE),IFERROR(VLOOKUP(CONCATENATE(L$1,"*WAGRAM*"),oldOTB!$Y:$Z,2,FALSE),""))))))) | ... AI7: =IFERROR(VLOOKUP(CONCATENATE(AI$1,"*WAGRAM*"),oldOTB!$S:$Z,8,FALSE),IFERROR(VLOOKUP(CONCATENATE(AI$1,"*WAGRAM*"),oldOTB!$T:$Z,7,FALSE),IFERROR(VLOOKUP(CONCATENATE(AI$1,"*WAGRAM*"),oldOTB!$U:$Z,6,FALSE),IFERROR(VLOOKUP(CONCATENATE(AI$1,"*WAGRAM*"),oldOTB!$V:$Z,5,FALSE),IFERROR(VLOOKUP(CONCATENATE(AI$1,"*WAGRAM*"),oldOTB!$W:$Z,4,FALSE),IFERROR(VLOOKUP(CONCATENATE(AI$1,"*WAGRAM*"),oldOTB!$X:$Z,3,FALSE),IFERROR(VLOOKUP(CONCATENATE(AI$1,"*WAGRAM*"),oldOTB!$Y:$Z,2,FALSE),""))))))) | AJ7: WAGRAM | AK7: =CONCATENATE(E$1,E7) -> 42370 | AL7: =CONCATENATE(F$1,F7) -> 42371 | AM7: =CONCATENATE(G$1,G7) -> 42372 | AN7: =CONCATENATE(H$1,H7) -> 42373 | AO7: =CONCATENATE(I$1,I7) -> 42374 | AP7: =CONCATENATE(J$1,J7) -> 42375 | AQ7: =CONCATENATE(K$1,K7) -> 42376 | AR7: =CONCATENATE(L$1,L7) -> 42377 | ... BO7: =CONCATENATE(AI$1,AI7) -> 42400
A8: VENDOME | E8: =IFERROR(VLOOKUP(CONCATENATE(E$1,"*VENDOME*"),oldOTB!$S:$Z,8,FALSE),IFERROR(VLOOKUP(CONCATENATE(E$1,"*VENDOME*"),oldOTB!$T:$Z,7,FALSE),IFERROR(VLOOKUP(CONCATENATE(E$1,"*VENDOME*"),oldOTB!$U:$Z,6,FALSE),IFERROR(VLOOKUP(CONCATENATE(E$1,"*VENDOME*"),oldOTB!$V:$Z,5,FALSE),IFERROR(VLOOKUP(CONCATENATE(E$1,"*VENDOME*"),oldOTB!$W:$Z,4,FALSE),IFERROR(VLOOKUP(CONCATENATE(E$1,"*VENDOME*"),oldOTB!$X:$Z,3,FALSE),IFERROR(VLOOKUP(CONCATENATE(E$1,"*VENDOME*"),oldOTB!$Y:$Z,2,FALSE),""))))))) | F8: =IFERROR(VLOOKUP(CONCATENATE(F$1,"*VENDOME*"),oldOTB!$S:$Z,8,FALSE),IFERROR(VLOOKUP(CONCATENATE(F$1,"*VENDOME*"),oldOTB!$T:$Z,7,FALSE),IFERROR(VLOOKUP(CONCATENATE(F$1,"*VENDOME*"),oldOTB!$U:$Z,6,FALSE),IFERROR(VLOOKUP(CONCATENATE(F$1,"*VENDOME*"),oldOTB!$V:$Z,5,FALSE),IFERROR(VLOOKUP(CONCATENATE(F$1,"*VENDOME*"),oldOTB!$W:$Z,4,FALSE),IFERROR(VLOOKUP(CONCATENATE(F$1,"*VENDOME*"),oldOTB!$X:$Z,3,FALSE),IFERROR(VLOOKUP(CONCATENATE(F$1,"*VENDOME*"),oldOTB!$Y:$Z,2,FALSE),""))))))) | G8: =IFERROR(VLOOKUP(CONCATENATE(G$1,"*VENDOME*"),oldOTB!$S:$Z,8,FALSE),IFERROR(VLOOKUP(CONCATENATE(G$1,"*VENDOME*"),oldOTB!$T:$Z,7,FALSE),IFERROR(VLOOKUP(CONCATENATE(G$1,"*VENDOME*"),oldOTB!$U:$Z,6,FALSE),IFERROR(VLOOKUP(CONCATENATE(G$1,"*VENDOME*"),oldOTB!$V:$Z,5,FALSE),IFERROR(VLOOKUP(CONCATENATE(G$1,"*VENDOME*"),oldOTB!$W:$Z,4,FALSE),IFERROR(VLOOKUP(CONCATENATE(G$1,"*VENDOME*"),oldOTB!$X:$Z,3,FALSE),IFERROR(VLOOKUP(CONCATENATE(G$1,"*VENDOME*"),oldOTB!$Y:$Z,2,FALSE),""))))))) | H8: =IFERROR(VLOOKUP(CONCATENATE(H$1,"*VENDOME*"),oldOTB!$S:$Z,8,FALSE),IFERROR(VLOOKUP(CONCATENATE(H$1,"*VENDOME*"),oldOTB!$T:$Z,7,FALSE),IFERROR(VLOOKUP(CONCATENATE(H$1,"*VENDOME*"),oldOTB!$U:$Z,6,FALSE),IFERROR(VLOOKUP(CONCATENATE(H$1,"*VENDOME*"),oldOTB!$V:$Z,5,FALSE),IFERROR(VLOOKUP(CONCATENATE(H$1,"*VENDOME*"),oldOTB!$W:$Z,4,FALSE),IFERROR(VLOOKUP(CONCATENATE(H$1,"*VENDOME*"),oldOTB!$X:$Z,3,FALSE),IFERROR(VLOOKUP(CONCATENATE(H$1,"*VENDOME*"),oldOTB!$Y:$Z,2,FALSE),""))))))) | I8: =IFERROR(VLOOKUP(CONCATENATE(I$1,"*VENDOME*"),oldOTB!$S:$Z,8,FALSE),IFERROR(VLOOKUP(CONCATENATE(I$1,"*VENDOME*"),oldOTB!$T:$Z,7,FALSE),IFERROR(VLOOKUP(CONCATENATE(I$1,"*VENDOME*"),oldOTB!$U:$Z,6,FALSE),IFERROR(VLOOKUP(CONCATENATE(I$1,"*VENDOME*"),oldOTB!$V:$Z,5,FALSE),IFERROR(VLOOKUP(CONCATENATE(I$1,"*VENDOME*"),oldOTB!$W:$Z,4,FALSE),IFERROR(VLOOKUP(CONCATENATE(I$1,"*VENDOME*"),oldOTB!$X:$Z,3,FALSE),IFERROR(VLOOKUP(CONCATENATE(I$1,"*VENDOME*"),oldOTB!$Y:$Z,2,FALSE),""))))))) | J8: =IFERROR(VLOOKUP(CONCATENATE(J$1,"*VENDOME*"),oldOTB!$S:$Z,8,FALSE),IFERROR(VLOOKUP(CONCATENATE(J$1,"*VENDOME*"),oldOTB!$T:$Z,7,FALSE),IFERROR(VLOOKUP(CONCATENATE(J$1,"*VENDOME*"),oldOTB!$U:$Z,6,FALSE),IFERROR(VLOOKUP(CONCATENATE(J$1,"*VENDOME*"),oldOTB!$V:$Z,5,FALSE),IFERROR(VLOOKUP(CONCATENATE(J$1,"*VENDOME*"),oldOTB!$W:$Z,4,FALSE),IFERROR(VLOOKUP(CONCATENATE(J$1,"*VENDOME*"),oldOTB!$X:$Z,3,FALSE),IFERROR(VLOOKUP(CONCATENATE(J$1,"*VENDOME*"),oldOTB!$Y:$Z,2,FALSE),""))))))) | K8: =IFERROR(VLOOKUP(CONCATENATE(K$1,"*VENDOME*"),oldOTB!$S:$Z,8,FALSE),IFERROR(VLOOKUP(CONCATENATE(K$1,"*VENDOME*"),oldOTB!$T:$Z,7,FALSE),IFERROR(VLOOKUP(CONCATENATE(K$1,"*VENDOME*"),oldOTB!$U:$Z,6,FALSE),IFERROR(VLOOKUP(CONCATENATE(K$1,"*VENDOME*"),oldOTB!$V:$Z,5,FALSE),IFERROR(VLOOKUP(CONCATENATE(K$1,"*VENDOME*"),oldOTB!$W:$Z,4,FALSE),IFERROR(VLOOKUP(CONCATENATE(K$1,"*VENDOME*"),oldOTB!$X:$Z,3,FALSE),IFERROR(VLOOKUP(CONCATENATE(K$1,"*VENDOME*"),oldOTB!$Y:$Z,2,FALSE),""))))))) | L8: =IFERROR(VLOOKUP(CONCATENATE(L$1,"*VENDOME*"),oldOTB!$S:$Z,8,FALSE),IFERROR(VLOOKUP(CONCATENATE(L$1,"*VENDOME*"),oldOTB!$T:$Z,7,FALSE),IFERROR(VLOOKUP(CONCATENATE(L$1,"*VENDOME*"),oldOTB!$U:$Z,6,FALSE),IFERROR(VLOOKUP(CONCATENATE(L$1,"*VENDOME*"),oldOTB!$V:$Z,5,FALSE),IFERROR(VLOOKUP(CONCATENATE(L$1,"*VENDOME*"),oldOTB!$W:$Z,4,FALSE),IFERROR(VLOOKUP(CONCATENATE(L$1,"*VENDOME*"),oldOTB!$X:$Z,3,FALSE),IFERROR(VLOOKUP(CONCATENATE(L$1,"*VENDOME*"),oldOTB!$Y:$Z,2,FALSE),""))))))) | ... AI8: =IFERROR(VLOOKUP(CONCATENATE(AI$1,"*VENDOME*"),oldOTB!$S:$Z,8,FALSE),IFERROR(VLOOKUP(CONCATENATE(AI$1,"*VENDOME*"),oldOTB!$T:$Z,7,FALSE),IFERROR(VLOOKUP(CONCATENATE(AI$1,"*VENDOME*"),oldOTB!$U:$Z,6,FALSE),IFERROR(VLOOKUP(CONCATENATE(AI$1,"*VENDOME*"),oldOTB!$V:$Z,5,FALSE),IFERROR(VLOOKUP(CONCATENATE(AI$1,"*VENDOME*"),oldOTB!$W:$Z,4,FALSE),IFERROR(VLOOKUP(CONCATENATE(AI$1,"*VENDOME*"),oldOTB!$X:$Z,3,FALSE),IFERROR(VLOOKUP(CONCATENATE(AI$1,"*VENDOME*"),oldOTB!$Y:$Z,2,FALSE),""))))))) | AJ8: VENDOME | AK8: =CONCATENATE(E$1,E8) -> 42370 | AL8: =CONCATENATE(F$1,F8) -> 42371 | AM8: =CONCATENATE(G$1,G8) -> 42372 | AN8: =CONCATENATE(H$1,H8) -> 42373 | AO8: =CONCATENATE(I$1,I8) -> 42374 | AP8: =CONCATENATE(J$1,J8) -> 42375 | AQ8: =CONCATENATE(K$1,K8) -> 42376 | AR8: =CONCATENATE(L$1,L8) -> 42377 | ... BO8: =CONCATENATE(AI$1,AI8) -> 42400
A9: MADELEINE | E9: =IFERROR(VLOOKUP(CONCATENATE(E$1,"*MADELEINE*"),oldOTB!$S:$Z,8,FALSE),IFERROR(VLOOKUP(CONCATENATE(E$1,"*MADELEINE*"),oldOTB!$T:$Z,7,FALSE),IFERROR(VLOOKUP(CONCATENATE(E$1,"*MADELEINE*"),oldOTB!$U:$Z,6,FALSE),IFERROR(VLOOKUP(CONCATENATE(E$1,"*MADELEINE*"),oldOTB!$V:$Z,5,FALSE),IFERROR(VLOOKUP(CONCATENATE(E$1,"*MADELEINE*"),oldOTB!$W:$Z,4,FALSE),IFERROR(VLOOKUP(CONCATENATE(E$1,"*MADELEINE*"),oldOTB!$X:$Z,3,FALSE),IFERROR(VLOOKUP(CONCATENATE(E$1,"*MADELEINE*"),oldOTB!$Y:$Z,2,FALSE),""))))))) | F9: =IFERROR(VLOOKUP(CONCATENATE(F$1,"*MADELEINE*"),oldOTB!$S:$Z,8,FALSE),IFERROR(VLOOKUP(CONCATENATE(F$1,"*MADELEINE*"),oldOTB!$T:$Z,7,FALSE),IFERROR(VLOOKUP(CONCATENATE(F$1,"*MADELEINE*"),oldOTB!$U:$Z,6,FALSE),IFERROR(VLOOKUP(CONCATENATE(F$1,"*MADELEINE*"),oldOTB!$V:$Z,5,FALSE),IFERROR(VLOOKUP(CONCATENATE(F$1,"*MADELEINE*"),oldOTB!$W:$Z,4,FALSE),IFERROR(VLOOKUP(CONCATENATE(F$1,"*MADELEINE*"),oldOTB!$X:$Z,3,FALSE),IFERROR(VLOOKUP(CONCATENATE(F$1,"*MADELEINE*"),oldOTB!$Y:$Z,2,FALSE),""))))))) | G9: =IFERROR(VLOOKUP(CONCATENATE(G$1,"*MADELEINE*"),oldOTB!$S:$Z,8,FALSE),IFERROR(VLOOKUP(CONCATENATE(G$1,"*MADELEINE*"),oldOTB!$T:$Z,7,FALSE),IFERROR(VLOOKUP(CONCATENATE(G$1,"*MADELEINE*"),oldOTB!$U:$Z,6,FALSE),IFERROR(VLOOKUP(CONCATENATE(G$1,"*MADELEINE*"),oldOTB!$V:$Z,5,FALSE),IFERROR(VLOOKUP(CONCATENATE(G$1,"*MADELEINE*"),oldOTB!$W:$Z,4,FALSE),IFERROR(VLOOKUP(CONCATENATE(G$1,"*MADELEINE*"),oldOTB!$X:$Z,3,FALSE),IFERROR(VLOOKUP(CONCATENATE(G$1,"*MADELEINE*"),oldOTB!$Y:$Z,2,FALSE),""))))))) | H9: =IFERROR(VLOOKUP(CONCATENATE(H$1,"*MADELEINE*"),oldOTB!$S:$Z,8,FALSE),IFERROR(VLOOKUP(CONCATENATE(H$1,"*MADELEINE*"),oldOTB!$T:$Z,7,FALSE),IFERROR(VLOOKUP(CONCATENATE(H$1,"*MADELEINE*"),oldOTB!$U:$Z,6,FALSE),IFERROR(VLOOKUP(CONCATENATE(H$1,"*MADELEINE*"),oldOTB!$V:$Z,5,FALSE),IFERROR(VLOOKUP(CONCATENATE(H$1,"*MADELEINE*"),oldOTB!$W:$Z,4,FALSE),IFERROR(VLOOKUP(CONCATENATE(H$1,"*MADELEINE*"),oldOTB!$X:$Z,3,FALSE),IFERROR(VLOOKUP(CONCATENATE(H$1,"*MADELEINE*"),oldOTB!$Y:$Z,2,FALSE),""))))))) | I9: =IFERROR(VLOOKUP(CONCATENATE(I$1,"*MADELEINE*"),oldOTB!$S:$Z,8,FALSE),IFERROR(VLOOKUP(CONCATENATE(I$1,"*MADELEINE*"),oldOTB!$T:$Z,7,FALSE),IFERROR(VLOOKUP(CONCATENATE(I$1,"*MADELEINE*"),oldOTB!$U:$Z,6,FALSE),IFERROR(VLOOKUP(CONCATENATE(I$1,"*MADELEINE*"),oldOTB!$V:$Z,5,FALSE),IFERROR(VLOOKUP(CONCATENATE(I$1,"*MADELEINE*"),oldOTB!$W:$Z,4,FALSE),IFERROR(VLOOKUP(CONCATENATE(I$1,"*MADELEINE*"),oldOTB!$X:$Z,3,FALSE),IFERROR(VLOOKUP(CONCATENATE(I$1,"*MADELEINE*"),oldOTB!$Y:$Z,2,FALSE),""))))))) | J9: =IFERROR(VLOOKUP(CONCATENATE(J$1,"*MADELEINE*"),oldOTB!$S:$Z,8,FALSE),IFERROR(VLOOKUP(CONCATENATE(J$1,"*MADELEINE*"),oldOTB!$T:$Z,7,FALSE),IFERROR(VLOOKUP(CONCATENATE(J$1,"*MADELEINE*"),oldOTB!$U:$Z,6,FALSE),IFERROR(VLOOKUP(CONCATENATE(J$1,"*MADELEINE*"),oldOTB!$V:$Z,5,FALSE),IFERROR(VLOOKUP(CONCATENATE(J$1,"*MADELEINE*"),oldOTB!$W:$Z,4,FALSE),IFERROR(VLOOKUP(CONCATENATE(J$1,"*MADELEINE*"),oldOTB!$X:$Z,3,FALSE),IFERROR(VLOOKUP(CONCATENATE(J$1,"*MADELEINE*"),oldOTB!$Y:$Z,2,FALSE),""))))))) | K9: =IFERROR(VLOOKUP(CONCATENATE(K$1,"*MADELEINE*"),oldOTB!$S:$Z,8,FALSE),IFERROR(VLOOKUP(CONCATENATE(K$1,"*MADELEINE*"),oldOTB!$T:$Z,7,FALSE),IFERROR(VLOOKUP(CONCATENATE(K$1,"*MADELEINE*"),oldOTB!$U:$Z,6,FALSE),IFERROR(VLOOKUP(CONCATENATE(K$1,"*MADELEINE*"),oldOTB!$V:$Z,5,FALSE),IFERROR(VLOOKUP(CONCATENATE(K$1,"*MADELEINE*"),oldOTB!$W:$Z,4,FALSE),IFERROR(VLOOKUP(CONCATENATE(K$1,"*MADELEINE*"),oldOTB!$X:$Z,3,FALSE),IFERROR(VLOOKUP(CONCATENATE(K$1,"*MADELEINE*"),oldOTB!$Y:$Z,2,FALSE),""))))))) | L9: =IFERROR(VLOOKUP(CONCATENATE(L$1,"*MADELEINE*"),oldOTB!$S:$Z,8,FALSE),IFERROR(VLOOKUP(CONCATENATE(L$1,"*MADELEINE*"),oldOTB!$T:$Z,7,FALSE),IFERROR(VLOOKUP(CONCATENATE(L$1,"*MADELEINE*"),oldOTB!$U:$Z,6,FALSE),IFERROR(VLOOKUP(CONCATENATE(L$1,"*MADELEINE*"),oldOTB!$V:$Z,5,FALSE),IFERROR(VLOOKUP(CONCATENATE(L$1,"*MADELEINE*"),oldOTB!$W:$Z,4,FALSE),IFERROR(VLOOKUP(CONCATENATE(L$1,"*MADELEINE*"),oldOTB!$X:$Z,3,FALSE),IFERROR(VLOOKUP(CONCATENATE(L$1,"*MADELEINE*"),oldOTB!$Y:$Z,2,FALSE),""))))))) | ... AI9: =IFERROR(VLOOKUP(CONCATENATE(AI$1,"*MADELEINE*"),oldOTB!$S:$Z,8,FALSE),IFERROR(VLOOKUP(CONCATENATE(AI$1,"*MADELEINE*"),oldOTB!$T:$Z,7,FALSE),IFERROR(VLOOKUP(CONCATENATE(AI$1,"*MADELEINE*"),oldOTB!$U:$Z,6,FALSE),IFERROR(VLOOKUP(CONCATENATE(AI$1,"*MADELEINE*"),oldOTB!$V:$Z,5,FALSE),IFERROR(VLOOKUP(CONCATENATE(AI$1,"*MADELEINE*"),oldOTB!$W:$Z,4,FALSE),IFERROR(VLOOKUP(CONCATENATE(AI$1,"*MADELEINE*"),oldOTB!$X:$Z,3,FALSE),IFERROR(VLOOKUP(CONCATENATE(AI$1,"*MADELEINE*"),oldOTB!$Y:$Z,2,FALSE),""))))))) | AJ9: MADELEINE | AK9: =CONCATENATE(E$1,E9) -> 42370 | AL9: =CONCATENATE(F$1,F9) -> 42371 | AM9: =CONCATENATE(G$1,G9) -> 42372 | AN9: =CONCATENATE(H$1,H9) -> 42373 | AO9: =CONCATENATE(I$1,I9) -> 42374 | AP9: =CONCATENATE(J$1,J9) -> 42375 | AQ9: =CONCATENATE(K$1,K9) -> 42376 | AR9: =CONCATENATE(L$1,L9) -> 42377 | ... BO9: =CONCATENATE(AI$1,AI9) -> 42400
A10: ETOILE | E10: =IFERROR(VLOOKUP(CONCATENATE(E$1,"*ETOILE*"),oldOTB!$S:$Z,8,FALSE),IFERROR(VLOOKUP(CONCATENATE(E$1,"*ETOILE*"),oldOTB!$T:$Z,7,FALSE),IFERROR(VLOOKUP(CONCATENATE(E$1,"*ETOILE*"),oldOTB!$U:$Z,6,FALSE),IFERROR(VLOOKUP(CONCATENATE(E$1,"*ETOILE*"),oldOTB!$V:$Z,5,FALSE),IFERROR(VLOOKUP(CONCATENATE(E$1,"*ETOILE*"),oldOTB!$W:$Z,4,FALSE),IFERROR(VLOOKUP(CONCATENATE(E$1,"*ETOILE*"),oldOTB!$X:$Z,3,FALSE),IFERROR(VLOOKUP(CONCATENATE(E$1,"*ETOILE*"),oldOTB!$Y:$Z,2,FALSE),""))))))) | F10: =IFERROR(VLOOKUP(CONCATENATE(F$1,"*ETOILE*"),oldOTB!$S:$Z,8,FALSE),IFERROR(VLOOKUP(CONCATENATE(F$1,"*ETOILE*"),oldOTB!$T:$Z,7,FALSE),IFERROR(VLOOKUP(CONCATENATE(F$1,"*ETOILE*"),oldOTB!$U:$Z,6,FALSE),IFERROR(VLOOKUP(CONCATENATE(F$1,"*ETOILE*"),oldOTB!$V:$Z,5,FALSE),IFERROR(VLOOKUP(CONCATENATE(F$1,"*ETOILE*"),oldOTB!$W:$Z,4,FALSE),IFERROR(VLOOKUP(CONCATENATE(F$1,"*ETOILE*"),oldOTB!$X:$Z,3,FALSE),IFERROR(VLOOKUP(CONCATENATE(F$1,"*ETOILE*"),oldOTB!$Y:$Z,2,FALSE),""))))))) | G10: =IFERROR(VLOOKUP(CONCATENATE(G$1,"*ETOILE*"),oldOTB!$S:$Z,8,FALSE),IFERROR(VLOOKUP(CONCATENATE(G$1,"*ETOILE*"),oldOTB!$T:$Z,7,FALSE),IFERROR(VLOOKUP(CONCATENATE(G$1,"*ETOILE*"),oldOTB!$U:$Z,6,FALSE),IFERROR(VLOOKUP(CONCATENATE(G$1,"*ETOILE*"),oldOTB!$V:$Z,5,FALSE),IFERROR(VLOOKUP(CONCATENATE(G$1,"*ETOILE*"),oldOTB!$W:$Z,4,FALSE),IFERROR(VLOOKUP(CONCATENATE(G$1,"*ETOILE*"),oldOTB!$X:$Z,3,FALSE),IFERROR(VLOOKUP(CONCATENATE(G$1,"*ETOILE*"),oldOTB!$Y:$Z,2,FALSE),""))))))) | H10: =IFERROR(VLOOKUP(CONCATENATE(H$1,"*ETOILE*"),oldOTB!$S:$Z,8,FALSE),IFERROR(VLOOKUP(CONCATENATE(H$1,"*ETOILE*"),oldOTB!$T:$Z,7,FALSE),IFERROR(VLOOKUP(CONCATENATE(H$1,"*ETOILE*"),oldOTB!$U:$Z,6,FALSE),IFERROR(VLOOKUP(CONCATENATE(H$1,"*ETOILE*"),oldOTB!$V:$Z,5,FALSE),IFERROR(VLOOKUP(CONCATENATE(H$1,"*ETOILE*"),oldOTB!$W:$Z,4,FALSE),IFERROR(VLOOKUP(CONCATENATE(H$1,"*ETOILE*"),oldOTB!$X:$Z,3,FALSE),IFERROR(VLOOKUP(CONCATENATE(H$1,"*ETOILE*"),oldOTB!$Y:$Z,2,FALSE),""))))))) | I10: =IFERROR(VLOOKUP(CONCATENATE(I$1,"*ETOILE*"),oldOTB!$S:$Z,8,FALSE),IFERROR(VLOOKUP(CONCATENATE(I$1,"*ETOILE*"),oldOTB!$T:$Z,7,FALSE),IFERROR(VLOOKUP(CONCATENATE(I$1,"*ETOILE*"),oldOTB!$U:$Z,6,FALSE),IFERROR(VLOOKUP(CONCATENATE(I$1,"*ETOILE*"),oldOTB!$V:$Z,5,FALSE),IFERROR(VLOOKUP(CONCATENATE(I$1,"*ETOILE*"),oldOTB!$W:$Z,4,FALSE),IFERROR(VLOOKUP(CONCATENATE(I$1,"*ETOILE*"),oldOTB!$X:$Z,3,FALSE),IFERROR(VLOOKUP(CONCATENATE(I$1,"*ETOILE*"),oldOTB!$Y:$Z,2,FALSE),""))))))) -> GMPA pax en | J10: =IFERROR(VLOOKUP(CONCATENATE(J$1,"*ETOILE*"),oldOTB!$S:$Z,8,FALSE),IFERROR(VLOOKUP(CONCATENATE(J$1,"*ETOILE*"),oldOTB!$T:$Z,7,FALSE),IFERROR(VLOOKUP(CONCATENATE(J$1,"*ETOILE*"),oldOTB!$U:$Z,6,FALSE),IFERROR(VLOOKUP(CONCATENATE(J$1,"*ETOILE*"),oldOTB!$V:$Z,5,FALSE),IFERROR(VLOOKUP(CONCATENATE(J$1,"*ETOILE*"),oldOTB!$W:$Z,4,FALSE),IFERROR(VLOOKUP(CONCATENATE(J$1,"*ETOILE*"),oldOTB!$X:$Z,3,FALSE),IFERROR(VLOOKUP(CONCATENATE(J$1,"*ETOILE*"),oldOTB!$Y:$Z,2,FALSE),""))))))) -> FNAC pax en | K10: =IFERROR(VLOOKUP(CONCATENATE(K$1,"*ETOILE*"),oldOTB!$S:$Z,8,FALSE),IFERROR(VLOOKUP(CONCATENATE(K$1,"*ETOILE*"),oldOTB!$T:$Z,7,FALSE),IFERROR(VLOOKUP(CONCATENATE(K$1,"*ETOILE*"),oldOTB!$U:$Z,6,FALSE),IFERROR(VLOOKUP(CONCATENATE(K$1,"*ETOILE*"),oldOTB!$V:$Z,5,FALSE),IFERROR(VLOOKUP(CONCATENATE(K$1,"*ETOILE*"),oldOTB!$W:$Z,4,FALSE),IFERROR(VLOOKUP(CONCATENATE(K$1,"*ETOILE*"),oldOTB!$X:$Z,3,FALSE),IFERROR(VLOOKUP(CONCATENATE(K$1,"*ETOILE*"),oldOTB!$Y:$Z,2,FALSE),""))))))) -> FNAC pax en | L10: =IFERROR(VLOOKUP(CONCATENATE(L$1,"*ETOILE*"),oldOTB!$S:$Z,8,FALSE),IFERROR(VLOOKUP(CONCATENATE(L$1,"*ETOILE*"),oldOTB!$T:$Z,7,FALSE),IFERROR(VLOOKUP(CONCATENATE(L$1,"*ETOILE*"),oldOTB!$U:$Z,6,FALSE),IFERROR(VLOOKUP(CONCATENATE(L$1,"*ETOILE*"),oldOTB!$V:$Z,5,FALSE),IFERROR(VLOOKUP(CONCATENATE(L$1,"*ETOILE*"),oldOTB!$W:$Z,4,FALSE),IFERROR(VLOOKUP(CONCATENATE(L$1,"*ETOILE*"),oldOTB!$X:$Z,3,FALSE),IFERROR(VLOOKUP(CONCATENATE(L$1,"*ETOILE*"),oldOTB!$Y:$Z,2,FALSE),""))))))) | ... AI10: =IFERROR(VLOOKUP(CONCATENATE(AI$1,"*ETOILE*"),oldOTB!$S:$Z,8,FALSE),IFERROR(VLOOKUP(CONCATENATE(AI$1,"*ETOILE*"),oldOTB!$T:$Z,7,FALSE),IFERROR(VLOOKUP(CONCATENATE(AI$1,"*ETOILE*"),oldOTB!$U:$Z,6,FALSE),IFERROR(VLOOKUP(CONCATENATE(AI$1,"*ETOILE*"),oldOTB!$V:$Z,5,FALSE),IFERROR(VLOOKUP(CONCATENATE(AI$1,"*ETOILE*"),oldOTB!$W:$Z,4,FALSE),IFERROR(VLOOKUP(CONCATENATE(AI$1,"*ETOILE*"),oldOTB!$X:$Z,3,FALSE),IFERROR(VLOOKUP(CONCATENATE(AI$1,"*ETOILE*"),oldOTB!$Y:$Z,2,FALSE),""))))))) | AJ10: ETOILE | AK10: =CONCATENATE(E$1,E10) -> 42370 | AL10: =CONCATENATE(F$1,F10) -> 42371 | AM10: =CONCATENATE(G$1,G10) -> 42372 | AN10: =CONCATENATE(H$1,H10) -> 42373 | AO10: =CONCATENATE(I$1,I10) -> 42374GMPA pax en | AP10: =CONCATENATE(J$1,J10) -> 42375FNAC pax en | AQ10: =CONCATENATE(K$1,K10) -> 42376FNAC pax en | AR10: =CONCATENATE(L$1,L10) -> 42377 | ... BO10: =CONCATENATE(AI$1,AI10) -> 42400
A11: LOUVRE | E11: =IFERROR(VLOOKUP(CONCATENATE(E$1,"*LOUVRE*"),oldOTB!$S:$Z,8,FALSE),IFERROR(VLOOKUP(CONCATENATE(E$1,"*LOUVRE*"),oldOTB!$T:$Z,7,FALSE),IFERROR(VLOOKUP(CONCATENATE(E$1,"*LOUVRE*"),oldOTB!$U:$Z,6,FALSE),IFERROR(VLOOKUP(CONCATENATE(E$1,"*LOUVRE*"),oldOTB!$V:$Z,5,FALSE),IFERROR(VLOOKUP(CONCATENATE(E$1,"*LOUVRE*"),oldOTB!$W:$Z,4,FALSE),IFERROR(VLOOKUP(CONCATENATE(E$1,"*LOUVRE*"),oldOTB!$X:$Z,3,FALSE),IFERROR(VLOOKUP(CONCATENATE(E$1,"*LOUVRE*"),oldOTB!$Y:$Z,2,FALSE),""))))))) | F11: =IFERROR(VLOOKUP(CONCATENATE(F$1,"*LOUVRE*"),oldOTB!$S:$Z,8,FALSE),IFERROR(VLOOKUP(CONCATENATE(F$1,"*LOUVRE*"),oldOTB!$T:$Z,7,FALSE),IFERROR(VLOOKUP(CONCATENATE(F$1,"*LOUVRE*"),oldOTB!$U:$Z,6,FALSE),IFERROR(VLOOKUP(CONCATENATE(F$1,"*LOUVRE*"),oldOTB!$V:$Z,5,FALSE),IFERROR(VLOOKUP(CONCATENATE(F$1,"*LOUVRE*"),oldOTB!$W:$Z,4,FALSE),IFERROR(VLOOKUP(CONCATENATE(F$1,"*LOUVRE*"),oldOTB!$X:$Z,3,FALSE),IFERROR(VLOOKUP(CONCATENATE(F$1,"*LOUVRE*"),oldOTB!$Y:$Z,2,FALSE),""))))))) | G11: =IFERROR(VLOOKUP(CONCATENATE(G$1,"*LOUVRE*"),oldOTB!$S:$Z,8,FALSE),IFERROR(VLOOKUP(CONCATENATE(G$1,"*LOUVRE*"),oldOTB!$T:$Z,7,FALSE),IFERROR(VLOOKUP(CONCATENATE(G$1,"*LOUVRE*"),oldOTB!$U:$Z,6,FALSE),IFERROR(VLOOKUP(CONCATENATE(G$1,"*LOUVRE*"),oldOTB!$V:$Z,5,FALSE),IFERROR(VLOOKUP(CONCATENATE(G$1,"*LOUVRE*"),oldOTB!$W:$Z,4,FALSE),IFERROR(VLOOKUP(CONCATENATE(G$1,"*LOUVRE*"),oldOTB!$X:$Z,3,FALSE),IFERROR(VLOOKUP(CONCATENATE(G$1,"*LOUVRE*"),oldOTB!$Y:$Z,2,FALSE),""))))))) | H11: =IFERROR(VLOOKUP(CONCATENATE(H$1,"*LOUVRE*"),oldOTB!$S:$Z,8,FALSE),IFERROR(VLOOKUP(CONCATENATE(H$1,"*LOUVRE*"),oldOTB!$T:$Z,7,FALSE),IFERROR(VLOOKUP(CONCATENATE(H$1,"*LOUVRE*"),oldOTB!$U:$Z,6,FALSE),IFERROR(VLOOKUP(CONCATENATE(H$1,"*LOUVRE*"),oldOTB!$V:$Z,5,FALSE),IFERROR(VLOOKUP(CONCATENATE(H$1,"*LOUVRE*"),oldOTB!$W:$Z,4,FALSE),IFERROR(VLOOKUP(CONCATENATE(H$1,"*LOUVRE*"),oldOTB!$X:$Z,3,FALSE),IFERROR(VLOOKUP(CONCATENATE(H$1,"*LOUVRE*"),oldOTB!$Y:$Z,2,FALSE),""))))))) | I11: =IFERROR(VLOOKUP(CONCATENATE(I$1,"*LOUVRE*"),oldOTB!$S:$Z,8,FALSE),IFERROR(VLOOKUP(CONCATENATE(I$1,"*LOUVRE*"),oldOTB!$T:$Z,7,FALSE),IFERROR(VLOOKUP(CONCATENATE(I$1,"*LOUVRE*"),oldOTB!$U:$Z,6,FALSE),IFERROR(VLOOKUP(CONCATENATE(I$1,"*LOUVRE*"),oldOTB!$V:$Z,5,FALSE),IFERROR(VLOOKUP(CONCATENATE(I$1,"*LOUVRE*"),oldOTB!$W:$Z,4,FALSE),IFERROR(VLOOKUP(CONCATENATE(I$1,"*LOUVRE*"),oldOTB!$X:$Z,3,FALSE),IFERROR(VLOOKUP(CONCATENATE(I$1,"*LOUVRE*"),oldOTB!$Y:$Z,2,FALSE),""))))))) -> COACH EVENEMENT pax en | J11: =IFERROR(VLOOKUP(CONCATENATE(J$1,"*LOUVRE*"),oldOTB!$S:$Z,8,FALSE),IFERROR(VLOOKUP(CONCATENATE(J$1,"*LOUVRE*"),oldOTB!$T:$Z,7,FALSE),IFERROR(VLOOKUP(CONCATENATE(J$1,"*LOUVRE*"),oldOTB!$U:$Z,6,FALSE),IFERROR(VLOOKUP(CONCATENATE(J$1,"*LOUVRE*"),oldOTB!$V:$Z,5,FALSE),IFERROR(VLOOKUP(CONCATENATE(J$1,"*LOUVRE*"),oldOTB!$W:$Z,4,FALSE),IFERROR(VLOOKUP(CONCATENATE(J$1,"*LOUVRE*"),oldOTB!$X:$Z,3,FALSE),IFERROR(VLOOKUP(CONCATENATE(J$1,"*LOUVRE*"),oldOTB!$Y:$Z,2,FALSE),""))))))) -> COACH EVENEMENT pax en | K11: =IFERROR(VLOOKUP(CONCATENATE(K$1,"*LOUVRE*"),oldOTB!$S:$Z,8,FALSE),IFERROR(VLOOKUP(CONCATENATE(K$1,"*LOUVRE*"),oldOTB!$T:$Z,7,FALSE),IFERROR(VLOOKUP(CONCATENATE(K$1,"*LOUVRE*"),oldOTB!$U:$Z,6,FALSE),IFERROR(VLOOKUP(CONCATENATE(K$1,"*LOUVRE*"),oldOTB!$V:$Z,5,FALSE),IFERROR(VLOOKUP(CONCATENATE(K$1,"*LOUVRE*"),oldOTB!$W:$Z,4,FALSE),IFERROR(VLOOKUP(CONCATENATE(K$1,"*LOUVRE*"),oldOTB!$X:$Z,3,FALSE),IFERROR(VLOOKUP(CONCATENATE(K$1,"*LOUVRE*"),oldOTB!$Y:$Z,2,FALSE),""))))))) | L11: =IFERROR(VLOOKUP(CONCATENATE(L$1,"*LOUVRE*"),oldOTB!$S:$Z,8,FALSE),IFERROR(VLOOKUP(CONCATENATE(L$1,"*LOUVRE*"),oldOTB!$T:$Z,7,FALSE),IFERROR(VLOOKUP(CONCATENATE(L$1,"*LOUVRE*"),oldOTB!$U:$Z,6,FALSE),IFERROR(VLOOKUP(CONCATENATE(L$1,"*LOUVRE*"),oldOTB!$V:$Z,5,FALSE),IFERROR(VLOOKUP(CONCATENATE(L$1,"*LOUVRE*"),oldOTB!$W:$Z,4,FALSE),IFERROR(VLOOKUP(CONCATENATE(L$1,"*LOUVRE*"),oldOTB!$X:$Z,3,FALSE),IFERROR(VLOOKUP(CONCATENATE(L$1,"*LOUVRE*"),oldOTB!$Y:$Z,2,FALSE),""))))))) -> JP CARRERE 6pax en | ... AI11: =IFERROR(VLOOKUP(CONCATENATE(AI$1,"*LOUVRE*"),oldOTB!$S:$Z,8,FALSE),IFERROR(VLOOKUP(CONCATENATE(AI$1,"*LOUVRE*"),oldOTB!$T:$Z,7,FALSE),IFERROR(VLOOKUP(CONCATENATE(AI$1,"*LOUVRE*"),oldOTB!$U:$Z,6,FALSE),IFERROR(VLOOKUP(CONCATENATE(AI$1,"*LOUVRE*"),oldOTB!$V:$Z,5,FALSE),IFERROR(VLOOKUP(CONCATENATE(AI$1,"*LOUVRE*"),oldOTB!$W:$Z,4,FALSE),IFERROR(VLOOKUP(CONCATENATE(AI$1,"*LOUVRE*"),oldOTB!$X:$Z,3,FALSE),IFERROR(VLOOKUP(CONCATENATE(AI$1,"*LOUVRE*"),oldOTB!$Y:$Z,2,FALSE),""))))))) | AJ11: LOUVRE | AK11: =CONCATENATE(E$1,E11) -> 42370 | AL11: =CONCATENATE(F$1,F11) -> 42371 | AM11: =CONCATENATE(G$1,G11) -> 42372 | AN11: =CONCATENATE(H$1,H11) -> 42373 | AO11: =CONCATENATE(I$1,I11) -> 42374COACH EVENEMENT pax en | AP11: =CONCATENATE(J$1,J11) -> 42375COACH EVENEMENT pax en | AQ11: =CONCATENATE(K$1,K11) -> 42376 | AR11: =CONCATENATE(L$1,L11) -> 42377JP CARRERE 6pax en | ... BO11: =CONCATENATE(AI$1,AI11) -> 42400
A12: CARNAVALET | E12: =IFERROR(VLOOKUP(CONCATENATE(E$1,"*CARNAVALET*"),oldOTB!$S:$Z,8,FALSE),IFERROR(VLOOKUP(CONCATENATE(E$1,"*CARNAVALET*"),oldOTB!$T:$Z,7,FALSE),IFERROR(VLOOKUP(CONCATENATE(E$1,"*CARNAVALET*"),oldOTB!$U:$Z,6,FALSE),IFERROR(VLOOKUP(CONCATENATE(E$1,"*CARNAVALET*"),oldOTB!$V:$Z,5,FALSE),IFERROR(VLOOKUP(CONCATENATE(E$1,"*CARNAVALET*"),oldOTB!$W:$Z,4,FALSE),IFERROR(VLOOKUP(CONCATENATE(E$1,"*CARNAVALET*"),oldOTB!$X:$Z,3,FALSE),IFERROR(VLOOKUP(CONCATENATE(E$1,"*CARNAVALET*"),oldOTB!$Y:$Z,2,FALSE),""))))))) | F12: =IFERROR(VLOOKUP(CONCATENATE(F$1,"*CARNAVALET*"),oldOTB!$S:$Z,8,FALSE),IFERROR(VLOOKUP(CONCATENATE(F$1,"*CARNAVALET*"),oldOTB!$T:$Z,7,FALSE),IFERROR(VLOOKUP(CONCATENATE(F$1,"*CARNAVALET*"),oldOTB!$U:$Z,6,FALSE),IFERROR(VLOOKUP(CONCATENATE(F$1,"*CARNAVALET*"),oldOTB!$V:$Z,5,FALSE),IFERROR(VLOOKUP(CONCATENATE(F$1,"*CARNAVALET*"),oldOTB!$W:$Z,4,FALSE),IFERROR(VLOOKUP(CONCATENATE(F$1,"*CARNAVALET*"),oldOTB!$X:$Z,3,FALSE),IFERROR(VLOOKUP(CONCATENATE(F$1,"*CARNAVALET*"),oldOTB!$Y:$Z,2,FALSE),""))))))) | G12: =IFERROR(VLOOKUP(CONCATENATE(G$1,"*CARNAVALET*"),oldOTB!$S:$Z,8,FALSE),IFERROR(VLOOKUP(CONCATENATE(G$1,"*CARNAVALET*"),oldOTB!$T:$Z,7,FALSE),IFERROR(VLOOKUP(CONCATENATE(G$1,"*CARNAVALET*"),oldOTB!$U:$Z,6,FALSE),IFERROR(VLOOKUP(CONCATENATE(G$1,"*CARNAVALET*"),oldOTB!$V:$Z,5,FALSE),IFERROR(VLOOKUP(CONCATENATE(G$1,"*CARNAVALET*"),oldOTB!$W:$Z,4,FALSE),IFERROR(VLOOKUP(CONCATENATE(G$1,"*CARNAVALET*"),oldOTB!$X:$Z,3,FALSE),IFERROR(VLOOKUP(CONCATENATE(G$1,"*CARNAVALET*"),oldOTB!$Y:$Z,2,FALSE),""))))))) | H12: =IFERROR(VLOOKUP(CONCATENATE(H$1,"*CARNAVALET*"),oldOTB!$S:$Z,8,FALSE),IFERROR(VLOOKUP(CONCATENATE(H$1,"*CARNAVALET*"),oldOTB!$T:$Z,7,FALSE),IFERROR(VLOOKUP(CONCATENATE(H$1,"*CARNAVALET*"),oldOTB!$U:$Z,6,FALSE),IFERROR(VLOOKUP(CONCATENATE(H$1,"*CARNAVALET*"),oldOTB!$V:$Z,5,FALSE),IFERROR(VLOOKUP(CONCATENATE(H$1,"*CARNAVALET*"),oldOTB!$W:$Z,4,FALSE),IFERROR(VLOOKUP(CONCATENATE(H$1,"*CARNAVALET*"),oldOTB!$X:$Z,3,FALSE),IFERROR(VLOOKUP(CONCATENATE(H$1,"*CARNAVALET*"),oldOTB!$Y:$Z,2,FALSE),""))))))) | I12: =IFERROR(VLOOKUP(CONCATENATE(I$1,"*CARNAVALET*"),oldOTB!$S:$Z,8,FALSE),IFERROR(VLOOKUP(CONCATENATE(I$1,"*CARNAVALET*"),oldOTB!$T:$Z,7,FALSE),IFERROR(VLOOKUP(CONCATENATE(I$1,"*CARNAVALET*"),oldOTB!$U:$Z,6,FALSE),IFERROR(VLOOKUP(CONCATENATE(I$1,"*CARNAVALET*"),oldOTB!$V:$Z,5,FALSE),IFERROR(VLOOKUP(CONCATENATE(I$1,"*CARNAVALET*"),oldOTB!$W:$Z,4,FALSE),IFERROR(VLOOKUP(CONCATENATE(I$1,"*CARNAVALET*"),oldOTB!$X:$Z,3,FALSE),IFERROR(VLOOKUP(CONCATENATE(I$1,"*CARNAVALET*"),oldOTB!$Y:$Z,2,FALSE),""))))))) | J12: =IFERROR(VLOOKUP(CONCATENATE(J$1,"*CARNAVALET*"),oldOTB!$S:$Z,8,FALSE),IFERROR(VLOOKUP(CONCATENATE(J$1,"*CARNAVALET*"),oldOTB!$T:$Z,7,FALSE),IFERROR(VLOOKUP(CONCATENATE(J$1,"*CARNAVALET*"),oldOTB!$U:$Z,6,FALSE),IFERROR(VLOOKUP(CONCATENATE(J$1,"*CARNAVALET*"),oldOTB!$V:$Z,5,FALSE),IFERROR(VLOOKUP(CONCATENATE(J$1,"*CARNAVALET*"),oldOTB!$W:$Z,4,FALSE),IFERROR(VLOOKUP(CONCATENATE(J$1,"*CARNAVALET*"),oldOTB!$X:$Z,3,FALSE),IFERROR(VLOOKUP(CONCATENATE(J$1,"*CARNAVALET*"),oldOTB!$Y:$Z,2,FALSE),""))))))) | K12: =IFERROR(VLOOKUP(CONCATENATE(K$1,"*CARNAVALET*"),oldOTB!$S:$Z,8,FALSE),IFERROR(VLOOKUP(CONCATENATE(K$1,"*CARNAVALET*"),oldOTB!$T:$Z,7,FALSE),IFERROR(VLOOKUP(CONCATENATE(K$1,"*CARNAVALET*"),oldOTB!$U:$Z,6,FALSE),IFERROR(VLOOKUP(CONCATENATE(K$1,"*CARNAVALET*"),oldOTB!$V:$Z,5,FALSE),IFERROR(VLOOKUP(CONCATENATE(K$1,"*CARNAVALET*"),oldOTB!$W:$Z,4,FALSE),IFERROR(VLOOKUP(CONCATENATE(K$1,"*CARNAVALET*"),oldOTB!$X:$Z,3,FALSE),IFERROR(VLOOKUP(CONCATENATE(K$1,"*CARNAVALET*"),oldOTB!$Y:$Z,2,FALSE),""))))))) | L12: =IFERROR(VLOOKUP(CONCATENATE(L$1,"*CARNAVALET*"),oldOTB!$S:$Z,8,FALSE),IFERROR(VLOOKUP(CONCATENATE(L$1,"*CARNAVALET*"),oldOTB!$T:$Z,7,FALSE),IFERROR(VLOOKUP(CONCATENATE(L$1,"*CARNAVALET*"),oldOTB!$U:$Z,6,FALSE),IFERROR(VLOOKUP(CONCATENATE(L$1,"*CARNAVALET*"),oldOTB!$V:$Z,5,FALSE),IFERROR(VLOOKUP(CONCATENATE(L$1,"*CARNAVALET*"),oldOTB!$W:$Z,4,FALSE),IFERROR(VLOOKUP(CONCATENATE(L$1,"*CARNAVALET*"),oldOTB!$X:$Z,3,FALSE),IFERROR(VLOOKUP(CONCATENATE(L$1,"*CARNAVALET*"),oldOTB!$Y:$Z,2,FALSE),""))))))) -> INTERNE pax en | ... AI12: =IFERROR(VLOOKUP(CONCATENATE(AI$1,"*CARNAVALET*"),oldOTB!$S:$Z,8,FALSE),IFERROR(VLOOKUP(CONCATENATE(AI$1,"*CARNAVALET*"),oldOTB!$T:$Z,7,FALSE),IFERROR(VLOOKUP(CONCATENATE(AI$1,"*CARNAVALET*"),oldOTB!$U:$Z,6,FALSE),IFERROR(VLOOKUP(CONCATENATE(AI$1,"*CARNAVALET*"),oldOTB!$V:$Z,5,FALSE),IFERROR(VLOOKUP(CONCATENATE(AI$1,"*CARNAVALET*"),oldOTB!$W:$Z,4,FALSE),IFERROR(VLOOKUP(CONCATENATE(AI$1,"*CARNAVALET*"),oldOTB!$X:$Z,3,FALSE),IFERROR(VLOOKUP(CONCATENATE(AI$1,"*CARNAVALET*"),oldOTB!$Y:$Z,2,FALSE),""))))))) | AJ12: CARNAVALET | AK12: =CONCATENATE(E$1,E12) -> 42370 | AL12: =CONCATENATE(F$1,F12) -> 42371 | AM12: =CONCATENATE(G$1,G12) -> 42372 | AN12: =CONCATENATE(H$1,H12) -> 42373 | AO12: =CONCATENATE(I$1,I12) -> 42374 | AP12: =CONCATENATE(J$1,J12) -> 42375 | AQ12: =CONCATENATE(K$1,K12) -> 42376 | AR12: =CONCATENATE(L$1,L12) -> 42377INTERNE pax en | ... BO12: =CONCATENATE(AI$1,AI12) -> 42400
A13: RODIN | E13: =IFERROR(VLOOKUP(CONCATENATE(E$1,"*RODIN*"),oldOTB!$S:$Z,8,FALSE),IFERROR(VLOOKUP(CONCATENATE(E$1,"*RODIN*"),oldOTB!$T:$Z,7,FALSE),IFERROR(VLOOKUP(CONCATENATE(E$1,"*RODIN*"),oldOTB!$U:$Z,6,FALSE),IFERROR(VLOOKUP(CONCATENATE(E$1,"*RODIN*"),oldOTB!$V:$Z,5,FALSE),IFERROR(VLOOKUP(CONCATENATE(E$1,"*RODIN*"),oldOTB!$W:$Z,4,FALSE),IFERROR(VLOOKUP(CONCATENATE(E$1,"*RODIN*"),oldOTB!$X:$Z,3,FALSE),IFERROR(VLOOKUP(CONCATENATE(E$1,"*RODIN*"),oldOTB!$Y:$Z,2,FALSE),""))))))) | F13: =IFERROR(VLOOKUP(CONCATENATE(F$1,"*RODIN*"),oldOTB!$S:$Z,8,FALSE),IFERROR(VLOOKUP(CONCATENATE(F$1,"*RODIN*"),oldOTB!$T:$Z,7,FALSE),IFERROR(VLOOKUP(CONCATENATE(F$1,"*RODIN*"),oldOTB!$U:$Z,6,FALSE),IFERROR(VLOOKUP(CONCATENATE(F$1,"*RODIN*"),oldOTB!$V:$Z,5,FALSE),IFERROR(VLOOKUP(CONCATENATE(F$1,"*RODIN*"),oldOTB!$W:$Z,4,FALSE),IFERROR(VLOOKUP(CONCATENATE(F$1,"*RODIN*"),oldOTB!$X:$Z,3,FALSE),IFERROR(VLOOKUP(CONCATENATE(F$1,"*RODIN*"),oldOTB!$Y:$Z,2,FALSE),""))))))) | G13: =IFERROR(VLOOKUP(CONCATENATE(G$1,"*RODIN*"),oldOTB!$S:$Z,8,FALSE),IFERROR(VLOOKUP(CONCATENATE(G$1,"*RODIN*"),oldOTB!$T:$Z,7,FALSE),IFERROR(VLOOKUP(CONCATENATE(G$1,"*RODIN*"),oldOTB!$U:$Z,6,FALSE),IFERROR(VLOOKUP(CONCATENATE(G$1,"*RODIN*"),oldOTB!$V:$Z,5,FALSE),IFERROR(VLOOKUP(CONCATENATE(G$1,"*RODIN*"),oldOTB!$W:$Z,4,FALSE),IFERROR(VLOOKUP(CONCATENATE(G$1,"*RODIN*"),oldOTB!$X:$Z,3,FALSE),IFERROR(VLOOKUP(CONCATENATE(G$1,"*RODIN*"),oldOTB!$Y:$Z,2,FALSE),""))))))) | H13: =IFERROR(VLOOKUP(CONCATENATE(H$1,"*RODIN*"),oldOTB!$S:$Z,8,FALSE),IFERROR(VLOOKUP(CONCATENATE(H$1,"*RODIN*"),oldOTB!$T:$Z,7,FALSE),IFERROR(VLOOKUP(CONCATENATE(H$1,"*RODIN*"),oldOTB!$U:$Z,6,FALSE),IFERROR(VLOOKUP(CONCATENATE(H$1,"*RODIN*"),oldOTB!$V:$Z,5,FALSE),IFERROR(VLOOKUP(CONCATENATE(H$1,"*RODIN*"),oldOTB!$W:$Z,4,FALSE),IFERROR(VLOOKUP(CONCATENATE(H$1,"*RODIN*"),oldOTB!$X:$Z,3,FALSE),IFERROR(VLOOKUP(CONCATENATE(H$1,"*RODIN*"),oldOTB!$Y:$Z,2,FALSE),""))))))) | I13: =IFERROR(VLOOKUP(CONCATENATE(I$1,"*RODIN*"),oldOTB!$S:$Z,8,FALSE),IFERROR(VLOOKUP(CONCATENATE(I$1,"*RODIN*"),oldOTB!$T:$Z,7,FALSE),IFERROR(VLOOKUP(CONCATENATE(I$1,"*RODIN*"),oldOTB!$U:$Z,6,FALSE),IFERROR(VLOOKUP(CONCATENATE(I$1,"*RODIN*"),oldOTB!$V:$Z,5,FALSE),IFERROR(VLOOKUP(CONCATENATE(I$1,"*RODIN*"),oldOTB!$W:$Z,4,FALSE),IFERROR(VLOOKUP(CONCATENATE(I$1,"*RODIN*"),oldOTB!$X:$Z,3,FALSE),IFERROR(VLOOKUP(CONCATENATE(I$1,"*RODIN*"),oldOTB!$Y:$Z,2,FALSE),""))))))) | J13: =IFERROR(VLOOKUP(CONCATENATE(J$1,"*RODIN*"),oldOTB!$S:$Z,8,FALSE),IFERROR(VLOOKUP(CONCATENATE(J$1,"*RODIN*"),oldOTB!$T:$Z,7,FALSE),IFERROR(VLOOKUP(CONCATENATE(J$1,"*RODIN*"),oldOTB!$U:$Z,6,FALSE),IFERROR(VLOOKUP(CONCATENATE(J$1,"*RODIN*"),oldOTB!$V:$Z,5,FALSE),IFERROR(VLOOKUP(CONCATENATE(J$1,"*RODIN*"),oldOTB!$W:$Z,4,FALSE),IFERROR(VLOOKUP(CONCATENATE(J$1,"*RODIN*"),oldOTB!$X:$Z,3,FALSE),IFERROR(VLOOKUP(CONCATENATE(J$1,"*RODIN*"),oldOTB!$Y:$Z,2,FALSE),""))))))) | K13: =IFERROR(VLOOKUP(CONCATENATE(K$1,"*RODIN*"),oldOTB!$S:$Z,8,FALSE),IFERROR(VLOOKUP(CONCATENATE(K$1,"*RODIN*"),oldOTB!$T:$Z,7,FALSE),IFERROR(VLOOKUP(CONCATENATE(K$1,"*RODIN*"),oldOTB!$U:$Z,6,FALSE),IFERROR(VLOOKUP(CONCATENATE(K$1,"*RODIN*"),oldOTB!$V:$Z,5,FALSE),IFERROR(VLOOKUP(CONCATENATE(K$1,"*RODIN*"),oldOTB!$W:$Z,4,FALSE),IFERROR(VLOOKUP(CONCATENATE(K$1,"*RODIN*"),oldOTB!$X:$Z,3,FALSE),IFERROR(VLOOKUP(CONCATENATE(K$1,"*RODIN*"),oldOTB!$Y:$Z,2,FALSE),""))))))) | L13: =IFERROR(VLOOKUP(CONCATENATE(L$1,"*RODIN*"),oldOTB!$S:$Z,8,FALSE),IFERROR(VLOOKUP(CONCATENATE(L$1,"*RODIN*"),oldOTB!$T:$Z,7,FALSE),IFERROR(VLOOKUP(CONCATENATE(L$1,"*RODIN*"),oldOTB!$U:$Z,6,FALSE),IFERROR(VLOOKUP(CONCATENATE(L$1,"*RODIN*"),oldOTB!$V:$Z,5,FALSE),IFERROR(VLOOKUP(CONCATENATE(L$1,"*RODIN*"),oldOTB!$W:$Z,4,FALSE),IFERROR(VLOOKUP(CONCATENATE(L$1,"*RODIN*"),oldOTB!$X:$Z,3,FALSE),IFERROR(VLOOKUP(CONCATENATE(L$1,"*RODIN*"),oldOTB!$Y:$Z,2,FALSE),""))))))) | ... AI13: =IFERROR(VLOOKUP(CONCATENATE(AI$1,"*RODIN*"),oldOTB!$S:$Z,8,FALSE),IFERROR(VLOOKUP(CONCATENATE(AI$1,"*RODIN*"),oldOTB!$T:$Z,7,FALSE),IFERROR(VLOOKUP(CONCATENATE(AI$1,"*RODIN*"),oldOTB!$U:$Z,6,FALSE),IFERROR(VLOOKUP(CONCATENATE(AI$1,"*RODIN*"),oldOTB!$V:$Z,5,FALSE),IFERROR(VLOOKUP(CONCATENATE(AI$1,"*RODIN*"),oldOTB!$W:$Z,4,FALSE),IFERROR(VLOOKUP(CONCATENATE(AI$1,"*RODIN*"),oldOTB!$X:$Z,3,FALSE),IFERROR(VLOOKUP(CONCATENATE(AI$1,"*RODIN*"),oldOTB!$Y:$Z,2,FALSE),""))))))) | AJ13: RODIN | AK13: =CONCATENATE(E$1,E13) -> 42370 | AL13: =CONCATENATE(F$1,F13) -> 42371 | AM13: =CONCATENATE(G$1,G13) -> 42372 | AN13: =CONCATENATE(H$1,H13) -> 42373 | AO13: =CONCATENATE(I$1,I13) -> 42374 | AP13: =CONCATENATE(J$1,J13) -> 42375 | AQ13: =CONCATENATE(K$1,K13) -> 42376 | AR13: =CONCATENATE(L$1,L13) -> 42377 | ... BO13: =CONCATENATE(AI$1,AI13) -> 42400
A14: PICASSO | E14: =IFERROR(VLOOKUP(CONCATENATE(E$1,"*PICASSO*"),oldOTB!$S:$Z,8,FALSE),IFERROR(VLOOKUP(CONCATENATE(E$1,"*PICASSO*"),oldOTB!$T:$Z,7,FALSE),IFERROR(VLOOKUP(CONCATENATE(E$1,"*PICASSO*"),oldOTB!$U:$Z,6,FALSE),IFERROR(VLOOKUP(CONCATENATE(E$1,"*PICASSO*"),oldOTB!$V:$Z,5,FALSE),IFERROR(VLOOKUP(CONCATENATE(E$1,"*PICASSO*"),oldOTB!$W:$Z,4,FALSE),IFERROR(VLOOKUP(CONCATENATE(E$1,"*PICASSO*"),oldOTB!$X:$Z,3,FALSE),IFERROR(VLOOKUP(CONCATENATE(E$1,"*PICASSO*"),oldOTB!$Y:$Z,2,FALSE),""))))))) | F14: =IFERROR(VLOOKUP(CONCATENATE(F$1,"*PICASSO*"),oldOTB!$S:$Z,8,FALSE),IFERROR(VLOOKUP(CONCATENATE(F$1,"*PICASSO*"),oldOTB!$T:$Z,7,FALSE),IFERROR(VLOOKUP(CONCATENATE(F$1,"*PICASSO*"),oldOTB!$U:$Z,6,FALSE),IFERROR(VLOOKUP(CONCATENATE(F$1,"*PICASSO*"),oldOTB!$V:$Z,5,FALSE),IFERROR(VLOOKUP(CONCATENATE(F$1,"*PICASSO*"),oldOTB!$W:$Z,4,FALSE),IFERROR(VLOOKUP(CONCATENATE(F$1,"*PICASSO*"),oldOTB!$X:$Z,3,FALSE),IFERROR(VLOOKUP(CONCATENATE(F$1,"*PICASSO*"),oldOTB!$Y:$Z,2,FALSE),""))))))) | G14: =IFERROR(VLOOKUP(CONCATENATE(G$1,"*PICASSO*"),oldOTB!$S:$Z,8,FALSE),IFERROR(VLOOKUP(CONCATENATE(G$1,"*PICASSO*"),oldOTB!$T:$Z,7,FALSE),IFERROR(VLOOKUP(CONCATENATE(G$1,"*PICASSO*"),oldOTB!$U:$Z,6,FALSE),IFERROR(VLOOKUP(CONCATENATE(G$1,"*PICASSO*"),oldOTB!$V:$Z,5,FALSE),IFERROR(VLOOKUP(CONCATENATE(G$1,"*PICASSO*"),oldOTB!$W:$Z,4,FALSE),IFERROR(VLOOKUP(CONCATENATE(G$1,"*PICASSO*"),oldOTB!$X:$Z,3,FALSE),IFERROR(VLOOKUP(CONCATENATE(G$1,"*PICASSO*"),oldOTB!$Y:$Z,2,FALSE),""))))))) | H14: =IFERROR(VLOOKUP(CONCATENATE(H$1,"*PICASSO*"),oldOTB!$S:$Z,8,FALSE),IFERROR(VLOOKUP(CONCATENATE(H$1,"*PICASSO*"),oldOTB!$T:$Z,7,FALSE),IFERROR(VLOOKUP(CONCATENATE(H$1,"*PICASSO*"),oldOTB!$U:$Z,6,FALSE),IFERROR(VLOOKUP(CONCATENATE(H$1,"*PICASSO*"),oldOTB!$V:$Z,5,FALSE),IFERROR(VLOOKUP(CONCATENATE(H$1,"*PICASSO*"),oldOTB!$W:$Z,4,FALSE),IFERROR(VLOOKUP(CONCATENATE(H$1,"*PICASSO*"),oldOTB!$X:$Z,3,FALSE),IFERROR(VLOOKUP(CONCATENATE(H$1,"*PICASSO*"),oldOTB!$Y:$Z,2,FALSE),""))))))) | I14: =IFERROR(VLOOKUP(CONCATENATE(I$1,"*PICASSO*"),oldOTB!$S:$Z,8,FALSE),IFERROR(VLOOKUP(CONCATENATE(I$1,"*PICASSO*"),oldOTB!$T:$Z,7,FALSE),IFERROR(VLOOKUP(CONCATENATE(I$1,"*PICASSO*"),oldOTB!$U:$Z,6,FALSE),IFERROR(VLOOKUP(CONCATENATE(I$1,"*PICASSO*"),oldOTB!$V:$Z,5,FALSE),IFERROR(VLOOKUP(CONCATENATE(I$1,"*PICASSO*"),oldOTB!$W:$Z,4,FALSE),IFERROR(VLOOKUP(CONCATENATE(I$1,"*PICASSO*"),oldOTB!$X:$Z,3,FALSE),IFERROR(VLOOKUP(CONCATENATE(I$1,"*PICASSO*"),oldOTB!$Y:$Z,2,FALSE),""))))))) | J14: =IFERROR(VLOOKUP(CONCATENATE(J$1,"*PICASSO*"),oldOTB!$S:$Z,8,FALSE),IFERROR(VLOOKUP(CONCATENATE(J$1,"*PICASSO*"),oldOTB!$T:$Z,7,FALSE),IFERROR(VLOOKUP(CONCATENATE(J$1,"*PICASSO*"),oldOTB!$U:$Z,6,FALSE),IFERROR(VLOOKUP(CONCATENATE(J$1,"*PICASSO*"),oldOTB!$V:$Z,5,FALSE),IFERROR(VLOOKUP(CONCATENATE(J$1,"*PICASSO*"),oldOTB!$W:$Z,4,FALSE),IFERROR(VLOOKUP(CONCATENATE(J$1,"*PICASSO*"),oldOTB!$X:$Z,3,FALSE),IFERROR(VLOOKUP(CONCATENATE(J$1,"*PICASSO*"),oldOTB!$Y:$Z,2,FALSE),""))))))) -> UNEP 30pax en U | K14: =IFERROR(VLOOKUP(CONCATENATE(K$1,"*PICASSO*"),oldOTB!$S:$Z,8,FALSE),IFERROR(VLOOKUP(CONCATENATE(K$1,"*PICASSO*"),oldOTB!$T:$Z,7,FALSE),IFERROR(VLOOKUP(CONCATENATE(K$1,"*PICASSO*"),oldOTB!$U:$Z,6,FALSE),IFERROR(VLOOKUP(CONCATENATE(K$1,"*PICASSO*"),oldOTB!$V:$Z,5,FALSE),IFERROR(VLOOKUP(CONCATENATE(K$1,"*PICASSO*"),oldOTB!$W:$Z,4,FALSE),IFERROR(VLOOKUP(CONCATENATE(K$1,"*PICASSO*"),oldOTB!$X:$Z,3,FALSE),IFERROR(VLOOKUP(CONCATENATE(K$1,"*PICASSO*"),oldOTB!$Y:$Z,2,FALSE),""))))))) -> UNEP 30pax en U | L14: =IFERROR(VLOOKUP(CONCATENATE(L$1,"*PICASSO*"),oldOTB!$S:$Z,8,FALSE),IFERROR(VLOOKUP(CONCATENATE(L$1,"*PICASSO*"),oldOTB!$T:$Z,7,FALSE),IFERROR(VLOOKUP(CONCATENATE(L$1,"*PICASSO*"),oldOTB!$U:$Z,6,FALSE),IFERROR(VLOOKUP(CONCATENATE(L$1,"*PICASSO*"),oldOTB!$V:$Z,5,FALSE),IFERROR(VLOOKUP(CONCATENATE(L$1,"*PICASSO*"),oldOTB!$W:$Z,4,FALSE),IFERROR(VLOOKUP(CONCATENATE(L$1,"*PICASSO*"),oldOTB!$X:$Z,3,FALSE),IFERROR(VLOOKUP(CONCATENATE(L$1,"*PICASSO*"),oldOTB!$Y:$Z,2,FALSE),""))))))) | ... AI14: =IFERROR(VLOOKUP(CONCATENATE(AI$1,"*PICASSO*"),oldOTB!$S:$Z,8,FALSE),IFERROR(VLOOKUP(CONCATENATE(AI$1,"*PICASSO*"),oldOTB!$T:$Z,7,FALSE),IFERROR(VLOOKUP(CONCATENATE(AI$1,"*PICASSO*"),oldOTB!$U:$Z,6,FALSE),IFERROR(VLOOKUP(CONCATENATE(AI$1,"*PICASSO*"),oldOTB!$V:$Z,5,FALSE),IFERROR(VLOOKUP(CONCATENATE(AI$1,"*PICASSO*"),oldOTB!$W:$Z,4,FALSE),IFERROR(VLOOKUP(CONCATENATE(AI$1,"*PICASSO*"),oldOTB!$X:$Z,3,FALSE),IFERROR(VLOOKUP(CONCATENATE(AI$1,"*PICASSO*"),oldOTB!$Y:$Z,2,FALSE),""))))))) | AJ14: PICASSO | AK14: =CONCATENATE(E$1,E14) -> 42370 | AL14: =CONCATENATE(F$1,F14) -> 42371 | AM14: =CONCATENATE(G$1,G14) -> 42372 | AN14: =CONCATENATE(H$1,H14) -> 42373 | AO14: =CONCATENATE(I$1,I14) -> 42374 | AP14: =CONCATENATE(J$1,J14) -> 42375UNEP 30pax en U | AQ14: =CONCATENATE(K$1,K14) -> 42376UNEP 30pax en U | AR14: =CONCATENATE(L$1,L14) -> 42377 | ... BO14: =CONCATENATE(AI$1,AI14) -> 42400
A15: GREVIN | E15: =IFERROR(VLOOKUP(CONCATENATE(E$1,"*GREVIN*"),oldOTB!$S:$Z,8,FALSE),IFERROR(VLOOKUP(CONCATENATE(E$1,"*GREVIN*"),oldOTB!$T:$Z,7,FALSE),IFERROR(VLOOKUP(CONCATENATE(E$1,"*GREVIN*"),oldOTB!$U:$Z,6,FALSE),IFERROR(VLOOKUP(CONCATENATE(E$1,"*GREVIN*"),oldOTB!$V:$Z,5,FALSE),IFERROR(VLOOKUP(CONCATENATE(E$1,"*GREVIN*"),oldOTB!$W:$Z,4,FALSE),IFERROR(VLOOKUP(CONCATENATE(E$1,"*GREVIN*"),oldOTB!$X:$Z,3,FALSE),IFERROR(VLOOKUP(CONCATENATE(E$1,"*GREVIN*"),oldOTB!$Y:$Z,2,FALSE),""))))))) | F15: =IFERROR(VLOOKUP(CONCATENATE(F$1,"*GREVIN*"),oldOTB!$S:$Z,8,FALSE),IFERROR(VLOOKUP(CONCATENATE(F$1,"*GREVIN*"),oldOTB!$T:$Z,7,FALSE),IFERROR(VLOOKUP(CONCATENATE(F$1,"*GREVIN*"),oldOTB!$U:$Z,6,FALSE),IFERROR(VLOOKUP(CONCATENATE(F$1,"*GREVIN*"),oldOTB!$V:$Z,5,FALSE),IFERROR(VLOOKUP(CONCATENATE(F$1,"*GREVIN*"),oldOTB!$W:$Z,4,FALSE),IFERROR(VLOOKUP(CONCATENATE(F$1,"*GREVIN*"),oldOTB!$X:$Z,3,FALSE),IFERROR(VLOOKUP(CONCATENATE(F$1,"*GREVIN*"),oldOTB!$Y:$Z,2,FALSE),""))))))) | G15: =IFERROR(VLOOKUP(CONCATENATE(G$1,"*GREVIN*"),oldOTB!$S:$Z,8,FALSE),IFERROR(VLOOKUP(CONCATENATE(G$1,"*GREVIN*"),oldOTB!$T:$Z,7,FALSE),IFERROR(VLOOKUP(CONCATENATE(G$1,"*GREVIN*"),oldOTB!$U:$Z,6,FALSE),IFERROR(VLOOKUP(CONCATENATE(G$1,"*GREVIN*"),oldOTB!$V:$Z,5,FALSE),IFERROR(VLOOKUP(CONCATENATE(G$1,"*GREVIN*"),oldOTB!$W:$Z,4,FALSE),IFERROR(VLOOKUP(CONCATENATE(G$1,"*GREVIN*"),oldOTB!$X:$Z,3,FALSE),IFERROR(VLOOKUP(CONCATENATE(G$1,"*GREVIN*"),oldOTB!$Y:$Z,2,FALSE),""))))))) | H15: =IFERROR(VLOOKUP(CONCATENATE(H$1,"*GREVIN*"),oldOTB!$S:$Z,8,FALSE),IFERROR(VLOOKUP(CONCATENATE(H$1,"*GREVIN*"),oldOTB!$T:$Z,7,FALSE),IFERROR(VLOOKUP(CONCATENATE(H$1,"*GREVIN*"),oldOTB!$U:$Z,6,FALSE),IFERROR(VLOOKUP(CONCATENATE(H$1,"*GREVIN*"),oldOTB!$V:$Z,5,FALSE),IFERROR(VLOOKUP(CONCATENATE(H$1,"*GREVIN*"),oldOTB!$W:$Z,4,FALSE),IFERROR(VLOOKUP(CONCATENATE(H$1,"*GREVIN*"),oldOTB!$X:$Z,3,FALSE),IFERROR(VLOOKUP(CONCATENATE(H$1,"*GREVIN*"),oldOTB!$Y:$Z,2,FALSE),""))))))) | I15: =IFERROR(VLOOKUP(CONCATENATE(I$1,"*GREVIN*"),oldOTB!$S:$Z,8,FALSE),IFERROR(VLOOKUP(CONCATENATE(I$1,"*GREVIN*"),oldOTB!$T:$Z,7,FALSE),IFERROR(VLOOKUP(CONCATENATE(I$1,"*GREVIN*"),oldOTB!$U:$Z,6,FALSE),IFERROR(VLOOKUP(CONCATENATE(I$1,"*GREVIN*"),oldOTB!$V:$Z,5,FALSE),IFERROR(VLOOKUP(CONCATENATE(I$1,"*GREVIN*"),oldOTB!$W:$Z,4,FALSE),IFERROR(VLOOKUP(CONCATENATE(I$1,"*GREVIN*"),oldOTB!$X:$Z,3,FALSE),IFERROR(VLOOKUP(CONCATENATE(I$1,"*GREVIN*"),oldOTB!$Y:$Z,2,FALSE),""))))))) | J15: =IFERROR(VLOOKUP(CONCATENATE(J$1,"*GREVIN*"),oldOTB!$S:$Z,8,FALSE),IFERROR(VLOOKUP(CONCATENATE(J$1,"*GREVIN*"),oldOTB!$T:$Z,7,FALSE),IFERROR(VLOOKUP(CONCATENATE(J$1,"*GREVIN*"),oldOTB!$U:$Z,6,FALSE),IFERROR(VLOOKUP(CONCATENATE(J$1,"*GREVIN*"),oldOTB!$V:$Z,5,FALSE),IFERROR(VLOOKUP(CONCATENATE(J$1,"*GREVIN*"),oldOTB!$W:$Z,4,FALSE),IFERROR(VLOOKUP(CONCATENATE(J$1,"*GREVIN*"),oldOTB!$X:$Z,3,FALSE),IFERROR(VLOOKUP(CONCATENATE(J$1,"*GREVIN*"),oldOTB!$Y:$Z,2,FALSE),""))))))) -> UNEP 30pax en U | K15: =IFERROR(VLOOKUP(CONCATENATE(K$1,"*GREVIN*"),oldOTB!$S:$Z,8,FALSE),IFERROR(VLOOKUP(CONCATENATE(K$1,"*GREVIN*"),oldOTB!$T:$Z,7,FALSE),IFERROR(VLOOKUP(CONCATENATE(K$1,"*GREVIN*"),oldOTB!$U:$Z,6,FALSE),IFERROR(VLOOKUP(CONCATENATE(K$1,"*GREVIN*"),oldOTB!$V:$Z,5,FALSE),IFERROR(VLOOKUP(CONCATENATE(K$1,"*GREVIN*"),oldOTB!$W:$Z,4,FALSE),IFERROR(VLOOKUP(CONCATENATE(K$1,"*GREVIN*"),oldOTB!$X:$Z,3,FALSE),IFERROR(VLOOKUP(CONCATENATE(K$1,"*GREVIN*"),oldOTB!$Y:$Z,2,FALSE),""))))))) -> UNEP 30pax en U | L15: =IFERROR(VLOOKUP(CONCATENATE(L$1,"*GREVIN*"),oldOTB!$S:$Z,8,FALSE),IFERROR(VLOOKUP(CONCATENATE(L$1,"*GREVIN*"),oldOTB!$T:$Z,7,FALSE),IFERROR(VLOOKUP(CONCATENATE(L$1,"*GREVIN*"),oldOTB!$U:$Z,6,FALSE),IFERROR(VLOOKUP(CONCATENATE(L$1,"*GREVIN*"),oldOTB!$V:$Z,5,FALSE),IFERROR(VLOOKUP(CONCATENATE(L$1,"*GREVIN*"),oldOTB!$W:$Z,4,FALSE),IFERROR(VLOOKUP(CONCATENATE(L$1,"*GREVIN*"),oldOTB!$X:$Z,3,FALSE),IFERROR(VLOOKUP(CONCATENATE(L$1,"*GREVIN*"),oldOTB!$Y:$Z,2,FALSE),""))))))) | ... AI15: =IFERROR(VLOOKUP(CONCATENATE(AI$1,"*GREVIN*"),oldOTB!$S:$Z,8,FALSE),IFERROR(VLOOKUP(CONCATENATE(AI$1,"*GREVIN*"),oldOTB!$T:$Z,7,FALSE),IFERROR(VLOOKUP(CONCATENATE(AI$1,"*GREVIN*"),oldOTB!$U:$Z,6,FALSE),IFERROR(VLOOKUP(CONCATENATE(AI$1,"*GREVIN*"),oldOTB!$V:$Z,5,FALSE),IFERROR(VLOOKUP(CONCATENATE(AI$1,"*GREVIN*"),oldOTB!$W:$Z,4,FALSE),IFERROR(VLOOKUP(CONCATENATE(AI$1,"*GREVIN*"),oldOTB!$X:$Z,3,FALSE),IFERROR(VLOOKUP(CONCATENATE(AI$1,"*GREVIN*"),oldOTB!$Y:$Z,2,FALSE),""))))))) -> CORPS MEMOIRE pax en | AJ15: GREVIN | AK15: =CONCATENATE(E$1,E15) -> 42370 | AL15: =CONCATENATE(F$1,F15) -> 42371 | AM15: =CONCATENATE(G$1,G15) -> 42372 | AN15: =CONCATENATE(H$1,H15) -> 42373 | AO15: =CONCATENATE(I$1,I15) -> 42374 | AP15: =CONCATENATE(J$1,J15) -> 42375UNEP 30pax en U | AQ15: =CONCATENATE(K$1,K15) -> 42376UNEP 30pax en U | AR15: =CONCATENATE(L$1,L15) -> 42377 | ... BO15: =CONCATENATE(AI$1,AI15) -> 42400CORPS MEMOIRE pax en
A16: IENA | E16: =IFERROR(VLOOKUP(CONCATENATE(E$1,"*IENA*"),oldOTB!$S:$Z,8,FALSE),IFERROR(VLOOKUP(CONCATENATE(E$1,"*IENA*"),oldOTB!$T:$Z,7,FALSE),IFERROR(VLOOKUP(CONCATENATE(E$1,"*IENA*"),oldOTB!$U:$Z,6,FALSE),IFERROR(VLOOKUP(CONCATENATE(E$1,"*IENA*"),oldOTB!$V:$Z,5,FALSE),IFERROR(VLOOKUP(CONCATENATE(E$1,"*IENA*"),oldOTB!$W:$Z,4,FALSE),IFERROR(VLOOKUP(CONCATENATE(E$1,"*IENA*"),oldOTB!$X:$Z,3,FALSE),IFERROR(VLOOKUP(CONCATENATE(E$1,"*IENA*"),oldOTB!$Y:$Z,2,FALSE),""))))))) | F16: =IFERROR(VLOOKUP(CONCATENATE(F$1,"*IENA*"),oldOTB!$S:$Z,8,FALSE),IFERROR(VLOOKUP(CONCATENATE(F$1,"*IENA*"),oldOTB!$T:$Z,7,FALSE),IFERROR(VLOOKUP(CONCATENATE(F$1,"*IENA*"),oldOTB!$U:$Z,6,FALSE),IFERROR(VLOOKUP(CONCATENATE(F$1,"*IENA*"),oldOTB!$V:$Z,5,FALSE),IFERROR(VLOOKUP(CONCATENATE(F$1,"*IENA*"),oldOTB!$W:$Z,4,FALSE),IFERROR(VLOOKUP(CONCATENATE(F$1,"*IENA*"),oldOTB!$X:$Z,3,FALSE),IFERROR(VLOOKUP(CONCATENATE(F$1,"*IENA*"),oldOTB!$Y:$Z,2,FALSE),""))))))) | G16: =IFERROR(VLOOKUP(CONCATENATE(G$1,"*IENA*"),oldOTB!$S:$Z,8,FALSE),IFERROR(VLOOKUP(CONCATENATE(G$1,"*IENA*"),oldOTB!$T:$Z,7,FALSE),IFERROR(VLOOKUP(CONCATENATE(G$1,"*IENA*"),oldOTB!$U:$Z,6,FALSE),IFERROR(VLOOKUP(CONCATENATE(G$1,"*IENA*"),oldOTB!$V:$Z,5,FALSE),IFERROR(VLOOKUP(CONCATENATE(G$1,"*IENA*"),oldOTB!$W:$Z,4,FALSE),IFERROR(VLOOKUP(CONCATENATE(G$1,"*IENA*"),oldOTB!$X:$Z,3,FALSE),IFERROR(VLOOKUP(CONCATENATE(G$1,"*IENA*"),oldOTB!$Y:$Z,2,FALSE),""))))))) | H16: =IFERROR(VLOOKUP(CONCATENATE(H$1,"*IENA*"),oldOTB!$S:$Z,8,FALSE),IFERROR(VLOOKUP(CONCATENATE(H$1,"*IENA*"),oldOTB!$T:$Z,7,FALSE),IFERROR(VLOOKUP(CONCATENATE(H$1,"*IENA*"),oldOTB!$U:$Z,6,FALSE),IFERROR(VLOOKUP(CONCATENATE(H$1,"*IENA*"),oldOTB!$V:$Z,5,FALSE),IFERROR(VLOOKUP(CONCATENATE(H$1,"*IENA*"),oldOTB!$W:$Z,4,FALSE),IFERROR(VLOOKUP(CONCATENATE(H$1,"*IENA*"),oldOTB!$X:$Z,3,FALSE),IFERROR(VLOOKUP(CONCATENATE(H$1,"*IENA*"),oldOTB!$Y:$Z,2,FALSE),""))))))) | I16: =IFERROR(VLOOKUP(CONCATENATE(I$1,"*IENA*"),oldOTB!$S:$Z,8,FALSE),IFERROR(VLOOKUP(CONCATENATE(I$1,"*IENA*"),oldOTB!$T:$Z,7,FALSE),IFERROR(VLOOKUP(CONCATENATE(I$1,"*IENA*"),oldOTB!$U:$Z,6,FALSE),IFERROR(VLOOKUP(CONCATENATE(I$1,"*IENA*"),oldOTB!$V:$Z,5,FALSE),IFERROR(VLOOKUP(CONCATENATE(I$1,"*IENA*"),oldOTB!$W:$Z,4,FALSE),IFERROR(VLOOKUP(CONCATENATE(I$1,"*IENA*"),oldOTB!$X:$Z,3,FALSE),IFERROR(VLOOKUP(CONCATENATE(I$1,"*IENA*"),oldOTB!$Y:$Z,2,FALSE),""))))))) | J16: =IFERROR(VLOOKUP(CONCATENATE(J$1,"*IENA*"),oldOTB!$S:$Z,8,FALSE),IFERROR(VLOOKUP(CONCATENATE(J$1,"*IENA*"),oldOTB!$T:$Z,7,FALSE),IFERROR(VLOOKUP(CONCATENATE(J$1,"*IENA*"),oldOTB!$U:$Z,6,FALSE),IFERROR(VLOOKUP(CONCATENATE(J$1,"*IENA*"),oldOTB!$V:$Z,5,FALSE),IFERROR(VLOOKUP(CONCATENATE(J$1,"*IENA*"),oldOTB!$W:$Z,4,FALSE),IFERROR(VLOOKUP(CONCATENATE(J$1,"*IENA*"),oldOTB!$X:$Z,3,FALSE),IFERROR(VLOOKUP(CONCATENATE(J$1,"*IENA*"),oldOTB!$Y:$Z,2,FALSE),""))))))) | K16: =IFERROR(VLOOKUP(CONCATENATE(K$1,"*IENA*"),oldOTB!$S:$Z,8,FALSE),IFERROR(VLOOKUP(CONCATENATE(K$1,"*IENA*"),oldOTB!$T:$Z,7,FALSE),IFERROR(VLOOKUP(CONCATENATE(K$1,"*IENA*"),oldOTB!$U:$Z,6,FALSE),IFERROR(VLOOKUP(CONCATENATE(K$1,"*IENA*"),oldOTB!$V:$Z,5,FALSE),IFERROR(VLOOKUP(CONCATENATE(K$1,"*IENA*"),oldOTB!$W:$Z,4,FALSE),IFERROR(VLOOKUP(CONCATENATE(K$1,"*IENA*"),oldOTB!$X:$Z,3,FALSE),IFERROR(VLOOKUP(CONCATENATE(K$1,"*IENA*"),oldOTB!$Y:$Z,2,FALSE),""))))))) | L16: =IFERROR(VLOOKUP(CONCATENATE(L$1,"*IENA*"),oldOTB!$S:$Z,8,FALSE),IFERROR(VLOOKUP(CONCATENATE(L$1,"*IENA*"),oldOTB!$T:$Z,7,FALSE),IFERROR(VLOOKUP(CONCATENATE(L$1,"*IENA*"),oldOTB!$U:$Z,6,FALSE),IFERROR(VLOOKUP(CONCATENATE(L$1,"*IENA*"),oldOTB!$V:$Z,5,FALSE),IFERROR(VLOOKUP(CONCATENATE(L$1,"*IENA*"),oldOTB!$W:$Z,4,FALSE),IFERROR(VLOOKUP(CONCATENATE(L$1,"*IENA*"),oldOTB!$X:$Z,3,FALSE),IFERROR(VLOOKUP(CONCATENATE(L$1,"*IENA*"),oldOTB!$Y:$Z,2,FALSE),""))))))) | ... AI16: =IFERROR(VLOOKUP(CONCATENATE(AI$1,"*IENA*"),oldOTB!$S:$Z,8,FALSE),IFERROR(VLOOKUP(CONCATENATE(AI$1,"*IENA*"),oldOTB!$T:$Z,7,FALSE),IFERROR(VLOOKUP(CONCATENATE(AI$1,"*IENA*"),oldOTB!$U:$Z,6,FALSE),IFERROR(VLOOKUP(CONCATENATE(AI$1,"*IENA*"),oldOTB!$V:$Z,5,FALSE),IFERROR(VLOOKUP(CONCATENATE(AI$1,"*IENA*"),oldOTB!$W:$Z,4,FALSE),IFERROR(VLOOKUP(CONCATENATE(AI$1,"*IENA*"),oldOTB!$X:$Z,3,FALSE),IFERROR(VLOOKUP(CONCATENATE(AI$1,"*IENA*"),oldOTB!$Y:$Z,2,FALSE),""))))))) | AJ16: IENA | AK16: =CONCATENATE(E$1,E16) -> 42370 | AL16: =CONCATENATE(F$1,F16) -> 42371 | AM16: =CONCATENATE(G$1,G16) -> 42372 | AN16: =CONCATENATE(H$1,H16) -> 42373 | AO16: =CONCATENATE(I$1,I16) -> 42374 | AP16: =CONCATENATE(J$1,J16) -> 42375 | AQ16: =CONCATENATE(K$1,K16) -> 42376 | AR16: =CONCATENATE(L$1,L16) -> 42377 | ... BO16: =CONCATENATE(AI$1,AI16) -> 42400
A17: GRENELLE | E17: =IFERROR(VLOOKUP(CONCATENATE(E$1,"*GRENELLE*"),oldOTB!$S:$Z,8,FALSE),IFERROR(VLOOKUP(CONCATENATE(E$1,"*GRENELLE*"),oldOTB!$T:$Z,7,FALSE),IFERROR(VLOOKUP(CONCATENATE(E$1,"*GRENELLE*"),oldOTB!$U:$Z,6,FALSE),IFERROR(VLOOKUP(CONCATENATE(E$1,"*GRENELLE*"),oldOTB!$V:$Z,5,FALSE),IFERROR(VLOOKUP(CONCATENATE(E$1,"*GRENELLE*"),oldOTB!$W:$Z,4,FALSE),IFERROR(VLOOKUP(CONCATENATE(E$1,"*GRENELLE*"),oldOTB!$X:$Z,3,FALSE),IFERROR(VLOOKUP(CONCATENATE(E$1,"*GRENELLE*"),oldOTB!$Y:$Z,2,FALSE),""))))))) | F17: =IFERROR(VLOOKUP(CONCATENATE(F$1,"*GRENELLE*"),oldOTB!$S:$Z,8,FALSE),IFERROR(VLOOKUP(CONCATENATE(F$1,"*GRENELLE*"),oldOTB!$T:$Z,7,FALSE),IFERROR(VLOOKUP(CONCATENATE(F$1,"*GRENELLE*"),oldOTB!$U:$Z,6,FALSE),IFERROR(VLOOKUP(CONCATENATE(F$1,"*GRENELLE*"),oldOTB!$V:$Z,5,FALSE),IFERROR(VLOOKUP(CONCATENATE(F$1,"*GRENELLE*"),oldOTB!$W:$Z,4,FALSE),IFERROR(VLOOKUP(CONCATENATE(F$1,"*GRENELLE*"),oldOTB!$X:$Z,3,FALSE),IFERROR(VLOOKUP(CONCATENATE(F$1,"*GRENELLE*"),oldOTB!$Y:$Z,2,FALSE),""))))))) | G17: =IFERROR(VLOOKUP(CONCATENATE(G$1,"*GRENELLE*"),oldOTB!$S:$Z,8,FALSE),IFERROR(VLOOKUP(CONCATENATE(G$1,"*GRENELLE*"),oldOTB!$T:$Z,7,FALSE),IFERROR(VLOOKUP(CONCATENATE(G$1,"*GRENELLE*"),oldOTB!$U:$Z,6,FALSE),IFERROR(VLOOKUP(CONCATENATE(G$1,"*GRENELLE*"),oldOTB!$V:$Z,5,FALSE),IFERROR(VLOOKUP(CONCATENATE(G$1,"*GRENELLE*"),oldOTB!$W:$Z,4,FALSE),IFERROR(VLOOKUP(CONCATENATE(G$1,"*GRENELLE*"),oldOTB!$X:$Z,3,FALSE),IFERROR(VLOOKUP(CONCATENATE(G$1,"*GRENELLE*"),oldOTB!$Y:$Z,2,FALSE),""))))))) | H17: =IFERROR(VLOOKUP(CONCATENATE(H$1,"*GRENELLE*"),oldOTB!$S:$Z,8,FALSE),IFERROR(VLOOKUP(CONCATENATE(H$1,"*GRENELLE*"),oldOTB!$T:$Z,7,FALSE),IFERROR(VLOOKUP(CONCATENATE(H$1,"*GRENELLE*"),oldOTB!$U:$Z,6,FALSE),IFERROR(VLOOKUP(CONCATENATE(H$1,"*GRENELLE*"),oldOTB!$V:$Z,5,FALSE),IFERROR(VLOOKUP(CONCATENATE(H$1,"*GRENELLE*"),oldOTB!$W:$Z,4,FALSE),IFERROR(VLOOKUP(CONCATENATE(H$1,"*GRENELLE*"),oldOTB!$X:$Z,3,FALSE),IFERROR(VLOOKUP(CONCATENATE(H$1,"*GRENELLE*"),oldOTB!$Y:$Z,2,FALSE),""))))))) | I17: =IFERROR(VLOOKUP(CONCATENATE(I$1,"*GRENELLE*"),oldOTB!$S:$Z,8,FALSE),IFERROR(VLOOKUP(CONCATENATE(I$1,"*GRENELLE*"),oldOTB!$T:$Z,7,FALSE),IFERROR(VLOOKUP(CONCATENATE(I$1,"*GRENELLE*"),oldOTB!$U:$Z,6,FALSE),IFERROR(VLOOKUP(CONCATENATE(I$1,"*GRENELLE*"),oldOTB!$V:$Z,5,FALSE),IFERROR(VLOOKUP(CONCATENATE(I$1,"*GRENELLE*"),oldOTB!$W:$Z,4,FALSE),IFERROR(VLOOKUP(CONCATENATE(I$1,"*GRENELLE*"),oldOTB!$X:$Z,3,FALSE),IFERROR(VLOOKUP(CONCATENATE(I$1,"*GRENELLE*"),oldOTB!$Y:$Z,2,FALSE),""))))))) | J17: =IFERROR(VLOOKUP(CONCATENATE(J$1,"*GRENELLE*"),oldOTB!$S:$Z,8,FALSE),IFERROR(VLOOKUP(CONCATENATE(J$1,"*GRENELLE*"),oldOTB!$T:$Z,7,FALSE),IFERROR(VLOOKUP(CONCATENATE(J$1,"*GRENELLE*"),oldOTB!$U:$Z,6,FALSE),IFERROR(VLOOKUP(CONCATENATE(J$1,"*GRENELLE*"),oldOTB!$V:$Z,5,FALSE),IFERROR(VLOOKUP(CONCATENATE(J$1,"*GRENELLE*"),oldOTB!$W:$Z,4,FALSE),IFERROR(VLOOKUP(CONCATENATE(J$1,"*GRENELLE*"),oldOTB!$X:$Z,3,FALSE),IFERROR(VLOOKUP(CONCATENATE(J$1,"*GRENELLE*"),oldOTB!$Y:$Z,2,FALSE),""))))))) -> BURALISTES pax en | K17: =IFERROR(VLOOKUP(CONCATENATE(K$1,"*GRENELLE*"),oldOTB!$S:$Z,8,FALSE),IFERROR(VLOOKUP(CONCATENATE(K$1,"*GRENELLE*"),oldOTB!$T:$Z,7,FALSE),IFERROR(VLOOKUP(CONCATENATE(K$1,"*GRENELLE*"),oldOTB!$U:$Z,6,FALSE),IFERROR(VLOOKUP(CONCATENATE(K$1,"*GRENELLE*"),oldOTB!$V:$Z,5,FALSE),IFERROR(VLOOKUP(CONCATENATE(K$1,"*GRENELLE*"),oldOTB!$W:$Z,4,FALSE),IFERROR(VLOOKUP(CONCATENATE(K$1,"*GRENELLE*"),oldOTB!$X:$Z,3,FALSE),IFERROR(VLOOKUP(CONCATENATE(K$1,"*GRENELLE*"),oldOTB!$Y:$Z,2,FALSE),""))))))) -> PLASTIC OMNIUM pax en | L17: =IFERROR(VLOOKUP(CONCATENATE(L$1,"*GRENELLE*"),oldOTB!$S:$Z,8,FALSE),IFERROR(VLOOKUP(CONCATENATE(L$1,"*GRENELLE*"),oldOTB!$T:$Z,7,FALSE),IFERROR(VLOOKUP(CONCATENATE(L$1,"*GRENELLE*"),oldOTB!$U:$Z,6,FALSE),IFERROR(VLOOKUP(CONCATENATE(L$1,"*GRENELLE*"),oldOTB!$V:$Z,5,FALSE),IFERROR(VLOOKUP(CONCATENATE(L$1,"*GRENELLE*"),oldOTB!$W:$Z,4,FALSE),IFERROR(VLOOKUP(CONCATENATE(L$1,"*GRENELLE*"),oldOTB!$X:$Z,3,FALSE),IFERROR(VLOOKUP(CONCATENATE(L$1,"*GRENELLE*"),oldOTB!$Y:$Z,2,FALSE),""))))))) -> PLASTIC OMNIUM pax en | ... AI17: =IFERROR(VLOOKUP(CONCATENATE(AI$1,"*GRENELLE*"),oldOTB!$S:$Z,8,FALSE),IFERROR(VLOOKUP(CONCATENATE(AI$1,"*GRENELLE*"),oldOTB!$T:$Z,7,FALSE),IFERROR(VLOOKUP(CONCATENATE(AI$1,"*GRENELLE*"),oldOTB!$U:$Z,6,FALSE),IFERROR(VLOOKUP(CONCATENATE(AI$1,"*GRENELLE*"),oldOTB!$V:$Z,5,FALSE),IFERROR(VLOOKUP(CONCATENATE(AI$1,"*GRENELLE*"),oldOTB!$W:$Z,4,FALSE),IFERROR(VLOOKUP(CONCATENATE(AI$1,"*GRENELLE*"),oldOTB!$X:$Z,3,FALSE),IFERROR(VLOOKUP(CONCATENATE(AI$1,"*GRENELLE*"),oldOTB!$Y:$Z,2,FALSE),""))))))) | AJ17: GRENELLE | AK17: =CONCATENATE(E$1,E17) -> 42370 | AL17: =CONCATENATE(F$1,F17) -> 42371 | AM17: =CONCATENATE(G$1,G17) -> 42372 | AN17: =CONCATENATE(H$1,H17) -> 42373 | AO17: =CONCATENATE(I$1,I17) -> 42374 | AP17: =CONCATENATE(J$1,J17) -> 42375BURALISTES pax en | AQ17: =CONCATENATE(K$1,K17) -> 42376PLASTIC OMNIUM pax en | AR17: =CONCATENATE(L$1,L17) -> 42377PLASTIC OMNIUM pax en | ... BO17: =CONCATENATE(AI$1,AI17) -> 42400
A18: SULLY | E18: =IFERROR(VLOOKUP(CONCATENATE(E$1,"*SULLY*"),oldOTB!$S:$Z,8,FALSE),IFERROR(VLOOKUP(CONCATENATE(E$1,"*SULLY*"),oldOTB!$T:$Z,7,FALSE),IFERROR(VLOOKUP(CONCATENATE(E$1,"*SULLY*"),oldOTB!$U:$Z,6,FALSE),IFERROR(VLOOKUP(CONCATENATE(E$1,"*SULLY*"),oldOTB!$V:$Z,5,FALSE),IFERROR(VLOOKUP(CONCATENATE(E$1,"*SULLY*"),oldOTB!$W:$Z,4,FALSE),IFERROR(VLOOKUP(CONCATENATE(E$1,"*SULLY*"),oldOTB!$X:$Z,3,FALSE),IFERROR(VLOOKUP(CONCATENATE(E$1,"*SULLY*"),oldOTB!$Y:$Z,2,FALSE),""))))))) | F18: =IFERROR(VLOOKUP(CONCATENATE(F$1,"*SULLY*"),oldOTB!$S:$Z,8,FALSE),IFERROR(VLOOKUP(CONCATENATE(F$1,"*SULLY*"),oldOTB!$T:$Z,7,FALSE),IFERROR(VLOOKUP(CONCATENATE(F$1,"*SULLY*"),oldOTB!$U:$Z,6,FALSE),IFERROR(VLOOKUP(CONCATENATE(F$1,"*SULLY*"),oldOTB!$V:$Z,5,FALSE),IFERROR(VLOOKUP(CONCATENATE(F$1,"*SULLY*"),oldOTB!$W:$Z,4,FALSE),IFERROR(VLOOKUP(CONCATENATE(F$1,"*SULLY*"),oldOTB!$X:$Z,3,FALSE),IFERROR(VLOOKUP(CONCATENATE(F$1,"*SULLY*"),oldOTB!$Y:$Z,2,FALSE),""))))))) | G18: =IFERROR(VLOOKUP(CONCATENATE(G$1,"*SULLY*"),oldOTB!$S:$Z,8,FALSE),IFERROR(VLOOKUP(CONCATENATE(G$1,"*SULLY*"),oldOTB!$T:$Z,7,FALSE),IFERROR(VLOOKUP(CONCATENATE(G$1,"*SULLY*"),oldOTB!$U:$Z,6,FALSE),IFERROR(VLOOKUP(CONCATENATE(G$1,"*SULLY*"),oldOTB!$V:$Z,5,FALSE),IFERROR(VLOOKUP(CONCATENATE(G$1,"*SULLY*"),oldOTB!$W:$Z,4,FALSE),IFERROR(VLOOKUP(CONCATENATE(G$1,"*SULLY*"),oldOTB!$X:$Z,3,FALSE),IFERROR(VLOOKUP(CONCATENATE(G$1,"*SULLY*"),oldOTB!$Y:$Z,2,FALSE),""))))))) | H18: =IFERROR(VLOOKUP(CONCATENATE(H$1,"*SULLY*"),oldOTB!$S:$Z,8,FALSE),IFERROR(VLOOKUP(CONCATENATE(H$1,"*SULLY*"),oldOTB!$T:$Z,7,FALSE),IFERROR(VLOOKUP(CONCATENATE(H$1,"*SULLY*"),oldOTB!$U:$Z,6,FALSE),IFERROR(VLOOKUP(CONCATENATE(H$1,"*SULLY*"),oldOTB!$V:$Z,5,FALSE),IFERROR(VLOOKUP(CONCATENATE(H$1,"*SULLY*"),oldOTB!$W:$Z,4,FALSE),IFERROR(VLOOKUP(CONCATENATE(H$1,"*SULLY*"),oldOTB!$X:$Z,3,FALSE),IFERROR(VLOOKUP(CONCATENATE(H$1,"*SULLY*"),oldOTB!$Y:$Z,2,FALSE),""))))))) | I18: =IFERROR(VLOOKUP(CONCATENATE(I$1,"*SULLY*"),oldOTB!$S:$Z,8,FALSE),IFERROR(VLOOKUP(CONCATENATE(I$1,"*SULLY*"),oldOTB!$T:$Z,7,FALSE),IFERROR(VLOOKUP(CONCATENATE(I$1,"*SULLY*"),oldOTB!$U:$Z,6,FALSE),IFERROR(VLOOKUP(CONCATENATE(I$1,"*SULLY*"),oldOTB!$V:$Z,5,FALSE),IFERROR(VLOOKUP(CONCATENATE(I$1,"*SULLY*"),oldOTB!$W:$Z,4,FALSE),IFERROR(VLOOKUP(CONCATENATE(I$1,"*SULLY*"),oldOTB!$X:$Z,3,FALSE),IFERROR(VLOOKUP(CONCATENATE(I$1,"*SULLY*"),oldOTB!$Y:$Z,2,FALSE),""))))))) | J18: =IFERROR(VLOOKUP(CONCATENATE(J$1,"*SULLY*"),oldOTB!$S:$Z,8,FALSE),IFERROR(VLOOKUP(CONCATENATE(J$1,"*SULLY*"),oldOTB!$T:$Z,7,FALSE),IFERROR(VLOOKUP(CONCATENATE(J$1,"*SULLY*"),oldOTB!$U:$Z,6,FALSE),IFERROR(VLOOKUP(CONCATENATE(J$1,"*SULLY*"),oldOTB!$V:$Z,5,FALSE),IFERROR(VLOOKUP(CONCATENATE(J$1,"*SULLY*"),oldOTB!$W:$Z,4,FALSE),IFERROR(VLOOKUP(CONCATENATE(J$1,"*SULLY*"),oldOTB!$X:$Z,3,FALSE),IFERROR(VLOOKUP(CONCATENATE(J$1,"*SULLY*"),oldOTB!$Y:$Z,2,FALSE),""))))))) | K18: =IFERROR(VLOOKUP(CONCATENATE(K$1,"*SULLY*"),oldOTB!$S:$Z,8,FALSE),IFERROR(VLOOKUP(CONCATENATE(K$1,"*SULLY*"),oldOTB!$T:$Z,7,FALSE),IFERROR(VLOOKUP(CONCATENATE(K$1,"*SULLY*"),oldOTB!$U:$Z,6,FALSE),IFERROR(VLOOKUP(CONCATENATE(K$1,"*SULLY*"),oldOTB!$V:$Z,5,FALSE),IFERROR(VLOOKUP(CONCATENATE(K$1,"*SULLY*"),oldOTB!$W:$Z,4,FALSE),IFERROR(VLOOKUP(CONCATENATE(K$1,"*SULLY*"),oldOTB!$X:$Z,3,FALSE),IFERROR(VLOOKUP(CONCATENATE(K$1,"*SULLY*"),oldOTB!$Y:$Z,2,FALSE),""))))))) | L18: =IFERROR(VLOOKUP(CONCATENATE(L$1,"*SULLY*"),oldOTB!$S:$Z,8,FALSE),IFERROR(VLOOKUP(CONCATENATE(L$1,"*SULLY*"),oldOTB!$T:$Z,7,FALSE),IFERROR(VLOOKUP(CONCATENATE(L$1,"*SULLY*"),oldOTB!$U:$Z,6,FALSE),IFERROR(VLOOKUP(CONCATENATE(L$1,"*SULLY*"),oldOTB!$V:$Z,5,FALSE),IFERROR(VLOOKUP(CONCATENATE(L$1,"*SULLY*"),oldOTB!$W:$Z,4,FALSE),IFERROR(VLOOKUP(CONCATENATE(L$1,"*SULLY*"),oldOTB!$X:$Z,3,FALSE),IFERROR(VLOOKUP(CONCATENATE(L$1,"*SULLY*"),oldOTB!$Y:$Z,2,FALSE),""))))))) | ... AI18: =IFERROR(VLOOKUP(CONCATENATE(AI$1,"*SULLY*"),oldOTB!$S:$Z,8,FALSE),IFERROR(VLOOKUP(CONCATENATE(AI$1,"*SULLY*"),oldOTB!$T:$Z,7,FALSE),IFERROR(VLOOKUP(CONCATENATE(AI$1,"*SULLY*"),oldOTB!$U:$Z,6,FALSE),IFERROR(VLOOKUP(CONCATENATE(AI$1,"*SULLY*"),oldOTB!$V:$Z,5,FALSE),IFERROR(VLOOKUP(CONCATENATE(AI$1,"*SULLY*"),oldOTB!$W:$Z,4,FALSE),IFERROR(VLOOKUP(CONCATENATE(AI$1,"*SULLY*"),oldOTB!$X:$Z,3,FALSE),IFERROR(VLOOKUP(CONCATENATE(AI$1,"*SULLY*"),oldOTB!$Y:$Z,2,FALSE),""))))))) | AJ18: SULLY | AK18: =CONCATENATE(E$1,E18) -> 42370 | AL18: =CONCATENATE(F$1,F18) -> 42371 | AM18: =CONCATENATE(G$1,G18) -> 42372 | AN18: =CONCATENATE(H$1,H18) -> 42373 | AO18: =CONCATENATE(I$1,I18) -> 42374 | AP18: =CONCATENATE(J$1,J18) -> 42375 | AQ18: =CONCATENATE(K$1,K18) -> 42376 | AR18: =CONCATENATE(L$1,L18) -> 42377 | ... BO18: =CONCATENATE(AI$1,AI18) -> 42400
A19: MIRABEAU | E19: =IFERROR(VLOOKUP(CONCATENATE(E$1,"*MIRABEAU*"),oldOTB!$S:$Z,8,FALSE),IFERROR(VLOOKUP(CONCATENATE(E$1,"*MIRABEAU*"),oldOTB!$T:$Z,7,FALSE),IFERROR(VLOOKUP(CONCATENATE(E$1,"*MIRABEAU*"),oldOTB!$U:$Z,6,FALSE),IFERROR(VLOOKUP(CONCATENATE(E$1,"*MIRABEAU*"),oldOTB!$V:$Z,5,FALSE),IFERROR(VLOOKUP(CONCATENATE(E$1,"*MIRABEAU*"),oldOTB!$W:$Z,4,FALSE),IFERROR(VLOOKUP(CONCATENATE(E$1,"*MIRABEAU*"),oldOTB!$X:$Z,3,FALSE),IFERROR(VLOOKUP(CONCATENATE(E$1,"*MIRABEAU*"),oldOTB!$Y:$Z,2,FALSE),""))))))) | F19: =IFERROR(VLOOKUP(CONCATENATE(F$1,"*MIRABEAU*"),oldOTB!$S:$Z,8,FALSE),IFERROR(VLOOKUP(CONCATENATE(F$1,"*MIRABEAU*"),oldOTB!$T:$Z,7,FALSE),IFERROR(VLOOKUP(CONCATENATE(F$1,"*MIRABEAU*"),oldOTB!$U:$Z,6,FALSE),IFERROR(VLOOKUP(CONCATENATE(F$1,"*MIRABEAU*"),oldOTB!$V:$Z,5,FALSE),IFERROR(VLOOKUP(CONCATENATE(F$1,"*MIRABEAU*"),oldOTB!$W:$Z,4,FALSE),IFERROR(VLOOKUP(CONCATENATE(F$1,"*MIRABEAU*"),oldOTB!$X:$Z,3,FALSE),IFERROR(VLOOKUP(CONCATENATE(F$1,"*MIRABEAU*"),oldOTB!$Y:$Z,2,FALSE),""))))))) | G19: =IFERROR(VLOOKUP(CONCATENATE(G$1,"*MIRABEAU*"),oldOTB!$S:$Z,8,FALSE),IFERROR(VLOOKUP(CONCATENATE(G$1,"*MIRABEAU*"),oldOTB!$T:$Z,7,FALSE),IFERROR(VLOOKUP(CONCATENATE(G$1,"*MIRABEAU*"),oldOTB!$U:$Z,6,FALSE),IFERROR(VLOOKUP(CONCATENATE(G$1,"*MIRABEAU*"),oldOTB!$V:$Z,5,FALSE),IFERROR(VLOOKUP(CONCATENATE(G$1,"*MIRABEAU*"),oldOTB!$W:$Z,4,FALSE),IFERROR(VLOOKUP(CONCATENATE(G$1,"*MIRABEAU*"),oldOTB!$X:$Z,3,FALSE),IFERROR(VLOOKUP(CONCATENATE(G$1,"*MIRABEAU*"),oldOTB!$Y:$Z,2,FALSE),""))))))) | H19: =IFERROR(VLOOKUP(CONCATENATE(H$1,"*MIRABEAU*"),oldOTB!$S:$Z,8,FALSE),IFERROR(VLOOKUP(CONCATENATE(H$1,"*MIRABEAU*"),oldOTB!$T:$Z,7,FALSE),IFERROR(VLOOKUP(CONCATENATE(H$1,"*MIRABEAU*"),oldOTB!$U:$Z,6,FALSE),IFERROR(VLOOKUP(CONCATENATE(H$1,"*MIRABEAU*"),oldOTB!$V:$Z,5,FALSE),IFERROR(VLOOKUP(CONCATENATE(H$1,"*MIRABEAU*"),oldOTB!$W:$Z,4,FALSE),IFERROR(VLOOKUP(CONCATENATE(H$1,"*MIRABEAU*"),oldOTB!$X:$Z,3,FALSE),IFERROR(VLOOKUP(CONCATENATE(H$1,"*MIRABEAU*"),oldOTB!$Y:$Z,2,FALSE),""))))))) | I19: =IFERROR(VLOOKUP(CONCATENATE(I$1,"*MIRABEAU*"),oldOTB!$S:$Z,8,FALSE),IFERROR(VLOOKUP(CONCATENATE(I$1,"*MIRABEAU*"),oldOTB!$T:$Z,7,FALSE),IFERROR(VLOOKUP(CONCATENATE(I$1,"*MIRABEAU*"),oldOTB!$U:$Z,6,FALSE),IFERROR(VLOOKUP(CONCATENATE(I$1,"*MIRABEAU*"),oldOTB!$V:$Z,5,FALSE),IFERROR(VLOOKUP(CONCATENATE(I$1,"*MIRABEAU*"),oldOTB!$W:$Z,4,FALSE),IFERROR(VLOOKUP(CONCATENATE(I$1,"*MIRABEAU*"),oldOTB!$X:$Z,3,FALSE),IFERROR(VLOOKUP(CONCATENATE(I$1,"*MIRABEAU*"),oldOTB!$Y:$Z,2,FALSE),""))))))) | J19: =IFERROR(VLOOKUP(CONCATENATE(J$1,"*MIRABEAU*"),oldOTB!$S:$Z,8,FALSE),IFERROR(VLOOKUP(CONCATENATE(J$1,"*MIRABEAU*"),oldOTB!$T:$Z,7,FALSE),IFERROR(VLOOKUP(CONCATENATE(J$1,"*MIRABEAU*"),oldOTB!$U:$Z,6,FALSE),IFERROR(VLOOKUP(CONCATENATE(J$1,"*MIRABEAU*"),oldOTB!$V:$Z,5,FALSE),IFERROR(VLOOKUP(CONCATENATE(J$1,"*MIRABEAU*"),oldOTB!$W:$Z,4,FALSE),IFERROR(VLOOKUP(CONCATENATE(J$1,"*MIRABEAU*"),oldOTB!$X:$Z,3,FALSE),IFERROR(VLOOKUP(CONCATENATE(J$1,"*MIRABEAU*"),oldOTB!$Y:$Z,2,FALSE),""))))))) | K19: =IFERROR(VLOOKUP(CONCATENATE(K$1,"*MIRABEAU*"),oldOTB!$S:$Z,8,FALSE),IFERROR(VLOOKUP(CONCATENATE(K$1,"*MIRABEAU*"),oldOTB!$T:$Z,7,FALSE),IFERROR(VLOOKUP(CONCATENATE(K$1,"*MIRABEAU*"),oldOTB!$U:$Z,6,FALSE),IFERROR(VLOOKUP(CONCATENATE(K$1,"*MIRABEAU*"),oldOTB!$V:$Z,5,FALSE),IFERROR(VLOOKUP(CONCATENATE(K$1,"*MIRABEAU*"),oldOTB!$W:$Z,4,FALSE),IFERROR(VLOOKUP(CONCATENATE(K$1,"*MIRABEAU*"),oldOTB!$X:$Z,3,FALSE),IFERROR(VLOOKUP(CONCATENATE(K$1,"*MIRABEAU*"),oldOTB!$Y:$Z,2,FALSE),""))))))) -> ALLIANZ 58pax en | L19: =IFERROR(VLOOKUP(CONCATENATE(L$1,"*MIRABEAU*"),oldOTB!$S:$Z,8,FALSE),IFERROR(VLOOKUP(CONCATENATE(L$1,"*MIRABEAU*"),oldOTB!$T:$Z,7,FALSE),IFERROR(VLOOKUP(CONCATENATE(L$1,"*MIRABEAU*"),oldOTB!$U:$Z,6,FALSE),IFERROR(VLOOKUP(CONCATENATE(L$1,"*MIRABEAU*"),oldOTB!$V:$Z,5,FALSE),IFERROR(VLOOKUP(CONCATENATE(L$1,"*MIRABEAU*"),oldOTB!$W:$Z,4,FALSE),IFERROR(VLOOKUP(CONCATENATE(L$1,"*MIRABEAU*"),oldOTB!$X:$Z,3,FALSE),IFERROR(VLOOKUP(CONCATENATE(L$1,"*MIRABEAU*"),oldOTB!$Y:$Z,2,FALSE),""))))))) | ... AI19: =IFERROR(VLOOKUP(CONCATENATE(AI$1,"*MIRABEAU*"),oldOTB!$S:$Z,8,FALSE),IFERROR(VLOOKUP(CONCATENATE(AI$1,"*MIRABEAU*"),oldOTB!$T:$Z,7,FALSE),IFERROR(VLOOKUP(CONCATENATE(AI$1,"*MIRABEAU*"),oldOTB!$U:$Z,6,FALSE),IFERROR(VLOOKUP(CONCATENATE(AI$1,"*MIRABEAU*"),oldOTB!$V:$Z,5,FALSE),IFERROR(VLOOKUP(CONCATENATE(AI$1,"*MIRABEAU*"),oldOTB!$W:$Z,4,FALSE),IFERROR(VLOOKUP(CONCATENATE(AI$1,"*MIRABEAU*"),oldOTB!$X:$Z,3,FALSE),IFERROR(VLOOKUP(CONCATENATE(AI$1,"*MIRABEAU*"),oldOTB!$Y:$Z,2,FALSE),""))))))) | AJ19: MIRABEAU | AK19: =CONCATENATE(E$1,E19) -> 42370 | AL19: =CONCATENATE(F$1,F19) -> 42371 | AM19: =CONCATENATE(G$1,G19) -> 42372 | AN19: =CONCATENATE(H$1,H19) -> 42373 | AO19: =CONCATENATE(I$1,I19) -> 42374 | AP19: =CONCATENATE(J$1,J19) -> 42375 | AQ19: =CONCATENATE(K$1,K19) -> 42376ALLIANZ 58pax en | AR19: =CONCATENATE(L$1,L19) -> 42377 | ... BO19: =CONCATENATE(AI$1,AI19) -> 42400
A20: MONCEAU | E20: =IFERROR(VLOOKUP(CONCATENATE(E$1,"*MONCEAU*"),oldOTB!$S:$Z,8,FALSE),IFERROR(VLOOKUP(CONCATENATE(E$1,"*MONCEAU*"),oldOTB!$T:$Z,7,FALSE),IFERROR(VLOOKUP(CONCATENATE(E$1,"*MONCEAU*"),oldOTB!$U:$Z,6,FALSE),IFERROR(VLOOKUP(CONCATENATE(E$1,"*MONCEAU*"),oldOTB!$V:$Z,5,FALSE),IFERROR(VLOOKUP(CONCATENATE(E$1,"*MONCEAU*"),oldOTB!$W:$Z,4,FALSE),IFERROR(VLOOKUP(CONCATENATE(E$1,"*MONCEAU*"),oldOTB!$X:$Z,3,FALSE),IFERROR(VLOOKUP(CONCATENATE(E$1,"*MONCEAU*"),oldOTB!$Y:$Z,2,FALSE),""))))))) | F20: =IFERROR(VLOOKUP(CONCATENATE(F$1,"*MONCEAU*"),oldOTB!$S:$Z,8,FALSE),IFERROR(VLOOKUP(CONCATENATE(F$1,"*MONCEAU*"),oldOTB!$T:$Z,7,FALSE),IFERROR(VLOOKUP(CONCATENATE(F$1,"*MONCEAU*"),oldOTB!$U:$Z,6,FALSE),IFERROR(VLOOKUP(CONCATENATE(F$1,"*MONCEAU*"),oldOTB!$V:$Z,5,FALSE),IFERROR(VLOOKUP(CONCATENATE(F$1,"*MONCEAU*"),oldOTB!$W:$Z,4,FALSE),IFERROR(VLOOKUP(CONCATENATE(F$1,"*MONCEAU*"),oldOTB!$X:$Z,3,FALSE),IFERROR(VLOOKUP(CONCATENATE(F$1,"*MONCEAU*"),oldOTB!$Y:$Z,2,FALSE),""))))))) | G20: =IFERROR(VLOOKUP(CONCATENATE(G$1,"*MONCEAU*"),oldOTB!$S:$Z,8,FALSE),IFERROR(VLOOKUP(CONCATENATE(G$1,"*MONCEAU*"),oldOTB!$T:$Z,7,FALSE),IFERROR(VLOOKUP(CONCATENATE(G$1,"*MONCEAU*"),oldOTB!$U:$Z,6,FALSE),IFERROR(VLOOKUP(CONCATENATE(G$1,"*MONCEAU*"),oldOTB!$V:$Z,5,FALSE),IFERROR(VLOOKUP(CONCATENATE(G$1,"*MONCEAU*"),oldOTB!$W:$Z,4,FALSE),IFERROR(VLOOKUP(CONCATENATE(G$1,"*MONCEAU*"),oldOTB!$X:$Z,3,FALSE),IFERROR(VLOOKUP(CONCATENATE(G$1,"*MONCEAU*"),oldOTB!$Y:$Z,2,FALSE),""))))))) | H20: =IFERROR(VLOOKUP(CONCATENATE(H$1,"*MONCEAU*"),oldOTB!$S:$Z,8,FALSE),IFERROR(VLOOKUP(CONCATENATE(H$1,"*MONCEAU*"),oldOTB!$T:$Z,7,FALSE),IFERROR(VLOOKUP(CONCATENATE(H$1,"*MONCEAU*"),oldOTB!$U:$Z,6,FALSE),IFERROR(VLOOKUP(CONCATENATE(H$1,"*MONCEAU*"),oldOTB!$V:$Z,5,FALSE),IFERROR(VLOOKUP(CONCATENATE(H$1,"*MONCEAU*"),oldOTB!$W:$Z,4,FALSE),IFERROR(VLOOKUP(CONCATENATE(H$1,"*MONCEAU*"),oldOTB!$X:$Z,3,FALSE),IFERROR(VLOOKUP(CONCATENATE(H$1,"*MONCEAU*"),oldOTB!$Y:$Z,2,FALSE),""))))))) | I20: =IFERROR(VLOOKUP(CONCATENATE(I$1,"*MONCEAU*"),oldOTB!$S:$Z,8,FALSE),IFERROR(VLOOKUP(CONCATENATE(I$1,"*MONCEAU*"),oldOTB!$T:$Z,7,FALSE),IFERROR(VLOOKUP(CONCATENATE(I$1,"*MONCEAU*"),oldOTB!$U:$Z,6,FALSE),IFERROR(VLOOKUP(CONCATENATE(I$1,"*MONCEAU*"),oldOTB!$V:$Z,5,FALSE),IFERROR(VLOOKUP(CONCATENATE(I$1,"*MONCEAU*"),oldOTB!$W:$Z,4,FALSE),IFERROR(VLOOKUP(CONCATENATE(I$1,"*MONCEAU*"),oldOTB!$X:$Z,3,FALSE),IFERROR(VLOOKUP(CONCATENATE(I$1,"*MONCEAU*"),oldOTB!$Y:$Z,2,FALSE),""))))))) | J20: =IFERROR(VLOOKUP(CONCATENATE(J$1,"*MONCEAU*"),oldOTB!$S:$Z,8,FALSE),IFERROR(VLOOKUP(CONCATENATE(J$1,"*MONCEAU*"),oldOTB!$T:$Z,7,FALSE),IFERROR(VLOOKUP(CONCATENATE(J$1,"*MONCEAU*"),oldOTB!$U:$Z,6,FALSE),IFERROR(VLOOKUP(CONCATENATE(J$1,"*MONCEAU*"),oldOTB!$V:$Z,5,FALSE),IFERROR(VLOOKUP(CONCATENATE(J$1,"*MONCEAU*"),oldOTB!$W:$Z,4,FALSE),IFERROR(VLOOKUP(CONCATENATE(J$1,"*MONCEAU*"),oldOTB!$X:$Z,3,FALSE),IFERROR(VLOOKUP(CONCATENATE(J$1,"*MONCEAU*"),oldOTB!$Y:$Z,2,FALSE),""))))))) | K20: =IFERROR(VLOOKUP(CONCATENATE(K$1,"*MONCEAU*"),oldOTB!$S:$Z,8,FALSE),IFERROR(VLOOKUP(CONCATENATE(K$1,"*MONCEAU*"),oldOTB!$T:$Z,7,FALSE),IFERROR(VLOOKUP(CONCATENATE(K$1,"*MONCEAU*"),oldOTB!$U:$Z,6,FALSE),IFERROR(VLOOKUP(CONCATENATE(K$1,"*MONCEAU*"),oldOTB!$V:$Z,5,FALSE),IFERROR(VLOOKUP(CONCATENATE(K$1,"*MONCEAU*"),oldOTB!$W:$Z,4,FALSE),IFERROR(VLOOKUP(CONCATENATE(K$1,"*MONCEAU*"),oldOTB!$X:$Z,3,FALSE),IFERROR(VLOOKUP(CONCATENATE(K$1,"*MONCEAU*"),oldOTB!$Y:$Z,2,FALSE),""))))))) | L20: =IFERROR(VLOOKUP(CONCATENATE(L$1,"*MONCEAU*"),oldOTB!$S:$Z,8,FALSE),IFERROR(VLOOKUP(CONCATENATE(L$1,"*MONCEAU*"),oldOTB!$T:$Z,7,FALSE),IFERROR(VLOOKUP(CONCATENATE(L$1,"*MONCEAU*"),oldOTB!$U:$Z,6,FALSE),IFERROR(VLOOKUP(CONCATENATE(L$1,"*MONCEAU*"),oldOTB!$V:$Z,5,FALSE),IFERROR(VLOOKUP(CONCATENATE(L$1,"*MONCEAU*"),oldOTB!$W:$Z,4,FALSE),IFERROR(VLOOKUP(CONCATENATE(L$1,"*MONCEAU*"),oldOTB!$X:$Z,3,FALSE),IFERROR(VLOOKUP(CONCATENATE(L$1,"*MONCEAU*"),oldOTB!$Y:$Z,2,FALSE),""))))))) | ... AI20: =IFERROR(VLOOKUP(CONCATENATE(AI$1,"*MONCEAU*"),oldOTB!$S:$Z,8,FALSE),IFERROR(VLOOKUP(CONCATENATE(AI$1,"*MONCEAU*"),oldOTB!$T:$Z,7,FALSE),IFERROR(VLOOKUP(CONCATENATE(AI$1,"*MONCEAU*"),oldOTB!$U:$Z,6,FALSE),IFERROR(VLOOKUP(CONCATENATE(AI$1,"*MONCEAU*"),oldOTB!$V:$Z,5,FALSE),IFERROR(VLOOKUP(CONCATENATE(AI$1,"*MONCEAU*"),oldOTB!$W:$Z,4,FALSE),IFERROR(VLOOKUP(CONCATENATE(AI$1,"*MONCEAU*"),oldOTB!$X:$Z,3,FALSE),IFERROR(VLOOKUP(CONCATENATE(AI$1,"*MONCEAU*"),oldOTB!$Y:$Z,2,FALSE),""))))))) | AJ20: MONCEAU | AK20: =CONCATENATE(E$1,E20) -> 42370 | AL20: =CONCATENATE(F$1,F20) -> 42371 | AM20: =CONCATENATE(G$1,G20) -> 42372 | AN20: =CONCATENATE(H$1,H20) -> 42373 | AO20: =CONCATENATE(I$1,I20) -> 42374 | AP20: =CONCATENATE(J$1,J20) -> 42375 | AQ20: =CONCATENATE(K$1,K20) -> 42376 | AR20: =CONCATENATE(L$1,L20) -> 42377 | ... BO20: =CONCATENATE(AI$1,AI20) -> 42400
A21: PARIS | E21: =IFERROR(VLOOKUP(CONCATENATE(E$1,"*PARIS*"),oldOTB!$S:$Z,8,FALSE),IFERROR(VLOOKUP(CONCATENATE(E$1,"*PARIS*"),oldOTB!$T:$Z,7,FALSE),IFERROR(VLOOKUP(CONCATENATE(E$1,"*PARIS*"),oldOTB!$U:$Z,6,FALSE),IFERROR(VLOOKUP(CONCATENATE(E$1,"*PARIS*"),oldOTB!$V:$Z,5,FALSE),IFERROR(VLOOKUP(CONCATENATE(E$1,"*PARIS*"),oldOTB!$W:$Z,4,FALSE),IFERROR(VLOOKUP(CONCATENATE(E$1,"*PARIS*"),oldOTB!$X:$Z,3,FALSE),IFERROR(VLOOKUP(CONCATENATE(E$1,"*PARIS*"),oldOTB!$Y:$Z,2,FALSE),""))))))) | F21: =IFERROR(VLOOKUP(CONCATENATE(F$1,"*PARIS*"),oldOTB!$S:$Z,8,FALSE),IFERROR(VLOOKUP(CONCATENATE(F$1,"*PARIS*"),oldOTB!$T:$Z,7,FALSE),IFERROR(VLOOKUP(CONCATENATE(F$1,"*PARIS*"),oldOTB!$U:$Z,6,FALSE),IFERROR(VLOOKUP(CONCATENATE(F$1,"*PARIS*"),oldOTB!$V:$Z,5,FALSE),IFERROR(VLOOKUP(CONCATENATE(F$1,"*PARIS*"),oldOTB!$W:$Z,4,FALSE),IFERROR(VLOOKUP(CONCATENATE(F$1,"*PARIS*"),oldOTB!$X:$Z,3,FALSE),IFERROR(VLOOKUP(CONCATENATE(F$1,"*PARIS*"),oldOTB!$Y:$Z,2,FALSE),""))))))) | G21: =IFERROR(VLOOKUP(CONCATENATE(G$1,"*PARIS*"),oldOTB!$S:$Z,8,FALSE),IFERROR(VLOOKUP(CONCATENATE(G$1,"*PARIS*"),oldOTB!$T:$Z,7,FALSE),IFERROR(VLOOKUP(CONCATENATE(G$1,"*PARIS*"),oldOTB!$U:$Z,6,FALSE),IFERROR(VLOOKUP(CONCATENATE(G$1,"*PARIS*"),oldOTB!$V:$Z,5,FALSE),IFERROR(VLOOKUP(CONCATENATE(G$1,"*PARIS*"),oldOTB!$W:$Z,4,FALSE),IFERROR(VLOOKUP(CONCATENATE(G$1,"*PARIS*"),oldOTB!$X:$Z,3,FALSE),IFERROR(VLOOKUP(CONCATENATE(G$1,"*PARIS*"),oldOTB!$Y:$Z,2,FALSE),""))))))) | H21: =IFERROR(VLOOKUP(CONCATENATE(H$1,"*PARIS*"),oldOTB!$S:$Z,8,FALSE),IFERROR(VLOOKUP(CONCATENATE(H$1,"*PARIS*"),oldOTB!$T:$Z,7,FALSE),IFERROR(VLOOKUP(CONCATENATE(H$1,"*PARIS*"),oldOTB!$U:$Z,6,FALSE),IFERROR(VLOOKUP(CONCATENATE(H$1,"*PARIS*"),oldOTB!$V:$Z,5,FALSE),IFERROR(VLOOKUP(CONCATENATE(H$1,"*PARIS*"),oldOTB!$W:$Z,4,FALSE),IFERROR(VLOOKUP(CONCATENATE(H$1,"*PARIS*"),oldOTB!$X:$Z,3,FALSE),IFERROR(VLOOKUP(CONCATENATE(H$1,"*PARIS*"),oldOTB!$Y:$Z,2,FALSE),""))))))) | I21: =IFERROR(VLOOKUP(CONCATENATE(I$1,"*PARIS*"),oldOTB!$S:$Z,8,FALSE),IFERROR(VLOOKUP(CONCATENATE(I$1,"*PARIS*"),oldOTB!$T:$Z,7,FALSE),IFERROR(VLOOKUP(CONCATENATE(I$1,"*PARIS*"),oldOTB!$U:$Z,6,FALSE),IFERROR(VLOOKUP(CONCATENATE(I$1,"*PARIS*"),oldOTB!$V:$Z,5,FALSE),IFERROR(VLOOKUP(CONCATENATE(I$1,"*PARIS*"),oldOTB!$W:$Z,4,FALSE),IFERROR(VLOOKUP(CONCATENATE(I$1,"*PARIS*"),oldOTB!$X:$Z,3,FALSE),IFERROR(VLOOKUP(CONCATENATE(I$1,"*PARIS*"),oldOTB!$Y:$Z,2,FALSE),""))))))) | J21: =IFERROR(VLOOKUP(CONCATENATE(J$1,"*PARIS*"),oldOTB!$S:$Z,8,FALSE),IFERROR(VLOOKUP(CONCATENATE(J$1,"*PARIS*"),oldOTB!$T:$Z,7,FALSE),IFERROR(VLOOKUP(CONCATENATE(J$1,"*PARIS*"),oldOTB!$U:$Z,6,FALSE),IFERROR(VLOOKUP(CONCATENATE(J$1,"*PARIS*"),oldOTB!$V:$Z,5,FALSE),IFERROR(VLOOKUP(CONCATENATE(J$1,"*PARIS*"),oldOTB!$W:$Z,4,FALSE),IFERROR(VLOOKUP(CONCATENATE(J$1,"*PARIS*"),oldOTB!$X:$Z,3,FALSE),IFERROR(VLOOKUP(CONCATENATE(J$1,"*PARIS*"),oldOTB!$Y:$Z,2,FALSE),""))))))) | K21: =IFERROR(VLOOKUP(CONCATENATE(K$1,"*PARIS*"),oldOTB!$S:$Z,8,FALSE),IFERROR(VLOOKUP(CONCATENATE(K$1,"*PARIS*"),oldOTB!$T:$Z,7,FALSE),IFERROR(VLOOKUP(CONCATENATE(K$1,"*PARIS*"),oldOTB!$U:$Z,6,FALSE),IFERROR(VLOOKUP(CONCATENATE(K$1,"*PARIS*"),oldOTB!$V:$Z,5,FALSE),IFERROR(VLOOKUP(CONCATENATE(K$1,"*PARIS*"),oldOTB!$W:$Z,4,FALSE),IFERROR(VLOOKUP(CONCATENATE(K$1,"*PARIS*"),oldOTB!$X:$Z,3,FALSE),IFERROR(VLOOKUP(CONCATENATE(K$1,"*PARIS*"),oldOTB!$Y:$Z,2,FALSE),""))))))) | L21: =IFERROR(VLOOKUP(CONCATENATE(L$1,"*PARIS*"),oldOTB!$S:$Z,8,FALSE),IFERROR(VLOOKUP(CONCATENATE(L$1,"*PARIS*"),oldOTB!$T:$Z,7,FALSE),IFERROR(VLOOKUP(CONCATENATE(L$1,"*PARIS*"),oldOTB!$U:$Z,6,FALSE),IFERROR(VLOOKUP(CONCATENATE(L$1,"*PARIS*"),oldOTB!$V:$Z,5,FALSE),IFERROR(VLOOKUP(CONCATENATE(L$1,"*PARIS*"),oldOTB!$W:$Z,4,FALSE),IFERROR(VLOOKUP(CONCATENATE(L$1,"*PARIS*"),oldOTB!$X:$Z,3,FALSE),IFERROR(VLOOKUP(CONCATENATE(L$1,"*PARIS*"),oldOTB!$Y:$Z,2,FALSE),""))))))) | ... AI21: =IFERROR(VLOOKUP(CONCATENATE(AI$1,"*PARIS*"),oldOTB!$S:$Z,8,FALSE),IFERROR(VLOOKUP(CONCATENATE(AI$1,"*PARIS*"),oldOTB!$T:$Z,7,FALSE),IFERROR(VLOOKUP(CONCATENATE(AI$1,"*PARIS*"),oldOTB!$U:$Z,6,FALSE),IFERROR(VLOOKUP(CONCATENATE(AI$1,"*PARIS*"),oldOTB!$V:$Z,5,FALSE),IFERROR(VLOOKUP(CONCATENATE(AI$1,"*PARIS*"),oldOTB!$W:$Z,4,FALSE),IFERROR(VLOOKUP(CONCATENATE(AI$1,"*PARIS*"),oldOTB!$X:$Z,3,FALSE),IFERROR(VLOOKUP(CONCATENATE(AI$1,"*PARIS*"),oldOTB!$Y:$Z,2,FALSE),""))))))) | AJ21: PARIS | AK21: =CONCATENATE(E$1,E21) -> 42370 | AL21: =CONCATENATE(F$1,F21) -> 42371 | AM21: =CONCATENATE(G$1,G21) -> 42372 | AN21: =CONCATENATE(H$1,H21) -> 42373 | AO21: =CONCATENATE(I$1,I21) -> 42374 | AP21: =CONCATENATE(J$1,J21) -> 42375 | AQ21: =CONCATENATE(K$1,K21) -> 42376 | AR21: =CONCATENATE(L$1,L21) -> 42377 | ... BO21: =CONCATENATE(AI$1,AI21) -> 42400
