Workbook

Sheet oldOTB
A1: N de résa | B1: date de resa | C1: date in | D1: date out | E1: nb de jours | F1: saison | G1: stratégie | H1: se/we | I1: société | J1: nom du contact | K1: mail | L1: salle | M1: MEP | N1: nb de pax | O1: sr/je | P1: canal de réservation | Q1: nom cc | S1: 1 | T1: 2 | U1: 3 | V1: 4 | W1: 5 | X1: 6 | Y1: 7
C2: 42374 | D2: 42374 | E2: =D2-C2+1 -> 1 | I2: GMPA | J2: SANDRINE DUDOT | L2: ETOILE | S2: =IF($E2>=S$1,CONCATENATE($C2,$L2),"") -> 42374ETOILE | T2: =IF($E2>=T$1,CONCATENATE($C2+1,$L2),"") | U2: =IF($E2>=U$1,CONCATENATE($C2+2,$L2),"") | V2: =IF($E2>=V$1,CONCATENATE($C2+3,$L2),"") | W2: =IF($E2>=W$1,CONCATENATE($C2+4,$L2),"") | X2: =IF($E2>=X$1,CONCATENATE($C2+5,$L2),"") | Y2: =IF($E2>=Y$1,CONCATENATE($C2+6,$L2),"") | Z2: =I2&" "&N2&"pax"&" "&"en"&" "&M2 -> GMPA pax en
C3: 42374 | D3: 42375 | E3: =D3-C3+1 -> 2 | I3: COACH EVENEMENT | L3: LOUVRE | S3: =IF($E3>=S$1,CONCATENATE($C3,$L3),"") -> 42374LOUVRE | T3: =IF($E3>=T$1,CONCATENATE($C3+1,$L3),"") -> 42375LOUVRE | U3: =IF($E3>=U$1,CONCATENATE($C3+2,$L3),"") | V3: =IF($E3>=V$1,CONCATENATE($C3+3,$L3),"") | W3: =IF($E3>=W$1,CONCATENATE($C3+4,$L3),"") | X3: =IF($E3>=X$1,CONCATENATE($C3+5,$L3),"") | Y3: =IF($E3>=Y$1,CONCATENATE($C3+6,$L3),"") | Z3: =I3&" "&N3&"pax"&" "&"en"&" "&M3 -> COACH EVENEMENT pax en
C4: 42375 | D4: 42376 | E4: =D4-C4+1 -> 2 | I4: FNAC | L4: ETOILE | S4: =IF($E4>=S$1,CONCATENATE($C4,$L4),"") -> 42375ETOILE | T4: =IF($E4>=T$1,CONCATENATE($C4+1,$L4),"") -> 42376ETOILE | U4: =IF($E4>=U$1,CONCATENATE($C4+2,$L4),"") | V4: =IF($E4>=V$1,CONCATENATE($C4+3,$L4),"") | W4: =IF($E4>=W$1,CONCATENATE($C4+4,$L4),"") | X4: =IF($E4>=X$1,CONCATENATE($C4+5,$L4),"") | Y4: =IF($E4>=Y$1,CONCATENATE($C4+6,$L4),"") | Z4: =I4&" "&N4&"pax"&" "&"en"&" "&M4 -> FNAC pax en
C5: 42375 | D5: 42375 | E5: =D5-C5+1 -> 1 | I5: BURALISTES | L5: GRENELLE | S5: =IF($E5>=S$1,CONCATENATE($C5,$L5),"") -> 42375GRENELLE | T5: =IF($E5>=T$1,CONCATENATE($C5+1,$L5),"") | U5: =IF($E5>=U$1,CONCATENATE($C5+2,$L5),"") | V5: =IF($E5>=V$1,CONCATENATE($C5+3,$L5),"") | W5: =IF($E5>=W$1,CONCATENATE($C5+4,$L5),"") | X5: =IF($E5>=X$1,CONCATENATE($C5+5,$L5),"") | Y5: =IF($E5>=Y$1,CONCATENATE($C5+6,$L5),"") | Z5: =I5&" "&N5&"pax"&" "&"en"&" "&M5 -> BURALISTES pax en
C6: 42375 | D6: 42376 | E6: =D6-C6+1 -> 2 | I6: UNEP | L6: PICASSO-GREVIN | M6: U | N6: 30 | S6: =IF($E6>=S$1,CONCATENATE($C6,$L6),"") -> 42375PICASSO-GREVIN | T6: =IF($E6>=T$1,CONCATENATE($C6+1,$L6),"") -> 42376PICASSO-GREVIN | U6: =IF($E6>=U$1,CONCATENATE($C6+2,$L6),"") | V6: =IF($E6>=V$1,CONCATENATE($C6+3,$L6),"") | W6: =IF($E6>=W$1,CONCATENATE($C6+4,$L6),"") | X6: =IF($E6>=X$1,CONCATENATE($C6+5,$L6),"") | Y6: =IF($E6>=Y$1,CONCATENATE($C6+6,$L6),"") | Z6: =I6&" "&N6&"pax"&" "&"en"&" "&M6 -> UNEP 30pax en U
C7: 42376 | D7: 42376 | E7: =D7-C7+1 -> 1 | I7: INTERNE | L7: ABBESSES | S7: =IF($E7>=S$1,CONCATENATE($C7,$L7),"") -> 42376ABBESSES | T7: =IF($E7>=T$1,CONCATENATE($C7+1,$L7),"") | U7: =IF($E7>=U$1,CONCATENATE($C7+2,$L7),"") | V7: =IF($E7>=V$1,CONCATENATE($C7+3,$L7),"") | W7: =IF($E7>=W$1,CONCATENATE($C7+4,$L7),"") | X7: =IF($E7>=X$1,CONCATENATE($C7+5,$L7),"") | Y7: =IF($E7>=Y$1,CONCATENATE($C7+6,$L7),"") | Z7: =I7&" "&N7&"pax"&" "&"en"&" "&M7 -> INTERNE pax en
C8: 42376 | D8: 42377 | E8: =D8-C8+1 -> 2 | I8: PLASTIC OMNIUM | L8: GRENELLE | S8: =IF($E8>=S$1,CONCATENATE($C8,$L8),"") -> 42376GRENELLE | T8: =IF($E8>=T$1,CONCATENATE($C8+1,$L8),"") -> 42377GRENELLE | U8: =IF($E8>=U$1,CONCATENATE($C8+2,$L8),"") | V8: =IF($E8>=V$1,CONCATENATE($C8+3,$L8),"") | W8: =IF($E8>=W$1,CONCATENATE($C8+4,$L8),"") | X8: =IF($E8>=X$1,CONCATENATE($C8+5,$L8),"") | Y8: =IF($E8>=Y$1,CONCATENATE($C8+6,$L8),"") | Z8: =I8&" "&N8&"pax"&" "&"en"&" "&M8 -> PLASTIC OMNIUM pax en
C9: 42376 | D9: 42376 | E9: =D9-C9+1 -> 1 | I9: ALLIANZ | L9: MIRABEAU | N9: 58 | S9: =IF($E9>=S$1,CONCATENATE($C9,$L9),"") -> 42376MIRABEAU | T9: =IF($E9>=T$1,CONCATENATE($C9+1,$L9),"") | U9: =IF($E9>=U$1,CONCATENATE($C9+2,$L9),"") | V9: =IF($E9>=V$1,CONCATENATE($C9+3,$L9),"") | W9: =IF($E9>=W$1,CONCATENATE($C9+4,$L9),"") | X9: =IF($E9>=X$1,CONCATENATE($C9+5,$L9),"") | Y9: =IF($E9>=Y$1,CONCATENATE($C9+6,$L9),"") | Z9: =I9&" "&N9&"pax"&" "&"en"&" "&M9 -> ALLIANZ 58pax en
C10: 42377 | D10: 42377 | E10: =D10-C10+1 -> 1 | I10: INTERNE | L10: CARNAVALET | S10: =IF($E10>=S$1,CONCATENATE($C10,$L10),"") -> 42377CARNAVALET | T10: =IF($E10>=T$1,CONCATENATE($C10+1,$L10),"") | U10: =IF($E10>=U$1,CONCATENATE($C10+2,$L10),"") | V10: =IF($E10>=V$1,CONCATENATE($C10+3,$L10),"") | W10: =IF($E10>=W$1,CONCATENATE($C10+4,$L10),"") | X10: =IF($E10>=X$1,CONCATENATE($C10+5,$L10),"") | Y10: =IF($E10>=Y$1,CONCATENATE($C10+6,$L10),"") | Z10: =I10&" "&N10&"pax"&" "&"en"&" "&M10 -> INTERNE pax en
C11: 42377 | D11: 42377 | E11: =D11-C11+1 -> 1 | I11: JP CARRERE | L11: LOUVRE | N11: 6 | S11: =IF($E11>=S$1,CONCATENATE($C11,$L11),"") -> 42377LOUVRE | T11: =IF($E11>=T$1,CONCATENATE($C11+1,$L11),"") | U11: =IF($E11>=U$1,CONCATENATE($C11+2,$L11),"") | V11: =IF($E11>=V$1,CONCATENATE($C11+3,$L11),"") | W11: =IF($E11>=W$1,CONCATENATE($C11+4,$L11),"") | X11: =IF($E11>=X$1,CONCATENATE($C11+5,$L11),"") | Y11: =IF($E11>=Y$1,CONCATENATE($C11+6,$L11),"") | Z11: =I11&" "&N11&"pax"&" "&"en"&" "&M11 -> JP CARRERE 6pax en
C12: 42379 | D12: 42379 | E12: =D12-C12+1 -> 1 | I12: JJ BOUCHET | L12: LOUVRE | S12: =IF($E12>=S$1,CONCATENATE($C12,$L12),"") -> 42379LOUVRE | T12: =IF($E12>=T$1,CONCATENATE($C12+1,$L12),"") | U12: =IF($E12>=U$1,CONCATENATE($C12+2,$L12),"") | V12: =IF($E12>=V$1,CONCATENATE($C12+3,$L12),"") | W12: =IF($E12>=W$1,CONCATENATE($C12+4,$L12),"") | X12: =IF($E12>=X$1,CONCATENATE($C12+5,$L12),"") | Y12: =IF($E12>=Y$1,CONCATENATE($C12+6,$L12),"") | Z12: =I12&" "&N12&"pax"&" "&"en"&" "&M12 -> JJ BOUCHET pax en
C13: 42380 | D13: 42380 | E13: =D13-C13+1 -> 1 | I13: MASE | L13: ABESSES | S13: =IF($E13>=S$1,CONCATENATE($C13,$L13),"") -> 42380ABESSES | T13: =IF($E13>=T$1,CONCATENATE($C13+1,$L13),"") | U13: =IF($E13>=U$1,CONCATENATE($C13+2,$L13),"") | V13: =IF($E13>=V$1,CONCATENATE($C13+3,$L13),"") | W13: =IF($E13>=W$1,CONCATENATE($C13+4,$L13),"") | X13: =IF($E13>=X$1,CONCATENATE($C13+5,$L13),"") | Y13: =IF($E13>=Y$1,CONCATENATE($C13+6,$L13),"") | Z13: =I13&" "&N13&"pax"&" "&"en"&" "&M13 -> MASE pax en
C14: 42380 | D14: 42384 | E14: =D14-C14+1 -> 5 | I14: GMPA | L14: DAUPHINE | M14: AUTRE | S14: =IF($E14>=S$1,CONCATENATE($C14,$L14),"") -> 42380DAUPHINE | T14: =IF($E14>=T$1,CONCATENATE($C14+1,$L14),"") -> 42381DAUPHINE | U14: =IF($E14>=U$1,CONCATENATE($C14+2,$L14),"") -> 42382DAUPHINE | V14: =IF($E14>=V$1,CONCATENATE($C14+3,$L14),"") -> 42383DAUPHINE | W14: =IF($E14>=W$1,CONCATENATE($C14+4,$L14),"") -> 42384DAUPHINE | X14: =IF($E14>=X$1,CONCATENATE($C14+5,$L14),"") | Y14: =IF($E14>=Y$1,CONCATENATE($C14+6,$L14),"") | Z14: =I14&" "&N14&"pax"&" "&"en"&" "&M14 -> GMPA pax en AUTRE
C15: 42380 | D15: 42380 | E15: =D15-C15+1 -> 1 | I15: INTERNE | L15: ETOILE | S15: =IF($E15>=S$1,CONCATENATE($C15,$L15),"") -> 42380ETOILE | T15: =IF($E15>=T$1,CONCATENATE($C15+1,$L15),"") | U15: =IF($E15>=U$1,CONCATENATE($C15+2,$L15),"") | V15: =IF($E15>=V$1,CONCATENATE($C15+3,$L15),"") | W15: =IF($E15>=W$1,CONCATENATE($C15+4,$L15),"") | X15: =IF($E15>=X$1,CONCATENATE($C15+5,$L15),"") | Y15: =IF($E15>=Y$1,CONCATENATE($C15+6,$L15),"") | Z15: =I15&" "&N15&"pax"&" "&"en"&" "&M15 -> INTERNE pax en
C16: 42381 | D16: 42382 | E16: =D16-C16+1 -> 2 | I16: INTERNE | L16: ABESSES | S16: =IF($E16>=S$1,CONCATENATE($C16,$L16),"") -> 42381ABESSES | T16: =IF($E16>=T$1,CONCATENATE($C16+1,$L16),"") -> 42382ABESSES | U16: =IF($E16>=U$1,CONCATENATE($C16+2,$L16),"") | V16: =IF($E16>=V$1,CONCATENATE($C16+3,$L16),"") | W16: =IF($E16>=W$1,CONCATENATE($C16+4,$L16),"") | X16: =IF($E16>=X$1,CONCATENATE($C16+5,$L16),"") | Y16: =IF($E16>=Y$1,CONCATENATE($C16+6,$L16),"") | Z16: =I16&" "&N16&"pax"&" "&"en"&" "&M16 -> INTERNE pax en
C17: 42381 | D17: 42381 | E17: =D17-C17+1 -> 1 | I17: GMPA | L17: CARNAVALET | M17: THEATRE | N17: 25 | S17: =IF($E17>=S$1,CONCATENATE($C17,$L17),"") -> 42381CARNAVALET | T17: =IF($E17>=T$1,CONCATENATE($C17+1,$L17),"") | U17: =IF($E17>=U$1,CONCATENATE($C17+2,$L17),"") | V17: =IF($E17>=V$1,CONCATENATE($C17+3,$L17),"") | W17: =IF($E17>=W$1,CONCATENATE($C17+4,$L17),"") | X17: =IF($E17>=X$1,CONCATENATE($C17+5,$L17),"") | Y17: =IF($E17>=Y$1,CONCATENATE($C17+6,$L17),"") | Z17: =I17&" "&N17&"pax"&" "&"en"&" "&M17 -> GMPA 25pax en THEATRE
C18: 42381 | D18: 42381 | E18: =D18-C18+1 -> 1 | I18: PLASTIC OMNIUM | L18: ETOILE | S18: =IF($E18>=S$1,CONCATENATE($C18,$L18),"") -> 42381ETOILE | T18: =IF($E18>=T$1,CONCATENATE($C18+1,$L18),"") | U18: =IF($E18>=U$1,CONCATENATE($C18+2,$L18),"") | V18: =IF($E18>=V$1,CONCATENATE($C18+3,$L18),"") | W18: =IF($E18>=W$1,CONCATENATE($C18+4,$L18),"") | X18: =IF($E18>=X$1,CONCATENATE($C18+5,$L18),"") | Y18: =IF($E18>=Y$1,CONCATENATE($C18+6,$L18),"") | Z18: =I18&" "&N18&"pax"&" "&"en"&" "&M18 -> PLASTIC OMNIUM pax en
C19: 42381 | D19: 42381 | E19: =D19-C19+1 -> 1 | I19: GMPA | L19: GRENELLE | M19: THEATRE | N19: 25 | S19: =IF($E19>=S$1,CONCATENATE($C19,$L19),"") -> 42381GRENELLE | T19: =IF($E19>=T$1,CONCATENATE($C19+1,$L19),"") | U19: =IF($E19>=U$1,CONCATENATE($C19+2,$L19),"") | V19: =IF($E19>=V$1,CONCATENATE($C19+3,$L19),"") | W19: =IF($E19>=W$1,CONCATENATE($C19+4,$L19),"") | X19: =IF($E19>=X$1,CONCATENATE($C19+5,$L19),"") | Y19: =IF($E19>=Y$1,CONCATENATE($C19+6,$L19),"") | Z19: =I19&" "&N19&"pax"&" "&"en"&" "&M19 -> GMPA 25pax en THEATRE
C20: 42381 | D20: 42381 | E20: =D20-C20+1 -> 1 | I20: GMPA | L20: IENA | M20: THEATRE | N20: 25 | S20: =IF($E20>=S$1,CONCATENATE($C20,$L20),"") -> 42381IENA | T20: =IF($E20>=T$1,CONCATENATE($C20+1,$L20),"") | U20: =IF($E20>=U$1,CONCATENATE($C20+2,$L20),"") | V20: =IF($E20>=V$1,CONCATENATE($C20+3,$L20),"") | W20: =IF($E20>=W$1,CONCATENATE($C20+4,$L20),"") | X20: =IF($E20>=X$1,CONCATENATE($C20+5,$L20),"") | Y20: =IF($E20>=Y$1,CONCATENATE($C20+6,$L20),"") | Z20: =I20&" "&N20&"pax"&" "&"en"&" "&M20 -> GMPA 25pax en THEATRE
C21: 42381 | D21: 42716 | E21: =D21-C21+1 -> 336 | I21: GMPA | L21: LOUVRE | M21: THEATRE | N21: 25 | S21: =IF($E21>=S$1,CONCATENATE($C21,$L21),"") -> 42381LOUVRE | T21: =IF($E21>=T$1,CONCATENATE($C21+1,$L21),"") -> 42382LOUVRE | U21: =IF($E21>=U$1,CONCATENATE($C21+2,$L21),"") -> 42383LOUVRE | V21: =IF($E21>=V$1,CONCATENATE($C21+3,$L21),"") -> 42384LOUVRE | W21: =IF($E21>=W$1,CONCATENATE($C21+4,$L21),"") -> 42385LOUVRE | X21: =IF($E21>=X$1,CONCATENATE($C21+5,$L21),"") -> 42386LOUVRE | Y21: =IF($E21>=Y$1,CONCATENATE($C21+6,$L21),"") -> 42387LOUVRE | Z21: =I21&" "&N21&"pax"&" "&"en"&" "&M21 -> GMPA 25pax en THEATRE
C22: 42381 | D22: 42716 | E22: =D22-C22+1 -> 336 | I22: GMPA | L22: MIRABEAU | M22: THEATRE | N22: 25 | S22: =IF($E22>=S$1,CONCATENATE($C22,$L22),"") -> 42381MIRABEAU | T22: =IF($E22>=T$1,CONCATENATE($C22+1,$L22),"") -> 42382MIRABEAU | U22: =IF($E22>=U$1,CONCATENATE($C22+2,$L22),"") -> 42383MIRABEAU | V22: =IF($E22>=V$1,CONCATENATE($C22+3,$L22),"") -> 42384MIRABEAU | W22: =IF($E22>=W$1,CONCATENATE($C22+4,$L22),"") -> 42385MIRABEAU | X22: =IF($E22>=X$1,CONCATENATE($C22+5,$L22),"") -> 42386MIRABEAU | Y22: =IF($E22>=Y$1,CONCATENATE($C22+6,$L22),"") -> 42387MIRABEAU | Z22: =I22&" "&N22&"pax"&" "&"en"&" "&M22 -> GMPA 25pax en THEATRE
C23: 42381 | D23: 42719 | E23: =D23-C23+1 -> 339 | I23: FNAC | L23: MONCEAU | S23: =IF($E23>=S$1,CONCATENATE($C23,$L23),"") -> 42381MONCEAU | T23: =IF($E23>=T$1,CONCATENATE($C23+1,$L23),"") -> 42382MONCEAU | U23: =IF($E23>=U$1,CONCATENATE($C23+2,$L23),"") -> 42383MONCEAU | V23: =IF($E23>=V$1,CONCATENATE($C23+3,$L23),"") -> 42384MONCEAU | W23: =IF($E23>=W$1,CONCATENATE($C23+4,$L23),"") -> 42385MONCEAU | X23: =IF($E23>=X$1,CONCATENATE($C23+5,$L23),"") -> 42386MONCEAU | Y23: =IF($E23>=Y$1,CONCATENATE($C23+6,$L23),"") -> 42387MONCEAU | Z23: =I23&" "&N23&"pax"&" "&"en"&" "&M23 -> FNAC pax en
C24: 42381 | D24: 42381 | E24: =D24-C24+1 -> 1 | I24: GMPA | L24: RODIN-PICASSO-GREVIN | M24: THEATRE | N24: 185 | S24: =IF($E24>=S$1,CONCATENATE($C24,$L24),"") -> 42381RODIN-PICASSO-GREVIN | T24: =IF($E24>=T$1,CONCATENATE($C24+1,$L24),"") | U24: =IF($E24>=U$1,CONCATENATE($C24+2,$L24),"") | V24: =IF($E24>=V$1,CONCATENATE($C24+3,$L24),"") | W24: =IF($E24>=W$1,CONCATENATE($C24+4,$L24),"") | X24: =IF($E24>=X$1,CONCATENATE($C24+5,$L24),"") | Y24: =IF($E24>=Y$1,CONCATENATE($C24+6,$L24),"") | Z24: =I24&" "&N24&"pax"&" "&"en"&" "&M24 -> GMPA 185pax en THEATRE
C25: 42381 | D25: 42716 | E25: =D25-C25+1 -> 336 | I25: GMPA | L25: SULLY | M25: THEATRE | N25: 25 | S25: =IF($E25>=S$1,CONCATENATE($C25,$L25),"") -> 42381SULLY | T25: =IF($E25>=T$1,CONCATENATE($C25+1,$L25),"") -> 42382SULLY | U25: =IF($E25>=U$1,CONCATENATE($C25+2,$L25),"") -> 42383SULLY | V25: =IF($E25>=V$1,CONCATENATE($C25+3,$L25),"") -> 42384SULLY | W25: =IF($E25>=W$1,CONCATENATE($C25+4,$L25),"") -> 42385SULLY | X25: =IF($E25>=X$1,CONCATENATE($C25+5,$L25),"") -> 42386SULLY | Y25: =IF($E25>=Y$1,CONCATENATE($C25+6,$L25),"") -> 42387SULLY | Z25: =I25&" "&N25&"pax"&" "&"en"&" "&M25 -> GMPA 25pax en THEATRE
C26: 42382 | D26: 42384 | E26: =D26-C26+1 -> 3 | I26: GMPA | L26: CARNAVALET-RODIN | M26: U | N26: 35 | S26: =IF($E26>=S$1,CONCATENATE($C26,$L26),"") -> 42382CARNAVALET-RODIN | T26: =IF($E26>=T$1,CONCATENATE($C26+1,$L26),"") -> 42383CARNAVALET-RODIN | U26: =IF($E26>=U$1,CONCATENATE($C26+2,$L26),"") -> 42384CARNAVALET-RODIN | V26: =IF($E26>=V$1,CONCATENATE($C26+3,$L26),"") | W26: =IF($E26>=W$1,CONCATENATE($C26+4,$L26),"") | X26: =IF($E26>=X$1,CONCATENATE($C26+5,$L26),"") | Y26: =IF($E26>=Y$1,CONCATENATE($C26+6,$L26),"") | Z26: =I26&" "&N26&"pax"&" "&"en"&" "&M26 -> GMPA 35pax en U
C27: 42382 | D27: 42382 | E27: =D27-C27+1 -> 1 | I27: GEFCO | L27: ETOILE | S27: =IF($E27>=S$1,CONCATENATE($C27,$L27),"") -> 42382ETOILE | T27: =IF($E27>=T$1,CONCATENATE($C27+1,$L27),"") | U27: =IF($E27>=U$1,CONCATENATE($C27+2,$L27),"") | V27: =IF($E27>=V$1,CONCATENATE($C27+3,$L27),"") | W27: =IF($E27>=W$1,CONCATENATE($C27+4,$L27),"") | X27: =IF($E27>=X$1,CONCATENATE($C27+5,$L27),"") | Y27: =IF($E27>=Y$1,CONCATENATE($C27+6,$L27),"") | Z27: =I27&" "&N27&"pax"&" "&"en"&" "&M27 -> GEFCO pax en
C28: 42382 | D28: 42384 | E28: =D28-C28+1 -> 3 | I28: GMPA | L28: GRENELLE-SULLY | M28: U | N28: 30 | S28: =IF($E28>=S$1,CONCATENATE($C28,$L28),"") -> 42382GRENELLE-SULLY | T28: =IF($E28>=T$1,CONCATENATE($C28+1,$L28),"") -> 42383GRENELLE-SULLY | U28: =IF($E28>=U$1,CONCATENATE($C28+2,$L28),"") -> 42384GRENELLE-SULLY | V28: =IF($E28>=V$1,CONCATENATE($C28+3,$L28),"") | W28: =IF($E28>=W$1,CONCATENATE($C28+4,$L28),"") | X28: =IF($E28>=X$1,CONCATENATE($C28+5,$L28),"") | Y28: =IF($E28>=Y$1,CONCATENATE($C28+6,$L28),"") | Z28: =I28&" "&N28&"pax"&" "&"en"&" "&M28 -> GMPA 30pax en U
C29: 42382 | D29: 42384 | E29: =D29-C29+1 -> 3 | I29: GMPA | L29: MIRABEAU-IENA | M29: U | N29: 35 | S29: =IF($E29>=S$1,CONCATENATE($C29,$L29),"") -> 42382MIRABEAU-IENA | T29: =IF($E29>=T$1,CONCATENATE($C29+1,$L29),"") -> 42383MIRABEAU-IENA | U29: =IF($E29>=U$1,CONCATENATE($C29+2,$L29),"") -> 42384MIRABEAU-IENA | V29: =IF($E29>=V$1,CONCATENATE($C29+3,$L29),"") | W29: =IF($E29>=W$1,CONCATENATE($C29+4,$L29),"") | X29: =IF($E29>=X$1,CONCATENATE($C29+5,$L29),"") | Y29: =IF($E29>=Y$1,CONCATENATE($C29+6,$L29),"") | Z29: =I29&" "&N29&"pax"&" "&"en"&" "&M29 -> GMPA 35pax en U
C30: 42382 | D30: 42384 | E30: =D30-C30+1 -> 3 | I30: GMPA | L30: PICASSO-GREVIN | M30: U | N30: 30 | S30: =IF($E30>=S$1,CONCATENATE($C30,$L30),"") -> 42382PICASSO-GREVIN | T30: =IF($E30>=T$1,CONCATENATE($C30+1,$L30),"") -> 42383PICASSO-GREVIN | U30: =IF($E30>=U$1,CONCATENATE($C30+2,$L30),"") -> 42384PICASSO-GREVIN | V30: =IF($E30>=V$1,CONCATENATE($C30+3,$L30),"") | W30: =IF($E30>=W$1,CONCATENATE($C30+4,$L30),"") | X30: =IF($E30>=X$1,CONCATENATE($C30+5,$L30),"") | Y30: =IF($E30>=Y$1,CONCATENATE($C30+6,$L30),"") | Z30: =I30&" "&N30&"pax"&" "&"en"&" "&M30 -> GMPA 30pax en U
C31: 42383 | D31: 42383 | E31: =D31-C31+1 -> 1 | I31: GEFCO | L31: ABESSES | S31: =IF($E31>=S$1,CONCATENATE($C31,$L31),"") -> 42383ABESSES | T31: =IF($E31>=T$1,CONCATENATE($C31+1,$L31),"") | U31: =IF($E31>=U$1,CONCATENATE($C31+2,$L31),"") | V31: =IF($E31>=V$1,CONCATENATE($C31+3,$L31),"") | W31: =IF($E31>=W$1,CONCATENATE($C31+4,$L31),"") | X31: =IF($E31>=X$1,CONCATENATE($C31+5,$L31),"") | Y31: =IF($E31>=Y$1,CONCATENATE($C31+6,$L31),"") | Z31: =I31&" "&N31&"pax"&" "&"en"&" "&M31 -> GEFCO pax en
C32: 42383 | D32: 42383 | E32: =D32-C32+1 -> 1 | I32: STRAUTMANN | L32: ETOILES | S32: =IF($E32>=S$1,CONCATENATE($C32,$L32),"") -> 42383ETOILES | T32: =IF($E32>=T$1,CONCATENATE($C32+1,$L32),"") | U32: =IF($E32>=U$1,CONCATENATE($C32+2,$L32),"") | V32: =IF($E32>=V$1,CONCATENATE($C32+3,$L32),"") | W32: =IF($E32>=W$1,CONCATENATE($C32+4,$L32),"") | X32: =IF($E32>=X$1,CONCATENATE($C32+5,$L32),"") | Y32: =IF($E32>=Y$1,CONCATENATE($C32+6,$L32),"") | Z32: =I32&" "&N32&"pax"&" "&"en"&" "&M32 -> STRAUTMANN pax en
C33: 42384 | D33: 42384 | E33: =D33-C33+1 -> 1 | I33: UNCME | L33: ABBESSES | S33: =IF($E33>=S$1,CONCATENATE($C33,$L33),"") -> 42384ABBESSES | T33: =IF($E33>=T$1,CONCATENATE($C33+1,$L33),"") | U33: =IF($E33>=U$1,CONCATENATE($C33+2,$L33),"") | V33: =IF($E33>=V$1,CONCATENATE($C33+3,$L33),"") | W33: =IF($E33>=W$1,CONCATENATE($C33+4,$L33),"") | X33: =IF($E33>=X$1,CONCATENATE($C33+5,$L33),"") | Y33: =IF($E33>=Y$1,CONCATENATE($C33+6,$L33),"") | Z33: =I33&" "&N33&"pax"&" "&"en"&" "&M33 -> UNCME pax en
C34: 42384 | D34: 42384 | E34: =D34-C34+1 -> 1 | I34: GEFCO | L34: ETOILE | S34: =IF($E34>=S$1,CONCATENATE($C34,$L34),"") -> 42384ETOILE | T34: =IF($E34>=T$1,CONCATENATE($C34+1,$L34),"") | U34: =IF($E34>=U$1,CONCATENATE($C34+2,$L34),"") | V34: =IF($E34>=V$1,CONCATENATE($C34+3,$L34),"") | W34: =IF($E34>=W$1,CONCATENATE($C34+4,$L34),"") | X34: =IF($E34>=X$1,CONCATENATE($C34+5,$L34),"") | Y34: =IF($E34>=Y$1,CONCATENATE($C34+6,$L34),"") | Z34: =I34&" "&N34&"pax"&" "&"en"&" "&M34 -> GEFCO pax en
C35: 42384 | D35: 42384 | E35: =D35-C35+1 -> 1 | I35: LOUVRE | L35: GMPA | M35: AUTRE | S35: =IF($E35>=S$1,CONCATENATE($C35,$L35),"") -> 42384GMPA | T35: =IF($E35>=T$1,CONCATENATE($C35+1,$L35),"") | U35: =IF($E35>=U$1,CONCATENATE($C35+2,$L35),"") | V35: =IF($E35>=V$1,CONCATENATE($C35+3,$L35),"") | W35: =IF($E35>=W$1,CONCATENATE($C35+4,$L35),"") | X35: =IF($E35>=X$1,CONCATENATE($C35+5,$L35),"") | Y35: =IF($E35>=Y$1,CONCATENATE($C35+6,$L35),"") | Z35: =I35&" "&N35&"pax"&" "&"en"&" "&M35 -> LOUVRE pax en AUTRE
C36: 42385 | D36: 42385 | E36: =D36-C36+1 -> 1 | I36: UNCME | L36: GRENELLE | S36: =IF($E36>=S$1,CONCATENATE($C36,$L36),"") -> 42385GRENELLE | T36: =IF($E36>=T$1,CONCATENATE($C36+1,$L36),"") | U36: =IF($E36>=U$1,CONCATENATE($C36+2,$L36),"") | V36: =IF($E36>=V$1,CONCATENATE($C36+3,$L36),"") | W36: =IF($E36>=W$1,CONCATENATE($C36+4,$L36),"") | X36: =IF($E36>=X$1,CONCATENATE($C36+5,$L36),"") | Y36: =IF($E36>=Y$1,CONCATENATE($C36+6,$L36),"") | Z36: =I36&" "&N36&"pax"&" "&"en"&" "&M36 -> UNCME pax en
C37: 42385 | D37: 42385 | E37: =D37-C37+1 -> 1 | I37: UNCME | L37: MONCEAU | S37: =IF($E37>=S$1,CONCATENATE($C37,$L37),"") -> 42385MONCEAU | T37: =IF($E37>=T$1,CONCATENATE($C37+1,$L37),"") | U37: =IF($E37>=U$1,CONCATENATE($C37+2,$L37),"") | V37: =IF($E37>=V$1,CONCATENATE($C37+3,$L37),"") | W37: =IF($E37>=W$1,CONCATENATE($C37+4,$L37),"") | X37: =IF($E37>=X$1,CONCATENATE($C37+5,$L37),"") | Y37: =IF($E37>=Y$1,CONCATENATE($C37+6,$L37),"") | Z37: =I37&" "&N37&"pax"&" "&"en"&" "&M37 -> UNCME pax en
C38: 42385 | D38: 42386 | E38: =D38-C38+1 -> 2 | I38: CORPS MEMOIRE | L38: PICASSO-GREVIN | S38: =IF($E38>=S$1,CONCATENATE($C38,$L38),"") -> 42385PICASSO-GREVIN | T38: =IF($E38>=T$1,CONCATENATE($C38+1,$L38),"") -> 42386PICASSO-GREVIN | U38: =IF($E38>=U$1,CONCATENATE($C38+2,$L38),"") | V38: =IF($E38>=V$1,CONCATENATE($C38+3,$L38),"") | W38: =IF($E38>=W$1,CONCATENATE($C38+4,$L38),"") | X38: =IF($E38>=X$1,CONCATENATE($C38+5,$L38),"") | Y38: =IF($E38>=Y$1,CONCATENATE($C38+6,$L38),"") | Z38: =I38&" "&N38&"pax"&" "&"en"&" "&M38 -> CORPS MEMOIRE pax en
C39: 42385 | D39: 42385 | E39: =D39-C39+1 -> 1 | I39: UNCME | L39: SULLY | S39: =IF($E39>=S$1,CONCATENATE($C39,$L39),"") -> 42385SULLY | T39: =IF($E39>=T$1,CONCATENATE($C39+1,$L39),"") | U39: =IF($E39>=U$1,CONCATENATE($C39+2,$L39),"") | V39: =IF($E39>=V$1,CONCATENATE($C39+3,$L39),"") | W39: =IF($E39>=W$1,CONCATENATE($C39+4,$L39),"") | X39: =IF($E39>=X$1,CONCATENATE($C39+5,$L39),"") | Y39: =IF($E39>=Y$1,CONCATENATE($C39+6,$L39),"") | Z39: =I39&" "&N39&"pax"&" "&"en"&" "&M39 -> UNCME pax en
C40: 42386 | D40: 42386 | E40: =D40-C40+1 -> 1 | I40: JJ BOUCHET | L40: LOUVRE | S40: =IF($E40>=S$1,CONCATENATE($C40,$L40),"") -> 42386LOUVRE | T40: =IF($E40>=T$1,CONCATENATE($C40+1,$L40),"") | U40: =IF($E40>=U$1,CONCATENATE($C40+2,$L40),"") | V40: =IF($E40>=V$1,CONCATENATE($C40+3,$L40),"") | W40: =IF($E40>=W$1,CONCATENATE($C40+4,$L40),"") | X40: =IF($E40>=X$1,CONCATENATE($C40+5,$L40),"") | Y40: =IF($E40>=Y$1,CONCATENATE($C40+6,$L40),"") | Z40: =I40&" "&N40&"pax"&" "&"en"&" "&M40 -> JJ BOUCHET pax en
...

Sheet otb2017
A1: N de résa | B1: date de resa | C1: date in | D1: date out | E1: nb de jours | F1: saison | G1: stratégie | H1: se/we | I1: société | J1: nom du contact | K1: mail | L1: salle | M1: MEP | N1: nb de pax | O1: sr/je | P1: canal de réservation | Q1: nom cc | R1: statut | S1: ca | T1: pas déplaçable
C2: 42376 | D2: 42376 | E2: =_xlfn.DAYS(D2,C2)+1 -> 1 | I2: INTERNE | L2: ABBESSES
C3: 42380 | D3: 42380 | E3: =_xlfn.DAYS(D3,C3)+1 -> 1 | I3: MASE | L3: ABBESSES
C4: 42381 | D4: 42382 | E4: =_xlfn.DAYS(D4,C4)+1 -> 2 | I4: INTERNE | L4: ABBESSES
C5: 42383 | D5: 42383 | E5: =_xlfn.DAYS(D5,C5)+1 -> 1 | I5: GEFCO | L5: ABBESSES
C6: 42384 | D6: 42384 | E6: =_xlfn.DAYS(D6,C6)+1 -> 1 | I6: UNCME | L6: ABBESSES
C7: 42388 | D7: 42388 | E7: =_xlfn.DAYS(D7,C7)+1 -> 1 | I7: INTERNE | L7: ABBESSES
C8: 42390 | D8: 42390 | E8: =_xlfn.DAYS(D8,C8)+1 -> 1 | I8: INTERNE | L8: ABBESSES
C9: 42395 | D9: 42395 | E9: =_xlfn.DAYS(D9,C9)+1 -> 1 | I9: INTERNE | L9: ABBESSES
C10: 42397 | D10: 42397 | E10: =_xlfn.DAYS(D10,C10)+1 -> 1 | I10: INTERNE | L10: ABBESSES
C11: 42402 | D11: 42402 | E11: =_xlfn.DAYS(D11,C11)+1 -> 1 | I11: INTERNE | L11: ABBESSES | M11: OVALE | R11: CONFIRME
C12: 42403 | D12: 42403 | E12: =_xlfn.DAYS(D12,C12)+1 -> 1 | I12: MAPA SPONTEX | L12: ABBESSES | M12: OVALE | N12: 8 | R12: CONFIRME
C13: 42404 | D13: 42404 | E13: =_xlfn.DAYS(D13,C13)+1 -> 1 | I13: INTERNE | L13: ABBESSES
C14: 42405 | D14: 42405 | E14: =_xlfn.DAYS(D14,C14)+1 -> 1 | I14: MAPA SPONTEX | L14: ABBESSES | M14: OVALE | N14: 10 | R14: CONFIRME
C15: 42408 | D15: 42408 | E15: =_xlfn.DAYS(D15,C15)+1 -> 1 | I15: INTERNE | L15: ABBESSES
C16: 42409 | D16: 42409 | E16: =_xlfn.DAYS(D16,C16)+1 -> 1 | I16: INTERNE | L16: ABBESSES
C17: 42410 | D17: 42410 | E17: =_xlfn.DAYS(D17,C17)+1 -> 1 | I17: INTERNE | L17: ABBESSES
C18: 42416 | D18: 42416 | E18: =_xlfn.DAYS(D18,C18)+1 -> 1 | I18: INTERNE | L18: ABBESSES
C19: 42418 | D19: 42418 | E19: =_xlfn.DAYS(D19,C19)+1 -> 1 | I19: INTERNE | L19: ABBESSES
B20: fevrier | C20: 42419 | D20: 42419 | E20: =_xlfn.DAYS(D20,C20)+1 -> 1 | I20: CALGON CARBON | J20: VANGEEL Patricia | K20: pvangeel@calgoncarbon-eu.com | L20: ABBESSES | N20: 4 | O20: LOSA | P20: Direct | Q20: Alice | R20: CONFIRME | S20: 228
C21: 42425 | D21: 42425 | E21: =_xlfn.DAYS(D21,C21)+1 -> 1 | I21: INTERNE | L21: ABBESSES
C22: 42426 | D22: 42426 | E22: =_xlfn.DAYS(D22,C22)+1 -> 1 | I22: INTERNE | L22: ABBESSES
C23: 42430 | D23: 42431 | E23: =_xlfn.DAYS(D23,C23)+1 -> 2 | I23: STARDSTED | L23: ABBESSES
C24: 42443 | D24: 42443 | E24: =_xlfn.DAYS(D24,C24)+1 -> 1 | I24: ASFODELEC | L24: ABBESSES
C25: 42444 | D25: 42444 | E25: =_xlfn.DAYS(D25,C25)+1 -> 1 | I25: INTERNE | L25: ABBESSES
C26: 42445 | D26: 42445 | E26: =_xlfn.DAYS(D26,C26)+1 -> 1 | I26: TV5 MONDE | L26: ABBESSES | N26: 8
C27: 42446 | D27: 42447 | E27: =_xlfn.DAYS(D27,C27)+1 -> 2 | I27: HOTEL F1 | L27: ABBESSES | M27: AUTRE
C28: 42450 | D28: 42452 | E28: =_xlfn.DAYS(D28,C28)+1 -> 3 | I28: INTERNE | L28: ABBESSES
C29: 42453 | D29: 42453 | E29: =_xlfn.DAYS(D29,C29)+1 -> 1 | I29: LYONNAISES DES EAUX | L29: ABBESSES
C30: 42454 | D30: 42454 | E30: =_xlfn.DAYS(D30,C30)+1 -> 1 | I30: INTERNE | L30: ABBESSES
C31: 42458 | D31: 42458 | E31: =_xlfn.DAYS(D31,C31)+1 -> 1 | I31: INTERNE | L31: ABBESSES
C32: 42464 | D32: 42464 | E32: =_xlfn.DAYS(D32,C32)+1 -> 1 | I32: SOGEPARK | L32: ABBESSES
C33: 42465 | D33: 42465 | E33: =_xlfn.DAYS(D33,C33)+1 -> 1 | I33: INTERNE | L33: ABBESSES
C34: 42467 | D34: 42467 | E34: =_xlfn.DAYS(D34,C34)+1 -> 1 | I34: INTERNE | L34: ABBESSES
C35: 42471 | D35: 42471 | E35: =_xlfn.DAYS(D35,C35)+1 -> 1 | I35: INTERNE | L35: ABBESSES
C36: 42472 | D36: 42472 | E36: =_xlfn.DAYS(D36,C36)+1 -> 1 | I36: INTERNE | L36: ABBESSES
B37: avril | C37: 42474 | D37: 42475 | E37: =_xlfn.DAYS(D37,C37)+1 -> 2 | I37: RZB LIGHTING France | J37: SERIN ERIC | K37: eric.serin@rzb.eu | L37: ABBESSES | N37: 3 | O37: SR | P37: Direct | Q37: Lamia | R37: CONFIRME | S37: 621.45
C38: 42479 | D38: 42479 | E38: =_xlfn.DAYS(D38,C38)+1 -> 1 | I38: INTERNE | L38: ABBESSES
C39: 42486 | D39: 42486 | E39: =_xlfn.DAYS(D39,C39)+1 -> 1 | I39: INTERNE | L39: ABBESSES
C40: 42487 | D40: 42487 | E40: =_xlfn.DAYS(D40,C40)+1 -> 1 | I40: LAFARGE | L40: ABBESSES
...

Sheet dispo2017
H1: =CONCATENATE(H2) -> 42379 | I1: =CONCATENATE(I2) -> 42380 | J1: =CONCATENATE(J2) -> 42381 | K1: =CONCATENATE(K2) -> 42382 | L1: =CONCATENATE(L2) -> 42383 | M1: =CONCATENATE(M2) -> 42384 | N1: =CONCATENATE(N2) -> 42385
B2: date in | C2: nb de jours | D2: nb de pax | E2: mep | G2: Tous les jours | H2: =B3 -> 42379 | I2: =IF(C3>=2,H2+1," ") -> 42380 | J2: =IF(C3>=3,I2+1," ") -> 42381 | K2: =IF(C3>=4,J2+1," ") -> 42382 | L2: =IF(C3>=5,K2+1," ") -> 42383 | M2: =IF(C3>=6,L2+1," ") -> 42384 | N2: =IF(C3>=7,M2+1," ") -> 42385
A3: =TEXT(B3,"mmmmmmmm") -> janvier | B3: 42379 | C3: 7 | D3: 10 | E3: U | G3: =IF(AND($I$2<>" ",H3=B29,I3=B29),B29,(IF(AND($J$2<>" ",H3=B29,I3=B29,J3=B29),B29,(IF(AND($K$2<>" ",H3=B29,I3=B29,J3=B29,K3=B29),B29,(IF(AND($L$2<>" ",H3=B29,I3=B29,J3=B29,K3=B29,L3=B29),B29,(IF(AND($M$2<>" ",H3=B29,I3=B29,J3=B29,K3=B29,L3=B29,M3=B29),B29,"NON"))))))))) -> ABBESSES | H3: =F29 -> ABBESSES | I3: =IFERROR(I29," ") -> ABBESSES | J3: =IFERROR(L29," ") -> ABBESSES | K3: =IFERROR(O29," ") -> ABBESSES | L3: =IFERROR(R29," ") -> ABBESSES | M3: =IFERROR(U29," ") | N3: =IFERROR(X29," ") -> ABBESSES | Q3: =IF(COUNTIF(H3:N3," ")=0,B29,"")
G4: =IF(OR(AND($I$2<>" ",H4=B30,I4=B30),AND($J$2<>" ",H4=B30,I4=B30,J4=B30),AND($K$2<>" ",H4=B30,I4=B30,J4=B30,K4=B30),AND($L$2<>" ",H4=B30,I4=B30,J4=B30,K4=B30,L4=B30),AND($M$2<>" ",H4=B30,I4=B30,J4=B30,K4=B30,L4=B30,M4=B30),AND($N$2<>" ",H4=B30,I4=B30,J4=B30,K4=B30,L4=B30,M4=B30,N4=B30)),B30,"NON") -> BATIGNOLLES | H4: =F30 -> BATIGNOLLES | I4: =IFERROR(I30," ") -> BATIGNOLLES | J4: =IFERROR(L30," ") -> BATIGNOLLES | K4: =IFERROR(O30," ") -> BATIGNOLLES | L4: =IFERROR(R30," ") -> BATIGNOLLES | M4: =IFERROR(U30," ") -> BATIGNOLLES | N4: =IFERROR(X30," ") -> BATIGNOLLES | Q4: =IF(COUNTIF(H4:N4," ")=0,B30,"") -> BATIGNOLLES
G5: =IF(OR(AND($I$2<>" ",H5=B31,I5=B31),AND($J$2<>" ",H5=B31,I5=B31,J5=B31),AND($K$2<>" ",H5=B31,I5=B31,J5=B31,K5=B31),AND($L$2<>" ",H5=B31,I5=B31,J5=B31,K5=B31,L5=B31),AND($M$2<>" ",H5=B31,I5=B31,J5=B31,K5=B31,L5=B31,M5=B31),AND($N$2<>" ",H5=B31,I5=B31,J5=B31,K5=B31,L5=B31,M5=B31,N5=B31)),B31,"NON") -> CARNAVALET | H5: =F31 -> CARNAVALET | I5: =IFERROR(I31," ") -> CARNAVALET | J5: =IFERROR(L31," ") | K5: =IFERROR(O31," ") | L5: =IFERROR(R31," ") | M5: =IFERROR(U31," ") | N5: =IFERROR(X31," ") -> CARNAVALET | Q5: =IF(COUNTIF(H5:N5," ")=0,B31,"")
G6: =IF(OR(AND($I$2<>" ",H6=B32,I6=B32),AND($J$2<>" ",H6=B32,I6=B32,J6=B32),AND($K$2<>" ",H6=B32,I6=B32,J6=B32,K6=B32),AND($L$2<>" ",H6=B32,I6=B32,J6=B32,K6=B32,L6=B32),AND($M$2<>" ",H6=B32,I6=B32,J6=B32,K6=B32,L6=B32,M6=B32),AND($N$2<>" ",H6=B32,I6=B32,J6=B32,K6=B32,L6=B32,M6=B32,N6=B32)),B32,"NON") -> CLICHY | H6: =F32 -> CLICHY | I6: =IFERROR(I32," ") -> CLICHY | J6: =IFERROR(L32," ") -> CLICHY | K6: =IFERROR(O32," ") -> CLICHY | L6: =IFERROR(R32," ") -> CLICHY | M6: =IFERROR(U32," ") -> CLICHY | N6: =IFERROR(X32," ") -> CLICHY | Q6: =IF(COUNTIF(H6:N6," ")=0,B32,"") -> CLICHY
G7: =IF(OR(AND($I$2<>" ",H7=B33,I7=B33),AND($J$2<>" ",H7=B33,I7=B33,J7=B33),AND($K$2<>" ",H7=B33,I7=B33,J7=B33,K7=B33),AND($L$2<>" ",H7=B33,I7=B33,J7=B33,K7=B33,L7=B33),AND($M$2<>" ",H7=B33,I7=B33,J7=B33,K7=B33,L7=B33,M7=B33),AND($N$2<>" ",H7=B33,I7=B33,J7=B33,K7=B33,L7=B33,M7=B33,N7=B33)),B33,"NON") -> NON | H7: =F33 -> DAUPHINE | I7: =IFERROR(I33," ") | J7: =IFERROR(L33," ") | K7: =IFERROR(O33," ") | L7: =IFERROR(R33," ") | M7: =IFERROR(U33," ") | N7: =IFERROR(X33," ") -> DAUPHINE | Q7: =IF(COUNTIF(H7:N7," ")=0,B33,"")
G8: =IF(OR(AND($I$2<>" ",H8=B34,I8=B34),AND($J$2<>" ",H8=B34,I8=B34,J8=B34),AND($K$2<>" ",H8=B34,I8=B34,J8=B34,K8=B34),AND($L$2<>" ",H8=B34,I8=B34,J8=B34,K8=B34,L8=B34),AND($M$2<>" ",H8=B34,I8=B34,J8=B34,K8=B34,L8=B34,M8=B34),AND($N$2<>" ",H8=B34,I8=B34,J8=B34,K8=B34,L8=B34,M8=B34,N8=B34)),B34,"NON") -> NON | H8: =F34 -> ETOILE | I8: =IFERROR(I34," ") | J8: =IFERROR(L34," ") | K8: =IFERROR(O34," ") | L8: =IFERROR(R34," ") | M8: =IFERROR(U34," ") | N8: =IFERROR(X34," ") -> ETOILE | Q8: =IF(COUNTIF(H8:N8," ")=0,B34,"")
G9: =IF(OR(AND($I$2<>" ",H9=B35,I9=B35),AND($J$2<>" ",H9=B35,I9=B35,J9=B35),AND($K$2<>" ",H9=B35,I9=B35,J9=B35,K9=B35),AND($L$2<>" ",H9=B35,I9=B35,J9=B35,K9=B35,L9=B35),AND($M$2<>" ",H9=B35,I9=B35,J9=B35,K9=B35,L9=B35,M9=B35),AND($N$2<>" ",H9=B35,I9=B35,J9=B35,K9=B35,L9=B35,M9=B35,N9=B35)),B35,"NON") -> GRENELLE | H9: =F35 -> GRENELLE | I9: =IFERROR(I35," ") -> GRENELLE | J9: =IFERROR(L35," ") | K9: =IFERROR(O35," ") | L9: =IFERROR(R35," ") | M9: =IFERROR(U35," ") | N9: =IFERROR(X35," ") | Q9: =IF(COUNTIF(H9:N9," ")=0,B35,"")
G10: =IF(OR(AND($I$2<>" ",H10=B36,I10=B36),AND($J$2<>" ",H10=B36,I10=B36,J10=B36),AND($K$2<>" ",H10=B36,I10=B36,J10=B36,K10=B36),AND($L$2<>" ",H10=B36,I10=B36,J10=B36,K10=B36,L10=B36),AND($M$2<>" ",H10=B36,I10=B36,J10=B36,K10=B36,L10=B36,M10=B36),AND($N$2<>" ",H10=B36,I10=B36,J10=B36,K10=B36,L10=B36,M10=B36,N10=B36)),B36,"NON") -> GREVIN | H10: =F36 -> GREVIN | I10: =IFERROR(I36," ") -> GREVIN | J10: =IFERROR(L36," ") | K10: =IFERROR(O36," ") | L10: =IFERROR(R36," ") | M10: =IFERROR(U36," ") | N10: =IFERROR(X36," ") | Q10: =IF(COUNTIF(H10:N10," ")=0,B36,"")
G11: =IF(OR(AND($I$2<>" ",H11=B37,I11=B37),AND($J$2<>" ",H11=B37,I11=B37,J11=B37),AND($K$2<>" ",H11=B37,I11=B37,J11=B37,K11=B37),AND($L$2<>" ",H11=B37,I11=B37,J11=B37,K11=B37,L11=B37),AND($M$2<>" ",H11=B37,I11=B37,J11=B37,K11=B37,L11=B37,M11=B37),AND($N$2<>" ",H11=B37,I11=B37,J11=B37,K11=B37,L11=B37,M11=B37,N11=B37)),B37,"NON") -> IENA | H11: =F37 -> IENA | I11: =IFERROR(I37," ") -> IENA | J11: =IFERROR(L37," ") | K11: =IFERROR(O37," ") | L11: =IFERROR(R37," ") | M11: =IFERROR(U37," ") | N11: =IFERROR(X37," ") -> IENA | Q11: =IF(COUNTIF(H11:N11," ")=0,B37,"")
G12: =IF(OR(AND($I$2<>" ",H12=B38,I12=B38),AND($J$2<>" ",H12=B38,I12=B38,J12=B38),AND($K$2<>" ",H12=B38,I12=B38,J12=B38,K12=B38),AND($L$2<>" ",H12=B38,I12=B38,J12=B38,K12=B38,L12=B38),AND($M$2<>" ",H12=B38,I12=B38,J12=B38,K12=B38,L12=B38,M12=B38),AND($N$2<>" ",H12=B38,I12=B38,J12=B38,K12=B38,L12=B38,M12=B38,N12=B38)),B38,"NON") -> NON | H12: =F38 | I12: =IFERROR(I38," ") -> LOUVRE | J12: =IFERROR(L38," ") | K12: =IFERROR(O38," ") | L12: =IFERROR(R38," ") | M12: =IFERROR(U38," ") | N12: =IFERROR(X38," ") | Q12: =IF(COUNTIF(H12:N12," ")=0,B38,"")
G13: =IF(OR(AND($I$2<>" ",H13=B39,I13=B39),AND($J$2<>" ",H13=B39,I13=B39,J13=B39),AND($K$2<>" ",H13=B39,I13=B39,J13=B39,K13=B39),AND($L$2<>" ",H13=B39,I13=B39,J13=B39,K13=B39,L13=B39),AND($M$2<>" ",H13=B39,I13=B39,J13=B39,K13=B39,L13=B39,M13=B39),AND($N$2<>" ",H13=B39,I13=B39,J13=B39,K13=B39,L13=B39,M13=B39,N13=B39)),B39,"NON") -> MADELEINE | H13: =F39 -> MADELEINE | I13: =IFERROR(I39," ") -> MADELEINE | J13: =IFERROR(L39," ") -> MADELEINE | K13: =IFERROR(O39," ") -> MADELEINE | L13: =IFERROR(R39," ") -> MADELEINE | M13: =IFERROR(U39," ") -> MADELEINE | N13: =IFERROR(X39," ") -> MADELEINE | Q13: =IF(COUNTIF(H13:N13," ")=0,B39,"") -> MADELEINE
G14: =IF(OR(AND($I$2<>" ",H14=B40,I14=B40),AND($J$2<>" ",H14=B40,I14=B40,J14=B40),AND($K$2<>" ",H14=B40,I14=B40,J14=B40,K14=B40),AND($L$2<>" ",H14=B40,I14=B40,J14=B40,K14=B40,L14=B40),AND($M$2<>" ",H14=B40,I14=B40,J14=B40,K14=B40,L14=B40,M14=B40),AND($N$2<>" ",H14=B40,I14=B40,J14=B40,K14=B40,L14=B40,M14=B40,N14=B40)),B40,"NON") -> MIRABEAU | H14: =F40 -> MIRABEAU | I14: =IFERROR(I40," ") -> MIRABEAU | J14: =IFERROR(L40," ") | K14: =IFERROR(O40," ") | L14: =IFERROR(R40," ") | M14: =IFERROR(U40," ") | N14: =IFERROR(X40," ") | Q14: =IF(COUNTIF(H14:N14," ")=0,B40,"")
G15: =IF(OR(AND($I$2<>" ",H15=B41,I15=B41),AND($J$2<>" ",H15=B41,I15=B41,J15=B41),AND($K$2<>" ",H15=B41,I15=B41,J15=B41,K15=B41),AND($L$2<>" ",H15=B41,I15=B41,J15=B41,K15=B41,L15=B41),AND($M$2<>" ",H15=B41,I15=B41,J15=B41,K15=B41,L15=B41,M15=B41),AND($N$2<>" ",H15=B41,I15=B41,J15=B41,K15=B41,L15=B41,M15=B41,N15=B41)),B41,"NON") -> MONCEAU | H15: =F41 -> MONCEAU | I15: =IFERROR(I41," ") -> MONCEAU | J15: =IFERROR(L41," ") | K15: =IFERROR(O41," ") | L15: =IFERROR(R41," ") | M15: =IFERROR(U41," ") | N15: =IFERROR(X41," ") | Q15: =IF(COUNTIF(H15:N15," ")=0,B41,"")
... G22: =IF(OR(AND($I$2<>" ",H22=B48,I22=B48),AND($J$2<>" ",H22=B48,I22=B48,J22=B48),AND($K$2<>" ",H22=B48,I22=B48,J22=B48,K22=B48),AND($L$2<>" ",H22=B48,I22=B48,J22=B48,K22=B48,L22=B48),AND($M$2<>" ",H22=B48,I22=B48,J22=B48,K22=B48,L22=B48,M22=B48),AND($N$2<>" ",H22=B48,I22=B48,J22=B48,K22=B48,L22=B48,M22=B48,N22=B48)),B48,"NON") -> MADELEINE | H22: =F48 -> MADELEINE | I22: =IFERROR(I48," ") -> MADELEINE | J22: =IFERROR(L48," ") -> MADELEINE | K22: =IFERROR(O48," ") -> MADELEINE | L22: =IFERROR(R48," ") -> MADELEINE | M22: =IFERROR(U48," ") -> MADELEINE | N22: =IFERROR(X48," ") -> MADELEINE | Q22: =IF(COUNTIF(H22:N22," ")=0,B48,"") -> MADELEINE
A24: U | B24: NL
A25: Classe | B25: OL
A26: Theatre | B26: OO
A27: Cocktail | B27: NO | E27: 1 | H27: 2 | K27: 3 | N27: 4 | Q27: 5 | T27: 6 | W27: 7
A28: Cabaret | B28: Salles | C28: test capacité | D28: =CONCATENATE("libre le ",TEXT(H2,"jj/mm/aa")) -> libre le 10/01/16 | E28: concat | F28: salles dispo | G28: =CONCATENATE("libre le ",TEXT(I2,"jj/mm/aa")) -> libre le 11/01/16 | H28: concat | I28: salles dispo | J28: =CONCATENATE("libre le ",TEXT(J2,"jj/mm/aa")) -> libre le 12/01/16 | K28: concat | L28: salles dispo | M28: =CONCATENATE("libre le ",TEXT(K2,"jj/mm/aa")) -> libre le 13/01/16 | N28: concat | O28: salles dispo | P28: =CONCATENATE("libre le ",TEXT(L2,"jj/mm/aa")) -> libre le 14/01/16 | Q28: concat | R28: salles dispo | S28: =CONCATENATE("libre le ",TEXT(M2,"jj/mm/aa")) -> libre le 15/01/16 | T28: concat | U28: salles dispo | V28: =CONCATENATE("libre le ",TEXT(N2,"jj/mm/aa")) -> libre le 16/01/16 | W28: concat | X28: salles dispo
A29: 1 | B29: ABBESSES | C29: =IF($D$3<=(VLOOKUP($B29,'capacité salles'!$A$1:$G$40,2,FALSE)),"O","N") -> O | D29: =IF(VLOOKUP($B29,INDIRECT(""&$A$3&"!$AJ$4:$BO$23"),MATCH($H$2,INDIRECT(""&$A$3&"!$AJ$4:$BO$4"),0),FALSE)=$H$1,"L","O") -> L | E29: =CONCATENATE(C29,D29) -> OL | F29: =IF(E29="OL",B29," " ) -> ABBESSES | G29: =IF(VLOOKUP($B29,INDIRECT(""&$A$3&"!$AJ$4:$BO$23"),MATCH($I$2,INDIRECT(""&$A$3&"!$AJ$4:$BO$4"),0),FALSE)=$I$1,"L","O") -> L | H29: =CONCATENATE($C29,G29) -> OL | I29: =IF(H29="OL",$B29," " ) -> ABBESSES | J29: =IF(VLOOKUP($B29,INDIRECT(""&$A$3&"!$AJ$4:$BO$23"),MATCH($J$2,INDIRECT(""&$A$3&"!$AJ$4:$BO$4"),0),FALSE)=$J$1,"L","O") -> L | K29: =CONCATENATE($C$29,J29) -> OL | L29: =IF(K29="OL",B29," " ) -> ABBESSES | M29: =IF(VLOOKUP($B29,INDIRECT(""&$A$3&"!$AJ$4:$BO$23"),MATCH($K$2,INDIRECT(""&$A$3&"!$AJ$4:$BO$4"),0),FALSE)=$K$1,"L","O") -> L | N29: =CONCATENATE(C29,M29) -> OL | O29: =IF(N29="OL",B29," " ) -> ABBESSES | P29: =IF(VLOOKUP($B29,INDIRECT(""&$A$3&"!$AJ$4:$BO$23"),MATCH($L$2,INDIRECT(""&$A$3&"!$AJ$4:$BO$4"),0),FALSE)=$L$1,"L","O") -> L | Q29: =CONCATENATE(C29,P29) -> OL | R29: =IF(Q29="OL",B29," " ) -> ABBESSES | S29: =IF(VLOOKUP($B29,INDIRECT(""&$A$3&"!$AJ$4:$BO$23"),MATCH($M$2,INDIRECT(""&$A$3&"!$AJ$4:$BO$4"),0),FALSE)=$M$1,"L","O") -> O | T29: =CONCATENATE(C29,S29) -> OO | U29: =IF(T29="OL",B29," " ) | V29: =IF(VLOOKUP($B29,INDIRECT(""&$A$3&"!$AJ$4:$BO$23"),MATCH($N$2,INDIRECT(""&$A$3&"!$AJ$4:$BO$4"),0),FALSE)=$N$1,"L","O") -> L | W29: =CONCATENATE(C29,V29) -> OL | X29: =IF(W29="OL",B29," " ) -> ABBESSES
A30: 2 | B30: BATIGNOLLES | C30: =IF($D$3<=(VLOOKUP($B30,'capacité salles'!$A$1:$G$40,2,FALSE)),"O","N") -> O | D30: =IF(VLOOKUP($B30,INDIRECT(""&$A$3&"!$AJ$4:$BO$23"),MATCH($H$2,INDIRECT(""&$A$3&"!$AJ$4:$BO$4"),0),FALSE)=$H$1,"L","O") -> L | E30: =CONCATENATE(C30,D30) -> OL | F30: =IF(E30="OL",B30," " ) -> BATIGNOLLES | G30: =IF(VLOOKUP($B30,INDIRECT(""&$A$3&"!$AJ$4:$BO$23"),MATCH($I$2,INDIRECT(""&$A$3&"!$AJ$4:$BO$4"),0),FALSE)=$I$1,"L","O") -> L | H30: =CONCATENATE($C30,G30) -> OL | I30: =IF(H30="OL",$B30," " ) -> BATIGNOLLES | J30: =IF(VLOOKUP($B30,INDIRECT(""&$A$3&"!$AJ$4:$BO$23"),MATCH($J$2,INDIRECT(""&$A$3&"!$AJ$4:$BO$4"),0),FALSE)=$J$1,"L","O") -> L | K30: =CONCATENATE($C$29,J30) -> OL | L30: =IF(K30="OL",B30," " ) -> BATIGNOLLES | M30: =IF(VLOOKUP($B30,INDIRECT(""&$A$3&"!$AJ$4:$BO$23"),MATCH($K$2,INDIRECT(""&$A$3&"!$AJ$4:$BO$4"),0),FALSE)=$K$1,"L","O") -> L | N30: =CONCATENATE(C30,M30) -> OL | O30: =IF(N30="OL",B30," " ) -> BATIGNOLLES | P30: =IF(VLOOKUP($B30,INDIRECT(""&$A$3&"!$AJ$4:$BO$23"),MATCH($L$2,INDIRECT(""&$A$3&"!$AJ$4:$BO$4"),0),FALSE)=$L$1,"L","O") -> L | Q30: =CONCATENATE(C30,P30) -> OL | R30: =IF(Q30="OL",B30," " ) -> BATIGNOLLES | S30: =IF(VLOOKUP($B30,INDIRECT(""&$A$3&"!$AJ$4:$BO$23"),MATCH($M$2,INDIRECT(""&$A$3&"!$AJ$4:$BO$4"),0),FALSE)=$M$1,"L","O") -> L | T30: =CONCATENATE(C30,S30) -> OL | U30: =IF(T30="OL",B30," " ) -> BATIGNOLLES | V30: =IF(VLOOKUP($B30,INDIRECT(""&$A$3&"!$AJ$4:$BO$23"),MATCH($N$2,INDIRECT(""&$A$3&"!$AJ$4:$BO$4"),0),FALSE)=$N$1,"L","O") -> L | W30: =CONCATENATE(C30,V30) -> OL | X30: =IF(W30="OL",B30," " ) -> BATIGNOLLES
A31: 3 | B31: CARNAVALET | C31: =IF($D$3<=(VLOOKUP($B31,'capacité salles'!$A$1:$G$40,2,FALSE)),"O","N") -> O | D31: =IF(VLOOKUP($B31,INDIRECT(""&$A$3&"!$AJ$4:$BO$23"),MATCH($H$2,INDIRECT(""&$A$3&"!$AJ$4:$BO$4"),0),FALSE)=$H$1,"L","O") -> L | E31: =CONCATENATE(C31,D31) -> OL | F31: =IF(E31="OL",B31," " ) -> CARNAVALET | G31: =IF(VLOOKUP($B31,INDIRECT(""&$A$3&"!$AJ$4:$BO$23"),MATCH($I$2,INDIRECT(""&$A$3&"!$AJ$4:$BO$4"),0),FALSE)=$I$1,"L","O") -> L | H31: =CONCATENATE($C31,G31) -> OL | I31: =IF(H31="OL",$B31," " ) -> CARNAVALET | J31: =IF(VLOOKUP($B31,INDIRECT(""&$A$3&"!$AJ$4:$BO$23"),MATCH($J$2,INDIRECT(""&$A$3&"!$AJ$4:$BO$4"),0),FALSE)=$J$1,"L","O") -> O | K31: =CONCATENATE($C$29,J31) -> OO | L31: =IF(K31="OL",B31," " ) | M31: =IF(VLOOKUP($B31,INDIRECT(""&$A$3&"!$AJ$4:$BO$23"),MATCH($K$2,INDIRECT(""&$A$3&"!$AJ$4:$BO$4"),0),FALSE)=$K$1,"L","O") -> O | N31: =CONCATENATE(C31,M31) -> OO | O31: =IF(N31="OL",B31," " ) | P31: =IF(VLOOKUP($B31,INDIRECT(""&$A$3&"!$AJ$4:$BO$23"),MATCH($L$2,INDIRECT(""&$A$3&"!$AJ$4:$BO$4"),0),FALSE)=$L$1,"L","O") -> O | Q31: =CONCATENATE(C31,P31) -> OO | R31: =IF(Q31="OL",B31," " ) | S31: =IF(VLOOKUP($B31,INDIRECT(""&$A$3&"!$AJ$4:$BO$23"),MATCH($M$2,INDIRECT(""&$A$3&"!$AJ$4:$BO$4"),0),FALSE)=$M$1,"L","O") -> O | T31: =CONCATENATE(C31,S31) -> OO | U31: =IF(T31="OL",B31," " ) | V31: =IF(VLOOKUP($B31,INDIRECT(""&$A$3&"!$AJ$4:$BO$23"),MATCH($N$2,INDIRECT(""&$A$3&"!$AJ$4:$BO$4"),0),FALSE)=$N$1,"L","O") -> L | W31: =CONCATENATE(C31,V31) -> OL | X31: =IF(W31="OL",B31," " ) -> CARNAVALET
A32: 4 | B32: CLICHY | C32: =IF($D$3<=(VLOOKUP($B32,'capacité salles'!$A$1:$G$40,2,FALSE)),"O","N") -> O | D32: =IF(VLOOKUP($B32,INDIRECT(""&$A$3&"!$AJ$4:$BO$23"),MATCH($H$2,INDIRECT(""&$A$3&"!$AJ$4:$BO$4"),0),FALSE)=$H$1,"L","O") -> L | E32: =CONCATENATE(C32,D32) -> OL | F32: =IF(E32="OL",B32," " ) -> CLICHY | G32: =IF(VLOOKUP($B32,INDIRECT(""&$A$3&"!$AJ$4:$BO$23"),MATCH($I$2,INDIRECT(""&$A$3&"!$AJ$4:$BO$4"),0),FALSE)=$I$1,"L","O") -> L | H32: =CONCATENATE($C32,G32) -> OL | I32: =IF(H32="OL",$B32," " ) -> CLICHY | J32: =IF(VLOOKUP($B32,INDIRECT(""&$A$3&"!$AJ$4:$BO$23"),MATCH($J$2,INDIRECT(""&$A$3&"!$AJ$4:$BO$4"),0),FALSE)=$J$1,"L","O") -> L | K32: =CONCATENATE($C$29,J32) -> OL | L32: =IF(K32="OL",B32," " ) -> CLICHY | M32: =IF(VLOOKUP($B32,INDIRECT(""&$A$3&"!$AJ$4:$BO$23"),MATCH($K$2,INDIRECT(""&$A$3&"!$AJ$4:$BO$4"),0),FALSE)=$K$1,"L","O") -> L | N32: =CONCATENATE(C32,M32) -> OL | O32: =IF(N32="OL",B32," " ) -> CLICHY | P32: =IF(VLOOKUP($B32,INDIRECT(""&$A$3&"!$AJ$4:$BO$23"),MATCH($L$2,INDIRECT(""&$A$3&"!$AJ$4:$BO$4"),0),FALSE)=$L$1,"L","O") -> L | Q32: =CONCATENATE(C32,P32) -> OL | R32: =IF(Q32="OL",B32," " ) -> CLICHY | S32: =IF(VLOOKUP($B32,INDIRECT(""&$A$3&"!$AJ$4:$BO$23"),MATCH($M$2,INDIRECT(""&$A$3&"!$AJ$4:$BO$4"),0),FALSE)=$M$1,"L","O") -> L | T32: =CONCATENATE(C32,S32) -> OL | U32: =IF(T32="OL",B32," " ) -> CLICHY | V32: =IF(VLOOKUP($B32,INDIRECT(""&$A$3&"!$AJ$4:$BO$23"),MATCH($N$2,INDIRECT(""&$A$3&"!$AJ$4:$BO$4"),0),FALSE)=$N$1,"L","O") -> L | W32: =CONCATENATE(C32,V32) -> OL | X32: =IF(W32="OL",B32," " ) -> CLICHY
A33: 5 | B33: DAUPHINE | C33: =IF($D$3<=(VLOOKUP($B33,'capacité salles'!$A$1:$G$40,2,FALSE)),"O","N") -> O | D33: =IF(VLOOKUP($B33,INDIRECT(""&$A$3&"!$AJ$4:$BO$23"),MATCH($H$2,INDIRECT(""&$A$3&"!$AJ$4:$BO$4"),0),FALSE)=$H$1,"L","O") -> L | E33: =CONCATENATE(C33,D33) -> OL | F33: =IF(E33="OL",B33," " ) -> DAUPHINE | G33: =IF(VLOOKUP($B33,INDIRECT(""&$A$3&"!$AJ$4:$BO$23"),MATCH($I$2,INDIRECT(""&$A$3&"!$AJ$4:$BO$4"),0),FALSE)=$I$1,"L","O") -> O | H33: =CONCATENATE($C33,G33) -> OO | I33: =IF(H33="OL",$B33," " ) | J33: =IF(VLOOKUP($B33,INDIRECT(""&$A$3&"!$AJ$4:$BO$23"),MATCH($J$2,INDIRECT(""&$A$3&"!$AJ$4:$BO$4"),0),FALSE)=$J$1,"L","O") -> O | K33: =CONCATENATE($C$29,J33) -> OO | L33: =IF(K33="OL",B33," " ) | M33: =IF(VLOOKUP($B33,INDIRECT(""&$A$3&"!$AJ$4:$BO$23"),MATCH($K$2,INDIRECT(""&$A$3&"!$AJ$4:$BO$4"),0),FALSE)=$K$1,"L","O") -> O | N33: =CONCATENATE(C33,M33) -> OO | O33: =IF(N33="OL",B33," " ) | P33: =IF(VLOOKUP($B33,INDIRECT(""&$A$3&"!$AJ$4:$BO$23"),MATCH($L$2,INDIRECT(""&$A$3&"!$AJ$4:$BO$4"),0),FALSE)=$L$1,"L","O") -> O | Q33: =CONCATENATE(C33,P33) -> OO | R33: =IF(Q33="OL",B33," " ) | S33: =IF(VLOOKUP($B33,INDIRECT(""&$A$3&"!$AJ$4:$BO$23"),MATCH($M$2,INDIRECT(""&$A$3&"!$AJ$4:$BO$4"),0),FALSE)=$M$1,"L","O") -> O | T33: =CONCATENATE(C33,S33) -> OO | U33: =IF(T33="OL",B33," " ) | V33: =IF(VLOOKUP($B33,INDIRECT(""&$A$3&"!$AJ$4:$BO$23"),MATCH($N$2,INDIRECT(""&$A$3&"!$AJ$4:$BO$4"),0),FALSE)=$N$1,"L","O") -> L | W33: =CONCATENATE(C33,V33) -> OL | X33: =IF(W33="OL",B33," " ) -> DAUPHINE
A34: 6 | B34: ETOILE | C34: =IF($D$3<=(VLOOKUP($B34,'capacité salles'!$A$1:$G$40,2,FALSE)),"O","N") -> O | D34: =IF(VLOOKUP($B34,INDIRECT(""&$A$3&"!$AJ$4:$BO$23"),MATCH($H$2,INDIRECT(""&$A$3&"!$AJ$4:$BO$4"),0),FALSE)=$H$1,"L","O") -> L | E34: =CONCATENATE(C34,D34) -> OL | F34: =IF(E34="OL",B34," " ) -> ETOILE | G34: =IF(VLOOKUP($B34,INDIRECT(""&$A$3&"!$AJ$4:$BO$23"),MATCH($I$2,INDIRECT(""&$A$3&"!$AJ$4:$BO$4"),0),FALSE)=$I$1,"L","O") -> O | H34: =CONCATENATE($C34,G34) -> OO | I34: =IF(H34="OL",$B34," " ) | J34: =IF(VLOOKUP($B34,INDIRECT(""&$A$3&"!$AJ$4:$BO$23"),MATCH($J$2,INDIRECT(""&$A$3&"!$AJ$4:$BO$4"),0),FALSE)=$J$1,"L","O") -> O | K34: =CONCATENATE($C$29,J34) -> OO | L34: =IF(K34="OL",B34," " ) | M34: =IF(VLOOKUP($B34,INDIRECT(""&$A$3&"!$AJ$4:$BO$23"),MATCH($K$2,INDIRECT(""&$A$3&"!$AJ$4:$BO$4"),0),FALSE)=$K$1,"L","O") -> O | N34: =CONCATENATE(C34,M34) -> OO | O34: =IF(N34="OL",B34," " ) | P34: =IF(VLOOKUP($B34,INDIRECT(""&$A$3&"!$AJ$4:$BO$23"),MATCH($L$2,INDIRECT(""&$A$3&"!$AJ$4:$BO$4"),0),FALSE)=$L$1,"L","O") -> O | Q34: =CONCATENATE(C34,P34) -> OO | R34: =IF(Q34="OL",B34," " ) | S34: =IF(VLOOKUP($B34,INDIRECT(""&$A$3&"!$AJ$4:$BO$23"),MATCH($M$2,INDIRECT(""&$A$3&"!$AJ$4:$BO$4"),0),FALSE)=$M$1,"L","O") -> O | T34: =CONCATENATE(C34,S34) -> OO | U34: =IF(T34="OL",B34," " ) | V34: =IF(VLOOKUP($B34,INDIRECT(""&$A$3&"!$AJ$4:$BO$23"),MATCH($N$2,INDIRECT(""&$A$3&"!$AJ$4:$BO$4"),0),FALSE)=$N$1,"L","O") -> L | W34: =CONCATENATE(C34,V34) -> OL | X34: =IF(W34="OL",B34," " ) -> ETOILE
A35: 7 | B35: GRENELLE | C35: =IF($D$3<=(VLOOKUP($B35,'capacité salles'!$A$1:$G$40,2,FALSE)),"O","N") -> O | D35: =IF(VLOOKUP($B35,INDIRECT(""&$A$3&"!$AJ$4:$BO$23"),MATCH($H$2,INDIRECT(""&$A$3&"!$AJ$4:$BO$4"),0),FALSE)=$H$1,"L","O") -> L | E35: =CONCATENATE(C35,D35) -> OL | F35: =IF(E35="OL",B35," " ) -> GRENELLE | G35: =IF(VLOOKUP($B35,INDIRECT(""&$A$3&"!$AJ$4:$BO$23"),MATCH($I$2,INDIRECT(""&$A$3&"!$AJ$4:$BO$4"),0),FALSE)=$I$1,"L","O") -> L | H35: =CONCATENATE($C35,G35) -> OL | I35: =IF(H35="OL",$B35," " ) -> GRENELLE | J35: =IF(VLOOKUP($B35,INDIRECT(""&$A$3&"!$AJ$4:$BO$23"),MATCH($J$2,INDIRECT(""&$A$3&"!$AJ$4:$BO$4"),0),FALSE)=$J$1,"L","O") -> O | K35: =CONCATENATE($C$29,J35) -> OO | L35: =IF(K35="OL",B35," " ) | M35: =IF(VLOOKUP($B35,INDIRECT(""&$A$3&"!$AJ$4:$BO$23"),MATCH($K$2,INDIRECT(""&$A$3&"!$AJ$4:$BO$4"),0),FALSE)=$K$1,"L","O") -> O | N35: =CONCATENATE(C35,M35) -> OO | O35: =IF(N35="OL",B35," " ) | P35: =IF(VLOOKUP($B35,INDIRECT(""&$A$3&"!$AJ$4:$BO$23"),MATCH($L$2,INDIRECT(""&$A$3&"!$AJ$4:$BO$4"),0),FALSE)=$L$1,"L","O") -> O | Q35: =CONCATENATE(C35,P35) -> OO | R35: =IF(Q35="OL",B35," " ) | S35: =IF(VLOOKUP($B35,INDIRECT(""&$A$3&"!$AJ$4:$BO$23"),MATCH($M$2,INDIRECT(""&$A$3&"!$AJ$4:$BO$4"),0),FALSE)=$M$1,"L","O") -> O | T35: =CONCATENATE(C35,S35) -> OO | U35: =IF(T35="OL",B35," " ) | V35: =IF(VLOOKUP($B35,INDIRECT(""&$A$3&"!$AJ$4:$BO$23"),MATCH($N$2,INDIRECT(""&$A$3&"!$AJ$4:$BO$4"),0),FALSE)=$N$1,"L","O") -> O | W35: =CONCATENATE(C35,V35) -> OO | X35: =IF(W35="OL",B35," " )
A36: 8 | B36: GREVIN | C36: =IF($D$3<=(VLOOKUP($B36,'capacité salles'!$A$1:$G$40,2,FALSE)),"O","N") -> O | D36: =IF(VLOOKUP($B36,INDIRECT(""&$A$3&"!$AJ$4:$BO$23"),MATCH($H$2,INDIRECT(""&$A$3&"!$AJ$4:$BO$4"),0),FALSE)=$H$1,"L","O") -> L | E36: =CONCATENATE(C36,D36) -> OL | F36: =IF(E36="OL",B36," " ) -> GREVIN | G36: =IF(VLOOKUP($B36,INDIRECT(""&$A$3&"!$AJ$4:$BO$23"),MATCH($I$2,INDIRECT(""&$A$3&"!$AJ$4:$BO$4"),0),FALSE)=$I$1,"L","O") -> L | H36: =CONCATENATE($C36,G36) -> OL | I36: =IF(H36="OL",$B36," " ) -> GREVIN | J36: =IF(VLOOKUP($B36,INDIRECT(""&$A$3&"!$AJ$4:$BO$23"),MATCH($J$2,INDIRECT(""&$A$3&"!$AJ$4:$BO$4"),0),FALSE)=$J$1,"L","O") -> O | K36: =CONCATENATE($C$29,J36) -> OO | L36: =IF(K36="OL",B36," " ) | M36: =IF(VLOOKUP($B36,INDIRECT(""&$A$3&"!$AJ$4:$BO$23"),MATCH($K$2,INDIRECT(""&$A$3&"!$AJ$4:$BO$4"),0),FALSE)=$K$1,"L","O") -> O | N36: =CONCATENATE(C36,M36) -> OO | O36: =IF(N36="OL",B36," " ) | P36: =IF(VLOOKUP($B36,INDIRECT(""&$A$3&"!$AJ$4:$BO$23"),MATCH($L$2,INDIRECT(""&$A$3&"!$AJ$4:$BO$4"),0),FALSE)=$L$1,"L","O") -> O | Q36: =CONCATENATE(C36,P36) -> OO | R36: =IF(Q36="OL",B36," " ) | S36: =IF(VLOOKUP($B36,INDIRECT(""&$A$3&"!$AJ$4:$BO$23"),MATCH($M$2,INDIRECT(""&$A$3&"!$AJ$4:$BO$4"),0),FALSE)=$M$1,"L","O") -> O | T36: =CONCATENATE(C36,S36) -> OO | U36: =IF(T36="OL",B36," " ) | V36: =IF(VLOOKUP($B36,INDIRECT(""&$A$3&"!$AJ$4:$BO$23"),MATCH($N$2,INDIRECT(""&$A$3&"!$AJ$4:$BO$4"),0),FALSE)=$N$1,"L","O") -> O | W36: =CONCATENATE(C36,V36) -> OO | X36: =IF(W36="OL",B36," " )
A37: 9 | B37: IENA | C37: =IF($D$3<=(VLOOKUP($B37,'capacité salles'!$A$1:$G$40,2,FALSE)),"O","N") -> O | D37: =IF(VLOOKUP($B37,INDIRECT(""&$A$3&"!$AJ$4:$BO$23"),MATCH($H$2,INDIRECT(""&$A$3&"!$AJ$4:$BO$4"),0),FALSE)=$H$1,"L","O") -> L | E37: =CONCATENATE(C37,D37) -> OL | F37: =IF(E37="OL",B37," " ) -> IENA | G37: =IF(VLOOKUP($B37,INDIRECT(""&$A$3&"!$AJ$4:$BO$23"),MATCH($I$2,INDIRECT(""&$A$3&"!$AJ$4:$BO$4"),0),FALSE)=$I$1,"L","O") -> L | H37: =CONCATENATE($C37,G37) -> OL | I37: =IF(H37="OL",$B37," " ) -> IENA | J37: =IF(VLOOKUP($B37,INDIRECT(""&$A$3&"!$AJ$4:$BO$23"),MATCH($J$2,INDIRECT(""&$A$3&"!$AJ$4:$BO$4"),0),FALSE)=$J$1,"L","O") -> O | K37: =CONCATENATE($C$29,J37) -> OO | L37: =IF(K37="OL",B37," " ) | M37: =IF(VLOOKUP($B37,INDIRECT(""&$A$3&"!$AJ$4:$BO$23"),MATCH($K$2,INDIRECT(""&$A$3&"!$AJ$4:$BO$4"),0),FALSE)=$K$1,"L","O") -> O | N37: =CONCATENATE(C37,M37) -> OO | O37: =IF(N37="OL",B37," " ) | P37: =IF(VLOOKUP($B37,INDIRECT(""&$A$3&"!$AJ$4:$BO$23"),MATCH($L$2,INDIRECT(""&$A$3&"!$AJ$4:$BO$4"),0),FALSE)=$L$1,"L","O") -> O | Q37: =CONCATENATE(C37,P37) -> OO | R37: =IF(Q37="OL",B37," " ) | S37: =IF(VLOOKUP($B37,INDIRECT(""&$A$3&"!$AJ$4:$BO$23"),MATCH($M$2,INDIRECT(""&$A$3&"!$AJ$4:$BO$4"),0),FALSE)=$M$1,"L","O") -> O | T37: =CONCATENATE(C37,S37) -> OO | U37: =IF(T37="OL",B37," " ) | V37: =IF(VLOOKUP($B37,INDIRECT(""&$A$3&"!$AJ$4:$BO$23"),MATCH($N$2,INDIRECT(""&$A$3&"!$AJ$4:$BO$4"),0),FALSE)=$N$1,"L","O") -> L | W37: =CONCATENATE(C37,V37) -> OL | X37: =IF(W37="OL",B37," " ) -> IENA
A38: 10 | B38: LOUVRE | C38: =IF($D$3<=(VLOOKUP($B38,'capacité salles'!$A$1:$G$40,2,FALSE)),"O","N") -> O | D38: =IF(VLOOKUP($B38,INDIRECT(""&$A$3&"!$AJ$4:$BO$23"),MATCH($H$2,INDIRECT(""&$A$3&"!$AJ$4:$BO$4"),0),FALSE)=$H$1,"L","O") -> O | E38: =CONCATENATE(C38,D38) -> OO | F38: =IF(E38="OL",B38," " ) | G38: =IF(VLOOKUP($B38,INDIRECT(""&$A$3&"!$AJ$4:$BO$23"),MATCH($I$2,INDIRECT(""&$A$3&"!$AJ$4:$BO$4"),0),FALSE)=$I$1,"L","O") -> L | H38: =CONCATENATE($C38,G38) -> OL | I38: =IF(H38="OL",$B38," " ) -> LOUVRE | J38: =IF(VLOOKUP($B38,INDIRECT(""&$A$3&"!$AJ$4:$BO$23"),MATCH($J$2,INDIRECT(""&$A$3&"!$AJ$4:$BO$4"),0),FALSE)=$J$1,"L","O") -> O | K38: =CONCATENATE($C$29,J38) -> OO | L38: =IF(K38="OL",B38," " ) | M38: =IF(VLOOKUP($B38,INDIRECT(""&$A$3&"!$AJ$4:$BO$23"),MATCH($K$2,INDIRECT(""&$A$3&"!$AJ$4:$BO$4"),0),FALSE)=$K$1,"L","O") -> O | N38: =CONCATENATE(C38,M38) -> OO | O38: =IF(N38="OL",B38," " ) | P38: =IF(VLOOKUP($B38,INDIRECT(""&$A$3&"!$AJ$4:$BO$23"),MATCH($L$2,INDIRECT(""&$A$3&"!$AJ$4:$BO$4"),0),FALSE)=$L$1,"L","O") -> O | Q38: =CONCATENATE(C38,P38) -> OO | R38: =IF(Q38="OL",B38," " ) | S38: =IF(VLOOKUP($B38,INDIRECT(""&$A$3&"!$AJ$4:$BO$23"),MATCH($M$2,INDIRECT(""&$A$3&"!$AJ$4:$BO$4"),0),FALSE)=$M$1,"L","O") -> O | T38: =CONCATENATE(C38,S38) -> OO | U38: =IF(T38="OL",B38," " ) | V38: =IF(VLOOKUP($B38,INDIRECT(""&$A$3&"!$AJ$4:$BO$23"),MATCH($N$2,INDIRECT(""&$A$3&"!$AJ$4:$BO$4"),0),FALSE)=$N$1,"L","O") -> O | W38: =CONCATENATE(C38,V38) -> OO | X38: =IF(W38="OL",B38," " )
A39: 11 | B39: MADELEINE | C39: =IF($D$3<=(VLOOKUP($B39,'capacité salles'!$A$1:$G$40,2,FALSE)),"O","N") -> O | D39: =IF(VLOOKUP($B39,INDIRECT(""&$A$3&"!$AJ$4:$BO$23"),MATCH($H$2,INDIRECT(""&$A$3&"!$AJ$4:$BO$4"),0),FALSE)=$H$1,"L","O") -> L | E39: =CONCATENATE(C39,D39) -> OL | F39: =IF(E39="OL",B39," " ) -> MADELEINE | G39: =IF(VLOOKUP($B39,INDIRECT(""&$A$3&"!$AJ$4:$BO$23"),MATCH($I$2,INDIRECT(""&$A$3&"!$AJ$4:$BO$4"),0),FALSE)=$I$1,"L","O") -> L | H39: =CONCATENATE($C39,G39) -> OL | I39: =IF(H39="OL",$B39," " ) -> MADELEINE | J39: =IF(VLOOKUP($B39,INDIRECT(""&$A$3&"!$AJ$4:$BO$23"),MATCH($J$2,INDIRECT(""&$A$3&"!$AJ$4:$BO$4"),0),FALSE)=$J$1,"L","O") -> L | K39: =CONCATENATE($C$29,J39) -> OL | L39: =IF(K39="OL",B39," " ) -> MADELEINE | M39: =IF(VLOOKUP($B39,INDIRECT(""&$A$3&"!$AJ$4:$BO$23"),MATCH($K$2,INDIRECT(""&$A$3&"!$AJ$4:$BO$4"),0),FALSE)=$K$1,"L","O") -> L | N39: =CONCATENATE(C39,M39) -> OL | O39: =IF(N39="OL",B39," " ) -> MADELEINE | P39: =IF(VLOOKUP($B39,INDIRECT(""&$A$3&"!$AJ$4:$BO$23"),MATCH($L$2,INDIRECT(""&$A$3&"!$AJ$4:$BO$4"),0),FALSE)=$L$1,"L","O") -> L | Q39: =CONCATENATE(C39,P39) -> OL | R39: =IF(Q39="OL",B39," " ) -> MADELEINE | S39: =IF(VLOOKUP($B39,INDIRECT(""&$A$3&"!$AJ$4:$BO$23"),MATCH($M$2,INDIRECT(""&$A$3&"!$AJ$4:$BO$4"),0),FALSE)=$M$1,"L","O") -> L | T39: =CONCATENATE(C39,S39) -> OL | U39: =IF(T39="OL",B39," " ) -> MADELEINE | V39: =IF(VLOOKUP($B39,INDIRECT(""&$A$3&"!$AJ$4:$BO$23"),MATCH($N$2,INDIRECT(""&$A$3&"!$AJ$4:$BO$4"),0),FALSE)=$N$1,"L","O") -> L | W39: =CONCATENATE(C39,V39) -> OL | X39: =IF(W39="OL",B39," " ) -> MADELEINE
A40: 12 | B40: MIRABEAU | C40: =IF($D$3<=(VLOOKUP($B40,'capacité salles'!$A$1:$G$40,2,FALSE)),"O","N") -> O | D40: =IF(VLOOKUP($B40,INDIRECT(""&$A$3&"!$AJ$4:$BO$23"),MATCH($H$2,INDIRECT(""&$A$3&"!$AJ$4:$BO$4"),0),FALSE)=$H$1,"L","O") -> L | E40: =CONCATENATE(C40,D40) -> OL | F40: =IF(E40="OL",B40," " ) -> MIRABEAU | G40: =IF(VLOOKUP($B40,INDIRECT(""&$A$3&"!$AJ$4:$BO$23"),MATCH($I$2,INDIRECT(""&$A$3&"!$AJ$4:$BO$4"),0),FALSE)=$I$1,"L","O") -> L | H40: =CONCATENATE($C40,G40) -> OL | I40: =IF(H40="OL",$B40," " ) -> MIRABEAU | J40: =IF(VLOOKUP($B40,INDIRECT(""&$A$3&"!$AJ$4:$BO$23"),MATCH($J$2,INDIRECT(""&$A$3&"!$AJ$4:$BO$4"),0),FALSE)=$J$1,"L","O") -> O | K40: =CONCATENATE($C$29,J40) -> OO | L40: =IF(K40="OL",B40," " ) | M40: =IF(VLOOKUP($B40,INDIRECT(""&$A$3&"!$AJ$4:$BO$23"),MATCH($K$2,INDIRECT(""&$A$3&"!$AJ$4:$BO$4"),0),FALSE)=$K$1,"L","O") -> O | N40: =CONCATENATE(C40,M40) -> OO | O40: =IF(N40="OL",B40," " ) | P40: =IF(VLOOKUP($B40,INDIRECT(""&$A$3&"!$AJ$4:$BO$23"),MATCH($L$2,INDIRECT(""&$A$3&"!$AJ$4:$BO$4"),0),FALSE)=$L$1,"L","O") -> O | Q40: =CONCATENATE(C40,P40) -> OO | R40: =IF(Q40="OL",B40," " ) | S40: =IF(VLOOKUP($B40,INDIRECT(""&$A$3&"!$AJ$4:$BO$23"),MATCH($M$2,INDIRECT(""&$A$3&"!$AJ$4:$BO$4"),0),FALSE)=$M$1,"L","O") -> O | T40: =CONCATENATE(C40,S40) -> OO | U40: =IF(T40="OL",B40," " ) | V40: =IF(VLOOKUP($B40,INDIRECT(""&$A$3&"!$AJ$4:$BO$23"),MATCH($N$2,INDIRECT(""&$A$3&"!$AJ$4:$BO$4"),0),FALSE)=$N$1,"L","O") -> O | W40: =CONCATENATE(C40,V40) -> OO | X40: =IF(W40="OL",B40," " )
... A48: 20 | B48: MADELEINE | C48: =IF($D$3<=(VLOOKUP($B48,'capacité salles'!$A$1:$G$40,2,FALSE)),"O","N") -> O | D48: =IF(VLOOKUP($B48,INDIRECT(""&$A$3&"!$AJ$4:$BO$23"),MATCH($H$2,INDIRECT(""&$A$3&"!$AJ$4:$BO$4"),0),FALSE)=$H$1,"L","O") -> L | E48: =CONCATENATE(C48,D48) -> OL | F48: =IF(E48="OL",B48," " ) -> MADELEINE | G48: =IF(VLOOKUP($B48,INDIRECT(""&$A$3&"!$AJ$4:$BO$23"),MATCH($I$2,INDIRECT(""&$A$3&"!$AJ$4:$BO$4"),0),FALSE)=$I$1,"L","O") -> L | H48: =CONCATENATE($C48,G48) -> OL | I48: =IF(H48="OL",$B48," " ) -> MADELEINE | J48: =IF(VLOOKUP($B48,INDIRECT(""&$A$3&"!$AJ$4:$BO$23"),MATCH($J$2,INDIRECT(""&$A$3&"!$AJ$4:$BO$4"),0),FALSE)=$J$1,"L","O") -> L | K48: =CONCATENATE($C$29,J48) -> OL | L48: =IF(K48="OL",B48," " ) -> MADELEINE | M48: =IF(VLOOKUP($B48,INDIRECT(""&$A$3&"!$AJ$4:$BO$23"),MATCH($K$2,INDIRECT(""&$A$3&"!$AJ$4:$BO$4"),0),FALSE)=$K$1,"L","O") -> L | N48: =CONCATENATE(C48,M48) -> OL | O48: =IF(N48="OL",B48," " ) -> MADELEINE | P48: =IF(VLOOKUP($B48,INDIRECT(""&$A$3&"!$AJ$4:$BO$23"),MATCH($L$2,INDIRECT(""&$A$3&"!$AJ$4:$BO$4"),0),FALSE)=$L$1,"L","O") -> L | Q48: =CONCATENATE(C48,P48) -> OL | R48: =IF(Q48="OL",B48," " ) -> MADELEINE | S48: =IF(VLOOKUP($B48,INDIRECT(""&$A$3&"!$AJ$4:$BO$23"),MATCH($M$2,INDIRECT(""&$A$3&"!$AJ$4:$BO$4"),0),FALSE)=$M$1,"L","O") -> L | T48: =CONCATENATE(C48,S48) -> OL | U48: =IF(T48="OL",B48," " ) -> MADELEINE | V48: =IF(VLOOKUP($B48,INDIRECT(""&$A$3&"!$AJ$4:$BO$23"),MATCH($N$2,INDIRECT(""&$A$3&"!$AJ$4:$BO$4"),0),FALSE)=$N$1,"L","O") -> L | W48: =CONCATENATE(C48,V48) -> OL | X48: =IF(W48="OL",B48," " ) -> MADELEINE
A49: 21 | B49: ORSAY | C49: =IF($D$3<=(VLOOKUP($B49,'capacité salles'!$A$1:$G$40,2,FALSE)),"O","N") -> N | D49: =IF(VLOOKUP($B49,INDIRECT(""&$A$3&"!$AJ$4:$BO$23"),MATCH($H$2,INDIRECT(""&$A$3&"!$AJ$4:$BO$4"),0),FALSE)=$H$1,"L","O") -> #N/A | E49: =CONCATENATE(C49,D49) -> #N/A | F49: =IF(E49="OO",B49," " ) -> #N/A | G49: =IF(VLOOKUP($B49,INDIRECT(""&$A$3&"!$AJ$4:$BO$23"),MATCH($I$2,INDIRECT(""&$A$3&"!$AJ$4:$BO$4"),0),FALSE)=$I$1,"L","O") -> #N/A | H49: =CONCATENATE(F49,G49) -> #N/A | I49: =IF(H49="OO",E49," " ) -> #N/A | J49: =IF(VLOOKUP($B49,INDIRECT(""&$A$3&"!$AJ$4:$BO$23"),MATCH($J$2,INDIRECT(""&$A$3&"!$AJ$4:$BO$4"),0),FALSE)=$J$1,"L","O") -> #N/A | K49: =CONCATENATE(I49,J49) -> #N/A | L49: =IF(K49="OO",H49," " ) -> #N/A | M49: =IF(VLOOKUP($B49,INDIRECT(""&$A$3&"!$AJ$4:$BO$23"),MATCH($K$2,INDIRECT(""&$A$3&"!$AJ$4:$BO$4"),0),FALSE)=$K$1,"L","O") -> #N/A | N49: =CONCATENATE(L49,M49) -> #N/A | O49: =IF(N49="OO",K49," " ) -> #N/A | P49: =IF(VLOOKUP($B49,INDIRECT(""&$A$3&"!$AJ$4:$BO$23"),MATCH($L$2,INDIRECT(""&$A$3&"!$AJ$4:$BO$4"),0),FALSE)=$L$1,"L","O") -> #N/A | Q49: =CONCATENATE(C49,P49) -> #N/A | R49: =IF(Q49="OL",B49," " ) -> #N/A | S49: =IF(VLOOKUP($B49,INDIRECT(""&$A$3&"!$AJ$4:$BO$23"),MATCH($M$2,INDIRECT(""&$A$3&"!$AJ$4:$BO$4"),0),FALSE)=$M$1,"L","O") -> #N/A | T49: =CONCATENATE(R49,S49) -> #N/A | U49: =IF(T49="OL",B49," " ) -> #N/A | V49: =IF(VLOOKUP($B49,INDIRECT(""&$A$3&"!$AJ$4:$BO$23"),MATCH($N$2,INDIRECT(""&$A$3&"!$AJ$4:$BO$4"),0),FALSE)=$N$1,"L","O") -> #N/A | W49: =CONCATENATE(U49,V49) -> #N/A | X49: =IF(W49="OO",T49," " ) -> #N/A
A50: 22 | B50: ANCIEN BAR | C50: =IF($D$3<=(VLOOKUP($B50,'capacité salles'!$A$1:$G$40,2,FALSE)),"O","N") -> N | D50: =IF(VLOOKUP($B50,INDIRECT(""&$A$3&"!$AJ$4:$BO$23"),MATCH($H$2,INDIRECT(""&$A$3&"!$AJ$4:$BO$4"),0),FALSE)=$H$1,"L","O") -> #N/A | E50: =CONCATENATE(C50,D50) -> #N/A | F50: =IF(E50="OO",B50," " ) -> #N/A | G50: =IF(VLOOKUP($B50,INDIRECT(""&$A$3&"!$AJ$4:$BO$23"),MATCH($I$2,INDIRECT(""&$A$3&"!$AJ$4:$BO$4"),0),FALSE)=$I$1,"L","O") -> #N/A | H50: =CONCATENATE(F50,G50) -> #N/A | I50: =IF(H50="OO",E50," " ) -> #N/A | J50: =IF(VLOOKUP($B50,INDIRECT(""&$A$3&"!$AJ$4:$BO$23"),MATCH($J$2,INDIRECT(""&$A$3&"!$AJ$4:$BO$4"),0),FALSE)=$J$1,"L","O") -> #N/A | K50: =CONCATENATE(I50,J50) -> #N/A | L50: =IF(K50="OO",H50," " ) -> #N/A | M50: =IF(VLOOKUP($B50,INDIRECT(""&$A$3&"!$AJ$4:$BO$23"),MATCH($K$2,INDIRECT(""&$A$3&"!$AJ$4:$BO$4"),0),FALSE)=$K$1,"L","O") -> #N/A | N50: =CONCATENATE(L50,M50) -> #N/A | O50: =IF(N50="OO",K50," " ) -> #N/A | P50: =IF(VLOOKUP($B50,INDIRECT(""&$A$3&"!$AJ$4:$BO$23"),MATCH($L$2,INDIRECT(""&$A$3&"!$AJ$4:$BO$4"),0),FALSE)=$L$1,"L","O") -> #N/A | Q50: =CONCATENATE(C50,P50) -> #N/A | R50: =IF(Q50="OL",B50," " ) -> #N/A | S50: =IF(VLOOKUP($B50,INDIRECT(""&$A$3&"!$AJ$4:$BO$23"),MATCH($M$2,INDIRECT(""&$A$3&"!$AJ$4:$BO$4"),0),FALSE)=$M$1,"L","O") -> #N/A | T50: =CONCATENATE(R50,S50) -> #N/A | U50: =IF(T50="OL",B50," " ) -> #N/A | V50: =IF(VLOOKUP($B50,INDIRECT(""&$A$3&"!$AJ$4:$BO$23"),MATCH($N$2,INDIRECT(""&$A$3&"!$AJ$4:$BO$4"),0),FALSE)=$N$1,"L","O") -> #N/A | W50: =CONCATENATE(U50,V50) -> #N/A | X50: =IF(W50="OO",T50," " ) -> #N/A
A51: 23 | B51: CARNAVALET-RODIN | C51: =IF($D$3<=(VLOOKUP($B51,'capacité salles'!$A$1:$G$40,2,FALSE)),"O","N") -> O | D51: =IF(VLOOKUP($B51,INDIRECT(""&$A$3&"!$AJ$4:$BO$23"),MATCH($H$2,INDIRECT(""&$A$3&"!$AJ$4:$BO$4"),0),FALSE)=$H$1,"L","O") -> #N/A | E51: =CONCATENATE(C51,D51) -> #N/A | F51: =IF(E51="OO",B51," " ) -> #N/A | G51: =IF(VLOOKUP($B51,INDIRECT(""&$A$3&"!$AJ$4:$BO$23"),MATCH($I$2,INDIRECT(""&$A$3&"!$AJ$4:$BO$4"),0),FALSE)=$I$1,"L","O") -> #N/A | H51: =CONCATENATE(F51,G51) -> #N/A | I51: =IF(H51="OO",E51," " ) -> #N/A | J51: =IF(VLOOKUP($B51,INDIRECT(""&$A$3&"!$AJ$4:$BO$23"),MATCH($J$2,INDIRECT(""&$A$3&"!$AJ$4:$BO$4"),0),FALSE)=$J$1,"L","O") -> #N/A | K51: =CONCATENATE(I51,J51) -> #N/A | L51: =IF(K51="OO",H51," " ) -> #N/A | M51: =IF(VLOOKUP($B51,INDIRECT(""&$A$3&"!$AJ$4:$BO$23"),MATCH($K$2,INDIRECT(""&$A$3&"!$AJ$4:$BO$4"),0),FALSE)=$K$1,"L","O") -> #N/A | N51: =CONCATENATE(L51,M51) -> #N/A | O51: =IF(N51="OO",K51," " ) -> #N/A | P51: =IF(VLOOKUP($B51,INDIRECT(""&$A$3&"!$AJ$4:$BO$23"),MATCH($L$2,INDIRECT(""&$A$3&"!$AJ$4:$BO$4"),0),FALSE)=$L$1,"L","O") -> #N/A | Q51: =CONCATENATE(C51,P51) -> #N/A | R51: =IF(Q51="OL",B51," " ) -> #N/A | S51: =IF(VLOOKUP($B51,INDIRECT(""&$A$3&"!$AJ$4:$BO$23"),MATCH($M$2,INDIRECT(""&$A$3&"!$AJ$4:$BO$4"),0),FALSE)=$M$1,"L","O") -> #N/A | T51: =CONCATENATE(R51,S51) -> #N/A | U51: =IF(T51="OL",B51," " ) -> #N/A | V51: =IF(VLOOKUP($B51,INDIRECT(""&$A$3&"!$AJ$4:$BO$23"),MATCH($N$2,INDIRECT(""&$A$3&"!$AJ$4:$BO$4"),0),FALSE)=$N$1,"L","O") -> #N/A | W51: =CONCATENATE(U51,V51) -> #N/A | X51: =IF(W51="OO",T51," " ) -> #N/A
