Workbook

Sheet Synthèse 
A1: Synthèse des heures
A2: 2016 | B2: TT Heures | C2: TTE | D2: H.sup TTE | E2: 2015 | F2: TT Heures | G2: TTE | H2: H.sup TTE
A3: Janvier | B3: =SUM('Janvier 2016'!C27+'Janvier 2016'!C56) -> 0 | C3: =SUM('Janvier 2016'!C28+'Janvier 2016'!C57) -> 0 | D3: =SUM('Janvier 2016'!F28+'Janvier 2016'!F57) -> -156 | E3: Août | F3: =SUM('Août 2015'!E14+'Août 2015'!D30) -> 3.1875 | G3: =SUM('Août 2015'!E15+'Août 2015'!D31) -> 2.86875
A4: Février | B4: =SUM('Fevrier 2016'!C27+'Fevrier 2016'!C56) -> 0 | C4: =SUM('Fevrier 2016'!C28+'Fevrier 2016'!C57) -> 0 | D4: ='Fevrier 2016'!F57+'Fevrier 2016'!F28 -> -156 | E4: Septembre | F4: =SUM('Septembre 2015'!D28+'Septembre 2015'!D57) -> 10.746528 | G4: =SUM('Septembre 2015'!D29+'Septembre 2015'!D58) -> 9.4776042 | H4: =SUM('Septembre 2015'!G29+'Septembre 2015'!G58) -> 71.4625
A5: Mars | B5: =SUM('Mars 2016'!C27+'Mars 2016'!C56) -> 0 | C5: =SUM('Mars 2016'!C28+'Mars 2016'!C57) -> 0 | D5: =SUM('Mars 2016'!F28+'Mars 2016'!F57) -> -156 | E5: Octobre | F5: =SUM('Octobre 2015'!C27+'Octobre 2015'!C56) -> 8.0555556 | G5: =SUM('Octobre 2015'!D12+'Octobre 2015'!D25+'Octobre 2015'!D41+'Octobre 2015'!D54) -> 6.9328125 | H5: =SUM('Octobre 2015'!F28+'Octobre 2015'!F57) -> 10.3875
A6: Avril | B6: =SUM('Avril 2016'!C27+'Avril 2016'!C56+'Avril 2016'!C85) -> 0 | C6: =SUM('Avril 2016'!C28+'Avril 2016'!C57+'Avril 2016'!C86) -> 0 | D6: =SUM('Avril 2016'!F28+'Avril 2016'!F57+'Avril 2016'!F86) -> -234 | E6: Novembre | F6: =SUM('Novembre 2015'!C27+'Novembre 2015'!C56) -> 8.7118056 | G6: =SUM('Novembre 2015'!C28+'Novembre 2015'!C57) -> 7.553125 | H6: =SUM('Novembre 2015'!F28+'Novembre 2015'!F57) -> 25.275
A7: Mai | B7: =SUM('Mai 2016'!C27+'Mai 2016'!C56) -> 0 | C7: =SUM('Mai 2016'!C28+'Mai 2016'!C57) -> 0 | D7: =SUM('Mai 2016'!F28+'Mai 2016'!F57) -> -156 | E7: Décembre | F7: =SUM('Decembre 2015'!C27+'Decembre 2015'!C56) -> 9.3090278 | G7: =SUM('Decembre 2015'!C28+'Decembre 2015'!C57) -> 8.259375 | H7: =SUM('Decembre 2015'!F28+'Decembre 2015'!F57) -> 42.225
A8: Juin | B8: =SUM('Juin 2016'!C27+'Juin 2016'!C56) -> 0 | C8: =SUM('Juin 2016'!C28+'Juin 2016'!C57) -> 0 | D8: =SUM('Juin 2016'!F28+'Juin 2016'!F57) -> -156
A9: Juillet | B9: =SUM('Juillet 2016 '!C27+'Juillet 2016 '!C56) -> 0 | C9: =SUM('Juillet 2016 '!C28+'Juillet 2016 '!C57) -> 0 | D9: =SUM('Juillet 2016 '!F28+'Juillet 2016 '!F57) -> -156
A10: Août | B10: =SUM('Août 2016'!C28+'Août 2016'!C57) -> 0 | C10: =SUM('Août 2016'!C28+'Août 2016'!C57) -> 0 | D10: =SUM('Août 2016'!F28+'Août 2016'!F57) -> -156
A11: Septembre | B11: =SUM('Septembre 2016 '!C27+'Septembre 2016 '!C56) -> 0 | C11: =SUM('Septembre 2016 '!C28+'Septembre 2016 '!C57) -> 0 | D11: =SUM('Septembre 2016 '!F28+'Septembre 2016 '!F57) -> -156
A12: Octobre | B12: =SUM('Octobre 2016 '!C28+'Octobre 2016 '!C57) -> 0 | C12: =SUM('Octobre 2016 '!C28+'Octobre 2016 '!C57) -> 0 | D12: =SUM('Octobre 2016 '!F28+'Octobre 2016 '!F57) -> -156
A13: Novembre | B13: =SUM('Novembre 2016'!C27+'Novembre 2016'!C56) -> 0 | C13: =SUM('Novembre 2016'!C28+'Novembre 2016'!C57) -> 0 | D13: =SUM('Novembre 2016'!F28+'Novembre 2016'!F57) -> -156 | F13: =SUM(F4:F12) -> 36.822917 | G13: =SUM(G4:G12) -> 32.222917 | H13: =SUM(H4:H12) -> 149.35
A14: Décembre | B14: =SUM('Décembre 2016'!C27+'Décembre 2016'!C56) -> 0 | C14: =SUM('Décembre 2016'!C28+'Décembre 2016'!C57) -> 0 | D14: =SUM('Décembre 2016'!F28+'Décembre 2016'!F57) -> -156
A15: TT | B15: =SUM(B3:B14) -> 0 | C15: =SUM(C3:C14) -> 0 | D15: =SUM(D3:D12) -> -1638

Sheet Août 2015
A1: CALCUL DE QUATORZAINE pour un coefficient à 90%
B3: 27 jours W
A4: Quatorzaine du Lundi24/08/2015 au Dimanche 06/09/2015
B6: PERM | C6: Début | D6: Fin | E6: Amplitude | F6: TTE | G6: IDAJ 75 | H6: IDAJ 100
A7: Lundi | B7: FERIE | E7: =MOD('Août 2015'!D7-'Août 2015'!C7,1) -> 0 | F7: =SUM('Août 2015'!E7*0.9) -> 0
A8: Mardi | B8: NORM | E8: =MOD('Août 2015'!D8-'Août 2015'!C8,1) -> 0 | F8: =VLOOKUP(B8,DONNEES!A3:B5,2,1)*E8 -> 0
A9: Mercredi | B9: NORM | E9: =MOD('Août 2015'!D9-'Août 2015'!C9,1) -> 0 | F9: =VLOOKUP(B9,DONNEES!A4:B6,2,1)*E9 -> 0
A10: Jeudi | B10: FERIE | E10: =MOD('Août 2015'!D10-'Août 2015'!C10,1) -> 0 | F10: =SUM('Août 2015'!E10*0.9) -> 0
A11: Vendredi | B11: FERIE | C11: 0.26041667 | D11: 0.83680556 | E11: =MOD('Août 2015'!D11-'Août 2015'!C11,1) -> 0.57638889 | F11: =SUM('Août 2015'!E11*0.9) -> 0.51875
A12: Samedi | B12: PERM | E12: =MOD('Août 2015'!D12-'Août 2015'!C12,1) -> 0 | F12: =SUM('Août 2015'!E12*0.9) -> 0
A13: Dimanche | B13: PERM | E13: =MOD('Août 2015'!D13-'Août 2015'!C13,1) -> 0 | F13: =SUM('Août 2015'!E13*0.75) -> 0
D14: TOTAL | E14: =SUM('Août 2015'!E7:E13) -> 0.57638889 | F14: =SUM('Août 2015'!E14-'Août 2015'!H14) -> -1.0486111 | H14: 1.625
D15: 0.9 | E15: =SUM('Août 2015'!F7:F13) -> 0.51875 | F15: =SUM('Août 2015'!E15-'Août 2015'!H15) -> -0.93958333 | H15: 1.4583333
D16: Centième | E16: =SUM('Août 2015'!E15*24) -> 12.45
D17: =SUM('Août 2015'!H14-'Août 2015'!E14) -> 1.0486111 | E17: A faire
C19: Début | D19: Fin | E19: Amplitude | F19: TTE
A20: Lundi | C20: 0.41666667 | D20: 0.85069444 | E20: =MOD('Août 2015'!D20-'Août 2015'!C20,1) -> 0.43402778 | F20: =SUM('Août 2015'!E20*0.9) -> 0.390625
A21: Mardi | E21: =MOD('Août 2015'!D21-'Août 2015'!C21,1) -> 0 | F21: =SUM('Août 2015'!E21*0.9) -> 0
A22: Mercredi | C22: 0.30208333 | D22: 0.86458333 | E22: =MOD('Août 2015'!D22-'Août 2015'!C22,1) -> 0.5625 | F22: =SUM('Août 2015'!E22*0.9) -> 0.50625
A23: Jeudi | C23: 0.29166667 | D23: 0.80555556 | E23: =MOD('Août 2015'!D23-'Août 2015'!C23,1) -> 0.51388889 | F23: =SUM('Août 2015'!E23*0.9) -> 0.4625 | I23: 3.25
A24: Vendredi | C24: 0.30208333 | D24: 0.82638889 | E24: =MOD('Août 2015'!D24-'Août 2015'!C24,1) -> 0.52430556 | F24: =SUM('Août 2015'!E24*0.9) -> 0.471875
A25: Samedi | E25: =MOD('Août 2015'!D25-'Août 2015'!C25,1) -> 0 | F25: =SUM('Août 2015'!E25*0.75) -> 0
A26: Dimanche | E26: =MOD('Août 2015'!D26-'Août 2015'!C26,1) -> 0 | F26: =SUM('Août 2015'!E26*0.75) -> 0
D27: TOTAL | E27: =SUM('Août 2015'!E20:E26) -> 2.0347222 | F27: =SUM('Août 2015'!E27-'Août 2015'!H27) -> 0.40972222 | G27: par rapport à | H27: 1.625
D28: 0.9 | E28: =SUM('Août 2015'!F20:F26) -> 1.83125 | F28: =SUM('Août 2015'!E28-'Août 2015'!I28) -> 1.83125
D29: Centième | E29: =SUM('Août 2015'!E28*24) -> 43.95
A30: TOTAL QUATORZAINE | D30: =SUM('Août 2015'!E14+'Août 2015'!E27) -> 2.6111111 | E30: sur 78H soit | F30: =SUM('Août 2015'!D30-'Août 2015'!H30) -> -0.63888889 | H30: 3.25
B31: Centième | C31: Centième | D31: =SUM(E15+E28) -> 2.35 | E31: =SUM(D31*24) -> 56.4 | F31: =SUM(D31-H30) -> -0.9 | G31: =SUM(F31*24) -> -21.6

Sheet Septembre 2015
A2: Quatorzaine du Lundi 07/09/2015 au Dimanche 20/09/2015
C4: Début | D4: Fin | E4: Amplitude | F4: TTE
A5: Lundi | C5: 0.30208333 | D5: 0.8125 | E5: =MOD('Septembre 2015'!D5-'Septembre 2015'!C5,1) -> 0.51041667 | F5: =SUM('Septembre 2015'!E5*0.9) -> 0.459375
A6: Mardi | C6: 0.44791667 | D6: 0.82986111 | E6: =MOD('Septembre 2015'!D6-'Septembre 2015'!C6,1) -> 0.38194444 | F6: =SUM('Septembre 2015'!E6*0.9) -> 0.34375
A7: Mercredi | C7: 0.30208333 | D7: 0.80555556 | E7: =MOD('Septembre 2015'!D7-'Septembre 2015'!C7,1) -> 0.50347222 | F7: =SUM('Septembre 2015'!E7*0.9) -> 0.453125 | G7: =SUM('Septembre 2015'!E7*24) -> 12.083333
A8: Jeudi | C8: 0.3125 | D8: 0.83680556 | E8: =MOD('Septembre 2015'!D8-'Septembre 2015'!C8,1) -> 0.52430556 | F8: =SUM('Septembre 2015'!E8*0.9) -> 0.471875 | G8: =SUM('Septembre 2015'!E8*24) -> 12.583333
A9: Vendredi | E9: =MOD('Septembre 2015'!D9-'Septembre 2015'!C9,1) -> 0 | F9: =SUM('Septembre 2015'!E9*0.9) -> 0 | G9: =SUM('Septembre 2015'!E9*24) -> 0
A10: Samedi | C10: 0.41666667 | D10: 0.88888889 | E10: =MOD('Septembre 2015'!D10-'Septembre 2015'!C10,1) -> 0.47222222 | F10: =SUM('Septembre 2015'!E10*0.75) -> 0.35416667
A11: Dimanche | E11: =MOD('Septembre 2015'!D11-'Septembre 2015'!C11,1) -> 0 | F11: =SUM('Septembre 2015'!E11*0.75) -> 0
D12: TOTAL | E12: =SUM('Septembre 2015'!E5:E11) -> 2.3923611 | F12: =SUM('Septembre 2015'!E12-'Septembre 2015'!H12) -> 0.76736111 | G12: par rapport à | H12: 1.625
D13: 0.9 | E13: =SUM('Septembre 2015'!F5:F11) -> 2.0822917 | F13: =SUM('Septembre 2015'!E13-'Septembre 2015'!I44) -> 2.0822917
D14: Centième | E14: =SUM('Septembre 2015'!E13*24) -> 49.975
D15: =SUM('Septembre 2015'!H12-'Septembre 2015'!E12) -> -0.76736111 | E15: A faire
C17: Début | D17: Fin | E17: Amplitude | F17: TTE
A18: Lundi | C18: 0.30208333 | D18: 0.81597222 | E18: =MOD('Septembre 2015'!D18-'Septembre 2015'!C18,1) -> 0.51388889 | F18: =SUM('Septembre 2015'!E18*0.9) -> 0.4625
A19: Mardi | C19: 0.30208333 | D19: 0.80902778 | E19: =MOD('Septembre 2015'!D19-'Septembre 2015'!C19,1) -> 0.50694444 | F19: =SUM('Septembre 2015'!E19*0.9) -> 0.45625
A20: Mercredi | C20: 0.33333333 | D20: 0.83333333 | E20: =MOD('Septembre 2015'!D20-'Septembre 2015'!C20,1) -> 0.5 | F20: =SUM('Septembre 2015'!E20*0.9) -> 0.45
A21: Jeudi | C21: 0.29166667 | D21: 0.78472222 | E21: =MOD('Septembre 2015'!D21-'Septembre 2015'!C21,1) -> 0.49305556 | F21: =SUM('Septembre 2015'!E21*0.9) -> 0.44375
A22: Vendredi | C22: 0.30208333 | D22: 0.84722222 | E22: =MOD('Septembre 2015'!D22-'Septembre 2015'!C22,1) -> 0.54513889 | F22: =SUM('Septembre 2015'!E22*0.9) -> 0.490625
A23: Samedi | C23: 0.41666667 | D23: 0.78125 | E23: =MOD('Septembre 2015'!D23-'Septembre 2015'!C23,1) -> 0.36458333 | F23: =SUM('Septembre 2015'!E23*0.75) -> 0.2734375 | G23: *
A24: Dimanche | E24: =MOD('Septembre 2015'!D24-'Septembre 2015'!C24,1) -> 0 | F24: =SUM('Septembre 2015'!E24*0.75) -> 0
D25: TOTAL | E25: =SUM('Septembre 2015'!E18:E24) -> 2.9236111 | F25: =SUM('Septembre 2015'!E25-'Septembre 2015'!H25) -> 1.2986111 | G25: par rapport à | H25: 1.625
D26: 0.9 | E26: =SUM('Septembre 2015'!F18:F24) -> 2.5765625 | F26: =SUM('Septembre 2015'!E26-'Septembre 2015'!I57) -> 2.5765625
D27: Centième | E27: =SUM('Septembre 2015'!E26*24) -> 61.8375
A28: TOTAL QUATORZAINE | D28: =SUM('Septembre 2015'!E12+'Septembre 2015'!E25) -> 5.3159722 | E28: sur 78H soit | F28: =SUM('Septembre 2015'!D28-'Septembre 2015'!H28) -> 2.0659722 | H28: 3.25
C29: Centième | D29: =SUM(E13+E26) -> 4.6588542 | E29: =SUM(D29*24) -> 111.8125 | F29: =SUM(D29-H28) -> 1.4088542 | G29: =SUM(F29*24) -> 33.8125
A31: Quatorzaine du Lundi 21/09/2015 au Dimanche 04/10/2015
C33: Début | D33: Fin | E33: Amplitude | F33: TTE
A34: Lundi | C34: 0.33333333 | D34: 0.84375 | E34: =MOD('Septembre 2015'!D34-'Septembre 2015'!C34,1) -> 0.51041667 | F34: =SUM('Septembre 2015'!E34*0.9) -> 0.459375
A35: Mardi | C35: 0.35416667 | D35: 0.80208333 | E35: =MOD('Septembre 2015'!D35-'Septembre 2015'!C35,1) -> 0.44791667 | F35: =SUM('Septembre 2015'!E35*0.9) -> 0.403125
A36: Mercredi | C36: 0.34375 | D36: 0.8125 | E36: =MOD('Septembre 2015'!D36-'Septembre 2015'!C36,1) -> 0.46875 | F36: =SUM('Septembre 2015'!E36*0.9) -> 0.421875
A37: Jeudi | C37: 0.35416667 | D37: 0.70833333 | E37: =MOD('Septembre 2015'!D37-'Septembre 2015'!C37,1) -> 0.35416667 | F37: =SUM('Septembre 2015'!E37*0.9) -> 0.31875
A38: Vendredi | C38: 0.375 | D38: 0.83333333 | E38: =MOD('Septembre 2015'!D38-'Septembre 2015'!C38,1) -> 0.45833333 | F38: =SUM('Septembre 2015'!E38*0.9) -> 0.4125
A39: Samedi | E39: =MOD('Septembre 2015'!D39-'Septembre 2015'!C39,1) -> 0 | F39: =SUM('Septembre 2015'!E39*0.75) -> 0
A40: Dimanche | E40: =MOD('Septembre 2015'!D40-'Septembre 2015'!C40,1) -> 0 | F40: =SUM('Septembre 2015'!E40*0.75) -> 0
D41: TOTAL | E41: =SUM('Septembre 2015'!E34:E40) -> 2.2395833 | F41: =SUM('Septembre 2015'!E41-'Septembre 2015'!H41) -> 0.61458333 | G41: par rapport à | H41: 1.625
D42: 0.9 | E42: =SUM('Septembre 2015'!F34:F40) -> 2.015625 | F42: =SUM('Septembre 2015'!E42-'Septembre 2015'!I73) -> 2.015625
D43: Centième | E43: =SUM('Septembre 2015'!E42*24) -> 48.375
D44: =SUM('Septembre 2015'!H41-'Septembre 2015'!E41) -> -0.61458333 | E44: A faire
C46: Début | D46: Fin | E46: Amplitude | F46: TTE
...

Sheet Octobre 2015
A1: Quatorzaine du Lundi 05/10/2015 au Dimanche 18/10/2015
B2: 17 jours W
B3: Début | C3: Fin | D3: Amplitude | E3: TTE
A4: Lundi | D4: =MOD('Octobre 2015'!C4-'Octobre 2015'!B4,1) -> 0 | E4: =SUM('Octobre 2015'!D4*0.9) -> 0
A5: Mardi | B5: 0.30208333 | C5: 0.74652778 | D5: =MOD('Octobre 2015'!C5-'Octobre 2015'!B5,1) -> 0.44444444 | E5: =SUM('Octobre 2015'!D5*0.9) -> 0.4
A6: Mercredi | B6: 0.29166667 | C6: 0.83333333 | D6: =MOD('Octobre 2015'!C6-'Octobre 2015'!B6,1) -> 0.54166667 | E6: =SUM('Octobre 2015'!D6*0.9) -> 0.4875
A7: Jeudi | B7: 0.29166667 | C7: 0.84722222 | D7: =MOD('Octobre 2015'!C7-'Octobre 2015'!B7,1) -> 0.55555556 | E7: =SUM('Octobre 2015'!D7*0.9) -> 0.5
A8: Vendredi | D8: =MOD('Octobre 2015'!C8-'Octobre 2015'!B8,1) -> 0 | E8: =SUM('Octobre 2015'!D8*0.9) -> 0
A9: Samedi | B9: 0.83333333 | C9: 0.33333333 | D9: =MOD('Octobre 2015'!C9-'Octobre 2015'!B9,1) -> 0.5 | E9: =SUM('Octobre 2015'!D9*0.75) -> 0.375
A10: Dimanche | D10: =MOD('Octobre 2015'!C10-'Octobre 2015'!B10,1) -> 0 | E10: =SUM('Octobre 2015'!D10*0.75) -> 0
C11: TOTAL | D11: =SUM('Octobre 2015'!D4:D10) -> 2.0416667 | E11: =SUM('Octobre 2015'!D11-'Octobre 2015'!G11) -> 0.41666667 | F11: par rapport à | G11: 1.625
C12: 0.9 | D12: =SUM('Octobre 2015'!E4:E10) -> 1.7625 | E12: =SUM('Octobre 2015'!D12-'Octobre 2015'!G12) -> 0.30416667 | G12: 1.4583333
C13: Centième | D13: =SUM('Octobre 2015'!D12*24) -> 42.3
C14: =SUM('Octobre 2015'!G11-'Octobre 2015'!D11) -> -0.41666667 | D14: A faire
B16: Début | C16: Fin | D16: Amplitude | E16: TTE
A17: Lundi | B17: 0.30208333 | C17: 0.84375 | D17: =MOD('Octobre 2015'!C17-'Octobre 2015'!B17,1) -> 0.54166667 | E17: =SUM('Octobre 2015'!D17*0.9) -> 0.4875
A18: Mardi | B18: 0.4375 | C18: 0.85763889 | D18: =MOD('Octobre 2015'!C18-'Octobre 2015'!B18,1) -> 0.42013889 | E18: =SUM('Octobre 2015'!D18*0.9) -> 0.378125
A19: Mercredi | B19: 0.30208333 | C19: 0.84027778 | D19: =MOD('Octobre 2015'!C19-'Octobre 2015'!B19,1) -> 0.53819444 | E19: =SUM('Octobre 2015'!D19*0.9) -> 0.484375
A20: Jeudi | B20: 0.33333333 | C20: 0.84375 | D20: =MOD('Octobre 2015'!C20-'Octobre 2015'!B20,1) -> 0.51041667 | E20: =SUM('Octobre 2015'!D20*0.9) -> 0.459375
A21: Vendredi | D21: =MOD('Octobre 2015'!C21-'Octobre 2015'!B21,1) -> 0 | E21: =SUM('Octobre 2015'!D21*0.9) -> 0
A22: Samedi | D22: =MOD('Octobre 2015'!C22-'Octobre 2015'!B22,1) -> 0 | E22: =SUM('Octobre 2015'!D22*0.75) -> 0
A23: Dimanche | D23: =MOD('Octobre 2015'!C23-'Octobre 2015'!B23,1) -> 0 | E23: =SUM('Octobre 2015'!D23*0.75) -> 0
C24: TOTAL | D24: =SUM('Octobre 2015'!D17:D23) -> 2.0104167 | E24: =SUM('Octobre 2015'!D24-'Octobre 2015'!G24) -> 0.38541667 | F24: par rapport à | G24: 1.625
C25: 0.9 | D25: =SUM('Octobre 2015'!E17:E23) -> 1.809375 | E25: =SUM('Octobre 2015'!D25-'Octobre 2015'!G25) -> 0.35104167 | G25: 1.4583333
C26: Centième | D26: =SUM('Octobre 2015'!D25*24) -> 43.425
A27: TOTAL QUATORZAINE | C27: =SUM('Octobre 2015'!D11+'Octobre 2015'!D24) -> 4.0520833 | D27: sur 78H soit | E27: =SUM('Octobre 2015'!C27-'Octobre 2015'!G27) -> 0.80208333 | G27: 3.25
B28: Centième | C28: =SUM('Octobre 2015'!D12+'Octobre 2015'!D25) -> 3.571875 | D28: =SUM(C28*24) -> 85.725 | E28: =SUM('Octobre 2015'!C28-'Octobre 2015'!G27) -> 0.321875 | F28: =SUM(E28*24) -> 7.725
A30: Quatorzaine du Lundi 19/10/2015 au Dimanche 01/11/2015
B32: Début | C32: Fin | D32: Amplitude | E32: TTE
A33: Lundi | D33: =MOD('Octobre 2015'!C33-'Octobre 2015'!B33,1) -> 0 | E33: =SUM('Octobre 2015'!D33*0.9) -> 0
A34: Mardi | B34: 0.29166667 | C34: 0.75 | D34: =MOD('Octobre 2015'!C34-'Octobre 2015'!B34,1) -> 0.45833333 | E34: =SUM('Octobre 2015'!D34*0.9) -> 0.4125
A35: Mercredi | D35: =MOD('Octobre 2015'!C35-'Octobre 2015'!B35,1) -> 0 | E35: =SUM('Octobre 2015'!D35*0.9) -> 0
A36: Jeudi | B36: 0.83333333 | C36: 0.33333333 | D36: =MOD('Octobre 2015'!C36-'Octobre 2015'!B36,1) -> 0.5 | E36: =SUM('Octobre 2015'!D36*0.75) -> 0.375
A37: Vendredi | D37: =MOD('Octobre 2015'!C37-'Octobre 2015'!B37,1) -> 0 | E37: =SUM('Octobre 2015'!D37*0.9) -> 0
A38: Samedi | B38: 0.23958333 | C38: 0.81597222 | D38: =MOD('Octobre 2015'!C38-'Octobre 2015'!B38,1) -> 0.57638889 | E38: =SUM('Octobre 2015'!D38*0.75) -> 0.43229167
A39: Dimanche | D39: =MOD('Octobre 2015'!C39-'Octobre 2015'!B39,1) -> 0 | E39: =SUM('Octobre 2015'!D39*0.75) -> 0
C40: TOTAL | D40: =SUM('Octobre 2015'!D33:D39) -> 1.5347222 | E40: =SUM('Octobre 2015'!D40-'Octobre 2015'!G40) -> -0.090277778 | F40: par rapport à | G40: 1.625
C41: 0.9 | D41: =SUM('Octobre 2015'!E33:E39) -> 1.2197917 | E41: =SUM('Octobre 2015'!D41-'Octobre 2015'!G41) -> -0.23854167 | G41: 1.4583333
C42: Centième | D42: =SUM('Octobre 2015'!D41*24) -> 29.275
C43: =SUM('Octobre 2015'!G40-'Octobre 2015'!D40) -> 0.090277778 | D43: A faire
...

Sheet Novembre 2015
A1: Quatorzaine du Lundi 02/11/2015 au Dimanche 15/11/2015
B2: 19 jours W
B3: Début | C3: Fin | D3: Amplitude | E3: TTE
A4: Lundi | B4: 0.30208333 | C4: 0.84375 | D4: =MOD('Novembre 2015'!C4-'Novembre 2015'!B4,1) -> 0.54166667 | E4: =SUM('Novembre 2015'!D4*0.9) -> 0.4875
A5: Mardi | B5: 0.30208333 | C5: 0.73611111 | D5: =MOD('Novembre 2015'!C5-'Novembre 2015'!B5,1) -> 0.43402778 | E5: =SUM('Novembre 2015'!D5*0.9) -> 0.390625
A6: Mercredi | B6: 0.29166667 | C6: 0.80555556 | D6: =MOD('Novembre 2015'!C6-'Novembre 2015'!B6,1) -> 0.51388889 | E6: =SUM('Novembre 2015'!D6*0.9) -> 0.4625
A7: Jeudi | D7: =MOD('Novembre 2015'!C7-'Novembre 2015'!B7,1) -> 0 | E7: =SUM('Novembre 2015'!D7*0.9) -> 0
A8: Vendredi | B8: 0.29166667 | C8: 0.77083333 | D8: =MOD('Novembre 2015'!C8-'Novembre 2015'!B8,1) -> 0.47916667 | E8: =SUM('Novembre 2015'!D8*0.9) -> 0.43125
A9: Samedi | D9: =MOD('Novembre 2015'!C9-'Novembre 2015'!B9,1) -> 0 | E9: =SUM('Novembre 2015'!D9*0.75) -> 0
A10: Dimanche | D10: =MOD('Novembre 2015'!C10-'Novembre 2015'!B10,1) -> 0 | E10: =SUM('Novembre 2015'!D10*0.75) -> 0
C11: TOTAL | D11: =SUM('Novembre 2015'!D4:D10) -> 1.96875 | E11: =SUM('Novembre 2015'!D11-'Novembre 2015'!G11) -> 0.34375 | F11: par rapport à | G11: 1.625
C12: TTE | D12: =SUM('Novembre 2015'!E4:E10) -> 1.771875 | E12: =SUM('Novembre 2015'!D12-'Novembre 2015'!G12) -> 0.146875 | F12: =SUM(E12*24) -> 3.525 | G12: 1.625
C13: Centième | D13: =SUM('Novembre 2015'!D12*24) -> 42.525
C14: =SUM('Novembre 2015'!G11-'Novembre 2015'!D11) -> -0.34375 | D14: A faire
B16: Début | C16: Fin | D16: Amplitude | E16: TTE | F16: FERIE
A17: Lundi | B17: 0.40625 | C17: 0.85416667 | D17: =MOD('Novembre 2015'!C17-'Novembre 2015'!B17,1) -> 0.44791667 | E17: =SUM('Novembre 2015'!D17*0.9) -> 0.403125
A18: Mardi | B18: 0.33333333 | C18: 0.75 | D18: =MOD('Novembre 2015'!C18-'Novembre 2015'!B18,1) -> 0.41666667 | E18: =SUM('Novembre 2015'!D18*0.9) -> 0.375
A19: Mercredi | B19: 0.33333333 | C19: 0.83333333 | D19: =MOD('Novembre 2015'!C19-'Novembre 2015'!B19,1) -> 0.5 | E19: =SUM('Novembre 2015'!D19*0.75) -> 0.375 | F19: X
A20: Jeudi | B20: 0.51041667 | C20: 0.8125 | D20: =MOD('Novembre 2015'!C20-'Novembre 2015'!B20,1) -> 0.30208333 | E20: =SUM('Novembre 2015'!D20*0.9) -> 0.271875
A21: Vendredi | D21: =MOD('Novembre 2015'!C21-'Novembre 2015'!B21,1) -> 0 | E21: =SUM('Novembre 2015'!D21*0.9) -> 0
A22: Samedi | B22: 0.39583333 | C22: 0.8125 | D22: =MOD('Novembre 2015'!C22-'Novembre 2015'!B22,1) -> 0.41666667 | E22: =SUM('Novembre 2015'!D22*0.75) -> 0.3125
A23: Dimanche | B23: 0.33333333 | C23: 0.83333333 | D23: =MOD('Novembre 2015'!C23-'Novembre 2015'!B23,1) -> 0.5 | E23: =SUM('Novembre 2015'!D23*0.75) -> 0.375
C24: TOTAL | D24: =SUM('Novembre 2015'!D17:D23) -> 2.5833333 | E24: =SUM('Novembre 2015'!D24-'Novembre 2015'!G24) -> 0.95833333 | F24: par rapport à | G24: 1.625
C25: TTE | D25: =SUM('Novembre 2015'!E17:E23) -> 2.1125 | E25: =SUM('Novembre 2015'!D25-'Novembre 2015'!G25) -> 0.4875 | F25: =SUM(E25*24) -> 11.7 | G25: 1.625
C26: Centième | D26: =SUM('Novembre 2015'!D25*24) -> 50.7
A27: TOTAL QUATORZAINE | C27: =SUM('Novembre 2015'!D11+'Novembre 2015'!D24) -> 4.5520833 | D27: sur 78H soit | E27: =SUM('Novembre 2015'!C27-'Novembre 2015'!G27) -> 1.3020833 | G27: 3.25
B28: Centième | C28: =SUM('Novembre 2015'!D12+'Novembre 2015'!D25) -> 3.884375 | D28: =SUM(C28*24) -> 93.225 | E28: =SUM('Novembre 2015'!C28-'Novembre 2015'!G27) -> 0.634375 | F28: =SUM(E28*24) -> 15.225
A30: Quatorzaine du Lundi 16/11/2015 au Dimanche 29/11/2015
B32: Début | C32: Fin | D32: Amplitude | E32: TTE
A33: Lundi | B33: 0.375 | C33: 0.89236111 | D33: =MOD('Novembre 2015'!C33-'Novembre 2015'!B33,1) -> 0.51736111 | E33: =SUM('Novembre 2015'!D33*0.9) -> 0.465625
A34: Mardi | B34: 0.38541667 | C34: 0.79166667 | D34: =MOD('Novembre 2015'!C34-'Novembre 2015'!B34,1) -> 0.40625 | E34: =SUM('Novembre 2015'!D34*0.9) -> 0.365625
A35: Mercredi | B35: 0.27083333 | C35: 0.81944444 | D35: =MOD('Novembre 2015'!C35-'Novembre 2015'!B35,1) -> 0.54861111 | E35: =SUM('Novembre 2015'!D35*0.9) -> 0.49375
A36: Jeudi | B36: 0.42708333 | C36: 0.79166667 | D36: =MOD('Novembre 2015'!C36-'Novembre 2015'!B36,1) -> 0.36458333 | E36: =SUM('Novembre 2015'!D36*0.9) -> 0.328125
A37: Vendredi | B37: 0.28125 | C37: 0.8125 | D37: =MOD('Novembre 2015'!C37-'Novembre 2015'!B37,1) -> 0.53125 | E37: =SUM('Novembre 2015'!D37*0.9) -> 0.478125
A38: Samedi | D38: =MOD('Novembre 2015'!C38-'Novembre 2015'!B38,1) -> 0 | E38: =SUM('Novembre 2015'!D38*0.75) -> 0
A39: Dimanche | D39: =MOD('Novembre 2015'!C39-'Novembre 2015'!B39,1) -> 0 | E39: =SUM('Novembre 2015'!D39*0.75) -> 0
C40: TOTAL | D40: =SUM('Novembre 2015'!D33:D39) -> 2.3680556 | E40: =SUM('Novembre 2015'!D40-'Novembre 2015'!G40) -> 0.74305556 | F40: par rapport à | G40: 1.625
C41: TTE | D41: =SUM('Novembre 2015'!E33:E39) -> 2.13125 | E41: =SUM('Novembre 2015'!D41-'Novembre 2015'!G41) -> 0.50625 | F41: =SUM(E41*24) -> 12.15 | G41: 1.625
C42: Centième | D42: =SUM('Novembre 2015'!D41*24) -> 51.15
C43: =SUM('Novembre 2015'!G40-'Novembre 2015'!D40) -> -0.74305556 | D43: A faire
...

Sheet Decembre 2015
A1: Quatorzaine du Lundi 30/11/2015 au Dimanche 13/12/2015
B2: je
B3: Début | C3: Fin | D3: Amplitude | E3: TTE
A4: Lundi | B4: 0.39583333 | C4: 0.80208333 | D4: =MOD('Decembre 2015'!C4-'Decembre 2015'!B4,1) -> 0.40625 | E4: =SUM('Decembre 2015'!D4*0.9) -> 0.365625
A5: Mardi | B5: 0.41666667 | C5: 0.8125 | D5: =MOD('Decembre 2015'!C5-'Decembre 2015'!B5,1) -> 0.39583333 | E5: =SUM('Decembre 2015'!D5*0.9) -> 0.35625
A6: Mercredi | B6: 0.41666667 | C6: 0.76388889 | D6: =MOD('Decembre 2015'!C6-'Decembre 2015'!B6,1) -> 0.34722222 | E6: =SUM('Decembre 2015'!D6*0.75) -> 0.26041667
A7: Jeudi | B7: 0.19791667 | C7: 0.79861111 | D7: =MOD('Decembre 2015'!C7-'Decembre 2015'!B7,1) -> 0.60069444 | E7: =SUM('Decembre 2015'!D7*0.9) -> 0.540625
A8: Vendredi | B8: 0.44791667 | C8: 0.85416667 | D8: =MOD('Decembre 2015'!C8-'Decembre 2015'!B8,1) -> 0.40625 | E8: =SUM('Decembre 2015'!D8*0.9) -> 0.365625
A9: Samedi | B9: 0.41666667 | C9: 0.86111111 | D9: =MOD('Decembre 2015'!C9-'Decembre 2015'!B9,1) -> 0.44444444 | E9: =SUM('Decembre 2015'!D9*0.75) -> 0.33333333
A10: Dimanche | D10: =MOD('Decembre 2015'!C10-'Decembre 2015'!B10,1) -> 0 | E10: =SUM('Decembre 2015'!D10*0.75) -> 0
C11: TOTAL | D11: =SUM('Decembre 2015'!D4:D10) -> 2.6006944 | E11: =SUM('Decembre 2015'!D11-'Decembre 2015'!G11) -> 0.97569444 | F11: par rapport à | G11: 1.625
C12: 0.9 | D12: =SUM('Decembre 2015'!E4:E10) -> 2.221875 | E12: =SUM('Decembre 2015'!D12-'Decembre 2015'!G12) -> 0.596875 | F12: =SUM(E12*24) -> 14.325 | G12: 1.625
C13: Centième | D13: =SUM('Decembre 2015'!D12*24) -> 53.325
C14: =SUM('Decembre 2015'!G11-'Decembre 2015'!D11) -> -0.97569444 | D14: A faire
B16: Début | C16: Fin | D16: Amplitude | E16: TTE
A17: Lundi | B17: 0.35416667 | C17: 0.8125 | D17: =MOD('Decembre 2015'!C17-'Decembre 2015'!B17,1) -> 0.45833333 | E17: =SUM('Decembre 2015'!D17*0.9) -> 0.4125
A18: Mardi | B18: 0.48958333 | C18: 0.78125 | D18: =MOD('Decembre 2015'!C18-'Decembre 2015'!B18,1) -> 0.29166667 | E18: =SUM('Decembre 2015'!D18*0.9) -> 0.2625
A19: Mercredi | D19: =MOD('Decembre 2015'!C19-'Decembre 2015'!B19,1) -> 0 | E19: =SUM('Decembre 2015'!D19*0.9) -> 0
A20: Jeudi | B20: 0.3125 | C20: 0.80555556 | D20: =MOD('Decembre 2015'!C20-'Decembre 2015'!B20,1) -> 0.49305556 | E20: =SUM('Decembre 2015'!D20*0.9) -> 0.44375
A21: Vendredi | B21: 715 | C21: 0.79166667 | D21: =MOD('Decembre 2015'!C21-'Decembre 2015'!B21,1) -> 0.79166667 | E21: =SUM('Decembre 2015'!D21*0.9) -> 0.7125
A22: Samedi | D22: =MOD('Decembre 2015'!C22-'Decembre 2015'!B22,1) -> 0 | E22: =SUM('Decembre 2015'!D22*0.75) -> 0
A23: Dimanche | D23: =MOD('Decembre 2015'!C23-'Decembre 2015'!B23,1) -> 0 | E23: =SUM('Decembre 2015'!D23*0.75) -> 0
C24: TOTAL | D24: =SUM('Decembre 2015'!D17:D23) -> 2.0347222 | E24: =SUM('Decembre 2015'!D24-'Decembre 2015'!G24) -> 0.40972222 | F24: par rapport à | G24: 1.625
C25: 0.9 | D25: =SUM('Decembre 2015'!E17:E23) -> 1.83125 | E25: =SUM('Decembre 2015'!D25-'Decembre 2015'!G25) -> 0.20625 | F25: =SUM(E25*24) -> 4.95 | G25: 1.625
C26: Centième | D26: =SUM('Decembre 2015'!D25*24) -> 43.95
A27: TOTAL QUATORZAINE | C27: =SUM('Decembre 2015'!D11+'Decembre 2015'!D24) -> 4.6354167 | D27: sur 78H soit | E27: =SUM('Decembre 2015'!C27-'Decembre 2015'!G27) -> 1.3854167 | G27: 3.25
C28: =SUM('Decembre 2015'!D12+'Decembre 2015'!D25) -> 4.053125 | D28: =SUM(C28*24) -> 97.275 | E28: =SUM(C28-G27) -> 0.803125 | F28: =SUM(E28*24) -> 19.275
A30: Quatorzaine du Lundi 14/12/2015 au Dimanche 27/12/2015
B32: Début | C32: Fin | D32: Amplitude | E32: TTE
A33: Lundi | B33: 0.30208333 | C33: 0.8125 | D33: =MOD('Decembre 2015'!C33-'Decembre 2015'!B33,1) -> 0.51041667 | E33: =SUM('Decembre 2015'!D33*0.9) -> 0.459375
A34: Mardi | B34: 0.40625 | C34: 0.8125 | D34: =MOD('Decembre 2015'!C34-'Decembre 2015'!B34,1) -> 0.40625 | E34: =SUM('Decembre 2015'!D34*0.9) -> 0.365625
A35: Mercredi | B35: 0.35416667 | C35: 0.83333333 | D35: =MOD('Decembre 2015'!C35-'Decembre 2015'!B35,1) -> 0.47916667 | E35: =SUM('Decembre 2015'!D35*0.9) -> 0.43125
A36: Jeudi | B36: 0.35416667 | C36: 0.86458333 | D36: =MOD('Decembre 2015'!C36-'Decembre 2015'!B36,1) -> 0.51041667 | E36: =SUM('Decembre 2015'!D36*0.9) -> 0.459375
A37: Vendredi | B37: 0.46875 | C37: 0.79166667 | D37: =MOD('Decembre 2015'!C37-'Decembre 2015'!B37,1) -> 0.32291667 | E37: =SUM('Decembre 2015'!D37*0.9) -> 0.290625
A38: Samedi | D38: =MOD('Decembre 2015'!C38-'Decembre 2015'!B38,1) -> 0 | E38: =SUM('Decembre 2015'!D38*0.75) -> 0
A39: Dimanche | D39: =MOD('Decembre 2015'!C39-'Decembre 2015'!B39,1) -> 0 | E39: =SUM('Decembre 2015'!D39*0.75) -> 0
C40: TOTAL | D40: =SUM(D33:D39) -> 2.2291667 | E40: =SUM('Decembre 2015'!D40-'Decembre 2015'!G40) -> 0.60416667 | F40: par rapport à | G40: 1.625
C41: 0.9 | D41: =SUM(E33:E39) -> 2.00625 | E41: =SUM(D41-G41) -> 0.38125 | F41: =SUM(E41*24) -> 9.15 | G41: 1.625
C42: Centième | D42: =SUM(D41*24) -> 48.15
C43: =SUM(D40-G40) -> 0.60416667 | D43: A faire
...

Sheet Janvier 2016
A1: Quatorzaine du Lundi 28/12/2015 au Dimanche 10/01/2016
B3: Début | C3: Fin | D3: Amplitude | E3: TTE
A4: Lundi | D4: =MOD(C4-B4,1) -> 0 | E4: =SUM(D4*0.9) -> 0
A5: Mardi | D5: =MOD(C5-B5,1) -> 0 | E5: =SUM(D5*0.9) -> 0
A6: Mercredi | D6: =MOD(C6-B6,1) -> 0 | E6: =SUM(D6*0.9) -> 0
A7: Jeudi | D7: =MOD(C7-B7,1) -> 0 | E7: =SUM(D7*0.9) -> 0
A8: Vendredi | D8: =MOD(C8-B8,1) -> 0 | E8: =SUM(D8*0.75) -> 0
A9: Samedi | D9: =MOD(C9-B9,1) -> 0 | E9: =SUM(D9*0.9) -> 0
A10: Dimanche | D10: =MOD(C10-B10,1) -> 0 | E10: =SUM(D10*0.75) -> 0
C11: TOTAL | D11: =SUM(D4:D10) -> 0 | E11: =SUM(D11-G11) -> -1.625 | F11: par rapport à | G11: 1.625
C12: TTE | D12: =SUM(E4:E10) -> 0 | E12: =SUM(D12-G12) -> -1.625 | F12: =SUM(E12*24) -> -39 | G12: 1.625
C13: Centième | D13: =SUM(D12*24) -> 0
C14: =SUM(G12-D11) -> 1.625 | D14: A faire
B16: Début | C16: Fin | D16: Amplitude | E16: TTE
A17: Lundi | D17: =MOD(C17-B17,1) -> 0 | E17: =SUM(D17*0.9) -> 0
A18: Mardi | D18: =MOD(C18-B18,1) -> 0 | E18: =SUM(D18*0.9) -> 0
A19: Mercredi | D19: =MOD(C19-B19,1) -> 0 | E19: =SUM(D19*0.9) -> 0
A20: Jeudi | D20: =MOD(C20-B20,1) -> 0 | E20: =SUM(D20*0.9) -> 0
A21: Vendredi | D21: =MOD(C21-B21,1) -> 0 | E21: =SUM(D21*0.9) -> 0
A22: Samedi | D22: =MOD(C22-B22,1) -> 0 | E22: =SUM(D22*0.9) -> 0
A23: Dimanche | D23: =MOD(C23-B23,1) -> 0 | E23: =SUM(D23*0.9) -> 0
C24: TOTAL | D24: =SUM(D17:D23) -> 0 | E24: =SUM(D24-G24) -> -1.625 | F24: par rapport à | G24: 1.625
C25: TTE | D25: =SUM(E17:E23) -> 0 | E25: =SUM(D25-G25) -> -1.625 | F25: =SUM(E25*24) -> -39 | G25: 1.625
C26: Centième | D26: =SUM(D25*24) -> 0
A27: TOTAL QUATORZAINE | C27: =SUM(D11+D24) -> 0 | D27: sur 78H soit | E27: =SUM(C27-G27) -> -3.25 | F27: =SUM(E27*24) -> -78 | G27: 3.25
C28: =SUM(D12+D25) -> 0 | D28: =SUM(C28*24) -> 0 | E28: =SUM(C28-G27) -> -3.25 | F28: =SUM(E28*24) -> -78
A30: Quatorzaine du Lundi 11/01/2016 au Dimanche 24/01/2016
B32: Début | C32: Fin | D32: Amplitude | E32: TTE
A33: Lundi | D33: =MOD(C33-B33,1) -> 0 | E33: =SUM(D33*0.9) -> 0
A34: Mardi | D34: =MOD(C34-B34,1) -> 0 | E34: =SUM(D34*0.9) -> 0
A35: Mercredi | D35: =MOD(C35-B35,1) -> 0 | E35: =SUM(D35*0.9) -> 0
A36: Jeudi | D36: =MOD(C36-B36,1) -> 0 | E36: =SUM(D36*0.9) -> 0
A37: Vendredi | D37: =MOD(C37-B37,1) -> 0 | E37: =SUM(D37*0.75) -> 0
A38: Samedi | D38: =MOD(C38-B38,1) -> 0 | E38: =SUM(D38*0.9) -> 0
A39: Dimanche | D39: =MOD(C39-B39,1) -> 0 | E39: =SUM(D39*0.75) -> 0
C40: TOTAL | D40: =SUM(D33:D39) -> 0 | E40: =SUM(D40-G40) -> -1.625 | F40: par rapport à | G40: 1.625
C41: TTE | D41: =SUM(E33:E39) -> 0 | E41: =SUM(D41-G41) -> -1.625 | F41: =SUM(E41*24) -> -39 | G41: 1.625
C42: Centième | D42: =SUM(D41*24) -> 0
C43: =SUM(G41-D40) -> 1.625 | D43: A faire
B45: Début | C45: Fin | D45: Amplitude | E45: TTE
...

Sheet Fevrier 2016
A1: Quatorzaine du Lundi 25/01/2016 au Dimanche 07/02/2016
B3: Début | C3: Fin | D3: Amplitude | E3: TTE
A4: Lundi | D4: =MOD(C4-B4,1) -> 0 | E4: =SUM(D4*0.9) -> 0
A5: Mardi | D5: =MOD(C5-B5,1) -> 0 | E5: =SUM(D5*0.9) -> 0
A6: Mercredi | D6: =MOD(C6-B6,1) -> 0 | E6: =SUM(D6*0.9) -> 0
A7: Jeudi | D7: =MOD(C7-B7,1) -> 0 | E7: =SUM(D7*0.9) -> 0
A8: Vendredi | D8: =MOD(C8-B8,1) -> 0 | E8: =SUM(D8*0.75) -> 0
A9: Samedi | D9: =MOD(C9-B9,1) -> 0 | E9: =SUM(D9*0.9) -> 0
A10: Dimanche | D10: =MOD(C10-B10,1) -> 0 | E10: =SUM(D10*0.75) -> 0
C11: TOTAL | D11: =SUM(D4:D10) -> 0 | E11: =SUM(D11-G11) -> -1.625 | F11: par rapport à | G11: 1.625
C12: TTE | D12: =SUM(E4:E10) -> 0 | E12: =SUM(D12-G12) -> -1.625 | F12: =SUM(E12*24) -> -39 | G12: 1.625
C13: Centième | D13: =SUM(D12*24) -> 0
C14: =SUM(G12-D11) -> 1.625 | D14: A faire
B16: Début | C16: Fin | D16: Amplitude | E16: TTE
A17: Lundi | D17: =MOD(C17-B17,1) -> 0 | E17: =SUM(D17*0.9) -> 0
A18: Mardi | D18: =MOD(C18-B18,1) -> 0 | E18: =SUM(D18*0.9) -> 0
A19: Mercredi | D19: =MOD(C19-B19,1) -> 0 | E19: =SUM(D19*0.9) -> 0
A20: Jeudi | D20: =MOD(C20-B20,1) -> 0 | E20: =SUM(D20*0.9) -> 0
A21: Vendredi | D21: =MOD(C21-B21,1) -> 0 | E21: =SUM(D21*0.9) -> 0
A22: Samedi | D22: =MOD(C22-B22,1) -> 0 | E22: =SUM(D22*0.75) -> 0
A23: Dimanche | D23: =MOD(C23-B23,1) -> 0 | E23: =SUM(D23*0.9) -> 0
C24: TOTAL | D24: =SUM(D17:D23) -> 0 | E24: =SUM(D24-G24) -> -1.625 | F24: par rapport à | G24: 1.625
C25: TTE | D25: =SUM(E17:E23) -> 0 | E25: =SUM(D25-G25) -> -1.625 | F25: =SUM(E25*24) -> -39 | G25: 1.625
C26: Centième | D26: =SUM(D25*24) -> 0
A27: TOTAL QUATORZAINE | C27: =SUM(D11+D24) -> 0 | D27: sur 78H soit | E27: =SUM(C27-G27) -> -3.25 | F27: =SUM(E27*24) -> -78 | G27: 3.25
C28: =SUM(D12+D25) -> 0 | D28: =SUM(C28*24) -> 0 | E28: =SUM(C28-G27) -> -3.25 | F28: =SUM(E28*24) -> -78
A30: Quatorzaine du Lundi 08/02/2016 au Dimanche 21/02/2016
B32: Début | C32: Fin | D32: Amplitude | E32: TTE
A33: Lundi | D33: =MOD(C33-B33,1) -> 0 | E33: =SUM(D33*0.9) -> 0
A34: Mardi | D34: =MOD(C34-B34,1) -> 0 | E34: =SUM(D34*0.9) -> 0
A35: Mercredi | D35: =MOD(C35-B35,1) -> 0 | E35: =SUM(D35*0.9) -> 0
A36: Jeudi | D36: =MOD(C36-B36,1) -> 0 | E36: =SUM(D36*0.9) -> 0
A37: Vendredi | D37: =MOD(C37-B37,1) -> 0 | E37: =SUM(D37*0.9) -> 0
A38: Vendredi s | D38: =MOD(C38-B38,1) -> 0 | E38: =SUM(D38*0.75) -> 0
A39: Dimanche | D39: =MOD(C39-B39,1) -> 0 | E39: =SUM(D39*0.75) -> 0
C40: TOTAL | D40: =SUM(D33:D39) -> 0 | E40: =SUM(D40-G40) -> -1.625 | F40: par rapport à | G40: 1.625
C41: TTE | D41: =SUM(E33:E39) -> 0 | E41: =SUM(D41-G41) -> -1.625 | F41: =SUM(E41*24) -> -39 | G41: 1.625
C42: Centième | D42: =SUM(D41*24) -> 0
C43: =SUM(G41-D40) -> 1.625 | D43: A faire
B45: Début | C45: Fin | D45: Amplitude | E45: TTE
...

Sheet Mars 2016
A1: Quatorzaine du Lundi 22/02/2016 au Dimanche 06/03/2016
B3: Début | C3: Fin | D3: Amplitude | E3: TTE
A4: Lundi | E4: =SUM(D4*0.9) -> 0
A5: Mardi | E5: =SUM(D5*0.9) -> 0
A6: Mercredi | E6: =SUM(D6*0.9) -> 0
A7: Jeudi | E7: =SUM(D7*0.9) -> 0
A8: Vendredi | E8: =SUM(D8*0.75) -> 0
A9: Samedi | E9: =SUM(D9*0.75) -> 0
A10: Dimanche | E10: =SUM(D10*0.75) -> 0
C11: TOTAL | D11: =SUM(D4:D10) -> 0 | E11: =SUM(D11-G11) -> -1.625 | F11: par rapport à | G11: 1.625
C12: TTE | D12: =SUM(E4:E10) -> 0 | E12: =SUM(D12-G12) -> -1.625 | F12: =SUM(E12*24) -> -39 | G12: 1.625
C13: Centième | D13: =SUM(D12*24) -> 0
C14: =SUM(G12-D11) -> 1.625 | D14: A faire
B16: Début | C16: Fin | D16: Amplitude | E16: TTE
A17: Lundi | D17: =MOD(C17-B17,1) -> 0 | E17: =SUM(D17*0.9) -> 0
A18: Mardi | D18: =MOD(C18-B18,1) -> 0 | E18: =SUM(D18*0.9) -> 0
A19: Mercredi | D19: =MOD(C19-B19,1) -> 0 | E19: =SUM(D19*0.9) -> 0
A20: Jeudi | D20: =MOD(C20-B20,1) -> 0 | E20: =SUM(D20*0.9) -> 0
A21: Vendredi | D21: =MOD(C21-B21,1) -> 0 | E21: =SUM(D21*0.9) -> 0
A22: Samedi | D22: =MOD(C22-B22,1) -> 0 | E22: =SUM(D22*0.9) -> 0
A23: Dimanche | D23: =MOD(C23-B23,1) -> 0 | E23: =SUM(D23*0.9) -> 0
C24: TOTAL | D24: =SUM(D17:D23) -> 0 | E24: =SUM(D24-G24) -> -1.625 | F24: par rapport à | G24: 1.625
C25: TTE | D25: =SUM(E17:E23) -> 0 | E25: =SUM(D25-G25) -> -1.625 | F25: =SUM(E25*24) -> -39 | G25: 1.625
C26: Centième | D26: =SUM(D25*24) -> 0
A27: TOTAL QUATORZAINE | C27: =SUM(D11+D24) -> 0 | D27: sur 78H soit | E27: =SUM(C27-G27) -> -3.25 | F27: =SUM(E27*24) -> -78 | G27: 3.25
C28: =SUM(D12+D25) -> 0 | D28: =SUM(C28*24) -> 0 | E28: =SUM(C28-G27) -> -3.25 | F28: =SUM(E28*24) -> -78
A30: Quatorzaine du Lundi 07/03/2016 au Dimanche 20/03/2016
B32: Début | C32: Fin | D32: Amplitude | E32: TTE
A33: Lundi | D33: =MOD(C33-B33,1) -> 0 | E33: =SUM(D33*0.9) -> 0
A34: Mardi | D34: =MOD(C34-B34,1) -> 0 | E34: =SUM(D34*0.9) -> 0
A35: Mercredi | D35: =MOD(C35-B35,1) -> 0 | E35: =SUM(D35*0.9) -> 0
A36: Jeudi | D36: =MOD(C36-B36,1) -> 0 | E36: =SUM(D36*0.9) -> 0
A37: Vendredi | D37: =MOD(C37-B37,1) -> 0 | E37: =SUM(D37*0.75) -> 0
A38: Samedi | D38: =MOD(C38-B38,1) -> 0 | E38: =SUM(D38*0.75) -> 0
A39: Dimanche | D39: =MOD(C39-B39,1) -> 0 | E39: =SUM(D39*0.75) -> 0
C40: TOTAL | D40: =SUM(D33:D39) -> 0 | E40: =SUM(D40-G40) -> -1.625 | F40: par rapport à | G40: 1.625
C41: TTE | D41: =SUM(E33:E39) -> 0 | E41: =SUM(D41-G41) -> -1.625 | F41: =SUM(E41*24) -> -39 | G41: 1.625
C42: Centième | D42: =SUM(D41*24) -> 0
C43: =SUM(G41-D40) -> 1.625 | D43: A faire
B45: Début | C45: Fin | D45: Amplitude | E45: TTE
...

Sheet Avril 2016
A1: Quatorzaine du Lundi 21/03/2016 au Dimanche 03/04/2016
B3: Début | C3: Fin | D3: Amplitude | E3: TTE
A4: Lundi | D4: =MOD(C4-B4,1) -> 0 | E4: =SUM(D4*0.9) -> 0
A5: Mardi | D5: =MOD(C5-B5,1) -> 0 | E5: =SUM(D5*0.9) -> 0
A6: Mercredi | D6: =MOD(C6-B6,1) -> 0 | E6: =SUM(D6*0.9) -> 0
A7: Jeudi | D7: =MOD(C7-B7,1) -> 0 | E7: =SUM(D7*0.9) -> 0
A8: Vendredi | D8: =MOD(C8-B8,1) -> 0 | E8: =SUM(D8*0.9) -> 0
A9: Samedi | D9: =MOD(C9-B9,1) -> 0 | E9: =SUM(D9*0.75) -> 0
A10: Dimanche | D10: =MOD(C10-B10,1) -> 0 | E10: =SUM(D10*0.75) -> 0
C11: TOTAL | D11: =SUM(D4:D10) -> 0 | E11: =SUM(D11-G11) -> -1.625 | F11: par rapport à | G11: 1.625
C12: TTE | D12: =SUM(E4:E10) -> 0 | E12: =SUM(D12-G12) -> -1.625 | F12: =SUM(E12*24) -> -39 | G12: 1.625
C13: Centième | D13: =SUM(D12*24) -> 0
C14: =SUM(G12-D11) -> 1.625 | D14: A faire
B16: Début | C16: Fin | D16: Amplitude | E16: TTE
A17: Lundi | D17: =MOD(C17-B17,1) -> 0 | E17: =SUM(D17*0.75) -> 0
A18: Mardi | D18: =MOD(C18-B18,1) -> 0 | E18: =SUM(D18*0.9) -> 0
A19: Mercredi | D19: =MOD(C19-B19,1) -> 0 | E19: =SUM(D19*0.9) -> 0
A20: Jeudi | D20: =MOD(C20-B20,1) -> 0 | E20: =SUM(D20*0.9) -> 0
A21: Vendredi | D21: =MOD(C21-B21,1) -> 0 | E21: =SUM(D21*0.9) -> 0
A22: Samedi | D22: =MOD(C22-B22,1) -> 0 | E22: =SUM(D22*0.75) -> 0
A23: Dimanche | D23: =MOD(C23-B23,1) -> 0 | E23: =SUM(D23*0.75) -> 0
C24: TOTAL | D24: =SUM(D17:D23) -> 0 | E24: =SUM(D24-G24) -> -1.625 | F24: par rapport à | G24: 1.625
C25: TTE | D25: =SUM(E17:E23) -> 0 | E25: =SUM(D25-G25) -> -1.625 | F25: =SUM(E25*24) -> -39 | G25: 1.625
C26: Centième | D26: =SUM(D25*24) -> 0
A27: TOTAL QUATORZAINE | C27: =SUM(D11+D24) -> 0 | D27: sur 78H soit | E27: =SUM(C27-G27) -> -3.25 | F27: =SUM(E27*24) -> -78 | G27: 3.25
C28: =SUM(D12+D25) -> 0 | D28: =SUM(C28*24) -> 0 | E28: =SUM(C28-G27) -> -3.25 | F28: =SUM(E28*24) -> -78
A30: Quatorzaine du Lundi 04/04/2016 au Dimanche 17/04/2016
B32: Début | C32: Fin | D32: Amplitude | E32: TTE
A33: Lundi | D33: =MOD(C33-B33,1) -> 0 | E33: =SUM(D33*0.9) -> 0
A34: Mardi | D34: =MOD(C34-B34,1) -> 0 | E34: =SUM(D34*0.9) -> 0
A35: Mercredi | D35: =MOD(C35-B35,1) -> 0 | E35: =SUM(D35*0.9) -> 0
A36: Jeudi | D36: =MOD(C36-B36,1) -> 0 | E36: =SUM(D36*0.9) -> 0
A37: Vendredi | D37: =MOD(C37-B37,1) -> 0 | E37: =SUM(D37*0.9) -> 0
A38: Samedi | D38: =MOD(C38-B38,1) -> 0 | E38: =SUM(D38*0.75) -> 0
A39: Dimanche | D39: =MOD(C39-B39,1) -> 0 | E39: =SUM(D39*0.75) -> 0
C40: TOTAL | D40: =SUM(D33:D39) -> 0 | E40: =SUM(D40-G40) -> -1.625 | F40: par rapport à | G40: 1.625
C41: TTE | D41: =SUM(E33:E39) -> 0 | E41: =SUM(D41-G41) -> -1.625 | F41: =SUM(E41*24) -> -39 | G41: 1.625
C42: Centième | D42: =SUM(D41*24) -> 0
C43: =SUM(G41-D40) -> 1.625 | D43: A faire
B45: Début | C45: Fin | D45: Amplitude | E45: TTE
...

Sheet Mai 2016
A1: Quatorzaine du Lundi 21/03/2016 au Dimanche 03/04/2016
B3: Début | C3: Fin | D3: Amplitude | E3: TTE
A4: Lundi | D4: =MOD(C4-B4,1) -> 0 | E4: =SUM(D4*0.9) -> 0
A5: Mardi | D5: =MOD(C5-B5,1) -> 0 | E5: =SUM(D5*0.9) -> 0
A6: Mercredi | D6: =MOD(C6-B6,1) -> 0 | E6: =SUM(D6*0.9) -> 0
A7: Jeudi | D7: =MOD(C7-B7,1) -> 0 | E7: =SUM(D7*0.9) -> 0
A8: Vendredi | D8: =MOD(C8-B8,1) -> 0 | E8: =SUM(D8*0.9) -> 0
A9: Samedi | D9: =MOD(C9-B9,1) -> 0 | E9: =SUM(D9*0.75) -> 0
A10: Dimanche | D10: =MOD(C10-B10,1) -> 0 | E10: =SUM(D10*0.75) -> 0
C11: TOTAL | D11: =SUM(D4:D10) -> 0 | E11: =SUM(D11-G11) -> -1.625 | F11: par rapport à | G11: 1.625
C12: TTE | D12: =SUM(E4:E10) -> 0 | E12: =SUM(D12-G12) -> -1.625 | F12: =SUM(E12*24) -> -39 | G12: 1.625
C13: Centième | D13: =SUM(D12*24) -> 0
C14: =SUM(G12-D11) -> 1.625 | D14: A faire
B16: Début | C16: Fin | D16: Amplitude | E16: TTE
A17: Lundi | D17: =MOD(C17-B17,1) -> 0 | E17: =SUM(D17*0.9) -> 0
A18: Mardi | D18: =MOD(C18-B18,1) -> 0 | E18: =SUM(D18*0.9) -> 0
A19: Mercredi | D19: =MOD(C19-B19,1) -> 0 | E19: =SUM(D19*0.9) -> 0
A20: Jeudi | D20: =MOD(C20-B20,1) -> 0 | E20: =SUM(D20*0.9) -> 0
A21: Vendredi | D21: =MOD(C21-B21,1) -> 0 | E21: =SUM(D21*0.9) -> 0
A22: Samedi | D22: =MOD(C22-B22,1) -> 0 | E22: =SUM(D22*0.75) -> 0
A23: Dimanche | D23: =MOD(C23-B23,1) -> 0 | E23: =SUM(D23*0.75) -> 0
C24: TOTAL | D24: =SUM(D17:D23) -> 0 | E24: =SUM(D24-G24) -> -1.625 | F24: par rapport à | G24: 1.625
C25: TTE | D25: =SUM(E17:E23) -> 0 | E25: =SUM(D25-G25) -> -1.625 | F25: =SUM(E25*24) -> -39 | G25: 1.625
C26: Centième | D26: =SUM(D25*24) -> 0
A27: TOTAL QUATORZAINE | C27: =SUM(D11+D24) -> 0 | D27: sur 78H soit | E27: =SUM(C27-G27) -> -3.25 | F27: =SUM(E27*24) -> -78 | G27: 3.25
C28: =SUM(D12+D25) -> 0 | D28: =SUM(C28*24) -> 0 | E28: =SUM(C28-G27) -> -3.25 | F28: =SUM(E28*24) -> -78
A30: Quatorzaine du Lundi 21/03/2016 au Dimanche 03/04/2016
B32: Début | C32: Fin | D32: Amplitude | E32: TTE
A33: Lundi | D33: =MOD(C33-B33,1) -> 0 | E33: =SUM(D33*0.9) -> 0
A34: Mardi | D34: =MOD(C34-B34,1) -> 0 | E34: =SUM(D34*0.9) -> 0
A35: Mercredi | D35: =MOD(C35-B35,1) -> 0 | E35: =SUM(D35*0.9) -> 0
A36: Jeudi | D36: =MOD(C36-B36,1) -> 0 | E36: =SUM(D36*0.9) -> 0
A37: Vendredi | D37: =MOD(C37-B37,1) -> 0 | E37: =SUM(D37*0.9) -> 0
A38: Samedi | D38: =MOD(C38-B38,1) -> 0 | E38: =SUM(D38*0.75) -> 0
A39: Dimanche | D39: =MOD(C39-B39,1) -> 0 | E39: =SUM(D39*0.75) -> 0
C40: TOTAL | D40: =SUM(D33:D39) -> 0 | E40: =SUM(D40-G40) -> -1.625 | F40: par rapport à | G40: 1.625
C41: TTE | D41: =SUM(E33:E39) -> 0 | E41: =SUM(D41-G41) -> -1.625 | F41: =SUM(E41*24) -> -39 | G41: 1.625
C42: Centième | D42: =SUM(D41*24) -> 0
C43: =SUM(G41-D40) -> 1.625 | D43: A faire
B45: Début | C45: Fin | D45: Amplitude | E45: TTE
...

Sheet Juin 2016
A1: Quatorzaine du Lundi 21/03/2016 au Dimanche 03/04/2016
B3: Début | C3: Fin | D3: Amplitude | E3: TTE
A4: Lundi | D4: =MOD(C4-B4,1) -> 0 | E4: =SUM(D4*0.9) -> 0
A5: Mardi | D5: =MOD(C5-B5,1) -> 0 | E5: =SUM(D5*0.9) -> 0
A6: Mercredi | D6: =MOD(C6-B6,1) -> 0 | E6: =SUM(D6*0.9) -> 0
A7: Jeudi | D7: =MOD(C7-B7,1) -> 0 | E7: =SUM(D7*0.9) -> 0
A8: Vendredi | D8: =MOD(C8-B8,1) -> 0 | E8: =SUM(D8*0.9) -> 0
A9: Samedi | D9: =MOD(C9-B9,1) -> 0 | E9: =SUM(D9*0.75) -> 0
A10: Dimanche | D10: =MOD(C10-B10,1) -> 0 | E10: =SUM(D10*0.75) -> 0
C11: TOTAL | D11: =SUM(D4:D10) -> 0 | E11: =SUM(D11-G11) -> -1.625 | F11: par rapport à | G11: 1.625
C12: TTE | D12: =SUM(E4:E10) -> 0 | E12: =SUM(D12-G12) -> -1.625 | F12: =SUM(E12*24) -> -39 | G12: 1.625
C13: Centième | D13: =SUM(D12*24) -> 0
C14: =SUM(G12-D11) -> 1.625 | D14: A faire
B16: Début | C16: Fin | D16: Amplitude | E16: TTE
A17: Lundi | D17: =MOD(C17-B17,1) -> 0 | E17: =SUM(D17*0.9) -> 0
A18: Mardi | D18: =MOD(C18-B18,1) -> 0 | E18: =SUM(D18*0.9) -> 0
A19: Mercredi | D19: =MOD(C19-B19,1) -> 0 | E19: =SUM(D19*0.9) -> 0
A20: Jeudi | D20: =MOD(C20-B20,1) -> 0 | E20: =SUM(D20*0.9) -> 0
A21: Vendredi | D21: =MOD(C21-B21,1) -> 0 | E21: =SUM(D21*0.9) -> 0
A22: Samedi | D22: =MOD(C22-B22,1) -> 0 | E22: =SUM(D22*0.75) -> 0
A23: Dimanche | D23: =MOD(C23-B23,1) -> 0 | E23: =SUM(D23*0.75) -> 0
C24: TOTAL | D24: =SUM(D17:D23) -> 0 | E24: =SUM(D24-G24) -> -1.625 | F24: par rapport à | G24: 1.625
C25: TTE | D25: =SUM(E17:E23) -> 0 | E25: =SUM(D25-G25) -> -1.625 | F25: =SUM(E25*24) -> -39 | G25: 1.625
C26: Centième | D26: =SUM(D25*24) -> 0
A27: TOTAL QUATORZAINE | C27: =SUM(D11+D24) -> 0 | D27: sur 78H soit | E27: =SUM(C27-G27) -> -3.25 | F27: =SUM(E27*24) -> -78 | G27: 3.25
C28: =SUM(D12+D25) -> 0 | D28: =SUM(C28*24) -> 0 | E28: =SUM(C28-G27) -> -3.25 | F28: =SUM(E28*24) -> -78
A30: Quatorzaine du Lundi 21/03/2016 au Dimanche 03/04/2016
B32: Début | C32: Fin | D32: Amplitude | E32: TTE
A33: Lundi | D33: =MOD(C33-B33,1) -> 0 | E33: =SUM(D33*0.9) -> 0
A34: Mardi | D34: =MOD(C34-B34,1) -> 0 | E34: =SUM(D34*0.9) -> 0
A35: Mercredi | D35: =MOD(C35-B35,1) -> 0 | E35: =SUM(D35*0.9) -> 0
A36: Jeudi | D36: =MOD(C36-B36,1) -> 0 | E36: =SUM(D36*0.9) -> 0
A37: Vendredi | D37: =MOD(C37-B37,1) -> 0 | E37: =SUM(D37*0.9) -> 0
A38: Samedi | D38: =MOD(C38-B38,1) -> 0 | E38: =SUM(D38*0.75) -> 0
A39: Dimanche | D39: =MOD(C39-B39,1) -> 0 | E39: =SUM(D39*0.75) -> 0
C40: TOTAL | D40: =SUM(D33:D39) -> 0 | E40: =SUM(D40-G40) -> -1.625 | F40: par rapport à | G40: 1.625
C41: TTE | D41: =SUM(E33:E39) -> 0 | E41: =SUM(D41-G41) -> -1.625 | F41: =SUM(E41*24) -> -39 | G41: 1.625
C42: Centième | D42: =SUM(D41*24) -> 0
C43: =SUM(G41-D40) -> 1.625 | D43: A faire
B45: Début | C45: Fin | D45: Amplitude | E45: TTE
...

Sheet Juillet 2016 
A1: Quatorzaine du Lundi 21/03/2016 au Dimanche 03/04/2016
B3: Début | C3: Fin | D3: Amplitude | E3: TTE
A4: Lundi | D4: =MOD(C4-B4,1) -> 0 | E4: =SUM(D4*0.9) -> 0
A5: Mardi | D5: =MOD(C5-B5,1) -> 0 | E5: =SUM(D5*0.9) -> 0
A6: Mercredi | D6: =MOD(C6-B6,1) -> 0 | E6: =SUM(D6*0.9) -> 0
A7: Jeudi | D7: =MOD(C7-B7,1) -> 0 | E7: =SUM(D7*0.9) -> 0
A8: Vendredi | D8: =MOD(C8-B8,1) -> 0 | E8: =SUM(D8*0.9) -> 0
A9: Samedi | D9: =MOD(C9-B9,1) -> 0 | E9: =SUM(D9*0.75) -> 0
A10: Dimanche | D10: =MOD(C10-B10,1) -> 0 | E10: =SUM(D10*0.75) -> 0
C11: TOTAL | D11: =SUM(D4:D10) -> 0 | E11: =SUM(D11-G11) -> -1.625 | F11: par rapport à | G11: 1.625
C12: TTE | D12: =SUM(E4:E10) -> 0 | E12: =SUM(D12-G12) -> -1.625 | F12: =SUM(E12*24) -> -39 | G12: 1.625
C13: Centième | D13: =SUM(D12*24) -> 0
C14: =SUM(G12-D11) -> 1.625 | D14: A faire
B16: Début | C16: Fin | D16: Amplitude | E16: TTE
A17: Lundi | D17: =MOD(C17-B17,1) -> 0 | E17: =SUM(D17*0.9) -> 0
A18: Mardi | D18: =MOD(C18-B18,1) -> 0 | E18: =SUM(D18*0.9) -> 0
A19: Mercredi | D19: =MOD(C19-B19,1) -> 0 | E19: =SUM(D19*0.9) -> 0
A20: Jeudi | D20: =MOD(C20-B20,1) -> 0 | E20: =SUM(D20*0.9) -> 0
A21: Vendredi | D21: =MOD(C21-B21,1) -> 0 | E21: =SUM(D21*0.9) -> 0
A22: Samedi | D22: =MOD(C22-B22,1) -> 0 | E22: =SUM(D22*0.75) -> 0
A23: Dimanche | D23: =MOD(C23-B23,1) -> 0 | E23: =SUM(D23*0.75) -> 0
C24: TOTAL | D24: =SUM(D17:D23) -> 0 | E24: =SUM(D24-G24) -> -1.625 | F24: par rapport à | G24: 1.625
C25: TTE | D25: =SUM(E17:E23) -> 0 | E25: =SUM(D25-G25) -> -1.625 | F25: =SUM(E25*24) -> -39 | G25: 1.625
C26: Centième | D26: =SUM(D25*24) -> 0
A27: TOTAL QUATORZAINE | C27: =SUM(D11+D24) -> 0 | D27: sur 78H soit | E27: =SUM(C27-G27) -> -3.25 | F27: =SUM(E27*24) -> -78 | G27: 3.25
C28: =SUM(D12+D25) -> 0 | D28: =SUM(C28*24) -> 0 | E28: =SUM(C28-G27) -> -3.25 | F28: =SUM(E28*24) -> -78
A30: Quatorzaine du Lundi 21/03/2016 au Dimanche 03/04/2016
B32: Début | C32: Fin | D32: Amplitude | E32: TTE
A33: Lundi | D33: =MOD(C33-B33,1) -> 0 | E33: =SUM(D33*0.9) -> 0
A34: Mardi | D34: =MOD(C34-B34,1) -> 0 | E34: =SUM(D34*0.9) -> 0
A35: Mercredi | D35: =MOD(C35-B35,1) -> 0 | E35: =SUM(D35*0.9) -> 0
A36: Jeudi | D36: =MOD(C36-B36,1) -> 0 | E36: =SUM(D36*0.9) -> 0
A37: Vendredi | D37: =MOD(C37-B37,1) -> 0 | E37: =SUM(D37*0.9) -> 0
A38: Samedi | D38: =MOD(C38-B38,1) -> 0 | E38: =SUM(D38*0.75) -> 0
A39: Dimanche | D39: =MOD(C39-B39,1) -> 0 | E39: =SUM(D39*0.75) -> 0
C40: TOTAL | D40: =SUM(D33:D39) -> 0 | E40: =SUM(D40-G40) -> -1.625 | F40: par rapport à | G40: 1.625
C41: TTE | D41: =SUM(E33:E39) -> 0 | E41: =SUM(D41-G41) -> -1.625 | F41: =SUM(E41*24) -> -39 | G41: 1.625
C42: Centième | D42: =SUM(D41*24) -> 0
C43: =SUM(G41-D40) -> 1.625 | D43: A faire
B45: Début | C45: Fin | D45: Amplitude | E45: TTE
...

Sheet Août 2016
A1: Quatorzaine du Lundi 21/03/2016 au Dimanche 03/04/2016
B3: Début | C3: Fin | D3: Amplitude | E3: TTE
A4: Lundi | D4: =MOD(C4-B4,1) -> 0 | E4: =SUM(D4*0.9) -> 0
A5: Mardi | D5: =MOD(C5-B5,1) -> 0 | E5: =SUM(D5*0.9) -> 0
A6: Mercredi | D6: =MOD(C6-B6,1) -> 0 | E6: =SUM(D6*0.9) -> 0
A7: Jeudi | D7: =MOD(C7-B7,1) -> 0 | E7: =SUM(D7*0.9) -> 0
A8: Vendredi | D8: =MOD(C8-B8,1) -> 0 | E8: =SUM(D8*0.9) -> 0
A9: Samedi | D9: =MOD(C9-B9,1) -> 0 | E9: =SUM(D9*0.75) -> 0
A10: Dimanche | D10: =MOD(C10-B10,1) -> 0 | E10: =SUM(D10*0.75) -> 0
C11: TOTAL | D11: =SUM(D4:D10) -> 0 | E11: =SUM(D11-G11) -> -1.625 | F11: par rapport à | G11: 1.625
C12: TTE | D12: =SUM(E4:E10) -> 0 | E12: =SUM(D12-G12) -> -1.625 | F12: =SUM(E12*24) -> -39 | G12: 1.625
C13: Centième | D13: =SUM(D12*24) -> 0
C14: =SUM(G12-D11) -> 1.625 | D14: A faire
B16: Début | C16: Fin | D16: Amplitude | E16: TTE
A17: Lundi | D17: =MOD(C17-B17,1) -> 0 | E17: =SUM(D17*0.9) -> 0
A18: Mardi | D18: =MOD(C18-B18,1) -> 0 | E18: =SUM(D18*0.9) -> 0
A19: Mercredi | D19: =MOD(C19-B19,1) -> 0 | E19: =SUM(D19*0.9) -> 0
A20: Jeudi | D20: =MOD(C20-B20,1) -> 0 | E20: =SUM(D20*0.9) -> 0
A21: Vendredi | D21: =MOD(C21-B21,1) -> 0 | E21: =SUM(D21*0.9) -> 0
A22: Samedi | D22: =MOD(C22-B22,1) -> 0 | E22: =SUM(D22*0.75) -> 0
A23: Dimanche | D23: =MOD(C23-B23,1) -> 0 | E23: =SUM(D23*0.75) -> 0
C24: TOTAL | D24: =SUM(D17:D23) -> 0 | E24: =SUM(D24-G24) -> -1.625 | F24: par rapport à | G24: 1.625
C25: TTE | D25: =SUM(E17:E23) -> 0 | E25: =SUM(D25-G25) -> -1.625 | F25: =SUM(E25*24) -> -39 | G25: 1.625
C26: Centième | D26: =SUM(D25*24) -> 0
A27: TOTAL QUATORZAINE | C27: =SUM(D11+D24) -> 0 | D27: sur 78H soit | E27: =SUM(C27-G27) -> -3.25 | F27: =SUM(E27*24) -> -78 | G27: 3.25
C28: =SUM(D12+D25) -> 0 | D28: =SUM(C28*24) -> 0 | E28: =SUM(C28-G27) -> -3.25 | F28: =SUM(E28*24) -> -78
A30: Quatorzaine du Lundi 21/03/2016 au Dimanche 03/04/2016
B32: Début | C32: Fin | D32: Amplitude | E32: TTE
A33: Lundi | D33: =MOD(C33-B33,1) -> 0 | E33: =SUM(D33*0.9) -> 0
A34: Mardi | D34: =MOD(C34-B34,1) -> 0 | E34: =SUM(D34*0.9) -> 0
A35: Mercredi | D35: =MOD(C35-B35,1) -> 0 | E35: =SUM(D35*0.9) -> 0
A36: Jeudi | D36: =MOD(C36-B36,1) -> 0 | E36: =SUM(D36*0.9) -> 0
A37: Vendredi | D37: =MOD(C37-B37,1) -> 0 | E37: =SUM(D37*0.9) -> 0
A38: Samedi | D38: =MOD(C38-B38,1) -> 0 | E38: =SUM(D38*0.75) -> 0
A39: Dimanche | D39: =MOD(C39-B39,1) -> 0 | E39: =SUM(D39*0.75) -> 0
C40: TOTAL | D40: =SUM(D33:D39) -> 0 | E40: =SUM(D40-G40) -> -1.625 | F40: par rapport à | G40: 1.625
C41: TTE | D41: =SUM(E33:E39) -> 0 | E41: =SUM(D41-G41) -> -1.625 | F41: =SUM(E41*24) -> -39 | G41: 1.625
C42: Centième | D42: =SUM(D41*24) -> 0
C43: =SUM(G41-D40) -> 1.625 | D43: A faire
B45: Début | C45: Fin | D45: Amplitude | E45: TTE
...

Sheet Septembre 2016 
A1: Quatorzaine du Lundi 21/03/2016 au Dimanche 03/04/2016
B3: Début | C3: Fin | D3: Amplitude | E3: TTE
A4: Lundi | D4: =MOD(C4-B4,1) -> 0 | E4: =SUM(D4*0.9) -> 0
A5: Mardi | D5: =MOD(C5-B5,1) -> 0 | E5: =SUM(D5*0.9) -> 0
A6: Mercredi | D6: =MOD(C6-B6,1) -> 0 | E6: =SUM(D6*0.9) -> 0
A7: Jeudi | D7: =MOD(C7-B7,1) -> 0 | E7: =SUM(D7*0.9) -> 0
A8: Vendredi | D8: =MOD(C8-B8,1) -> 0 | E8: =SUM(D8*0.9) -> 0
A9: Samedi | D9: =MOD(C9-B9,1) -> 0 | E9: =SUM(D9*0.75) -> 0
A10: Dimanche | D10: =MOD(C10-B10,1) -> 0 | E10: =SUM(D10*0.75) -> 0
C11: TOTAL | D11: =SUM(D4:D10) -> 0 | E11: =SUM(D11-G11) -> -1.625 | F11: par rapport à | G11: 1.625
C12: TTE | D12: =SUM(E4:E10) -> 0 | E12: =SUM(D12-G12) -> -1.625 | F12: =SUM(E12*24) -> -39 | G12: 1.625
C13: Centième | D13: =SUM(D12*24) -> 0
C14: =SUM(G12-D11) -> 1.625 | D14: A faire
B16: Début | C16: Fin | D16: Amplitude | E16: TTE
A17: Lundi | D17: =MOD(C17-B17,1) -> 0 | E17: =SUM(D17*0.9) -> 0
A18: Mardi | D18: =MOD(C18-B18,1) -> 0 | E18: =SUM(D18*0.9) -> 0
A19: Mercredi | D19: =MOD(C19-B19,1) -> 0 | E19: =SUM(D19*0.9) -> 0
A20: Jeudi | D20: =MOD(C20-B20,1) -> 0 | E20: =SUM(D20*0.9) -> 0
A21: Vendredi | D21: =MOD(C21-B21,1) -> 0 | E21: =SUM(D21*0.9) -> 0
A22: Samedi | D22: =MOD(C22-B22,1) -> 0 | E22: =SUM(D22*0.75) -> 0
A23: Dimanche | D23: =MOD(C23-B23,1) -> 0 | E23: =SUM(D23*0.75) -> 0
C24: TOTAL | D24: =SUM(D17:D23) -> 0 | E24: =SUM(D24-G24) -> -1.625 | F24: par rapport à | G24: 1.625
C25: TTE | D25: =SUM(E17:E23) -> 0 | E25: =SUM(D25-G25) -> -1.625 | F25: =SUM(E25*24) -> -39 | G25: 1.625
C26: Centième | D26: =SUM(D25*24) -> 0
A27: TOTAL QUATORZAINE | C27: =SUM(D11+D24) -> 0 | D27: sur 78H soit | E27: =SUM(C27-G27) -> -3.25 | F27: =SUM(E27*24) -> -78 | G27: 3.25
C28: =SUM(D12+D25) -> 0 | D28: =SUM(C28*24) -> 0 | E28: =SUM(C28-G27) -> -3.25 | F28: =SUM(E28*24) -> -78
A30: Quatorzaine du Lundi 21/03/2016 au Dimanche 03/04/2016
B32: Début | C32: Fin | D32: Amplitude | E32: TTE
A33: Lundi | D33: =MOD(C33-B33,1) -> 0 | E33: =SUM(D33*0.9) -> 0
A34: Mardi | D34: =MOD(C34-B34,1) -> 0 | E34: =SUM(D34*0.9) -> 0
A35: Mercredi | D35: =MOD(C35-B35,1) -> 0 | E35: =SUM(D35*0.9) -> 0
A36: Jeudi | D36: =MOD(C36-B36,1) -> 0 | E36: =SUM(D36*0.9) -> 0
A37: Vendredi | D37: =MOD(C37-B37,1) -> 0 | E37: =SUM(D37*0.9) -> 0
A38: Samedi | D38: =MOD(C38-B38,1) -> 0 | E38: =SUM(D38*0.75) -> 0
A39: Dimanche | D39: =MOD(C39-B39,1) -> 0 | E39: =SUM(D39*0.75) -> 0
C40: TOTAL | D40: =SUM(D33:D39) -> 0 | E40: =SUM(D40-G40) -> -1.625 | F40: par rapport à | G40: 1.625
C41: TTE | D41: =SUM(E33:E39) -> 0 | E41: =SUM(D41-G41) -> -1.625 | F41: =SUM(E41*24) -> -39 | G41: 1.625
C42: Centième | D42: =SUM(D41*24) -> 0
C43: =SUM(G41-D40) -> 1.625 | D43: A faire
B45: Début | C45: Fin | D45: Amplitude | E45: TTE
...

Sheet Octobre 2016 
A1: Quatorzaine du Lundi 21/03/2016 au Dimanche 03/04/2016
B3: Début | C3: Fin | D3: Amplitude | E3: TTE
A4: Lundi | D4: =MOD(C4-B4,1) -> 0 | E4: =SUM(D4*0.9) -> 0
A5: Mardi | D5: =MOD(C5-B5,1) -> 0 | E5: =SUM(D5*0.9) -> 0
A6: Mercredi | D6: =MOD(C6-B6,1) -> 0 | E6: =SUM(D6*0.9) -> 0
A7: Jeudi | D7: =MOD(C7-B7,1) -> 0 | E7: =SUM(D7*0.9) -> 0
A8: Vendredi | D8: =MOD(C8-B8,1) -> 0 | E8: =SUM(D8*0.9) -> 0
A9: Samedi | D9: =MOD(C9-B9,1) -> 0 | E9: =SUM(D9*0.75) -> 0
A10: Dimanche | D10: =MOD(C10-B10,1) -> 0 | E10: =SUM(D10*0.75) -> 0
C11: TOTAL | D11: =SUM(D4:D10) -> 0 | E11: =SUM(D11-G11) -> -1.625 | F11: par rapport à | G11: 1.625
C12: TTE | D12: =SUM(E4:E10) -> 0 | E12: =SUM(D12-G12) -> -1.625 | F12: =SUM(E12*24) -> -39 | G12: 1.625
C13: Centième | D13: =SUM(D12*24) -> 0
C14: =SUM(G12-D11) -> 1.625 | D14: A faire
B16: Début | C16: Fin | D16: Amplitude | E16: TTE
A17: Lundi | D17: =MOD(C17-B17,1) -> 0 | E17: =SUM(D17*0.9) -> 0
A18: Mardi | D18: =MOD(C18-B18,1) -> 0 | E18: =SUM(D18*0.9) -> 0
A19: Mercredi | D19: =MOD(C19-B19,1) -> 0 | E19: =SUM(D19*0.9) -> 0
A20: Jeudi | D20: =MOD(C20-B20,1) -> 0 | E20: =SUM(D20*0.9) -> 0
A21: Vendredi | D21: =MOD(C21-B21,1) -> 0 | E21: =SUM(D21*0.9) -> 0
A22: Samedi | D22: =MOD(C22-B22,1) -> 0 | E22: =SUM(D22*0.75) -> 0
A23: Dimanche | D23: =MOD(C23-B23,1) -> 0 | E23: =SUM(D23*0.75) -> 0
C24: TOTAL | D24: =SUM(D17:D23) -> 0 | E24: =SUM(D24-G24) -> -1.625 | F24: par rapport à | G24: 1.625
C25: TTE | D25: =SUM(E17:E23) -> 0 | E25: =SUM(D25-G25) -> -1.625 | F25: =SUM(E25*24) -> -39 | G25: 1.625
C26: Centième | D26: =SUM(D25*24) -> 0
A27: TOTAL QUATORZAINE | C27: =SUM(D11+D24) -> 0 | D27: sur 78H soit | E27: =SUM(C27-G27) -> -3.25 | F27: =SUM(E27*24) -> -78 | G27: 3.25
C28: =SUM(D12+D25) -> 0 | D28: =SUM(C28*24) -> 0 | E28: =SUM(C28-G27) -> -3.25 | F28: =SUM(E28*24) -> -78
A30: Quatorzaine du Lundi 21/03/2016 au Dimanche 03/04/2016
B32: Début | C32: Fin | D32: Amplitude | E32: TTE
A33: Lundi | D33: =MOD(C33-B33,1) -> 0 | E33: =SUM(D33*0.9) -> 0
A34: Mardi | D34: =MOD(C34-B34,1) -> 0 | E34: =SUM(D34*0.9) -> 0
A35: Mercredi | D35: =MOD(C35-B35,1) -> 0 | E35: =SUM(D35*0.9) -> 0
A36: Jeudi | D36: =MOD(C36-B36,1) -> 0 | E36: =SUM(D36*0.9) -> 0
A37: Vendredi | D37: =MOD(C37-B37,1) -> 0 | E37: =SUM(D37*0.9) -> 0
A38: Samedi | D38: =MOD(C38-B38,1) -> 0 | E38: =SUM(D38*0.75) -> 0
A39: Dimanche | D39: =MOD(C39-B39,1) -> 0 | E39: =SUM(D39*0.75) -> 0
C40: TOTAL | D40: =SUM(D33:D39) -> 0 | E40: =SUM(D40-G40) -> -1.625 | F40: par rapport à | G40: 1.625
C41: TTE | D41: =SUM(E33:E39) -> 0 | E41: =SUM(D41-G41) -> -1.625 | F41: =SUM(E41*24) -> -39 | G41: 1.625
C42: Centième | D42: =SUM(D41*24) -> 0
C43: =SUM(G41-D40) -> 1.625 | D43: A faire
B45: Début | C45: Fin | D45: Amplitude | E45: TTE
...

Sheet Novembre 2016
A1: Quatorzaine du Lundi 21/03/2016 au Dimanche 03/04/2016
B3: Début | C3: Fin | D3: Amplitude | E3: TTE
A4: Lundi | D4: =MOD(C4-B4,1) -> 0 | E4: =SUM(D4*0.9) -> 0
A5: Mardi | D5: =MOD(C5-B5,1) -> 0 | E5: =SUM(D5*0.9) -> 0
A6: Mercredi | D6: =MOD(C6-B6,1) -> 0 | E6: =SUM(D6*0.9) -> 0
A7: Jeudi | D7: =MOD(C7-B7,1) -> 0 | E7: =SUM(D7*0.9) -> 0
A8: Vendredi | D8: =MOD(C8-B8,1) -> 0 | E8: =SUM(D8*0.9) -> 0
A9: Samedi | D9: =MOD(C9-B9,1) -> 0 | E9: =SUM(D9*0.75) -> 0
A10: Dimanche | D10: =MOD(C10-B10,1) -> 0 | E10: =SUM(D10*0.75) -> 0
C11: TOTAL | D11: =SUM(D4:D10) -> 0 | E11: =SUM(D11-G11) -> -1.625 | F11: par rapport à | G11: 1.625
C12: TTE | D12: =SUM(E4:E10) -> 0 | E12: =SUM(D12-G12) -> -1.625 | F12: =SUM(E12*24) -> -39 | G12: 1.625
C13: Centième | D13: =SUM(D12*24) -> 0
C14: =SUM(G12-D11) -> 1.625 | D14: A faire
B16: Début | C16: Fin | D16: Amplitude | E16: TTE
A17: Lundi | D17: =MOD(C17-B17,1) -> 0 | E17: =SUM(D17*0.9) -> 0
A18: Mardi | D18: =MOD(C18-B18,1) -> 0 | E18: =SUM(D18*0.9) -> 0
A19: Mercredi | D19: =MOD(C19-B19,1) -> 0 | E19: =SUM(D19*0.9) -> 0
A20: Jeudi | D20: =MOD(C20-B20,1) -> 0 | E20: =SUM(D20*0.9) -> 0
A21: Vendredi | D21: =MOD(C21-B21,1) -> 0 | E21: =SUM(D21*0.9) -> 0
A22: Samedi | D22: =MOD(C22-B22,1) -> 0 | E22: =SUM(D22*0.75) -> 0
A23: Dimanche | D23: =MOD(C23-B23,1) -> 0 | E23: =SUM(D23*0.75) -> 0
C24: TOTAL | D24: =SUM(D17:D23) -> 0 | E24: =SUM(D24-G24) -> -1.625 | F24: par rapport à | G24: 1.625
C25: TTE | D25: =SUM(E17:E23) -> 0 | E25: =SUM(D25-G25) -> -1.625 | F25: =SUM(E25*24) -> -39 | G25: 1.625
C26: Centième | D26: =SUM(D25*24) -> 0
A27: TOTAL QUATORZAINE | C27: =SUM(D11+D24) -> 0 | D27: sur 78H soit | E27: =SUM(C27-G27) -> -3.25 | F27: =SUM(E27*24) -> -78 | G27: 3.25
C28: =SUM(D12+D25) -> 0 | D28: =SUM(C28*24) -> 0 | E28: =SUM(C28-G27) -> -3.25 | F28: =SUM(E28*24) -> -78
A30: Quatorzaine du Lundi 21/03/2016 au Dimanche 03/04/2016
B32: Début | C32: Fin | D32: Amplitude | E32: TTE
A33: Lundi | D33: =MOD(C33-B33,1) -> 0 | E33: =SUM(D33*0.9) -> 0
A34: Mardi | D34: =MOD(C34-B34,1) -> 0 | E34: =SUM(D34*0.9) -> 0
A35: Mercredi | D35: =MOD(C35-B35,1) -> 0 | E35: =SUM(D35*0.9) -> 0
A36: Jeudi | D36: =MOD(C36-B36,1) -> 0 | E36: =SUM(D36*0.9) -> 0
A37: Vendredi | D37: =MOD(C37-B37,1) -> 0 | E37: =SUM(D37*0.9) -> 0
A38: Samedi | D38: =MOD(C38-B38,1) -> 0 | E38: =SUM(D38*0.75) -> 0
A39: Dimanche | D39: =MOD(C39-B39,1) -> 0 | E39: =SUM(D39*0.75) -> 0
C40: TOTAL | D40: =SUM(D33:D39) -> 0 | E40: =SUM(D40-G40) -> -1.625 | F40: par rapport à | G40: 1.625
C41: TTE | D41: =SUM(E33:E39) -> 0 | E41: =SUM(D41-G41) -> -1.625 | F41: =SUM(E41*24) -> -39 | G41: 1.625
C42: Centième | D42: =SUM(D41*24) -> 0
C43: =SUM(G41-D40) -> 1.625 | D43: A faire
B45: Début | C45: Fin | D45: Amplitude | E45: TTE
...

Sheet Décembre 2016
A1: Quatorzaine du Lundi 21/03/2016 au Dimanche 03/04/2016
B3: Début | C3: Fin | D3: Amplitude | E3: TTE
A4: Lundi | D4: =MOD(C4-B4,1) -> 0 | E4: =SUM(D4*0.9) -> 0
A5: Mardi | D5: =MOD(C5-B5,1) -> 0 | E5: =SUM(D5*0.9) -> 0
A6: Mercredi | D6: =MOD(C6-B6,1) -> 0 | E6: =SUM(D6*0.9) -> 0
A7: Jeudi | D7: =MOD(C7-B7,1) -> 0 | E7: =SUM(D7*0.9) -> 0
A8: Vendredi | D8: =MOD(C8-B8,1) -> 0 | E8: =SUM(D8*0.9) -> 0
A9: Samedi | D9: =MOD(C9-B9,1) -> 0 | E9: =SUM(D9*0.75) -> 0
A10: Dimanche | D10: =MOD(C10-B10,1) -> 0 | E10: =SUM(D10*0.75) -> 0
C11: TOTAL | D11: =SUM(D4:D10) -> 0 | E11: =SUM(D11-G11) -> -1.625 | F11: par rapport à | G11: 1.625
C12: TTE | D12: =SUM(E4:E10) -> 0 | E12: =SUM(D12-G12) -> -1.625 | F12: =SUM(E12*24) -> -39 | G12: 1.625
C13: Centième | D13: =SUM(D12*24) -> 0
C14: =SUM(G12-D11) -> 1.625 | D14: A faire
B16: Début | C16: Fin | D16: Amplitude | E16: TTE
A17: Lundi | D17: =MOD(C17-B17,1) -> 0 | E17: =SUM(D17*0.9) -> 0
A18: Mardi | D18: =MOD(C18-B18,1) -> 0 | E18: =SUM(D18*0.9) -> 0
A19: Mercredi | D19: =MOD(C19-B19,1) -> 0 | E19: =SUM(D19*0.9) -> 0
A20: Jeudi | D20: =MOD(C20-B20,1) -> 0 | E20: =SUM(D20*0.9) -> 0
A21: Vendredi | D21: =MOD(C21-B21,1) -> 0 | E21: =SUM(D21*0.9) -> 0
A22: Samedi | D22: =MOD(C22-B22,1) -> 0 | E22: =SUM(D22*0.75) -> 0
A23: Dimanche | D23: =MOD(C23-B23,1) -> 0 | E23: =SUM(D23*0.75) -> 0
C24: TOTAL | D24: =SUM(D17:D23) -> 0 | E24: =SUM(D24-G24) -> -1.625 | F24: par rapport à | G24: 1.625
C25: TTE | D25: =SUM(E17:E23) -> 0 | E25: =SUM(D25-G25) -> -1.625 | F25: =SUM(E25*24) -> -39 | G25: 1.625
C26: Centième | D26: =SUM(D25*24) -> 0
A27: TOTAL QUATORZAINE | C27: =SUM(D11+D24) -> 0 | D27: sur 78H soit | E27: =SUM(C27-G27) -> -3.25 | F27: =SUM(E27*24) -> -78 | G27: 3.25
C28: =SUM(D12+D25) -> 0 | D28: =SUM(C28*24) -> 0 | E28: =SUM(C28-G27) -> -3.25 | F28: =SUM(E28*24) -> -78
A30: Quatorzaine du Lundi 21/03/2016 au Dimanche 03/04/2016
B32: Début | C32: Fin | D32: Amplitude | E32: TTE
A33: Lundi | D33: =MOD(C33-B33,1) -> 0 | E33: =SUM(D33*0.9) -> 0
A34: Mardi | D34: =MOD(C34-B34,1) -> 0 | E34: =SUM(D34*0.9) -> 0
A35: Mercredi | D35: =MOD(C35-B35,1) -> 0 | E35: =SUM(D35*0.9) -> 0
A36: Jeudi | D36: =MOD(C36-B36,1) -> 0 | E36: =SUM(D36*0.9) -> 0
A37: Vendredi | D37: =MOD(C37-B37,1) -> 0 | E37: =SUM(D37*0.9) -> 0
A38: Samedi | D38: =MOD(C38-B38,1) -> 0 | E38: =SUM(D38*0.75) -> 0
A39: Dimanche | D39: =MOD(C39-B39,1) -> 0 | E39: =SUM(D39*0.75) -> 0
C40: TOTAL | D40: =SUM(D33:D39) -> 0 | E40: =SUM(D40-G40) -> -1.625 | F40: par rapport à | G40: 1.625
C41: TTE | D41: =SUM(E33:E39) -> 0 | E41: =SUM(D41-G41) -> -1.625 | F41: =SUM(E41*24) -> -39 | G41: 1.625
C42: Centième | D42: =SUM(D41*24) -> 0
C43: =SUM(G41-D40) -> 1.625 | D43: A faire
B45: Début | C45: Fin | D45: Amplitude | E45: TTE
...

Sheet DONNEES
A1: TYPE | B1: COEFF | D1: TXHORAIRE
A2: NUIT | B2: 0.75 | F2: H.SUPP 25 % | G2: HSUPP 50 % | H2: IDAJ 75 | I2: IDAJ 100
A3: PERM | B3: 0.75 | D3: DEA | E3: 10.04 | F3: 12.55 | G3: 15.06 | H3: =SUM(E3*0.75)+E3 -> 17.57 | I3: =E3+E3 -> 20.08
