Workbook

Sheet Synthèse 
A1: Synthèse des heures
A2: 2016 | B2: TT Heures | C2: TTE | D2: H.sup TTE | E2: 2015 | F2: TT Heures | G2: TTE | H2: H.sup TTE
A3: Janvier | B3: =SUM('Janvier 2016'!C27+'Janvier 2016'!C56) -> 0 | C3: =SUM('Janvier 2016'!C28+'Janvier 2016'!C57) -> 0 | D3: =SUM('Janvier 2016'!F28+'Janvier 2016'!F57) -> -156 | E3: Août | F3: =SUM('Août 2015'!E14+'Août 2015'!D30) -> 3.1875 | G3: =SUM('Août 2015'!E15+'Août 2015'!D31) -> 2.86875
A4: Février | B4: =SUM('Fevrier 2016'!C27+'Fevrier 2016'!C56) -> 0 | C4: =SUM('Fevrier 2016'!C28+'Fevrier 2016'!C57) -> 0 | D4: ='Fevrier 2016'!F57+'Fevrier 2016'!F28 -> -156 | E4: Septembre | F4: =SUM('Septembre 2015'!D28+'Septembre 2015'!D57) -> 10.746528 | G4: =SUM('Septembre 2015'!D29+'Septembre 2015'!D58) -> 9.4776042 | H4: =SUM('Septembre 2015'!G29+'Septembre 2015'!G58) -> 71.4625
A5: Mars | B5: =SUM('Mars 2016'!C27+'Mars 2016'!C56) -> 0 | C5: =SUM('Mars 2016'!C28+'Mars 2016'!C57) -> 0 | D5: =SUM('Mars 2016'!F28+'Mars 2016'!F57) -> -156 | E5: Octobre | F5: =SUM('Octobre 2015'!C27+'Octobre 2015'!C56) -> 8.0555556 | G5: =SUM('Octobre 2015'!D12+'Octobre 2015'!D25+'Octobre 2015'!D41+'Octobre 2015'!D54) -> 6.9328125 | H5: =SUM('Octobre 2015'!F28+'Octobre 2015'!F57) -> 10.3875
A6: Avril | B6: =SUM('Avril 2016'!C27+'Avril 2016'!C56+'Avril 2016'!C85) -> 0 | C6: =SUM('Avril 2016'!C28+'Avril 2016'!C57+'Avril 2016'!C86) -> 0 | D6: =SUM('Avril 2016'!F28+'Avril 2016'!F57+'Avril 2016'!F86) -> -234 | E6: Novembre | F6: =SUM('Novembre 2015'!C27+'Novembre 2015'!C56) -> 8.7118056 | G6: =SUM('Novembre 2015'!C28+'Novembre 2015'!C57) -> 7.553125 | H6: =SUM('Novembre 2015'!F28+'Novembre 2015'!F57) -> 25.275
A7: Mai | B7: =SUM('Mai 2016'!C27+'Mai 2016'!C56) -> 0 | C7: =SUM('Mai 2016'!C28+'Mai 2016'!C57) -> 0 | D7: =SUM('Mai 2016'!F28+'Mai 2016'!F57) -> -156 | E7: Décembre | F7: =SUM('Decembre 2015'!C27+'Decembre 2015'!C56) -> 9.3090278 | G7: =SUM('Decembre 2015'!C28+'Decembre 2015'!C57) -> 8.259375 | H7: =SUM('Decembre 2015'!F28+'Decembre 2015'!F57) -> 42.225
A8: Juin | B8: =SUM('Juin 2016'!C27+'Juin 2016'!C56) -> 0 | C8: =SUM('Juin 2016'!C28+'Juin 2016'!C57) -> 0 | D8: =SUM('Juin 2016'!F28+'Juin 2016'!F57) -> -156
A9: Juillet | B9: =SUM('Juillet 2016 '!C27+'Juillet 2016 '!C56) -> 0 | C9: =SUM('Juillet 2016 '!C28+'Juillet 2016 '!C57) -> 0 | D9: =SUM('Juillet 2016 '!F28+'Juillet 2016 '!F57) -> -156
A10: Août | B10: =SUM('Août 2016'!C28+'Août 2016'!C57) -> 0 | C10: =SUM('Août 2016'!C28+'Août 2016'!C57) -> 0 | D10: =SUM('Août 2016'!F28+'Août 2016'!F57) -> -156
A11: Septembre | B11: =SUM('Septembre 2016 '!C27+'Septembre 2016 '!C56) -> 0 | C11: =SUM('Septembre 2016 '!C28+'Septembre 2016 '!C57) -> 0 | D11: =SUM('Septembre 2016 '!F28+'Septembre 2016 '!F57) -> -156
A12: Octobre | B12: =SUM('Octobre 2016 '!C28+'Octobre 2016 '!C57) -> 0 | C12: =SUM('Octobre 2016 '!C28+'Octobre 2016 '!C57) -> 0 | D12: =SUM('Octobre 2016 '!F28+'Octobre 2016 '!F57) -> -156
A13: Novembre | B13: =SUM('Novembre 2016'!C27+'Novembre 2016'!C56) -> 0 | C13: =SUM('Novembre 2016'!C28+'Novembre 2016'!C57) -> 0 | D13: =SUM('Novembre 2016'!F28+'Novembre 2016'!F57) -> -156 | F13: =SUM(F4:F12) -> 36.822917 | G13: =SUM(G4:G12) -> 32.222917 | H13: =SUM(H4:H12) -> 149.35
A14: Décembre | B14: =SUM('Décembre 2016'!C27+'Décembre 2016'!C56) -> 0 | C14: =SUM('Décembre 2016'!C28+'Décembre 2016'!C57) -> 0 | D14: =SUM('Décembre 2016'!F28+'Décembre 2016'!F57) -> -156
A15: TT | B15: =SUM(B3:B14) -> 0 | C15: =SUM(C3:C14) -> 0 | D15: =SUM(D3:D12) -> -1638

Sheet Août 2015
A1: CALCUL DE QUATORZAINE pour un coefficient à 90%
B3: 27 jours W
A4: Quatorzaine du Lundi24/08/2015 au Dimanche 06/09/2015
B6: PERM | C6: Début | D6: Fin | E6: Amplitude | F6: TTE | G6: IDAJ 75 | H6: IDAJ 100
A7: Lundi | B7: FERIE | E7: =MOD('Août 2015'!D7-'Août 2015'!C7,1) -> 0 | F7: =SUM('Août 2015'!E7*0.9) -> 0
A8: Mardi | B8: NORM | E8: =MOD('Août 2015'!D8-'Août 2015'!C8,1) -> 0 | F8: =VLOOKUP(B8,DONNEES!A3:B5,2,1)*E8 -> 0
A9: Mercredi | B9: NORM | E9: =MOD('Août 2015'!D9-'Août 2015'!C9,1) -> 0 | F9: =VLOOKUP(B9,DONNEES!A4:B6,2,1)*E9 -> 0
A10: Jeudi | B10: FERIE | E10: =MOD('Août 2015'!D10-'Août 2015'!C10,1) -> 0 | F10: =SUM('Août 2015'!E10*0.9) -> 0
A11: Vendredi | B11: FERIE | C11: 0.26041667 | D11: 0.83680556 | E11: =MOD('Août 2015'!D11-'Août 2015'!C11,1) -> 0.57638889 | F11: =SUM('Août 2015'!E11*0.9) -> 0.51875
A12: Samedi | B12: PERM | E12: =MOD('Août 2015'!D12-'Août 2015'!C12,1) -> 0 | F12: =SUM('Août 2015'!E12*0.9) -> 0
A13: Dimanche | B13: PERM | E13: =MOD('Août 2015'!D13-'Août 2015'!C13,1) -> 0 | F13: =SUM('Août 2015'!E13*0.75) -> 0
D14: TOTAL | E14: =SUM('Août 2015'!E7:E13) -> 0.57638889 | F14: =SUM('Août 2015'!E14-'Août 2015'!H14) -> -1.0486111 | H14: 1.625
D15: 0.9 | E15: =SUM('Août 2015'!F7:F13) -> 0.51875 | F15: =SUM('Août 2015'!E15-'Août 2015'!H15) -> -0.93958333 | H15: 1.4583333
D16: Centième | E16: =SUM('Août 2015'!E15*24) -> 12.45
D17: =SUM('Août 2015'!H14-'Août 2015'!E14) -> 1.0486111 | E17: A faire
C19: Début | D19: Fin | E19: Amplitude | F19: TTE
A20: Lundi | C20: 0.41666667 | D20: 0.85069444 | E20: =MOD('Août 2015'!D20-'Août 2015'!C20,1) -> 0.43402778 | F20: =SUM('Août 2015'!E20*0.9) -> 0.390625
A21: Mardi | E21: =MOD('Août 2015'!D21-'Août 2015'!C21,1) -> 0 | F21: =SUM('Août 2015'!E21*0.9) -> 0
A22: Mercredi | C22: 0.30208333 | D22: 0.86458333 | E22: =MOD('Août 2015'!D22-'Août 2015'!C22,1) -> 0.5625 | F22: =SUM('Août 2015'!E22*0.9) -> 0.50625
A23: Jeudi | C23: 0.29166667 | D23: 0.80555556 | E23: =MOD('Août 2015'!D23-'Août 2015'!C23,1) -> 0.51388889 | F23: =SUM('Août 2015'!E23*0.9) -> 0.4625 | I23: 3.25
A24: Vendredi | C24: 0.30208333 | D24: 0.82638889 | E24: =MOD('Août 2015'!D24-'Août 2015'!C24,1) -> 0.52430556 | F24: =SUM('Août 2015'!E24*0.9) -> 0.471875
A25: Samedi | E25: =MOD('Août 2015'!D25-'Août 2015'!C25,1) -> 0 | F25: =SUM('Août 2015'!E25*0.75) -> 0
A26: Dimanche | E26: =MOD('Août 2015'!D26-'Août 2015'!C26,1) -> 0 | F26: =SUM('Août 2015'!E26*0.75) -> 0
D27: TOTAL | E27: =SUM('Août 2015'!E20:E26) -> 2.0347222 | F27: =SUM('Août 2015'!E27-'Août 2015'!H27) -> 0.40972222 | G27: par rapport à | H27: 1.625
D28: 0.9 | E28: =SUM('Août 2015'!F20:F26) -> 1.83125 | F28: =SUM('Août 2015'!E28-'Août 2015'!I28) -> 1.83125
D29: Centième | E29: =SUM('Août 2015'!E28*24) -> 43.95
A30: TOTAL QUATORZAINE | D30: =SUM('Août 2015'!E14+'Août 2015'!E27) -> 2.6111111 | E30: sur 78H soit | F30: =SUM('Août 2015'!D30-'Août 2015'!H30) -> -0.63888889 | H30: 3.25
B31: Centième | C31: Centième | D31: =SUM(E15+E28) -> 2.35 | E31: =SUM(D31*24) -> 56.4 | F31: =SUM(D31-H30) -> -0.9 | G31: =SUM(F31*24) -> -21.6

Sheet Septembre 2015
A2: Quatorzaine du Lundi 07/09/2015 au Dimanche 20/09/2015
C4: Début | D4: Fin | E4: Amplitude | F4: TTE
A5: Lundi | C5: 0.30208333 | D5: 0.8125 | E5: =MOD('Septembre 2015'!D5-'Septembre 2015'!C5,1) -> 0.51041667 | F5: =SUM('Septembre 2015'!E5*0.9) -> 0.459375
A6: Mardi | C6: 0.44791667 | D6: 0.82986111 | E6: =MOD('Septembre 2015'!D6-'Septembre 2015'!C6,1) -> 0.38194444 | F6: =SUM('Septembre 2015'!E6*0.9) -> 0.34375
A7: Mercredi | C7: 0.30208333 | D7: 0.80555556 | E7: =MOD('Septembre 2015'!D7-'Septembre 2015'!C7,1) -> 0.50347222 | F7: =SUM('Septembre 2015'!E7*0.9) -> 0.453125 | G7: =SUM('Septembre 2015'!E7*24) -> 12.083333
A8: Jeudi | C8: 0.3125 | D8: 0.83680556 | E8: =MOD('Septembre 2015'!D8-'Septembre 2015'!C8,1) -> 0.52430556 | F8: =SUM('Septembre 2015'!E8*0.9) -> 0.471875 | G8: =SUM('Septembre 2015'!E8*24) -> 12.583333
A9: Vendredi | E9: =MOD('Septembre 2015'!D9-'Septembre 2015'!C9,1) -> 0 | F9: =SUM('Septembre 2015'!E9*0.9) -> 0 | G9: =SUM('Septembre 2015'!E9*24) -> 0
A10: Samedi | C10: 0.41666667 | D10: 0.88888889 | E10: =MOD('Septembre 2015'!D10-'Septembre 2015'!C10,1) -> 0.47222222 | F10: =SUM('Septembre 2015'!E10*0.75) -> 0.35416667
A11: Dimanche | E11: =MOD('Septembre 2015'!D11-'Septembre 2015'!C11,1) -> 0 | F11: =SUM('Septembre 2015'!E11*0.75) -> 0
D12: TOTAL | E12: =SUM('Septembre 2015'!E5:E11) -> 2.3923611 | F12: =SUM('Septembre 2015'!E12-'Septembre 2015'!H12) -> 0.76736111 | G12: par rapport à | H12: 1.625
D13: 0.9 | E13: =SUM('Septembre 2015'!F5:F11) -> 2.0822917 | F13: =SUM('Septembre 2015'!E13-'Septembre 2015'!I44) -> 2.0822917
D14: Centième | E14: =SUM('Septembre 2015'!E13*24) -> 49.975
D15: =SUM('Septembre 2015'!H12-'Septembre 2015'!E12) -> -0.76736111 | E15: A faire
C17: Début | D17: Fin | E17: Amplitude | F17: TTE
A18: Lundi | C18: 0.30208333 | D18: 0.81597222 | E18: =MOD('Septembre 2015'!D18-'Septembre 2015'!C18,1) -> 0.51388889 | F18: =SUM('Septembre 2015'!E18*0.9) -> 0.4625
A19: Mardi | C19: 0.30208333 | D19: 0.80902778 | E19: =MOD('Septembre 2015'!D19-'Septembre 2015'!C19,1) -> 0.50694444 | F19: =SUM('Septembre 2015'!E19*0.9) -> 0.45625
A20: Mercredi | C20: 0.33333333 | D20: 0.83333333 | E20: =MOD('Septembre 2015'!D20-'Septembre 2015'!C20,1) -> 0.5 | F20: =SUM('Septembre 2015'!E20*0.9) -> 0.45
A21: Jeudi | C21: 0.29166667 | D21: 0.78472222 | E21: =MOD('Septembre 2015'!D21-'Septembre 2015'!C21,1) -> 0.49305556 | F21: =SUM('Septembre 2015'!E21*0.9) -> 0.44375
A22: Vendredi | C22: 0.30208333 | D22: 0.84722222 | E22: =MOD('Septembre 2015'!D22-'Septembre 2015'!C22,1) -> 0.54513889 | F22: =SUM('Septembre 2015'!E22*0.9) -> 0.490625
A23: Samedi | C23: 0.41666667 | D23: 0.78125 | E23: =MOD('Septembre 2015'!D23-'Septembre 2015'!C23,1) -> 0.36458333 | F23: =SUM('Septembre 2015'!E23*0.75) -> 0.2734375 | G23: *
A24: Dimanche | E24: =MOD('Septembre 2015'!D24-'Septembre 2015'!C24,1) -> 0 | F24: =SUM('Septembre 2015'!E24*0.75) -> 0
D25: TOTAL | E25: =SUM('Septembre 2015'!E18:E24) -> 2.9236111 | F25: =SUM('Septembre 2015'!E25-'Septembre 2015'!H25) -> 1.2986111 | G25: par rapport à | H25: 1.625
D26: 0.9 | E26: =SUM('Septembre 2015'!F18:F24) -> 2.5765625 | F26: =SUM('Septembre 2015'!E26-'Septembre 2015'!I57) -> 2.5765625
D27: Centième | E27: =SUM('Septembre 2015'!E26*24) -> 61.8375
A28: TOTAL QUATORZAINE | D28: =SUM('Septembre 2015'!E12+'Septembre 2015'!E25) -> 5.3159722 | E28: sur 78H soit | F28: =SUM('Septembre 2015'!D28-'Septembre 2015'!H28) -> 2.0659722 | H28: 3.25
C29: Centième | D29: =SUM(E13+E26) -> 4.6588542 | E29: =SUM(D29*24) -> 111.8125 | F29: =SUM(D29-H28) -> 1.4088542 | G29: =SUM(F29*24) -> 33.8125
A31: Quatorzaine du Lundi 21/09/2015 au Dimanche 04/10/2015
C33: Début | D33: Fin | E33: Amplitude | F33: TTE
A34: Lundi | C34: 0.33333333 | D34: 0.84375 | E34: =MOD('Septembre 2015'!D34-'Septembre 2015'!C34,1) -> 0.51041667 | F34: =SUM('Septembre 2015'!E34*0.9) -> 0.459375
A35: Mardi | C35: 0.35416667 | D35: 0.80208333 | E35: =MOD('Septembre 2015'!D35-'Septembre 2015'!C35,1) -> 0.44791667 | F35: =SUM('Septembre 2015'!E35*0.9) -> 0.403125
A36: Mercredi | C36: 0.34375 | D36: 0.8125 | E36: =MOD('Septembre 2015'!D36-'Septembre 2015'!C36,1) -> 0.46875 | F36: =SUM('Septembre 2015'!E36*0.9) -> 0.421875
A37: Jeudi | C37: 0.35416667 | D37: 0.70833333 | E37: =MOD('Septembre 2015'!D37-'Septembre 2015'!C37,1) -> 0.35416667 | F37: =SUM('Septembre 2015'!E37*0.9) -> 0.31875
A38: Vendredi | C38: 0.375 | D38: 0.83333333 | E38: =MOD('Septembre 2015'!D38-'Septembre 2015'!C38,1) -> 0.45833333 | F38: =SUM('Septembre 2015'!E38*0.9) -> 0.4125
A39: Samedi | E39: =MOD('Septembre 2015'!D39-'Septembre 2015'!C39,1) -> 0 | F39: =SUM('Septembre 2015'!E39*0.75) -> 0
A40: Dimanche | E40: =MOD('Septembre 2015'!D40-'Septembre 2015'!C40,1) -> 0 | F40: =SUM('Septembre 2015'!E40*0.75) -> 0
D41: TOTAL | E41: =SUM('Septembre 2015'!E34:E40) -> 2.2395833 | F41: =SUM('Septembre 2015'!E41-'Septembre 2015'!H41) -> 0.61458333 | G41: par rapport à | H41: 1.625
D42: 0.9 | E42: =SUM('Septembre 2015'!F34:F40) -> 2.015625 | F42: =SUM('Septembre 2015'!E42-'Septembre 2015'!I73) -> 2.015625
D43: Centième | E43: =SUM('Septembre 2015'!E42*24) -> 48.375
D44: =SUM('Septembre 2015'!H41-'Septembre 2015'!E41) -> -0.61458333 | E44: A faire
C46: Début | D46: Fin | E46: Amplitude | F46: TTE
A47: Lundi | C47: 0.27083333 | D47: 0.82638889 | E47: =MOD('Septembre 2015'!D47-'Septembre 2015'!C47,1) -> 0.55555556 | F47: =SUM('Septembre 2015'!E47*0.9) -> 0.5
A48: Mardi | C48: 0.30208333 | D48: 0.82986111 | E48: =MOD('Septembre 2015'!D48-'Septembre 2015'!C48,1) -> 0.52777778 | F48: =SUM('Septembre 2015'!E48*0.9) -> 0.475
A49: Mercredi | C49: 0.30208333 | D49: 0.84375 | E49: =MOD('Septembre 2015'!D49-'Septembre 2015'!C49,1) -> 0.54166667 | F49: =SUM('Septembre 2015'!E49*0.9) -> 0.4875
A50: Jeudi | C50: 0.29166667 | D50: 0.86111111 | E50: =MOD('Septembre 2015'!D50-'Septembre 2015'!C50,1) -> 0.56944444 | F50: =SUM('Septembre 2015'!E50*0.9) -> 0.5125
A51: Vendredi | C51: 0.30208333 | D51: 0.84027778 | E51: =MOD('Septembre 2015'!D51-'Septembre 2015'!C51,1) -> 0.53819444 | F51: =SUM('Septembre 2015'!E51*0.9) -> 0.484375
A52: Samedi | C52: 0.41666667 | D52: 0.875 | E52: =MOD('Septembre 2015'!D52-'Septembre 2015'!C52,1) -> 0.45833333 | F52: =SUM('Septembre 2015'!E52*0.75) -> 0.34375
A53: Dimanche | E53: =MOD('Septembre 2015'!D53-'Septembre 2015'!C53,1) -> 0 | F53: =SUM('Septembre 2015'!E53*0.75) -> 0
D54: TOTAL | E54: =SUM('Septembre 2015'!E47:E53) -> 3.1909722 | F54: =SUM('Septembre 2015'!E54-'Septembre 2015'!H54) -> 1.5659722 | G54: par rapport à | H54: 1.625
D55: 0.9 | E55: =SUM('Septembre 2015'!F47:F53) -> 2.803125 | F55: =SUM('Septembre 2015'!E55-'Septembre 2015'!I86) -> 2.803125
D56: Centième | E56: =SUM('Septembre 2015'!E55*24) -> 67.275
A57: TOTAL QUATORZAINE | D57: =SUM(E41+E54) -> 5.4305556 | E57: sur 78H soit | F57: =SUM('Septembre 2015'!D57-'Septembre 2015'!H57) -> 2.1805556 | H57: 3.25
C58: Centième | D58: =SUM(E42+E55) -> 4.81875 | E58: =SUM(D58*24) -> 115.65 | F58: =SUM(D58-H57) -> 1.56875 | G58: =SUM(F58*24) -> 37.65

Sheet Octobre 2015
A1: Quatorzaine du Lundi 05/10/2015 au Dimanche 18/10/2015
B2: 17 jours W
B3: Début | C3: Fin | D3: Amplitude | E3: TTE
A4: Lundi | D4: =MOD('Octobre 2015'!C4-'Octobre 2015'!B4,1) -> 0 | E4: =SUM('Octobre 2015'!D4*0.9) -> 0
A5: Mardi | B5: 0.30208333 | C5: 0.74652778 | D5: =MOD('Octobre 2015'!C5-'Octobre 2015'!B5,1) -> 0.44444444 | E5: =SUM('Octobre 2015'!D5*0.9) -> 0.4
A6: Mercredi | B6: 0.29166667 | C6: 0.83333333 | D6: =MOD('Octobre 2015'!C6-'Octobre 2015'!B6,1) -> 0.54166667 | E6: =SUM('Octobre 2015'!D6*0.9) -> 0.4875
A7: Jeudi | B7: 0.29166667 | C7: 0.84722222 | D7: =MOD('Octobre 2015'!C7-'Octobre 2015'!B7,1) -> 0.55555556 | E7: =SUM('Octobre 2015'!D7*0.9) -> 0.5
A8: Vendredi | D8: =MOD('Octobre 2015'!C8-'Octobre 2015'!B8,1) -> 0 | E8: =SUM('Octobre 2015'!D8*0.9) -> 0
A9: Samedi | B9: 0.83333333 | C9: 0.33333333 | D9: =MOD('Octobre 2015'!C9-'Octobre 2015'!B9,1) -> 0.5 | E9: =SUM('Octobre 2015'!D9*0.75) -> 0.375
A10: Dimanche | D10: =MOD('Octobre 2015'!C10-'Octobre 2015'!B10,1) -> 0 | E10: =SUM('Octobre 2015'!D10*0.75) -> 0
C11: TOTAL | D11: =SUM('Octobre 2015'!D4:D10) -> 2.0416667 | E11: =SUM('Octobre 2015'!D11-'Octobre 2015'!G11) -> 0.41666667 | F11: par rapport à | G11: 1.625
C12: 0.9 | D12: =SUM('Octobre 2015'!E4:E10) -> 1.7625 | E12: =SUM('Octobre 2015'!D12-'Octobre 2015'!G12) -> 0.30416667 | G12: 1.4583333
C13: Centième | D13: =SUM('Octobre 2015'!D12*24) -> 42.3
C14: =SUM('Octobre 2015'!G11-'Octobre 2015'!D11) -> -0.41666667 | D14: A faire
B16: Début | C16: Fin | D16: Amplitude | E16: TTE
A17: Lundi | B17: 0.30208333 | C17: 0.84375 | D17: =MOD('Octobre 2015'!C17-'Octobre 2015'!B17,1) -> 0.54166667 | E17: =SUM('Octobre 2015'!D17*0.9) -> 0.4875
A18: Mardi | B18: 0.4375 | C18: 0.85763889 | D18: =MOD('Octobre 2015'!C18-'Octobre 2015'!B18,1) -> 0.42013889 | E18: =SUM('Octobre 2015'!D18*0.9) -> 0.378125
A19: Mercredi | B19: 0.30208333 | C19: 0.84027778 | D19: =MOD('Octobre 2015'!C19-'Octobre 2015'!B19,1) -> 0.53819444 | E19: =SUM('Octobre 2015'!D19*0.9) -> 0.484375
A20: Jeudi | B20: 0.33333333 | C20: 0.84375 | D20: =MOD('Octobre 2015'!C20-'Octobre 2015'!B20,1) -> 0.51041667 | E20: =SUM('Octobre 2015'!D20*0.9) -> 0.459375
A21: Vendredi | D21: =MOD('Octobre 2015'!C21-'Octobre 2015'!B21,1) -> 0 | E21: =SUM('Octobre 2015'!D21*0.9) -> 0
A22: Samedi | D22: =MOD('Octobre 2015'!C22-'Octobre 2015'!B22,1) -> 0 | E22: =SUM('Octobre 2015'!D22*0.75) -> 0
A23: Dimanche | D23: =MOD('Octobre 2015'!C23-'Octobre 2015'!B23,1) -> 0 | E23: =SUM('Octobre 2015'!D23*0.75) -> 0
C24: TOTAL | D24: =SUM('Octobre 2015'!D17:D23) -> 2.0104167 | E24: =SUM('Octobre 2015'!D24-'Octobre 2015'!G24) -> 0.38541667 | F24: par rapport à | G24: 1.625
C25: 0.9 | D25: =SUM('Octobre 2015'!E17:E23) -> 1.809375 | E25: =SUM('Octobre 2015'!D25-'Octobre 2015'!G25) -> 0.35104167 | G25: 1.4583333
C26: Centième | D26: =SUM('Octobre 2015'!D25*24) -> 43.425
A27: TOTAL QUATORZAINE | C27: =SUM('Octobre 2015'!D11+'Octobre 2015'!D24) -> 4.0520833 | D27: sur 78H soit | E27: =SUM('Octobre 2015'!C27-'Octobre 2015'!G27) -> 0.80208333 | G27: 3.25
B28: Centième | C28: =SUM('Octobre 2015'!D12+'Octobre 2015'!D25) -> 3.571875 | D28: =SUM(C28*24) -> 85.725 | E28: =SUM('Octobre 2015'!C28-'Octobre 2015'!G27) -> 0.321875 | F28: =SUM(E28*24) -> 7.725
A30: Quatorzaine du Lundi 19/10/2015 au Dimanche 01/11/2015
B32: Début | C32: Fin | D32: Amplitude | E32: TTE
A33: Lundi | D33: =MOD('Octobre 2015'!C33-'Octobre 2015'!B33,1) -> 0 | E33: =SUM('Octobre 2015'!D33*0.9) -> 0
A34: Mardi | B34: 0.29166667 | C34: 0.75 | D34: =MOD('Octobre 2015'!C34-'Octobre 2015'!B34,1) -> 0.45833333 | E34: =SUM('Octobre 2015'!D34*0.9) -> 0.4125
A35: Mercredi | D35: =MOD('Octobre 2015'!C35-'Octobre 2015'!B35,1) -> 0 | E35: =SUM('Octobre 2015'!D35*0.9) -> 0
A36: Jeudi | B36: 0.83333333 | C36: 0.33333333 | D36: =MOD('Octobre 2015'!C36-'Octobre 2015'!B36,1) -> 0.5 | E36: =SUM('Octobre 2015'!D36*0.75) -> 0.375
A37: Vendredi | D37: =MOD('Octobre 2015'!C37-'Octobre 2015'!B37,1) -> 0 | E37: =SUM('Octobre 2015'!D37*0.9) -> 0
A38: Samedi | B38: 0.23958333 | C38: 0.81597222 | D38: =MOD('Octobre 2015'!C38-'Octobre 2015'!B38,1) -> 0.57638889 | E38: =SUM('Octobre 2015'!D38*0.75) -> 0.43229167
A39: Dimanche | D39: =MOD('Octobre 2015'!C39-'Octobre 2015'!B39,1) -> 0 | E39: =SUM('Octobre 2015'!D39*0.75) -> 0
C40: TOTAL | D40: =SUM('Octobre 2015'!D33:D39) -> 1.5347222 | E40: =SUM('Octobre 2015'!D40-'Octobre 2015'!G40) -> -0.090277778 | F40: par rapport à | G40: 1.625
C41: 0.9 | D41: =SUM('Octobre 2015'!E33:E39) -> 1.2197917 | E41: =SUM('Octobre 2015'!D41-'Octobre 2015'!G41) -> -0.23854167 | G41: 1.4583333
C42: Centième | D42: =SUM('Octobre 2015'!D41*24) -> 29.275
C43: =SUM('Octobre 2015'!G40-'Octobre 2015'!D40) -> 0.090277778 | D43: A faire
B45: Début | C45: Fin | D45: Amplitude | E45: TTE
A46: Lundi | B46: 0.46875 | C46: 0.85069444 | D46: =MOD('Octobre 2015'!C46-'Octobre 2015'!B46,1) -> 0.38194444 | E46: =SUM('Octobre 2015'!D46*0.9) -> 0.34375
A47: Mardi | B47: 0.54166667 | C47: 0.85416667 | D47: =MOD('Octobre 2015'!C47-'Octobre 2015'!B47,1) -> 0.3125 | E47: =SUM('Octobre 2015'!D47*0.9) -> 0.28125
A48: Mercredi | B48: 0.30208333 | C48: 0.85069444 | D48: =MOD('Octobre 2015'!C48-'Octobre 2015'!B48,1) -> 0.54861111 | E48: =SUM('Octobre 2015'!D48*0.9) -> 0.49375
A49: Jeudi | B49: 0.5 | C49: 0.82291667 | D49: =MOD('Octobre 2015'!C49-'Octobre 2015'!B49,1) -> 0.32291667 | E49: =SUM('Octobre 2015'!D49*0.9) -> 0.290625
A50: Vendredi | B50: 0.46875 | C50: 0.83333333 | D50: =MOD('Octobre 2015'!C50-'Octobre 2015'!B50,1) -> 0.36458333 | E50: =SUM('Octobre 2015'!D50*0.9) -> 0.328125
A51: Samedi | B51: 0.22916667 | C51: 0.76736111 | D51: =MOD('Octobre 2015'!C51-'Octobre 2015'!B51,1) -> 0.53819444 | E51: =SUM('Octobre 2015'!D51*0.75) -> 0.40364583
A52: Dimanche | D52: =MOD('Octobre 2015'!C52-'Octobre 2015'!B52,1) -> 0 | E52: =SUM('Octobre 2015'!D52*0.75) -> 0
C53: TOTAL | D53: =SUM('Octobre 2015'!D46:D52) -> 2.46875 | E53: =SUM('Octobre 2015'!D53-'Octobre 2015'!G53) -> 0.84375 | F53: par rapport à | G53: 1.625
C54: 0.9 | D54: =SUM('Octobre 2015'!E46:E52) -> 2.1411458 | E54: =SUM('Octobre 2015'!D54-'Octobre 2015'!G54) -> 0.6828125 | G54: 1.4583333
C55: Centième | D55: =SUM('Octobre 2015'!D54*24) -> 51.3875
A56: TOTAL QUATORZAINE | C56: =SUM('Octobre 2015'!D40+'Octobre 2015'!D53) -> 4.0034722 | D56: sur 78H soit | E56: =SUM('Octobre 2015'!C56-'Octobre 2015'!G56) -> 0.75347222 | G56: 3.25
B57: Centième | C57: =SUM('Octobre 2015'!D41+'Octobre 2015'!D54) -> 3.3609375 | D57: =SUM(C57*24) -> 80.6625 | E57: =SUM('Octobre 2015'!C57-'Octobre 2015'!G56) -> 0.1109375 | F57: =SUM(E57*24) -> 2.6625

Sheet Novembre 2015
A1: Quatorzaine du Lundi 02/11/2015 au Dimanche 15/11/2015
B2: 19 jours W
B3: Début | C3: Fin | D3: Amplitude | E3: TTE
A4: Lundi | B4: 0.30208333 | C4: 0.84375 | D4: =MOD('Novembre 2015'!C4-'Novembre 2015'!B4,1) -> 0.54166667 | E4: =SUM('Novembre 2015'!D4*0.9) -> 0.4875
A5: Mardi | B5: 0.30208333 | C5: 0.73611111 | D5: =MOD('Novembre 2015'!C5-'Novembre 2015'!B5,1) -> 0.43402778 | E5: =SUM('Novembre 2015'!D5*0.9) -> 0.390625
A6: Mercredi | B6: 0.29166667 | C6: 0.80555556 | D6: =MOD('Novembre 2015'!C6-'Novembre 2015'!B6,1) -> 0.51388889 | E6: =SUM('Novembre 2015'!D6*0.9) -> 0.4625
A7: Jeudi | D7: =MOD('Novembre 2015'!C7-'Novembre 2015'!B7,1) -> 0 | E7: =SUM('Novembre 2015'!D7*0.9) -> 0
A8: Vendredi | B8: 0.29166667 | C8: 0.77083333 | D8: =MOD('Novembre 2015'!C8-'Novembre 2015'!B8,1) -> 0.47916667 | E8: =SUM('Novembre 2015'!D8*0.9) -> 0.43125
A9: Samedi | D9: =MOD('Novembre 2015'!C9-'Novembre 2015'!B9,1) -> 0 | E9: =SUM('Novembre 2015'!D9*0.75) -> 0
A10: Dimanche | D10: =MOD('Novembre 2015'!C10-'Novembre 2015'!B10,1) -> 0 | E10: =SUM('Novembre 2015'!D10*0.75) -> 0
C11: TOTAL | D11: =SUM('Novembre 2015'!D4:D10) -> 1.96875 | E11: =SUM('Novembre 2015'!D11-'Novembre 2015'!G11) -> 0.34375 | F11: par rapport à | G11: 1.625
C12: TTE | D12: =SUM('Novembre 2015'!E4:E10) -> 1.771875 | E12: =SUM('Novembre 2015'!D12-'Novembre 2015'!G12) -> 0.146875 | F12: =SUM(E12*24) -> 3.525 | G12: 1.625
C13: Centième | D13: =SUM('Novembre 2015'!D12*24) -> 42.525
C14: =SUM('Novembre 2015'!G11-'Novembre 2015'!D11) -> -0.34375 | D14: A faire
B16: Début | C16: Fin | D16: Amplitude | E16: TTE | F16: FERIE
A17: Lundi | B17: 0.40625 | C17: 0.85416667 | D17: =MOD('Novembre 2015'!C17-'Novembre 2015'!B17,1) -> 0.44791667 | E17: =SUM('Novembre 2015'!D17*0.9) -> 0.403125
A18: Mardi | B18: 0.33333333 | C18: 0.75 | D18: =MOD('Novembre 2015'!C18-'Novembre 2015'!B18,1) -> 0.41666667 | E18: =SUM('Novembre 2015'!D18*0.9) -> 0.375
A19: Mercredi | B19: 0.33333333 | C19: 0.83333333 | D19: =MOD('Novembre 2015'!C19-'Novembre 2015'!B19,1) -> 0.5 | E19: =SUM('Novembre 2015'!D19*0.75) -> 0.375 | F19: X
A20: Jeudi | B20: 0.51041667 | C20: 0.8125 | D20: =MOD('Novembre 2015'!C20-'Novembre 2015'!B20,1) -> 0.30208333 | E20: =SUM('Novembre 2015'!D20*0.9) -> 0.271875
A21: Vendredi | D21: =MOD('Novembre 2015'!C21-'Novembre 2015'!B21,1) -> 0 | E21: =SUM('Novembre 2015'!D21*0.9) -> 0
A22: Samedi | B22: 0.39583333 | C22: 0.8125 | D22: =MOD('Novembre 2015'!C22-'Novembre 2015'!B22,1) -> 0.41666667 | E22: =SUM('Novembre 2015'!D22*0.75) -> 0.3125
A23: Dimanche | B23: 0.33333333 | C23: 0.83333333 | D23: =MOD('Novembre 2015'!C23-'Novembre 2015'!B23,1) -> 0.5 | E23: =SUM('Novembre 2015'!D23*0.75) -> 0.375
C24: TOTAL | D24: =SUM('Novembre 2015'!D17:D23) -> 2.5833333 | E24: =SUM('Novembre 2015'!D24-'Novembre 2015'!G24) -> 0.95833333 | F24: par rapport à | G24: 1.625
C25: TTE | D25: =SUM('Novembre 2015'!E17:E23) -> 2.1125 | E25: =SUM('Novembre 2015'!D25-'Novembre 2015'!G25) -> 0.4875 | F25: =SUM(E25*24) -> 11.7 | G25: 1.625
C26: Centième | D26: =SUM('Novembre 2015'!D25*24) -> 50.7
A27: TOTAL QUATORZAINE | C27: =SUM('Novembre 2015'!D11+'Novembre 2015'!D24) -> 4.5520833 | D27: sur 78H soit | E27: =SUM('Novembre 2015'!C27-'Novembre 2015'!G27) -> 1.3020833 | G27: 3.25
B28: Centième | C28: =SUM('Novembre 2015'!D12+'Novembre 2015'!D25) -> 3.884375 | D28: =SUM(C28*24) -> 93.225 | E28: =SUM('Novembre 2015'!C28-'Novembre 2015'!G27) -> 0.634375 | F28: =SUM(E28*24) -> 15.225
A30: Quatorzaine du Lundi 16/11/2015 au Dimanche 29/11/2015
B32: Début | C32: Fin | D32: Amplitude | E32: TTE
A33: Lundi | B33: 0.375 | C33: 0.89236111 | D33: =MOD('Novembre 2015'!C33-'Novembre 2015'!B33,1) -> 0.51736111 | E33: =SUM('Novembre 2015'!D33*0.9) -> 0.465625
A34: Mardi | B34: 0.38541667 | C34: 0.79166667 | D34: =MOD('Novembre 2015'!C34-'Novembre 2015'!B34,1) -> 0.40625 | E34: =SUM('Novembre 2015'!D34*0.9) -> 0.365625
A35: Mercredi | B35: 0.27083333 | C35: 0.81944444 | D35: =MOD('Novembre 2015'!C35-'Novembre 2015'!B35,1) -> 0.54861111 | E35: =SUM('Novembre 2015'!D35*0.9) -> 0.49375
A36: Jeudi | B36: 0.42708333 | C36: 0.79166667 | D36: =MOD('Novembre 2015'!C36-'Novembre 2015'!B36,1) -> 0.36458333 | E36: =SUM('Novembre 2015'!D36*0.9) -> 0.328125
A37: Vendredi | B37: 0.28125 | C37: 0.8125 | D37: =MOD('Novembre 2015'!C37-'Novembre 2015'!B37,1) -> 0.53125 | E37: =SUM('Novembre 2015'!D37*0.9) -> 0.478125
A38: Samedi | D38: =MOD('Novembre 2015'!C38-'Novembre 2015'!B38,1) -> 0 | E38: =SUM('Novembre 2015'!D38*0.75) -> 0
A39: Dimanche | D39: =MOD('Novembre 2015'!C39-'Novembre 2015'!B39,1) -> 0 | E39: =SUM('Novembre 2015'!D39*0.75) -> 0
C40: TOTAL | D40: =SUM('Novembre 2015'!D33:D39) -> 2.3680556 | E40: =SUM('Novembre 2015'!D40-'Novembre 2015'!G40) -> 0.74305556 | F40: par rapport à | G40: 1.625
C41: TTE | D41: =SUM('Novembre 2015'!E33:E39) -> 2.13125 | E41: =SUM('Novembre 2015'!D41-'Novembre 2015'!G41) -> 0.50625 | F41: =SUM(E41*24) -> 12.15 | G41: 1.625
C42: Centième | D42: =SUM('Novembre 2015'!D41*24) -> 51.15
C43: =SUM('Novembre 2015'!G40-'Novembre 2015'!D40) -> -0.74305556 | D43: A faire
B45: Début | C45: Fin | D45: Amplitude | E45: TTE
A46: Lundi | B46: 0.39583333 | C46: 0.83680556 | D46: =MOD('Novembre 2015'!C46-'Novembre 2015'!B46,1) -> 0.44097222 | E46: =SUM('Novembre 2015'!D46*0.9) -> 0.396875
A47: Mardi | B47: 0.4375 | C47: 0.81944444 | D47: =MOD('Novembre 2015'!C47-'Novembre 2015'!B47,1) -> 0.38194444 | E47: =SUM('Novembre 2015'!D47*0.9) -> 0.34375
A48: Mercredi | B48: 0.34375 | C48: 0.8125 | D48: =MOD('Novembre 2015'!C48-'Novembre 2015'!B48,1) -> 0.46875 | E48: =SUM('Novembre 2015'!D48*0.9) -> 0.421875
A49: Jeudi | B49: 0.83333333 | C49: 0.33333333 | D49: =MOD('Novembre 2015'!C49-'Novembre 2015'!B49,1) -> 0.5 | E49: =SUM('Novembre 2015'!D49*0.75) -> 0.375
A50: Vendredi | D50: =MOD('Novembre 2015'!C50-'Novembre 2015'!B50,1) -> 0 | E50: =SUM('Novembre 2015'!D50*0.9) -> 0
A51: Samedi | D51: =MOD('Novembre 2015'!C51-'Novembre 2015'!B51,1) -> 0 | E51: =SUM('Novembre 2015'!D51*0.75) -> 0
A52: Dimanche | D52: =MOD('Novembre 2015'!C52-'Novembre 2015'!B52,1) -> 0 | E52: =SUM('Novembre 2015'!D52*0.75) -> 0
C53: TOTAL | D53: =SUM('Novembre 2015'!D46:D52) -> 1.7916667 | E53: =SUM('Novembre 2015'!D53-'Novembre 2015'!G53) -> 0.16666667 | F53: par rapport à | G53: 1.625
C54: TTE | D54: =SUM('Novembre 2015'!E46:E52) -> 1.5375 | E54: =SUM('Novembre 2015'!D54-'Novembre 2015'!G54) -> -0.0875 | F54: =SUM(E54*24) -> -2.1 | G54: 1.625
C55: Centième | D55: =SUM('Novembre 2015'!D54*24) -> 36.9
A56: TOTAL QUATORZAINE | C56: =SUM('Novembre 2015'!D40+'Novembre 2015'!D53) -> 4.1597222 | D56: sur 78H soit | E56: =SUM('Novembre 2015'!C56-'Novembre 2015'!G56) -> 0.90972222 | G56: 3.25
C57: =SUM('Novembre 2015'!D41+'Novembre 2015'!D54) -> 3.66875 | D57: =SUM(C57*24) -> 88.05 | E57: =SUM('Novembre 2015'!C57-'Novembre 2015'!G56) -> 0.41875 | F57: =SUM(E57*24) -> 10.05

Sheet Decembre 2015
A1: Quatorzaine du Lundi 30/11/2015 au Dimanche 13/12/2015
B2: je
B3: Début | C3: Fin | D3: Amplitude | E3: TTE
A4: Lundi | B4: 0.39583333 | C4: 0.80208333 | D4: =MOD('Decembre 2015'!C4-'Decembre 2015'!B4,1) -> 0.40625 | E4: =SUM('Decembre 2015'!D4*0.9) -> 0.365625
A5: Mardi | B5: 0.41666667 | C5: 0.8125 | D5: =MOD('Decembre 2015'!C5-'Decembre 2015'!B5,1) -> 0.39583333 | E5: =SUM('Decembre 2015'!D5*0.9) -> 0.35625
A6: Mercredi | B6: 0.41666667 | C6: 0.76388889 | D6: =MOD('Decembre 2015'!C6-'Decembre 2015'!B6,1) -> 0.34722222 | E6: =SUM('Decembre 2015'!D6*0.75) -> 0.26041667
A7: Jeudi | B7: 0.19791667 | C7: 0.79861111 | D7: =MOD('Decembre 2015'!C7-'Decembre 2015'!B7,1) -> 0.60069444 | E7: =SUM('Decembre 2015'!D7*0.9) -> 0.540625
A8: Vendredi | B8: 0.44791667 | C8: 0.85416667 | D8: =MOD('Decembre 2015'!C8-'Decembre 2015'!B8,1) -> 0.40625 | E8: =SUM('Decembre 2015'!D8*0.9) -> 0.365625
A9: Samedi | B9: 0.41666667 | C9: 0.86111111 | D9: =MOD('Decembre 2015'!C9-'Decembre 2015'!B9,1) -> 0.44444444 | E9: =SUM('Decembre 2015'!D9*0.75) -> 0.33333333
A10: Dimanche | D10: =MOD('Decembre 2015'!C10-'Decembre 2015'!B10,1) -> 0 | E10: =SUM('Decembre 2015'!D10*0.75) -> 0
C11: TOTAL | D11: =SUM('Decembre 2015'!D4:D10) -> 2.6006944 | E11: =SUM('Decembre 2015'!D11-'Decembre 2015'!G11) -> 0.97569444 | F11: par rapport à | G11: 1.625
C12: 0.9 | D12: =SUM('Decembre 2015'!E4:E10) -> 2.221875 | E12: =SUM('Decembre 2015'!D12-'Decembre 2015'!G12) -> 0.596875 | F12: =SUM(E12*24) -> 14.325 | G12: 1.625
C13: Centième | D13: =SUM('Decembre 2015'!D12*24) -> 53.325
C14: =SUM('Decembre 2015'!G11-'Decembre 2015'!D11) -> -0.97569444 | D14: A faire
B16: Début | C16: Fin | D16: Amplitude | E16: TTE
A17: Lundi | B17: 0.35416667 | C17: 0.8125 | D17: =MOD('Decembre 2015'!C17-'Decembre 2015'!B17,1) -> 0.45833333 | E17: =SUM('Decembre 2015'!D17*0.9) -> 0.4125
A18: Mardi | B18: 0.48958333 | C18: 0.78125 | D18: =MOD('Decembre 2015'!C18-'Decembre 2015'!B18,1) -> 0.29166667 | E18: =SUM('Decembre 2015'!D18*0.9) -> 0.2625
A19: Mercredi | D19: =MOD('Decembre 2015'!C19-'Decembre 2015'!B19,1) -> 0 | E19: =SUM('Decembre 2015'!D19*0.9) -> 0
A20: Jeudi | B20: 0.3125 | C20: 0.80555556 | D20: =MOD('Decembre 2015'!C20-'Decembre 2015'!B20,1) -> 0.49305556 | E20: =SUM('Decembre 2015'!D20*0.9) -> 0.44375
A21: Vendredi | B21: 715 | C21: 0.79166667 | D21: =MOD('Decembre 2015'!C21-'Decembre 2015'!B21,1) -> 0.79166667 | E21: =SUM('Decembre 2015'!D21*0.9) -> 0.7125
A22: Samedi | D22: =MOD('Decembre 2015'!C22-'Decembre 2015'!B22,1) -> 0 | E22: =SUM('Decembre 2015'!D22*0.75) -> 0
A23: Dimanche | D23: =MOD('Decembre 2015'!C23-'Decembre 2015'!B23,1) -> 0 | E23: =SUM('Decembre 2015'!D23*0.75) -> 0
C24: TOTAL | D24: =SUM('Decembre 2015'!D17:D23) -> 2.0347222 | E24: =SUM('Decembre 2015'!D24-'Decembre 2015'!G24) -> 0.40972222 | F24: par rapport à | G24: 1.625
C25: 0.9 | D25: =SUM('Decembre 2015'!E17:E23) -> 1.83125 | E25: =SUM('Decembre 2015'!D25-'Decembre 2015'!G25) -> 0.20625 | F25: =SUM(E25*24) -> 4.95 | G25: 1.625
C26: Centième | D26: =SUM('Decembre 2015'!D25*24) -> 43.95
A27: TOTAL QUATORZAINE | C27: =SUM('Decembre 2015'!D11+'Decembre 2015'!D24) -> 4.6354167 | D27: sur 78H soit | E27: =SUM('Decembre 2015'!C27-'Decembre 2015'!G27) -> 1.3854167 | G27: 3.25
C28: =SUM('Decembre 2015'!D12+'Decembre 2015'!D25) -> 4.053125 | D28: =SUM(C28*24) -> 97.275 | E28: =SUM(C28-G27) -> 0.803125 | F28: =SUM(E28*24) -> 19.275
A30: Quatorzaine du Lundi 14/12/2015 au Dimanche 27/12/2015
B32: Début | C32: Fin | D32: Amplitude | E32: TTE
A33: Lundi | B33: 0.30208333 | C33: 0.8125 | D33: =MOD('Decembre 2015'!C33-'Decembre 2015'!B33,1) -> 0.51041667 | E33: =SUM('Decembre 2015'!D33*0.9) -> 0.459375
A34: Mardi | B34: 0.40625 | C34: 0.8125 | D34: =MOD('Decembre 2015'!C34-'Decembre 2015'!B34,1) -> 0.40625 | E34: =SUM('Decembre 2015'!D34*0.9) -> 0.365625
A35: Mercredi | B35: 0.35416667 | C35: 0.83333333 | D35: =MOD('Decembre 2015'!C35-'Decembre 2015'!B35,1) -> 0.47916667 | E35: =SUM('Decembre 2015'!D35*0.9) -> 0.43125
A36: Jeudi | B36: 0.35416667 | C36: 0.86458333 | D36: =MOD('Decembre 2015'!C36-'Decembre 2015'!B36,1) -> 0.51041667 | E36: =SUM('Decembre 2015'!D36*0.9) -> 0.459375
A37: Vendredi | B37: 0.46875 | C37: 0.79166667 | D37: =MOD('Decembre 2015'!C37-'Decembre 2015'!B37,1) -> 0.32291667 | E37: =SUM('Decembre 2015'!D37*0.9) -> 0.290625
A38: Samedi | D38: =MOD('Decembre 2015'!C38-'Decembre 2015'!B38,1) -> 0 | E38: =SUM('Decembre 2015'!D38*0.75) -> 0
A39: Dimanche | D39: =MOD('Decembre 2015'!C39-'Decembre 2015'!B39,1) -> 0 | E39: =SUM('Decembre 2015'!D39*0.75) -> 0
C40: TOTAL | D40: =SUM(D33:D39) -> 2.2291667 | E40: =SUM('Decembre 2015'!D40-'Decembre 2015'!G40) -> 0.60416667 | F40: par rapport à | G40: 1.625
C41: 0.9 | D41: =SUM(E33:E39) -> 2.00625 | E41: =SUM(D41-G41) -> 0.38125 | F41: =SUM(E41*24) -> 9.15 | G41: 1.625
C42: Centième | D42: =SUM(D41*24) -> 48.15
C43: =SUM(D40-G40) -> 0.60416667 | D43: A faire
B45: Début | C45: Fin | D45: Amplitude | E45: TTE
A46: Lundi | B46: 0.5625 | C46: 0.83333333 | D46: =MOD(C46-B46,1) -> 0.27083333 | E46: =SUM(D46*0.9) -> 0.24375
A47: Mardi | B47: 0.40625 | C47: 0.85763889 | D47: =MOD(C47-B47,1) -> 0.45138889 | E47: =SUM(D47*0.9) -> 0.40625
A48: Mercredi | B48: 0.35416667 | C48: 0.88194444 | D48: =MOD(C48-B48,1) -> 0.52777778 | E48: =SUM(D48*0.9) -> 0.475
A49: Jeudi | B49: 0.39583333 | C49: 0.71527778 | D49: =MOD(C49-B49,1) -> 0.31944444 | E49: =SUM(D49*0.9) -> 0.2875
A50: Vendredi | D50: =MOD(C50-B50,1) -> 0 | E50: =SUM(D50*0.9) -> 0
A51: Samedi | B51: 0.41666667 | C51: 0.875 | D51: =MOD(C51-B51,1) -> 0.45833333 | E51: =SUM(D51*0.9) -> 0.4125
A52: Dimanche | B52: 0.41666667 | C52: 0.83333333 | D52: =MOD(C52-B52,1) -> 0.41666667 | E52: =SUM(D52*0.9) -> 0.375
C53: TOTAL | D53: =SUM('Decembre 2015'!D46:D52) -> 2.4444444 | E53: =SUM('Decembre 2015'!D53-'Decembre 2015'!G53) -> 0.81944444 | F53: par rapport à | G53: 1.625
C54: 0.9 | D54: =SUM('Decembre 2015'!E46:E52) -> 2.2 | E54: =SUM('Decembre 2015'!D54-'Decembre 2015'!G54) -> 0.575 | F54: =SUM(E54*24) -> 13.8 | G54: 1.625
C55: Centième | D55: =SUM('Decembre 2015'!D54*24) -> 52.8
A56: TOTAL QUATORZAINE | C56: =SUM('Decembre 2015'!D40+'Decembre 2015'!D53) -> 4.6736111 | D56: sur 78H soit | E56: =SUM('Decembre 2015'!C56-'Decembre 2015'!G56) -> 1.4236111 | G56: 3.25
C57: =SUM('Decembre 2015'!D41+'Decembre 2015'!D54) -> 4.20625 | D57: =SUM(C57*24) -> 100.95 | E57: =SUM('Decembre 2015'!C57-'Decembre 2015'!G56) -> 0.95625 | F57: =SUM(E57*24) -> 22.95

Sheet Janvier 2016
A1: Quatorzaine du Lundi 28/12/2015 au Dimanche 10/01/2016
B3: Début | C3: Fin | D3: Amplitude | E3: TTE
A4: Lundi | D4: =MOD(C4-B4,1) -> 0 | E4: =SUM(D4*0.9) -> 0
A5: Mardi | D5: =MOD(C5-B5,1) -> 0 | E5: =SUM(D5*0.9) -> 0
A6: Mercredi | D6: =MOD(C6-B6,1) -> 0 | E6: =SUM(D6*0.9) -> 0
A7: Jeudi | D7: =MOD(C7-B7,1) -> 0 | E7: =SUM(D7*0.9) -> 0
A8: Vendredi | D8: =MOD(C8-B8,1) -> 0 | E8: =SUM(D8*0.75) -> 0
A9: Samedi | D9: =MOD(C9-B9,1) -> 0 | E9: =SUM(D9*0.9) -> 0
A10: Dimanche | D10: =MOD(C10-B10,1) -> 0 | E10: =SUM(D10*0.75) -> 0
C11: TOTAL | D11: =SUM(D4:D10) -> 0 | E11: =SUM(D11-G11) -> -1.625 | F11: par rapport à | G11: 1.625
C12: TTE | D12: =SUM(E4:E10) -> 0 | E12: =SUM(D12-G12) -> -1.625 | F12: =SUM(E12*24) -> -39 | G12: 1.625
C13: Centième | D13: =SUM(D12*24) -> 0
C14: =SUM(G12-D11) -> 1.625 | D14: A faire
B16: Début | C16: Fin | D16: Amplitude | E16: TTE
A17: Lundi | D17: =MOD(C17-B17,1) -> 0 | E17: =SUM(D17*0.9) -> 0
A18: Mardi | D18: =MOD(C18-B18,1) -> 0 | E18: =SUM(D18*0.9) -> 0
A19: Mercredi | D19: =MOD(C19-B19,1) -> 0 | E19: =SUM(D19*0.9) -> 0
A20: Jeudi | D20: =MOD(C20-B20,1) -> 0 | E20: =SUM(D20*0.9) -> 0
A21: Vendredi | D21: =MOD(C21-B21,1) -> 0 | E21: =SUM(D21*0.9) -> 0
A22: Samedi | D22: =MOD(C22-B22,1) -> 0 | E22: =SUM(D22*0.9) -> 0
A23: Dimanche | D23: =MOD(C23-B23,1) -> 0 | E23: =SUM(D23*0.9) -> 0
C24: TOTAL | D24: =SUM(D17:D23) -> 0 | E24: =SUM(D24-G24) -> -1.625 | F24: par rapport à | G24: 1.625
C25: TTE | D25: =SUM(E17:E23) -> 0 | E25: =SUM(D25-G25) -> -1.625 | F25: =SUM(E25*24) -> -39 | G25: 1.625
C26: Centième | D26: =SUM(D25*24) -> 0
A27: TOTAL QUATORZAINE | C27: =SUM(D11+D24) -> 0 | D27: sur 78H soit | E27: =SUM(C27-G27) -> -3.25 | F27: =SUM(E27*24) -> -78 | G27: 3.25
C28: =SUM(D12+D25) -> 0 | D28: =SUM(C28*24) -> 0 | E28: =SUM(C28-G27) -> -3.25 | F28: =SUM(E28*24) -> -78
A30: Quatorzaine du Lundi 11/01/2016 au Dimanche 24/01/2016
B32: Début | C32: Fin | D32: Amplitude | E32: TTE
A33: Lundi | D33: =MOD(C33-B33,1) -> 0 | E33: =SUM(D33*0.9) -> 0
A34: Mardi | D34: =MOD(C34-B34,1) -> 0 | E34: =SUM(D34*0.9) -> 0
A35: Mercredi | D35: =MOD(C35-B35,1) -> 0 | E35: =SUM(D35*0.9) -> 0
A36: Jeudi | D36: =MOD(C36-B36,1) -> 0 | E36: =SUM(D36*0.9) -> 0
A37: Vendredi | D37: =MOD(C37-B37,1) -> 0 | E37: =SUM(D37*0.75) -> 0
A38: Samedi | D38: =MOD(C38-B38,1) -> 0 | E38: =SUM(D38*0.9) -> 0
A39: Dimanche | D39: =MOD(C39-B39,1) -> 0 | E39: =SUM(D39*0.75) -> 0
C40: TOTAL | D40: =SUM(D33:D39) -> 0 | E40: =SUM(D40-G40) -> -1.625 | F40: par rapport à | G40: 1.625
C41: TTE | D41: =SUM(E33:E39) -> 0 | E41: =SUM(D41-G41) -> -1.625 | F41: =SUM(E41*24) -> -39 | G41: 1.625
C42: Centième | D42: =SUM(D41*24) -> 0
C43: =SUM(G41-D40) -> 1.625 | D43: A faire
B45: Début | C45: Fin | D45: Amplitude | E45: TTE
A46: Lundi | D46: =MOD(C46-B46,1) -> 0 | E46: =SUM(D46*0.9) -> 0
A47: Mardi | D47: =MOD(C47-B47,1) -> 0 | E47: =SUM(D47*0.9) -> 0
A48: Mercredi | D48: =MOD(C48-B48,1) -> 0 | E48: =SUM(D48*0.9) -> 0
A49: Jeudi | D49: =MOD(C49-B49,1) -> 0 | E49: =SUM(D49*0.9) -> 0
A50: Vendredi | D50: =MOD(C50-B50,1) -> 0 | E50: =SUM(D50*0.9) -> 0
A51: Samedi | D51: =MOD(C51-B51,1) -> 0 | E51: =SUM(D51*0.9) -> 0
A52: Dimanche | D52: =MOD(C52-B52,1) -> 0 | E52: =SUM(D52*0.9) -> 0
C53: TOTAL | D53: =SUM(D46:D52) -> 0 | E53: =SUM(D53-G53) -> -1.625 | F53: par rapport à | G53: 1.625
C54: TTE | D54: =SUM(E46:E52) -> 0 | E54: =SUM(D54-G54) -> -1.625 | F54: =SUM(E54*24) -> -39 | G54: 1.625
C55: Centième | D55: =SUM(D54*24) -> 0
A56: TOTAL QUATORZAINE | C56: =SUM(D40+D53) -> 0 | D56: sur 78H soit | E56: =SUM(C56-G56) -> -3.25 | F56: =SUM(E56*24) -> -78 | G56: 3.25
C57: =SUM(D41+D54) -> 0 | D57: =SUM(C57*24) -> 0 | E57: =SUM(C57-G56) -> -3.25 | F57: =SUM(E57*24) -> -78

Sheet Fevrier 2016
A1: Quatorzaine du Lundi 25/01/2016 au Dimanche 07/02/2016
B3: Début | C3: Fin | D3: Amplitude | E3: TTE
A4: Lundi | D4: =MOD(C4-B4,1) -> 0 | E4: =SUM(D4*0.9) -> 0
A5: Mardi | D5: =MOD(C5-B5,1) -> 0 | E5: =SUM(D5*0.9) -> 0
A6: Mercredi | D6: =MOD(C6-B6,1) -> 0 | E6: =SUM(D6*0.9) -> 0
A7: Jeudi | D7: =MOD(C7-B7,1) -> 0 | E7: =SUM(D7*0.9) -> 0
A8: Vendredi | D8: =MOD(C8-B8,1) -> 0 | E8: =SUM(D8*0.75) -> 0
A9: Samedi | D9: =MOD(C9-B9,1) -> 0 | E9: =SUM(D9*0.9) -> 0
A10: Dimanche | D10: =MOD(C10-B10,1) -> 0 | E10: =SUM(D10*0.75) -> 0
C11: TOTAL | D11: =SUM(D4:D10) -> 0 | E11: =SUM(D11-G11) -> -1.625 | F11: par rapport à | G11: 1.625
C12: TTE | D12: =SUM(E4:E10) -> 0 | E12: =SUM(D12-G12) -> -1.625 | F12: =SUM(E12*24) -> -39 | G12: 1.625
C13: Centième | D13: =SUM(D12*24) -> 0
C14: =SUM(G12-D11) -> 1.625 | D14: A faire
B16: Début | C16: Fin | D16: Amplitude | E16: TTE
A17: Lundi | D17: =MOD(C17-B17,1) -> 0 | E17: =SUM(D17*0.9) -> 0
A18: Mardi | D18: =MOD(C18-B18,1) -> 0 | E18: =SUM(D18*0.9) -> 0
A19: Mercredi | D19: =MOD(C19-B19,1) -> 0 | E19: =SUM(D19*0.9) -> 0
A20: Jeudi | D20: =MOD(C20-B20,1) -> 0 | E20: =SUM(D20*0.9) -> 0
A21: Vendredi | D21: =MOD(C21-B21,1) -> 0 | E21: =SUM(D21*0.9) -> 0
A22: Samedi | D22: =MOD(C22-B22,1) -> 0 | E22: =SUM(D22*0.75) -> 0
A23: Dimanche | D23: =MOD(C23-B23,1) -> 0 | E23: =SUM(D23*0.9) -> 0
C24: TOTAL | D24: =SUM(D17:D23) -> 0 | E24: =SUM(D24-G24) -> -1.625 | F24: par rapport à | G24: 1.625
C25: TTE | D25: =SUM(E17:E23) -> 0 | E25: =SUM(D25-G25) -> -1.625 | F25: =SUM(E25*24) -> -39 | G25: 1.625
C26: Centième | D26: =SUM(D25*24) -> 0
A27: TOTAL QUATORZAINE | C27: =SUM(D11+D24) -> 0 | D27: sur 78H soit | E27: =SUM(C27-G27) -> -3.25 | F27: =SUM(E27*24) -> -78 | G27: 3.25
C28: =SUM(D12+D25) -> 0 | D28: =SUM(C28*24) -> 0 | E28: =SUM(C28-G27) -> -3.25 | F28: =SUM(E28*24) -> -78
A30: Quatorzaine du Lundi 08/02/2016 au Dimanche 21/02/2016
B32: Début | C32: Fin | D32: Amplitude | E32: TTE
A33: Lundi | D33: =MOD(C33-B33,1) -> 0 | E33: =SUM(D33*0.9) -> 0
A34: Mardi | D34: =MOD(C34-B34,1) -> 0 | E34: =SUM(D34*0.9) -> 0
A35: Mercredi | D35: =MOD(C35-B35,1) -> 0 | E35: =SUM(D35*0.9) -> 0
A36: Jeudi | D36: =MOD(C36-B36,1) -> 0 | E36: =SUM(D36*0.9) -> 0
A37: Vendredi | D37: =MOD(C37-B37,1) -> 0 | E37: =SUM(D37*0.9) -> 0
A38: Vendredi s | D38: =MOD(C38-B38,1) -> 0 | E38: =SUM(D38*0.75) -> 0
A39: Dimanche | D39: =MOD(C39-B39,1) -> 0 | E39: =SUM(D39*0.75) -> 0
C40: TOTAL | D40: =SUM(D33:D39) -> 0 | E40: =SUM(D40-G40) -> -1.625 | F40: par rapport à | G40: 1.625
C41: TTE | D41: =SUM(E33:E39) -> 0 | E41: =SUM(D41-G41) -> -1.625 | F41: =SUM(E41*24) -> -39 | G41: 1.625
C42: Centième | D42: =SUM(D41*24) -> 0
C43: =SUM(G41-D40) -> 1.625 | D43: A faire
B45: Début | C45: Fin | D45: Amplitude | E45: TTE
A46: Lundi | D46: =MOD(C46-B46,1) -> 0 | E46: =SUM(D46*0.9) -> 0
A47: Mardi | D47: =MOD(C47-B47,1) -> 0 | E47: =SUM(D47*0.9) -> 0
A48: Mercredi | D48: =MOD(C48-B48,1) -> 0 | E48: =SUM(D48*0.9) -> 0
A49: Jeudi | D49: =MOD(C49-B49,1) -> 0 | E49: =SUM(D49*0.75) -> 0
A50: Vendredi | D50: =MOD(C50-B50,1) -> 0 | E50: =SUM(D50*0.9) -> 0
A51: Samedi | D51: =MOD(C51-B51,1) -> 0 | E51: =SUM(D51*0.9) -> 0
A52: Dimanche | D52: =MOD(C52-B52,1) -> 0 | E52: =SUM(D52*0.9) -> 0
C53: TOTAL | D53: =SUM(D46:D52) -> 0 | E53: =SUM(D53-G53) -> -1.625 | F53: par rapport à | G53: 1.625
C54: TTE | D54: =SUM(E46:E52) -> 0 | E54: =SUM(D54-G54) -> -1.625 | F54: =SUM(E54*24) -> -39 | G54: 1.625
C55: Centième | D55: =SUM(D54*24) -> 0
A56: TOTAL QUATORZAINE | C56: =SUM(D40+D53) -> 0 | D56: sur 78H soit | E56: =SUM(C56-G56) -> -3.25 | F56: =SUM(E56*24) -> -78 | G56: 3.25
C57: =SUM(D41+D54) -> 0 | D57: =SUM(C57*24) -> 0 | E57: =SUM(C57-G56) -> -3.25 | F57: =SUM(E57*24) -> -78

Sheet Mars 2016
A1: Quatorzaine du Lundi 22/02/2016 au Dimanche 06/03/2016
B3: Début | C3: Fin | D3: Amplitude | E3: TTE
A4: Lundi | E4: =SUM(D4*0.9) -> 0
A5: Mardi | E5: =SUM(D5*0.9) -> 0
A6: Mercredi | E6: =SUM(D6*0.9) -> 0
A7: Jeudi | E7: =SUM(D7*0.9) -> 0
A8: Vendredi | E8: =SUM(D8*0.75) -> 0
A9: Samedi | E9: =SUM(D9*0.75) -> 0
A10: Dimanche | E10: =SUM(D10*0.75) -> 0
C11: TOTAL | D11: =SUM(D4:D10) -> 0 | E11: =SUM(D11-G11) -> -1.625 | F11: par rapport à | G11: 1.625
C12: TTE | D12: =SUM(E4:E10) -> 0 | E12: =SUM(D12-G12) -> -1.625 | F12: =SUM(E12*24) -> -39 | G12: 1.625
C13: Centième | D13: =SUM(D12*24) -> 0
C14: =SUM(G12-D11) -> 1.625 | D14: A faire
B16: Début | C16: Fin | D16: Amplitude | E16: TTE
A17: Lundi | D17: =MOD(C17-B17,1) -> 0 | E17: =SUM(D17*0.9) -> 0
A18: Mardi | D18: =MOD(C18-B18,1) -> 0 | E18: =SUM(D18*0.9) -> 0
A19: Mercredi | D19: =MOD(C19-B19,1) -> 0 | E19: =SUM(D19*0.9) -> 0
A20: Jeudi | D20: =MOD(C20-B20,1) -> 0 | E20: =SUM(D20*0.9) -> 0
A21: Vendredi | D21: =MOD(C21-B21,1) -> 0 | E21: =SUM(D21*0.9) -> 0
A22: Samedi | D22: =MOD(C22-B22,1) -> 0 | E22: =SUM(D22*0.9) -> 0
A23: Dimanche | D23: =MOD(C23-B23,1) -> 0 | E23: =SUM(D23*0.9) -> 0
C24: TOTAL | D24: =SUM(D17:D23) -> 0 | E24: =SUM(D24-G24) -> -1.625 | F24: par rapport à | G24: 1.625
C25: TTE | D25: =SUM(E17:E23) -> 0 | E25: =SUM(D25-G25) -> -1.625 | F25: =SUM(E25*24) -> -39 | G25: 1.625
C26: Centième | D26: =SUM(D25*24) -> 0
A27: TOTAL QUATORZAINE | C27: =SUM(D11+D24) -> 0 | D27: sur 78H soit | E27: =SUM(C27-G27) -> -3.25 | F27: =SUM(E27*24) -> -78 | G27: 3.25
C28: =SUM(D12+D25) -> 0 | D28: =SUM(C28*24) -> 0 | E28: =SUM(C28-G27) -> -3.25 | F28: =SUM(E28*24) -> -78
A30: Quatorzaine du Lundi 07/03/2016 au Dimanche 20/03/2016
B32: Début | C32: Fin | D32: Amplitude | E32: TTE
A33: Lundi | D33: =MOD(C33-B33,1) -> 0 | E33: =SUM(D33*0.9) -> 0
A34: Mardi | D34: =MOD(C34-B34,1) -> 0 | E34: =SUM(D34*0.9) -> 0
A35: Mercredi | D35: =MOD(C35-B35,1) -> 0 | E35: =SUM(D35*0.9) -> 0
A36: Jeudi | D36: =MOD(C36-B36,1) -> 0 | E36: =SUM(D36*0.9) -> 0
A37: Vendredi | D37: =MOD(C37-B37,1) -> 0 | E37: =SUM(D37*0.75) -> 0
A38: Samedi | D38: =MOD(C38-B38,1) -> 0 | E38: =SUM(D38*0.75) -> 0
A39: Dimanche | D39: =MOD(C39-B39,1) -> 0 | E39: =SUM(D39*0.75) -> 0
C40: TOTAL | D40: =SUM(D33:D39) -> 0 | E40: =SUM(D40-G40) -> -1.625 | F40: par rapport à | G40: 1.625
C41: TTE | D41: =SUM(E33:E39) -> 0 | E41: =SUM(D41-G41) -> -1.625 | F41: =SUM(E41*24) -> -39 | G41: 1.625
C42: Centième | D42: =SUM(D41*24) -> 0
C43: =SUM(G41-D40) -> 1.625 | D43: A faire
B45: Début | C45: Fin | D45: Amplitude | E45: TTE
A46: Lundi | D46: =MOD(C46-B46,1) -> 0 | E46: =SUM(D46*0.9) -> 0
A47: Mardi | D47: =MOD(C47-B47,1) -> 0 | E47: =SUM(D47*0.9) -> 0
A48: Mercredi | D48: =MOD(C48-B48,1) -> 0 | E48: =SUM(D48*0.9) -> 0
A49: Jeudi | D49: =MOD(C49-B49,1) -> 0 | E49: =SUM(D49*0.75) -> 0
A50: Vendredi | D50: =MOD(C50-B50,1) -> 0 | E50: =SUM(D50*0.75) -> 0
A51: Samedi | D51: =MOD(C51-B51,1) -> 0 | E51: =SUM(D51*0.75) -> 0
A52: Dimanche | D52: =MOD(C52-B52,1) -> 0 | E52: =SUM(D52*0.75) -> 0
C53: TOTAL | D53: =SUM(D46:D52) -> 0 | E53: =SUM(D53-G53) -> -1.625 | F53: par rapport à | G53: 1.625
C54: TTE | D54: =SUM(E46:E52) -> 0 | E54: =SUM(D54-G54) -> -1.625 | F54: =SUM(E54*24) -> -39 | G54: 1.625
C55: Centième | D55: =SUM(D54*24) -> 0
A56: TOTAL QUATORZAINE | C56: =SUM(D40+D53) -> 0 | D56: sur 78H soit | E56: =SUM(C56-G56) -> -3.25 | F56: =SUM(E56*24) -> -78 | G56: 3.25
C57: =SUM(D41+D54) -> 0 | D57: =SUM(C57*24) -> 0 | E57: =SUM(C57-G56) -> -3.25 | F57: =SUM(E57*24) -> -78

Sheet Avril 2016
A1: Quatorzaine du Lundi 21/03/2016 au Dimanche 03/04/2016
B3: Début | C3: Fin | D3: Amplitude | E3: TTE
A4: Lundi | D4: =MOD(C4-B4,1) -> 0 | E4: =SUM(D4*0.9) -> 0
A5: Mardi | D5: =MOD(C5-B5,1) -> 0 | E5: =SUM(D5*0.9) -> 0
A6: Mercredi | D6: =MOD(C6-B6,1) -> 0 | E6: =SUM(D6*0.9) -> 0
A7: Jeudi | D7: =MOD(C7-B7,1) -> 0 | E7: =SUM(D7*0.9) -> 0
A8: Vendredi | D8: =MOD(C8-B8,1) -> 0 | E8: =SUM(D8*0.9) -> 0
A9: Samedi | D9: =MOD(C9-B9,1) -> 0 | E9: =SUM(D9*0.75) -> 0
A10: Dimanche | D10: =MOD(C10-B10,1) -> 0 | E10: =SUM(D10*0.75) -> 0
C11: TOTAL | D11: =SUM(D4:D10) -> 0 | E11: =SUM(D11-G11) -> -1.625 | F11: par rapport à | G11: 1.625
C12: TTE | D12: =SUM(E4:E10) -> 0 | E12: =SUM(D12-G12) -> -1.625 | F12: =SUM(E12*24) -> -39 | G12: 1.625
C13: Centième | D13: =SUM(D12*24) -> 0
C14: =SUM(G12-D11) -> 1.625 | D14: A faire
B16: Début | C16: Fin | D16: Amplitude | E16: TTE
A17: Lundi | D17: =MOD(C17-B17,1) -> 0 | E17: =SUM(D17*0.75) -> 0
A18: Mardi | D18: =MOD(C18-B18,1) -> 0 | E18: =SUM(D18*0.9) -> 0
A19: Mercredi | D19: =MOD(C19-B19,1) -> 0 | E19: =SUM(D19*0.9) -> 0
A20: Jeudi | D20: =MOD(C20-B20,1) -> 0 | E20: =SUM(D20*0.9) -> 0
A21: Vendredi | D21: =MOD(C21-B21,1) -> 0 | E21: =SUM(D21*0.9) -> 0
A22: Samedi | D22: =MOD(C22-B22,1) -> 0 | E22: =SUM(D22*0.75) -> 0
A23: Dimanche | D23: =MOD(C23-B23,1) -> 0 | E23: =SUM(D23*0.75) -> 0
C24: TOTAL | D24: =SUM(D17:D23) -> 0 | E24: =SUM(D24-G24) -> -1.625 | F24: par rapport à | G24: 1.625
C25: TTE | D25: =SUM(E17:E23) -> 0 | E25: =SUM(D25-G25) -> -1.625 | F25: =SUM(E25*24) -> -39 | G25: 1.625
C26: Centième | D26: =SUM(D25*24) -> 0
A27: TOTAL QUATORZAINE | C27: =SUM(D11+D24) -> 0 | D27: sur 78H soit | E27: =SUM(C27-G27) -> -3.25 | F27: =SUM(E27*24) -> -78 | G27: 3.25
C28: =SUM(D12+D25) -> 0 | D28: =SUM(C28*24) -> 0 | E28: =SUM(C28-G27) -> -3.25 | F28: =SUM(E28*24) -> -78
A30: Quatorzaine du Lundi 04/04/2016 au Dimanche 17/04/2016
B32: Début | C32: Fin | D32: Amplitude | E32: TTE
A33: Lundi | D33: =MOD(C33-B33,1) -> 0 | E33: =SUM(D33*0.9) -> 0
A34: Mardi | D34: =MOD(C34-B34,1) -> 0 | E34: =SUM(D34*0.9) -> 0
A35: Mercredi | D35: =MOD(C35-B35,1) -> 0 | E35: =SUM(D35*0.9) -> 0
A36: Jeudi | D36: =MOD(C36-B36,1) -> 0 | E36: =SUM(D36*0.9) -> 0
A37: Vendredi | D37: =MOD(C37-B37,1) -> 0 | E37: =SUM(D37*0.9) -> 0
A38: Samedi | D38: =MOD(C38-B38,1) -> 0 | E38: =SUM(D38*0.75) -> 0
A39: Dimanche | D39: =MOD(C39-B39,1) -> 0 | E39: =SUM(D39*0.75) -> 0
C40: TOTAL | D40: =SUM(D33:D39) -> 0 | E40: =SUM(D40-G40) -> -1.625 | F40: par rapport à | G40: 1.625
C41: TTE | D41: =SUM(E33:E39) -> 0 | E41: =SUM(D41-G41) -> -1.625 | F41: =SUM(E41*24) -> -39 | G41: 1.625
C42: Centième | D42: =SUM(D41*24) -> 0
C43: =SUM(G41-D40) -> 1.625 | D43: A faire
B45: Début | C45: Fin | D45: Amplitude | E45: TTE
A46: Lundi | D46: =MOD(C46-B46,1) -> 0 | E46: =SUM(D46*0.9) -> 0
A47: Mardi | D47: =MOD(C47-B47,1) -> 0 | E47: =SUM(D47*0.9) -> 0
A48: Mercredi | D48: =MOD(C48-B48,1) -> 0 | E48: =SUM(D48*0.9) -> 0
A49: Jeudi | D49: =MOD(C49-B49,1) -> 0 | E49: =SUM(D49*0.9) -> 0
A50: Vendredi | D50: =MOD(C50-B50,1) -> 0 | E50: =SUM(D50*0.9) -> 0
A51: Samedi | D51: =MOD(C51-B51,1) -> 0 | E51: =SUM(D51*0.75) -> 0
A52: Dimanche | D52: =MOD(C52-B52,1) -> 0 | E52: =SUM(D52*0.75) -> 0
C53: TOTAL | D53: =SUM(D46:D52) -> 0 | E53: =SUM(D53-G53) -> -1.625 | F53: par rapport à | G53: 1.625
C54: TTE | D54: =SUM(E46:E52) -> 0 | E54: =SUM(D54-G54) -> -1.625 | F54: =SUM(E54*24) -> -39 | G54: 1.625
C55: Centième | D55: =SUM(D54*24) -> 0
A56: TOTAL QUATORZAINE | C56: =SUM(D40+D53) -> 0 | D56: sur 78H soit | E56: =SUM(C56-G56) -> -3.25 | F56: =SUM(E56*24) -> -78 | G56: 3.25
C57: =SUM(D41+D54) -> 0 | D57: =SUM(C57*24) -> 0 | E57: =SUM(C57-G56) -> -3.25 | F57: =SUM(E57*24) -> -78
A59: Quatorzaine du Lundi 18/04/2016 au Dimanche 01/05/2016
B61: Début | C61: Fin | D61: Amplitude | E61: TTE
A62: Lundi | D62: =MOD(C62-B62,1) -> 0 | E62: =SUM(D62*0.9) -> 0
A63: Mardi | D63: =MOD(C63-B63,1) -> 0 | E63: =SUM(D63*0.9) -> 0
A64: Mercredi | D64: =MOD(C64-B64,1) -> 0 | E64: =SUM(D64*0.9) -> 0
A65: Jeudi | D65: =MOD(C65-B65,1) -> 0 | E65: =SUM(D65*0.9) -> 0
A66: Vendredi | D66: =MOD(C66-B66,1) -> 0 | E66: =SUM(D66*0.9) -> 0
A67: Samedi | D67: =MOD(C67-B67,1) -> 0 | E67: =SUM(D67*0.75) -> 0
A68: Dimanche | D68: =MOD(C68-B68,1) -> 0 | E68: =SUM(D68*0.75) -> 0
C69: TOTAL | D69: =SUM(D62:D68) -> 0 | E69: =SUM(D69-G69) -> -1.625 | F69: par rapport à | G69: 1.625
C70: TTE | D70: =SUM(E62:E68) -> 0 | E70: =SUM(D70-G70) -> -1.625 | F70: =SUM(E70*24) -> -39 | G70: 1.625
C71: Centième | D71: =SUM(D70*24) -> 0
C72: =SUM(G70-D69) -> 1.625 | D72: A faire
B74: Début | C74: Fin | D74: Amplitude | E74: TTE
A75: Lundi | D75: =MOD(C75-B75,1) -> 0 | E75: =SUM(D75*0.9) -> 0
A76: Mardi | D76: =MOD(C76-B76,1) -> 0 | E76: =SUM(D76*0.9) -> 0
A77: Mercredi | D77: =MOD(C77-B77,1) -> 0 | E77: =SUM(D77*0.9) -> 0
A78: Jeudi | D78: =MOD(C78-B78,1) -> 0 | E78: =SUM(D78*0.9) -> 0
A79: Vendredi | D79: =MOD(C79-B79,1) -> 0 | E79: =SUM(D79*0.9) -> 0
A80: Samedi | D80: =MOD(C80-B80,1) -> 0 | E80: =SUM(D80*0.75) -> 0
A81: Dimanche | D81: =MOD(C81-B81,1) -> 0 | E81: =SUM(D81*0.75) -> 0
C82: TOTAL | D82: =SUM(D75:D81) -> 0 | E82: =SUM(D82-G82) -> -1.625 | F82: par rapport à | G82: 1.625
C83: TTE | D83: =SUM(E75:E81) -> 0 | E83: =SUM(D83-G83) -> -1.625 | F83: =SUM(E83*24) -> -39 | G83: 1.625
C84: Centième | D84: =SUM(D83*24) -> 0
A85: TOTAL QUATORZAINE | C85: =SUM(D69+D82) -> 0 | D85: sur 78H soit | E85: =SUM(C85-G85) -> -3.25 | F85: =SUM(E85*24) -> -78 | G85: 3.25
C86: =SUM(D70+D83) -> 0 | D86: =SUM(C86*24) -> 0 | E86: =SUM(C86-G85) -> -3.25 | F86: =SUM(E86*24) -> -78

Sheet Mai 2016
A1: Quatorzaine du Lundi 21/03/2016 au Dimanche 03/04/2016
B3: Début | C3: Fin | D3: Amplitude | E3: TTE
A4: Lundi | D4: =MOD(C4-B4,1) -> 0 | E4: =SUM(D4*0.9) -> 0
A5: Mardi | D5: =MOD(C5-B5,1) -> 0 | E5: =SUM(D5*0.9) -> 0
A6: Mercredi | D6: =MOD(C6-B6,1) -> 0 | E6: =SUM(D6*0.9) -> 0
A7: Jeudi | D7: =MOD(C7-B7,1) -> 0 | E7: =SUM(D7*0.9) -> 0
A8: Vendredi | D8: =MOD(C8-B8,1) -> 0 | E8: =SUM(D8*0.9) -> 0
A9: Samedi | D9: =MOD(C9-B9,1) -> 0 | E9: =SUM(D9*0.75) -> 0
A10: Dimanche | D10: =MOD(C10-B10,1) -> 0 | E10: =SUM(D10*0.75) -> 0
C11: TOTAL | D11: =SUM(D4:D10) -> 0 | E11: =SUM(D11-G11) -> -1.625 | F11: par rapport à | G11: 1.625
C12: TTE | D12: =SUM(E4:E10) -> 0 | E12: =SUM(D12-G12) -> -1.625 | F12: =SUM(E12*24) -> -39 | G12: 1.625
C13: Centième | D13: =SUM(D12*24) -> 0
C14: =SUM(G12-D11) -> 1.625 | D14: A faire
B16: Début | C16: Fin | D16: Amplitude | E16: TTE
A17: Lundi | D17: =MOD(C17-B17,1) -> 0 | E17: =SUM(D17*0.9) -> 0
A18: Mardi | D18: =MOD(C18-B18,1) -> 0 | E18: =SUM(D18*0.9) -> 0
A19: Mercredi | D19: =MOD(C19-B19,1) -> 0 | E19: =SUM(D19*0.9) -> 0
A20: Jeudi | D20: =MOD(C20-B20,1) -> 0 | E20: =SUM(D20*0.9) -> 0
A21: Vendredi | D21: =MOD(C21-B21,1) -> 0 | E21: =SUM(D21*0.9) -> 0
A22: Samedi | D22: =MOD(C22-B22,1) -> 0 | E22: =SUM(D22*0.75) -> 0
A23: Dimanche | D23: =MOD(C23-B23,1) -> 0 | E23: =SUM(D23*0.75) -> 0
C24: TOTAL | D24: =SUM(D17:D23) -> 0 | E24: =SUM(D24-G24) -> -1.625 | F24: par rapport à | G24: 1.625
C25: TTE | D25: =SUM(E17:E23) -> 0 | E25: =SUM(D25-G25) -> -1.625 | F25: =SUM(E25*24) -> -39 | G25: 1.625
C26: Centième | D26: =SUM(D25*24) -> 0
A27: TOTAL QUATORZAINE | C27: =SUM(D11+D24) -> 0 | D27: sur 78H soit | E27: =SUM(C27-G27) -> -3.25 | F27: =SUM(E27*24) -> -78 | G27: 3.25
C28: =SUM(D12+D25) -> 0 | D28: =SUM(C28*24) -> 0 | E28: =SUM(C28-G27) -> -3.25 | F28: =SUM(E28*24) -> -78
A30: Quatorzaine du Lundi 21/03/2016 au Dimanche 03/04/2016
B32: Début | C32: Fin | D32: Amplitude | E32: TTE
A33: Lundi | D33: =MOD(C33-B33,1) -> 0 | E33: =SUM(D33*0.9) -> 0
A34: Mardi | D34: =MOD(C34-B34,1) -> 0 | E34: =SUM(D34*0.9) -> 0
A35: Mercredi | D35: =MOD(C35-B35,1) -> 0 | E35: =SUM(D35*0.9) -> 0
A36: Jeudi | D36: =MOD(C36-B36,1) -> 0 | E36: =SUM(D36*0.9) -> 0
A37: Vendredi | D37: =MOD(C37-B37,1) -> 0 | E37: =SUM(D37*0.9) -> 0
A38: Samedi | D38: =MOD(C38-B38,1) -> 0 | E38: =SUM(D38*0.75) -> 0
A39: Dimanche | D39: =MOD(C39-B39,1) -> 0 | E39: =SUM(D39*0.75) -> 0
C40: TOTAL | D40: =SUM(D33:D39) -> 0 | E40: =SUM(D40-G40) -> -1.625 | F40: par rapport à | G40: 1.625
C41: TTE | D41: =SUM(E33:E39) -> 0 | E41: =SUM(D41-G41) -> -1.625 | F41: =SUM(E41*24) -> -39 | G41: 1.625
C42: Centième | D42: =SUM(D41*24) -> 0
C43: =SUM(G41-D40) -> 1.625 | D43: A faire
B45: Début | C45: Fin | D45: Amplitude | E45: TTE
A46: Lundi | D46: =MOD(C46-B46,1) -> 0 | E46: =SUM(D46*0.9) -> 0
A47: Mardi | D47: =MOD(C47-B47,1) -> 0 | E47: =SUM(D47*0.9) -> 0
A48: Mercredi | D48: =MOD(C48-B48,1) -> 0 | E48: =SUM(D48*0.9) -> 0
A49: Jeudi | D49: =MOD(C49-B49,1) -> 0 | E49: =SUM(D49*0.9) -> 0
A50: Vendredi | D50: =MOD(C50-B50,1) -> 0 | E50: =SUM(D50*0.9) -> 0
A51: Samedi | D51: =MOD(C51-B51,1) -> 0 | E51: =SUM(D51*0.75) -> 0
A52: Dimanche | D52: =MOD(C52-B52,1) -> 0 | E52: =SUM(D52*0.75) -> 0
C53: TOTAL | D53: =SUM(D46:D52) -> 0 | E53: =SUM(D53-G53) -> -1.625 | F53: par rapport à | G53: 1.625
C54: TTE | D54: =SUM(E46:E52) -> 0 | E54: =SUM(D54-G54) -> -1.625 | F54: =SUM(E54*24) -> -39 | G54: 1.625
C55: Centième | D55: =SUM(D54*24) -> 0
A56: TOTAL QUATORZAINE | C56: =SUM(D40+D53) -> 0 | D56: sur 78H soit | E56: =SUM(C56-G56) -> -3.25 | F56: =SUM(E56*24) -> -78 | G56: 3.25
C57: =SUM(D41+D54) -> 0 | D57: =SUM(C57*24) -> 0 | E57: =SUM(C57-G56) -> -3.25 | F57: =SUM(E57*24) -> -78
A72: \**@³5436⁴6€-&€-€:€&&789

Sheet Juin 2016
A1: Quatorzaine du Lundi 21/03/2016 au Dimanche 03/04/2016
B3: Début | C3: Fin | D3: Amplitude | E3: TTE
A4: Lundi | D4: =MOD(C4-B4,1) -> 0 | E4: =SUM(D4*0.9) -> 0
A5: Mardi | D5: =MOD(C5-B5,1) -> 0 | E5: =SUM(D5*0.9) -> 0
A6: Mercredi | D6: =MOD(C6-B6,1) -> 0 | E6: =SUM(D6*0.9) -> 0
A7: Jeudi | D7: =MOD(C7-B7,1) -> 0 | E7: =SUM(D7*0.9) -> 0
A8: Vendredi | D8: =MOD(C8-B8,1) -> 0 | E8: =SUM(D8*0.9) -> 0
A9: Samedi | D9: =MOD(C9-B9,1) -> 0 | E9: =SUM(D9*0.75) -> 0
A10: Dimanche | D10: =MOD(C10-B10,1) -> 0 | E10: =SUM(D10*0.75) -> 0
C11: TOTAL | D11: =SUM(D4:D10) -> 0 | E11: =SUM(D11-G11) -> -1.625 | F11: par rapport à | G11: 1.625
C12: TTE | D12: =SUM(E4:E10) -> 0 | E12: =SUM(D12-G12) -> -1.625 | F12: =SUM(E12*24) -> -39 | G12: 1.625
C13: Centième | D13: =SUM(D12*24) -> 0
C14: =SUM(G12-D11) -> 1.625 | D14: A faire
B16: Début | C16: Fin | D16: Amplitude | E16: TTE
A17: Lundi | D17: =MOD(C17-B17,1) -> 0 | E17: =SUM(D17*0.9) -> 0
A18: Mardi | D18: =MOD(C18-B18,1) -> 0 | E18: =SUM(D18*0.9) -> 0
A19: Mercredi | D19: =MOD(C19-B19,1) -> 0 | E19: =SUM(D19*0.9) -> 0
A20: Jeudi | D20: =MOD(C20-B20,1) -> 0 | E20: =SUM(D20*0.9) -> 0
A21: Vendredi | D21: =MOD(C21-B21,1) -> 0 | E21: =SUM(D21*0.9) -> 0
A22: Samedi | D22: =MOD(C22-B22,1) -> 0 | E22: =SUM(D22*0.75) -> 0
A23: Dimanche | D23: =MOD(C23-B23,1) -> 0 | E23: =SUM(D23*0.75) -> 0
C24: TOTAL | D24: =SUM(D17:D23) -> 0 | E24: =SUM(D24-G24) -> -1.625 | F24: par rapport à | G24: 1.625
C25: TTE | D25: =SUM(E17:E23) -> 0 | E25: =SUM(D25-G25) -> -1.625 | F25: =SUM(E25*24) -> -39 | G25: 1.625
C26: Centième | D26: =SUM(D25*24) -> 0
A27: TOTAL QUATORZAINE | C27: =SUM(D11+D24) -> 0 | D27: sur 78H soit | E27: =SUM(C27-G27) -> -3.25 | F27: =SUM(E27*24) -> -78 | G27: 3.25
C28: =SUM(D12+D25) -> 0 | D28: =SUM(C28*24) -> 0 | E28: =SUM(C28-G27) -> -3.25 | F28: =SUM(E28*24) -> -78
A30: Quatorzaine du Lundi 21/03/2016 au Dimanche 03/04/2016
B32: Début | C32: Fin | D32: Amplitude | E32: TTE
A33: Lundi | D33: =MOD(C33-B33,1) -> 0 | E33: =SUM(D33*0.9) -> 0
A34: Mardi | D34: =MOD(C34-B34,1) -> 0 | E34: =SUM(D34*0.9) -> 0
A35: Mercredi | D35: =MOD(C35-B35,1) -> 0 | E35: =SUM(D35*0.9) -> 0
A36: Jeudi | D36: =MOD(C36-B36,1) -> 0 | E36: =SUM(D36*0.9) -> 0
A37: Vendredi | D37: =MOD(C37-B37,1) -> 0 | E37: =SUM(D37*0.9) -> 0
A38: Samedi | D38: =MOD(C38-B38,1) -> 0 | E38: =SUM(D38*0.75) -> 0
A39: Dimanche | D39: =MOD(C39-B39,1) -> 0 | E39: =SUM(D39*0.75) -> 0
C40: TOTAL | D40: =SUM(D33:D39) -> 0 | E40: =SUM(D40-G40) -> -1.625 | F40: par rapport à | G40: 1.625
C41: TTE | D41: =SUM(E33:E39) -> 0 | E41: =SUM(D41-G41) -> -1.625 | F41: =SUM(E41*24) -> -39 | G41: 1.625
C42: Centième | D42: =SUM(D41*24) -> 0
C43: =SUM(G41-D40) -> 1.625 | D43: A faire
B45: Début | C45: Fin | D45: Amplitude | E45: TTE
A46: Lundi | D46: =MOD(C46-B46,1) -> 0 | E46: =SUM(D46*0.9) -> 0
A47: Mardi | D47: =MOD(C47-B47,1) -> 0 | E47: =SUM(D47*0.9) -> 0
A48: Mercredi | D48: =MOD(C48-B48,1) -> 0 | E48: =SUM(D48*0.9) -> 0
A49: Jeudi | D49: =MOD(C49-B49,1) -> 0 | E49: =SUM(D49*0.9) -> 0
A50: Vendredi | D50: =MOD(C50-B50,1) -> 0 | E50: =SUM(D50*0.9) -> 0
A51: Samedi | D51: =MOD(C51-B51,1) -> 0 | E51: =SUM(D51*0.75) -> 0
A52: Dimanche | D52: =MOD(C52-B52,1) -> 0 | E52: =SUM(D52*0.75) -> 0
C53: TOTAL | D53: =SUM(D46:D52) -> 0 | E53: =SUM(D53-G53) -> -1.625 | F53: par rapport à | G53: 1.625
C54: TTE | D54: =SUM(E46:E52) -> 0 | E54: =SUM(D54-G54) -> -1.625 | F54: =SUM(E54*24) -> -39 | G54: 1.625
C55: Centième | D55: =SUM(D54*24) -> 0
A56: TOTAL QUATORZAINE | C56: =SUM(D40+D53) -> 0 | D56: sur 78H soit | E56: =SUM(C56-G56) -> -3.25 | F56: =SUM(E56*24) -> -78 | G56: 3.25
C57: =SUM(D41+D54) -> 0 | D57: =SUM(C57*24) -> 0 | E57: =SUM(C57-G56) -> -3.25 | F57: =SUM(E57*24) -> -78

Sheet Juillet 2016 
A1: Quatorzaine du Lundi 21/03/2016 au Dimanche 03/04/2016
B3: Début | C3: Fin | D3: Amplitude | E3: TTE
A4: Lundi | D4: =MOD(C4-B4,1) -> 0 | E4: =SUM(D4*0.9) -> 0
A5: Mardi | D5: =MOD(C5-B5,1) -> 0 | E5: =SUM(D5*0.9) -> 0
A6: Mercredi | D6: =MOD(C6-B6,1) -> 0 | E6: =SUM(D6*0.9) -> 0
A7: Jeudi | D7: =MOD(C7-B7,1) -> 0 | E7: =SUM(D7*0.9) -> 0
A8: Vendredi | D8: =MOD(C8-B8,1) -> 0 | E8: =SUM(D8*0.9) -> 0
A9: Samedi | D9: =MOD(C9-B9,1) -> 0 | E9: =SUM(D9*0.75) -> 0
A10: Dimanche | D10: =MOD(C10-B10,1) -> 0 | E10: =SUM(D10*0.75) -> 0
C11: TOTAL | D11: =SUM(D4:D10) -> 0 | E11: =SUM(D11-G11) -> -1.625 | F11: par rapport à | G11: 1.625
C12: TTE | D12: =SUM(E4:E10) -> 0 | E12: =SUM(D12-G12) -> -1.625 | F12: =SUM(E12*24) -> -39 | G12: 1.625
C13: Centième | D13: =SUM(D12*24) -> 0
C14: =SUM(G12-D11) -> 1.625 | D14: A faire
B16: Début | C16: Fin | D16: Amplitude | E16: TTE
A17: Lundi | D17: =MOD(C17-B17,1) -> 0 | E17: =SUM(D17*0.9) -> 0
A18: Mardi | D18: =MOD(C18-B18,1) -> 0 | E18: =SUM(D18*0.9) -> 0
A19: Mercredi | D19: =MOD(C19-B19,1) -> 0 | E19: =SUM(D19*0.9) -> 0
A20: Jeudi | D20: =MOD(C20-B20,1) -> 0 | E20: =SUM(D20*0.9) -> 0
A21: Vendredi | D21: =MOD(C21-B21,1) -> 0 | E21: =SUM(D21*0.9) -> 0
A22: Samedi | D22: =MOD(C22-B22,1) -> 0 | E22: =SUM(D22*0.75) -> 0
A23: Dimanche | D23: =MOD(C23-B23,1) -> 0 | E23: =SUM(D23*0.75) -> 0
C24: TOTAL | D24: =SUM(D17:D23) -> 0 | E24: =SUM(D24-G24) -> -1.625 | F24: par rapport à | G24: 1.625
C25: TTE | D25: =SUM(E17:E23) -> 0 | E25: =SUM(D25-G25) -> -1.625 | F25: =SUM(E25*24) -> -39 | G25: 1.625
C26: Centième | D26: =SUM(D25*24) -> 0
A27: TOTAL QUATORZAINE | C27: =SUM(D11+D24) -> 0 | D27: sur 78H soit | E27: =SUM(C27-G27) -> -3.25 | F27: =SUM(E27*24) -> -78 | G27: 3.25
C28: =SUM(D12+D25) -> 0 | D28: =SUM(C28*24) -> 0 | E28: =SUM(C28-G27) -> -3.25 | F28: =SUM(E28*24) -> -78
A30: Quatorzaine du Lundi 21/03/2016 au Dimanche 03/04/2016
B32: Début | C32: Fin | D32: Amplitude | E32: TTE
A33: Lundi | D33: =MOD(C33-B33,1) -> 0 | E33: =SUM(D33*0.9) -> 0
A34: Mardi | D34: =MOD(C34-B34,1) -> 0 | E34: =SUM(D34*0.9) -> 0
A35: Mercredi | D35: =MOD(C35-B35,1) -> 0 | E35: =SUM(D35*0.9) -> 0
A36: Jeudi | D36: =MOD(C36-B36,1) -> 0 | E36: =SUM(D36*0.9) -> 0
A37: Vendredi | D37: =MOD(C37-B37,1) -> 0 | E37: =SUM(D37*0.9) -> 0
A38: Samedi | D38: =MOD(C38-B38,1) -> 0 | E38: =SUM(D38*0.75) -> 0
A39: Dimanche | D39: =MOD(C39-B39,1) -> 0 | E39: =SUM(D39*0.75) -> 0
C40: TOTAL | D40: =SUM(D33:D39) -> 0 | E40: =SUM(D40-G40) -> -1.625 | F40: par rapport à | G40: 1.625
C41: TTE | D41: =SUM(E33:E39) -> 0 | E41: =SUM(D41-G41) -> -1.625 | F41: =SUM(E41*24) -> -39 | G41: 1.625
C42: Centième | D42: =SUM(D41*24) -> 0
C43: =SUM(G41-D40) -> 1.625 | D43: A faire
B45: Début | C45: Fin | D45: Amplitude | E45: TTE
A46: Lundi | D46: =MOD(C46-B46,1) -> 0 | E46: =SUM(D46*0.9) -> 0
A47: Mardi | D47: =MOD(C47-B47,1) -> 0 | E47: =SUM(D47*0.9) -> 0
A48: Mercredi | D48: =MOD(C48-B48,1) -> 0 | E48: =SUM(D48*0.9) -> 0
A49: Jeudi | D49: =MOD(C49-B49,1) -> 0 | E49: =SUM(D49*0.9) -> 0
A50: Vendredi | D50: =MOD(C50-B50,1) -> 0 | E50: =SUM(D50*0.9) -> 0
A51: Samedi | D51: =MOD(C51-B51,1) -> 0 | E51: =SUM(D51*0.75) -> 0
A52: Dimanche | D52: =MOD(C52-B52,1) -> 0 | E52: =SUM(D52*0.75) -> 0
C53: TOTAL | D53: =SUM(D46:D52) -> 0 | E53: =SUM(D53-G53) -> -1.625 | F53: par rapport à | G53: 1.625
C54: TTE | D54: =SUM(E46:E52) -> 0 | E54: =SUM(D54-G54) -> -1.625 | F54: =SUM(E54*24) -> -39 | G54: 1.625
C55: Centième | D55: =SUM(D54*24) -> 0
A56: TOTAL QUATORZAINE | C56: =SUM(D40+D53) -> 0 | D56: sur 78H soit | E56: =SUM(C56-G56) -> -3.25 | F56: =SUM(E56*24) -> -78 | G56: 3.25
C57: =SUM(D41+D54) -> 0 | D57: =SUM(C57*24) -> 0 | E57: =SUM(C57-G56) -> -3.25 | F57: =SUM(E57*24) -> -78

Sheet Août 2016
A1: Quatorzaine du Lundi 21/03/2016 au Dimanche 03/04/2016
B3: Début | C3: Fin | D3: Amplitude | E3: TTE
A4: Lundi | D4: =MOD(C4-B4,1) -> 0 | E4: =SUM(D4*0.9) -> 0
A5: Mardi | D5: =MOD(C5-B5,1) -> 0 | E5: =SUM(D5*0.9) -> 0
A6: Mercredi | D6: =MOD(C6-B6,1) -> 0 | E6: =SUM(D6*0.9) -> 0
A7: Jeudi | D7: =MOD(C7-B7,1) -> 0 | E7: =SUM(D7*0.9) -> 0
A8: Vendredi | D8: =MOD(C8-B8,1) -> 0 | E8: =SUM(D8*0.9) -> 0
A9: Samedi | D9: =MOD(C9-B9,1) -> 0 | E9: =SUM(D9*0.75) -> 0
A10: Dimanche | D10: =MOD(C10-B10,1) -> 0 | E10: =SUM(D10*0.75) -> 0
C11: TOTAL | D11: =SUM(D4:D10) -> 0 | E11: =SUM(D11-G11) -> -1.625 | F11: par rapport à | G11: 1.625
C12: TTE | D12: =SUM(E4:E10) -> 0 | E12: =SUM(D12-G12) -> -1.625 | F12: =SUM(E12*24) -> -39 | G12: 1.625
C13: Centième | D13: =SUM(D12*24) -> 0
C14: =SUM(G12-D11) -> 1.625 | D14: A faire
B16: Début | C16: Fin | D16: Amplitude | E16: TTE
A17: Lundi | D17: =MOD(C17-B17,1) -> 0 | E17: =SUM(D17*0.9) -> 0
A18: Mardi | D18: =MOD(C18-B18,1) -> 0 | E18: =SUM(D18*0.9) -> 0
A19: Mercredi | D19: =MOD(C19-B19,1) -> 0 | E19: =SUM(D19*0.9) -> 0
A20: Jeudi | D20: =MOD(C20-B20,1) -> 0 | E20: =SUM(D20*0.9) -> 0
A21: Vendredi | D21: =MOD(C21-B21,1) -> 0 | E21: =SUM(D21*0.9) -> 0
A22: Samedi | D22: =MOD(C22-B22,1) -> 0 | E22: =SUM(D22*0.75) -> 0
A23: Dimanche | D23: =MOD(C23-B23,1) -> 0 | E23: =SUM(D23*0.75) -> 0
C24: TOTAL | D24: =SUM(D17:D23) -> 0 | E24: =SUM(D24-G24) -> -1.625 | F24: par rapport à | G24: 1.625
C25: TTE | D25: =SUM(E17:E23) -> 0 | E25: =SUM(D25-G25) -> -1.625 | F25: =SUM(E25*24) -> -39 | G25: 1.625
C26: Centième | D26: =SUM(D25*24) -> 0
A27: TOTAL QUATORZAINE | C27: =SUM(D11+D24) -> 0 | D27: sur 78H soit | E27: =SUM(C27-G27) -> -3.25 | F27: =SUM(E27*24) -> -78 | G27: 3.25
C28: =SUM(D12+D25) -> 0 | D28: =SUM(C28*24) -> 0 | E28: =SUM(C28-G27) -> -3.25 | F28: =SUM(E28*24) -> -78
A30: Quatorzaine du Lundi 21/03/2016 au Dimanche 03/04/2016
B32: Début | C32: Fin | D32: Amplitude | E32: TTE
A33: Lundi | D33: =MOD(C33-B33,1) -> 0 | E33: =SUM(D33*0.9) -> 0
A34: Mardi | D34: =MOD(C34-B34,1) -> 0 | E34: =SUM(D34*0.9) -> 0
A35: Mercredi | D35: =MOD(C35-B35,1) -> 0 | E35: =SUM(D35*0.9) -> 0
A36: Jeudi | D36: =MOD(C36-B36,1) -> 0 | E36: =SUM(D36*0.9) -> 0
A37: Vendredi | D37: =MOD(C37-B37,1) -> 0 | E37: =SUM(D37*0.9) -> 0
A38: Samedi | D38: =MOD(C38-B38,1) -> 0 | E38: =SUM(D38*0.75) -> 0
A39: Dimanche | D39: =MOD(C39-B39,1) -> 0 | E39: =SUM(D39*0.75) -> 0
C40: TOTAL | D40: =SUM(D33:D39) -> 0 | E40: =SUM(D40-G40) -> -1.625 | F40: par rapport à | G40: 1.625
C41: TTE | D41: =SUM(E33:E39) -> 0 | E41: =SUM(D41-G41) -> -1.625 | F41: =SUM(E41*24) -> -39 | G41: 1.625
C42: Centième | D42: =SUM(D41*24) -> 0
C43: =SUM(G41-D40) -> 1.625 | D43: A faire
B45: Début | C45: Fin | D45: Amplitude | E45: TTE
A46: Lundi | D46: =MOD(C46-B46,1) -> 0 | E46: =SUM(D46*0.9) -> 0
A47: Mardi | D47: =MOD(C47-B47,1) -> 0 | E47: =SUM(D47*0.9) -> 0
A48: Mercredi | D48: =MOD(C48-B48,1) -> 0 | E48: =SUM(D48*0.9) -> 0
A49: Jeudi | D49: =MOD(C49-B49,1) -> 0 | E49: =SUM(D49*0.9) -> 0
A50: Vendredi | D50: =MOD(C50-B50,1) -> 0 | E50: =SUM(D50*0.9) -> 0
A51: Samedi | D51: =MOD(C51-B51,1) -> 0 | E51: =SUM(D51*0.75) -> 0
A52: Dimanche | D52: =MOD(C52-B52,1) -> 0 | E52: =SUM(D52*0.75) -> 0
C53: TOTAL | D53: =SUM(D46:D52) -> 0 | E53: =SUM(D53-G53) -> -1.625 | F53: par rapport à | G53: 1.625
C54: TTE | D54: =SUM(E46:E52) -> 0 | E54: =SUM(D54-G54) -> -1.625 | F54: =SUM(E54*24) -> -39 | G54: 1.625
C55: Centième | D55: =SUM(D54*24) -> 0
A56: TOTAL QUATORZAINE | C56: =SUM(D40+D53) -> 0 | D56: sur 78H soit | E56: =SUM(C56-G56) -> -3.25 | F56: =SUM(E56*24) -> -78 | G56: 3.25
C57: =SUM(D41+D54) -> 0 | D57: =SUM(C57*24) -> 0 | E57: =SUM(C57-G56) -> -3.25 | F57: =SUM(E57*24) -> -78

Sheet Septembre 2016 
A1: Quatorzaine du Lundi 21/03/2016 au Dimanche 03/04/2016
B3: Début | C3: Fin | D3: Amplitude | E3: TTE
A4: Lundi | D4: =MOD(C4-B4,1) -> 0 | E4: =SUM(D4*0.9) -> 0
A5: Mardi | D5: =MOD(C5-B5,1) -> 0 | E5: =SUM(D5*0.9) -> 0
A6: Mercredi | D6: =MOD(C6-B6,1) -> 0 | E6: =SUM(D6*0.9) -> 0
A7: Jeudi | D7: =MOD(C7-B7,1) -> 0 | E7: =SUM(D7*0.9) -> 0
A8: Vendredi | D8: =MOD(C8-B8,1) -> 0 | E8: =SUM(D8*0.9) -> 0
A9: Samedi | D9: =MOD(C9-B9,1) -> 0 | E9: =SUM(D9*0.75) -> 0
A10: Dimanche | D10: =MOD(C10-B10,1) -> 0 | E10: =SUM(D10*0.75) -> 0
C11: TOTAL | D11: =SUM(D4:D10) -> 0 | E11: =SUM(D11-G11) -> -1.625 | F11: par rapport à | G11: 1.625
C12: TTE | D12: =SUM(E4:E10) -> 0 | E12: =SUM(D12-G12) -> -1.625 | F12: =SUM(E12*24) -> -39 | G12: 1.625
C13: Centième | D13: =SUM(D12*24) -> 0
C14: =SUM(G12-D11) -> 1.625 | D14: A faire
B16: Début | C16: Fin | D16: Amplitude | E16: TTE
A17: Lundi | D17: =MOD(C17-B17,1) -> 0 | E17: =SUM(D17*0.9) -> 0
A18: Mardi | D18: =MOD(C18-B18,1) -> 0 | E18: =SUM(D18*0.9) -> 0
A19: Mercredi | D19: =MOD(C19-B19,1) -> 0 | E19: =SUM(D19*0.9) -> 0
A20: Jeudi | D20: =MOD(C20-B20,1) -> 0 | E20: =SUM(D20*0.9) -> 0
A21: Vendredi | D21: =MOD(C21-B21,1) -> 0 | E21: =SUM(D21*0.9) -> 0
A22: Samedi | D22: =MOD(C22-B22,1) -> 0 | E22: =SUM(D22*0.75) -> 0
A23: Dimanche | D23: =MOD(C23-B23,1) -> 0 | E23: =SUM(D23*0.75) -> 0
C24: TOTAL | D24: =SUM(D17:D23) -> 0 | E24: =SUM(D24-G24) -> -1.625 | F24: par rapport à | G24: 1.625
C25: TTE | D25: =SUM(E17:E23) -> 0 | E25: =SUM(D25-G25) -> -1.625 | F25: =SUM(E25*24) -> -39 | G25: 1.625
C26: Centième | D26: =SUM(D25*24) -> 0
A27: TOTAL QUATORZAINE | C27: =SUM(D11+D24) -> 0 | D27: sur 78H soit | E27: =SUM(C27-G27) -> -3.25 | F27: =SUM(E27*24) -> -78 | G27: 3.25
C28: =SUM(D12+D25) -> 0 | D28: =SUM(C28*24) -> 0 | E28: =SUM(C28-G27) -> -3.25 | F28: =SUM(E28*24) -> -78
A30: Quatorzaine du Lundi 21/03/2016 au Dimanche 03/04/2016
B32: Début | C32: Fin | D32: Amplitude | E32: TTE
A33: Lundi | D33: =MOD(C33-B33,1) -> 0 | E33: =SUM(D33*0.9) -> 0
A34: Mardi | D34: =MOD(C34-B34,1) -> 0 | E34: =SUM(D34*0.9) -> 0
A35: Mercredi | D35: =MOD(C35-B35,1) -> 0 | E35: =SUM(D35*0.9) -> 0
A36: Jeudi | D36: =MOD(C36-B36,1) -> 0 | E36: =SUM(D36*0.9) -> 0
A37: Vendredi | D37: =MOD(C37-B37,1) -> 0 | E37: =SUM(D37*0.9) -> 0
A38: Samedi | D38: =MOD(C38-B38,1) -> 0 | E38: =SUM(D38*0.75) -> 0
A39: Dimanche | D39: =MOD(C39-B39,1) -> 0 | E39: =SUM(D39*0.75) -> 0
C40: TOTAL | D40: =SUM(D33:D39) -> 0 | E40: =SUM(D40-G40) -> -1.625 | F40: par rapport à | G40: 1.625
C41: TTE | D41: =SUM(E33:E39) -> 0 | E41: =SUM(D41-G41) -> -1.625 | F41: =SUM(E41*24) -> -39 | G41: 1.625
C42: Centième | D42: =SUM(D41*24) -> 0
C43: =SUM(G41-D40) -> 1.625 | D43: A faire
B45: Début | C45: Fin | D45: Amplitude | E45: TTE
A46: Lundi | D46: =MOD(C46-B46,1) -> 0 | E46: =SUM(D46*0.9) -> 0
A47: Mardi | D47: =MOD(C47-B47,1) -> 0 | E47: =SUM(D47*0.9) -> 0
A48: Mercredi | D48: =MOD(C48-B48,1) -> 0 | E48: =SUM(D48*0.9) -> 0
A49: Jeudi | D49: =MOD(C49-B49,1) -> 0 | E49: =SUM(D49*0.9) -> 0
A50: Vendredi | D50: =MOD(C50-B50,1) -> 0 | E50: =SUM(D50*0.9) -> 0
A51: Samedi | D51: =MOD(C51-B51,1) -> 0 | E51: =SUM(D51*0.75) -> 0
A52: Dimanche | D52: =MOD(C52-B52,1) -> 0 | E52: =SUM(D52*0.75) -> 0
C53: TOTAL | D53: =SUM(D46:D52) -> 0 | E53: =SUM(D53-G53) -> -1.625 | F53: par rapport à | G53: 1.625
C54: TTE | D54: =SUM(E46:E52) -> 0 | E54: =SUM(D54-G54) -> -1.625 | F54: =SUM(E54*24) -> -39 | G54: 1.625
C55: Centième | D55: =SUM(D54*24) -> 0
A56: TOTAL QUATORZAINE | C56: =SUM(D40+D53) -> 0 | D56: sur 78H soit | E56: =SUM(C56-G56) -> -3.25 | F56: =SUM(E56*24) -> -78 | G56: 3.25
C57: =SUM(D41+D54) -> 0 | D57: =SUM(C57*24) -> 0 | E57: =SUM(C57-G56) -> -3.25 | F57: =SUM(E57*24) -> -78

Sheet Octobre 2016 
A1: Quatorzaine du Lundi 21/03/2016 au Dimanche 03/04/2016
B3: Début | C3: Fin | D3: Amplitude | E3: TTE
A4: Lundi | D4: =MOD(C4-B4,1) -> 0 | E4: =SUM(D4*0.9) -> 0
A5: Mardi | D5: =MOD(C5-B5,1) -> 0 | E5: =SUM(D5*0.9) -> 0
A6: Mercredi | D6: =MOD(C6-B6,1) -> 0 | E6: =SUM(D6*0.9) -> 0
A7: Jeudi | D7: =MOD(C7-B7,1) -> 0 | E7: =SUM(D7*0.9) -> 0
A8: Vendredi | D8: =MOD(C8-B8,1) -> 0 | E8: =SUM(D8*0.9) -> 0
A9: Samedi | D9: =MOD(C9-B9,1) -> 0 | E9: =SUM(D9*0.75) -> 0
A10: Dimanche | D10: =MOD(C10-B10,1) -> 0 | E10: =SUM(D10*0.75) -> 0
C11: TOTAL | D11: =SUM(D4:D10) -> 0 | E11: =SUM(D11-G11) -> -1.625 | F11: par rapport à | G11: 1.625
C12: TTE | D12: =SUM(E4:E10) -> 0 | E12: =SUM(D12-G12) -> -1.625 | F12: =SUM(E12*24) -> -39 | G12: 1.625
C13: Centième | D13: =SUM(D12*24) -> 0
C14: =SUM(G12-D11) -> 1.625 | D14: A faire
B16: Début | C16: Fin | D16: Amplitude | E16: TTE
A17: Lundi | D17: =MOD(C17-B17,1) -> 0 | E17: =SUM(D17*0.9) -> 0
A18: Mardi | D18: =MOD(C18-B18,1) -> 0 | E18: =SUM(D18*0.9) -> 0
A19: Mercredi | D19: =MOD(C19-B19,1) -> 0 | E19: =SUM(D19*0.9) -> 0
A20: Jeudi | D20: =MOD(C20-B20,1) -> 0 | E20: =SUM(D20*0.9) -> 0
A21: Vendredi | D21: =MOD(C21-B21,1) -> 0 | E21: =SUM(D21*0.9) -> 0
A22: Samedi | D22: =MOD(C22-B22,1) -> 0 | E22: =SUM(D22*0.75) -> 0
A23: Dimanche | D23: =MOD(C23-B23,1) -> 0 | E23: =SUM(D23*0.75) -> 0
C24: TOTAL | D24: =SUM(D17:D23) -> 0 | E24: =SUM(D24-G24) -> -1.625 | F24: par rapport à | G24: 1.625
C25: TTE | D25: =SUM(E17:E23) -> 0 | E25: =SUM(D25-G25) -> -1.625 | F25: =SUM(E25*24) -> -39 | G25: 1.625
C26: Centième | D26: =SUM(D25*24) -> 0
A27: TOTAL QUATORZAINE | C27: =SUM(D11+D24) -> 0 | D27: sur 78H soit | E27: =SUM(C27-G27) -> -3.25 | F27: =SUM(E27*24) -> -78 | G27: 3.25
C28: =SUM(D12+D25) -> 0 | D28: =SUM(C28*24) -> 0 | E28: =SUM(C28-G27) -> -3.25 | F28: =SUM(E28*24) -> -78
A30: Quatorzaine du Lundi 21/03/2016 au Dimanche 03/04/2016
B32: Début | C32: Fin | D32: Amplitude | E32: TTE
A33: Lundi | D33: =MOD(C33-B33,1) -> 0 | E33: =SUM(D33*0.9) -> 0
A34: Mardi | D34: =MOD(C34-B34,1) -> 0 | E34: =SUM(D34*0.9) -> 0
A35: Mercredi | D35: =MOD(C35-B35,1) -> 0 | E35: =SUM(D35*0.9) -> 0
A36: Jeudi | D36: =MOD(C36-B36,1) -> 0 | E36: =SUM(D36*0.9) -> 0
A37: Vendredi | D37: =MOD(C37-B37,1) -> 0 | E37: =SUM(D37*0.9) -> 0
A38: Samedi | D38: =MOD(C38-B38,1) -> 0 | E38: =SUM(D38*0.75) -> 0
A39: Dimanche | D39: =MOD(C39-B39,1) -> 0 | E39: =SUM(D39*0.75) -> 0
C40: TOTAL | D40: =SUM(D33:D39) -> 0 | E40: =SUM(D40-G40) -> -1.625 | F40: par rapport à | G40: 1.625
C41: TTE | D41: =SUM(E33:E39) -> 0 | E41: =SUM(D41-G41) -> -1.625 | F41: =SUM(E41*24) -> -39 | G41: 1.625
C42: Centième | D42: =SUM(D41*24) -> 0
C43: =SUM(G41-D40) -> 1.625 | D43: A faire
B45: Début | C45: Fin | D45: Amplitude | E45: TTE
A46: Lundi | D46: =MOD(C46-B46,1) -> 0 | E46: =SUM(D46*0.9) -> 0
A47: Mardi | D47: =MOD(C47-B47,1) -> 0 | E47: =SUM(D47*0.9) -> 0
A48: Mercredi | D48: =MOD(C48-B48,1) -> 0 | E48: =SUM(D48*0.9) -> 0
A49: Jeudi | D49: =MOD(C49-B49,1) -> 0 | E49: =SUM(D49*0.9) -> 0
A50: Vendredi | D50: =MOD(C50-B50,1) -> 0 | E50: =SUM(D50*0.9) -> 0
A51: Samedi | D51: =MOD(C51-B51,1) -> 0 | E51: =SUM(D51*0.75) -> 0
A52: Dimanche | D52: =MOD(C52-B52,1) -> 0 | E52: =SUM(D52*0.75) -> 0
C53: TOTAL | D53: =SUM(D46:D52) -> 0 | E53: =SUM(D53-G53) -> -1.625 | F53: par rapport à | G53: 1.625
C54: TTE | D54: =SUM(E46:E52) -> 0 | E54: =SUM(D54-G54) -> -1.625 | F54: =SUM(E54*24) -> -39 | G54: 1.625
C55: Centième | D55: =SUM(D54*24) -> 0
A56: TOTAL QUATORZAINE | C56: =SUM(D40+D53) -> 0 | D56: sur 78H soit | E56: =SUM(C56-G56) -> -3.25 | F56: =SUM(E56*24) -> -78 | G56: 3.25
C57: =SUM(D41+D54) -> 0 | D57: =SUM(C57*24) -> 0 | E57: =SUM(C57-G56) -> -3.25 | F57: =SUM(E57*24) -> -78

Sheet Novembre 2016
A1: Quatorzaine du Lundi 21/03/2016 au Dimanche 03/04/2016
B3: Début | C3: Fin | D3: Amplitude | E3: TTE
A4: Lundi | D4: =MOD(C4-B4,1) -> 0 | E4: =SUM(D4*0.9) -> 0
A5: Mardi | D5: =MOD(C5-B5,1) -> 0 | E5: =SUM(D5*0.9) -> 0
A6: Mercredi | D6: =MOD(C6-B6,1) -> 0 | E6: =SUM(D6*0.9) -> 0
A7: Jeudi | D7: =MOD(C7-B7,1) -> 0 | E7: =SUM(D7*0.9) -> 0
A8: Vendredi | D8: =MOD(C8-B8,1) -> 0 | E8: =SUM(D8*0.9) -> 0
A9: Samedi | D9: =MOD(C9-B9,1) -> 0 | E9: =SUM(D9*0.75) -> 0
A10: Dimanche | D10: =MOD(C10-B10,1) -> 0 | E10: =SUM(D10*0.75) -> 0
C11: TOTAL | D11: =SUM(D4:D10) -> 0 | E11: =SUM(D11-G11) -> -1.625 | F11: par rapport à | G11: 1.625
C12: TTE | D12: =SUM(E4:E10) -> 0 | E12: =SUM(D12-G12) -> -1.625 | F12: =SUM(E12*24) -> -39 | G12: 1.625
C13: Centième | D13: =SUM(D12*24) -> 0
C14: =SUM(G12-D11) -> 1.625 | D14: A faire
B16: Début | C16: Fin | D16: Amplitude | E16: TTE
A17: Lundi | D17: =MOD(C17-B17,1) -> 0 | E17: =SUM(D17*0.9) -> 0
A18: Mardi | D18: =MOD(C18-B18,1) -> 0 | E18: =SUM(D18*0.9) -> 0
A19: Mercredi | D19: =MOD(C19-B19,1) -> 0 | E19: =SUM(D19*0.9) -> 0
A20: Jeudi | D20: =MOD(C20-B20,1) -> 0 | E20: =SUM(D20*0.9) -> 0
A21: Vendredi | D21: =MOD(C21-B21,1) -> 0 | E21: =SUM(D21*0.9) -> 0
A22: Samedi | D22: =MOD(C22-B22,1) -> 0 | E22: =SUM(D22*0.75) -> 0
A23: Dimanche | D23: =MOD(C23-B23,1) -> 0 | E23: =SUM(D23*0.75) -> 0
C24: TOTAL | D24: =SUM(D17:D23) -> 0 | E24: =SUM(D24-G24) -> -1.625 | F24: par rapport à | G24: 1.625
C25: TTE | D25: =SUM(E17:E23) -> 0 | E25: =SUM(D25-G25) -> -1.625 | F25: =SUM(E25*24) -> -39 | G25: 1.625
C26: Centième | D26: =SUM(D25*24) -> 0
A27: TOTAL QUATORZAINE | C27: =SUM(D11+D24) -> 0 | D27: sur 78H soit | E27: =SUM(C27-G27) -> -3.25 | F27: =SUM(E27*24) -> -78 | G27: 3.25
C28: =SUM(D12+D25) -> 0 | D28: =SUM(C28*24) -> 0 | E28: =SUM(C28-G27) -> -3.25 | F28: =SUM(E28*24) -> -78
A30: Quatorzaine du Lundi 21/03/2016 au Dimanche 03/04/2016
B32: Début | C32: Fin | D32: Amplitude | E32: TTE
A33: Lundi | D33: =MOD(C33-B33,1) -> 0 | E33: =SUM(D33*0.9) -> 0
A34: Mardi | D34: =MOD(C34-B34,1) -> 0 | E34: =SUM(D34*0.9) -> 0
A35: Mercredi | D35: =MOD(C35-B35,1) -> 0 | E35: =SUM(D35*0.9) -> 0
A36: Jeudi | D36: =MOD(C36-B36,1) -> 0 | E36: =SUM(D36*0.9) -> 0
A37: Vendredi | D37: =MOD(C37-B37,1) -> 0 | E37: =SUM(D37*0.9) -> 0
A38: Samedi | D38: =MOD(C38-B38,1) -> 0 | E38: =SUM(D38*0.75) -> 0
A39: Dimanche | D39: =MOD(C39-B39,1) -> 0 | E39: =SUM(D39*0.75) -> 0
C40: TOTAL | D40: =SUM(D33:D39) -> 0 | E40: =SUM(D40-G40) -> -1.625 | F40: par rapport à | G40: 1.625
C41: TTE | D41: =SUM(E33:E39) -> 0 | E41: =SUM(D41-G41) -> -1.625 | F41: =SUM(E41*24) -> -39 | G41: 1.625
C42: Centième | D42: =SUM(D41*24) -> 0
C43: =SUM(G41-D40) -> 1.625 | D43: A faire
B45: Début | C45: Fin | D45: Amplitude | E45: TTE
A46: Lundi | D46: =MOD(C46-B46,1) -> 0 | E46: =SUM(D46*0.9) -> 0
A47: Mardi | D47: =MOD(C47-B47,1) -> 0 | E47: =SUM(D47*0.9) -> 0
A48: Mercredi | D48: =MOD(C48-B48,1) -> 0 | E48: =SUM(D48*0.9) -> 0
A49: Jeudi | D49: =MOD(C49-B49,1) -> 0 | E49: =SUM(D49*0.9) -> 0
A50: Vendredi | D50: =MOD(C50-B50,1) -> 0 | E50: =SUM(D50*0.9) -> 0
A51: Samedi | D51: =MOD(C51-B51,1) -> 0 | E51: =SUM(D51*0.75) -> 0
A52: Dimanche | D52: =MOD(C52-B52,1) -> 0 | E52: =SUM(D52*0.75) -> 0
C53: TOTAL | D53: =SUM(D46:D52) -> 0 | E53: =SUM(D53-G53) -> -1.625 | F53: par rapport à | G53: 1.625
C54: TTE | D54: =SUM(E46:E52) -> 0 | E54: =SUM(D54-G54) -> -1.625 | F54: =SUM(E54*24) -> -39 | G54: 1.625
C55: Centième | D55: =SUM(D54*24) -> 0
A56: TOTAL QUATORZAINE | C56: =SUM(D40+D53) -> 0 | D56: sur 78H soit | E56: =SUM(C56-G56) -> -3.25 | F56: =SUM(E56*24) -> -78 | G56: 3.25
C57: =SUM(D41+D54) -> 0 | D57: =SUM(C57*24) -> 0 | E57: =SUM(C57-G56) -> -3.25 | F57: =SUM(E57*24) -> -78

Sheet Décembre 2016
A1: Quatorzaine du Lundi 21/03/2016 au Dimanche 03/04/2016
B3: Début | C3: Fin | D3: Amplitude | E3: TTE
A4: Lundi | D4: =MOD(C4-B4,1) -> 0 | E4: =SUM(D4*0.9) -> 0
A5: Mardi | D5: =MOD(C5-B5,1) -> 0 | E5: =SUM(D5*0.9) -> 0
A6: Mercredi | D6: =MOD(C6-B6,1) -> 0 | E6: =SUM(D6*0.9) -> 0
A7: Jeudi | D7: =MOD(C7-B7,1) -> 0 | E7: =SUM(D7*0.9) -> 0
A8: Vendredi | D8: =MOD(C8-B8,1) -> 0 | E8: =SUM(D8*0.9) -> 0
A9: Samedi | D9: =MOD(C9-B9,1) -> 0 | E9: =SUM(D9*0.75) -> 0
A10: Dimanche | D10: =MOD(C10-B10,1) -> 0 | E10: =SUM(D10*0.75) -> 0
C11: TOTAL | D11: =SUM(D4:D10) -> 0 | E11: =SUM(D11-G11) -> -1.625 | F11: par rapport à | G11: 1.625
C12: TTE | D12: =SUM(E4:E10) -> 0 | E12: =SUM(D12-G12) -> -1.625 | F12: =SUM(E12*24) -> -39 | G12: 1.625
C13: Centième | D13: =SUM(D12*24) -> 0
C14: =SUM(G12-D11) -> 1.625 | D14: A faire
B16: Début | C16: Fin | D16: Amplitude | E16: TTE
A17: Lundi | D17: =MOD(C17-B17,1) -> 0 | E17: =SUM(D17*0.9) -> 0
A18: Mardi | D18: =MOD(C18-B18,1) -> 0 | E18: =SUM(D18*0.9) -> 0
A19: Mercredi | D19: =MOD(C19-B19,1) -> 0 | E19: =SUM(D19*0.9) -> 0
A20: Jeudi | D20: =MOD(C20-B20,1) -> 0 | E20: =SUM(D20*0.9) -> 0
A21: Vendredi | D21: =MOD(C21-B21,1) -> 0 | E21: =SUM(D21*0.9) -> 0
A22: Samedi | D22: =MOD(C22-B22,1) -> 0 | E22: =SUM(D22*0.75) -> 0
A23: Dimanche | D23: =MOD(C23-B23,1) -> 0 | E23: =SUM(D23*0.75) -> 0
C24: TOTAL | D24: =SUM(D17:D23) -> 0 | E24: =SUM(D24-G24) -> -1.625 | F24: par rapport à | G24: 1.625
C25: TTE | D25: =SUM(E17:E23) -> 0 | E25: =SUM(D25-G25) -> -1.625 | F25: =SUM(E25*24) -> -39 | G25: 1.625
C26: Centième | D26: =SUM(D25*24) -> 0
A27: TOTAL QUATORZAINE | C27: =SUM(D11+D24) -> 0 | D27: sur 78H soit | E27: =SUM(C27-G27) -> -3.25 | F27: =SUM(E27*24) -> -78 | G27: 3.25
C28: =SUM(D12+D25) -> 0 | D28: =SUM(C28*24) -> 0 | E28: =SUM(C28-G27) -> -3.25 | F28: =SUM(E28*24) -> -78
A30: Quatorzaine du Lundi 21/03/2016 au Dimanche 03/04/2016
B32: Début | C32: Fin | D32: Amplitude | E32: TTE
A33: Lundi | D33: =MOD(C33-B33,1) -> 0 | E33: =SUM(D33*0.9) -> 0
A34: Mardi | D34: =MOD(C34-B34,1) -> 0 | E34: =SUM(D34*0.9) -> 0
A35: Mercredi | D35: =MOD(C35-B35,1) -> 0 | E35: =SUM(D35*0.9) -> 0
A36: Jeudi | D36: =MOD(C36-B36,1) -> 0 | E36: =SUM(D36*0.9) -> 0
A37: Vendredi | D37: =MOD(C37-B37,1) -> 0 | E37: =SUM(D37*0.9) -> 0
A38: Samedi | D38: =MOD(C38-B38,1) -> 0 | E38: =SUM(D38*0.75) -> 0
A39: Dimanche | D39: =MOD(C39-B39,1) -> 0 | E39: =SUM(D39*0.75) -> 0
C40: TOTAL | D40: =SUM(D33:D39) -> 0 | E40: =SUM(D40-G40) -> -1.625 | F40: par rapport à | G40: 1.625
C41: TTE | D41: =SUM(E33:E39) -> 0 | E41: =SUM(D41-G41) -> -1.625 | F41: =SUM(E41*24) -> -39 | G41: 1.625
C42: Centième | D42: =SUM(D41*24) -> 0
C43: =SUM(G41-D40) -> 1.625 | D43: A faire
B45: Début | C45: Fin | D45: Amplitude | E45: TTE
A46: Lundi | D46: =MOD(C46-B46,1) -> 0 | E46: =SUM(D46*0.9) -> 0
A47: Mardi | D47: =MOD(C47-B47,1) -> 0 | E47: =SUM(D47*0.9) -> 0
A48: Mercredi | D48: =MOD(C48-B48,1) -> 0 | E48: =SUM(D48*0.9) -> 0
A49: Jeudi | D49: =MOD(C49-B49,1) -> 0 | E49: =SUM(D49*0.9) -> 0
A50: Vendredi | D50: =MOD(C50-B50,1) -> 0 | E50: =SUM(D50*0.9) -> 0
A51: Samedi | D51: =MOD(C51-B51,1) -> 0 | E51: =SUM(D51*0.75) -> 0
A52: Dimanche | D52: =MOD(C52-B52,1) -> 0 | E52: =SUM(D52*0.75) -> 0
C53: TOTAL | D53: =SUM(D46:D52) -> 0 | E53: =SUM(D53-G53) -> -1.625 | F53: par rapport à | G53: 1.625
C54: TTE | D54: =SUM(E46:E52) -> 0 | E54: =SUM(D54-G54) -> -1.625 | F54: =SUM(E54*24) -> -39 | G54: 1.625
C55: Centième | D55: =SUM(D54*24) -> 0
A56: TOTAL QUATORZAINE | C56: =SUM(D40+D53) -> 0 | D56: sur 78H soit | E56: =SUM(C56-G56) -> -3.25 | F56: =SUM(E56*24) -> -78 | G56: 3.25
C57: =SUM(D41+D54) -> 0 | D57: =SUM(C57*24) -> 0 | E57: =SUM(C57-G56) -> -3.25 | F57: =SUM(E57*24) -> -78

Sheet DONNEES
A1: TYPE | B1: COEFF | D1: TXHORAIRE
A2: NUIT | B2: 0.75 | F2: H.SUPP 25 % | G2: HSUPP 50 % | H2: IDAJ 75 | I2: IDAJ 100
A3: PERM | B3: 0.75 | D3: DEA | E3: 10.04 | F3: 12.55 | G3: 15.06 | H3: =SUM(E3*0.75)+E3 -> 17.57 | I3: =E3+E3 -> 20.08
A4: FERIE | B4: 0.75 | D4: AUX | E4: 9.86 | F4: =SUM(E4*0.25)+E4 -> 12.325 | G4: =SUM(E4*0.5)+E4 -> 14.79 | H4: =SUM(E4*0.75)+E4 -> 17.255 | I4: =E4+E4 -> 19.72
A5: NORM | B5: 0.9
A7: Quatorzaine du Lundi 21/03/2016 au Dimanche 03/04/2016
B9: Début | C9: Fin | D9: Amplitude | E9: TTE
A10: Lundi | D10: =MOD(C10-B10,1) -> 0 | E10: =SUM(D10*0.9) -> 0
A11: Mardi | D11: =MOD(C11-B11,1) -> 0 | E11: =SUM(D11*0.9) -> 0
A12: Mercredi | D12: =MOD(C12-B12,1) -> 0 | E12: =SUM(D12*0.9) -> 0
A13: Jeudi | D13: =MOD(C13-B13,1) -> 0 | E13: =SUM(D13*0.9) -> 0
A14: Vendredi | D14: =MOD(C14-B14,1) -> 0 | E14: =SUM(D14*0.9) -> 0
A15: Samedi | D15: =MOD(C15-B15,1) -> 0 | E15: =SUM(D15*0.75) -> 0
A16: Dimanche | D16: =MOD(C16-B16,1) -> 0 | E16: =SUM(D16*0.75) -> 0
C17: TOTAL | D17: =SUM(D10:D16) -> 0 | E17: =SUM(D17-G17) -> -1.625 | F17: par rapport à | G17: 1.625
C18: TTE | D18: =SUM(E10:E16) -> 0 | E18: =SUM(D18-G18) -> -1.625 | F18: =SUM(E18*24) -> -39 | G18: 1.625
C19: Centième | D19: =SUM(D18*24) -> 0
C20: =SUM(G18-D17) -> 1.625 | D20: A faire
B22: Début | C22: Fin | D22: Amplitude | E22: TTE
A23: Lundi | D23: =MOD(C23-B23,1) -> 0 | E23: =SUM(D23*0.9) -> 0
A24: Mardi | D24: =MOD(C24-B24,1) -> 0 | E24: =SUM(D24*0.9) -> 0
A25: Mercredi | D25: =MOD(C25-B25,1) -> 0 | E25: =SUM(D25*0.9) -> 0
A26: Jeudi | D26: =MOD(C26-B26,1) -> 0 | E26: =SUM(D26*0.9) -> 0
A27: Vendredi | D27: =MOD(C27-B27,1) -> 0 | E27: =SUM(D27*0.9) -> 0
A28: Samedi | D28: =MOD(C28-B28,1) -> 0 | E28: =SUM(D28*0.75) -> 0
A29: Dimanche | D29: =MOD(C29-B29,1) -> 0 | E29: =SUM(D29*0.75) -> 0
C30: TOTAL | D30: =SUM(D23:D29) -> 0 | E30: =SUM(D30-G30) -> -1.625 | F30: par rapport à | G30: 1.625
C31: TTE | D31: =SUM(E23:E29) -> 0 | E31: =SUM(D31-G31) -> -1.625 | F31: =SUM(E31*24) -> -39 | G31: 1.625
C32: Centième | D32: =SUM(D31*24) -> 0
A33: TOTAL QUATORZAINE | C33: =SUM(D17+D30) -> 0 | D33: sur 78H soit | E33: =SUM(C33-G33) -> -3.25 | F33: =SUM(E33*24) -> -78 | G33: 3.25
C34: =SUM(D18+D31) -> 0 | D34: =SUM(C34*24) -> 0 | E34: =SUM(C34-G33) -> -3.25 | F34: =SUM(E34*24) -> -78
