Workbook
Name Chauffage: Feuil2!$F$2:$F$7
Name Commercial: Feuil2!$B$2:$B$6

Sheet Feuil1
D2: TABLEAU DES VENTES 2017
O3: C.A H.T | P3: NB VENTES | Q3: Cagnotte
N4: MC | O4: =SUMIF(A12:A64,"MC",O12:O64) -> 283333.33 | P4: =COUNTIF(A:A,"MC") -> 3 | Q4: =SUMIF(A12:A65,"MC",R12:R65) -> 3000
N5: FV | O5: =SUMIF(A12:A65,"FV",O12:O65) -> 191666.67 | P5: =COUNTIF(A:A,"FV") -> 2 | Q5: =SUMIF(A12:A65,"FV",R12:R65) -> 3000
N6: SC | O6: =SUMIF(A12:A65,"SC",O12:O65) -> 0 | P6: =COUNTIF(A:A,"SC") -> 0 | Q6: =SUMIF(A12:A65,"SC",R12:R65) -> 0
N7: AB | O7: =SUMIF(A12:A65,"AB",O12:O65) -> 0 | P7: =COUNTIF(A:A,"AB") -> 0 | Q7: =SUMIF(A12:A65,"AB",R12:R65) -> 0
J8: =SUMPRODUCT((MONTH(M12:M64)=4)*(A12:A64="MC")) -> 2 | N8: FPS | O8: =SUMIF(A12:A65,"FPS",O12:O65) -> 110416.67 | P8: =COUNTIF(A:A,"FPS") -> 1 | Q8: =SUMIF(A12:A65,"FPS",R12:R65) -> 367
N9: TOTAL | O9: =SUM(O12:O64) -> 585416.67 | P9: =SUM(P4:P8) -> 6
A11: COMMERCIAL | B11: Nom Client | C11: Tel | D11: Mail | E11: Adresse | F11: Ville | G11: Adresse construction | H11: Ville | I11: Type | J11: Chauffage | K11: Nb Chambres | L11: Architecture | M11: Date CCMI | N11: PRIX D.O INCLUSE | O11: PRIX H.T | P11: CHIFFRAGE CYRILLE | Q11: PARRAINAGE/PRESTATIONS | R11: Cagnotte
A12: FV | M12: 42740 | N12: 120000 | O12: =N12/1.2 -> 100000 | P12: 117000 | Q12: 1000 | R12: =N12-P12-Q12 -> 2000
A13: MC | M13: 42748 | N13: 120000 | O13: =N13/1.2 -> 100000 | P13: 122500 | Q13: 0 | R13: =N13-P13-Q13 -> -2500
A14: MC | M14: 42838 | N14: 120000 | O14: =N14/1.2 -> 100000 | P14: 118000 | Q14: 500 | R14: =N14-P14-Q14 -> 1500
A15: FPS | M15: 42749 | N15: 132500 | O15: =N15/1.2 -> 110416.67 | P15: 132133 | R15: =N15-P15-Q15 -> 367
A16: FV | M16: 42839 | N16: 110000 | O16: =N16/1.2 -> 91666.667 | P16: 109000 | Q16: 0 | R16: =N16-P16-Q16 -> 1000
A17: MC | M17: 42840 | N17: 100000 | O17: =N17/1.2 -> 83333.333 | P17: 95000 | Q17: 1000 | R17: =N17-P17-Q17 -> 4000
O18: =N18/1.2 -> 0 | R18: =N18-P18-Q18 -> 0
O19: =N19/1.2 -> 0 | R19: =N19-P19-Q19 -> 0
O20: =N20/1.2 -> 0 | R20: =N20-P20-Q20 -> 0
O21: =N21/1.2 -> 0 | R21: =N21-P21-Q21 -> 0
O22: =N22/1.2 -> 0 | R22: =N22-P22-Q22 -> 0
O23: =N23/1.2 -> 0 | R23: =N23-P23-Q23 -> 0
O24: =N24/1.2 -> 0 | R24: =N24-P24-Q24 -> 0
O25: =N25/1.2 -> 0 | R25: =N25-P25-Q25 -> 0
O26: =N26/1.2 -> 0 | R26: =N26-P26-Q26 -> 0
O27: =N27/1.2 -> 0 | R27: =N27-P27-Q27 -> 0
O28: =N28/1.2 -> 0 | R28: =N28-P28-Q28 -> 0
O29: =N29/1.2 -> 0 | R29: =N29-P29-Q29 -> 0
... O64: =N64/1.2 -> 0 | R64: =N64-P64-Q64 -> 0

Sheet Feuil2
B2: AB | C2: PLAIN-PIED | D2: NORD-LOIRE | E2: ABBARETZ | F2: PAC DUO
B3: MC | C3: ETAGE COMBLES | D3: SUD-LOIRE | E3: AIGREFEUILLE SUR MAINE | F3: GAZ VILLE+PV
B4: FV | C4: ETAGE PLEIN | D4: TOIT PLAT | E4: ANCENIS | F4: GAZ VILLE+THERMO
B5: SC | E5: ANETZ | F5: GAZ PROPANE+PV | I5: JANVIER | J5: FÉVRIER | K5: MARS | L5: AVRIL | M5: MAI | N5: JUIN | O5: JUILLET | P5: AOÛT | Q5: SEPTEMBRE | R5: OCTOBRE | S5: NOVEMBRE | T5: DÉCEMBRE
B6: FPS | E6: ARTHON EN RETZ | F6: GAZ PROPANE+THERMO | H6: FV | I6: =SUMPRODUCT((MONTH(Feuil1!M12:M64=1)*(Feuil1!A12:A64="FV"))) -> 2
E7: ASSERAC | F7: POELE | H7: SC | I7: =SUMPRODUCT((MONTH(Feuil1!$M:$M=1)*(YEAR(Feuil1!$M:$M=2017)*(Feuil1!$A:$A="SC")))) -> 0
E8: AVESSAC | H8: MC | I8: =SUMPRODUCT((MONTH(Feuil1!M11:M64=1)*(Feuil1!A12:A64=B3))) -> #N/A
E9: BARBECHA | H9: AB | I9: =SUMPRODUCT((MONTH(Feuil1!$M:$M=1)*(Feuil1!$A:$A="AB"))) -> 0
E10: BASSE GOULAINE | H10: FPS | I10: =SUMPRODUCT((MONTH(Feuil1!$M:$M=1)*(Feuil1!$A:$A="FPS"))) -> 1
E11: BATZ SUR MER
E12: BELLIGNE
E13: BESNE
E14: BLAIN
E15: BONNOEUVRE
E16: BOUAYE
E17: BOUEE
E18: BOUGUENAIS
E19: BOURNEUF EN RETZ
E20: BOUSSAY
E21: BOUVRON
E22: BRAINS
... E219: VUE

Sheet Feuil3
