Workbook

Sheet 21 au 27 août 2017
A1: Du | B1: =E4 -> 41506 | H1: au | I1: =AC4 -> 41512 | AD1: 1.625
A3: MIDI | E3: LUNDI | G3: REPAS | H3: TOTAL 1 | I3: MARDI | K3: REPAS | L3: TOTAL 2 | M3: MERCREDI | O3: REPAS | P3: TOTAL 3 | Q3: JEUDI | S3: REPAS | T3: TOTAL 4 | U3: VENDREDI | W3: REPAS | X3: TOTAL 5 | Y3: SAMEDI | AA3: REPAS | AB3: TOTAL 6 | AC3: DIMANCHE | AE3: REPAS | AF3: TOTAL 7 | AG3: TOTAL SEMAINE | AH3: HEURES +/- | AI3: Nombre repas semaine | AJ3: CUMUL HEURES +/-
A4: Prénom | B4: Nom | C4: Fonction | D4: Horaire contrat | E4: 41506 | I4: =E4+1 -> 41507 | M4: =I4+1 -> 41508 | Q4: =M4+1 -> 41509 | U4: =Q4+1 -> 41510 | Y4: =U4+1 -> 41511 | AC4: =Y4+1 -> 41512
C5: Responsable | E5: R | F5: R | G5: 0 | H5: =IF(E5=F5,"0",F5-E5-G5) -> 0 | I5: R | J5: R | K5: 0 | L5: =IF(I5=J5,"0",J5-I5-K5) -> 0 | M5: R | N5: R | O5: 0 | P5: =IF(M5=N5,"0",N5-M5-O5) -> 0 | Q5: R | R5: R | S5: 0 | T5: =IF(Q5=R5,"0",R5-Q5-S5) -> 0 | U5: R | V5: R | W5: 0 | X5: =IF(U5=V5,"0",V5-U5-W5) -> 0 | Y5: R | Z5: R | AA5: 0 | AB5: =IF(Y5=Z5,"0",Z5-Y5-AA5) -> 0 | AC5: R | AD5: R | AE5: 0 | AF5: =IF(AC5=AD5,"0",AD5-AC5-AE5) -> 0 | AG5: =SUM(X5+T5+P5+L5+H5+AB5+AF5+H32+L32+P32+T32+X32+AB32+AF32) -> 0 | AH5: =IF(AG5=0,"",AG5-$AD$1) | AI5: =SUM(AE5+AA5+W5+S5+O5+K5+G5+AE32+AA32+W32+S32+O32+K32+G32)*2 -> 0 | AJ5: =AH5
C6: Responsable | E6: R | F6: R | G6: 0 | H6: =IF(E6=F6,"0",F6-E6-G6) -> 0 | I6: R | J6: R | K6: 0 | L6: =IF(I6=J6,"0",J6-I6-K6) -> 0 | M6: R | N6: R | O6: 0 | P6: =IF(M6=N6,"0",N6-M6-O6) -> 0 | Q6: R | R6: R | S6: 0 | T6: =IF(Q6=R6,"0",R6-Q6-S6) -> 0 | U6: R | V6: R | W6: 0 | X6: =IF(U6=V6,"0",V6-U6-W6) -> 0 | Y6: R | Z6: R | AA6: 0 | AB6: =IF(Y6=Z6,"0",Z6-Y6-AA6) -> 0 | AC6: R | AD6: R | AE6: 0 | AF6: =IF(AC6=AD6,"0",AD6-AC6-AE6) -> 0 | AG6: =SUM(X6+T6+P6+L6+H6+AB6+AF6+H33+L33+P33+T33+X33+AB33+AF33) -> 0 | AH6: =IF(AG6=0,"",AG6-$AD$1) | AI6: =SUM(AE6+AA6+W6+S6+O6+K6+G6+AE33+AA33+W33+S33+O33+K33+G33)*2 -> 0 | AJ6: =AH6
C7: Serveur | E7: R | F7: R | G7: 0 | H7: =IF(E7=F7,"0",F7-E7-G7) -> 0 | I7: R | J7: R | K7: 0 | L7: =IF(I7=J7,"0",J7-I7-K7) -> 0 | M7: R | N7: R | O7: 0 | P7: =IF(M7=N7,"0",N7-M7-O7) -> 0 | Q7: R | R7: R | S7: 0 | T7: =IF(Q7=R7,"0",R7-Q7-S7) -> 0 | U7: R | V7: R | W7: 0 | X7: =IF(U7=V7,"0",V7-U7-W7) -> 0 | Y7: R | Z7: R | AA7: 0 | AB7: =IF(Y7=Z7,"0",Z7-Y7-AA7) -> 0 | AC7: R | AD7: R | AE7: 0 | AF7: =IF(AC7=AD7,"0",AD7-AC7-AE7) -> 0 | AG7: =SUM(X7+T7+P7+L7+H7+AB7+AF7+H34+L34+P34+T34+X34+AB34+AF34) -> 0 | AH7: =IF(AG7=0,"",AG7-$AD$1) | AI7: =SUM(AE7+AA7+W7+S7+O7+K7+G7+AE34+AA34+W34+S34+O34+K34+G34)*2 -> 0 | AJ7: =AH7
C8: Serveur | E8: R | F8: R | G8: 0 | H8: =IF(E8=F8,"0",F8-E8-G8) -> 0 | I8: R | J8: R | K8: 0 | L8: =IF(I8=J8,"0",J8-I8-K8) -> 0 | M8: R | N8: R | O8: 0 | P8: =IF(M8=N8,"0",N8-M8-O8) -> 0 | Q8: R | R8: R | S8: 0 | T8: =IF(Q8=R8,"0",R8-Q8-S8) -> 0 | U8: R | V8: R | W8: 0 | X8: =IF(U8=V8,"0",V8-U8-W8) -> 0 | Y8: R | Z8: R | AA8: 0 | AB8: =IF(Y8=Z8,"0",Z8-Y8-AA8) -> 0 | AC8: R | AD8: R | AE8: 0 | AF8: =IF(AC8=AD8,"0",AD8-AC8-AE8) -> 0 | AG8: =SUM(X8+T8+P8+L8+H8+AB8+AF8+H35+L35+P35+T35+X35+AB35+AF35) -> 0 | AH8: =IF(AG8=0,"",AG8-$AD$1) | AI8: =SUM(AE8+AA8+W8+S8+O8+K8+G8+AE35+AA35+W35+S35+O35+K35+G35)*2 -> 0 | AJ8: =AH8
C9: Serveur | E9: R | F9: R | G9: 0 | H9: =IF(E9=F9,"0",F9-E9-G9) -> 0 | I9: R | J9: R | K9: 0 | L9: =IF(I9=J9,"0",J9-I9-K9) -> 0 | M9: R | N9: R | O9: 0 | P9: =IF(M9=N9,"0",N9-M9-O9) -> 0 | Q9: R | R9: R | S9: 0 | T9: =IF(Q9=R9,"0",R9-Q9-S9) -> 0 | U9: R | V9: R | W9: 0 | X9: =IF(U9=V9,"0",V9-U9-W9) -> 0 | Y9: R | Z9: R | AA9: 0 | AB9: =IF(Y9=Z9,"0",Z9-Y9-AA9) -> 0 | AC9: R | AD9: R | AE9: 0 | AF9: =IF(AC9=AD9,"0",AD9-AC9-AE9) -> 0 | AG9: =SUM(X9+T9+P9+L9+H9+AB9+AF9+H36+L36+P36+T36+X36+AB36+AF36) -> 0 | AH9: =IF(AG9=0,"",AG9-$AD$1) | AI9: =SUM(AE9+AA9+W9+S9+O9+K9+G9+AE36+AA36+W36+S36+O36+K36+G36)*2 -> 0 | AJ9: =AH9
C10: Serveur | E10: R | F10: R | G10: 0 | H10: =IF(E10=F10,"0",F10-E10-G10) -> 0 | I10: R | J10: R | K10: 0 | L10: =IF(I10=J10,"0",J10-I10-K10) -> 0 | M10: R | N10: R | O10: 0 | P10: =IF(M10=N10,"0",N10-M10-O10) -> 0 | Q10: R | R10: R | S10: 0 | T10: =IF(Q10=R10,"0",R10-Q10-S10) -> 0 | U10: R | V10: R | W10: 0 | X10: =IF(U10=V10,"0",V10-U10-W10) -> 0 | Y10: R | Z10: R | AA10: 0 | AB10: =IF(Y10=Z10,"0",Z10-Y10-AA10) -> 0 | AC10: R | AD10: R | AE10: 0 | AF10: =IF(AC10=AD10,"0",AD10-AC10-AE10) -> 0 | AG10: =SUM(X10+T10+P10+L10+H10+AB10+AF10+H37+L37+P37+T37+X37+AB37+AF37) -> 0 | AH10: =IF(AG10=0,"",AG10-$AD$1) | AI10: =SUM(AE10+AA10+W10+S10+O10+K10+G10+AE37+AA37+W37+S37+O37+K37+G37)*2 -> 0 | AJ10: =AH10
C11: Serveur | E11: R | F11: R | G11: 0 | H11: =IF(E11=F11,"0",F11-E11-G11) -> 0 | I11: R | J11: R | K11: 0 | L11: =IF(I11=J11,"0",J11-I11-K11) -> 0 | M11: R | N11: R | O11: 0 | P11: =IF(M11=N11,"0",N11-M11-O11) -> 0 | Q11: R | R11: R | S11: 0 | T11: =IF(Q11=R11,"0",R11-Q11-S11) -> 0 | U11: R | V11: R | W11: 0 | X11: =IF(U11=V11,"0",V11-U11-W11) -> 0 | Y11: R | Z11: R | AA11: 0 | AB11: =IF(Y11=Z11,"0",Z11-Y11-AA11) -> 0 | AC11: R | AD11: R | AE11: 0 | AF11: =IF(AC11=AD11,"0",AD11-AC11-AE11) -> 0 | AG11: =SUM(X11+T11+P11+L11+H11+AB11+AF11+H38+L38+P38+T38+X38+AB38+AF38) -> 0 | AH11: =IF(AG11=0,"",AG11-$AD$1) | AI11: =SUM(AE11+AA11+W11+S11+O11+K11+G11+AE38+AA38+W38+S38+O38+K38+G38)*2 -> 0 | AJ11: =AH11
C12: Serveur | E12: R | F12: R | G12: 0 | H12: =IF(E12=F12,"0",F12-E12-G12) -> 0 | I12: R | J12: R | K12: 0 | L12: =IF(I12=J12,"0",J12-I12-K12) -> 0 | M12: R | N12: R | O12: 0 | P12: =IF(M12=N12,"0",N12-M12-O12) -> 0 | Q12: R | R12: R | S12: 0 | T12: =IF(Q12=R12,"0",R12-Q12-S12) -> 0 | U12: R | V12: R | W12: 0 | X12: =IF(U12=V12,"0",V12-U12-W12) -> 0 | Y12: R | Z12: R | AA12: 0 | AB12: =IF(Y12=Z12,"0",Z12-Y12-AA12) -> 0 | AC12: R | AD12: R | AE12: 0 | AF12: =IF(AC12=AD12,"0",AD12-AC12-AE12) -> 0 | AG12: =SUM(X12+T12+P12+L12+H12+AB12+AF12+H39+L39+P39+T39+X39+AB39+AF39) -> 0 | AH12: =IF(AG12=0,"",AG12-$AD$1) | AI12: =SUM(AE12+AA12+W12+S12+O12+K12+G12+AE39+AA39+W39+S39+O39+K39+G39)*2 -> 0 | AJ12: =AH12
C13: Serveur | E13: R | F13: R | G13: 0 | H13: =IF(E13=F13,"0",F13-E13-G13) -> 0 | I13: R | J13: R | K13: 0 | L13: =IF(I13=J13,"0",J13-I13-K13) -> 0 | M13: R | N13: R | O13: 0 | P13: =IF(M13=N13,"0",N13-M13-O13) -> 0 | Q13: R | R13: R | S13: 0 | T13: =IF(Q13=R13,"0",R13-Q13-S13) -> 0 | U13: R | V13: R | W13: 0 | X13: =IF(U13=V13,"0",V13-U13-W13) -> 0 | Y13: R | Z13: R | AA13: 0 | AB13: =IF(Y13=Z13,"0",Z13-Y13-AA13) -> 0 | AC13: R | AD13: R | AE13: 0 | AF13: =IF(AC13=AD13,"0",AD13-AC13-AE13) -> 0 | AG13: =SUM(X13+T13+P13+L13+H13+AB13+AF13+H40+L40+P40+T40+X40+AB40+AF40) -> 0 | AH13: =IF(AG13=0,"",AG13-$AD$1) | AI13: =SUM(AE13+AA13+W13+S13+O13+K13+G13+AE40+AA40+W40+S40+O40+K40+G40)*2 -> 0 | AJ13: =AH13
C14: Serveur | E14: R | F14: R | G14: 0 | H14: =IF(E14=F14,"0",F14-E14-G14) -> 0 | I14: R | J14: R | K14: 0 | L14: =IF(I14=J14,"0",J14-I14-K14) -> 0 | M14: R | N14: R | O14: 0 | P14: =IF(M14=N14,"0",N14-M14-O14) -> 0 | Q14: R | R14: R | S14: 0 | T14: =IF(Q14=R14,"0",R14-Q14-S14) -> 0 | U14: R | V14: R | W14: 0 | X14: =IF(U14=V14,"0",V14-U14-W14) -> 0 | Y14: R | Z14: R | AA14: 0 | AB14: =IF(Y14=Z14,"0",Z14-Y14-AA14) -> 0 | AC14: R | AD14: R | AE14: 0 | AF14: =IF(AC14=AD14,"0",AD14-AC14-AE14) -> 0 | AG14: =SUM(X14+T14+P14+L14+H14+AB14+AF14+H41+L41+P41+T41+X41+AB41+AF41) -> 0 | AH14: =IF(AG14=0,"",AG14-$AD$1) | AI14: =SUM(AE14+AA14+W14+S14+O14+K14+G14+AE41+AA41+W41+S41+O41+K41+G41)*2 -> 0 | AJ14: =AH14
C15: Serveur | E15: R | F15: R | G15: 0 | H15: =IF(E15=F15,"0",F15-E15-G15) -> 0 | I15: R | J15: R | K15: 0 | L15: =IF(I15=J15,"0",J15-I15-K15) -> 0 | M15: R | N15: R | O15: 0 | P15: =IF(M15=N15,"0",N15-M15-O15) -> 0 | Q15: R | R15: R | S15: 0 | T15: =IF(Q15=R15,"0",R15-Q15-S15) -> 0 | U15: R | V15: R | W15: 0 | X15: =IF(U15=V15,"0",V15-U15-W15) -> 0 | Y15: R | Z15: R | AA15: 0 | AB15: =IF(Y15=Z15,"0",Z15-Y15-AA15) -> 0 | AC15: R | AD15: R | AE15: 0 | AF15: =IF(AC15=AD15,"0",AD15-AC15-AE15) -> 0 | AG15: =SUM(X15+T15+P15+L15+H15+AB15+AF15+H42+L42+P42+T42+X42+AB42+AF42) -> 0 | AH15: =IF(AG15=0,"",AG15-$AD$1) | AI15: =SUM(AE15+AA15+W15+S15+O15+K15+G15+AE42+AA42+W42+S42+O42+K42+G42)*2 -> 0 | AJ15: =AH15
C16: Serveur | E16: R | F16: R | G16: 0 | H16: =IF(E16=F16,"0",F16-E16-G16) -> 0 | I16: R | J16: R | K16: 0 | L16: =IF(I16=J16,"0",J16-I16-K16) -> 0 | M16: R | N16: R | O16: 0 | P16: =IF(M16=N16,"0",N16-M16-O16) -> 0 | Q16: R | R16: R | S16: 0 | T16: =IF(Q16=R16,"0",R16-Q16-S16) -> 0 | U16: R | V16: R | W16: 0 | X16: =IF(U16=V16,"0",V16-U16-W16) -> 0 | Y16: R | Z16: R | AA16: 0 | AB16: =IF(Y16=Z16,"0",Z16-Y16-AA16) -> 0 | AC16: R | AD16: R | AE16: 0 | AF16: =IF(AC16=AD16,"0",AD16-AC16-AE16) -> 0 | AG16: =SUM(X16+T16+P16+L16+H16+AB16+AF16+H43+L43+P43+T43+X43+AB43+AF43) -> 0 | AH16: =IF(AG16=0,"",AG16-$AD$1) | AI16: =SUM(AE16+AA16+W16+S16+O16+K16+G16+AE43+AA43+W43+S43+O43+K43+G43)*2 -> 0 | AJ16: =AH16
... C28: Serveur | E28: R | F28: R | G28: 0 | H28: =IF(E28=F28,"0",F28-E28-G28) -> 0 | I28: R | J28: R | K28: 0 | L28: =IF(I28=J28,"0",J28-I28-K28) -> 0 | M28: R | N28: R | O28: 0 | P28: =IF(M28=N28,"0",N28-M28-O28) -> 0 | Q28: R | R28: R | S28: 0 | T28: =IF(Q28=R28,"0",R28-Q28-S28) -> 0 | U28: R | V28: R | W28: 0 | X28: =IF(U28=V28,"0",V28-U28-W28) -> 0 | Y28: R | Z28: R | AA28: 0 | AB28: =IF(Y28=Z28,"0",Z28-Y28-AA28) -> 0 | AC28: R | AD28: R | AE28: 0 | AF28: =IF(AC28=AD28,"0",AD28-AC28-AE28) -> 0 | AG28: =SUM(X28+T28+P28+L28+H28+AB28+AF28+H55+L55+P55+T55+X55+AB55+AF55) -> 0 | AH28: =IF(AG28=0,"",AG28-$AD$1) | AI28: =SUM(AE28+AA28+W28+S28+O28+K28+G28+AE55+AA55+W55+S55+O55+K55+G55)*2 -> 0 | AJ28: =AH28
G29: . | H29: =COUNTIF(H5:H28,">0") -> 0 | K29: . | L29: =COUNTIF(L5:L28,">0") -> 0 | O29: . | P29: =COUNTIF(P5:P28,">0") -> 0 | S29: . | T29: =COUNTIF(T5:T28,">0") -> 0 | W29: , | X29: =COUNTIF(X5:X28,">0") -> 0 | AA29: . | AB29: =COUNTIF(AB5:AB28,">0") -> 0 | AE29: . | AF29: =COUNTIF(AF5:AF28,">0") -> 0
A30: SOIR | E30: =E3 -> LUNDI | G30: REPAS | H30: TOTAL 1 | I30: =I3 -> MARDI | K30: REPAS | L30: TOTAL 2 | M30: =M3 -> MERCREDI | O30: REPAS | P30: TOTAL 3 | Q30: =Q3 -> JEUDI | S30: REPAS | T30: TOTAL 4 | U30: =U3 -> VENDREDI | W30: REPAS | X30: TOTAL 5 | Y30: =Y3 -> SAMEDI | AA30: REPAS | AB30: TOTAL 6 | AC30: =AC3 -> DIMANCHE | AE30: REPAS | AF30: TOTAL 7
A31: Prénom | B31: Nom | C31: Fonction | D31: Horaire contrat | E31: =E4 -> 41506 | I31: =I4 -> 41507 | M31: =I31+1 -> 41508 | Q31: =M31+1 -> 41509 | U31: =Q31+1 -> 41510 | Y31: =U31+1 -> 41511 | AC31: =Y31+1 -> 41512
A32: =A5 -> 0 | B32: =B5 -> 0 | C32: =C5 -> Responsable | D32: =D5 -> 0 | E32: R | F32: R | G32: 0 | H32: =IF(E32=F32,"0",F32-E32-G32) -> 0 | I32: R | J32: R | K32: 0 | L32: =IF(I32=J32,"0",J32-I32-K32) -> 0 | M32: R | N32: R | O32: 0 | P32: =IF(M32=N32,"0",N32-M32-O32) -> 0 | Q32: R | R32: R | S32: 0 | T32: =IF(Q32=R32,"0",R32-Q32-S32) -> 0 | U32: R | V32: R | W32: 0 | X32: =IF(U32=V32,"0",V32-U32-W32) -> 0 | Y32: R | Z32: R | AA32: 0 | AB32: =IF(Y32=Z32,"0",Z32-Y32-AA32) -> 0 | AC32: R | AD32: R | AE32: 0 | AF32: =IF(AC32=AD32,"0",AD32-AC32-AE32) -> 0
A33: =A6 -> 0 | B33: =B6 -> 0 | C33: =C6 -> Responsable | D33: =D6 -> 0 | E33: R | F33: R | G33: 0 | H33: =IF(E33=F33,"0",F33-E33-G33) -> 0 | I33: R | J33: R | K33: 0 | L33: =IF(I33=J33,"0",J33-I33-K33) -> 0 | M33: R | N33: R | O33: 0 | P33: =IF(M33=N33,"0",N33-M33-O33) -> 0 | Q33: R | R33: R | S33: 0 | T33: =IF(Q33=R33,"0",R33-Q33-S33) -> 0 | U33: R | V33: R | W33: 0 | X33: =IF(U33=V33,"0",V33-U33-W33) -> 0 | Y33: R | Z33: R | AA33: 0 | AB33: =IF(Y33=Z33,"0",Z33-Y33-AA33) -> 0 | AC33: R | AD33: R | AE33: 0 | AF33: =IF(AC33=AD33,"0",AD33-AC33-AE33) -> 0
A34: =A7 -> 0 | B34: =B7 -> 0 | C34: =C7 -> Serveur | D34: =D7 -> 0 | E34: R | F34: R | G34: 0 | H34: =IF(E34=F34,"0",F34-E34-G34) -> 0 | I34: R | J34: R | K34: 0 | L34: =IF(I34=J34,"0",J34-I34-K34) -> 0 | M34: R | N34: R | O34: 0 | P34: =IF(M34=N34,"0",N34-M34-O34) -> 0 | Q34: R | R34: R | S34: 0 | T34: =IF(Q34=R34,"0",R34-Q34-S34) -> 0 | U34: R | V34: R | W34: 0 | X34: =IF(U34=V34,"0",V34-U34-W34) -> 0 | Y34: R | Z34: R | AA34: 0 | AB34: =IF(Y34=Z34,"0",Z34-Y34-AA34) -> 0 | AC34: R | AD34: R | AE34: 0 | AF34: =IF(AC34=AD34,"0",AD34-AC34-AE34) -> 0
A35: =A8 -> 0 | B35: =B8 -> 0 | C35: =C8 -> Serveur | D35: =D8 -> 0 | E35: R | F35: R | G35: 0 | H35: =IF(E35=F35,"0",F35-E35-G35) -> 0 | I35: R | J35: R | K35: 0 | L35: =IF(I35=J35,"0",J35-I35-K35) -> 0 | M35: R | N35: R | O35: 0 | P35: =IF(M35=N35,"0",N35-M35-O35) -> 0 | Q35: R | R35: R | S35: 0 | T35: =IF(Q35=R35,"0",R35-Q35-S35) -> 0 | U35: R | V35: R | W35: 0 | X35: =IF(U35=V35,"0",V35-U35-W35) -> 0 | Y35: R | Z35: R | AA35: 0 | AB35: =IF(Y35=Z35,"0",Z35-Y35-AA35) -> 0 | AC35: R | AD35: R | AE35: 0 | AF35: =IF(AC35=AD35,"0",AD35-AC35-AE35) -> 0
A36: =A9 -> 0 | B36: =B9 -> 0 | C36: =C9 -> Serveur | D36: =D9 -> 0 | E36: R | F36: R | G36: 0 | H36: =IF(E36=F36,"0",F36-E36-G36) -> 0 | I36: R | J36: R | K36: 0 | L36: =IF(I36=J36,"0",J36-I36-K36) -> 0 | M36: R | N36: R | O36: 0 | P36: =IF(M36=N36,"0",N36-M36-O36) -> 0 | Q36: R | R36: R | S36: 0 | T36: =IF(Q36=R36,"0",R36-Q36-S36) -> 0 | U36: R | V36: R | W36: 0 | X36: =IF(U36=V36,"0",V36-U36-W36) -> 0 | Y36: R | Z36: R | AA36: 0 | AB36: =IF(Y36=Z36,"0",Z36-Y36-AA36) -> 0 | AC36: R | AD36: R | AE36: 0 | AF36: =IF(AC36=AD36,"0",AD36-AC36-AE36) -> 0
A37: =A10 -> 0 | B37: =B10 -> 0 | C37: =C10 -> Serveur | D37: =D10 -> 0 | E37: R | F37: R | G37: 0 | H37: =IF(E37=F37,"0",F37-E37-G37) -> 0 | I37: R | J37: R | K37: 0 | L37: =IF(I37=J37,"0",J37-I37-K37) -> 0 | M37: R | N37: R | O37: 0 | P37: =IF(M37=N37,"0",N37-M37-O37) -> 0 | Q37: R | R37: R | S37: 0 | T37: =IF(Q37=R37,"0",R37-Q37-S37) -> 0 | U37: R | V37: R | W37: 0 | X37: =IF(U37=V37,"0",V37-U37-W37) -> 0 | Y37: R | Z37: R | AA37: 0 | AB37: =IF(Y37=Z37,"0",Z37-Y37-AA37) -> 0 | AC37: R | AD37: R | AE37: 0 | AF37: =IF(AC37=AD37,"0",AD37-AC37-AE37) -> 0
A38: =A11 -> 0 | B38: =B11 -> 0 | C38: =C11 -> Serveur | D38: =D11 -> 0 | E38: R | F38: R | G38: 0 | H38: =IF(E38=F38,"0",F38-E38-G38) -> 0 | I38: R | J38: R | K38: 0 | L38: =IF(I38=J38,"0",J38-I38-K38) -> 0 | M38: R | N38: R | O38: 0 | P38: =IF(M38=N38,"0",N38-M38-O38) -> 0 | Q38: R | R38: R | S38: 0 | T38: =IF(Q38=R38,"0",R38-Q38-S38) -> 0 | U38: R | V38: R | W38: 0 | X38: =IF(U38=V38,"0",V38-U38-W38) -> 0 | Y38: R | Z38: R | AA38: 0 | AB38: =IF(Y38=Z38,"0",Z38-Y38-AA38) -> 0 | AC38: R | AD38: R | AE38: 0 | AF38: =IF(AC38=AD38,"0",AD38-AC38-AE38) -> 0
A39: =A12 -> 0 | B39: =B12 -> 0 | C39: =C12 -> Serveur | D39: =D12 -> 0 | E39: R | F39: R | G39: 0 | H39: =IF(E39=F39,"0",F39-E39-G39) -> 0 | I39: R | J39: R | K39: 0 | L39: =IF(I39=J39,"0",J39-I39-K39) -> 0 | M39: R | N39: R | O39: 0 | P39: =IF(M39=N39,"0",N39-M39-O39) -> 0 | Q39: R | R39: R | S39: 0 | T39: =IF(Q39=R39,"0",R39-Q39-S39) -> 0 | U39: R | V39: R | W39: 0 | X39: =IF(U39=V39,"0",V39-U39-W39) -> 0 | Y39: R | Z39: R | AA39: 0 | AB39: =IF(Y39=Z39,"0",Z39-Y39-AA39) -> 0 | AC39: R | AD39: R | AE39: 0 | AF39: =IF(AC39=AD39,"0",AD39-AC39-AE39) -> 0
A40: =A13 -> 0 | B40: =B13 -> 0 | C40: =C13 -> Serveur | D40: =D13 -> 0 | E40: R | F40: R | G40: 0 | H40: =IF(E40=F40,"0",F40-E40-G40) -> 0 | I40: R | J40: R | K40: 0 | L40: =IF(I40=J40,"0",J40-I40-K40) -> 0 | M40: R | N40: R | O40: 0 | P40: =IF(M40=N40,"0",N40-M40-O40) -> 0 | Q40: R | R40: R | S40: 0 | T40: =IF(Q40=R40,"0",R40-Q40-S40) -> 0 | U40: R | V40: R | W40: 0 | X40: =IF(U40=V40,"0",V40-U40-W40) -> 0 | Y40: R | Z40: R | AA40: 0 | AB40: =IF(Y40=Z40,"0",Z40-Y40-AA40) -> 0 | AC40: R | AD40: R | AE40: 0 | AF40: =IF(AC40=AD40,"0",AD40-AC40-AE40) -> 0
A41: =A14 -> 0 | B41: =B14 -> 0 | C41: =C14 -> Serveur | D41: =D14 -> 0 | E41: R | F41: R | G41: 0 | H41: =IF(E41=F41,"0",F41-E41-G41) -> 0 | I41: R | J41: R | K41: 0 | L41: =IF(I41=J41,"0",J41-I41-K41) -> 0 | M41: R | N41: R | O41: 0 | P41: =IF(M41=N41,"0",N41-M41-O41) -> 0 | Q41: R | R41: R | S41: 0 | T41: =IF(Q41=R41,"0",R41-Q41-S41) -> 0 | U41: R | V41: R | W41: 0 | X41: =IF(U41=V41,"0",V41-U41-W41) -> 0 | Y41: R | Z41: R | AA41: 0 | AB41: =IF(Y41=Z41,"0",Z41-Y41-AA41) -> 0 | AC41: R | AD41: R | AE41: 0 | AF41: =IF(AC41=AD41,"0",AD41-AC41-AE41) -> 0
A42: =A15 -> 0 | B42: =B15 -> 0 | C42: =C15 -> Serveur | D42: =D15 -> 0 | E42: R | F42: R | G42: 0 | H42: =IF(E42=F42,"0",F42-E42-G42) -> 0 | I42: R | J42: R | K42: 0 | L42: =IF(I42=J42,"0",J42-I42-K42) -> 0 | M42: R | N42: R | O42: 0 | P42: =IF(M42=N42,"0",N42-M42-O42) -> 0 | Q42: R | R42: R | S42: 0 | T42: =IF(Q42=R42,"0",R42-Q42-S42) -> 0 | U42: R | V42: R | W42: 0 | X42: =IF(U42=V42,"0",V42-U42-W42) -> 0 | Y42: R | Z42: R | AA42: 0 | AB42: =IF(Y42=Z42,"0",Z42-Y42-AA42) -> 0 | AC42: R | AD42: R | AE42: 0 | AF42: =IF(AC42=AD42,"0",AD42-AC42-AE42) -> 0
A43: =A16 -> 0 | B43: =B16 -> 0 | C43: =C16 -> Serveur | D43: =D16 -> 0 | E43: R | F43: R | G43: 0 | H43: =IF(E43=F43,"0",F43-E43-G43) -> 0 | I43: R | J43: R | K43: 0 | L43: =IF(I43=J43,"0",J43-I43-K43) -> 0 | M43: R | N43: R | O43: 0 | P43: =IF(M43=N43,"0",N43-M43-O43) -> 0 | Q43: R | R43: R | S43: 0 | T43: =IF(Q43=R43,"0",R43-Q43-S43) -> 0 | U43: R | V43: R | W43: 0 | X43: =IF(U43=V43,"0",V43-U43-W43) -> 0 | Y43: R | Z43: R | AA43: 0 | AB43: =IF(Y43=Z43,"0",Z43-Y43-AA43) -> 0 | AC43: R | AD43: R | AE43: 0 | AF43: =IF(AC43=AD43,"0",AD43-AC43-AE43) -> 0
... A55: =A28 -> 0 | B55: =B28 -> 0 | C55: =C28 -> Serveur | D55: =D28 -> 0 | E55: R | F55: R | G55: 0 | H55: =IF(E55=F55,"0",F55-E55-G55) -> 0 | I55: R | J55: R | K55: 0 | L55: =IF(I55=J55,"0",J55-I55-K55) -> 0 | M55: R | N55: R | O55: 0 | P55: =IF(M55=N55,"0",N55-M55-O55) -> 0 | Q55: R | R55: R | S55: 0 | T55: =IF(Q55=R55,"0",R55-Q55-S55) -> 0 | U55: R | V55: R | W55: 0 | X55: =IF(U55=V55,"0",V55-U55-W55) -> 0 | Y55: R | Z55: R | AA55: 0 | AB55: =IF(Y55=Z55,"0",Z55-Y55-AA55) -> 0 | AC55: R | AD55: R | AE55: 0 | AF55: =IF(AC55=AD55,"0",AD55-AC55-AE55) -> 0
G56: . | H56: =COUNTIF(H32:H55,">0") -> 0 | K56: . | L56: =COUNTIF(L32:L55,">0") -> 0 | O56: . | P56: =COUNTIF(P32:P55,">0") -> 0 | S56: . | T56: =COUNTIF(T32:T55,">0") -> 0 | W56: , | X56: =COUNTIF(X32:X55,">0") -> 0 | AA56: . | AB56: =COUNTIF(AB32:AB55,">0") -> 0 | AE56: . | AF56: =COUNTIF(AF32:AF55,">0") -> 0
B58: ARRET MALADIE | E58: MAL
B59: CONGES PAYES | D59: CP | E59: CP
B60: ABSENCE NON JUSTIFIEE | D60: ABS | E60: ABS

Sheet 28 août au 3 septembre
A1: Du | B1: =E4 -> 41513 | H1: au | I1: =AC4 -> 41519 | AD1: 1.625
A3: MIDI | E3: LUNDI | G3: REPAS | H3: TOTAL 1 | I3: MARDI | K3: REPAS | L3: TOTAL 2 | M3: MERCREDI | O3: REPAS | P3: TOTAL 3 | Q3: JEUDI | S3: REPAS | T3: TOTAL 4 | U3: VENDREDI | W3: REPAS | X3: TOTAL 5 | Y3: SAMEDI | AA3: REPAS | AB3: TOTAL 6 | AC3: DIMANCHE | AE3: REPAS | AF3: TOTAL 7 | AG3: TOTAL SEMAINE | AH3: HEURES +/- | AI3: Nombre repas semaine | AJ3: Tps Repas Semaine | AK3: CUMUL HEURES +/-
A4: Prénom | B4: Nom | C4: Fonction | D4: Horaire contrat | E4: 41513 | I4: =E4+1 -> 41514 | M4: =I4+1 -> 41515 | Q4: =M4+1 -> 41516 | U4: =Q4+1 -> 41517 | Y4: =U4+1 -> 41518 | AC4: =Y4+1 -> 41519
C5: RESPONSABLE | E5: R | F5: R | G5: 0 | H5: =IF(E5=F5,"0",F5-E5-G5) -> 0 | I5: R | J5: R | K5: 0 | L5: =IF(I5=J5,"0",J5-I5-K5) -> 0 | M5: R | N5: R | O5: 0 | P5: =IF(M5=N5,"0",N5-M5-O5) -> 0 | Q5: R | R5: R | S5: 0 | T5: =IF(Q5=R5,"0",R5-Q5-S5) -> 0 | U5: R | V5: R | W5: 0 | X5: =IF(U5=V5,"0",V5-U5-W5) -> 0 | Y5: R | Z5: R | AA5: 0 | AB5: =IF(Y5=Z5,"0",Z5-Y5-AA5) -> 0 | AC5: R | AD5: R | AE5: 0 | AF5: =IF(AC5=AD5,"0",AD5-AC5-AE5) -> 0 | AG5: =SUM(X5+T5+P5+L5+H5+AB5+AF5+H32+L32+P32+T32+X32+AB32+AF32) -> 0 | AH5: =IF(AG5=0,"",AG5-$AD$1) | AI5: =SUM(AE5+AA5+W5+S5+O5+K5+G5+AE32+AA32+W32+S32+O32+K32+G32)*2 -> 0 | AJ5: =SUM(G5+K5+O5+S5+W5+AA5+AE5+G32+K32+O32+S32+W32+AA32+AE32) -> 0 | AK5: =SUM(AH5+'21 au 27 août 2017'!AJ5) -> #VALUE!
C6: RESPONSABLE | E6: R | F6: R | G6: 0 | H6: =IF(E6=F6,"0",F6-E6-G6) -> 0 | I6: R | J6: R | K6: 0 | L6: =IF(I6=J6,"0",J6-I6-K6) -> 0 | M6: R | N6: R | O6: 0 | P6: =IF(M6=N6,"0",N6-M6-O6) -> 0 | Q6: R | R6: R | S6: 0 | T6: =IF(Q6=R6,"0",R6-Q6-S6) -> 0 | U6: R | V6: R | W6: 0 | X6: =IF(U6=V6,"0",V6-U6-W6) -> 0 | Y6: R | Z6: R | AA6: 0 | AB6: =IF(Y6=Z6,"0",Z6-Y6-AA6) -> 0 | AC6: R | AD6: R | AE6: 0 | AF6: =IF(AC6=AD6,"0",AD6-AC6-AE6) -> 0 | AG6: =SUM(X6+T6+P6+L6+H6+AB6+AF6+H33+L33+P33+T33+X33+AB33+AF33) -> 0 | AH6: =IF(AG6=0,"",AG6-$AD$1) | AI6: =SUM(AE6+AA6+W6+S6+O6+K6+G6+AE33+AA33+W33+S33+O33+K33+G33)*2 -> 0 | AJ6: =SUM(G6+K6+O6+S6+W6+AA6+AE6+G33+K33+O33+S33+W33+AA33+AE33) -> 0 | AK6: =SUM(AH6+'21 au 27 août 2017'!AJ6) -> #VALUE!
C7: SERVEUR | E7: R | F7: R | G7: 0 | H7: =IF(E7=F7,"0",F7-E7-G7) -> 0 | I7: R | J7: R | K7: 0 | L7: =IF(I7=J7,"0",J7-I7-K7) -> 0 | M7: R | N7: R | O7: 0 | P7: =IF(M7=N7,"0",N7-M7-O7) -> 0 | Q7: R | R7: R | S7: 0 | T7: =IF(Q7=R7,"0",R7-Q7-S7) -> 0 | U7: R | V7: R | W7: 0 | X7: =IF(U7=V7,"0",V7-U7-W7) -> 0 | Y7: R | Z7: R | AA7: 0 | AB7: =IF(Y7=Z7,"0",Z7-Y7-AA7) -> 0 | AC7: R | AD7: R | AE7: 0 | AF7: =IF(AC7=AD7,"0",AD7-AC7-AE7) -> 0 | AG7: =SUM(X7+T7+P7+L7+H7+AB7+AF7+H34+L34+P34+T34+X34+AB34+AF34) -> 0 | AH7: =IF(AG7=0,"",AG7-$AD$1) | AI7: =SUM(AE7+AA7+W7+S7+O7+K7+G7+AE34+AA34+W34+S34+O34+K34+G34)*2 -> 0 | AJ7: =SUM(G7+K7+O7+S7+W7+AA7+AE7+G34+K34+O34+S34+W34+AA34+AE34) -> 0 | AK7: =SUM(AH7+'21 au 27 août 2017'!AJ7) -> #VALUE!
C8: SERVEUR | E8: R | F8: R | G8: 0 | H8: =IF(E8=F8,"0",F8-E8-G8) -> 0 | I8: R | J8: R | K8: 0 | L8: =IF(I8=J8,"0",J8-I8-K8) -> 0 | M8: R | N8: R | O8: 0 | P8: =IF(M8=N8,"0",N8-M8-O8) -> 0 | Q8: R | R8: R | S8: 0 | T8: =IF(Q8=R8,"0",R8-Q8-S8) -> 0 | U8: R | V8: R | W8: 0 | X8: =IF(U8=V8,"0",V8-U8-W8) -> 0 | Y8: R | Z8: R | AA8: 0 | AB8: =IF(Y8=Z8,"0",Z8-Y8-AA8) -> 0 | AC8: R | AD8: R | AE8: 0 | AF8: =IF(AC8=AD8,"0",AD8-AC8-AE8) -> 0 | AG8: =SUM(X8+T8+P8+L8+H8+AB8+AF8+H35+L35+P35+T35+X35+AB35+AF35) -> 0 | AH8: =IF(AG8=0,"",AG8-$AD$1) | AI8: =SUM(AE8+AA8+W8+S8+O8+K8+G8+AE35+AA35+W35+S35+O35+K35+G35)*2 -> 0 | AJ8: =SUM(G8+K8+O8+S8+W8+AA8+AE8+G35+K35+O35+S35+W35+AA35+AE35) -> 0 | AK8: =SUM(AH8+'21 au 27 août 2017'!AJ8) -> #VALUE!
C9: SERVEUR | E9: R | F9: R | G9: 0 | H9: =IF(E9=F9,"0",F9-E9-G9) -> 0 | I9: R | J9: R | K9: 0 | L9: =IF(I9=J9,"0",J9-I9-K9) -> 0 | M9: R | N9: R | O9: 0 | P9: =IF(M9=N9,"0",N9-M9-O9) -> 0 | Q9: R | R9: R | S9: 0 | T9: =IF(Q9=R9,"0",R9-Q9-S9) -> 0 | U9: R | V9: R | W9: 0 | X9: =IF(U9=V9,"0",V9-U9-W9) -> 0 | Y9: R | Z9: R | AA9: 0 | AB9: =IF(Y9=Z9,"0",Z9-Y9-AA9) -> 0 | AC9: R | AD9: R | AE9: 0 | AF9: =IF(AC9=AD9,"0",AD9-AC9-AE9) -> 0 | AG9: =SUM(X9+T9+P9+L9+H9+AB9+AF9+H36+L36+P36+T36+X36+AB36+AF36) -> 0 | AH9: =IF(AG9=0,"",AG9-$AD$1) | AI9: =SUM(AE9+AA9+W9+S9+O9+K9+G9+AE36+AA36+W36+S36+O36+K36+G36)*2 -> 0 | AJ9: =SUM(G9+K9+O9+S9+W9+AA9+AE9+G36+K36+O36+S36+W36+AA36+AE36) -> 0 | AK9: =SUM(AH9+'21 au 27 août 2017'!AJ9) -> #VALUE!
C10: SERVEUR | E10: R | F10: R | G10: 0 | H10: =IF(E10=F10,"0",F10-E10-G10) -> 0 | I10: R | J10: R | K10: 0 | L10: =IF(I10=J10,"0",J10-I10-K10) -> 0 | M10: R | N10: R | O10: 0 | P10: =IF(M10=N10,"0",N10-M10-O10) -> 0 | Q10: R | R10: R | S10: 0 | T10: =IF(Q10=R10,"0",R10-Q10-S10) -> 0 | U10: R | V10: R | W10: 0 | X10: =IF(U10=V10,"0",V10-U10-W10) -> 0 | Y10: R | Z10: R | AA10: 0 | AB10: =IF(Y10=Z10,"0",Z10-Y10-AA10) -> 0 | AC10: R | AD10: R | AE10: 0 | AF10: =IF(AC10=AD10,"0",AD10-AC10-AE10) -> 0 | AG10: =SUM(X10+T10+P10+L10+H10+AB10+AF10+H37+L37+P37+T37+X37+AB37+AF37) -> 0 | AH10: =IF(AG10=0,"",AG10-$AD$1) | AI10: =SUM(AE10+AA10+W10+S10+O10+K10+G10+AE37+AA37+W37+S37+O37+K37+G37)*2 -> 0 | AJ10: =SUM(G10+K10+O10+S10+W10+AA10+AE10+G37+K37+O37+S37+W37+AA37+AE37) -> 0 | AK10: =SUM(AH10+'21 au 27 août 2017'!AJ10) -> #VALUE!
C11: SERVEUR | E11: R | F11: R | G11: 0 | H11: =IF(E11=F11,"0",F11-E11-G11) -> 0 | I11: R | J11: R | K11: 0 | L11: =IF(I11=J11,"0",J11-I11-K11) -> 0 | M11: R | N11: R | O11: 0 | P11: =IF(M11=N11,"0",N11-M11-O11) -> 0 | Q11: R | R11: R | S11: 0 | T11: =IF(Q11=R11,"0",R11-Q11-S11) -> 0 | U11: R | V11: R | W11: 0 | X11: =IF(U11=V11,"0",V11-U11-W11) -> 0 | Y11: R | Z11: R | AA11: 0 | AB11: =IF(Y11=Z11,"0",Z11-Y11-AA11) -> 0 | AC11: R | AD11: R | AE11: 0 | AF11: =IF(AC11=AD11,"0",AD11-AC11-AE11) -> 0 | AG11: =SUM(X11+T11+P11+L11+H11+AB11+AF11+H38+L38+P38+T38+X38+AB38+AF38) -> 0 | AH11: =IF(AG11=0,"",AG11-$AD$1) | AI11: =SUM(AE11+AA11+W11+S11+O11+K11+G11+AE38+AA38+W38+S38+O38+K38+G38)*2 -> 0 | AJ11: =SUM(G11+K11+O11+S11+W11+AA11+AE11+G38+K38+O38+S38+W38+AA38+AE38) -> 0 | AK11: =SUM(AH11+'21 au 27 août 2017'!AJ11) -> #VALUE!
C12: SERVEUR | E12: R | F12: R | G12: 0 | H12: =IF(E12=F12,"0",F12-E12-G12) -> 0 | I12: R | J12: R | K12: 0 | L12: =IF(I12=J12,"0",J12-I12-K12) -> 0 | M12: R | N12: R | O12: 0 | P12: =IF(M12=N12,"0",N12-M12-O12) -> 0 | Q12: R | R12: R | S12: 0 | T12: =IF(Q12=R12,"0",R12-Q12-S12) -> 0 | U12: R | V12: R | W12: 0 | X12: =IF(U12=V12,"0",V12-U12-W12) -> 0 | Y12: R | Z12: R | AA12: 0 | AB12: =IF(Y12=Z12,"0",Z12-Y12-AA12) -> 0 | AC12: R | AD12: R | AE12: 0 | AF12: =IF(AC12=AD12,"0",AD12-AC12-AE12) -> 0 | AG12: =SUM(X12+T12+P12+L12+H12+AB12+AF12+H39+L39+P39+T39+X39+AB39+AF39) -> 0 | AH12: =IF(AG12=0,"",AG12-$AD$1) | AI12: =SUM(AE12+AA12+W12+S12+O12+K12+G12+AE39+AA39+W39+S39+O39+K39+G39)*2 -> 0 | AJ12: =SUM(G12+K12+O12+S12+W12+AA12+AE12+G39+K39+O39+S39+W39+AA39+AE39) -> 0 | AK12: =SUM(AH12+'21 au 27 août 2017'!AJ12) -> #VALUE!
C13: SERVEUR | E13: R | F13: R | G13: 0 | H13: =IF(E13=F13,"0",F13-E13-G13) -> 0 | I13: R | J13: R | K13: 0 | L13: =IF(I13=J13,"0",J13-I13-K13) -> 0 | M13: R | N13: R | O13: 0 | P13: =IF(M13=N13,"0",N13-M13-O13) -> 0 | Q13: R | R13: R | S13: 0 | T13: =IF(Q13=R13,"0",R13-Q13-S13) -> 0 | U13: R | V13: R | W13: 0 | X13: =IF(U13=V13,"0",V13-U13-W13) -> 0 | Y13: R | Z13: R | AA13: 0 | AB13: =IF(Y13=Z13,"0",Z13-Y13-AA13) -> 0 | AC13: R | AD13: R | AE13: 0 | AF13: =IF(AC13=AD13,"0",AD13-AC13-AE13) -> 0 | AG13: =SUM(X13+T13+P13+L13+H13+AB13+AF13+H40+L40+P40+T40+X40+AB40+AF40) -> 0 | AH13: =IF(AG13=0,"",AG13-$AD$1) | AI13: =SUM(AE13+AA13+W13+S13+O13+K13+G13+AE40+AA40+W40+S40+O40+K40+G40)*2 -> 0 | AJ13: =SUM(G13+K13+O13+S13+W13+AA13+AE13+G40+K40+O40+S40+W40+AA40+AE40) -> 0 | AK13: =SUM(AH13+'21 au 27 août 2017'!AJ13) -> #VALUE!
C14: SERVEUR | E14: R | F14: R | G14: 0 | H14: =IF(E14=F14,"0",F14-E14-G14) -> 0 | I14: R | J14: R | K14: 0 | L14: =IF(I14=J14,"0",J14-I14-K14) -> 0 | M14: R | N14: R | O14: 0 | P14: =IF(M14=N14,"0",N14-M14-O14) -> 0 | Q14: R | R14: R | S14: 0 | T14: =IF(Q14=R14,"0",R14-Q14-S14) -> 0 | U14: R | V14: R | W14: 0 | X14: =IF(U14=V14,"0",V14-U14-W14) -> 0 | Y14: R | Z14: R | AA14: 0 | AB14: =IF(Y14=Z14,"0",Z14-Y14-AA14) -> 0 | AC14: R | AD14: R | AE14: 0 | AF14: =IF(AC14=AD14,"0",AD14-AC14-AE14) -> 0 | AG14: =SUM(X14+T14+P14+L14+H14+AB14+AF14+H41+L41+P41+T41+X41+AB41+AF41) -> 0 | AH14: =IF(AG14=0,"",AG14-$AD$1) | AI14: =SUM(AE14+AA14+W14+S14+O14+K14+G14+AE41+AA41+W41+S41+O41+K41+G41)*2 -> 0 | AJ14: =SUM(G14+K14+O14+S14+W14+AA14+AE14+G41+K41+O41+S41+W41+AA41+AE41) -> 0 | AK14: =SUM(AH14+'21 au 27 août 2017'!AJ14) -> #VALUE!
C15: SERVEUR | E15: R | F15: R | G15: 0 | H15: =IF(E15=F15,"0",F15-E15-G15) -> 0 | I15: R | J15: R | K15: 0 | L15: =IF(I15=J15,"0",J15-I15-K15) -> 0 | M15: R | N15: R | O15: 0 | P15: =IF(M15=N15,"0",N15-M15-O15) -> 0 | Q15: R | R15: R | S15: 0 | T15: =IF(Q15=R15,"0",R15-Q15-S15) -> 0 | U15: R | V15: R | W15: 0 | X15: =IF(U15=V15,"0",V15-U15-W15) -> 0 | Y15: R | Z15: R | AA15: 0 | AB15: =IF(Y15=Z15,"0",Z15-Y15-AA15) -> 0 | AC15: R | AD15: R | AE15: 0 | AF15: =IF(AC15=AD15,"0",AD15-AC15-AE15) -> 0 | AG15: =SUM(X15+T15+P15+L15+H15+AB15+AF15+H42+L42+P42+T42+X42+AB42+AF42) -> 0 | AH15: =IF(AG15=0,"",AG15-$AD$1) | AI15: =SUM(AE15+AA15+W15+S15+O15+K15+G15+AE42+AA42+W42+S42+O42+K42+G42)*2 -> 0 | AJ15: =SUM(G15+K15+O15+S15+W15+AA15+AE15+G42+K42+O42+S42+W42+AA42+AE42) -> 0 | AK15: =SUM(AH15+'21 au 27 août 2017'!AJ15) -> #VALUE!
C16: SERVEUR | E16: R | F16: R | G16: 0 | H16: =IF(E16=F16,"0",F16-E16-G16) -> 0 | I16: R | J16: R | K16: 0 | L16: =IF(I16=J16,"0",J16-I16-K16) -> 0 | M16: R | N16: R | O16: 0 | P16: =IF(M16=N16,"0",N16-M16-O16) -> 0 | Q16: R | R16: R | S16: 0 | T16: =IF(Q16=R16,"0",R16-Q16-S16) -> 0 | U16: R | V16: R | W16: 0 | X16: =IF(U16=V16,"0",V16-U16-W16) -> 0 | Y16: R | Z16: R | AA16: 0 | AB16: =IF(Y16=Z16,"0",Z16-Y16-AA16) -> 0 | AC16: R | AD16: R | AE16: 0 | AF16: =IF(AC16=AD16,"0",AD16-AC16-AE16) -> 0 | AG16: =SUM(X16+T16+P16+L16+H16+AB16+AF16+H43+L43+P43+T43+X43+AB43+AF43) -> 0 | AH16: =IF(AG16=0,"",AG16-$AD$1) | AI16: =SUM(AE16+AA16+W16+S16+O16+K16+G16+AE43+AA43+W43+S43+O43+K43+G43)*2 -> 0 | AJ16: =SUM(G16+K16+O16+S16+W16+AA16+AE16+G43+K43+O43+S43+W43+AA43+AE43) -> 0 | AK16: =SUM(AH16+'21 au 27 août 2017'!AJ16) -> #VALUE!
... C28: SERVEUR | E28: R | F28: R | G28: 0 | H28: =IF(E28=F28,"0",F28-E28-G28) -> 0 | I28: R | J28: R | K28: 0 | L28: =IF(I28=J28,"0",J28-I28-K28) -> 0 | M28: R | N28: R | O28: 0 | P28: =IF(M28=N28,"0",N28-M28-O28) -> 0 | Q28: R | R28: R | S28: 0 | T28: =IF(Q28=R28,"0",R28-Q28-S28) -> 0 | U28: R | V28: R | W28: 0 | X28: =IF(U28=V28,"0",V28-U28-W28) -> 0 | Y28: R | Z28: R | AA28: 0 | AB28: =IF(Y28=Z28,"0",Z28-Y28-AA28) -> 0 | AC28: R | AD28: R | AE28: 0 | AF28: =IF(AC28=AD28,"0",AD28-AC28-AE28) -> 0 | AG28: =SUM(X28+T28+P28+L28+H28+AB28+AF28+H55+L55+P55+T55+X55+AB55+AF55) -> 0 | AH28: =IF(AG28=0,"",AG28-$AD$1) | AI28: =SUM(AE28+AA28+W28+S28+O28+K28+G28+AE55+AA55+W55+S55+O55+K55+G55)*2 -> 0 | AJ28: =SUM(G28+K28+O28+S28+W28+AA28+AE28+G55+K55+O55+S55+W55+AA55+AE55) -> 0 | AK28: =SUM(AH28+'21 au 27 août 2017'!AJ28) -> #VALUE!
G29: . | K29: . | O29: . | S29: . | W29: , | AA29: . | AE29: .
A30: SOIR | E30: =E3 -> LUNDI | G30: REPAS | H30: TOTAL 1 | I30: =I3 -> MARDI | K30: REPAS | L30: TOTAL 2 | M30: =M3 -> MERCREDI | O30: REPAS | P30: TOTAL 3 | Q30: =Q3 -> JEUDI | S30: REPAS | T30: TOTAL 4 | U30: =U3 -> VENDREDI | W30: REPAS | X30: TOTAL 5 | Y30: =Y3 -> SAMEDI | AA30: REPAS | AB30: TOTAL 6 | AC30: =AC3 -> DIMANCHE | AE30: REPAS | AF30: TOTAL 7
A31: Prénom | B31: Nom | C31: Fonction | D31: Horaire contrat | E31: =E4 -> 41513 | I31: =I4 -> 41514 | M31: =I31+1 -> 41515 | Q31: =M31+1 -> 41516 | U31: =Q31+1 -> 41517 | Y31: =U31+1 -> 41518 | AC31: =Y31+1 -> 41519
A32: =A5 -> 0 | B32: =B5 -> 0 | C32: =C5 -> RESPONSABLE | D32: =D5 -> 0 | E32: R | F32: R | G32: 0 | H32: =IF(E32=F32,"0",F32-E32-G32) -> 0 | I32: R | J32: R | K32: 0 | L32: =IF(I32=J32,"0",J32-I32-K32) -> 0 | M32: R | N32: R | O32: 0 | P32: =IF(M32=N32,"0",N32-M32-O32) -> 0 | Q32: R | R32: R | S32: 0 | T32: =IF(Q32=R32,"0",R32-Q32-S32) -> 0 | U32: R | V32: R | W32: 0 | X32: =IF(U32=V32,"0",V32-U32-W32) -> 0 | Y32: R | Z32: R | AA32: 0 | AB32: =IF(Y32=Z32,"0",Z32-Y32-AA32) -> 0 | AC32: R | AD32: R | AE32: 0 | AF32: =IF(AC32=AD32,"0",AD32-AC32-AE32) -> 0
A33: =A6 -> 0 | B33: =B6 -> 0 | C33: =C6 -> RESPONSABLE | D33: =D6 -> 0 | E33: R | F33: R | G33: 0 | H33: =IF(E33=F33,"0",F33-E33-G33) -> 0 | I33: R | J33: R | K33: 0 | L33: =IF(I33=J33,"0",J33-I33-K33) -> 0 | M33: R | N33: R | O33: 0 | P33: =IF(M33=N33,"0",N33-M33-O33) -> 0 | Q33: R | R33: R | S33: 0 | T33: =IF(Q33=R33,"0",R33-Q33-S33) -> 0 | U33: R | V33: R | W33: 0 | X33: =IF(U33=V33,"0",V33-U33-W33) -> 0 | Y33: R | Z33: R | AA33: 0 | AB33: =IF(Y33=Z33,"0",Z33-Y33-AA33) -> 0 | AC33: R | AD33: R | AE33: 0 | AF33: =IF(AC33=AD33,"0",AD33-AC33-AE33) -> 0
A34: =A7 -> 0 | B34: =B7 -> 0 | C34: =C7 -> SERVEUR | D34: =D7 -> 0 | E34: R | F34: R | G34: 0 | H34: =IF(E34=F34,"0",F34-E34-G34) -> 0 | I34: R | J34: R | K34: 0 | L34: =IF(I34=J34,"0",J34-I34-K34) -> 0 | M34: R | N34: R | O34: 0 | P34: =IF(M34=N34,"0",N34-M34-O34) -> 0 | Q34: R | R34: R | S34: 0 | T34: =IF(Q34=R34,"0",R34-Q34-S34) -> 0 | U34: R | V34: R | W34: 0 | X34: =IF(U34=V34,"0",V34-U34-W34) -> 0 | Y34: R | Z34: R | AA34: 0 | AB34: =IF(Y34=Z34,"0",Z34-Y34-AA34) -> 0 | AC34: R | AD34: R | AE34: 0 | AF34: =IF(AC34=AD34,"0",AD34-AC34-AE34) -> 0
A35: =A8 -> 0 | B35: =B8 -> 0 | C35: =C8 -> SERVEUR | D35: =D8 -> 0 | E35: R | F35: R | G35: 0 | H35: =IF(E35=F35,"0",F35-E35-G35) -> 0 | I35: R | J35: R | K35: 0 | L35: =IF(I35=J35,"0",J35-I35-K35) -> 0 | M35: R | N35: R | O35: 0 | P35: =IF(M35=N35,"0",N35-M35-O35) -> 0 | Q35: R | R35: R | S35: 0 | T35: =IF(Q35=R35,"0",R35-Q35-S35) -> 0 | U35: R | V35: R | W35: 0 | X35: =IF(U35=V35,"0",V35-U35-W35) -> 0 | Y35: R | Z35: R | AA35: 0 | AB35: =IF(Y35=Z35,"0",Z35-Y35-AA35) -> 0 | AC35: R | AD35: R | AE35: 0 | AF35: =IF(AC35=AD35,"0",AD35-AC35-AE35) -> 0
A36: =A9 -> 0 | B36: =B9 -> 0 | C36: =C9 -> SERVEUR | D36: =D9 -> 0 | E36: R | F36: R | G36: 0 | H36: =IF(E36=F36,"0",F36-E36-G36) -> 0 | I36: R | J36: R | K36: 0 | L36: =IF(I36=J36,"0",J36-I36-K36) -> 0 | M36: R | N36: R | O36: 0 | P36: =IF(M36=N36,"0",N36-M36-O36) -> 0 | Q36: R | R36: R | S36: 0 | T36: =IF(Q36=R36,"0",R36-Q36-S36) -> 0 | U36: R | V36: R | W36: 0 | X36: =IF(U36=V36,"0",V36-U36-W36) -> 0 | Y36: R | Z36: R | AA36: 0 | AB36: =IF(Y36=Z36,"0",Z36-Y36-AA36) -> 0 | AC36: R | AD36: R | AE36: 0 | AF36: =IF(AC36=AD36,"0",AD36-AC36-AE36) -> 0
A37: =A10 -> 0 | B37: =B10 -> 0 | C37: =C10 -> SERVEUR | D37: =D10 -> 0 | E37: R | F37: R | G37: 0 | H37: =IF(E37=F37,"0",F37-E37-G37) -> 0 | I37: R | J37: R | K37: 0 | L37: =IF(I37=J37,"0",J37-I37-K37) -> 0 | M37: R | N37: R | O37: 0 | P37: =IF(M37=N37,"0",N37-M37-O37) -> 0 | Q37: R | R37: R | S37: 0 | T37: =IF(Q37=R37,"0",R37-Q37-S37) -> 0 | U37: R | V37: R | W37: 0 | X37: =IF(U37=V37,"0",V37-U37-W37) -> 0 | Y37: R | Z37: R | AA37: 0 | AB37: =IF(Y37=Z37,"0",Z37-Y37-AA37) -> 0 | AC37: R | AD37: R | AE37: 0 | AF37: =IF(AC37=AD37,"0",AD37-AC37-AE37) -> 0
A38: =A11 -> 0 | B38: =B11 -> 0 | C38: =C11 -> SERVEUR | D38: =D11 -> 0 | E38: R | F38: R | G38: 0 | H38: =IF(E38=F38,"0",F38-E38-G38) -> 0 | I38: R | J38: R | K38: 0 | L38: =IF(I38=J38,"0",J38-I38-K38) -> 0 | M38: R | N38: R | O38: 0 | P38: =IF(M38=N38,"0",N38-M38-O38) -> 0 | Q38: R | R38: R | S38: 0 | T38: =IF(Q38=R38,"0",R38-Q38-S38) -> 0 | U38: R | V38: R | W38: 0 | X38: =IF(U38=V38,"0",V38-U38-W38) -> 0 | Y38: R | Z38: R | AA38: 0 | AB38: =IF(Y38=Z38,"0",Z38-Y38-AA38) -> 0 | AC38: R | AD38: R | AE38: 0 | AF38: =IF(AC38=AD38,"0",AD38-AC38-AE38) -> 0
A39: =A12 -> 0 | B39: =B12 -> 0 | C39: =C12 -> SERVEUR | D39: =D12 -> 0 | E39: R | F39: R | G39: 0 | H39: =IF(E39=F39,"0",F39-E39-G39) -> 0 | I39: R | J39: R | K39: 0 | L39: =IF(I39=J39,"0",J39-I39-K39) -> 0 | M39: R | N39: R | O39: 0 | P39: =IF(M39=N39,"0",N39-M39-O39) -> 0 | Q39: R | R39: R | S39: 0 | T39: =IF(Q39=R39,"0",R39-Q39-S39) -> 0 | U39: R | V39: R | W39: 0 | X39: =IF(U39=V39,"0",V39-U39-W39) -> 0 | Y39: R | Z39: R | AA39: 0 | AB39: =IF(Y39=Z39,"0",Z39-Y39-AA39) -> 0 | AC39: R | AD39: R | AE39: 0 | AF39: =IF(AC39=AD39,"0",AD39-AC39-AE39) -> 0
A40: =A13 -> 0 | B40: =B13 -> 0 | C40: =C13 -> SERVEUR | D40: =D13 -> 0 | E40: R | F40: R | G40: 0 | H40: =IF(E40=F40,"0",F40-E40-G40) -> 0 | I40: R | J40: R | K40: 0 | L40: =IF(I40=J40,"0",J40-I40-K40) -> 0 | M40: R | N40: R | O40: 0 | P40: =IF(M40=N40,"0",N40-M40-O40) -> 0 | Q40: R | R40: R | S40: 0 | T40: =IF(Q40=R40,"0",R40-Q40-S40) -> 0 | U40: R | V40: R | W40: 0 | X40: =IF(U40=V40,"0",V40-U40-W40) -> 0 | Y40: R | Z40: R | AA40: 0 | AB40: =IF(Y40=Z40,"0",Z40-Y40-AA40) -> 0 | AC40: R | AD40: R | AE40: 0 | AF40: =IF(AC40=AD40,"0",AD40-AC40-AE40) -> 0
A41: =A14 -> 0 | B41: =B14 -> 0 | C41: =C14 -> SERVEUR | D41: =D14 -> 0 | E41: R | F41: R | G41: 0 | H41: =IF(E41=F41,"0",F41-E41-G41) -> 0 | I41: R | J41: R | K41: 0 | L41: =IF(I41=J41,"0",J41-I41-K41) -> 0 | M41: R | N41: R | O41: 0 | P41: =IF(M41=N41,"0",N41-M41-O41) -> 0 | Q41: R | R41: R | S41: 0 | T41: =IF(Q41=R41,"0",R41-Q41-S41) -> 0 | U41: R | V41: R | W41: 0 | X41: =IF(U41=V41,"0",V41-U41-W41) -> 0 | Y41: R | Z41: R | AA41: 0 | AB41: =IF(Y41=Z41,"0",Z41-Y41-AA41) -> 0 | AC41: R | AD41: R | AE41: 0 | AF41: =IF(AC41=AD41,"0",AD41-AC41-AE41) -> 0
A42: =A15 -> 0 | B42: =B15 -> 0 | C42: =C15 -> SERVEUR | D42: =D15 -> 0 | E42: R | F42: R | G42: 0 | H42: =IF(E42=F42,"0",F42-E42-G42) -> 0 | I42: R | J42: R | K42: 0 | L42: =IF(I42=J42,"0",J42-I42-K42) -> 0 | M42: R | N42: R | O42: 0 | P42: =IF(M42=N42,"0",N42-M42-O42) -> 0 | Q42: R | R42: R | S42: 0 | T42: =IF(Q42=R42,"0",R42-Q42-S42) -> 0 | U42: R | V42: R | W42: 0 | X42: =IF(U42=V42,"0",V42-U42-W42) -> 0 | Y42: R | Z42: R | AA42: 0 | AB42: =IF(Y42=Z42,"0",Z42-Y42-AA42) -> 0 | AC42: R | AD42: R | AE42: 0 | AF42: =IF(AC42=AD42,"0",AD42-AC42-AE42) -> 0
A43: =A16 -> 0 | B43: =B16 -> 0 | C43: =C16 -> SERVEUR | D43: =D16 -> 0 | E43: R | F43: R | G43: 0 | H43: =IF(E43=F43,"0",F43-E43-G43) -> 0 | I43: R | J43: R | K43: 0 | L43: =IF(I43=J43,"0",J43-I43-K43) -> 0 | M43: R | N43: R | O43: 0 | P43: =IF(M43=N43,"0",N43-M43-O43) -> 0 | Q43: R | R43: R | S43: 0 | T43: =IF(Q43=R43,"0",R43-Q43-S43) -> 0 | U43: R | V43: R | W43: 0 | X43: =IF(U43=V43,"0",V43-U43-W43) -> 0 | Y43: R | Z43: R | AA43: 0 | AB43: =IF(Y43=Z43,"0",Z43-Y43-AA43) -> 0 | AC43: R | AD43: R | AE43: 0 | AF43: =IF(AC43=AD43,"0",AD43-AC43-AE43) -> 0
... A55: =A28 -> 0 | B55: =B28 -> 0 | C55: =C28 -> SERVEUR | D55: =D28 -> 0 | E55: R | F55: R | G55: 0 | H55: =IF(E55=F55,"0",F55-E55-G55) -> 0 | I55: R | J55: R | K55: 0 | L55: =IF(I55=J55,"0",J55-I55-K55) -> 0 | M55: R | N55: R | O55: 0 | P55: =IF(M55=N55,"0",N55-M55-O55) -> 0 | Q55: R | R55: R | S55: 0 | T55: =IF(Q55=R55,"0",R55-Q55-S55) -> 0 | U55: R | V55: R | W55: 0 | X55: =IF(U55=V55,"0",V55-U55-W55) -> 0 | Y55: R | Z55: R | AA55: 0 | AB55: =IF(Y55=Z55,"0",Z55-Y55-AA55) -> 0 | AC55: R | AD55: R | AE55: 0 | AF55: =IF(AC55=AD55,"0",AD55-AC55-AE55) -> 0

Sheet CUMUL-COUT
B1: Du | C1: 42784 | E1: au | F1: lundi 27 février 2017 | N1: OPEN 13
B3: MIDI et SOIR CONFONDUS | F3: Total heures PRESTATION en Heure | G3: Total heures PRESTATION en Nombre | H3: Nombre | J3: Nombre repas TOTAL | K3: Total PAUSE | L3: Coût Horaire | M3: Coût total | N3: Avec Charges CRIT
B4: Prénom | C4: Nom | D4: Fonction | E4: Horaire contrat | N4: 2.02
A5: CUISINE | B5: ='21 au 27 août 2017'!A5 -> 0 | C5: ='21 au 27 août 2017'!B5 -> 0 | D5: CUISINIER 1 | E5: ='21 au 27 août 2017'!D5 -> 0 | F5: =SUM(#REF!+#REF!+'21 au 27 août 2017'!AG5) -> #REF! | G5: =F5*24 -> #REF! | J5: =SUM(#REF!+#REF!+'21 au 27 août 2017'!AI5) -> #REF! | K5: =SUM(#REF!+#REF!+'21 au 27 août 2017'!#REF!) -> #REF! | M5: =G5*L5 -> #REF! | N5: =$N$4*M5 -> #REF!
B6: ='21 au 27 août 2017'!A6 -> 0 | C6: ='21 au 27 août 2017'!B6 -> 0 | D6: CUISINIER 2 | E6: ='21 au 27 août 2017'!D6 -> 0 | F6: =SUM(#REF!+#REF!+'21 au 27 août 2017'!AG6) -> #REF! | G6: =F6*24 -> #REF! | J6: =SUM(#REF!+#REF!+'21 au 27 août 2017'!AI6) -> #REF! | K6: =SUM(#REF!+#REF!+'21 au 27 août 2017'!#REF!) -> #REF! | M6: =G6*L6 -> #REF! | N6: =$N$4*M6 -> #REF!
B7: ='21 au 27 août 2017'!A7 -> 0 | C7: ='21 au 27 août 2017'!B7 -> 0 | D7: CUISINIER 3 | E7: ='21 au 27 août 2017'!D7 -> 0 | F7: =SUM(#REF!+#REF!+'21 au 27 août 2017'!AG7) -> #REF! | G7: =F7*24 -> #REF! | J7: =SUM(#REF!+#REF!+'21 au 27 août 2017'!AI7) -> #REF! | K7: =SUM(#REF!+#REF!+'21 au 27 août 2017'!#REF!) -> #REF! | M7: =G7*L7 -> #REF! | N7: =$N$4*M7 -> #REF!
B8: ='21 au 27 août 2017'!A8 -> 0 | C8: ='21 au 27 août 2017'!B8 -> 0 | D8: CUISINIER 4 | E8: ='21 au 27 août 2017'!D8 -> 0 | F8: =SUM(#REF!+#REF!+'21 au 27 août 2017'!AG8) -> #REF! | G8: =F8*24 -> #REF! | J8: =SUM(#REF!+#REF!+'21 au 27 août 2017'!AI8) -> #REF! | K8: =SUM(#REF!+#REF!+'21 au 27 août 2017'!#REF!) -> #REF! | M8: =G8*L8 -> #REF! | N8: =$N$4*M8 -> #REF!
B9: ='21 au 27 août 2017'!A9 -> 0 | C9: ='21 au 27 août 2017'!B9 -> 0 | D9: CUISINIER 5 | E9: ='21 au 27 août 2017'!D9 -> 0 | F9: =SUM(#REF!+#REF!+'21 au 27 août 2017'!AG9) -> #REF! | G9: =F9*24 -> #REF! | J9: =SUM(#REF!+#REF!+'21 au 27 août 2017'!AI9) -> #REF! | K9: =SUM(#REF!+#REF!+'21 au 27 août 2017'!#REF!) -> #REF! | M9: =G9*L9 -> #REF! | N9: =$N$4*M9 -> #REF!
E10: =SUM(#REF!+#REF!+'21 au 27 août 2017'!#REF!) -> #REF! | F10: =SUM(#REF!+#REF!+'21 au 27 août 2017'!#REF!) -> #REF! | G10: =F10*24 -> #REF! | J10: TOTAL CUISINE | N10: =SUM(N5:N9) -> #REF!
A11: BAR | B11: ='21 au 27 août 2017'!A10 -> 0 | C11: ='21 au 27 août 2017'!B10 -> 0 | D11: BARMAN 1 | E11: ='21 au 27 août 2017'!D10 -> 0 | F11: =SUM(#REF!+#REF!+'21 au 27 août 2017'!AG10) -> #REF! | G11: =F11*24 -> #REF! | J11: =SUM(#REF!+#REF!+'21 au 27 août 2017'!AI10) -> #REF! | K11: =SUM(#REF!+#REF!+'21 au 27 août 2017'!#REF!) -> #REF! | M11: =G11*L11 -> #REF! | N11: =$N$4*M11 -> #REF!
B12: ='21 au 27 août 2017'!A11 -> 0 | C12: ='21 au 27 août 2017'!B11 -> 0 | D12: BARMAN 2 | E12: ='21 au 27 août 2017'!D11 -> 0 | F12: =SUM(#REF!+#REF!+'21 au 27 août 2017'!AG11) -> #REF! | G12: =F12*24 -> #REF! | J12: =SUM(#REF!+#REF!+'21 au 27 août 2017'!AI11) -> #REF! | K12: =SUM(#REF!+#REF!+'21 au 27 août 2017'!#REF!) -> #REF! | M12: =G12*L12 -> #REF! | N12: =$N$4*M12 -> #REF!
B13: ='21 au 27 août 2017'!A12 -> 0 | C13: ='21 au 27 août 2017'!B12 -> 0 | D13: BARMAN 3 | E13: ='21 au 27 août 2017'!D12 -> 0 | F13: =SUM(#REF!+#REF!+'21 au 27 août 2017'!AG12) -> #REF! | G13: =F13*24 -> #REF! | J13: =SUM(#REF!+#REF!+'21 au 27 août 2017'!AI12) -> #REF! | K13: =SUM(#REF!+#REF!+'21 au 27 août 2017'!#REF!) -> #REF! | M13: =G13*L13 -> #REF! | N13: =$N$4*M13 -> #REF!
B14: ='21 au 27 août 2017'!A13 -> 0 | C14: ='21 au 27 août 2017'!B13 -> 0 | D14: BARMAN 4 | E14: ='21 au 27 août 2017'!D13 -> 0 | F14: =SUM(#REF!+#REF!+'21 au 27 août 2017'!AG13) -> #REF! | G14: =F14*24 -> #REF! | J14: =SUM(#REF!+#REF!+'21 au 27 août 2017'!AI13) -> #REF! | K14: =SUM(#REF!+#REF!+'21 au 27 août 2017'!#REF!) -> #REF! | M14: =G14*L14 -> #REF! | N14: =$N$4*M14 -> #REF!
B15: ='21 au 27 août 2017'!A14 -> 0 | C15: ='21 au 27 août 2017'!B14 -> 0 | D15: BARMAN 5 | E15: ='21 au 27 août 2017'!D14 -> 0 | F15: =SUM(#REF!+#REF!+'21 au 27 août 2017'!AG14) -> #REF! | G15: =F15*24 -> #REF! | J15: =SUM(#REF!+#REF!+'21 au 27 août 2017'!AI14) -> #REF! | K15: =SUM(#REF!+#REF!+'21 au 27 août 2017'!#REF!) -> #REF! | M15: =G15*L15 -> #REF! | N15: =$N$4*M15 -> #REF!
E16: =SUM(#REF!+#REF!+'21 au 27 août 2017'!#REF!) -> #REF! | F16: =SUM(#REF!+#REF!+'21 au 27 août 2017'!#REF!) -> #REF! | G16: =F16*24 -> #REF! | J16: TOTAL BAR | N16: =SUM(N11:N15) -> #REF!
A17: SERVICE | B17: ='21 au 27 août 2017'!A15 -> 0 | C17: ='21 au 27 août 2017'!B15 -> 0 | D17: SERVEUR 1 | E17: ='21 au 27 août 2017'!D15 -> 0 | F17: =SUM(#REF!+#REF!+'21 au 27 août 2017'!AG15) -> #REF! | G17: =F17*24 -> #REF! | J17: =SUM(#REF!+#REF!+'21 au 27 août 2017'!AI15) -> #REF! | K17: =SUM(#REF!+#REF!+'21 au 27 août 2017'!#REF!) -> #REF! | M17: =G17*L17 -> #REF! | N17: =$N$4*M17 -> #REF!
B18: ='21 au 27 août 2017'!A16 -> 0 | C18: ='21 au 27 août 2017'!B16 -> 0 | D18: SERVEUR 2 | E18: ='21 au 27 août 2017'!D16 -> 0 | F18: =SUM(#REF!+#REF!+'21 au 27 août 2017'!AG16) -> #REF! | G18: =F18*24 -> #REF! | J18: =SUM(#REF!+#REF!+'21 au 27 août 2017'!AI16) -> #REF! | K18: =SUM(#REF!+#REF!+'21 au 27 août 2017'!#REF!) -> #REF! | M18: =G18*L18 -> #REF! | N18: =$N$4*M18 -> #REF!
B19: ='21 au 27 août 2017'!A17 -> 0 | C19: ='21 au 27 août 2017'!B17 -> 0 | D19: SERVEUR 3 | E19: ='21 au 27 août 2017'!D17 -> 0 | F19: =SUM(#REF!+#REF!+'21 au 27 août 2017'!AG17) -> #REF! | G19: =F19*24 -> #REF! | J19: =SUM(#REF!+#REF!+'21 au 27 août 2017'!AI17) -> #REF! | K19: =SUM(#REF!+#REF!+'21 au 27 août 2017'!#REF!) -> #REF! | M19: =G19*L19 -> #REF! | N19: =$N$4*M19 -> #REF!
B20: ='21 au 27 août 2017'!A18 -> 0 | C20: ='21 au 27 août 2017'!B18 -> 0 | D20: SERVEUR 4 | E20: ='21 au 27 août 2017'!D18 -> 0 | F20: =SUM(#REF!+#REF!+'21 au 27 août 2017'!AG18) -> #REF! | G20: =F20*24 -> #REF! | J20: =SUM(#REF!+#REF!+'21 au 27 août 2017'!AI18) -> #REF! | K20: =SUM(#REF!+#REF!+'21 au 27 août 2017'!#REF!) -> #REF! | M20: =G20*L20 -> #REF! | N20: =$N$4*M20 -> #REF!
B21: ='21 au 27 août 2017'!A19 -> 0 | C21: ='21 au 27 août 2017'!B19 -> 0 | D21: SERVEUR 5 | E21: ='21 au 27 août 2017'!D19 -> 0 | F21: =SUM(#REF!+#REF!+'21 au 27 août 2017'!AG19) -> #REF! | G21: =F21*24 -> #REF! | J21: =SUM(#REF!+#REF!+'21 au 27 août 2017'!AI19) -> #REF! | K21: =SUM(#REF!+#REF!+'21 au 27 août 2017'!#REF!) -> #REF! | M21: =G21*L21 -> #REF! | N21: =$N$4*M21 -> #REF!
B22: ='21 au 27 août 2017'!A20 -> 0 | C22: ='21 au 27 août 2017'!B20 -> 0 | D22: SERVEUR 6 | E22: ='21 au 27 août 2017'!D20 -> 0 | F22: =SUM(#REF!+#REF!+'21 au 27 août 2017'!AG20) -> #REF! | G22: =F22*24 -> #REF! | J22: =SUM(#REF!+#REF!+'21 au 27 août 2017'!AI20) -> #REF! | K22: =SUM(#REF!+#REF!+'21 au 27 août 2017'!#REF!) -> #REF! | M22: =G22*L22 -> #REF! | N22: =$N$4*M22 -> #REF!
B23: ='21 au 27 août 2017'!A21 -> 0 | C23: ='21 au 27 août 2017'!B21 -> 0 | D23: SERVEUR 7 | E23: ='21 au 27 août 2017'!D21 -> 0 | F23: =SUM(#REF!+#REF!+'21 au 27 août 2017'!AG21) -> #REF! | G23: =F23*24 -> #REF! | J23: =SUM(#REF!+#REF!+'21 au 27 août 2017'!AI21) -> #REF! | K23: =SUM(#REF!+#REF!+'21 au 27 août 2017'!#REF!) -> #REF! | M23: =G23*L23 -> #REF! | N23: =$N$4*M23 -> #REF!
B24: ='21 au 27 août 2017'!A22 -> 0 | C24: ='21 au 27 août 2017'!B22 -> 0 | D24: SERVEUR 8 | E24: ='21 au 27 août 2017'!D22 -> 0 | F24: =SUM(#REF!+#REF!+'21 au 27 août 2017'!AG22) -> #REF! | G24: =F24*24 -> #REF! | J24: =SUM(#REF!+#REF!+'21 au 27 août 2017'!AI22) -> #REF! | K24: =SUM(#REF!+#REF!+'21 au 27 août 2017'!#REF!) -> #REF! | M24: =G24*L24 -> #REF! | N24: =$N$4*M24 -> #REF!
B25: ='21 au 27 août 2017'!A23 -> 0 | C25: ='21 au 27 août 2017'!B23 -> 0 | D25: SERVEUR 9 | E25: ='21 au 27 août 2017'!D23 -> 0 | F25: =SUM(#REF!+#REF!+'21 au 27 août 2017'!AG23) -> #REF! | G25: =F25*24 -> #REF! | J25: =SUM(#REF!+#REF!+'21 au 27 août 2017'!AI23) -> #REF! | K25: =SUM(#REF!+#REF!+'21 au 27 août 2017'!#REF!) -> #REF! | M25: =G25*L25 -> #REF! | N25: =$N$4*M25 -> #REF!
J26: TOTAL SERVEURS | N26: =SUM(N17:N25) -> #REF!
A27: PRODUCTION | B27: ='21 au 27 août 2017'!A24 -> 0 | C27: ='21 au 27 août 2017'!B24 -> 0 | D27: PRODUCTION 1 | E27: ='21 au 27 août 2017'!D24 -> 0 | F27: =SUM(#REF!+#REF!+'21 au 27 août 2017'!AG24) -> #REF! | G27: =F27*24 -> #REF! | J27: =SUM(#REF!+#REF!+'21 au 27 août 2017'!AI15) -> #REF! | K27: =SUM(#REF!+#REF!+'21 au 27 août 2017'!#REF!) -> #REF! | M27: =G27*L27 -> #REF! | N27: =$N$4*M27 -> #REF!
B28: ='21 au 27 août 2017'!A25 -> 0 | C28: ='21 au 27 août 2017'!B25 -> 0 | D28: PRODUCTION 2 | E28: ='21 au 27 août 2017'!D25 -> 0 | F28: =SUM(#REF!+#REF!+'21 au 27 août 2017'!AG25) -> #REF! | G28: =F28*24 -> #REF! | J28: =SUM(#REF!+#REF!+'21 au 27 août 2017'!AI16) -> #REF! | K28: =SUM(#REF!+#REF!+'21 au 27 août 2017'!#REF!) -> #REF! | M28: =G28*L28 -> #REF! | N28: =$N$4*M28 -> #REF!
B29: ='21 au 27 août 2017'!A26 -> 0 | C29: ='21 au 27 août 2017'!B26 -> 0 | D29: PRODUCTION 3 | E29: ='21 au 27 août 2017'!D26 -> 0 | F29: =SUM(#REF!+#REF!+'21 au 27 août 2017'!AG26) -> #REF! | G29: =F29*24 -> #REF! | J29: =SUM(#REF!+#REF!+'21 au 27 août 2017'!AI17) -> #REF! | K29: =SUM(#REF!+#REF!+'21 au 27 août 2017'!#REF!) -> #REF! | M29: =G29*L29 -> #REF! | N29: =$N$4*M29 -> #REF!
B30: ='21 au 27 août 2017'!A27 -> 0 | C30: ='21 au 27 août 2017'!B27 -> 0 | D30: PRODUCTION 4 | E30: ='21 au 27 août 2017'!D27 -> 0 | F30: =SUM(#REF!+#REF!+'21 au 27 août 2017'!AG27) -> #REF! | G30: =F30*24 -> #REF! | J30: =SUM(#REF!+#REF!+'21 au 27 août 2017'!AI18) -> #REF! | K30: =SUM(#REF!+#REF!+'21 au 27 août 2017'!#REF!) -> #REF! | M30: =G30*L30 -> #REF! | N30: =$N$4*M30 -> #REF!
B31: ='21 au 27 août 2017'!A28 -> 0 | C31: ='21 au 27 août 2017'!B28 -> 0 | D31: PRODUCTION 5 | E31: ='21 au 27 août 2017'!D28 -> 0 | F31: =SUM(#REF!+#REF!+'21 au 27 août 2017'!AG28) -> #REF! | G31: =F31*24 -> #REF! | J31: =SUM(#REF!+#REF!+'21 au 27 août 2017'!AI19) -> #REF! | K31: =SUM(#REF!+#REF!+'21 au 27 août 2017'!#REF!) -> #REF! | M31: =G31*L31 -> #REF! | N31: =$N$4*M31 -> #REF!
J32: TOTAL PRODUCTION | N32: =SUM(N27:N31) -> #REF!
J33: COUT TOTAL GENERAL | N33: =SUM(N26+N16+N10) -> #REF!

Sheet Feuil2
