Workbook
Name Ecoles_WAPI: Feuil1!$B$18:$B$38
Name EcolesWAPI: Feuil1!$B$2:$B$38

Sheet Nr-BW 01
A2: Total bassin | G2: =SUBTOTAL(9,G6:G100) -> 0 | H2: =SUBTOTAL(9,H6:H100) -> 0 | I2: =SUBTOTAL(9,I6:I100) -> 0 | J2: =SUBTOTAL(9,J6:J100) -> 0 | K2: =SUBTOTAL(9,K6:K100) -> 0 | L2: =SUBTOTAL(9,L6:L100) -> 0 | M2: =SUBTOTAL(9,M6:M100) -> 0 | N2: =SUBTOTAL(9,N6:N100) -> 0 | ... P2: =SUBTOTAL(9,P6:P100) -> 0
A3: Brabant wallon | G3: =SUMIF($A$6:$A$100,"Brabant wallon",G6:G100) -> 0 | H3: =SUMIF($A$6:$A$100,"Brabant wallon",H6:H100) -> 0 | I3: =SUMIF($A$6:$A$100,"Brabant wallon",I6:I100) -> 0 | J3: =SUMIF($A$6:$A$100,"Brabant wallon",J6:J100) -> 0 | K3: =SUMIF($A$6:$A$100,"Brabant wallon",K6:K100) -> 0 | L3: =SUMIF($A$6:$A$100,"Brabant wallon",L6:L100) -> 0 | M3: =SUMIF($A$6:$A$100,"Brabant wallon",M6:M100) -> 0 | N3: =SUMIF($A$6:$A$100,"Brabant wallon",N6:N100) -> 0 | ... P3: =SUMIF($A$6:$A$100,"Brabant wallon",P6:P100) -> 0
A4: Namur | G4: =SUMIF($A$6:$A$100,"Namur",G6:G100) -> 0 | H4: =SUMIF($A$6:$A$100,"Namur",H6:H100) -> 0 | I4: =SUMIF($A$6:$A$100,"Namur",I6:I100) -> 0 | J4: =SUMIF($A$6:$A$100,"Namur",J6:J100) -> 0 | K4: =SUMIF($A$6:$A$100,"Namur",K6:K100) -> 0 | L4: =SUMIF($A$6:$A$100,"Namur",L6:L100) -> 0 | M4: =SUMIF($A$6:$A$100,"Namur",M6:M100) -> 0 | N4: =SUMIF($A$6:$A$100,"Namur",N6:N100) -> 0 | ... P4: =SUMIF($A$6:$A$100,"Namur",P6:P100) -> 0
A5: CEFO | B5: Ecole | C5: Localité | D5: Section | E5: Date animation | F5: Année-mois | G5: Nb séances | H5: Nb élèves planifié | I5: Garçons présents | J5: Filles présentes | K5: Nb total élèves présents | L5: Nb élèves 4è | M5: Nb élèves 5è | N5: Nb élèves 6è | O5: Nb élèves 7è | P5: TOTAL tout niveau | Q5: Commentaires
C6: =IF(B6="","",VLOOKUP(B6,Feuil1!$B$2:$C$103,2,0)) | F6: =E6 -> 0 | G6: 0 | H6: 0 | I6: 0 | J6: 0 | K6: =SUM(I6,J6) -> 0 | L6: 0 | M6: 0 | N6: 0 | O6: 0 | P6: =SUM(L6:O6) -> 0
C7: =IF(B7="","",VLOOKUP(B7,Feuil1!$B$2:$C$103,2,0)) | F7: =E7 -> 0 | G7: 0 | H7: 0 | I7: 0 | J7: 0 | K7: =SUM(I7,J7) -> 0 | L7: 0 | M7: 0 | N7: 0 | O7: 0 | P7: =SUM(L7:O7) -> 0
C8: =IF(B8="","",VLOOKUP(B8,Feuil1!$B$2:$C$103,2,0)) | F8: =E8 -> 0 | G8: 0 | H8: 0 | I8: 0 | J8: 0 | K8: =SUM(I8,J8) -> 0 | L8: 0 | M8: 0 | N8: 0 | O8: 0 | P8: =SUM(L8:O8) -> 0
C9: =IF(B9="","",VLOOKUP(B9,Feuil1!$B$2:$C$103,2,0)) | F9: =E9 -> 0 | G9: 0 | H9: 0 | I9: 0 | J9: 0 | K9: =SUM(I9,J9) -> 0 | L9: 0 | M9: 0 | N9: 0 | O9: 0 | P9: =SUM(L9:O9) -> 0
C10: =IF(B10="","",VLOOKUP(B10,Feuil1!$B$2:$C$103,2,0)) | F10: =E10 -> 0 | G10: 0 | H10: 0 | I10: 0 | J10: 0 | K10: =SUM(I10,J10) -> 0 | L10: 0 | M10: 0 | N10: 0 | O10: 0 | P10: =SUM(L10:O10) -> 0
C11: =IF(B11="","",VLOOKUP(B11,Feuil1!$B$2:$C$103,2,0)) | F11: =E11 -> 0 | G11: 0 | H11: 0 | I11: 0 | J11: 0 | K11: =SUM(I11,J11) -> 0 | L11: 0 | M11: 0 | N11: 0 | O11: 0 | P11: =SUM(L11:O11) -> 0
C12: =IF(B12="","",VLOOKUP(B12,Feuil1!$B$2:$C$103,2,0)) | F12: =E12 -> 0 | G12: 0 | H12: 0 | I12: 0 | J12: 0 | K12: =SUM(I12,J12) -> 0 | L12: 0 | M12: 0 | N12: 0 | O12: 0 | P12: =SUM(L12:O12) -> 0
C13: =IF(B13="","",VLOOKUP(B13,Feuil1!$B$2:$C$103,2,0)) | F13: =E13 -> 0 | G13: 0 | H13: 0 | I13: 0 | J13: 0 | K13: =SUM(I13,J13) -> 0 | L13: 0 | M13: 0 | N13: 0 | O13: 0 | P13: =SUM(L13:O13) -> 0
C14: =IF(B14="","",VLOOKUP(B14,Feuil1!$B$2:$C$103,2,0)) | F14: =E14 -> 0 | G14: 0 | H14: 0 | I14: 0 | J14: 0 | K14: =SUM(I14,J14) -> 0 | L14: 0 | M14: 0 | N14: 0 | O14: 0 | P14: =SUM(L14:O14) -> 0
C15: =IF(B15="","",VLOOKUP(B15,Feuil1!$B$2:$C$103,2,0)) | F15: =E15 -> 0 | G15: 0 | H15: 0 | I15: 0 | J15: 0 | K15: =SUM(I15,J15) -> 0 | L15: 0 | M15: 0 | N15: 0 | O15: 0 | P15: =SUM(L15:O15) -> 0
C16: =IF(B16="","",VLOOKUP(B16,Feuil1!$B$2:$C$103,2,0)) | F16: =E16 -> 0 | G16: 0 | H16: 0 | I16: 0 | J16: 0 | K16: =SUM(I16,J16) -> 0 | L16: 0 | M16: 0 | N16: 0 | O16: 0 | P16: =SUM(L16:O16) -> 0
C17: =IF(B17="","",VLOOKUP(B17,Feuil1!$B$2:$C$103,2,0)) | F17: =E17 -> 0 | G17: 0 | H17: 0 | I17: 0 | J17: 0 | K17: =SUM(I17,J17) -> 0 | L17: 0 | M17: 0 | N17: 0 | O17: 0 | P17: =SUM(L17:O17) -> 0
... C100: =IF(B100="","",VLOOKUP(B100,Feuil1!$B$2:$C$103,2,0)) | F100: =E100 -> 0 | G100: 0 | H100: 0 | I100: 0 | J100: 0 | K100: =SUM(I100,J100) -> 0 | L100: 0 | M100: 0 | N100: 0 | O100: 0 | P100: =SUM(L100:O100) -> 0

Sheet Nr-BW 02
A2: Total bassin | G2: =SUBTOTAL(9,G6:G100) -> 0 | H2: =SUBTOTAL(9,H6:H100) -> 0 | I2: =SUBTOTAL(9,I6:I100) -> 0 | J2: =SUBTOTAL(9,J6:J100) -> 0 | K2: =SUBTOTAL(9,K6:K100) -> 0 | L2: =SUBTOTAL(9,L6:L100) -> 0 | M2: =SUBTOTAL(9,M6:M100) -> 0 | N2: =SUBTOTAL(9,N6:N100) -> 0 | ... P2: =SUBTOTAL(9,P6:P100) -> 0
A3: Brabant wallon | G3: =SUMIF($A$6:$A$100,"Brabant wallon",G6:G100) -> 0 | H3: =SUMIF($A$6:$A$100,"Brabant wallon",H6:H100) -> 0 | I3: =SUMIF($A$6:$A$100,"Brabant wallon",I6:I100) -> 0 | J3: =SUMIF($A$6:$A$100,"Brabant wallon",J6:J100) -> 0 | K3: =SUMIF($A$6:$A$100,"Brabant wallon",K6:K100) -> 0 | L3: =SUMIF($A$6:$A$100,"Brabant wallon",L6:L100) -> 0 | M3: =SUMIF($A$6:$A$100,"Brabant wallon",M6:M100) -> 0 | N3: =SUMIF($A$6:$A$100,"Brabant wallon",N6:N100) -> 0 | ... P3: =SUMIF($A$6:$A$100,"Brabant wallon",P6:P100) -> 0
A4: Namur | G4: =SUMIF($A$6:$A$100,"Namur",G6:G100) -> 0 | H4: =SUMIF($A$6:$A$100,"Namur",H6:H100) -> 0 | I4: =SUMIF($A$6:$A$100,"Namur",I6:I100) -> 0 | J4: =SUMIF($A$6:$A$100,"Namur",J6:J100) -> 0 | K4: =SUMIF($A$6:$A$100,"Namur",K6:K100) -> 0 | L4: =SUMIF($A$6:$A$100,"Namur",L6:L100) -> 0 | M4: =SUMIF($A$6:$A$100,"Namur",M6:M100) -> 0 | N4: =SUMIF($A$6:$A$100,"Namur",N6:N100) -> 0 | ... P4: =SUMIF($A$6:$A$100,"Namur",P6:P100) -> 0
A5: CEFO | B5: Ecole | C5: Localité | D5: Section | E5: Date animation | F5: Année-mois | G5: Nb séances | H5: Nb élèves planifié | I5: Garçons présents | J5: Filles présentes | K5: Nb total élèves présents | L5: Nb élèves 4è | M5: Nb élèves 5è | N5: Nb élèves 6è | O5: Nb élèves 7è | P5: TOTAL tout niveau | Q5: Commentaires
C6: =IF(B6="","",VLOOKUP(B6,Feuil1!$B$2:$C$103,2,0)) | F6: =E6 -> 0 | G6: 0 | H6: 0 | I6: 0 | J6: 0 | K6: =SUM(I6,J6) -> 0 | L6: 0 | M6: 0 | N6: 0 | O6: 0 | P6: =SUM(L6:O6) -> 0
C7: =IF(B7="","",VLOOKUP(B7,Feuil1!$B$2:$C$103,2,0)) | F7: =E7 -> 0 | G7: 0 | H7: 0 | I7: 0 | J7: 0 | K7: =SUM(I7,J7) -> 0 | L7: 0 | M7: 0 | N7: 0 | O7: 0 | P7: =SUM(L7:O7) -> 0
C8: =IF(B8="","",VLOOKUP(B8,Feuil1!$B$2:$C$103,2,0)) | F8: =E8 -> 0 | G8: 0 | H8: 0 | I8: 0 | J8: 0 | K8: =SUM(I8,J8) -> 0 | L8: 0 | M8: 0 | N8: 0 | O8: 0 | P8: =SUM(L8:O8) -> 0
C9: =IF(B9="","",VLOOKUP(B9,Feuil1!$B$2:$C$103,2,0)) | F9: =E9 -> 0 | G9: 0 | H9: 0 | I9: 0 | J9: 0 | K9: =SUM(I9,J9) -> 0 | L9: 0 | M9: 0 | N9: 0 | O9: 0 | P9: =SUM(L9:O9) -> 0
C10: =IF(B10="","",VLOOKUP(B10,Feuil1!$B$2:$C$103,2,0)) | F10: =E10 -> 0 | G10: 0 | H10: 0 | I10: 0 | J10: 0 | K10: =SUM(I10,J10) -> 0 | L10: 0 | M10: 0 | N10: 0 | O10: 0 | P10: =SUM(L10:O10) -> 0
C11: =IF(B11="","",VLOOKUP(B11,Feuil1!$B$2:$C$103,2,0)) | F11: =E11 -> 0 | G11: 0 | H11: 0 | I11: 0 | J11: 0 | K11: =SUM(I11,J11) -> 0 | L11: 0 | M11: 0 | N11: 0 | O11: 0 | P11: =SUM(L11:O11) -> 0
C12: =IF(B12="","",VLOOKUP(B12,Feuil1!$B$2:$C$103,2,0)) | F12: =E12 -> 0 | G12: 0 | H12: 0 | I12: 0 | J12: 0 | K12: =SUM(I12,J12) -> 0 | L12: 0 | M12: 0 | N12: 0 | O12: 0 | P12: =SUM(L12:O12) -> 0
C13: =IF(B13="","",VLOOKUP(B13,Feuil1!$B$2:$C$103,2,0)) | F13: =E13 -> 0 | G13: 0 | H13: 0 | I13: 0 | J13: 0 | K13: =SUM(I13,J13) -> 0 | L13: 0 | M13: 0 | N13: 0 | O13: 0 | P13: =SUM(L13:O13) -> 0
C14: =IF(B14="","",VLOOKUP(B14,Feuil1!$B$2:$C$103,2,0)) | F14: =E14 -> 0 | G14: 0 | H14: 0 | I14: 0 | J14: 0 | K14: =SUM(I14,J14) -> 0 | L14: 0 | M14: 0 | N14: 0 | O14: 0 | P14: =SUM(L14:O14) -> 0
C15: =IF(B15="","",VLOOKUP(B15,Feuil1!$B$2:$C$103,2,0)) | F15: =E15 -> 0 | G15: 0 | H15: 0 | I15: 0 | J15: 0 | K15: =SUM(I15,J15) -> 0 | L15: 0 | M15: 0 | N15: 0 | O15: 0 | P15: =SUM(L15:O15) -> 0
C16: =IF(B16="","",VLOOKUP(B16,Feuil1!$B$2:$C$103,2,0)) | F16: =E16 -> 0 | G16: 0 | H16: 0 | I16: 0 | J16: 0 | K16: =SUM(I16,J16) -> 0 | L16: 0 | M16: 0 | N16: 0 | O16: 0 | P16: =SUM(L16:O16) -> 0
C17: =IF(B17="","",VLOOKUP(B17,Feuil1!$B$2:$C$103,2,0)) | F17: =E17 -> 0 | G17: 0 | H17: 0 | I17: 0 | J17: 0 | K17: =SUM(I17,J17) -> 0 | L17: 0 | M17: 0 | N17: 0 | O17: 0 | P17: =SUM(L17:O17) -> 0
... C100: =IF(B100="","",VLOOKUP(B100,Feuil1!$B$2:$C$103,2,0)) | F100: =E100 -> 0 | G100: 0 | H100: 0 | I100: 0 | J100: 0 | K100: =SUM(I100,J100) -> 0 | L100: 0 | M100: 0 | N100: 0 | O100: 0 | P100: =SUM(L100:O100) -> 0

Sheet Nr-BW 03
A2: Total bassin | G2: =SUBTOTAL(9,G6:G99) -> 0 | H2: =SUBTOTAL(9,H6:H99) -> 0 | I2: =SUBTOTAL(9,I6:I99) -> 0 | J2: =SUBTOTAL(9,J6:J99) -> 0 | K2: =SUBTOTAL(9,K6:K99) -> 0 | L2: =SUBTOTAL(9,L6:L99) -> 0 | M2: =SUBTOTAL(9,M6:M99) -> 0 | N2: =SUBTOTAL(9,N6:N99) -> 0 | ... P2: =SUBTOTAL(9,P6:P99) -> 0
A3: Brabant wallon | G3: =SUMIF($A$6:$A$99,"Brabant wallon",G6:G99) -> 0 | H3: =SUMIF($A$6:$A$99,"Brabant wallon",H6:H99) -> 0 | I3: =SUMIF($A$6:$A$99,"Brabant wallon",I6:I99) -> 0 | J3: =SUMIF($A$6:$A$99,"Brabant wallon",J6:J99) -> 0 | K3: =SUMIF($A$6:$A$99,"Brabant wallon",K6:K99) -> 0 | L3: =SUMIF($A$6:$A$99,"Brabant wallon",L6:L99) -> 0 | M3: =SUMIF($A$6:$A$99,"Brabant wallon",M6:M99) -> 0 | N3: =SUMIF($A$6:$A$99,"Brabant wallon",N6:N99) -> 0 | ... P3: =SUMIF($A$6:$A$99,"Brabant wallon",P6:P99) -> 0
A4: Namur | G4: =SUMIF($A$6:$A$99,"Namur",G6:G99) -> 0 | H4: =SUMIF($A$6:$A$99,"Namur",H6:H99) -> 0 | I4: =SUMIF($A$6:$A$99,"Namur",I6:I99) -> 0 | J4: =SUMIF($A$6:$A$99,"Namur",J6:J99) -> 0 | K4: =SUMIF($A$6:$A$99,"Namur",K6:K99) -> 0 | L4: =SUMIF($A$6:$A$99,"Namur",L6:L99) -> 0 | M4: =SUMIF($A$6:$A$99,"Namur",M6:M99) -> 0 | N4: =SUMIF($A$6:$A$99,"Namur",N6:N99) -> 0 | ... P4: =SUMIF($A$6:$A$99,"Namur",P6:P99) -> 0
A5: CEFO | B5: Ecole | C5: Localité | D5: Section | E5: Date animation | F5: Année-mois | G5: Nb séances | H5: Nb élèves planifié | I5: Garçons présents | J5: Filles présentes | K5: Nb total élèves présents | L5: Nb élèves 4è | M5: Nb élèves 5è | N5: Nb élèves 6è | O5: Nb élèves 7è | P5: TOTAL tout niveau | Q5: Commentaires
C6: =IF(B6="","",VLOOKUP(B6,Feuil1!$B$2:$C$103,2,0)) | F6: =E6 -> 0 | G6: 0 | H6: 0 | I6: 0 | J6: 0 | K6: =SUM(I6,J6) -> 0 | L6: 0 | M6: 0 | N6: 0 | O6: 0 | P6: =SUM(L6:O6) -> 0
C7: =IF(B7="","",VLOOKUP(B7,Feuil1!$B$2:$C$103,2,0)) | F7: =E7 -> 0 | G7: 0 | H7: 0 | I7: 0 | J7: 0 | K7: =SUM(I7,J7) -> 0 | L7: 0 | M7: 0 | N7: 0 | O7: 0 | P7: =SUM(L7:O7) -> 0
C8: =IF(B8="","",VLOOKUP(B8,Feuil1!$B$2:$C$103,2,0)) | F8: =E8 -> 0 | G8: 0 | H8: 0 | I8: 0 | J8: 0 | K8: =SUM(I8,J8) -> 0 | L8: 0 | M8: 0 | N8: 0 | O8: 0 | P8: =SUM(L8:O8) -> 0
C9: =IF(B9="","",VLOOKUP(B9,Feuil1!$B$2:$C$103,2,0)) | F9: =E9 -> 0 | G9: 0 | H9: 0 | I9: 0 | J9: 0 | K9: =SUM(I9,J9) -> 0 | L9: 0 | M9: 0 | N9: 0 | O9: 0 | P9: =SUM(L9:O9) -> 0
C10: =IF(B10="","",VLOOKUP(B10,Feuil1!$B$2:$C$103,2,0)) | F10: =E10 -> 0 | G10: 0 | H10: 0 | I10: 0 | J10: 0 | K10: =SUM(I10,J10) -> 0 | L10: 0 | M10: 0 | N10: 0 | O10: 0 | P10: =SUM(L10:O10) -> 0
C11: =IF(B11="","",VLOOKUP(B11,Feuil1!$B$2:$C$103,2,0)) | F11: =E11 -> 0 | G11: 0 | H11: 0 | I11: 0 | J11: 0 | K11: =SUM(I11,J11) -> 0 | L11: 0 | M11: 0 | N11: 0 | O11: 0 | P11: =SUM(L11:O11) -> 0
C12: =IF(B12="","",VLOOKUP(B12,Feuil1!$B$2:$C$103,2,0)) | F12: =E12 -> 0 | G12: 0 | H12: 0 | I12: 0 | J12: 0 | K12: =SUM(I12,J12) -> 0 | L12: 0 | M12: 0 | N12: 0 | O12: 0 | P12: =SUM(L12:O12) -> 0
C13: =IF(B13="","",VLOOKUP(B13,Feuil1!$B$2:$C$103,2,0)) | F13: =E13 -> 0 | G13: 0 | H13: 0 | I13: 0 | J13: 0 | K13: =SUM(I13,J13) -> 0 | L13: 0 | M13: 0 | N13: 0 | O13: 0 | P13: =SUM(L13:O13) -> 0
C14: =IF(B14="","",VLOOKUP(B14,Feuil1!$B$2:$C$103,2,0)) | F14: =E14 -> 0 | G14: 0 | H14: 0 | I14: 0 | J14: 0 | K14: =SUM(I14,J14) -> 0 | L14: 0 | M14: 0 | N14: 0 | O14: 0 | P14: =SUM(L14:O14) -> 0
C15: =IF(B15="","",VLOOKUP(B15,Feuil1!$B$2:$C$103,2,0)) | F15: =E15 -> 0 | G15: 0 | H15: 0 | I15: 0 | J15: 0 | K15: =SUM(I15,J15) -> 0 | L15: 0 | M15: 0 | N15: 0 | O15: 0 | P15: =SUM(L15:O15) -> 0
C16: =IF(B16="","",VLOOKUP(B16,Feuil1!$B$2:$C$103,2,0)) | F16: =E16 -> 0 | G16: 0 | H16: 0 | I16: 0 | J16: 0 | K16: =SUM(I16,J16) -> 0 | L16: 0 | M16: 0 | N16: 0 | O16: 0 | P16: =SUM(L16:O16) -> 0
C17: =IF(B17="","",VLOOKUP(B17,Feuil1!$B$2:$C$103,2,0)) | F17: =E17 -> 0 | G17: 0 | H17: 0 | I17: 0 | J17: 0 | K17: =SUM(I17,J17) -> 0 | L17: 0 | M17: 0 | N17: 0 | O17: 0 | P17: =SUM(L17:O17) -> 0
... C99: =IF(B99="","",VLOOKUP(B99,Feuil1!$B$2:$C$103,2,0)) | F99: =E99 -> 0 | G99: 0 | H99: 0 | I99: 0 | J99: 0 | K99: =SUM(I99,J99) -> 0 | L99: 0 | M99: 0 | N99: 0 | O99: 0 | P99: =SUM(L99:O99) -> 0

Sheet Nr-BW 04
A2: Total bassin | G2: =SUBTOTAL(9,G6:G99) -> 0 | H2: =SUBTOTAL(9,H6:H99) -> 0 | I2: =SUBTOTAL(9,I6:I99) -> 0 | J2: =SUBTOTAL(9,J6:J99) -> 0 | K2: =SUBTOTAL(9,K6:K99) -> 0 | L2: =SUBTOTAL(9,L6:L99) -> 0 | M2: =SUBTOTAL(9,M6:M99) -> 0 | N2: =SUBTOTAL(9,N6:N99) -> 0 | ... P2: =SUBTOTAL(9,P6:P99) -> 0
A3: Brabant wallon | G3: =SUMIF($A$6:$A$99,"Brabant wallon",G6:G99) -> 0 | H3: =SUMIF($A$6:$A$99,"Brabant wallon",H6:H99) -> 0 | I3: =SUMIF($A$6:$A$99,"Brabant wallon",I6:I99) -> 0 | J3: =SUMIF($A$6:$A$99,"Brabant wallon",J6:J99) -> 0 | K3: =SUMIF($A$6:$A$99,"Brabant wallon",K6:K99) -> 0 | L3: =SUMIF($A$6:$A$99,"Brabant wallon",L6:L99) -> 0 | M3: =SUMIF($A$6:$A$99,"Brabant wallon",M6:M99) -> 0 | N3: =SUMIF($A$6:$A$99,"Brabant wallon",N6:N99) -> 0 | ... P3: =SUMIF($A$6:$A$99,"Brabant wallon",P6:P99) -> 0
A4: Namur | G4: =SUMIF($A$6:$A$99,"Namur",G6:G99) -> 0 | H4: =SUMIF($A$6:$A$99,"Namur",H6:H99) -> 0 | I4: =SUMIF($A$6:$A$99,"Namur",I6:I99) -> 0 | J4: =SUMIF($A$6:$A$99,"Namur",J6:J99) -> 0 | K4: =SUMIF($A$6:$A$99,"Namur",K6:K99) -> 0 | L4: =SUMIF($A$6:$A$99,"Namur",L6:L99) -> 0 | M4: =SUMIF($A$6:$A$99,"Namur",M6:M99) -> 0 | N4: =SUMIF($A$6:$A$99,"Namur",N6:N99) -> 0 | ... P4: =SUMIF($A$6:$A$99,"Namur",P6:P99) -> 0
A5: CEFO | B5: Ecole | C5: Localité | D5: Section | E5: Date animation | F5: Année-mois | G5: Nb séances | H5: Nb élèves planifié | I5: Garçons présents | J5: Filles présentes | K5: Nb total élèves présents | L5: Nb élèves 4è | M5: Nb élèves 5è | N5: Nb élèves 6è | O5: Nb élèves 7è | P5: TOTAL tout niveau | Q5: Commentaires
C6: =IF(B6="","",VLOOKUP(B6,Feuil1!$B$2:$C$103,2,0)) | F6: =E6 -> 0 | G6: 0 | H6: 0 | I6: 0 | J6: 0 | K6: =SUM(I6,J6) -> 0 | L6: 0 | M6: 0 | N6: 0 | O6: 0 | P6: =SUM(L6:O6) -> 0
C7: =IF(B7="","",VLOOKUP(B7,Feuil1!$B$2:$C$103,2,0)) | F7: =E7 -> 0 | G7: 0 | H7: 0 | I7: 0 | J7: 0 | K7: =SUM(I7,J7) -> 0 | L7: 0 | M7: 0 | N7: 0 | O7: 0 | P7: =SUM(L7:O7) -> 0
C8: =IF(B8="","",VLOOKUP(B8,Feuil1!$B$2:$C$103,2,0)) | F8: =E8 -> 0 | G8: 0 | H8: 0 | I8: 0 | J8: 0 | K8: =SUM(I8,J8) -> 0 | L8: 0 | M8: 0 | N8: 0 | O8: 0 | P8: =SUM(L8:O8) -> 0
C9: =IF(B9="","",VLOOKUP(B9,Feuil1!$B$2:$C$103,2,0)) | F9: =E9 -> 0 | G9: 0 | H9: 0 | I9: 0 | J9: 0 | K9: =SUM(I9,J9) -> 0 | L9: 0 | M9: 0 | N9: 0 | O9: 0 | P9: =SUM(L9:O9) -> 0
C10: =IF(B10="","",VLOOKUP(B10,Feuil1!$B$2:$C$103,2,0)) | F10: =E10 -> 0 | G10: 0 | H10: 0 | I10: 0 | J10: 0 | K10: =SUM(I10,J10) -> 0 | L10: 0 | M10: 0 | N10: 0 | O10: 0 | P10: =SUM(L10:O10) -> 0
C11: =IF(B11="","",VLOOKUP(B11,Feuil1!$B$2:$C$103,2,0)) | F11: =E11 -> 0 | G11: 0 | H11: 0 | I11: 0 | J11: 0 | K11: =SUM(I11,J11) -> 0 | L11: 0 | M11: 0 | N11: 0 | O11: 0 | P11: =SUM(L11:O11) -> 0
C12: =IF(B12="","",VLOOKUP(B12,Feuil1!$B$2:$C$103,2,0)) | F12: =E12 -> 0 | G12: 0 | H12: 0 | I12: 0 | J12: 0 | K12: =SUM(I12,J12) -> 0 | L12: 0 | M12: 0 | N12: 0 | O12: 0 | P12: =SUM(L12:O12) -> 0
C13: =IF(B13="","",VLOOKUP(B13,Feuil1!$B$2:$C$103,2,0)) | F13: =E13 -> 0 | G13: 0 | H13: 0 | I13: 0 | J13: 0 | K13: =SUM(I13,J13) -> 0 | L13: 0 | M13: 0 | N13: 0 | O13: 0 | P13: =SUM(L13:O13) -> 0
C14: =IF(B14="","",VLOOKUP(B14,Feuil1!$B$2:$C$103,2,0)) | F14: =E14 -> 0 | G14: 0 | H14: 0 | I14: 0 | J14: 0 | K14: =SUM(I14,J14) -> 0 | L14: 0 | M14: 0 | N14: 0 | O14: 0 | P14: =SUM(L14:O14) -> 0
C15: =IF(B15="","",VLOOKUP(B15,Feuil1!$B$2:$C$103,2,0)) | F15: =E15 -> 0 | G15: 0 | H15: 0 | I15: 0 | J15: 0 | K15: =SUM(I15,J15) -> 0 | L15: 0 | M15: 0 | N15: 0 | O15: 0 | P15: =SUM(L15:O15) -> 0
C16: =IF(B16="","",VLOOKUP(B16,Feuil1!$B$2:$C$103,2,0)) | F16: =E16 -> 0 | G16: 0 | H16: 0 | I16: 0 | J16: 0 | K16: =SUM(I16,J16) -> 0 | L16: 0 | M16: 0 | N16: 0 | O16: 0 | P16: =SUM(L16:O16) -> 0
C17: =IF(B17="","",VLOOKUP(B17,Feuil1!$B$2:$C$103,2,0)) | F17: =E17 -> 0 | G17: 0 | H17: 0 | I17: 0 | J17: 0 | K17: =SUM(I17,J17) -> 0 | L17: 0 | M17: 0 | N17: 0 | O17: 0 | P17: =SUM(L17:O17) -> 0
... C99: =IF(B99="","",VLOOKUP(B99,Feuil1!$B$2:$C$103,2,0)) | F99: =E99 -> 0 | G99: 0 | H99: 0 | I99: 0 | J99: 0 | K99: =SUM(I99,J99) -> 0 | L99: 0 | M99: 0 | N99: 0 | O99: 0 | P99: =SUM(L99:O99) -> 0

Sheet Nr-BW 05
A2: Total bassin | G2: =SUBTOTAL(9,G6:G99) -> 0 | H2: =SUBTOTAL(9,H6:H99) -> 0 | I2: =SUBTOTAL(9,I6:I99) -> 0 | J2: =SUBTOTAL(9,J6:J99) -> 0 | K2: =SUBTOTAL(9,K6:K99) -> 0 | L2: =SUBTOTAL(9,L6:L99) -> 0 | M2: =SUBTOTAL(9,M6:M99) -> 0 | N2: =SUBTOTAL(9,N6:N99) -> 0 | ... P2: =SUBTOTAL(9,P6:P99) -> 0
A3: Brabant wallon | G3: =SUMIF($A$6:$A$99,"Brabant wallon",G6:G99) -> 0 | H3: =SUMIF($A$6:$A$99,"Brabant wallon",H6:H99) -> 0 | I3: =SUMIF($A$6:$A$99,"Brabant wallon",I6:I99) -> 0 | J3: =SUMIF($A$6:$A$99,"Brabant wallon",J6:J99) -> 0 | K3: =SUMIF($A$6:$A$99,"Brabant wallon",K6:K99) -> 0 | L3: =SUMIF($A$6:$A$99,"Brabant wallon",L6:L99) -> 0 | M3: =SUMIF($A$6:$A$99,"Brabant wallon",M6:M99) -> 0 | N3: =SUMIF($A$6:$A$99,"Brabant wallon",N6:N99) -> 0 | ... P3: =SUMIF($A$6:$A$99,"Brabant wallon",P6:P99) -> 0
A4: Namur | G4: =SUMIF($A$6:$A$99,"Namur",G6:G99) -> 0 | H4: =SUMIF($A$6:$A$99,"Namur",H6:H99) -> 0 | I4: =SUMIF($A$6:$A$99,"Namur",I6:I99) -> 0 | J4: =SUMIF($A$6:$A$99,"Namur",J6:J99) -> 0 | K4: =SUMIF($A$6:$A$99,"Namur",K6:K99) -> 0 | L4: =SUMIF($A$6:$A$99,"Namur",L6:L99) -> 0 | M4: =SUMIF($A$6:$A$99,"Namur",M6:M99) -> 0 | N4: =SUMIF($A$6:$A$99,"Namur",N6:N99) -> 0 | ... P4: =SUMIF($A$6:$A$99,"Namur",P6:P99) -> 0
A5: CEFO | B5: Ecole | C5: Localité | D5: Section | E5: Date animation | F5: Année-mois | G5: Nb séances | H5: Nb élèves planifié | I5: Garçons présents | J5: Filles présentes | K5: Nb total élèves présents | L5: Nb élèves 4è | M5: Nb élèves 5è | N5: Nb élèves 6è | O5: Nb élèves 7è | P5: TOTAL tout niveau | Q5: Commentaires
C6: =IF(B6="","",VLOOKUP(B6,Feuil1!$B$2:$C$103,2,0)) | F6: =E6 -> 0 | G6: 0 | H6: 0 | I6: 0 | J6: 0 | K6: =SUM(I6,J6) -> 0 | L6: 0 | M6: 0 | N6: 0 | O6: 0 | P6: =SUM(L6:O6) -> 0
C7: =IF(B7="","",VLOOKUP(B7,Feuil1!$B$2:$C$103,2,0)) | F7: =E7 -> 0 | G7: 0 | H7: 0 | I7: 0 | J7: 0 | K7: =SUM(I7,J7) -> 0 | L7: 0 | M7: 0 | N7: 0 | O7: 0 | P7: =SUM(L7:O7) -> 0
C8: =IF(B8="","",VLOOKUP(B8,Feuil1!$B$2:$C$103,2,0)) | F8: =E8 -> 0 | G8: 0 | H8: 0 | I8: 0 | J8: 0 | K8: =SUM(I8,J8) -> 0 | L8: 0 | M8: 0 | N8: 0 | O8: 0 | P8: =SUM(L8:O8) -> 0
C9: =IF(B9="","",VLOOKUP(B9,Feuil1!$B$2:$C$103,2,0)) | F9: =E9 -> 0 | G9: 0 | H9: 0 | I9: 0 | J9: 0 | K9: =SUM(I9,J9) -> 0 | L9: 0 | M9: 0 | N9: 0 | O9: 0 | P9: =SUM(L9:O9) -> 0
C10: =IF(B10="","",VLOOKUP(B10,Feuil1!$B$2:$C$103,2,0)) | F10: =E10 -> 0 | G10: 0 | H10: 0 | I10: 0 | J10: 0 | K10: =SUM(I10,J10) -> 0 | L10: 0 | M10: 0 | N10: 0 | O10: 0 | P10: =SUM(L10:O10) -> 0
C11: =IF(B11="","",VLOOKUP(B11,Feuil1!$B$2:$C$103,2,0)) | F11: =E11 -> 0 | G11: 0 | H11: 0 | I11: 0 | J11: 0 | K11: =SUM(I11,J11) -> 0 | L11: 0 | M11: 0 | N11: 0 | O11: 0 | P11: =SUM(L11:O11) -> 0
C12: =IF(B12="","",VLOOKUP(B12,Feuil1!$B$2:$C$103,2,0)) | F12: =E12 -> 0 | G12: 0 | H12: 0 | I12: 0 | J12: 0 | K12: =SUM(I12,J12) -> 0 | L12: 0 | M12: 0 | N12: 0 | O12: 0 | P12: =SUM(L12:O12) -> 0
C13: =IF(B13="","",VLOOKUP(B13,Feuil1!$B$2:$C$103,2,0)) | F13: =E13 -> 0 | G13: 0 | H13: 0 | I13: 0 | J13: 0 | K13: =SUM(I13,J13) -> 0 | L13: 0 | M13: 0 | N13: 0 | O13: 0 | P13: =SUM(L13:O13) -> 0
C14: =IF(B14="","",VLOOKUP(B14,Feuil1!$B$2:$C$103,2,0)) | F14: =E14 -> 0 | G14: 0 | H14: 0 | I14: 0 | J14: 0 | K14: =SUM(I14,J14) -> 0 | L14: 0 | M14: 0 | N14: 0 | O14: 0 | P14: =SUM(L14:O14) -> 0
C15: =IF(B15="","",VLOOKUP(B15,Feuil1!$B$2:$C$103,2,0)) | F15: =E15 -> 0 | G15: 0 | H15: 0 | I15: 0 | J15: 0 | K15: =SUM(I15,J15) -> 0 | L15: 0 | M15: 0 | N15: 0 | O15: 0 | P15: =SUM(L15:O15) -> 0
C16: =IF(B16="","",VLOOKUP(B16,Feuil1!$B$2:$C$103,2,0)) | F16: =E16 -> 0 | G16: 0 | H16: 0 | I16: 0 | J16: 0 | K16: =SUM(I16,J16) -> 0 | L16: 0 | M16: 0 | N16: 0 | O16: 0 | P16: =SUM(L16:O16) -> 0
C17: =IF(B17="","",VLOOKUP(B17,Feuil1!$B$2:$C$103,2,0)) | F17: =E17 -> 0 | G17: 0 | H17: 0 | I17: 0 | J17: 0 | K17: =SUM(I17,J17) -> 0 | L17: 0 | M17: 0 | N17: 0 | O17: 0 | P17: =SUM(L17:O17) -> 0
... C99: =IF(B99="","",VLOOKUP(B99,Feuil1!$B$2:$C$103,2,0)) | F99: =E99 -> 0 | G99: 0 | H99: 0 | I99: 0 | J99: 0 | K99: =SUM(I99,J99) -> 0 | L99: 0 | M99: 0 | N99: 0 | O99: 0 | P99: =SUM(L99:O99) -> 0

Sheet Nr-BW 06
A2: Total bassin | G2: =SUBTOTAL(9,G6:G99) -> 0 | H2: =SUBTOTAL(9,H6:H99) -> 0 | I2: =SUBTOTAL(9,I6:I99) -> 0 | J2: =SUBTOTAL(9,J6:J99) -> 0 | K2: =SUBTOTAL(9,K6:K99) -> 0 | L2: =SUBTOTAL(9,L6:L99) -> 0 | M2: =SUBTOTAL(9,M6:M99) -> 0 | N2: =SUBTOTAL(9,N6:N99) -> 0 | ... P2: =SUBTOTAL(9,P6:P99) -> 0
A3: Brabant wallon | G3: =SUMIF($A$6:$A$99,"Brabant wallon",G6:G99) -> 0 | H3: =SUMIF($A$6:$A$99,"Brabant wallon",H6:H99) -> 0 | I3: =SUMIF($A$6:$A$99,"Brabant wallon",I6:I99) -> 0 | J3: =SUMIF($A$6:$A$99,"Brabant wallon",J6:J99) -> 0 | K3: =SUMIF($A$6:$A$99,"Brabant wallon",K6:K99) -> 0 | L3: =SUMIF($A$6:$A$99,"Brabant wallon",L6:L99) -> 0 | M3: =SUMIF($A$6:$A$99,"Brabant wallon",M6:M99) -> 0 | N3: =SUMIF($A$6:$A$99,"Brabant wallon",N6:N99) -> 0 | ... P3: =SUMIF($A$6:$A$99,"Brabant wallon",P6:P99) -> 0
A4: Namur | G4: =SUMIF($A$6:$A$99,"Namur",G6:G99) -> 0 | H4: =SUMIF($A$6:$A$99,"Namur",H6:H99) -> 0 | I4: =SUMIF($A$6:$A$99,"Namur",I6:I99) -> 0 | J4: =SUMIF($A$6:$A$99,"Namur",J6:J99) -> 0 | K4: =SUMIF($A$6:$A$99,"Namur",K6:K99) -> 0 | L4: =SUMIF($A$6:$A$99,"Namur",L6:L99) -> 0 | M4: =SUMIF($A$6:$A$99,"Namur",M6:M99) -> 0 | N4: =SUMIF($A$6:$A$99,"Namur",N6:N99) -> 0 | ... P4: =SUMIF($A$6:$A$99,"Namur",P6:P99) -> 0
A5: CEFO | B5: Ecole | C5: Localité | D5: Section | E5: Date animation | F5: Année-mois | G5: Nb séances | H5: Nb élèves planifié | I5: Garçons présents | J5: Filles présentes | K5: Nb total élèves présents | L5: Nb élèves 4è | M5: Nb élèves 5è | N5: Nb élèves 6è | O5: Nb élèves 7è | P5: TOTAL tout niveau | Q5: Commentaires
C6: =IF(B6="","",VLOOKUP(B6,Feuil1!$B$2:$C$103,2,0)) | F6: =E6 -> 0 | G6: 0 | H6: 0 | I6: 0 | J6: 0 | K6: =SUM(I6,J6) -> 0 | L6: 0 | M6: 0 | N6: 0 | O6: 0 | P6: =SUM(L6:O6) -> 0
C7: =IF(B7="","",VLOOKUP(B7,Feuil1!$B$2:$C$103,2,0)) | F7: =E7 -> 0 | G7: 0 | H7: 0 | I7: 0 | J7: 0 | K7: =SUM(I7,J7) -> 0 | L7: 0 | M7: 0 | N7: 0 | O7: 0 | P7: =SUM(L7:O7) -> 0
C8: =IF(B8="","",VLOOKUP(B8,Feuil1!$B$2:$C$103,2,0)) | F8: =E8 -> 0 | G8: 0 | H8: 0 | I8: 0 | J8: 0 | K8: =SUM(I8,J8) -> 0 | L8: 0 | M8: 0 | N8: 0 | O8: 0 | P8: =SUM(L8:O8) -> 0
C9: =IF(B9="","",VLOOKUP(B9,Feuil1!$B$2:$C$103,2,0)) | F9: =E9 -> 0 | G9: 0 | H9: 0 | I9: 0 | J9: 0 | K9: =SUM(I9,J9) -> 0 | L9: 0 | M9: 0 | N9: 0 | O9: 0 | P9: =SUM(L9:O9) -> 0
C10: =IF(B10="","",VLOOKUP(B10,Feuil1!$B$2:$C$103,2,0)) | F10: =E10 -> 0 | G10: 0 | H10: 0 | I10: 0 | J10: 0 | K10: =SUM(I10,J10) -> 0 | L10: 0 | M10: 0 | N10: 0 | O10: 0 | P10: =SUM(L10:O10) -> 0
C11: =IF(B11="","",VLOOKUP(B11,Feuil1!$B$2:$C$103,2,0)) | F11: =E11 -> 0 | G11: 0 | H11: 0 | I11: 0 | J11: 0 | K11: =SUM(I11,J11) -> 0 | L11: 0 | M11: 0 | N11: 0 | O11: 0 | P11: =SUM(L11:O11) -> 0
C12: =IF(B12="","",VLOOKUP(B12,Feuil1!$B$2:$C$103,2,0)) | F12: =E12 -> 0 | G12: 0 | H12: 0 | I12: 0 | J12: 0 | K12: =SUM(I12,J12) -> 0 | L12: 0 | M12: 0 | N12: 0 | O12: 0 | P12: =SUM(L12:O12) -> 0
C13: =IF(B13="","",VLOOKUP(B13,Feuil1!$B$2:$C$103,2,0)) | F13: =E13 -> 0 | G13: 0 | H13: 0 | I13: 0 | J13: 0 | K13: =SUM(I13,J13) -> 0 | L13: 0 | M13: 0 | N13: 0 | O13: 0 | P13: =SUM(L13:O13) -> 0
C14: =IF(B14="","",VLOOKUP(B14,Feuil1!$B$2:$C$103,2,0)) | F14: =E14 -> 0 | G14: 0 | H14: 0 | I14: 0 | J14: 0 | K14: =SUM(I14,J14) -> 0 | L14: 0 | M14: 0 | N14: 0 | O14: 0 | P14: =SUM(L14:O14) -> 0
C15: =IF(B15="","",VLOOKUP(B15,Feuil1!$B$2:$C$103,2,0)) | F15: =E15 -> 0 | G15: 0 | H15: 0 | I15: 0 | J15: 0 | K15: =SUM(I15,J15) -> 0 | L15: 0 | M15: 0 | N15: 0 | O15: 0 | P15: =SUM(L15:O15) -> 0
C16: =IF(B16="","",VLOOKUP(B16,Feuil1!$B$2:$C$103,2,0)) | F16: =E16 -> 0 | G16: 0 | H16: 0 | I16: 0 | J16: 0 | K16: =SUM(I16,J16) -> 0 | L16: 0 | M16: 0 | N16: 0 | O16: 0 | P16: =SUM(L16:O16) -> 0
C17: =IF(B17="","",VLOOKUP(B17,Feuil1!$B$2:$C$103,2,0)) | F17: =E17 -> 0 | G17: 0 | H17: 0 | I17: 0 | J17: 0 | K17: =SUM(I17,J17) -> 0 | L17: 0 | M17: 0 | N17: 0 | O17: 0 | P17: =SUM(L17:O17) -> 0
... C99: =IF(B99="","",VLOOKUP(B99,Feuil1!$B$2:$C$103,2,0)) | F99: =E99 -> 0 | G99: 0 | H99: 0 | I99: 0 | J99: 0 | K99: =SUM(I99,J99) -> 0 | L99: 0 | M99: 0 | N99: 0 | O99: 0 | P99: =SUM(L99:O99) -> 0

Sheet Nr-BW 09
A2: Total bassin | G2: =SUBTOTAL(9,G6:G99) -> 0 | H2: =SUBTOTAL(9,H6:H99) -> 0 | I2: =SUBTOTAL(9,I6:I99) -> 0 | J2: =SUBTOTAL(9,J6:J99) -> 0 | K2: =SUBTOTAL(9,K6:K99) -> 0 | L2: =SUBTOTAL(9,L6:L99) -> 0 | M2: =SUBTOTAL(9,M6:M99) -> 0 | N2: =SUBTOTAL(9,N6:N99) -> 0 | ... P2: =SUBTOTAL(9,P6:P99) -> 0
A3: Brabant wallon | G3: =SUMIF($A$6:$A$99,"Brabant wallon",G6:G99) -> 0 | H3: =SUMIF($A$6:$A$99,"Brabant wallon",H6:H99) -> 0 | I3: =SUMIF($A$6:$A$99,"Brabant wallon",I6:I99) -> 0 | J3: =SUMIF($A$6:$A$99,"Brabant wallon",J6:J99) -> 0 | K3: =SUMIF($A$6:$A$99,"Brabant wallon",K6:K99) -> 0 | L3: =SUMIF($A$6:$A$99,"Brabant wallon",L6:L99) -> 0 | M3: =SUMIF($A$6:$A$99,"Brabant wallon",M6:M99) -> 0 | N3: =SUMIF($A$6:$A$99,"Brabant wallon",N6:N99) -> 0 | ... P3: =SUMIF($A$6:$A$99,"Brabant wallon",P6:P99) -> 0
A4: Namur | G4: =SUMIF($A$6:$A$99,"Namur",G6:G99) -> 0 | H4: =SUMIF($A$6:$A$99,"Namur",H6:H99) -> 0 | I4: =SUMIF($A$6:$A$99,"Namur",I6:I99) -> 0 | J4: =SUMIF($A$6:$A$99,"Namur",J6:J99) -> 0 | K4: =SUMIF($A$6:$A$99,"Namur",K6:K99) -> 0 | L4: =SUMIF($A$6:$A$99,"Namur",L6:L99) -> 0 | M4: =SUMIF($A$6:$A$99,"Namur",M6:M99) -> 0 | N4: =SUMIF($A$6:$A$99,"Namur",N6:N99) -> 0 | ... P4: =SUMIF($A$6:$A$99,"Namur",P6:P99) -> 0
A5: CEFO | B5: Ecole | C5: Localité | D5: Section | E5: Date animation | F5: Année-mois | G5: Nb séances | H5: Nb élèves planifié | I5: Garçons présents | J5: Filles présentes | K5: Nb total élèves présents | L5: Nb élèves 4è | M5: Nb élèves 5è | N5: Nb élèves 6è | O5: Nb élèves 7è | P5: TOTAL tout niveau | Q5: Commentaires
C6: =IF(B6="","",VLOOKUP(B6,Feuil1!$B$2:$C$103,2,0)) | F6: =E6 -> 0 | G6: 0 | H6: 0 | I6: 0 | J6: 0 | K6: =SUM(I6,J6) -> 0 | L6: 0 | M6: 0 | N6: 0 | O6: 0 | P6: =SUM(L6:O6) -> 0
C7: =IF(B7="","",VLOOKUP(B7,Feuil1!$B$2:$C$103,2,0)) | F7: =E7 -> 0 | G7: 0 | H7: 0 | I7: 0 | J7: 0 | K7: =SUM(I7,J7) -> 0 | L7: 0 | M7: 0 | N7: 0 | O7: 0 | P7: =SUM(L7:O7) -> 0
C8: =IF(B8="","",VLOOKUP(B8,Feuil1!$B$2:$C$103,2,0)) | F8: =E8 -> 0 | G8: 0 | H8: 0 | I8: 0 | J8: 0 | K8: =SUM(I8,J8) -> 0 | L8: 0 | M8: 0 | N8: 0 | O8: 0 | P8: =SUM(L8:O8) -> 0
C9: =IF(B9="","",VLOOKUP(B9,Feuil1!$B$2:$C$103,2,0)) | F9: =E9 -> 0 | G9: 0 | H9: 0 | I9: 0 | J9: 0 | K9: =SUM(I9,J9) -> 0 | L9: 0 | M9: 0 | N9: 0 | O9: 0 | P9: =SUM(L9:O9) -> 0
C10: =IF(B10="","",VLOOKUP(B10,Feuil1!$B$2:$C$103,2,0)) | F10: =E10 -> 0 | G10: 0 | H10: 0 | I10: 0 | J10: 0 | K10: =SUM(I10,J10) -> 0 | L10: 0 | M10: 0 | N10: 0 | O10: 0 | P10: =SUM(L10:O10) -> 0
C11: =IF(B11="","",VLOOKUP(B11,Feuil1!$B$2:$C$103,2,0)) | F11: =E11 -> 0 | G11: 0 | H11: 0 | I11: 0 | J11: 0 | K11: =SUM(I11,J11) -> 0 | L11: 0 | M11: 0 | N11: 0 | O11: 0 | P11: =SUM(L11:O11) -> 0
C12: =IF(B12="","",VLOOKUP(B12,Feuil1!$B$2:$C$103,2,0)) | F12: =E12 -> 0 | G12: 0 | H12: 0 | I12: 0 | J12: 0 | K12: =SUM(I12,J12) -> 0 | L12: 0 | M12: 0 | N12: 0 | O12: 0 | P12: =SUM(L12:O12) -> 0
C13: =IF(B13="","",VLOOKUP(B13,Feuil1!$B$2:$C$103,2,0)) | F13: =E13 -> 0 | G13: 0 | H13: 0 | I13: 0 | J13: 0 | K13: =SUM(I13,J13) -> 0 | L13: 0 | M13: 0 | N13: 0 | O13: 0 | P13: =SUM(L13:O13) -> 0
C14: =IF(B14="","",VLOOKUP(B14,Feuil1!$B$2:$C$103,2,0)) | F14: =E14 -> 0 | G14: 0 | H14: 0 | I14: 0 | J14: 0 | K14: =SUM(I14,J14) -> 0 | L14: 0 | M14: 0 | N14: 0 | O14: 0 | P14: =SUM(L14:O14) -> 0
C15: =IF(B15="","",VLOOKUP(B15,Feuil1!$B$2:$C$103,2,0)) | F15: =E15 -> 0 | G15: 0 | H15: 0 | I15: 0 | J15: 0 | K15: =SUM(I15,J15) -> 0 | L15: 0 | M15: 0 | N15: 0 | O15: 0 | P15: =SUM(L15:O15) -> 0
C16: =IF(B16="","",VLOOKUP(B16,Feuil1!$B$2:$C$103,2,0)) | F16: =E16 -> 0 | G16: 0 | H16: 0 | I16: 0 | J16: 0 | K16: =SUM(I16,J16) -> 0 | L16: 0 | M16: 0 | N16: 0 | O16: 0 | P16: =SUM(L16:O16) -> 0
C17: =IF(B17="","",VLOOKUP(B17,Feuil1!$B$2:$C$103,2,0)) | F17: =E17 -> 0 | G17: 0 | H17: 0 | I17: 0 | J17: 0 | K17: =SUM(I17,J17) -> 0 | L17: 0 | M17: 0 | N17: 0 | O17: 0 | P17: =SUM(L17:O17) -> 0
... C99: =IF(B99="","",VLOOKUP(B99,Feuil1!$B$2:$C$103,2,0)) | F99: =E99 -> 0 | G99: 0 | H99: 0 | I99: 0 | J99: 0 | K99: =SUM(I99,J99) -> 0 | L99: 0 | M99: 0 | N99: 0 | O99: 0 | P99: =SUM(L99:O99) -> 0

Sheet Nr-BW 10
A2: Total bassin | G2: =SUBTOTAL(9,G6:G99) -> 0 | H2: =SUBTOTAL(9,H6:H99) -> 0 | I2: =SUBTOTAL(9,I6:I99) -> 0 | J2: =SUBTOTAL(9,J6:J99) -> 0 | K2: =SUBTOTAL(9,K6:K99) -> 0 | L2: =SUBTOTAL(9,L6:L99) -> 0 | M2: =SUBTOTAL(9,M6:M99) -> 0 | N2: =SUBTOTAL(9,N6:N99) -> 0 | ... P2: =SUBTOTAL(9,P6:P99) -> 0
A3: Brabant wallon | G3: =SUMIF($A$6:$A$99,"Brabant wallon",G6:G99) -> 0 | H3: =SUMIF($A$6:$A$99,"Brabant wallon",H6:H99) -> 0 | I3: =SUMIF($A$6:$A$99,"Brabant wallon",I6:I99) -> 0 | J3: =SUMIF($A$6:$A$99,"Brabant wallon",J6:J99) -> 0 | K3: =SUMIF($A$6:$A$99,"Brabant wallon",K6:K99) -> 0 | L3: =SUMIF($A$6:$A$99,"Brabant wallon",L6:L99) -> 0 | M3: =SUMIF($A$6:$A$99,"Brabant wallon",M6:M99) -> 0 | N3: =SUMIF($A$6:$A$99,"Brabant wallon",N6:N99) -> 0 | ... P3: =SUMIF($A$6:$A$99,"Brabant wallon",P6:P99) -> 0
A4: Namur | G4: =SUMIF($A$6:$A$99,"Namur",G6:G99) -> 0 | H4: =SUMIF($A$6:$A$99,"Namur",H6:H99) -> 0 | I4: =SUMIF($A$6:$A$99,"Namur",I6:I99) -> 0 | J4: =SUMIF($A$6:$A$99,"Namur",J6:J99) -> 0 | K4: =SUMIF($A$6:$A$99,"Namur",K6:K99) -> 0 | L4: =SUMIF($A$6:$A$99,"Namur",L6:L99) -> 0 | M4: =SUMIF($A$6:$A$99,"Namur",M6:M99) -> 0 | N4: =SUMIF($A$6:$A$99,"Namur",N6:N99) -> 0 | ... P4: =SUMIF($A$6:$A$99,"Namur",P6:P99) -> 0
A5: CEFO | B5: Ecole | C5: Localité | D5: Section | E5: Date animation | F5: Année-mois | G5: Nb séances | H5: Nb élèves planifié | I5: Garçons présents | J5: Filles présentes | K5: Nb total élèves présents | L5: Nb élèves 4è | M5: Nb élèves 5è | N5: Nb élèves 6è | O5: Nb élèves 7è | P5: TOTAL tout niveau | Q5: Commentaires
C6: =IF(B6="","",VLOOKUP(B6,Feuil1!$B$2:$C$103,2,0)) | F6: =E6 -> 0 | G6: 0 | H6: 0 | I6: 0 | J6: 0 | K6: =SUM(I6,J6) -> 0 | L6: 0 | M6: 0 | N6: 0 | O6: 0 | P6: =SUM(L6:O6) -> 0
C7: =IF(B7="","",VLOOKUP(B7,Feuil1!$B$2:$C$103,2,0)) | F7: =E7 -> 0 | G7: 0 | H7: 0 | I7: 0 | J7: 0 | K7: =SUM(I7,J7) -> 0 | L7: 0 | M7: 0 | N7: 0 | O7: 0 | P7: =SUM(L7:O7) -> 0
C8: =IF(B8="","",VLOOKUP(B8,Feuil1!$B$2:$C$103,2,0)) | F8: =E8 -> 0 | G8: 0 | H8: 0 | I8: 0 | J8: 0 | K8: =SUM(I8,J8) -> 0 | L8: 0 | M8: 0 | N8: 0 | O8: 0 | P8: =SUM(L8:O8) -> 0
C9: =IF(B9="","",VLOOKUP(B9,Feuil1!$B$2:$C$103,2,0)) | F9: =E9 -> 0 | G9: 0 | H9: 0 | I9: 0 | J9: 0 | K9: =SUM(I9,J9) -> 0 | L9: 0 | M9: 0 | N9: 0 | O9: 0 | P9: =SUM(L9:O9) -> 0
C10: =IF(B10="","",VLOOKUP(B10,Feuil1!$B$2:$C$103,2,0)) | F10: =E10 -> 0 | G10: 0 | H10: 0 | I10: 0 | J10: 0 | K10: =SUM(I10,J10) -> 0 | L10: 0 | M10: 0 | N10: 0 | O10: 0 | P10: =SUM(L10:O10) -> 0
C11: =IF(B11="","",VLOOKUP(B11,Feuil1!$B$2:$C$103,2,0)) | F11: =E11 -> 0 | G11: 0 | H11: 0 | I11: 0 | J11: 0 | K11: =SUM(I11,J11) -> 0 | L11: 0 | M11: 0 | N11: 0 | O11: 0 | P11: =SUM(L11:O11) -> 0
C12: =IF(B12="","",VLOOKUP(B12,Feuil1!$B$2:$C$103,2,0)) | F12: =E12 -> 0 | G12: 0 | H12: 0 | I12: 0 | J12: 0 | K12: =SUM(I12,J12) -> 0 | L12: 0 | M12: 0 | N12: 0 | O12: 0 | P12: =SUM(L12:O12) -> 0
C13: =IF(B13="","",VLOOKUP(B13,Feuil1!$B$2:$C$103,2,0)) | F13: =E13 -> 0 | G13: 0 | H13: 0 | I13: 0 | J13: 0 | K13: =SUM(I13,J13) -> 0 | L13: 0 | M13: 0 | N13: 0 | O13: 0 | P13: =SUM(L13:O13) -> 0
C14: =IF(B14="","",VLOOKUP(B14,Feuil1!$B$2:$C$103,2,0)) | F14: =E14 -> 0 | G14: 0 | H14: 0 | I14: 0 | J14: 0 | K14: =SUM(I14,J14) -> 0 | L14: 0 | M14: 0 | N14: 0 | O14: 0 | P14: =SUM(L14:O14) -> 0
C15: =IF(B15="","",VLOOKUP(B15,Feuil1!$B$2:$C$103,2,0)) | F15: =E15 -> 0 | G15: 0 | H15: 0 | I15: 0 | J15: 0 | K15: =SUM(I15,J15) -> 0 | L15: 0 | M15: 0 | N15: 0 | O15: 0 | P15: =SUM(L15:O15) -> 0
C16: =IF(B16="","",VLOOKUP(B16,Feuil1!$B$2:$C$103,2,0)) | F16: =E16 -> 0 | G16: 0 | H16: 0 | I16: 0 | J16: 0 | K16: =SUM(I16,J16) -> 0 | L16: 0 | M16: 0 | N16: 0 | O16: 0 | P16: =SUM(L16:O16) -> 0
C17: =IF(B17="","",VLOOKUP(B17,Feuil1!$B$2:$C$103,2,0)) | F17: =E17 -> 0 | G17: 0 | H17: 0 | I17: 0 | J17: 0 | K17: =SUM(I17,J17) -> 0 | L17: 0 | M17: 0 | N17: 0 | O17: 0 | P17: =SUM(L17:O17) -> 0
... C99: =IF(B99="","",VLOOKUP(B99,Feuil1!$B$2:$C$103,2,0)) | F99: =E99 -> 0 | G99: 0 | H99: 0 | I99: 0 | J99: 0 | K99: =SUM(I99,J99) -> 0 | L99: 0 | M99: 0 | N99: 0 | O99: 0 | P99: =SUM(L99:O99) -> 0

Sheet Nr-BW 11
A2: Total bassin | G2: =SUBTOTAL(9,G6:G99) -> 0 | H2: =SUBTOTAL(9,H6:H99) -> 0 | I2: =SUBTOTAL(9,I6:I99) -> 0 | J2: =SUBTOTAL(9,J6:J99) -> 0 | K2: =SUBTOTAL(9,K6:K99) -> 0 | L2: =SUBTOTAL(9,L6:L99) -> 0 | M2: =SUBTOTAL(9,M6:M99) -> 0 | N2: =SUBTOTAL(9,N6:N99) -> 0 | ... P2: =SUBTOTAL(9,P6:P99) -> 0
A3: Brabant wallon | G3: =SUMIF($A$6:$A$99,"Brabant wallon",G6:G99) -> 0 | H3: =SUMIF($A$6:$A$99,"Brabant wallon",H6:H99) -> 0 | I3: =SUMIF($A$6:$A$99,"Brabant wallon",I6:I99) -> 0 | J3: =SUMIF($A$6:$A$99,"Brabant wallon",J6:J99) -> 0 | K3: =SUMIF($A$6:$A$99,"Brabant wallon",K6:K99) -> 0 | L3: =SUMIF($A$6:$A$99,"Brabant wallon",L6:L99) -> 0 | M3: =SUMIF($A$6:$A$99,"Brabant wallon",M6:M99) -> 0 | N3: =SUMIF($A$6:$A$99,"Brabant wallon",N6:N99) -> 0 | ... P3: =SUMIF($A$6:$A$99,"Brabant wallon",P6:P99) -> 0
A4: Namur | G4: =SUMIF($A$6:$A$99,"Namur",G6:G99) -> 0 | H4: =SUMIF($A$6:$A$99,"Namur",H6:H99) -> 0 | I4: =SUMIF($A$6:$A$99,"Namur",I6:I99) -> 0 | J4: =SUMIF($A$6:$A$99,"Namur",J6:J99) -> 0 | K4: =SUMIF($A$6:$A$99,"Namur",K6:K99) -> 0 | L4: =SUMIF($A$6:$A$99,"Namur",L6:L99) -> 0 | M4: =SUMIF($A$6:$A$99,"Namur",M6:M99) -> 0 | N4: =SUMIF($A$6:$A$99,"Namur",N6:N99) -> 0 | ... P4: =SUMIF($A$6:$A$99,"Namur",P6:P99) -> 0
A5: CEFO | B5: Ecole | C5: Localité | D5: Section | E5: Date animation | F5: Année-mois | G5: Nb séances | H5: Nb élèves planifié | I5: Garçons présents | J5: Filles présentes | K5: Nb total élèves présents | L5: Nb élèves 4è | M5: Nb élèves 5è | N5: Nb élèves 6è | O5: Nb élèves 7è | P5: TOTAL tout niveau | Q5: Commentaires
C6: =IF(B6="","",VLOOKUP(B6,Feuil1!$B$2:$C$103,2,0)) | F6: =E6 -> 0 | G6: 0 | H6: 0 | I6: 0 | J6: 0 | K6: =SUM(I6,J6) -> 0 | L6: 0 | M6: 0 | N6: 0 | O6: 0 | P6: =SUM(L6:O6) -> 0
C7: =IF(B7="","",VLOOKUP(B7,Feuil1!$B$2:$C$103,2,0)) | F7: =E7 -> 0 | G7: 0 | H7: 0 | I7: 0 | J7: 0 | K7: =SUM(I7,J7) -> 0 | L7: 0 | M7: 0 | N7: 0 | O7: 0 | P7: =SUM(L7:O7) -> 0
C8: =IF(B8="","",VLOOKUP(B8,Feuil1!$B$2:$C$103,2,0)) | F8: =E8 -> 0 | G8: 0 | H8: 0 | I8: 0 | J8: 0 | K8: =SUM(I8,J8) -> 0 | L8: 0 | M8: 0 | N8: 0 | O8: 0 | P8: =SUM(L8:O8) -> 0
C9: =IF(B9="","",VLOOKUP(B9,Feuil1!$B$2:$C$103,2,0)) | F9: =E9 -> 0 | G9: 0 | H9: 0 | I9: 0 | J9: 0 | K9: =SUM(I9,J9) -> 0 | L9: 0 | M9: 0 | N9: 0 | O9: 0 | P9: =SUM(L9:O9) -> 0
C10: =IF(B10="","",VLOOKUP(B10,Feuil1!$B$2:$C$103,2,0)) | F10: =E10 -> 0 | G10: 0 | H10: 0 | I10: 0 | J10: 0 | K10: =SUM(I10,J10) -> 0 | L10: 0 | M10: 0 | N10: 0 | O10: 0 | P10: =SUM(L10:O10) -> 0
C11: =IF(B11="","",VLOOKUP(B11,Feuil1!$B$2:$C$103,2,0)) | F11: =E11 -> 0 | G11: 0 | H11: 0 | I11: 0 | J11: 0 | K11: =SUM(I11,J11) -> 0 | L11: 0 | M11: 0 | N11: 0 | O11: 0 | P11: =SUM(L11:O11) -> 0
C12: =IF(B12="","",VLOOKUP(B12,Feuil1!$B$2:$C$103,2,0)) | F12: =E12 -> 0 | G12: 0 | H12: 0 | I12: 0 | J12: 0 | K12: =SUM(I12,J12) -> 0 | L12: 0 | M12: 0 | N12: 0 | O12: 0 | P12: =SUM(L12:O12) -> 0
C13: =IF(B13="","",VLOOKUP(B13,Feuil1!$B$2:$C$103,2,0)) | F13: =E13 -> 0 | G13: 0 | H13: 0 | I13: 0 | J13: 0 | K13: =SUM(I13,J13) -> 0 | L13: 0 | M13: 0 | N13: 0 | O13: 0 | P13: =SUM(L13:O13) -> 0
C14: =IF(B14="","",VLOOKUP(B14,Feuil1!$B$2:$C$103,2,0)) | F14: =E14 -> 0 | G14: 0 | H14: 0 | I14: 0 | J14: 0 | K14: =SUM(I14,J14) -> 0 | L14: 0 | M14: 0 | N14: 0 | O14: 0 | P14: =SUM(L14:O14) -> 0
C15: =IF(B15="","",VLOOKUP(B15,Feuil1!$B$2:$C$103,2,0)) | F15: =E15 -> 0 | G15: 0 | H15: 0 | I15: 0 | J15: 0 | K15: =SUM(I15,J15) -> 0 | L15: 0 | M15: 0 | N15: 0 | O15: 0 | P15: =SUM(L15:O15) -> 0
C16: =IF(B16="","",VLOOKUP(B16,Feuil1!$B$2:$C$103,2,0)) | F16: =E16 -> 0 | G16: 0 | H16: 0 | I16: 0 | J16: 0 | K16: =SUM(I16,J16) -> 0 | L16: 0 | M16: 0 | N16: 0 | O16: 0 | P16: =SUM(L16:O16) -> 0
C17: =IF(B17="","",VLOOKUP(B17,Feuil1!$B$2:$C$103,2,0)) | F17: =E17 -> 0 | G17: 0 | H17: 0 | I17: 0 | J17: 0 | K17: =SUM(I17,J17) -> 0 | L17: 0 | M17: 0 | N17: 0 | O17: 0 | P17: =SUM(L17:O17) -> 0
... C99: =IF(B99="","",VLOOKUP(B99,Feuil1!$B$2:$C$103,2,0)) | F99: =E99 -> 0 | G99: 0 | H99: 0 | I99: 0 | J99: 0 | K99: =SUM(I99,J99) -> 0 | L99: 0 | M99: 0 | N99: 0 | O99: 0 | P99: =SUM(L99:O99) -> 0

Sheet Nr-BW 12
A2: Total bassin | G2: =SUBTOTAL(9,G6:G99) -> 0 | H2: =SUBTOTAL(9,H6:H99) -> 0 | I2: =SUBTOTAL(9,I6:I99) -> 0 | J2: =SUBTOTAL(9,J6:J99) -> 0 | K2: =SUBTOTAL(9,K6:K99) -> 0 | L2: =SUBTOTAL(9,L6:L99) -> 0 | M2: =SUBTOTAL(9,M6:M99) -> 0 | N2: =SUBTOTAL(9,N6:N99) -> 0 | ... P2: =SUBTOTAL(9,P6:P99) -> 0
A3: Brabant wallon | G3: =SUMIF($A$6:$A$99,"Brabant wallon",G6:G99) -> 0 | H3: =SUMIF($A$6:$A$99,"Brabant wallon",H6:H99) -> 0 | I3: =SUMIF($A$6:$A$99,"Brabant wallon",I6:I99) -> 0 | J3: =SUMIF($A$6:$A$99,"Brabant wallon",J6:J99) -> 0 | K3: =SUMIF($A$6:$A$99,"Brabant wallon",K6:K99) -> 0 | L3: =SUMIF($A$6:$A$99,"Brabant wallon",L6:L99) -> 0 | M3: =SUMIF($A$6:$A$99,"Brabant wallon",M6:M99) -> 0 | N3: =SUMIF($A$6:$A$99,"Brabant wallon",N6:N99) -> 0 | ... P3: =SUMIF($A$6:$A$99,"Brabant wallon",P6:P99) -> 0
A4: Namur | G4: =SUMIF($A$6:$A$99,"Namur",G6:G99) -> 0 | H4: =SUMIF($A$6:$A$99,"Namur",H6:H99) -> 0 | I4: =SUMIF($A$6:$A$99,"Namur",I6:I99) -> 0 | J4: =SUMIF($A$6:$A$99,"Namur",J6:J99) -> 0 | K4: =SUMIF($A$6:$A$99,"Namur",K6:K99) -> 0 | L4: =SUMIF($A$6:$A$99,"Namur",L6:L99) -> 0 | M4: =SUMIF($A$6:$A$99,"Namur",M6:M99) -> 0 | N4: =SUMIF($A$6:$A$99,"Namur",N6:N99) -> 0 | ... P4: =SUMIF($A$6:$A$99,"Namur",P6:P99) -> 0
A5: CEFO | B5: Ecole | C5: Localité | D5: Section | E5: Date animation | F5: Année-mois | G5: Nb séances | H5: Nb élèves planifié | I5: Garçons présents | J5: Filles présentes | K5: Nb total élèves présents | L5: Nb élèves 4è | M5: Nb élèves 5è | N5: Nb élèves 6è | O5: Nb élèves 7è | P5: TOTAL tout niveau | Q5: Commentaires
C6: =IF(B6="","",VLOOKUP(B6,Feuil1!$B$2:$C$103,2,0)) | F6: =E6 -> 0 | G6: 0 | H6: 0 | I6: 0 | J6: 0 | K6: =SUM(I6,J6) -> 0 | L6: 0 | M6: 0 | N6: 0 | O6: 0 | P6: =SUM(L6:O6) -> 0
C7: =IF(B7="","",VLOOKUP(B7,Feuil1!$B$2:$C$103,2,0)) | F7: =E7 -> 0 | G7: 0 | H7: 0 | I7: 0 | J7: 0 | K7: =SUM(I7,J7) -> 0 | L7: 0 | M7: 0 | N7: 0 | O7: 0 | P7: =SUM(L7:O7) -> 0
C8: =IF(B8="","",VLOOKUP(B8,Feuil1!$B$2:$C$103,2,0)) | F8: =E8 -> 0 | G8: 0 | H8: 0 | I8: 0 | J8: 0 | K8: =SUM(I8,J8) -> 0 | L8: 0 | M8: 0 | N8: 0 | O8: 0 | P8: =SUM(L8:O8) -> 0
C9: =IF(B9="","",VLOOKUP(B9,Feuil1!$B$2:$C$103,2,0)) | F9: =E9 -> 0 | G9: 0 | H9: 0 | I9: 0 | J9: 0 | K9: =SUM(I9,J9) -> 0 | L9: 0 | M9: 0 | N9: 0 | O9: 0 | P9: =SUM(L9:O9) -> 0
C10: =IF(B10="","",VLOOKUP(B10,Feuil1!$B$2:$C$103,2,0)) | F10: =E10 -> 0 | G10: 0 | H10: 0 | I10: 0 | J10: 0 | K10: =SUM(I10,J10) -> 0 | L10: 0 | M10: 0 | N10: 0 | O10: 0 | P10: =SUM(L10:O10) -> 0
C11: =IF(B11="","",VLOOKUP(B11,Feuil1!$B$2:$C$103,2,0)) | F11: =E11 -> 0 | G11: 0 | H11: 0 | I11: 0 | J11: 0 | K11: =SUM(I11,J11) -> 0 | L11: 0 | M11: 0 | N11: 0 | O11: 0 | P11: =SUM(L11:O11) -> 0
C12: =IF(B12="","",VLOOKUP(B12,Feuil1!$B$2:$C$103,2,0)) | F12: =E12 -> 0 | G12: 0 | H12: 0 | I12: 0 | J12: 0 | K12: =SUM(I12,J12) -> 0 | L12: 0 | M12: 0 | N12: 0 | O12: 0 | P12: =SUM(L12:O12) -> 0
C13: =IF(B13="","",VLOOKUP(B13,Feuil1!$B$2:$C$103,2,0)) | F13: =E13 -> 0 | G13: 0 | H13: 0 | I13: 0 | J13: 0 | K13: =SUM(I13,J13) -> 0 | L13: 0 | M13: 0 | N13: 0 | O13: 0 | P13: =SUM(L13:O13) -> 0
C14: =IF(B14="","",VLOOKUP(B14,Feuil1!$B$2:$C$103,2,0)) | F14: =E14 -> 0 | G14: 0 | H14: 0 | I14: 0 | J14: 0 | K14: =SUM(I14,J14) -> 0 | L14: 0 | M14: 0 | N14: 0 | O14: 0 | P14: =SUM(L14:O14) -> 0
C15: =IF(B15="","",VLOOKUP(B15,Feuil1!$B$2:$C$103,2,0)) | F15: =E15 -> 0 | G15: 0 | H15: 0 | I15: 0 | J15: 0 | K15: =SUM(I15,J15) -> 0 | L15: 0 | M15: 0 | N15: 0 | O15: 0 | P15: =SUM(L15:O15) -> 0
C16: =IF(B16="","",VLOOKUP(B16,Feuil1!$B$2:$C$103,2,0)) | F16: =E16 -> 0 | G16: 0 | H16: 0 | I16: 0 | J16: 0 | K16: =SUM(I16,J16) -> 0 | L16: 0 | M16: 0 | N16: 0 | O16: 0 | P16: =SUM(L16:O16) -> 0
C17: =IF(B17="","",VLOOKUP(B17,Feuil1!$B$2:$C$103,2,0)) | F17: =E17 -> 0 | G17: 0 | H17: 0 | I17: 0 | J17: 0 | K17: =SUM(I17,J17) -> 0 | L17: 0 | M17: 0 | N17: 0 | O17: 0 | P17: =SUM(L17:O17) -> 0
... C99: =IF(B99="","",VLOOKUP(B99,Feuil1!$B$2:$C$103,2,0)) | F99: =E99 -> 0 | G99: 0 | H99: 0 | I99: 0 | J99: 0 | K99: =SUM(I99,J99) -> 0 | L99: 0 | M99: 0 | N99: 0 | O99: 0 | P99: =SUM(L99:O99) -> 0

Sheet TOTAL 2017
B1: Janvier | F1: Février | J1: Mars | N1: Avril | R1: Mai | V1: Juin | Z1: Septembre | AD1: Octobre | AH1: Novembre | AL1: Décembre | AP1: Atteinte objectif
A2: CEFO | B2: Planifié | C2: Réalisé | E2: Nombre de séances | F2: Planifié | G2: Réalisé | I2: Nombre de séances | J2: Planifié | K2: Réalisé | M2: Nombre de séances | N2: Planifié | O2: Réalisé | Q2: Nombre de séances | R2: Planifié | S2: Réalisé | U2: Nombre de séances | V2: Planifié | W2: Réalisé | Y2: Nombre de séances | Z2: Planifié | AA2: Réalisé | AC2: Nombre de séances | AD2: Planifié | AE2: Réalisé | AG2: Nombre de séances | AH2: Planifié | AI2: Réalisé | AK2: Nombre de séances | AL2: Planifié | AM2: Réalisé | AO2: Nombre de séances | AP2: Planifié cumulé | AQ2: Réalisé cumulé | AS2: Realisé total | AT2: Nombre total de séances | AU2: Objectif total | AV2: % atteinte de l'objectif (global)
C3: G | D3: F | G3: G | H3: F | K3: G | L3: F | O3: G | P3: F | S3: G | T3: F | W3: G | X3: F | AA3: G | AB3: F | AE3: G | AF3: F | AI3: G | AJ3: F | AM3: G | AN3: F | AQ3: G | AR3: F
A4: Brabant wallon | B4: ='Nr-BW 01'!H3 -> 0 | C4: ='Nr-BW 01'!I3 -> 0 | D4: ='Nr-BW 01'!J3 -> 0 | E4: ='Nr-BW 01'!G3 -> 0 | F4: ='Nr-BW 02'!H3 -> 0 | G4: ='Nr-BW 02'!I3 -> 0 | H4: ='Nr-BW 02'!J3 -> 0 | I4: ='Nr-BW 02'!G3 -> 0 | J4: ='Nr-BW 03'!H3 -> 0 | K4: ='Nr-BW 03'!I3 -> 0 | L4: ='Nr-BW 03'!J3 -> 0 | M4: ='Nr-BW 03'!G3 -> 0 | N4: ='Nr-BW 04'!H3 -> 0 | O4: ='Nr-BW 04'!I3 -> 0 | P4: ='Nr-BW 04'!J3 -> 0 | Q4: ='Nr-BW 04'!G3 -> 0 | R4: ='Nr-BW 05'!H3 -> 0 | S4: ='Nr-BW 05'!I3 -> 0 | T4: ='Nr-BW 05'!J3 -> 0 | U4: ='Nr-BW 05'!G3 -> 0 | V4: ='Nr-BW 06'!H3 -> 0 | W4: ='Nr-BW 06'!I3 -> 0 | X4: ='Nr-BW 06'!J3 -> 0 | Y4: ='Nr-BW 06'!G3 -> 0 | Z4: ='Nr-BW 09'!H3 -> 0 | AA4: ='Nr-BW 09'!I3 -> 0 | AB4: ='Nr-BW 09'!J3 -> 0 | AC4: ='Nr-BW 09'!G3 -> 0 | AD4: ='Nr-BW 10'!H3 -> 0 | AE4: ='Nr-BW 10'!I3 -> 0 | AF4: ='Nr-BW 10'!J3 -> 0 | AG4: ='Nr-BW 10'!G3 -> 0 | AH4: ='Nr-BW 11'!H3 -> 0 | AI4: ='Nr-BW 11'!I3 -> 0 | AJ4: ='Nr-BW 11'!J3 -> 0 | AK4: ='Nr-BW 11'!G3 -> 0 | AL4: ='Nr-BW 12'!H3 -> 0 | AM4: ='Nr-BW 12'!I3 -> 0 | AN4: ='Nr-BW 12'!J3 -> 0 | AO4: ='Nr-BW 12'!G3 -> 0 | AP4: =B4+F4+J4+N4+R4+V4+Z4+AD4+AH4+AL4 -> 0 | AQ4: =C4+G4+K4+O4+S4+W4+AA4+AE4+AI4+AM4 -> 0 | AR4: =+D4+H4+L4+P4+T4+X4+AB4+AF4+AJ4+AN4 -> 0 | AS4: =AQ4+AR4 -> 0 | AT4: =E4+I4+M4+Q4+U4+Y4+AC4+AG4+AK4+AO4 -> 0 | AU4: 2850 | AV4: =AS4/AU4 -> 0
A5: Namur | B5: ='Nr-BW 01'!H4 -> 0 | C5: ='Nr-BW 01'!I4 -> 0 | D5: ='Nr-BW 01'!J4 -> 0 | E5: ='Nr-BW 01'!G4 -> 0 | F5: ='Nr-BW 02'!H4 -> 0 | G5: ='Nr-BW 02'!I4 -> 0 | H5: ='Nr-BW 02'!J4 -> 0 | I5: ='Nr-BW 02'!G4 -> 0 | J5: ='Nr-BW 03'!H4 -> 0 | K5: ='Nr-BW 03'!I4 -> 0 | L5: ='Nr-BW 03'!J4 -> 0 | M5: ='Nr-BW 03'!G4 -> 0 | N5: ='Nr-BW 04'!H4 -> 0 | O5: ='Nr-BW 04'!I4 -> 0 | P5: ='Nr-BW 04'!J4 -> 0 | Q5: ='Nr-BW 04'!G4 -> 0 | R5: ='Nr-BW 05'!H4 -> 0 | S5: ='Nr-BW 05'!I4 -> 0 | T5: ='Nr-BW 05'!J4 -> 0 | U5: ='Nr-BW 05'!G4 -> 0 | V5: ='Nr-BW 06'!H4 -> 0 | W5: ='Nr-BW 06'!I4 -> 0 | X5: ='Nr-BW 06'!J4 -> 0 | Y5: ='Nr-BW 06'!G4 -> 0 | Z5: ='Nr-BW 09'!H4 -> 0 | AA5: ='Nr-BW 09'!I4 -> 0 | AB5: ='Nr-BW 09'!J4 -> 0 | AC5: ='Nr-BW 09'!G4 -> 0 | AD5: ='Nr-BW 10'!H4 -> 0 | AE5: ='Nr-BW 10'!I4 -> 0 | AF5: ='Nr-BW 10'!J4 -> 0 | AG5: ='Nr-BW 10'!G4 -> 0 | AH5: ='Nr-BW 11'!H4 -> 0 | AI5: ='Nr-BW 11'!I4 -> 0 | AJ5: ='Nr-BW 11'!J4 -> 0 | AK5: ='Nr-BW 11'!G4 -> 0 | AL5: ='Nr-BW 12'!H4 -> 0 | AM5: ='Nr-BW 12'!I4 -> 0 | AN5: ='Nr-BW 12'!J4 -> 0 | AO5: ='Nr-BW 12'!G4 -> 0 | AP5: =B5+F5+J5+N5+R5+V5+Z5+AD5+AH5+AL5 -> 0 | AQ5: =C5+G5+K5+O5+S5+W5+AA5+AE5+AI5+AM5 -> 0 | AR5: =+D5+H5+L5+P5+T5+X5+AB5+AF5+AJ5+AN5 -> 0 | AS5: =AQ5+AR5 -> 0 | AT5: =E5+I5+M5+Q5+U5+Y5+AC5+AG5+AK5+AO5 -> 0 | AU5: 2850 | AV5: =AS5/AU5 -> 0
A6: Total bassin | B6: ='Nr-BW 01'!H2 -> 0 | C6: ='Nr-BW 01'!I2 -> 0 | D6: ='Nr-BW 01'!J2 -> 0 | E6: ='Nr-BW 01'!G2 -> 0 | F6: ='Nr-BW 02'!H2 -> 0 | G6: ='Nr-BW 02'!I2 -> 0 | H6: ='Nr-BW 02'!J2 -> 0 | I6: ='Nr-BW 02'!G2 -> 0 | J6: ='Nr-BW 03'!H2 -> 0 | K6: ='Nr-BW 03'!I2 -> 0 | L6: ='Nr-BW 03'!J2 -> 0 | M6: ='Nr-BW 03'!G2 -> 0 | N6: ='Nr-BW 04'!H2 -> 0 | O6: ='Nr-BW 04'!I2 -> 0 | P6: ='Nr-BW 04'!J2 -> 0 | Q6: ='Nr-BW 04'!G2 -> 0 | R6: ='Nr-BW 05'!H2 -> 0 | S6: ='Nr-BW 05'!I2 -> 0 | T6: ='Nr-BW 05'!J2 -> 0 | U6: ='Nr-BW 05'!G2 -> 0 | V6: ='Nr-BW 05'!H2 -> 0 | W6: ='Nr-BW 05'!I2 -> 0 | X6: ='Nr-BW 05'!J2 -> 0 | Y6: ='Nr-BW 06'!G2 -> 0 | Z6: ='Nr-BW 09'!H2 -> 0 | AA6: ='Nr-BW 09'!I2 -> 0 | AB6: ='Nr-BW 09'!J2 -> 0 | AC6: ='Nr-BW 09'!G2 -> 0 | AD6: ='Nr-BW 10'!H2 -> 0 | AE6: ='Nr-BW 10'!I2 -> 0 | AF6: ='Nr-BW 10'!J2 -> 0 | AG6: ='Nr-BW 10'!G2 -> 0 | AH6: ='Nr-BW 11'!H2 -> 0 | AI6: ='Nr-BW 11'!I2 -> 0 | AJ6: ='Nr-BW 11'!J2 -> 0 | AK6: ='Nr-BW 11'!G2 -> 0 | AL6: ='Nr-BW 12'!H2 -> 0 | AM6: ='Nr-BW 12'!I2 -> 0 | AN6: ='Nr-BW 12'!J2 -> 0 | AO6: ='Nr-BW 12'!G2 -> 0 | AP6: =B6+F6+J6+N6+R6+V6+Z6+AD6+AH6+AL6 -> 0 | AQ6: =+C6+G6+K6+O6+S6+W6+AA6+AE6+AI6+AM6 -> 0 | AR6: =+D6+H6+L6+P6+T6+X6+AB6+AF6+AJ6+AN6 -> 0 | AS6: =+AQ6+AR6 -> 0 | AT6: =+E6+I6+M6+Q6+U6+Y6+AC6+AG6+AK6+AO6 -> 0 | AU6: =SUM(AU4:AU5) -> 5700 | AV6: =AS6/AU6 -> 0

Sheet Feuil1
A1: CEFO | B1: NOM ETABLISSEMENT | C1: LOCALITE | D1: SECTION | E1: ANNEE ETUDE
A2: Brabant wallon | B2: ATHENEE ROYAL ADOLPHE SAX | C2: DINANT | D2: Général | E2: 4è
A3: Namur | B3: ATHENEE ROYAL BAUDOUIN I ER | C3: JEMEPPE-SUR-SAMBRE | D3: Technique de transition | E3: 5è
B4: ATHENEE ROYAL DE JAMBES | C4: JAMBES | D4: Technique de qualification | E4: 6è
B5: ATHENEE ROYAL DE NAMUR | C5: NAMUR | D5: Général + Technique de transition | E5: 7è
B6: ATHENEE ROYAL DE RIXENSART | C6: RIXENSART | D6: Professionnel
B7: ATHENEE ROYAL DE WATERLOO | C7: WATERLOO
B8: ATHENEE ROYAL DU CONDROZ JULES DELOT | C8: CINEY
B9: ATHENEE ROYAL FLORENNES | C9: FLORENNES
B10: ATHENEE ROYAL GEMBLOUX | C10: GEMBLOUX
B11: ATHENEE ROYAL JEAN TOUSSEUL | C11: ANDENNE
B12: ATHENEE ROYAL JODOIGNE | C12: JODOIGNE
B13: ATHENEE ROYAL NIVELLES | C13: NIVELLES
B14: ATHENEE ROYAL NORBERT COLLARD | C14: BEAURAING
B15: ATHENEE ROYAL PAUL DELVAUX | C15: OTTIGNIES-LOUVAIN-LA-NEUVE
B16: ATHENEE ROYAL RIVA-BELLA | C16: BRAINE-L'ALLEUD
B17: ATHENEE ROYAL ROCHEFORT-JEMELLE | C17: ROCHEFORT
B18: ATHENEE ROYAL TAMINES | C18: TAMINES
... B103: SEMINAIRE DE FLOREFFE | C103: FLOREFFE
