Workbook
Name Éclairage_existant: [1]Lampes!$A$2:$A$101
Name F40T12_DL: #REF!
Name Liste_de_déroulement_selon_nb_lampe_et_voltage: 'Feuille calcul'!$S$4
Name Liste_selon_choix: OFFSET('Produit Existant-Proposé'!$K$3,,,SUMPRODUCT(N(LEN('Produit Existant-Proposé'!$K$2:$K$82)>0))-1)
Name Liste_Uniques: OFFSET('Produit Existant-Proposé'!$D$3,,,SUMPRODUCT(N(LEN('Produit Existant-Proposé'!$D$3:$D$996)>0)))
Name Liste_Uniques2: OFFSET('[2]Produit Proposé'!$D$3,,,SUMPRODUCT(N(LEN('[2]Produit Proposé'!$C$3:$C$996)>0)))
Name Watts_ch._Fixture: [1]Tables!$C$2:$C$1001

Sheet Feuille calcul
O3: Quantité de luminaire | P3: Nombre de lampe | Q3: Voltage | R3: Description éclairage existant | S3: Description éclairage existant pour recherche Interne | T3: Wattage total par fixture
O4: 50 | P4: 2 | Q4: 347V | R4: FLUORESCENT FB32T8 | S4: 2 X FLUORESCENT F20T12 347V | T4: =SUMIF(#REF!,#REF!,#REF!) -> #REF!
P5: 1 | Q5: 120V | T5: =SUMIF(#REF!,#REF!,#REF!) -> #REF!
P6: 4 | Q6: 120V | T6: =SUMIF(#REF!,#REF!,#REF!) -> #REF!
P8: Si je sélectionne un nombre de lampe et ensuite le voltage, j'aimerais que la liste déroulante en S me suggère les résultats qui répondent à ses critéres
P9: La liste de déroulement devrait affichier les résultats de la colonne E de la feuille Produit Existant-Proposé

Sheet Produit Existant-Proposé
A2: NB LAMPE EXISTANT | B2: VOLTAGE | C2: CODE LAMPE EXISTANT | D2: CODE SANS DOUBLONS | E2: DESCRIPTION EXISTANT | F2: WATT TOTAL EXISTANT | G2: TYPE PROPOSÉ | H2: NB LAMPE PROPOSÉ | I2: CODE LAMPE ET BALLAST PROPOSÉ | J2: DESCRIPTION PROPOSÉ | K2: Données Liste Sélectionnée | L2: 0
A3: 1 | B3: 120V | C3: FLUORESCENT F20T12 | D3: {=INDEX($C:$C,MIN(IF(COUNTIF(D$2:D2,'Produit Existant-Proposé'!$C$3:$C$92)=0,ROW('Produit Existant-Proposé'!$C$3:$C$92))))&""} -> FLUORESCENT F20T12 | E3: =CONCATENATE('Produit Existant-Proposé'!$A3," X ",'Produit Existant-Proposé'!$C3," ",'Produit Existant-Proposé'!$B3) -> 1 X FLUORESCENT F20T12 120V | F3: 29 | G3: KIT CONVERSION | H3: 1 | I3: F17T8 + BALLAST EFFICACE | J3: =CONCATENATE('Produit Existant-Proposé'!$G3," ",'Produit Existant-Proposé'!$H3," X ",'Produit Existant-Proposé'!$I3," ",'Produit Existant-Proposé'!$B3) -> KIT CONVERSION 1 X F17T8 + BALLAST EFFICACE 120V | K3: {=IF(L3="","",INDEX(OFFSET($E$3,L2-2,):$E$82,MATCH(1,(OFFSET($A$3,L2-2,):$A$82='Feuille calcul'!$P$4)*(OFFSET($B$3,L2-2,):$B$82='Feuille calcul'!$Q$4),0)))} -> 2 X FLUORESCENT F20T12 347V | L3: {=IF(ISERROR(ROW(INDEX(OFFSET($E$3,L2-2,):$E$82,MATCH(1,(OFFSET($A$3,L2-2,):$A$82='Feuille calcul'!$P$4)*(OFFSET($B$3,L2-2,):$B$82='Feuille calcul'!$Q$4),0)))),"",ROW(INDEX(OFFSET($E$3,L2-2,):$E$82,MATCH(1,(OFFSET($A$3,L2-2,):$A$82='Feuille calcul'!$P$4)*(OFFSET($B$3,L2-2,):$B$82='Feuille calcul'!$Q$4),0))))} -> 54
A4: 1 | B4: 347V | C4: FLUORESCENT F20T12 | D4: {=INDEX($C:$C,MIN(IF(COUNTIF(D$2:D3,'Produit Existant-Proposé'!$C$3:$C$92)=0,ROW('Produit Existant-Proposé'!$C$3:$C$92))))&""} -> FLUORESCENT F30T12 | E4: =CONCATENATE('Produit Existant-Proposé'!$A4," X ",'Produit Existant-Proposé'!$C4," ",'Produit Existant-Proposé'!$B4) -> 1 X FLUORESCENT F20T12 347V | F4: 29 | G4: KIT CONVERSION | H4: 1 | I4: F17T8 + BALLAST EFFICACE | J4: =CONCATENATE('Produit Existant-Proposé'!$G4," ",'Produit Existant-Proposé'!$H4," X ",'Produit Existant-Proposé'!$I4," ",'Produit Existant-Proposé'!$B4) -> KIT CONVERSION 1 X F17T8 + BALLAST EFFICACE 347V | K4: {=IF(L4="","",INDEX(OFFSET($E$3,L3-2,):$E$82,MATCH(1,(OFFSET($A$3,L3-2,):$A$82='Feuille calcul'!$P$4)*(OFFSET($B$3,L3-2,):$B$82='Feuille calcul'!$Q$4),0)))} -> 2 X FLUORESCENT F30T12 347V | L4: {=IF(ISERROR(ROW(INDEX(OFFSET($E$3,L3-2,):$E$82,MATCH(1,(OFFSET($A$3,L3-2,):$A$82='Feuille calcul'!$P$4)*(OFFSET($B$3,L3-2,):$B$82='Feuille calcul'!$Q$4),0)))),"",ROW(INDEX(OFFSET($E$3,L3-2,):$E$82,MATCH(1,(OFFSET($A$3,L3-2,):$A$82='Feuille calcul'!$P$4)*(OFFSET($B$3,L3-2,):$B$82='Feuille calcul'!$Q$4),0))))} -> 56
A5: 1 | B5: 120V | C5: FLUORESCENT F30T12 | D5: {=INDEX($C:$C,MIN(IF(COUNTIF(D$2:D4,'Produit Existant-Proposé'!$C$3:$C$92)=0,ROW('Produit Existant-Proposé'!$C$3:$C$92))))&""} -> FLUORESCENT F32T8 | E5: =CONCATENATE('Produit Existant-Proposé'!$A5," X ",'Produit Existant-Proposé'!$C5," ",'Produit Existant-Proposé'!$B5) -> 1 X FLUORESCENT F30T12 120V | F5: 41 | G5: KIT CONVERSION | H5: 1 | I5: F25T8 + BALLAST EFFICACE | J5: =CONCATENATE('Produit Existant-Proposé'!$G5," ",'Produit Existant-Proposé'!$H5," X ",'Produit Existant-Proposé'!$I5," ",'Produit Existant-Proposé'!$B5) -> KIT CONVERSION 1 X F25T8 + BALLAST EFFICACE 120V | K5: {=IF(L5="","",INDEX(OFFSET($E$3,L4-2,):$E$82,MATCH(1,(OFFSET($A$3,L4-2,):$A$82='Feuille calcul'!$P$4)*(OFFSET($B$3,L4-2,):$B$82='Feuille calcul'!$Q$4),0)))} -> 2 X FLUORESCENT F32T8 347V | L5: {=IF(ISERROR(ROW(INDEX(OFFSET($E$3,L4-2,):$E$82,MATCH(1,(OFFSET($A$3,L4-2,):$A$82='Feuille calcul'!$P$4)*(OFFSET($B$3,L4-2,):$B$82='Feuille calcul'!$Q$4),0)))),"",ROW(INDEX(OFFSET($E$3,L4-2,):$E$82,MATCH(1,(OFFSET($A$3,L4-2,):$A$82='Feuille calcul'!$P$4)*(OFFSET($B$3,L4-2,):$B$82='Feuille calcul'!$Q$4),0))))} -> 58
A6: 1 | B6: 347V | C6: FLUORESCENT F30T12 | D6: {=INDEX($C:$C,MIN(IF(COUNTIF(D$2:D5,'Produit Existant-Proposé'!$C$3:$C$92)=0,ROW('Produit Existant-Proposé'!$C$3:$C$92))))&""} -> FLUORESCENT F34T12 | E6: =CONCATENATE('Produit Existant-Proposé'!$A6," X ",'Produit Existant-Proposé'!$C6," ",'Produit Existant-Proposé'!$B6) -> 1 X FLUORESCENT F30T12 347V | F6: 41 | G6: KIT CONVERSION | H6: 1 | I6: F25T8 + BALLAST EFFICACE | J6: =CONCATENATE('Produit Existant-Proposé'!$G6," ",'Produit Existant-Proposé'!$H6," X ",'Produit Existant-Proposé'!$I6," ",'Produit Existant-Proposé'!$B6) -> KIT CONVERSION 1 X F25T8 + BALLAST EFFICACE 347V | K6: {=IF(L6="","",INDEX(OFFSET($E$3,L5-2,):$E$82,MATCH(1,(OFFSET($A$3,L5-2,):$A$82='Feuille calcul'!$P$4)*(OFFSET($B$3,L5-2,):$B$82='Feuille calcul'!$Q$4),0)))} -> 2 X FLUORESCENT F34T12 347V | L6: {=IF(ISERROR(ROW(INDEX(OFFSET($E$3,L5-2,):$E$82,MATCH(1,(OFFSET($A$3,L5-2,):$A$82='Feuille calcul'!$P$4)*(OFFSET($B$3,L5-2,):$B$82='Feuille calcul'!$Q$4),0)))),"",ROW(INDEX(OFFSET($E$3,L5-2,):$E$82,MATCH(1,(OFFSET($A$3,L5-2,):$A$82='Feuille calcul'!$P$4)*(OFFSET($B$3,L5-2,):$B$82='Feuille calcul'!$Q$4),0))))} -> 60
A7: 1 | B7: 120V | C7: FLUORESCENT F32T8 | D7: {=INDEX($C:$C,MIN(IF(COUNTIF(D$2:D6,'Produit Existant-Proposé'!$C$3:$C$92)=0,ROW('Produit Existant-Proposé'!$C$3:$C$92))))&""} -> FLUORESCENT F40T12 | E7: =CONCATENATE('Produit Existant-Proposé'!$A7," X ",'Produit Existant-Proposé'!$C7," ",'Produit Existant-Proposé'!$B7) -> 1 X FLUORESCENT F32T8 120V | F7: 29 | G7: RELAMPAGE | H7: 1 | I7: F28T8 | J7: =CONCATENATE('Produit Existant-Proposé'!$G7," ",'Produit Existant-Proposé'!$H7," X ",'Produit Existant-Proposé'!$I7," ",'Produit Existant-Proposé'!$B7) -> RELAMPAGE 1 X F28T8 120V | K7: {=IF(L7="","",INDEX(OFFSET($E$3,L6-2,):$E$82,MATCH(1,(OFFSET($A$3,L6-2,):$A$82='Feuille calcul'!$P$4)*(OFFSET($B$3,L6-2,):$B$82='Feuille calcul'!$Q$4),0)))} -> 2 X FLUORESCENT F40T12 347V | L7: {=IF(ISERROR(ROW(INDEX(OFFSET($E$3,L6-2,):$E$82,MATCH(1,(OFFSET($A$3,L6-2,):$A$82='Feuille calcul'!$P$4)*(OFFSET($B$3,L6-2,):$B$82='Feuille calcul'!$Q$4),0)))),"",ROW(INDEX(OFFSET($E$3,L6-2,):$E$82,MATCH(1,(OFFSET($A$3,L6-2,):$A$82='Feuille calcul'!$P$4)*(OFFSET($B$3,L6-2,):$B$82='Feuille calcul'!$Q$4),0))))} -> 62
A8: 1 | B8: 347V | C8: FLUORESCENT F32T8 | D8: {=INDEX($C:$C,MIN(IF(COUNTIF(D$2:D7,'Produit Existant-Proposé'!$C$3:$C$92)=0,ROW('Produit Existant-Proposé'!$C$3:$C$92))))&""} -> FLUORESCENT F96T12 | E8: =CONCATENATE('Produit Existant-Proposé'!$A8," X ",'Produit Existant-Proposé'!$C8," ",'Produit Existant-Proposé'!$B8) -> 1 X FLUORESCENT F32T8 347V | F8: 29 | G8: RELAMPAGE | H8: 1 | I8: F28T8 | J8: =CONCATENATE('Produit Existant-Proposé'!$G8," ",'Produit Existant-Proposé'!$H8," X ",'Produit Existant-Proposé'!$I8," ",'Produit Existant-Proposé'!$B8) -> RELAMPAGE 1 X F28T8 347V | K8: {=IF(L8="","",INDEX(OFFSET($E$3,L7-2,):$E$82,MATCH(1,(OFFSET($A$3,L7-2,):$A$82='Feuille calcul'!$P$4)*(OFFSET($B$3,L7-2,):$B$82='Feuille calcul'!$Q$4),0)))} -> 2 X FLUORESCENT F96T12 347V | L8: {=IF(ISERROR(ROW(INDEX(OFFSET($E$3,L7-2,):$E$82,MATCH(1,(OFFSET($A$3,L7-2,):$A$82='Feuille calcul'!$P$4)*(OFFSET($B$3,L7-2,):$B$82='Feuille calcul'!$Q$4),0)))),"",ROW(INDEX(OFFSET($E$3,L7-2,):$E$82,MATCH(1,(OFFSET($A$3,L7-2,):$A$82='Feuille calcul'!$P$4)*(OFFSET($B$3,L7-2,):$B$82='Feuille calcul'!$Q$4),0))))} -> 64
A9: 1 | B9: 120V | C9: FLUORESCENT F34T12 | D9: {=INDEX($C:$C,MIN(IF(COUNTIF(D$2:D8,'Produit Existant-Proposé'!$C$3:$C$92)=0,ROW('Produit Existant-Proposé'!$C$3:$C$92))))&""} -> FLUORESCENT F96T12 HO | E9: =CONCATENATE('Produit Existant-Proposé'!$A9," X ",'Produit Existant-Proposé'!$C9," ",'Produit Existant-Proposé'!$B9) -> 1 X FLUORESCENT F34T12 120V | F9: 43 | G9: KIT CONVERSION | H9: 1 | I9: F28T8 + BALLAST EFFICACE | J9: =CONCATENATE('Produit Existant-Proposé'!$G9," ",'Produit Existant-Proposé'!$H9," X ",'Produit Existant-Proposé'!$I9," ",'Produit Existant-Proposé'!$B9) -> KIT CONVERSION 1 X F28T8 + BALLAST EFFICACE 120V | K9: {=IF(L9="","",INDEX(OFFSET($E$3,L8-2,):$E$82,MATCH(1,(OFFSET($A$3,L8-2,):$A$82='Feuille calcul'!$P$4)*(OFFSET($B$3,L8-2,):$B$82='Feuille calcul'!$Q$4),0)))} -> 2 X FLUORESCENT F96T12 HO 347V | L9: {=IF(ISERROR(ROW(INDEX(OFFSET($E$3,L8-2,):$E$82,MATCH(1,(OFFSET($A$3,L8-2,):$A$82='Feuille calcul'!$P$4)*(OFFSET($B$3,L8-2,):$B$82='Feuille calcul'!$Q$4),0)))),"",ROW(INDEX(OFFSET($E$3,L8-2,):$E$82,MATCH(1,(OFFSET($A$3,L8-2,):$A$82='Feuille calcul'!$P$4)*(OFFSET($B$3,L8-2,):$B$82='Feuille calcul'!$Q$4),0))))} -> 66
A10: 1 | B10: 347V | C10: FLUORESCENT F34T12 | D10: {=INDEX($C:$C,MIN(IF(COUNTIF(D$2:D9,'Produit Existant-Proposé'!$C$3:$C$92)=0,ROW('Produit Existant-Proposé'!$C$3:$C$92))))&""} -> HALOGENE MR16 20W | E10: =CONCATENATE('Produit Existant-Proposé'!$A10," X ",'Produit Existant-Proposé'!$C10," ",'Produit Existant-Proposé'!$B10) -> 1 X FLUORESCENT F34T12 347V | F10: 43 | G10: KIT CONVERSION | H10: 1 | I10: F28T8 + BALLAST EFFICACE | J10: =CONCATENATE('Produit Existant-Proposé'!$G10," ",'Produit Existant-Proposé'!$H10," X ",'Produit Existant-Proposé'!$I10," ",'Produit Existant-Proposé'!$B10) -> KIT CONVERSION 1 X F28T8 + BALLAST EFFICACE 347V | K10: {=IF(L10="","",INDEX(OFFSET($E$3,L9-2,):$E$82,MATCH(1,(OFFSET($A$3,L9-2,):$A$82='Feuille calcul'!$P$4)*(OFFSET($B$3,L9-2,):$B$82='Feuille calcul'!$Q$4),0)))} -> 2 X FLUORESCENT FB32T8 347V | L10: {=IF(ISERROR(ROW(INDEX(OFFSET($E$3,L9-2,):$E$82,MATCH(1,(OFFSET($A$3,L9-2,):$A$82='Feuille calcul'!$P$4)*(OFFSET($B$3,L9-2,):$B$82='Feuille calcul'!$Q$4),0)))),"",ROW(INDEX(OFFSET($E$3,L9-2,):$E$82,MATCH(1,(OFFSET($A$3,L9-2,):$A$82='Feuille calcul'!$P$4)*(OFFSET($B$3,L9-2,):$B$82='Feuille calcul'!$Q$4),0))))} -> 68
A11: 1 | B11: 120V | C11: FLUORESCENT F40T12 | D11: {=INDEX($C:$C,MIN(IF(COUNTIF(D$2:D10,'Produit Existant-Proposé'!$C$3:$C$92)=0,ROW('Produit Existant-Proposé'!$C$3:$C$92))))&""} -> HALOGENE MR16 35W | E11: =CONCATENATE('Produit Existant-Proposé'!$A11," X ",'Produit Existant-Proposé'!$C11," ",'Produit Existant-Proposé'!$B11) -> 1 X FLUORESCENT F40T12 120V | F11: 43 | G11: KIT CONVERSION | H11: 1 | I11: F28T8 + BALLAST EFFICACE | J11: =CONCATENATE('Produit Existant-Proposé'!$G11," ",'Produit Existant-Proposé'!$H11," X ",'Produit Existant-Proposé'!$I11," ",'Produit Existant-Proposé'!$B11) -> KIT CONVERSION 1 X F28T8 + BALLAST EFFICACE 120V | K11: {=IF(L11="","",INDEX(OFFSET($E$3,L10-2,):$E$82,MATCH(1,(OFFSET($A$3,L10-2,):$A$82='Feuille calcul'!$P$4)*(OFFSET($B$3,L10-2,):$B$82='Feuille calcul'!$Q$4),0)))} -> 2 X FLUORESCENT FB34T12 347V | L11: {=IF(ISERROR(ROW(INDEX(OFFSET($E$3,L10-2,):$E$82,MATCH(1,(OFFSET($A$3,L10-2,):$A$82='Feuille calcul'!$P$4)*(OFFSET($B$3,L10-2,):$B$82='Feuille calcul'!$Q$4),0)))),"",ROW(INDEX(OFFSET($E$3,L10-2,):$E$82,MATCH(1,(OFFSET($A$3,L10-2,):$A$82='Feuille calcul'!$P$4)*(OFFSET($B$3,L10-2,):$B$82='Feuille calcul'!$Q$4),0))))} -> 70
A12: 1 | B12: 347V | C12: FLUORESCENT F40T12 | D12: {=INDEX($C:$C,MIN(IF(COUNTIF(D$2:D11,'Produit Existant-Proposé'!$C$3:$C$92)=0,ROW('Produit Existant-Proposé'!$C$3:$C$92))))&""} -> HALOGENE MR16 50W | E12: =CONCATENATE('Produit Existant-Proposé'!$A12," X ",'Produit Existant-Proposé'!$C12," ",'Produit Existant-Proposé'!$B12) -> 1 X FLUORESCENT F40T12 347V | F12: 43 | G12: KIT CONVERSION | H12: 1 | I12: F28T8 + BALLAST EFFICACE | J12: =CONCATENATE('Produit Existant-Proposé'!$G12," ",'Produit Existant-Proposé'!$H12," X ",'Produit Existant-Proposé'!$I12," ",'Produit Existant-Proposé'!$B12) -> KIT CONVERSION 1 X F28T8 + BALLAST EFFICACE 347V | K12: {=IF(L12="","",INDEX(OFFSET($E$3,L11-2,):$E$82,MATCH(1,(OFFSET($A$3,L11-2,):$A$82='Feuille calcul'!$P$4)*(OFFSET($B$3,L11-2,):$B$82='Feuille calcul'!$Q$4),0)))} | L12: {=IF(ISERROR(ROW(INDEX(OFFSET($E$3,L11-2,):$E$82,MATCH(1,(OFFSET($A$3,L11-2,):$A$82='Feuille calcul'!$P$4)*(OFFSET($B$3,L11-2,):$B$82='Feuille calcul'!$Q$4),0)))),"",ROW(INDEX(OFFSET($E$3,L11-2,):$E$82,MATCH(1,(OFFSET($A$3,L11-2,):$A$82='Feuille calcul'!$P$4)*(OFFSET($B$3,L11-2,):$B$82='Feuille calcul'!$Q$4),0))))}
A13: 1 | B13: 120V | C13: FLUORESCENT F96T12 | D13: {=INDEX($C:$C,MIN(IF(COUNTIF(D$2:D12,'Produit Existant-Proposé'!$C$3:$C$92)=0,ROW('Produit Existant-Proposé'!$C$3:$C$92))))&""} -> HALOGENE PAR20 50W | E13: =CONCATENATE('Produit Existant-Proposé'!$A13," X ",'Produit Existant-Proposé'!$C13," ",'Produit Existant-Proposé'!$B13) -> 1 X FLUORESCENT F96T12 120V | F13: 92 | G13: KIT CONVERSION 8PI | H13: 1 | I13: F96T8 + BALLAST ELECT. | J13: =CONCATENATE('Produit Existant-Proposé'!$G13," ",'Produit Existant-Proposé'!$H13," X ",'Produit Existant-Proposé'!$I13," ",'Produit Existant-Proposé'!$B13) -> KIT CONVERSION 8PI 1 X F96T8 + BALLAST ELECT. 120V | K13: {=IF(L13="","",INDEX(OFFSET($E$3,L12-2,):$E$82,MATCH(1,(OFFSET($A$3,L12-2,):$A$82='Feuille calcul'!$P$4)*(OFFSET($B$3,L12-2,):$B$82='Feuille calcul'!$Q$4),0)))} | L13: {=IF(ISERROR(ROW(INDEX(OFFSET($E$3,L12-2,):$E$82,MATCH(1,(OFFSET($A$3,L12-2,):$A$82='Feuille calcul'!$P$4)*(OFFSET($B$3,L12-2,):$B$82='Feuille calcul'!$Q$4),0)))),"",ROW(INDEX(OFFSET($E$3,L12-2,):$E$82,MATCH(1,(OFFSET($A$3,L12-2,):$A$82='Feuille calcul'!$P$4)*(OFFSET($B$3,L12-2,):$B$82='Feuille calcul'!$Q$4),0))))}
A14: 1 | B14: 347V | C14: FLUORESCENT F96T12 | D14: {=INDEX($C:$C,MIN(IF(COUNTIF(D$2:D13,'Produit Existant-Proposé'!$C$3:$C$92)=0,ROW('Produit Existant-Proposé'!$C$3:$C$92))))&""} -> HALOGENE PAR30 50W | E14: =CONCATENATE('Produit Existant-Proposé'!$A14," X ",'Produit Existant-Proposé'!$C14," ",'Produit Existant-Proposé'!$B14) -> 1 X FLUORESCENT F96T12 347V | F14: 92 | G14: KIT CONVERSION 8PI | H14: 1 | I14: F96T8 + BALLAST ELECT. | J14: =CONCATENATE('Produit Existant-Proposé'!$G14," ",'Produit Existant-Proposé'!$H14," X ",'Produit Existant-Proposé'!$I14," ",'Produit Existant-Proposé'!$B14) -> KIT CONVERSION 8PI 1 X F96T8 + BALLAST ELECT. 347V | K14: {=IF(L14="","",INDEX(OFFSET($E$3,L13-2,):$E$82,MATCH(1,(OFFSET($A$3,L13-2,):$A$82='Feuille calcul'!$P$4)*(OFFSET($B$3,L13-2,):$B$82='Feuille calcul'!$Q$4),0)))} | L14: {=IF(ISERROR(ROW(INDEX(OFFSET($E$3,L13-2,):$E$82,MATCH(1,(OFFSET($A$3,L13-2,):$A$82='Feuille calcul'!$P$4)*(OFFSET($B$3,L13-2,):$B$82='Feuille calcul'!$Q$4),0)))),"",ROW(INDEX(OFFSET($E$3,L13-2,):$E$82,MATCH(1,(OFFSET($A$3,L13-2,):$A$82='Feuille calcul'!$P$4)*(OFFSET($B$3,L13-2,):$B$82='Feuille calcul'!$Q$4),0))))}
... A16: 1 | B16: 347V | C16: FLUORESCENT F96T12 HO | D16: {=INDEX($C:$C,MIN(IF(COUNTIF(D$2:D15,'Produit Existant-Proposé'!$C$3:$C$92)=0,ROW('Produit Existant-Proposé'!$C$3:$C$92))))&""} -> HALOGENE PAR38 90W | E16: =CONCATENATE('Produit Existant-Proposé'!$A16," X ",'Produit Existant-Proposé'!$C16," ",'Produit Existant-Proposé'!$B16) -> 1 X FLUORESCENT F96T12 HO 347V | F16: 140 | G16: KIT CONVERSION 8PI | H16: 1 | I16: F96T8 HO + BALLAST ELECT. | J16: =CONCATENATE('Produit Existant-Proposé'!$G16," ",'Produit Existant-Proposé'!$H16," X ",'Produit Existant-Proposé'!$I16," ",'Produit Existant-Proposé'!$B16) -> KIT CONVERSION 8PI 1 X F96T8 HO + BALLAST ELECT. 347V | K16: {=IF(L16="","",INDEX(OFFSET($E$3,L15-2,):$E$82,MATCH(1,(OFFSET($A$3,L15-2,):$A$82='Feuille calcul'!$P$4)*(OFFSET($B$3,L15-2,):$B$82='Feuille calcul'!$Q$4),0)))} | L16: {=IF(ISERROR(ROW(INDEX(OFFSET($E$3,L15-2,):$E$82,MATCH(1,(OFFSET($A$3,L15-2,):$A$82='Feuille calcul'!$P$4)*(OFFSET($B$3,L15-2,):$B$82='Feuille calcul'!$Q$4),0)))),"",ROW(INDEX(OFFSET($E$3,L15-2,):$E$82,MATCH(1,(OFFSET($A$3,L15-2,):$A$82='Feuille calcul'!$P$4)*(OFFSET($B$3,L15-2,):$B$82='Feuille calcul'!$Q$4),0))))}
A17: 1 | B17: 120V | C17: HALOGENE MR16 20W | D17: {=INDEX($C:$C,MIN(IF(COUNTIF(D$2:D16,'Produit Existant-Proposé'!$C$3:$C$92)=0,ROW('Produit Existant-Proposé'!$C$3:$C$92))))&""} -> INCANDESCENT A15 025W | E17: =CONCATENATE('Produit Existant-Proposé'!$A17," X ",'Produit Existant-Proposé'!$C17," ",'Produit Existant-Proposé'!$B17) -> 1 X HALOGENE MR16 20W 120V | F17: 20 | G17: RELAMPAGE | H17: 1 | I17: MR16 DEL 3W/12V GU5.3 | J17: =CONCATENATE('Produit Existant-Proposé'!$G17," ",'Produit Existant-Proposé'!$H17," X ",'Produit Existant-Proposé'!$I17," ",'Produit Existant-Proposé'!$B17) -> RELAMPAGE 1 X MR16 DEL 3W/12V GU5.3 120V
A18: 1 | B18: 120V | C18: HALOGENE MR16 35W | D18: {=INDEX($C:$C,MIN(IF(COUNTIF(D$2:D17,'Produit Existant-Proposé'!$C$3:$C$92)=0,ROW('Produit Existant-Proposé'!$C$3:$C$92))))&""} -> INCANDESCENT A15 40W | E18: =CONCATENATE('Produit Existant-Proposé'!$A18," X ",'Produit Existant-Proposé'!$C18," ",'Produit Existant-Proposé'!$B18) -> 1 X HALOGENE MR16 35W 120V | F18: 35 | G18: RELAMPAGE | H18: 1 | I18: MR16 20W IR | J18: =CONCATENATE('Produit Existant-Proposé'!$G18," ",'Produit Existant-Proposé'!$H18," X ",'Produit Existant-Proposé'!$I18," ",'Produit Existant-Proposé'!$B18) -> RELAMPAGE 1 X MR16 20W IR 120V
A19: 1 | B19: 120V | C19: HALOGENE MR16 50W | D19: {=INDEX($C:$C,MIN(IF(COUNTIF(D$2:D18,'Produit Existant-Proposé'!$C$3:$C$92)=0,ROW('Produit Existant-Proposé'!$C$3:$C$92))))&""} -> INCANDESCENT A15 60W | E19: =CONCATENATE('Produit Existant-Proposé'!$A19," X ",'Produit Existant-Proposé'!$C19," ",'Produit Existant-Proposé'!$B19) -> 1 X HALOGENE MR16 50W 120V | F19: 50 | G19: RELAMPAGE | H19: 1 | I19: MR16 35W IR | J19: =CONCATENATE('Produit Existant-Proposé'!$G19," ",'Produit Existant-Proposé'!$H19," X ",'Produit Existant-Proposé'!$I19," ",'Produit Existant-Proposé'!$B19) -> RELAMPAGE 1 X MR16 35W IR 120V
A20: 1 | B20: 120V | C20: HALOGENE PAR20 50W | D20: {=INDEX($C:$C,MIN(IF(COUNTIF(D$2:D19,'Produit Existant-Proposé'!$C$3:$C$92)=0,ROW('Produit Existant-Proposé'!$C$3:$C$92))))&""} -> INCANDESCENT A19 025W | E20: =CONCATENATE('Produit Existant-Proposé'!$A20," X ",'Produit Existant-Proposé'!$C20," ",'Produit Existant-Proposé'!$B20) -> 1 X HALOGENE PAR20 50W 120V | F20: 50 | G20: RELAMPAGE | H20: 1 | I20: PAR20/CF09/E26 | J20: =CONCATENATE('Produit Existant-Proposé'!$G20," ",'Produit Existant-Proposé'!$H20," X ",'Produit Existant-Proposé'!$I20," ",'Produit Existant-Proposé'!$B20) -> RELAMPAGE 1 X PAR20/CF09/E26 120V
A21: 1 | B21: 120V | C21: HALOGENE PAR30 50W | D21: {=INDEX($C:$C,MIN(IF(COUNTIF(D$2:D20,'Produit Existant-Proposé'!$C$3:$C$92)=0,ROW('Produit Existant-Proposé'!$C$3:$C$92))))&""} -> INCANDESCENT A19 040W | E21: =CONCATENATE('Produit Existant-Proposé'!$A21," X ",'Produit Existant-Proposé'!$C21," ",'Produit Existant-Proposé'!$B21) -> 1 X HALOGENE PAR30 50W 120V | F21: 50 | G21: RELAMPAGE | H21: 1 | I21: PAR30/CF15/E26 | J21: =CONCATENATE('Produit Existant-Proposé'!$G21," ",'Produit Existant-Proposé'!$H21," X ",'Produit Existant-Proposé'!$I21," ",'Produit Existant-Proposé'!$B21) -> RELAMPAGE 1 X PAR30/CF15/E26 120V
A22: 1 | B22: 120V | C22: HALOGENE PAR38 60W | D22: {=INDEX($C:$C,MIN(IF(COUNTIF(D$2:D21,'Produit Existant-Proposé'!$C$3:$C$92)=0,ROW('Produit Existant-Proposé'!$C$3:$C$92))))&""} -> INCANDESCENT A19 060W | E22: =CONCATENATE('Produit Existant-Proposé'!$A22," X ",'Produit Existant-Proposé'!$C22," ",'Produit Existant-Proposé'!$B22) -> 1 X HALOGENE PAR38 60W 120V | F22: 60 | G22: RELAMPAGE | H22: 1 | I22: PAR38/CF23/E26 | J22: =CONCATENATE('Produit Existant-Proposé'!$G22," ",'Produit Existant-Proposé'!$H22," X ",'Produit Existant-Proposé'!$I22," ",'Produit Existant-Proposé'!$B22) -> RELAMPAGE 1 X PAR38/CF23/E26 120V
A23: 1 | B23: 120V | C23: HALOGENE PAR38 90W | D23: {=INDEX($C:$C,MIN(IF(COUNTIF(D$2:D22,'Produit Existant-Proposé'!$C$3:$C$92)=0,ROW('Produit Existant-Proposé'!$C$3:$C$92))))&""} -> INCANDESCENT A19 100W | E23: =CONCATENATE('Produit Existant-Proposé'!$A23," X ",'Produit Existant-Proposé'!$C23," ",'Produit Existant-Proposé'!$B23) -> 1 X HALOGENE PAR38 90W 120V | F23: 90 | G23: RELAMPAGE | H23: 1 | I23: PAR38/CF23/E26 | J23: =CONCATENATE('Produit Existant-Proposé'!$G23," ",'Produit Existant-Proposé'!$H23," X ",'Produit Existant-Proposé'!$I23," ",'Produit Existant-Proposé'!$B23) -> RELAMPAGE 1 X PAR38/CF23/E26 120V
A24: 1 | B24: 120V | C24: INCANDESCENT A15 025W | D24: {=INDEX($C:$C,MIN(IF(COUNTIF(D$2:D23,'Produit Existant-Proposé'!$C$3:$C$92)=0,ROW('Produit Existant-Proposé'!$C$3:$C$92))))&""} -> INCANDESCENT A21 150W | E24: =CONCATENATE('Produit Existant-Proposé'!$A24," X ",'Produit Existant-Proposé'!$C24," ",'Produit Existant-Proposé'!$B24) -> 1 X INCANDESCENT A15 025W 120V | F24: 25 | G24: RELAMPAGE | H24: 1 | I24: SPIRAL T3/CF04/E26 | J24: =CONCATENATE('Produit Existant-Proposé'!$G24," ",'Produit Existant-Proposé'!$H24," X ",'Produit Existant-Proposé'!$I24," ",'Produit Existant-Proposé'!$B24) -> RELAMPAGE 1 X SPIRAL T3/CF04/E26 120V
A25: 1 | B25: 120V | C25: INCANDESCENT A15 40W | D25: {=INDEX($C:$C,MIN(IF(COUNTIF(D$2:D24,'Produit Existant-Proposé'!$C$3:$C$92)=0,ROW('Produit Existant-Proposé'!$C$3:$C$92))))&""} -> INCANDESCENT A23 200W | E25: =CONCATENATE('Produit Existant-Proposé'!$A25," X ",'Produit Existant-Proposé'!$C25," ",'Produit Existant-Proposé'!$B25) -> 1 X INCANDESCENT A15 40W 120V | F25: 40 | G25: RELAMPAGE | H25: 1 | I25: SPIRAL T2/CF09/E26 | J25: =CONCATENATE('Produit Existant-Proposé'!$G25," ",'Produit Existant-Proposé'!$H25," X ",'Produit Existant-Proposé'!$I25," ",'Produit Existant-Proposé'!$B25) -> RELAMPAGE 1 X SPIRAL T2/CF09/E26 120V
A26: 1 | B26: 120V | C26: INCANDESCENT A15 60W | D26: {=INDEX($C:$C,MIN(IF(COUNTIF(D$2:D25,'Produit Existant-Proposé'!$C$3:$C$92)=0,ROW('Produit Existant-Proposé'!$C$3:$C$92))))&""} -> INCANDESCENT BR30 65W | E26: =CONCATENATE('Produit Existant-Proposé'!$A26," X ",'Produit Existant-Proposé'!$C26," ",'Produit Existant-Proposé'!$B26) -> 1 X INCANDESCENT A15 60W 120V | F26: 60 | G26: RELAMPAGE | H26: 1 | I26: SPIRAL T2/CF13/E26 | J26: =CONCATENATE('Produit Existant-Proposé'!$G26," ",'Produit Existant-Proposé'!$H26," X ",'Produit Existant-Proposé'!$I26," ",'Produit Existant-Proposé'!$B26) -> RELAMPAGE 1 X SPIRAL T2/CF13/E26 120V
A27: 1 | B27: 120V | C27: INCANDESCENT A19 025W | D27: {=INDEX($C:$C,MIN(IF(COUNTIF(D$2:D26,'Produit Existant-Proposé'!$C$3:$C$92)=0,ROW('Produit Existant-Proposé'!$C$3:$C$92))))&""} -> INCANDESCENT BR40 120W | E27: =CONCATENATE('Produit Existant-Proposé'!$A27," X ",'Produit Existant-Proposé'!$C27," ",'Produit Existant-Proposé'!$B27) -> 1 X INCANDESCENT A19 025W 120V | F27: 25 | G27: RELAMPAGE | H27: 1 | I27: SPIRAL T3/CF04/E26 | J27: =CONCATENATE('Produit Existant-Proposé'!$G27," ",'Produit Existant-Proposé'!$H27," X ",'Produit Existant-Proposé'!$I27," ",'Produit Existant-Proposé'!$B27) -> RELAMPAGE 1 X SPIRAL T3/CF04/E26 120V
A28: 1 | B28: 120V | C28: INCANDESCENT A19 040W | D28: {=INDEX($C:$C,MIN(IF(COUNTIF(D$2:D27,'Produit Existant-Proposé'!$C$3:$C$92)=0,ROW('Produit Existant-Proposé'!$C$3:$C$92))))&""} -> MERCURE 1000W | E28: =CONCATENATE('Produit Existant-Proposé'!$A28," X ",'Produit Existant-Proposé'!$C28," ",'Produit Existant-Proposé'!$B28) -> 1 X INCANDESCENT A19 040W 120V | F28: 40 | G28: RELAMPAGE | H28: 1 | I28: SPIRAL T2/CF09/E26 | J28: =CONCATENATE('Produit Existant-Proposé'!$G28," ",'Produit Existant-Proposé'!$H28," X ",'Produit Existant-Proposé'!$I28," ",'Produit Existant-Proposé'!$B28) -> RELAMPAGE 1 X SPIRAL T2/CF09/E26 120V
... A67: 2 | B67: 120V | C67: FLUORESCENT FB32T8 | D67: {=INDEX($C:$C,MIN(IF(COUNTIF(D$2:D66,'Produit Existant-Proposé'!$C$3:$C$92)=0,ROW('Produit Existant-Proposé'!$C$3:$C$92))))&""} | E67: =CONCATENATE('Produit Existant-Proposé'!$A67," X ",'Produit Existant-Proposé'!$C67," ",'Produit Existant-Proposé'!$B67) -> 2 X FLUORESCENT FB32T8 120V | F67: 59 | G67: RELAMPAGE | H67: 2 | I67: FB28T8/U6 | J67: =CONCATENATE('Produit Existant-Proposé'!$G67," ",'Produit Existant-Proposé'!$H67," X ",'Produit Existant-Proposé'!$I67," ",'Produit Existant-Proposé'!$B67) -> RELAMPAGE 2 X FB28T8/U6 120V
A68: 2 | B68: 347V | C68: FLUORESCENT FB32T8 | D68: {=INDEX($C:$C,MIN(IF(COUNTIF(D$2:D66,'Produit Existant-Proposé'!$C$3:$C$92)=0,ROW('Produit Existant-Proposé'!$C$3:$C$92))))&""} | E68: =CONCATENATE('Produit Existant-Proposé'!$A68," X ",'Produit Existant-Proposé'!$C68," ",'Produit Existant-Proposé'!$B68) -> 2 X FLUORESCENT FB32T8 347V | F68: 59 | G68: RELAMPAGE | H68: 2 | I68: FB28T8/U6 | J68: =CONCATENATE('Produit Existant-Proposé'!$G68," ",'Produit Existant-Proposé'!$H68," X ",'Produit Existant-Proposé'!$I68," ",'Produit Existant-Proposé'!$B68) -> RELAMPAGE 2 X FB28T8/U6 347V
A69: 2 | B69: 120V | C69: FLUORESCENT FB34T12 | D69: {=INDEX($C:$C,MIN(IF(COUNTIF(D$2:D66,'Produit Existant-Proposé'!$C$3:$C$92)=0,ROW('Produit Existant-Proposé'!$C$3:$C$92))))&""} | E69: =CONCATENATE('Produit Existant-Proposé'!$A69," X ",'Produit Existant-Proposé'!$C69," ",'Produit Existant-Proposé'!$B69) -> 2 X FLUORESCENT FB34T12 120V | F69: 75 | G69: KIT CONVERSION | H69: 2 | I69: FB28/U6 + BALLAST EFFICACE | J69: =CONCATENATE('Produit Existant-Proposé'!$G69," ",'Produit Existant-Proposé'!$H69," X ",'Produit Existant-Proposé'!$I69," ",'Produit Existant-Proposé'!$B69) -> KIT CONVERSION 2 X FB28/U6 + BALLAST EFFICACE 120V
A70: 2 | B70: 347V | C70: FLUORESCENT FB34T12 | D70: {=INDEX($C:$C,MIN(IF(COUNTIF(D$2:D69,'Produit Existant-Proposé'!$C$3:$C$92)=0,ROW('Produit Existant-Proposé'!$C$3:$C$92))))&""} | E70: =CONCATENATE('Produit Existant-Proposé'!$A70," X ",'Produit Existant-Proposé'!$C70," ",'Produit Existant-Proposé'!$B70) -> 2 X FLUORESCENT FB34T12 347V | F70: 75 | G70: KIT CONVERSION | H70: 2 | I70: FB28/U6 + BALLAST EFFICACE | J70: =CONCATENATE('Produit Existant-Proposé'!$G70," ",'Produit Existant-Proposé'!$H70," X ",'Produit Existant-Proposé'!$I70," ",'Produit Existant-Proposé'!$B70) -> KIT CONVERSION 2 X FB28/U6 + BALLAST EFFICACE 347V
A71: 3 | B71: 120V | C71: FLUORESCENT F32T8 | D71: {=INDEX($C:$C,MIN(IF(COUNTIF(D$2:D70,'Produit Existant-Proposé'!$C$3:$C$92)=0,ROW('Produit Existant-Proposé'!$C$3:$C$92))))&""} | E71: =CONCATENATE('Produit Existant-Proposé'!$A71," X ",'Produit Existant-Proposé'!$C71," ",'Produit Existant-Proposé'!$B71) -> 3 X FLUORESCENT F32T8 120V | F71: 83 | G71: RELAMPAGE | H71: 3 | I71: F28T8 | J71: =CONCATENATE('Produit Existant-Proposé'!$G71," ",'Produit Existant-Proposé'!$H71," X ",'Produit Existant-Proposé'!$I71," ",'Produit Existant-Proposé'!$B71) -> RELAMPAGE 3 X F28T8 120V
A72: 3 | B72: 347V | C72: FLUORESCENT F32T8 | D72: {=INDEX($C:$C,MIN(IF(COUNTIF(D$2:D71,'Produit Existant-Proposé'!$C$3:$C$92)=0,ROW('Produit Existant-Proposé'!$C$3:$C$92))))&""} | E72: =CONCATENATE('Produit Existant-Proposé'!$A72," X ",'Produit Existant-Proposé'!$C72," ",'Produit Existant-Proposé'!$B72) -> 3 X FLUORESCENT F32T8 347V | F72: 83 | G72: RELAMPAGE | H72: 3 | I72: F28T8 | J72: =CONCATENATE('Produit Existant-Proposé'!$G72," ",'Produit Existant-Proposé'!$H72," X ",'Produit Existant-Proposé'!$I72," ",'Produit Existant-Proposé'!$B72) -> RELAMPAGE 3 X F28T8 347V
A73: 3 | B73: 120V | C73: FLUORESCENT F34T12 | D73: {=INDEX($C:$C,MIN(IF(COUNTIF(D$2:D72,'Produit Existant-Proposé'!$C$3:$C$92)=0,ROW('Produit Existant-Proposé'!$C$3:$C$92))))&""} | E73: =CONCATENATE('Produit Existant-Proposé'!$A73," X ",'Produit Existant-Proposé'!$C73," ",'Produit Existant-Proposé'!$B73) -> 3 X FLUORESCENT F34T12 120V | F73: 118 | G73: KIT CONVERSION | H73: 3 | I73: F28T8 + BALLAST EFFICACE | J73: =CONCATENATE('Produit Existant-Proposé'!$G73," ",'Produit Existant-Proposé'!$H73," X ",'Produit Existant-Proposé'!$I73," ",'Produit Existant-Proposé'!$B73) -> KIT CONVERSION 3 X F28T8 + BALLAST EFFICACE 120V
A74: 3 | B74: 347V | C74: FLUORESCENT F34T12 | D74: {=INDEX($C:$C,MIN(IF(COUNTIF(D$2:D73,'Produit Existant-Proposé'!$C$3:$C$92)=0,ROW('Produit Existant-Proposé'!$C$3:$C$92))))&""} | E74: =CONCATENATE('Produit Existant-Proposé'!$A74," X ",'Produit Existant-Proposé'!$C74," ",'Produit Existant-Proposé'!$B74) -> 3 X FLUORESCENT F34T12 347V | F74: 118 | G74: KIT CONVERSION | H74: 3 | I74: F28T8 + BALLAST EFFICACE | J74: =CONCATENATE('Produit Existant-Proposé'!$G74," ",'Produit Existant-Proposé'!$H74," X ",'Produit Existant-Proposé'!$I74," ",'Produit Existant-Proposé'!$B74) -> KIT CONVERSION 3 X F28T8 + BALLAST EFFICACE 347V
A75: 3 | B75: 120V | C75: FLUORESCENT F40T12 | D75: {=INDEX($C:$C,MIN(IF(COUNTIF(D$2:D74,'Produit Existant-Proposé'!$C$3:$C$92)=0,ROW('Produit Existant-Proposé'!$C$3:$C$92))))&""} | E75: =CONCATENATE('Produit Existant-Proposé'!$A75," X ",'Produit Existant-Proposé'!$C75," ",'Produit Existant-Proposé'!$B75) -> 3 X FLUORESCENT F40T12 120V | F75: 118 | G75: KIT CONVERSION | H75: 3 | I75: F28T8 + BALLAST EFFICACE | J75: =CONCATENATE('Produit Existant-Proposé'!$G75," ",'Produit Existant-Proposé'!$H75," X ",'Produit Existant-Proposé'!$I75," ",'Produit Existant-Proposé'!$B75) -> KIT CONVERSION 3 X F28T8 + BALLAST EFFICACE 120V
A76: 3 | B76: 347V | C76: FLUORESCENT F40T12 | D76: {=INDEX($C:$C,MIN(IF(COUNTIF(D$2:D75,'Produit Existant-Proposé'!$C$3:$C$92)=0,ROW('Produit Existant-Proposé'!$C$3:$C$92))))&""} | E76: =CONCATENATE('Produit Existant-Proposé'!$A76," X ",'Produit Existant-Proposé'!$C76," ",'Produit Existant-Proposé'!$B76) -> 3 X FLUORESCENT F40T12 347V | F76: 118 | G76: KIT CONVERSION | H76: 3 | I76: F28T8 + BALLAST EFFICACE | J76: =CONCATENATE('Produit Existant-Proposé'!$G76," ",'Produit Existant-Proposé'!$H76," X ",'Produit Existant-Proposé'!$I76," ",'Produit Existant-Proposé'!$B76) -> KIT CONVERSION 3 X F28T8 + BALLAST EFFICACE 347V
A77: 4 | B77: 120V | C77: FLUORESCENT F32T8 | D77: {=INDEX($C:$C,MIN(IF(COUNTIF(D$2:D76,'Produit Existant-Proposé'!$C$3:$C$92)=0,ROW('Produit Existant-Proposé'!$C$3:$C$92))))&""} | E77: =CONCATENATE('Produit Existant-Proposé'!$A77," X ",'Produit Existant-Proposé'!$C77," ",'Produit Existant-Proposé'!$B77) -> 4 X FLUORESCENT F32T8 120V | F77: 108 | G77: RELAMPAGE | H77: 4 | I77: F28T8 | J77: =CONCATENATE('Produit Existant-Proposé'!$G77," ",'Produit Existant-Proposé'!$H77," X ",'Produit Existant-Proposé'!$I77," ",'Produit Existant-Proposé'!$B77) -> RELAMPAGE 4 X F28T8 120V
A78: 4 | B78: 347V | C78: FLUORESCENT F32T8 | D78: {=INDEX($C:$C,MIN(IF(COUNTIF(D$2:D77,'Produit Existant-Proposé'!$C$3:$C$92)=0,ROW('Produit Existant-Proposé'!$C$3:$C$92))))&""} | E78: =CONCATENATE('Produit Existant-Proposé'!$A78," X ",'Produit Existant-Proposé'!$C78," ",'Produit Existant-Proposé'!$B78) -> 4 X FLUORESCENT F32T8 347V | F78: 108 | G78: RELAMPAGE | H78: 4 | I78: F28T8 | J78: =CONCATENATE('Produit Existant-Proposé'!$G78," ",'Produit Existant-Proposé'!$H78," X ",'Produit Existant-Proposé'!$I78," ",'Produit Existant-Proposé'!$B78) -> RELAMPAGE 4 X F28T8 347V
A79: 4 | B79: 120V | C79: FLUORESCENT F34T12 | D79: {=INDEX($C:$C,MIN(IF(COUNTIF(D$2:D78,'Produit Existant-Proposé'!$C$3:$C$92)=0,ROW('Produit Existant-Proposé'!$C$3:$C$92))))&""} | E79: =CONCATENATE('Produit Existant-Proposé'!$A79," X ",'Produit Existant-Proposé'!$C79," ",'Produit Existant-Proposé'!$B79) -> 4 X FLUORESCENT F34T12 120V | F79: 150 | G79: KIT CONVERSION | H79: 4 | I79: F28T8 + BALLAST EFFICACE | J79: =CONCATENATE('Produit Existant-Proposé'!$G79," ",'Produit Existant-Proposé'!$H79," X ",'Produit Existant-Proposé'!$I79," ",'Produit Existant-Proposé'!$B79) -> KIT CONVERSION 4 X F28T8 + BALLAST EFFICACE 120V
A80: 4 | B80: 347V | C80: FLUORESCENT F34T12 | D80: {=INDEX($C:$C,MIN(IF(COUNTIF(D$2:D79,'Produit Existant-Proposé'!$C$3:$C$92)=0,ROW('Produit Existant-Proposé'!$C$3:$C$92))))&""} | E80: =CONCATENATE('Produit Existant-Proposé'!$A80," X ",'Produit Existant-Proposé'!$C80," ",'Produit Existant-Proposé'!$B80) -> 4 X FLUORESCENT F34T12 347V | F80: 150 | G80: KIT CONVERSION | H80: 4 | I80: F28T8 + BALLAST EFFICACE | J80: =CONCATENATE('Produit Existant-Proposé'!$G80," ",'Produit Existant-Proposé'!$H80," X ",'Produit Existant-Proposé'!$I80," ",'Produit Existant-Proposé'!$B80) -> KIT CONVERSION 4 X F28T8 + BALLAST EFFICACE 347V
A81: 4 | B81: 120V | C81: FLUORESCENT F40T12 | D81: {=INDEX($C:$C,MIN(IF(COUNTIF(D$2:D80,'Produit Existant-Proposé'!$C$3:$C$92)=0,ROW('Produit Existant-Proposé'!$C$3:$C$92))))&""} | E81: =CONCATENATE('Produit Existant-Proposé'!$A81," X ",'Produit Existant-Proposé'!$C81," ",'Produit Existant-Proposé'!$B81) -> 4 X FLUORESCENT F40T12 120V | F81: 174 | G81: KIT CONVERSION | H81: 4 | I81: F28T8 + BALLAST EFFICACE | J81: =CONCATENATE('Produit Existant-Proposé'!$G81," ",'Produit Existant-Proposé'!$H81," X ",'Produit Existant-Proposé'!$I81," ",'Produit Existant-Proposé'!$B81) -> KIT CONVERSION 4 X F28T8 + BALLAST EFFICACE 120V
A82: 4 | B82: 347V | C82: FLUORESCENT F40T12 | D82: {=INDEX($C:$C,MIN(IF(COUNTIF(D$2:D81,'Produit Existant-Proposé'!$C$3:$C$92)=0,ROW('Produit Existant-Proposé'!$C$3:$C$92))))&""} | E82: =CONCATENATE('Produit Existant-Proposé'!$A82," X ",'Produit Existant-Proposé'!$C82," ",'Produit Existant-Proposé'!$B82) -> 4 X FLUORESCENT F40T12 347V | F82: 174 | G82: KIT CONVERSION | H82: 4 | I82: F28T8 + BALLAST EFFICACE | J82: =CONCATENATE('Produit Existant-Proposé'!$G82," ",'Produit Existant-Proposé'!$H82," X ",'Produit Existant-Proposé'!$I82," ",'Produit Existant-Proposé'!$B82) -> KIT CONVERSION 4 X F28T8 + BALLAST EFFICACE 347V

Sheet Légende
A1: Nb de lampe
A2: 1
A3: 2
A4: 3
A5: 4
A6: 5
A7: 6
A9: Voltage
A10: 12V
A11: 120V
A12: 347V
