Workbook
Name AnnéeSélectionnée: 'Rapport financier'!$K$2
Name lstAnnées: OFFSET('Entrées des données financières'!$B$3:$I$3,0,1,1,COUNTA('Entrées des données financières'!$B$3:$I$3)-1)
Name lstMesures: OFFSET('Entrées des données financières'!$B$4:$B$28,0,0,COUNTA('Entrées des données financières'!$B$4:$B$28))

Sheet Rapport financier
B2: RAPPORT FINANCIER ANNUEL | K2: =YEAR(TODAY()) -> 2016
B3: NOM DE VOTRE SOCIÉTÉ
B5: MESURES CLÉS
B7: =Calculs!B8 -> MESURE 4 | D7: =Calculs!B9 -> MESURE 7 | F7: =Calculs!B10 -> MESURE 3 | H7: =Calculs!B11 -> MESURE 10 | J7: =Calculs!B12 -> MESURE 8
B8: =IFERROR(Calculs!G8,"") -> 5 | D8: =IFERROR(Calculs!G9,"") -> 90 | F8: =IFERROR(Calculs!G10,"") -> 26 | H8: =IFERROR(Calculs!G11,"") -> 35 | J8: =IFERROR(Calculs!G12,"") -> 8
B9: =Calculs!H8 -> -0.92647059 | D9: =Calculs!H9 -> 2.3333333 | F9: =Calculs!H10 -> -0.42222222 | H9: =Calculs!H11 -> -0.027777778 | J9: =Calculs!H12 -> -0.7037037
B13: TOUTES LES MESURES
B15: MESURE | D15: ="CETTE ANNÉE ("&AnnéeSélectionnée&")" -> CETTE ANNÉE (2016) | F15: ="ANNÉE DERNIÈRE ("&AnnéeSélectionnée-1&")" -> ANNÉE DERNIÈRE (2015) | H15: VARIATION EN % | I15: TENDANCE SUR 5 ANS
B16: =Calculs!B15 -> MESURE 1 | D16: =IF($B16="","",Calculs!G15) -> 40 | F16: =IF($B16="","",Calculs!F15) -> 14 | H16: =IFERROR(D16/F16-1,"") -> 1.8571429
B17: =Calculs!B16 -> MESURE 2 | D17: =IF($B17="","",Calculs!G16) -> 61 | F17: =IF($B17="","",Calculs!F16) -> 98 | H17: =IFERROR(D17/F17-1,"") -> -0.37755102
B18: =Calculs!B17 -> MESURE 3 | D18: =IF($B18="","",Calculs!G17) -> 26 | F18: =IF($B18="","",Calculs!F17) -> 45 | H18: =IFERROR(D18/F18-1,"") -> -0.42222222
B19: =Calculs!B18 -> MESURE 4 | D19: =IF($B19="","",Calculs!G18) -> 5 | F19: =IF($B19="","",Calculs!F18) -> 68 | H19: =IFERROR(D19/F19-1,"") -> -0.92647059
B20: =Calculs!B19 -> MESURE 5 | D20: =IF($B20="","",Calculs!G19) -> 1 | F20: =IF($B20="","",Calculs!F19) -> 44 | H20: =IFERROR(D20/F20-1,"") -> -0.97727273
B21: =Calculs!B20 -> MESURE 6 | D21: =IF($B21="","",Calculs!G20) -> 30 | F21: =IF($B21="","",Calculs!F20) -> 57 | H21: =IFERROR(D21/F21-1,"") -> -0.47368421
B22: =Calculs!B21 -> MESURE 7 | D22: =IF($B22="","",Calculs!G21) -> 90 | F22: =IF($B22="","",Calculs!F21) -> 27 | H22: =IFERROR(D22/F22-1,"") -> 2.3333333
B23: =Calculs!B22 -> MESURE 8 | D23: =IF($B23="","",Calculs!G22) -> 8 | F23: =IF($B23="","",Calculs!F22) -> 27 | H23: =IFERROR(D23/F23-1,"") -> -0.7037037
B24: =Calculs!B23 -> MESURE 9 | D24: =IF($B24="","",Calculs!G23) -> 90 | F24: =IF($B24="","",Calculs!F23) -> 38 | H24: =IFERROR(D24/F24-1,"") -> 1.3684211
B25: =Calculs!B24 -> MESURE 10 | D25: =IF($B25="","",Calculs!G24) -> 35 | F25: =IF($B25="","",Calculs!F24) -> 36 | H25: =IFERROR(D25/F25-1,"") -> -0.027777778
B26: =Calculs!B25 -> MESURE 11 | D26: =IF($B26="","",Calculs!G25) -> 61 | F26: =IF($B26="","",Calculs!F25) -> 44 | H26: =IFERROR(D26/F26-1,"") -> 0.38636364
B27: =Calculs!B26 -> MESURE 12 | D27: =IF($B27="","",Calculs!G26) -> 6 | F27: =IF($B27="","",Calculs!F26) -> 85 | H27: =IFERROR(D27/F27-1,"") -> -0.92941176
... B40: =Calculs!B39 -> MESURE 25 | D40: =IF($B40="","",Calculs!G39) -> 8 | F40: =IF($B40="","",Calculs!F39) -> 89 | H40: =IFERROR(D40/F40-1,"") -> -0.91011236

Sheet Entrées des données financières
B2: ENTREZ VOS DONNÉES FINANCIÈRES
B3: NOM DE LA MESURE | C3: =D3-1 -> 2010 | D3: =E3-1 -> 2011 | E3: =F3-1 -> 2012 | F3: =G3-1 -> 2013 | G3: =H3-1 -> 2014 | H3: =I3-1 -> 2015 | I3: =YEAR(TODAY()) -> 2016
B4: MESURE 1 | C4: =RANDBETWEEN(0,100) -> 3 | D4: =RANDBETWEEN(0,100) -> 97 | E4: =RANDBETWEEN(0,100) -> 69 | F4: =RANDBETWEEN(0,100) -> 34 | G4: =RANDBETWEEN(0,100) -> 3 | H4: =RANDBETWEEN(0,100) -> 14 | I4: =RANDBETWEEN(0,100) -> 40
B5: MESURE 2 | C5: =RANDBETWEEN(0,100) -> 20 | D5: =RANDBETWEEN(0,100) -> 67 | E5: =RANDBETWEEN(0,100) -> 15 | F5: =RANDBETWEEN(0,100) -> 67 | G5: =RANDBETWEEN(0,100) -> 32 | H5: =RANDBETWEEN(0,100) -> 98 | I5: =RANDBETWEEN(0,100) -> 61
B6: MESURE 3 | C6: =RANDBETWEEN(0,100) -> 47 | D6: =RANDBETWEEN(0,100) -> 95 | E6: =RANDBETWEEN(0,100) -> 32 | F6: =RANDBETWEEN(0,100) -> 23 | G6: =RANDBETWEEN(0,100) -> 77 | H6: =RANDBETWEEN(0,100) -> 45 | I6: =RANDBETWEEN(0,100) -> 26
B7: MESURE 4 | C7: =RANDBETWEEN(0,100) -> 38 | D7: =RANDBETWEEN(0,100) -> 34 | E7: =RANDBETWEEN(0,100) -> 90 | F7: =RANDBETWEEN(0,100) -> 94 | G7: =RANDBETWEEN(0,100) -> 93 | H7: =RANDBETWEEN(0,100) -> 68 | I7: =RANDBETWEEN(0,100) -> 5
B8: MESURE 5 | C8: =RANDBETWEEN(0,100) -> 6 | D8: =RANDBETWEEN(0,100) -> 57 | E8: =RANDBETWEEN(0,100) -> 60 | F8: =RANDBETWEEN(0,100) -> 30 | G8: =RANDBETWEEN(0,100) -> 99 | H8: =RANDBETWEEN(0,100) -> 44 | I8: =RANDBETWEEN(0,100) -> 1
B9: MESURE 6 | C9: =RANDBETWEEN(0,100) -> 19 | D9: =RANDBETWEEN(0,100) -> 91 | E9: =RANDBETWEEN(0,100) -> 90 | F9: =RANDBETWEEN(0,100) -> 17 | G9: =RANDBETWEEN(0,100) -> 82 | H9: =RANDBETWEEN(0,100) -> 57 | I9: =RANDBETWEEN(0,100) -> 30
B10: MESURE 7 | C10: =RANDBETWEEN(0,100) -> 90 | D10: =RANDBETWEEN(0,100) -> 15 | E10: =RANDBETWEEN(0,100) -> 28 | F10: =RANDBETWEEN(0,100) -> 82 | G10: =RANDBETWEEN(0,100) -> 76 | H10: =RANDBETWEEN(0,100) -> 27 | I10: =RANDBETWEEN(0,100) -> 90
B11: MESURE 8 | C11: =RANDBETWEEN(0,100) -> 95 | D11: =RANDBETWEEN(0,100) -> 29 | E11: =RANDBETWEEN(0,100) -> 34 | F11: =RANDBETWEEN(0,100) -> 76 | G11: =RANDBETWEEN(0,100) -> 97 | H11: =RANDBETWEEN(0,100) -> 27 | I11: =RANDBETWEEN(0,100) -> 8
B12: MESURE 9 | C12: =RANDBETWEEN(0,100) -> 91 | D12: =RANDBETWEEN(0,100) -> 69 | E12: =RANDBETWEEN(0,100) -> 38 | F12: =RANDBETWEEN(0,100) -> 1 | G12: =RANDBETWEEN(0,100) -> 27 | H12: =RANDBETWEEN(0,100) -> 38 | I12: =RANDBETWEEN(0,100) -> 90
B13: MESURE 10 | C13: =RANDBETWEEN(0,100) -> 92 | D13: =RANDBETWEEN(0,100) -> 38 | E13: =RANDBETWEEN(0,100) -> 45 | F13: =RANDBETWEEN(0,100) -> 56 | G13: =RANDBETWEEN(0,100) -> 4 | H13: =RANDBETWEEN(0,100) -> 36 | I13: =RANDBETWEEN(0,100) -> 35
B14: MESURE 11 | C14: =RANDBETWEEN(0,100) -> 33 | D14: =RANDBETWEEN(0,100) -> 99 | E14: =RANDBETWEEN(0,100) -> 11 | F14: =RANDBETWEEN(0,100) -> 32 | G14: =RANDBETWEEN(0,100) -> 83 | H14: =RANDBETWEEN(0,100) -> 44 | I14: =RANDBETWEEN(0,100) -> 61
B15: MESURE 12 | C15: =RANDBETWEEN(0,100) -> 47 | D15: =RANDBETWEEN(0,100) -> 53 | E15: =RANDBETWEEN(0,100) -> 83 | F15: =RANDBETWEEN(0,100) -> 45 | G15: =RANDBETWEEN(0,100) -> 74 | H15: =RANDBETWEEN(0,100) -> 85 | I15: =RANDBETWEEN(0,100) -> 6
... B28: MESURE 25 | C28: =RANDBETWEEN(0,100) -> 14 | D28: =RANDBETWEEN(0,100) -> 53 | E28: =RANDBETWEEN(0,100) -> 24 | F28: =RANDBETWEEN(0,100) -> 54 | G28: =RANDBETWEEN(0,100) -> 81 | H28: =RANDBETWEEN(0,100) -> 89 | I28: =RANDBETWEEN(0,100) -> 8

Sheet Paramètres des mesures clés
B2: DÉFINISSEZ LES MESURES CLÉS ICI
B3: 1 | C3: MESURE 4 | D3: =IF(ISBLANK(C3),"←Sélectionnez une valeur dans la liste déroulante",IF(COUNTIF($C$3:C3,C3)>1,"Vous avez sélectionné "&C3&" deux fois.",""))
B4: 2 | C4: MESURE 7 | D4: =IF(ISBLANK(C4),"←Sélectionnez une valeur dans la liste déroulante",IF(COUNTIF($C$3:C4,C4)>1,"Vous avez sélectionné "&C4&" deux fois.",""))
B5: 3 | C5: MESURE 3 | D5: =IF(ISBLANK(C5),"←Sélectionnez une valeur dans la liste déroulante",IF(COUNTIF($C$3:C5,C5)>1,"Vous avez sélectionné "&C5&" deux fois.",""))
B6: 4 | C6: MESURE 10 | D6: =IF(ISBLANK(C6),"←Sélectionnez une valeur dans la liste déroulante",IF(COUNTIF($C$3:C6,C6)>1,"Vous avez sélectionné "&C6&" deux fois.",""))
B7: 5 | C7: MESURE 8 | D7: =IF(ISBLANK(C7),"←Sélectionnez une valeur dans la liste déroulante",IF(COUNTIF($C$3:C7,C7)>1,"Vous avez sélectionné "&C7&" deux fois.",""))

Sheet Calculs
A1: Cette feuille de calcul est utilisée pour les calculs du Rapport financier et doit rester masquée.
D2: Position
B3: Cette année | C3: =AnnéeSélectionnée -> 2016 | D3: =MATCH(C3,lstAnnées,0)+1 -> 8
B4: Année précédente | C4: =C3-1 -> 2015 | D4: =MATCH(C4,lstAnnées,0)+1 -> 7
B6: Position | C6: =MATCH(C7,lstAnnées,0)+1 -> 4 | D6: =MATCH(D7,lstAnnées,0)+1 -> 5 | E6: =MATCH(E7,lstAnnées,0)+1 -> 6 | F6: =MATCH(F7,lstAnnées,0)+1 -> 7 | G6: =MATCH(G7,lstAnnées,0)+1 -> 8
B7: Mesures clés | C7: =D7-1 -> 2012 | D7: =E7-1 -> 2013 | E7: =F7-1 -> 2014 | F7: =G7-1 -> 2015 | G7: =C3 -> 2016
A8: =MATCH(B8,'Entrées des données financières'!$B$4:$B$18,0) -> 4 | B8: =IF('Paramètres des mesures clés'!C3="","",'Paramètres des mesures clés'!C3) -> MESURE 4 | C8: =IFERROR(INDEX('Entrées des données financières'!$B$4:$I$18,$A8,C$6),NA()) -> 90 | D8: =IFERROR(INDEX('Entrées des données financières'!$B$4:$I$18,$A8,D$6),NA()) -> 94 | E8: =IFERROR(INDEX('Entrées des données financières'!$B$4:$I$18,$A8,E$6),NA()) -> 93 | F8: =IFERROR(INDEX('Entrées des données financières'!$B$4:$I$18,$A8,F$6),NA()) -> 68 | G8: =IFERROR(INDEX('Entrées des données financières'!$B$4:$I$18,$A8,G$6),NA()) -> 5 | H8: =IFERROR(G8/F8-1,"") -> -0.92647059
A9: =MATCH(B9,'Entrées des données financières'!$B$4:$B$18,0) -> 7 | B9: =IF('Paramètres des mesures clés'!C4="","",'Paramètres des mesures clés'!C4) -> MESURE 7 | C9: =IFERROR(INDEX('Entrées des données financières'!$B$4:$I$18,$A9,C$6),NA()) -> 28 | D9: =IFERROR(INDEX('Entrées des données financières'!$B$4:$I$18,$A9,D$6),NA()) -> 82 | E9: =IFERROR(INDEX('Entrées des données financières'!$B$4:$I$18,$A9,E$6),NA()) -> 76 | F9: =IFERROR(INDEX('Entrées des données financières'!$B$4:$I$18,$A9,F$6),NA()) -> 27 | G9: =IFERROR(INDEX('Entrées des données financières'!$B$4:$I$18,$A9,G$6),NA()) -> 90 | H9: =IFERROR(G9/F9-1,"") -> 2.3333333
A10: =MATCH(B10,'Entrées des données financières'!$B$4:$B$18,0) -> 3 | B10: =IF('Paramètres des mesures clés'!C5="","",'Paramètres des mesures clés'!C5) -> MESURE 3 | C10: =IFERROR(INDEX('Entrées des données financières'!$B$4:$I$18,$A10,C$6),NA()) -> 32 | D10: =IFERROR(INDEX('Entrées des données financières'!$B$4:$I$18,$A10,D$6),NA()) -> 23 | E10: =IFERROR(INDEX('Entrées des données financières'!$B$4:$I$18,$A10,E$6),NA()) -> 77 | F10: =IFERROR(INDEX('Entrées des données financières'!$B$4:$I$18,$A10,F$6),NA()) -> 45 | G10: =IFERROR(INDEX('Entrées des données financières'!$B$4:$I$18,$A10,G$6),NA()) -> 26 | H10: =IFERROR(G10/F10-1,"") -> -0.42222222
A11: =MATCH(B11,'Entrées des données financières'!$B$4:$B$18,0) -> 10 | B11: =IF('Paramètres des mesures clés'!C6="","",'Paramètres des mesures clés'!C6) -> MESURE 10 | C11: =IFERROR(INDEX('Entrées des données financières'!$B$4:$I$18,$A11,C$6),NA()) -> 45 | D11: =IFERROR(INDEX('Entrées des données financières'!$B$4:$I$18,$A11,D$6),NA()) -> 56 | E11: =IFERROR(INDEX('Entrées des données financières'!$B$4:$I$18,$A11,E$6),NA()) -> 4 | F11: =IFERROR(INDEX('Entrées des données financières'!$B$4:$I$18,$A11,F$6),NA()) -> 36 | G11: =IFERROR(INDEX('Entrées des données financières'!$B$4:$I$18,$A11,G$6),NA()) -> 35 | H11: =IFERROR(G11/F11-1,"") -> -0.027777778
A12: =MATCH(B12,'Entrées des données financières'!$B$4:$B$18,0) -> 8 | B12: =IF('Paramètres des mesures clés'!C7="","",'Paramètres des mesures clés'!C7) -> MESURE 8 | C12: =IFERROR(INDEX('Entrées des données financières'!$B$4:$I$18,$A12,C$6),NA()) -> 34 | D12: =IFERROR(INDEX('Entrées des données financières'!$B$4:$I$18,$A12,D$6),NA()) -> 76 | E12: =IFERROR(INDEX('Entrées des données financières'!$B$4:$I$18,$A12,E$6),NA()) -> 97 | F12: =IFERROR(INDEX('Entrées des données financières'!$B$4:$I$18,$A12,F$6),NA()) -> 27 | G12: =IFERROR(INDEX('Entrées des données financières'!$B$4:$I$18,$A12,G$6),NA()) -> 8 | H12: =IFERROR(G12/F12-1,"") -> -0.7037037
B14: Toutes les mesures (jusqu’à 25 mesures)
A15: =ROWS($B$15:B15) -> 1 | B15: =IF('Entrées des données financières'!B4=0,"",'Entrées des données financières'!B4) -> MESURE 1 | C15: =IF(B15="",NA(),IFERROR(INDEX('Entrées des données financières'!$B$4:$I$28,$A15,C$6),NA())) -> 69 | D15: =IF(B15="",NA(),IFERROR(INDEX('Entrées des données financières'!$B$4:$I$28,$A15,D$6),NA())) -> 34 | E15: =IF(B15="",NA(),IFERROR(INDEX('Entrées des données financières'!$B$4:$I$28,$A15,E$6),NA())) -> 3 | F15: =IF(B15="",NA(),IFERROR(INDEX('Entrées des données financières'!$B$4:$I$28,$A15,F$6),NA())) -> 14 | G15: =IF(B15="",NA(),IFERROR(INDEX('Entrées des données financières'!$B$4:$I$28,$A15,G$6),NA())) -> 40
A16: =ROWS($B$15:B16) -> 2 | B16: =IF('Entrées des données financières'!B5=0,"",'Entrées des données financières'!B5) -> MESURE 2 | C16: =IF(B16="",NA(),IFERROR(INDEX('Entrées des données financières'!$B$4:$I$28,$A16,C$6),NA())) -> 15 | D16: =IF(B16="",NA(),IFERROR(INDEX('Entrées des données financières'!$B$4:$I$28,$A16,D$6),NA())) -> 67 | E16: =IF(B16="",NA(),IFERROR(INDEX('Entrées des données financières'!$B$4:$I$28,$A16,E$6),NA())) -> 32 | F16: =IF(B16="",NA(),IFERROR(INDEX('Entrées des données financières'!$B$4:$I$28,$A16,F$6),NA())) -> 98 | G16: =IF(B16="",NA(),IFERROR(INDEX('Entrées des données financières'!$B$4:$I$28,$A16,G$6),NA())) -> 61
A17: =ROWS($B$15:B17) -> 3 | B17: =IF('Entrées des données financières'!B6=0,"",'Entrées des données financières'!B6) -> MESURE 3 | C17: =IF(B17="",NA(),IFERROR(INDEX('Entrées des données financières'!$B$4:$I$28,$A17,C$6),NA())) -> 32 | D17: =IF(B17="",NA(),IFERROR(INDEX('Entrées des données financières'!$B$4:$I$28,$A17,D$6),NA())) -> 23 | E17: =IF(B17="",NA(),IFERROR(INDEX('Entrées des données financières'!$B$4:$I$28,$A17,E$6),NA())) -> 77 | F17: =IF(B17="",NA(),IFERROR(INDEX('Entrées des données financières'!$B$4:$I$28,$A17,F$6),NA())) -> 45 | G17: =IF(B17="",NA(),IFERROR(INDEX('Entrées des données financières'!$B$4:$I$28,$A17,G$6),NA())) -> 26
A18: =ROWS($B$15:B18) -> 4 | B18: =IF('Entrées des données financières'!B7=0,"",'Entrées des données financières'!B7) -> MESURE 4 | C18: =IF(B18="",NA(),IFERROR(INDEX('Entrées des données financières'!$B$4:$I$28,$A18,C$6),NA())) -> 90 | D18: =IF(B18="",NA(),IFERROR(INDEX('Entrées des données financières'!$B$4:$I$28,$A18,D$6),NA())) -> 94 | E18: =IF(B18="",NA(),IFERROR(INDEX('Entrées des données financières'!$B$4:$I$28,$A18,E$6),NA())) -> 93 | F18: =IF(B18="",NA(),IFERROR(INDEX('Entrées des données financières'!$B$4:$I$28,$A18,F$6),NA())) -> 68 | G18: =IF(B18="",NA(),IFERROR(INDEX('Entrées des données financières'!$B$4:$I$28,$A18,G$6),NA())) -> 5
A19: =ROWS($B$15:B19) -> 5 | B19: =IF('Entrées des données financières'!B8=0,"",'Entrées des données financières'!B8) -> MESURE 5 | C19: =IF(B19="",NA(),IFERROR(INDEX('Entrées des données financières'!$B$4:$I$28,$A19,C$6),NA())) -> 60 | D19: =IF(B19="",NA(),IFERROR(INDEX('Entrées des données financières'!$B$4:$I$28,$A19,D$6),NA())) -> 30 | E19: =IF(B19="",NA(),IFERROR(INDEX('Entrées des données financières'!$B$4:$I$28,$A19,E$6),NA())) -> 99 | F19: =IF(B19="",NA(),IFERROR(INDEX('Entrées des données financières'!$B$4:$I$28,$A19,F$6),NA())) -> 44 | G19: =IF(B19="",NA(),IFERROR(INDEX('Entrées des données financières'!$B$4:$I$28,$A19,G$6),NA())) -> 1
A20: =ROWS($B$15:B20) -> 6 | B20: =IF('Entrées des données financières'!B9=0,"",'Entrées des données financières'!B9) -> MESURE 6 | C20: =IF(B20="",NA(),IFERROR(INDEX('Entrées des données financières'!$B$4:$I$28,$A20,C$6),NA())) -> 90 | D20: =IF(B20="",NA(),IFERROR(INDEX('Entrées des données financières'!$B$4:$I$28,$A20,D$6),NA())) -> 17 | E20: =IF(B20="",NA(),IFERROR(INDEX('Entrées des données financières'!$B$4:$I$28,$A20,E$6),NA())) -> 82 | F20: =IF(B20="",NA(),IFERROR(INDEX('Entrées des données financières'!$B$4:$I$28,$A20,F$6),NA())) -> 57 | G20: =IF(B20="",NA(),IFERROR(INDEX('Entrées des données financières'!$B$4:$I$28,$A20,G$6),NA())) -> 30
A21: =ROWS($B$15:B21) -> 7 | B21: =IF('Entrées des données financières'!B10=0,"",'Entrées des données financières'!B10) -> MESURE 7 | C21: =IF(B21="",NA(),IFERROR(INDEX('Entrées des données financières'!$B$4:$I$28,$A21,C$6),NA())) -> 28 | D21: =IF(B21="",NA(),IFERROR(INDEX('Entrées des données financières'!$B$4:$I$28,$A21,D$6),NA())) -> 82 | E21: =IF(B21="",NA(),IFERROR(INDEX('Entrées des données financières'!$B$4:$I$28,$A21,E$6),NA())) -> 76 | F21: =IF(B21="",NA(),IFERROR(INDEX('Entrées des données financières'!$B$4:$I$28,$A21,F$6),NA())) -> 27 | G21: =IF(B21="",NA(),IFERROR(INDEX('Entrées des données financières'!$B$4:$I$28,$A21,G$6),NA())) -> 90
A22: =ROWS($B$15:B22) -> 8 | B22: =IF('Entrées des données financières'!B11=0,"",'Entrées des données financières'!B11) -> MESURE 8 | C22: =IF(B22="",NA(),IFERROR(INDEX('Entrées des données financières'!$B$4:$I$28,$A22,C$6),NA())) -> 34 | D22: =IF(B22="",NA(),IFERROR(INDEX('Entrées des données financières'!$B$4:$I$28,$A22,D$6),NA())) -> 76 | E22: =IF(B22="",NA(),IFERROR(INDEX('Entrées des données financières'!$B$4:$I$28,$A22,E$6),NA())) -> 97 | F22: =IF(B22="",NA(),IFERROR(INDEX('Entrées des données financières'!$B$4:$I$28,$A22,F$6),NA())) -> 27 | G22: =IF(B22="",NA(),IFERROR(INDEX('Entrées des données financières'!$B$4:$I$28,$A22,G$6),NA())) -> 8
A23: =ROWS($B$15:B23) -> 9 | B23: =IF('Entrées des données financières'!B12=0,"",'Entrées des données financières'!B12) -> MESURE 9 | C23: =IF(B23="",NA(),IFERROR(INDEX('Entrées des données financières'!$B$4:$I$28,$A23,C$6),NA())) -> 38 | D23: =IF(B23="",NA(),IFERROR(INDEX('Entrées des données financières'!$B$4:$I$28,$A23,D$6),NA())) -> 1 | E23: =IF(B23="",NA(),IFERROR(INDEX('Entrées des données financières'!$B$4:$I$28,$A23,E$6),NA())) -> 27 | F23: =IF(B23="",NA(),IFERROR(INDEX('Entrées des données financières'!$B$4:$I$28,$A23,F$6),NA())) -> 38 | G23: =IF(B23="",NA(),IFERROR(INDEX('Entrées des données financières'!$B$4:$I$28,$A23,G$6),NA())) -> 90
A24: =ROWS($B$15:B24) -> 10 | B24: =IF('Entrées des données financières'!B13=0,"",'Entrées des données financières'!B13) -> MESURE 10 | C24: =IF(B24="",NA(),IFERROR(INDEX('Entrées des données financières'!$B$4:$I$28,$A24,C$6),NA())) -> 45 | D24: =IF(B24="",NA(),IFERROR(INDEX('Entrées des données financières'!$B$4:$I$28,$A24,D$6),NA())) -> 56 | E24: =IF(B24="",NA(),IFERROR(INDEX('Entrées des données financières'!$B$4:$I$28,$A24,E$6),NA())) -> 4 | F24: =IF(B24="",NA(),IFERROR(INDEX('Entrées des données financières'!$B$4:$I$28,$A24,F$6),NA())) -> 36 | G24: =IF(B24="",NA(),IFERROR(INDEX('Entrées des données financières'!$B$4:$I$28,$A24,G$6),NA())) -> 35
A25: =ROWS($B$15:B25) -> 11 | B25: =IF('Entrées des données financières'!B14=0,"",'Entrées des données financières'!B14) -> MESURE 11 | C25: =IF(B25="",NA(),IFERROR(INDEX('Entrées des données financières'!$B$4:$I$28,$A25,C$6),NA())) -> 11 | D25: =IF(B25="",NA(),IFERROR(INDEX('Entrées des données financières'!$B$4:$I$28,$A25,D$6),NA())) -> 32 | E25: =IF(B25="",NA(),IFERROR(INDEX('Entrées des données financières'!$B$4:$I$28,$A25,E$6),NA())) -> 83 | F25: =IF(B25="",NA(),IFERROR(INDEX('Entrées des données financières'!$B$4:$I$28,$A25,F$6),NA())) -> 44 | G25: =IF(B25="",NA(),IFERROR(INDEX('Entrées des données financières'!$B$4:$I$28,$A25,G$6),NA())) -> 61
A26: =ROWS($B$15:B26) -> 12 | B26: =IF('Entrées des données financières'!B15=0,"",'Entrées des données financières'!B15) -> MESURE 12 | C26: =IF(B26="",NA(),IFERROR(INDEX('Entrées des données financières'!$B$4:$I$28,$A26,C$6),NA())) -> 83 | D26: =IF(B26="",NA(),IFERROR(INDEX('Entrées des données financières'!$B$4:$I$28,$A26,D$6),NA())) -> 45 | E26: =IF(B26="",NA(),IFERROR(INDEX('Entrées des données financières'!$B$4:$I$28,$A26,E$6),NA())) -> 74 | F26: =IF(B26="",NA(),IFERROR(INDEX('Entrées des données financières'!$B$4:$I$28,$A26,F$6),NA())) -> 85 | G26: =IF(B26="",NA(),IFERROR(INDEX('Entrées des données financières'!$B$4:$I$28,$A26,G$6),NA())) -> 6
... A39: =ROWS($B$15:B39) -> 25 | B39: =IF('Entrées des données financières'!B28=0,"",'Entrées des données financières'!B28) -> MESURE 25 | C39: =IF(B39="",NA(),IFERROR(INDEX('Entrées des données financières'!$B$4:$I$28,$A39,C$6),NA())) -> 24 | D39: =IF(B39="",NA(),IFERROR(INDEX('Entrées des données financières'!$B$4:$I$28,$A39,D$6),NA())) -> 54 | E39: =IF(B39="",NA(),IFERROR(INDEX('Entrées des données financières'!$B$4:$I$28,$A39,E$6),NA())) -> 81 | F39: =IF(B39="",NA(),IFERROR(INDEX('Entrées des données financières'!$B$4:$I$28,$A39,F$6),NA())) -> 89 | G39: =IF(B39="",NA(),IFERROR(INDEX('Entrées des données financières'!$B$4:$I$28,$A39,G$6),NA())) -> 8
