Workbook
Name AnnéeSélectionnée: 'Rapport financier'!$K$2
Name lstAnnées: OFFSET('Entrées des données financières'!$B$3:$I$3,0,1,1,COUNTA('Entrées des données financières'!$B$3:$I$3)-1)
Name lstMesures: OFFSET('Entrées des données financières'!$B$4:$B$28,0,0,COUNTA('Entrées des données financières'!$B$4:$B$28))

Sheet Rapport financier
B2: RAPPORT FINANCIER ANNUEL | K2: Juillet
B3: NOM DE VOTRE SOCIÉTÉ
B5: MESURES CLÉS
B7: =Calculs!B8 -> MESURE 4 | D7: =Calculs!B9 -> MESURE 7 | F7: =Calculs!B10 -> MESURE 3 | H7: =Calculs!B11 -> MESURE 10 | J7: =Calculs!B12 -> MESURE 8
B8: =IFERROR(Calculs!G8,"") -> 52 | D8: =IFERROR(Calculs!G9,"") -> 2 | F8: =IFERROR(Calculs!G10,"") -> 23 | H8: =IFERROR(Calculs!G11,"") -> 18 | J8: =IFERROR(Calculs!G12,"") -> 78
B9: =Calculs!H8 -> -0.46938776 | D9: =Calculs!H9 -> -0.92307692 | F9: =Calculs!H10 -> -0.59649123 | H9: =Calculs!H11 -> -0.8 | J9: =Calculs!H12 -> 0.012987013
B13: TOUTES LES MESURES
B15: MESURE | D15: ="CE MOIS ("&AnnéeSélectionnée&")" -> CE MOIS (Juillet) | F15: ="ANNÉE DERNIÈRE ("&AnnéeSélectionnée-1&")" -> #VALUE! | H15: VARIATION EN % | I15: TENDANCE SUR 5 ANS
B16: =Calculs!B15 -> MESURE 1 | D16: =IF($B16="","",Calculs!G15) -> 77 | F16: =IF($B16="","",Calculs!F15) -> 41 | H16: =IFERROR(D16/F16-1,"") -> 0.87804878
B17: =Calculs!B16 -> MESURE 2 | D17: =IF($B17="","",Calculs!G16) -> 91 | F17: =IF($B17="","",Calculs!F16) -> 19 | H17: =IFERROR(D17/F17-1,"") -> 3.7894737
B18: =Calculs!B17 -> MESURE 3 | D18: =IF($B18="","",Calculs!G17) -> 23 | F18: =IF($B18="","",Calculs!F17) -> 57 | H18: =IFERROR(D18/F18-1,"") -> -0.59649123
B19: =Calculs!B18 -> MESURE 4 | D19: =IF($B19="","",Calculs!G18) -> 52 | F19: =IF($B19="","",Calculs!F18) -> 98 | H19: =IFERROR(D19/F19-1,"") -> -0.46938776
B20: =Calculs!B19 -> MESURE 5 | D20: =IF($B20="","",Calculs!G19) -> 4 | F20: =IF($B20="","",Calculs!F19) -> 77 | H20: =IFERROR(D20/F20-1,"") -> -0.94805195
B21: =Calculs!B20 -> MESURE 6 | D21: =IF($B21="","",Calculs!G20) -> 98 | F21: =IF($B21="","",Calculs!F20) -> 92 | H21: =IFERROR(D21/F21-1,"") -> 0.065217391
B22: =Calculs!B21 -> MESURE 7 | D22: =IF($B22="","",Calculs!G21) -> 2 | F22: =IF($B22="","",Calculs!F21) -> 26 | H22: =IFERROR(D22/F22-1,"") -> -0.92307692
B23: =Calculs!B22 -> MESURE 8 | D23: =IF($B23="","",Calculs!G22) -> 78 | F23: =IF($B23="","",Calculs!F22) -> 77 | H23: =IFERROR(D23/F23-1,"") -> 0.012987013
B24: =Calculs!B23 -> MESURE 9 | D24: =IF($B24="","",Calculs!G23) -> 6 | F24: =IF($B24="","",Calculs!F23) -> 18 | H24: =IFERROR(D24/F24-1,"") -> -0.66666667
B25: =Calculs!B24 -> MESURE 10 | D25: =IF($B25="","",Calculs!G24) -> 18 | F25: =IF($B25="","",Calculs!F24) -> 90 | H25: =IFERROR(D25/F25-1,"") -> -0.8
B26: =Calculs!B25 -> MESURE 11 | D26: =IF($B26="","",Calculs!G25) -> 26 | F26: =IF($B26="","",Calculs!F25) -> 66 | H26: =IFERROR(D26/F26-1,"") -> -0.60606061
B27: =Calculs!B26 -> MESURE 12 | D27: =IF($B27="","",Calculs!G26) -> 87 | F27: =IF($B27="","",Calculs!F26) -> 56 | H27: =IFERROR(D27/F27-1,"") -> 0.55357143
... B40: =Calculs!B39 -> MESURE 25 | D40: =IF($B40="","",Calculs!G39) -> 66 | F40: =IF($B40="","",Calculs!F39) -> 30 | H40: =IFERROR(D40/F40-1,"") -> 1.2

Sheet Entrées des données financières
B2: ENTREZ VOS DONNÉES FINANCIÈRES
B3: NOM DE LA MESURE | C3: Janvier | D3: Février | E3: Mars | F3: Avril | G3: Mai | H3: Juin | I3: Juillet | J3: Août | K3: Septembre | L3: Octobre | M3: Novembre | N3: Décembre
B4: MESURE 1 | C4: =RANDBETWEEN(0,100) -> 75 | D4: =RANDBETWEEN(0,100) -> 17 | E4: =RANDBETWEEN(0,100) -> 31 | F4: =RANDBETWEEN(0,100) -> 41 | G4: =RANDBETWEEN(0,100) -> 77 | H4: =RANDBETWEEN(0,100) -> 75 | I4: =RANDBETWEEN(0,100) -> 29 | J4: =RANDBETWEEN(0,100) -> 47 | ... N4: =RANDBETWEEN(0,100) -> 84
B5: MESURE 2 | C5: =RANDBETWEEN(0,100) -> 46 | D5: =RANDBETWEEN(0,100) -> 43 | E5: =RANDBETWEEN(0,100) -> 89 | F5: =RANDBETWEEN(0,100) -> 19 | G5: =RANDBETWEEN(0,100) -> 91 | H5: =RANDBETWEEN(0,100) -> 39 | I5: =RANDBETWEEN(0,100) -> 30 | J5: =RANDBETWEEN(0,100) -> 92 | ... N5: =RANDBETWEEN(0,100) -> 1
B6: MESURE 3 | C6: =RANDBETWEEN(0,100) -> 20 | D6: =RANDBETWEEN(0,100) -> 71 | E6: =RANDBETWEEN(0,100) -> 38 | F6: =RANDBETWEEN(0,100) -> 57 | G6: =RANDBETWEEN(0,100) -> 23 | H6: =RANDBETWEEN(0,100) -> 6 | I6: =RANDBETWEEN(0,100) -> 70 | J6: =RANDBETWEEN(0,100) -> 74 | ... N6: =RANDBETWEEN(0,100) -> 18
B7: MESURE 4 | C7: =RANDBETWEEN(0,100) -> 77 | D7: =RANDBETWEEN(0,100) -> 61 | E7: =RANDBETWEEN(0,100) -> 22 | F7: =RANDBETWEEN(0,100) -> 98 | G7: =RANDBETWEEN(0,100) -> 52 | H7: =RANDBETWEEN(0,100) -> 69 | I7: =RANDBETWEEN(0,100) -> 45 | J7: =RANDBETWEEN(0,100) -> 60 | ... N7: =RANDBETWEEN(0,100) -> 17
B8: MESURE 5 | C8: =RANDBETWEEN(0,100) -> 78 | D8: =RANDBETWEEN(0,100) -> 97 | E8: =RANDBETWEEN(0,100) -> 70 | F8: =RANDBETWEEN(0,100) -> 77 | G8: =RANDBETWEEN(0,100) -> 4 | H8: =RANDBETWEEN(0,100) -> 58 | I8: =RANDBETWEEN(0,100) -> 84 | J8: =RANDBETWEEN(0,100) -> 77 | ... N8: =RANDBETWEEN(0,100) -> 39
B9: MESURE 6 | C9: =RANDBETWEEN(0,100) -> 86 | D9: =RANDBETWEEN(0,100) -> 93 | E9: =RANDBETWEEN(0,100) -> 76 | F9: =RANDBETWEEN(0,100) -> 92 | G9: =RANDBETWEEN(0,100) -> 98 | H9: =RANDBETWEEN(0,100) -> 16 | I9: =RANDBETWEEN(0,100) -> 48 | J9: =RANDBETWEEN(0,100) -> 61 | ... N9: =RANDBETWEEN(0,100) -> 88
B10: MESURE 7 | C10: =RANDBETWEEN(0,100) -> 31 | D10: =RANDBETWEEN(0,100) -> 84 | E10: =RANDBETWEEN(0,100) -> 25 | F10: =RANDBETWEEN(0,100) -> 26 | G10: =RANDBETWEEN(0,100) -> 2 | H10: =RANDBETWEEN(0,100) -> 81 | I10: =RANDBETWEEN(0,100) -> 99 | J10: =RANDBETWEEN(0,100) -> 4 | ... N10: =RANDBETWEEN(0,100) -> 15
B11: MESURE 8 | C11: =RANDBETWEEN(0,100) -> 42 | D11: =RANDBETWEEN(0,100) -> 56 | E11: =RANDBETWEEN(0,100) -> 96 | F11: =RANDBETWEEN(0,100) -> 77 | G11: =RANDBETWEEN(0,100) -> 78 | H11: =RANDBETWEEN(0,100) -> 22 | I11: =RANDBETWEEN(0,100) -> 29 | J11: =RANDBETWEEN(0,100) -> 84 | ... N11: =RANDBETWEEN(0,100) -> 1
B12: MESURE 9 | C12: =RANDBETWEEN(0,100) -> 19 | D12: =RANDBETWEEN(0,100) -> 55 | E12: =RANDBETWEEN(0,100) -> 89 | F12: =RANDBETWEEN(0,100) -> 18 | G12: =RANDBETWEEN(0,100) -> 6 | H12: =RANDBETWEEN(0,100) -> 4 | I12: =RANDBETWEEN(0,100) -> 38 | J12: =RANDBETWEEN(0,100) -> 83 | ... N12: =RANDBETWEEN(0,100) -> 89
B13: MESURE 10 | C13: =RANDBETWEEN(0,100) -> 75 | D13: =RANDBETWEEN(0,100) -> 41 | E13: =RANDBETWEEN(0,100) -> 97 | F13: =RANDBETWEEN(0,100) -> 90 | G13: =RANDBETWEEN(0,100) -> 18 | H13: =RANDBETWEEN(0,100) -> 9 | I13: =RANDBETWEEN(0,100) -> 54 | J13: =RANDBETWEEN(0,100) -> 48 | ... N13: =RANDBETWEEN(0,100) -> 74
B14: MESURE 11 | C14: =RANDBETWEEN(0,100) -> 61 | D14: =RANDBETWEEN(0,100) -> 13 | E14: =RANDBETWEEN(0,100) -> 39 | F14: =RANDBETWEEN(0,100) -> 66 | G14: =RANDBETWEEN(0,100) -> 26 | H14: =RANDBETWEEN(0,100) -> 49 | I14: =RANDBETWEEN(0,100) -> 99 | J14: =RANDBETWEEN(0,100) -> 17 | ... N14: =RANDBETWEEN(0,100) -> 70
B15: MESURE 12 | C15: =RANDBETWEEN(0,100) -> 91 | D15: =RANDBETWEEN(0,100) -> 94 | E15: =RANDBETWEEN(0,100) -> 34 | F15: =RANDBETWEEN(0,100) -> 56 | G15: =RANDBETWEEN(0,100) -> 87 | H15: =RANDBETWEEN(0,100) -> 52 | I15: =RANDBETWEEN(0,100) -> 3 | J15: =RANDBETWEEN(0,100) -> 92 | ... N15: =RANDBETWEEN(0,100) -> 76
... B28: MESURE 25 | C28: =RANDBETWEEN(0,100) -> 82 | D28: =RANDBETWEEN(0,100) -> 100 | E28: =RANDBETWEEN(0,100) -> 52 | F28: =RANDBETWEEN(0,100) -> 30 | G28: =RANDBETWEEN(0,100) -> 66 | H28: =RANDBETWEEN(0,100) -> 36 | I28: =RANDBETWEEN(0,100) -> 78 | J28: =RANDBETWEEN(0,100) -> 47 | ... N28: =RANDBETWEEN(0,100) -> 89

Sheet Paramètres des mesures clés
B2: DÉFINISSEZ LES MESURES CLÉS ICI
B3: 1 | C3: MESURE 4 | D3: =IF(ISBLANK(C3),"←Sélectionnez une valeur dans la liste déroulante",IF(COUNTIF($C$3:C3,C3)>1,"Vous avez sélectionné "&C3&" deux fois.",""))
B4: 2 | C4: MESURE 7 | D4: =IF(ISBLANK(C4),"←Sélectionnez une valeur dans la liste déroulante",IF(COUNTIF($C$3:C4,C4)>1,"Vous avez sélectionné "&C4&" deux fois.",""))
B5: 3 | C5: MESURE 3 | D5: =IF(ISBLANK(C5),"←Sélectionnez une valeur dans la liste déroulante",IF(COUNTIF($C$3:C5,C5)>1,"Vous avez sélectionné "&C5&" deux fois.",""))
B6: 4 | C6: MESURE 10 | D6: =IF(ISBLANK(C6),"←Sélectionnez une valeur dans la liste déroulante",IF(COUNTIF($C$3:C6,C6)>1,"Vous avez sélectionné "&C6&" deux fois.",""))
B7: 5 | C7: MESURE 8 | D7: =IF(ISBLANK(C7),"←Sélectionnez une valeur dans la liste déroulante",IF(COUNTIF($C$3:C7,C7)>1,"Vous avez sélectionné "&C7&" deux fois.",""))

Sheet Calculs
A1: Cette feuille de calcul est utilisée pour les calculs du Rapport financier et doit rester masquée.
D2: Position
B3: Cette année | C3: =AnnéeSélectionnée -> Juillet | D3: =MATCH(C3,lstAnnées,0)+1 -> 8
B4: Année précédente | C4: =C3-1 -> #VALUE! | D4: =MATCH(C4,lstAnnées,0)+1 -> #VALUE!
B6: Position | C6: =MATCH(C7,lstAnnées,0)+1 -> 2 | D6: =MATCH(D7,lstAnnées,0)+1 -> 3 | E6: =MATCH(E7,lstAnnées,0)+1 -> 4 | F6: =MATCH(F7,lstAnnées,0)+1 -> 5 | G6: =MATCH(G7,lstAnnées,0)+1 -> 6
B7: Mesures clés | C7: Janvier | D7: Février | E7: Mars | F7: Avril | G7: Mai | H7: Juin | I7: Juillet | J7: Août | K7: Septembre | L7: Octobre | M7: Novembre | N7: Décembre
A8: =MATCH(B8,'Entrées des données financières'!$B$4:$B$18,0) -> 4 | B8: =IF('Paramètres des mesures clés'!C3="","",'Paramètres des mesures clés'!C3) -> MESURE 4 | C8: =IFERROR(INDEX('Entrées des données financières'!$B$4:$I$18,$A8,C$6),NA()) -> 77 | D8: =IFERROR(INDEX('Entrées des données financières'!$B$4:$I$18,$A8,D$6),NA()) -> 61 | E8: =IFERROR(INDEX('Entrées des données financières'!$B$4:$I$18,$A8,E$6),NA()) -> 22 | F8: =IFERROR(INDEX('Entrées des données financières'!$B$4:$I$18,$A8,F$6),NA()) -> 98 | G8: =IFERROR(INDEX('Entrées des données financières'!$B$4:$I$18,$A8,G$6),NA()) -> 52 | H8: =IFERROR(G8/F8-1,"") -> -0.46938776 | I8: =IFERROR(H8/G8-1,"") -> -1.0090267 | J8: =IFERROR(I8/H8-1,"") -> 1.1496656 | K8: =IFERROR(J8/I8-1,"") -> -2.1393807 | L8: =IFERROR(K8/J8-1,"") -> -2.8608722 | M8: =IFERROR(L8/K8-1,"") -> 0.33724317 | N8: =IFERROR(M8/L8-1,"") -> -1.1178812
A9: =MATCH(B9,'Entrées des données financières'!$B$4:$B$18,0) -> 7 | B9: =IF('Paramètres des mesures clés'!C4="","",'Paramètres des mesures clés'!C4) -> MESURE 7 | C9: =IFERROR(INDEX('Entrées des données financières'!$B$4:$I$18,$A9,C$6),NA()) -> 31 | D9: =IFERROR(INDEX('Entrées des données financières'!$B$4:$I$18,$A9,D$6),NA()) -> 84 | E9: =IFERROR(INDEX('Entrées des données financières'!$B$4:$I$18,$A9,E$6),NA()) -> 25 | F9: =IFERROR(INDEX('Entrées des données financières'!$B$4:$I$18,$A9,F$6),NA()) -> 26 | G9: =IFERROR(INDEX('Entrées des données financières'!$B$4:$I$18,$A9,G$6),NA()) -> 2 | H9: =IFERROR(G9/F9-1,"") -> -0.92307692 | I9: =IFERROR(H9/G9-1,"") -> -1.4615385 | J9: =IFERROR(I9/H9-1,"") -> 0.58333333 | K9: =IFERROR(J9/I9-1,"") -> -1.3991228 | L9: =IFERROR(K9/J9-1,"") -> -3.3984962 | M9: =IFERROR(L9/K9-1,"") -> 1.4290193 | N9: =IFERROR(M9/L9-1,"") -> -1.4204858
A10: =MATCH(B10,'Entrées des données financières'!$B$4:$B$18,0) -> 3 | B10: =IF('Paramètres des mesures clés'!C5="","",'Paramètres des mesures clés'!C5) -> MESURE 3 | C10: =IFERROR(INDEX('Entrées des données financières'!$B$4:$I$18,$A10,C$6),NA()) -> 20 | D10: =IFERROR(INDEX('Entrées des données financières'!$B$4:$I$18,$A10,D$6),NA()) -> 71 | E10: =IFERROR(INDEX('Entrées des données financières'!$B$4:$I$18,$A10,E$6),NA()) -> 38 | F10: =IFERROR(INDEX('Entrées des données financières'!$B$4:$I$18,$A10,F$6),NA()) -> 57 | G10: =IFERROR(INDEX('Entrées des données financières'!$B$4:$I$18,$A10,G$6),NA()) -> 23 | H10: =IFERROR(G10/F10-1,"") -> -0.59649123 | I10: =IFERROR(H10/G10-1,"") -> -1.0259344 | J10: =IFERROR(I10/H10-1,"") -> 0.71994885 | K10: =IFERROR(J10/I10-1,"") -> -1.7017494 | L10: =IFERROR(K10/J10-1,"") -> -3.3637088 | M10: =IFERROR(L10/K10-1,"") -> 0.97661815 | N10: =IFERROR(M10/L10-1,"") -> -1.2903397
A11: =MATCH(B11,'Entrées des données financières'!$B$4:$B$18,0) -> 10 | B11: =IF('Paramètres des mesures clés'!C6="","",'Paramètres des mesures clés'!C6) -> MESURE 10 | C11: =IFERROR(INDEX('Entrées des données financières'!$B$4:$I$18,$A11,C$6),NA()) -> 75 | D11: =IFERROR(INDEX('Entrées des données financières'!$B$4:$I$18,$A11,D$6),NA()) -> 41 | E11: =IFERROR(INDEX('Entrées des données financières'!$B$4:$I$18,$A11,E$6),NA()) -> 97 | F11: =IFERROR(INDEX('Entrées des données financières'!$B$4:$I$18,$A11,F$6),NA()) -> 90 | G11: =IFERROR(INDEX('Entrées des données financières'!$B$4:$I$18,$A11,G$6),NA()) -> 18 | H11: =IFERROR(G11/F11-1,"") -> -0.8 | I11: =IFERROR(H11/G11-1,"") -> -1.0444444 | J11: =IFERROR(I11/H11-1,"") -> 0.30555556 | K11: =IFERROR(J11/I11-1,"") -> -1.2925532 | L11: =IFERROR(K11/J11-1,"") -> -5.2301741 | M11: =IFERROR(L11/K11-1,"") -> 3.0463898 | N11: =IFERROR(M11/L11-1,"") -> -1.5824643
A12: =MATCH(B12,'Entrées des données financières'!$B$4:$B$18,0) -> 8 | B12: =IF('Paramètres des mesures clés'!C7="","",'Paramètres des mesures clés'!C7) -> MESURE 8 | C12: =IFERROR(INDEX('Entrées des données financières'!$B$4:$I$18,$A12,C$6),NA()) -> 42 | D12: =IFERROR(INDEX('Entrées des données financières'!$B$4:$I$18,$A12,D$6),NA()) -> 56 | E12: =IFERROR(INDEX('Entrées des données financières'!$B$4:$I$18,$A12,E$6),NA()) -> 96 | F12: =IFERROR(INDEX('Entrées des données financières'!$B$4:$I$18,$A12,F$6),NA()) -> 77 | G12: =IFERROR(INDEX('Entrées des données financières'!$B$4:$I$18,$A12,G$6),NA()) -> 78 | H12: =IFERROR(G12/F12-1,"") -> 0.012987013 | I12: =IFERROR(H12/G12-1,"") -> -0.9998335 | J12: =IFERROR(I12/H12-1,"") -> -77.987179 | K12: =IFERROR(J12/I12-1,"") -> 77.000167 | L12: =IFERROR(K12/J12-1,"") -> -1.9873439 | M12: =IFERROR(L12/K12-1,"") -> -1.0258096 | N12: =IFERROR(M12/L12-1,"") -> -0.48382884
B14: Toutes les mesures (jusqu’à 25 mesures)
A15: =ROWS($B$15:B15) -> 1 | B15: =IF('Entrées des données financières'!B4=0,"",'Entrées des données financières'!B4) -> MESURE 1 | C15: =IF(B15="",NA(),IFERROR(INDEX('Entrées des données financières'!$B$4:$I$28,$A15,C$6),NA())) -> 75 | D15: =IF(B15="",NA(),IFERROR(INDEX('Entrées des données financières'!$B$4:$I$28,$A15,D$6),NA())) -> 17 | E15: =IF(B15="",NA(),IFERROR(INDEX('Entrées des données financières'!$B$4:$I$28,$A15,E$6),NA())) -> 31 | F15: =IF(B15="",NA(),IFERROR(INDEX('Entrées des données financières'!$B$4:$I$28,$A15,F$6),NA())) -> 41 | G15: =IF(B15="",NA(),IFERROR(INDEX('Entrées des données financières'!$B$4:$I$28,$A15,G$6),NA())) -> 77 | H15: =IF(C15="",NA(),IFERROR(INDEX('Entrées des données financières'!$B$4:$I$28,$A15,H$6),NA())) -> 75 | I15: =IF(D15="",NA(),IFERROR(INDEX('Entrées des données financières'!$B$4:$I$28,$A15,I$6),NA())) -> 29 | J15: =IF(E15="",NA(),IFERROR(INDEX('Entrées des données financières'!$B$4:$I$28,$A15,J$6),NA())) -> #N/A | K15: =IF(F15="",NA(),IFERROR(INDEX('Entrées des données financières'!$B$4:$I$28,$A15,K$6),NA())) -> #N/A | L15: =IF(G15="",NA(),IFERROR(INDEX('Entrées des données financières'!$B$4:$I$28,$A15,L$6),NA())) -> #N/A | M15: =IF(H15="",NA(),IFERROR(INDEX('Entrées des données financières'!$B$4:$I$28,$A15,M$6),NA())) -> #N/A | N15: =IF(I15="",NA(),IFERROR(INDEX('Entrées des données financières'!$B$4:$I$28,$A15,N$6),NA())) -> #N/A
A16: =ROWS($B$15:B16) -> 2 | B16: =IF('Entrées des données financières'!B5=0,"",'Entrées des données financières'!B5) -> MESURE 2 | C16: =IF(B16="",NA(),IFERROR(INDEX('Entrées des données financières'!$B$4:$I$28,$A16,C$6),NA())) -> 46 | D16: =IF(B16="",NA(),IFERROR(INDEX('Entrées des données financières'!$B$4:$I$28,$A16,D$6),NA())) -> 43 | E16: =IF(B16="",NA(),IFERROR(INDEX('Entrées des données financières'!$B$4:$I$28,$A16,E$6),NA())) -> 89 | F16: =IF(B16="",NA(),IFERROR(INDEX('Entrées des données financières'!$B$4:$I$28,$A16,F$6),NA())) -> 19 | G16: =IF(B16="",NA(),IFERROR(INDEX('Entrées des données financières'!$B$4:$I$28,$A16,G$6),NA())) -> 91 | H16: =IF(C16="",NA(),IFERROR(INDEX('Entrées des données financières'!$B$4:$I$28,$A16,H$6),NA())) -> 39 | I16: =IF(D16="",NA(),IFERROR(INDEX('Entrées des données financières'!$B$4:$I$28,$A16,I$6),NA())) -> 30 | J16: =IF(E16="",NA(),IFERROR(INDEX('Entrées des données financières'!$B$4:$I$28,$A16,J$6),NA())) -> #N/A | K16: =IF(F16="",NA(),IFERROR(INDEX('Entrées des données financières'!$B$4:$I$28,$A16,K$6),NA())) -> #N/A | L16: =IF(G16="",NA(),IFERROR(INDEX('Entrées des données financières'!$B$4:$I$28,$A16,L$6),NA())) -> #N/A | M16: =IF(H16="",NA(),IFERROR(INDEX('Entrées des données financières'!$B$4:$I$28,$A16,M$6),NA())) -> #N/A | N16: =IF(I16="",NA(),IFERROR(INDEX('Entrées des données financières'!$B$4:$I$28,$A16,N$6),NA())) -> #N/A
A17: =ROWS($B$15:B17) -> 3 | B17: =IF('Entrées des données financières'!B6=0,"",'Entrées des données financières'!B6) -> MESURE 3 | C17: =IF(B17="",NA(),IFERROR(INDEX('Entrées des données financières'!$B$4:$I$28,$A17,C$6),NA())) -> 20 | D17: =IF(B17="",NA(),IFERROR(INDEX('Entrées des données financières'!$B$4:$I$28,$A17,D$6),NA())) -> 71 | E17: =IF(B17="",NA(),IFERROR(INDEX('Entrées des données financières'!$B$4:$I$28,$A17,E$6),NA())) -> 38 | F17: =IF(B17="",NA(),IFERROR(INDEX('Entrées des données financières'!$B$4:$I$28,$A17,F$6),NA())) -> 57 | G17: =IF(B17="",NA(),IFERROR(INDEX('Entrées des données financières'!$B$4:$I$28,$A17,G$6),NA())) -> 23 | H17: =IF(C17="",NA(),IFERROR(INDEX('Entrées des données financières'!$B$4:$I$28,$A17,H$6),NA())) -> 6 | I17: =IF(D17="",NA(),IFERROR(INDEX('Entrées des données financières'!$B$4:$I$28,$A17,I$6),NA())) -> 70 | J17: =IF(E17="",NA(),IFERROR(INDEX('Entrées des données financières'!$B$4:$I$28,$A17,J$6),NA())) -> #N/A | K17: =IF(F17="",NA(),IFERROR(INDEX('Entrées des données financières'!$B$4:$I$28,$A17,K$6),NA())) -> #N/A | L17: =IF(G17="",NA(),IFERROR(INDEX('Entrées des données financières'!$B$4:$I$28,$A17,L$6),NA())) -> #N/A | M17: =IF(H17="",NA(),IFERROR(INDEX('Entrées des données financières'!$B$4:$I$28,$A17,M$6),NA())) -> #N/A | N17: =IF(I17="",NA(),IFERROR(INDEX('Entrées des données financières'!$B$4:$I$28,$A17,N$6),NA())) -> #N/A
A18: =ROWS($B$15:B18) -> 4 | B18: =IF('Entrées des données financières'!B7=0,"",'Entrées des données financières'!B7) -> MESURE 4 | C18: =IF(B18="",NA(),IFERROR(INDEX('Entrées des données financières'!$B$4:$I$28,$A18,C$6),NA())) -> 77 | D18: =IF(B18="",NA(),IFERROR(INDEX('Entrées des données financières'!$B$4:$I$28,$A18,D$6),NA())) -> 61 | E18: =IF(B18="",NA(),IFERROR(INDEX('Entrées des données financières'!$B$4:$I$28,$A18,E$6),NA())) -> 22 | F18: =IF(B18="",NA(),IFERROR(INDEX('Entrées des données financières'!$B$4:$I$28,$A18,F$6),NA())) -> 98 | G18: =IF(B18="",NA(),IFERROR(INDEX('Entrées des données financières'!$B$4:$I$28,$A18,G$6),NA())) -> 52 | H18: =IF(C18="",NA(),IFERROR(INDEX('Entrées des données financières'!$B$4:$I$28,$A18,H$6),NA())) -> 69 | I18: =IF(D18="",NA(),IFERROR(INDEX('Entrées des données financières'!$B$4:$I$28,$A18,I$6),NA())) -> 45 | J18: =IF(E18="",NA(),IFERROR(INDEX('Entrées des données financières'!$B$4:$I$28,$A18,J$6),NA())) -> #N/A | K18: =IF(F18="",NA(),IFERROR(INDEX('Entrées des données financières'!$B$4:$I$28,$A18,K$6),NA())) -> #N/A | L18: =IF(G18="",NA(),IFERROR(INDEX('Entrées des données financières'!$B$4:$I$28,$A18,L$6),NA())) -> #N/A | M18: =IF(H18="",NA(),IFERROR(INDEX('Entrées des données financières'!$B$4:$I$28,$A18,M$6),NA())) -> #N/A | N18: =IF(I18="",NA(),IFERROR(INDEX('Entrées des données financières'!$B$4:$I$28,$A18,N$6),NA())) -> #N/A
A19: =ROWS($B$15:B19) -> 5 | B19: =IF('Entrées des données financières'!B8=0,"",'Entrées des données financières'!B8) -> MESURE 5 | C19: =IF(B19="",NA(),IFERROR(INDEX('Entrées des données financières'!$B$4:$I$28,$A19,C$6),NA())) -> 78 | D19: =IF(B19="",NA(),IFERROR(INDEX('Entrées des données financières'!$B$4:$I$28,$A19,D$6),NA())) -> 97 | E19: =IF(B19="",NA(),IFERROR(INDEX('Entrées des données financières'!$B$4:$I$28,$A19,E$6),NA())) -> 70 | F19: =IF(B19="",NA(),IFERROR(INDEX('Entrées des données financières'!$B$4:$I$28,$A19,F$6),NA())) -> 77 | G19: =IF(B19="",NA(),IFERROR(INDEX('Entrées des données financières'!$B$4:$I$28,$A19,G$6),NA())) -> 4 | H19: =IF(C19="",NA(),IFERROR(INDEX('Entrées des données financières'!$B$4:$I$28,$A19,H$6),NA())) -> 58 | I19: =IF(D19="",NA(),IFERROR(INDEX('Entrées des données financières'!$B$4:$I$28,$A19,I$6),NA())) -> 84 | J19: =IF(E19="",NA(),IFERROR(INDEX('Entrées des données financières'!$B$4:$I$28,$A19,J$6),NA())) -> #N/A | K19: =IF(F19="",NA(),IFERROR(INDEX('Entrées des données financières'!$B$4:$I$28,$A19,K$6),NA())) -> #N/A | L19: =IF(G19="",NA(),IFERROR(INDEX('Entrées des données financières'!$B$4:$I$28,$A19,L$6),NA())) -> #N/A | M19: =IF(H19="",NA(),IFERROR(INDEX('Entrées des données financières'!$B$4:$I$28,$A19,M$6),NA())) -> #N/A | N19: =IF(I19="",NA(),IFERROR(INDEX('Entrées des données financières'!$B$4:$I$28,$A19,N$6),NA())) -> #N/A
A20: =ROWS($B$15:B20) -> 6 | B20: =IF('Entrées des données financières'!B9=0,"",'Entrées des données financières'!B9) -> MESURE 6 | C20: =IF(B20="",NA(),IFERROR(INDEX('Entrées des données financières'!$B$4:$I$28,$A20,C$6),NA())) -> 86 | D20: =IF(B20="",NA(),IFERROR(INDEX('Entrées des données financières'!$B$4:$I$28,$A20,D$6),NA())) -> 93 | E20: =IF(B20="",NA(),IFERROR(INDEX('Entrées des données financières'!$B$4:$I$28,$A20,E$6),NA())) -> 76 | F20: =IF(B20="",NA(),IFERROR(INDEX('Entrées des données financières'!$B$4:$I$28,$A20,F$6),NA())) -> 92 | G20: =IF(B20="",NA(),IFERROR(INDEX('Entrées des données financières'!$B$4:$I$28,$A20,G$6),NA())) -> 98 | H20: =IF(C20="",NA(),IFERROR(INDEX('Entrées des données financières'!$B$4:$I$28,$A20,H$6),NA())) -> 16 | I20: =IF(D20="",NA(),IFERROR(INDEX('Entrées des données financières'!$B$4:$I$28,$A20,I$6),NA())) -> 48 | J20: =IF(E20="",NA(),IFERROR(INDEX('Entrées des données financières'!$B$4:$I$28,$A20,J$6),NA())) -> #N/A | K20: =IF(F20="",NA(),IFERROR(INDEX('Entrées des données financières'!$B$4:$I$28,$A20,K$6),NA())) -> #N/A | L20: =IF(G20="",NA(),IFERROR(INDEX('Entrées des données financières'!$B$4:$I$28,$A20,L$6),NA())) -> #N/A | M20: =IF(H20="",NA(),IFERROR(INDEX('Entrées des données financières'!$B$4:$I$28,$A20,M$6),NA())) -> #N/A | N20: =IF(I20="",NA(),IFERROR(INDEX('Entrées des données financières'!$B$4:$I$28,$A20,N$6),NA())) -> #N/A
A21: =ROWS($B$15:B21) -> 7 | B21: =IF('Entrées des données financières'!B10=0,"",'Entrées des données financières'!B10) -> MESURE 7 | C21: =IF(B21="",NA(),IFERROR(INDEX('Entrées des données financières'!$B$4:$I$28,$A21,C$6),NA())) -> 31 | D21: =IF(B21="",NA(),IFERROR(INDEX('Entrées des données financières'!$B$4:$I$28,$A21,D$6),NA())) -> 84 | E21: =IF(B21="",NA(),IFERROR(INDEX('Entrées des données financières'!$B$4:$I$28,$A21,E$6),NA())) -> 25 | F21: =IF(B21="",NA(),IFERROR(INDEX('Entrées des données financières'!$B$4:$I$28,$A21,F$6),NA())) -> 26 | G21: =IF(B21="",NA(),IFERROR(INDEX('Entrées des données financières'!$B$4:$I$28,$A21,G$6),NA())) -> 2 | H21: =IF(C21="",NA(),IFERROR(INDEX('Entrées des données financières'!$B$4:$I$28,$A21,H$6),NA())) -> 81 | I21: =IF(D21="",NA(),IFERROR(INDEX('Entrées des données financières'!$B$4:$I$28,$A21,I$6),NA())) -> 99 | J21: =IF(E21="",NA(),IFERROR(INDEX('Entrées des données financières'!$B$4:$I$28,$A21,J$6),NA())) -> #N/A | K21: =IF(F21="",NA(),IFERROR(INDEX('Entrées des données financières'!$B$4:$I$28,$A21,K$6),NA())) -> #N/A | L21: =IF(G21="",NA(),IFERROR(INDEX('Entrées des données financières'!$B$4:$I$28,$A21,L$6),NA())) -> #N/A | M21: =IF(H21="",NA(),IFERROR(INDEX('Entrées des données financières'!$B$4:$I$28,$A21,M$6),NA())) -> #N/A | N21: =IF(I21="",NA(),IFERROR(INDEX('Entrées des données financières'!$B$4:$I$28,$A21,N$6),NA())) -> #N/A
A22: =ROWS($B$15:B22) -> 8 | B22: =IF('Entrées des données financières'!B11=0,"",'Entrées des données financières'!B11) -> MESURE 8 | C22: =IF(B22="",NA(),IFERROR(INDEX('Entrées des données financières'!$B$4:$I$28,$A22,C$6),NA())) -> 42 | D22: =IF(B22="",NA(),IFERROR(INDEX('Entrées des données financières'!$B$4:$I$28,$A22,D$6),NA())) -> 56 | E22: =IF(B22="",NA(),IFERROR(INDEX('Entrées des données financières'!$B$4:$I$28,$A22,E$6),NA())) -> 96 | F22: =IF(B22="",NA(),IFERROR(INDEX('Entrées des données financières'!$B$4:$I$28,$A22,F$6),NA())) -> 77 | G22: =IF(B22="",NA(),IFERROR(INDEX('Entrées des données financières'!$B$4:$I$28,$A22,G$6),NA())) -> 78 | H22: =IF(C22="",NA(),IFERROR(INDEX('Entrées des données financières'!$B$4:$I$28,$A22,H$6),NA())) -> 22 | I22: =IF(D22="",NA(),IFERROR(INDEX('Entrées des données financières'!$B$4:$I$28,$A22,I$6),NA())) -> 29 | J22: =IF(E22="",NA(),IFERROR(INDEX('Entrées des données financières'!$B$4:$I$28,$A22,J$6),NA())) -> #N/A | K22: =IF(F22="",NA(),IFERROR(INDEX('Entrées des données financières'!$B$4:$I$28,$A22,K$6),NA())) -> #N/A | L22: =IF(G22="",NA(),IFERROR(INDEX('Entrées des données financières'!$B$4:$I$28,$A22,L$6),NA())) -> #N/A | M22: =IF(H22="",NA(),IFERROR(INDEX('Entrées des données financières'!$B$4:$I$28,$A22,M$6),NA())) -> #N/A | N22: =IF(I22="",NA(),IFERROR(INDEX('Entrées des données financières'!$B$4:$I$28,$A22,N$6),NA())) -> #N/A
A23: =ROWS($B$15:B23) -> 9 | B23: =IF('Entrées des données financières'!B12=0,"",'Entrées des données financières'!B12) -> MESURE 9 | C23: =IF(B23="",NA(),IFERROR(INDEX('Entrées des données financières'!$B$4:$I$28,$A23,C$6),NA())) -> 19 | D23: =IF(B23="",NA(),IFERROR(INDEX('Entrées des données financières'!$B$4:$I$28,$A23,D$6),NA())) -> 55 | E23: =IF(B23="",NA(),IFERROR(INDEX('Entrées des données financières'!$B$4:$I$28,$A23,E$6),NA())) -> 89 | F23: =IF(B23="",NA(),IFERROR(INDEX('Entrées des données financières'!$B$4:$I$28,$A23,F$6),NA())) -> 18 | G23: =IF(B23="",NA(),IFERROR(INDEX('Entrées des données financières'!$B$4:$I$28,$A23,G$6),NA())) -> 6 | H23: =IF(C23="",NA(),IFERROR(INDEX('Entrées des données financières'!$B$4:$I$28,$A23,H$6),NA())) -> 4 | I23: =IF(D23="",NA(),IFERROR(INDEX('Entrées des données financières'!$B$4:$I$28,$A23,I$6),NA())) -> 38 | J23: =IF(E23="",NA(),IFERROR(INDEX('Entrées des données financières'!$B$4:$I$28,$A23,J$6),NA())) -> #N/A | K23: =IF(F23="",NA(),IFERROR(INDEX('Entrées des données financières'!$B$4:$I$28,$A23,K$6),NA())) -> #N/A | L23: =IF(G23="",NA(),IFERROR(INDEX('Entrées des données financières'!$B$4:$I$28,$A23,L$6),NA())) -> #N/A | M23: =IF(H23="",NA(),IFERROR(INDEX('Entrées des données financières'!$B$4:$I$28,$A23,M$6),NA())) -> #N/A | N23: =IF(I23="",NA(),IFERROR(INDEX('Entrées des données financières'!$B$4:$I$28,$A23,N$6),NA())) -> #N/A
A24: =ROWS($B$15:B24) -> 10 | B24: =IF('Entrées des données financières'!B13=0,"",'Entrées des données financières'!B13) -> MESURE 10 | C24: =IF(B24="",NA(),IFERROR(INDEX('Entrées des données financières'!$B$4:$I$28,$A24,C$6),NA())) -> 75 | D24: =IF(B24="",NA(),IFERROR(INDEX('Entrées des données financières'!$B$4:$I$28,$A24,D$6),NA())) -> 41 | E24: =IF(B24="",NA(),IFERROR(INDEX('Entrées des données financières'!$B$4:$I$28,$A24,E$6),NA())) -> 97 | F24: =IF(B24="",NA(),IFERROR(INDEX('Entrées des données financières'!$B$4:$I$28,$A24,F$6),NA())) -> 90 | G24: =IF(B24="",NA(),IFERROR(INDEX('Entrées des données financières'!$B$4:$I$28,$A24,G$6),NA())) -> 18 | H24: =IF(C24="",NA(),IFERROR(INDEX('Entrées des données financières'!$B$4:$I$28,$A24,H$6),NA())) -> 9 | I24: =IF(D24="",NA(),IFERROR(INDEX('Entrées des données financières'!$B$4:$I$28,$A24,I$6),NA())) -> 54 | J24: =IF(E24="",NA(),IFERROR(INDEX('Entrées des données financières'!$B$4:$I$28,$A24,J$6),NA())) -> #N/A | K24: =IF(F24="",NA(),IFERROR(INDEX('Entrées des données financières'!$B$4:$I$28,$A24,K$6),NA())) -> #N/A | L24: =IF(G24="",NA(),IFERROR(INDEX('Entrées des données financières'!$B$4:$I$28,$A24,L$6),NA())) -> #N/A | M24: =IF(H24="",NA(),IFERROR(INDEX('Entrées des données financières'!$B$4:$I$28,$A24,M$6),NA())) -> #N/A | N24: =IF(I24="",NA(),IFERROR(INDEX('Entrées des données financières'!$B$4:$I$28,$A24,N$6),NA())) -> #N/A
A25: =ROWS($B$15:B25) -> 11 | B25: =IF('Entrées des données financières'!B14=0,"",'Entrées des données financières'!B14) -> MESURE 11 | C25: =IF(B25="",NA(),IFERROR(INDEX('Entrées des données financières'!$B$4:$I$28,$A25,C$6),NA())) -> 61 | D25: =IF(B25="",NA(),IFERROR(INDEX('Entrées des données financières'!$B$4:$I$28,$A25,D$6),NA())) -> 13 | E25: =IF(B25="",NA(),IFERROR(INDEX('Entrées des données financières'!$B$4:$I$28,$A25,E$6),NA())) -> 39 | F25: =IF(B25="",NA(),IFERROR(INDEX('Entrées des données financières'!$B$4:$I$28,$A25,F$6),NA())) -> 66 | G25: =IF(B25="",NA(),IFERROR(INDEX('Entrées des données financières'!$B$4:$I$28,$A25,G$6),NA())) -> 26 | H25: =IF(C25="",NA(),IFERROR(INDEX('Entrées des données financières'!$B$4:$I$28,$A25,H$6),NA())) -> 49 | I25: =IF(D25="",NA(),IFERROR(INDEX('Entrées des données financières'!$B$4:$I$28,$A25,I$6),NA())) -> 99 | J25: =IF(E25="",NA(),IFERROR(INDEX('Entrées des données financières'!$B$4:$I$28,$A25,J$6),NA())) -> #N/A | K25: =IF(F25="",NA(),IFERROR(INDEX('Entrées des données financières'!$B$4:$I$28,$A25,K$6),NA())) -> #N/A | L25: =IF(G25="",NA(),IFERROR(INDEX('Entrées des données financières'!$B$4:$I$28,$A25,L$6),NA())) -> #N/A | M25: =IF(H25="",NA(),IFERROR(INDEX('Entrées des données financières'!$B$4:$I$28,$A25,M$6),NA())) -> #N/A | N25: =IF(I25="",NA(),IFERROR(INDEX('Entrées des données financières'!$B$4:$I$28,$A25,N$6),NA())) -> #N/A
A26: =ROWS($B$15:B26) -> 12 | B26: =IF('Entrées des données financières'!B15=0,"",'Entrées des données financières'!B15) -> MESURE 12 | C26: =IF(B26="",NA(),IFERROR(INDEX('Entrées des données financières'!$B$4:$I$28,$A26,C$6),NA())) -> 91 | D26: =IF(B26="",NA(),IFERROR(INDEX('Entrées des données financières'!$B$4:$I$28,$A26,D$6),NA())) -> 94 | E26: =IF(B26="",NA(),IFERROR(INDEX('Entrées des données financières'!$B$4:$I$28,$A26,E$6),NA())) -> 34 | F26: =IF(B26="",NA(),IFERROR(INDEX('Entrées des données financières'!$B$4:$I$28,$A26,F$6),NA())) -> 56 | G26: =IF(B26="",NA(),IFERROR(INDEX('Entrées des données financières'!$B$4:$I$28,$A26,G$6),NA())) -> 87 | H26: =IF(C26="",NA(),IFERROR(INDEX('Entrées des données financières'!$B$4:$I$28,$A26,H$6),NA())) -> 52 | I26: =IF(D26="",NA(),IFERROR(INDEX('Entrées des données financières'!$B$4:$I$28,$A26,I$6),NA())) -> 3 | J26: =IF(E26="",NA(),IFERROR(INDEX('Entrées des données financières'!$B$4:$I$28,$A26,J$6),NA())) -> #N/A | K26: =IF(F26="",NA(),IFERROR(INDEX('Entrées des données financières'!$B$4:$I$28,$A26,K$6),NA())) -> #N/A | L26: =IF(G26="",NA(),IFERROR(INDEX('Entrées des données financières'!$B$4:$I$28,$A26,L$6),NA())) -> #N/A | M26: =IF(H26="",NA(),IFERROR(INDEX('Entrées des données financières'!$B$4:$I$28,$A26,M$6),NA())) -> #N/A | N26: =IF(I26="",NA(),IFERROR(INDEX('Entrées des données financières'!$B$4:$I$28,$A26,N$6),NA())) -> #N/A
... A39: =ROWS($B$15:B39) -> 25 | B39: =IF('Entrées des données financières'!B28=0,"",'Entrées des données financières'!B28) -> MESURE 25 | C39: =IF(B39="",NA(),IFERROR(INDEX('Entrées des données financières'!$B$4:$I$28,$A39,C$6),NA())) -> 82 | D39: =IF(B39="",NA(),IFERROR(INDEX('Entrées des données financières'!$B$4:$I$28,$A39,D$6),NA())) -> 100 | E39: =IF(B39="",NA(),IFERROR(INDEX('Entrées des données financières'!$B$4:$I$28,$A39,E$6),NA())) -> 52 | F39: =IF(B39="",NA(),IFERROR(INDEX('Entrées des données financières'!$B$4:$I$28,$A39,F$6),NA())) -> 30 | G39: =IF(B39="",NA(),IFERROR(INDEX('Entrées des données financières'!$B$4:$I$28,$A39,G$6),NA())) -> 66 | H39: =IF(C39="",NA(),IFERROR(INDEX('Entrées des données financières'!$B$4:$I$28,$A39,H$6),NA())) -> 36 | I39: =IF(D39="",NA(),IFERROR(INDEX('Entrées des données financières'!$B$4:$I$28,$A39,I$6),NA())) -> 78 | J39: =IF(E39="",NA(),IFERROR(INDEX('Entrées des données financières'!$B$4:$I$28,$A39,J$6),NA())) -> #N/A | K39: =IF(F39="",NA(),IFERROR(INDEX('Entrées des données financières'!$B$4:$I$28,$A39,K$6),NA())) -> #N/A | L39: =IF(G39="",NA(),IFERROR(INDEX('Entrées des données financières'!$B$4:$I$28,$A39,L$6),NA())) -> #N/A | M39: =IF(H39="",NA(),IFERROR(INDEX('Entrées des données financières'!$B$4:$I$28,$A39,M$6),NA())) -> #N/A | N39: =IF(I39="",NA(),IFERROR(INDEX('Entrées des données financières'!$B$4:$I$28,$A39,N$6),NA())) -> #N/A
