Workbook
Name Ilots: Tableau312[[#All],[Ilots]]
Name Modules: Tableau413[[#All],[Modules]]
Name typeimplantation: Tableau211[[#All],[TYPE D''IMPLANTATION]]
Name typevente: Tableau1[[#All],[TYPE DE VENTE]]

Sheet Feuil1
A1: Date de livraison | B1: Référence client | C1: Code tarif | D1: Représentant | E1: Date de commande | F1: Montant | G1: Commentaire | H1: Type | I1: Numero | J1: Date Saisie | K1: Initiative Implantation | L1: N° de commande | M1: N° de commande associée | N1: Code OP | O1: Code Client | P1: Nom Client | Q1: Type de Vente | R1: Responsable | S1: Commentaire2 | T1: Encours | U1: Type Implant | V1: Design Implant | W1: Eclairage | X1: Date Départ | Y1: Semaine Départ | Z1: Type Transport | AA1: Demande de Transport | AB1: Merch ? | AC1: Merch | AD1: Date Implant | AE1: Semaine | AF1: NBVAL POUR 20 | AG1: NBVAL
A2: 42767 | B2: C000001 | C2: 1 | D2: INT1 | E2: 42745 | F2: 2860.63 | G2: BLA BLA BLA | H2: CIM | I2: CMD0001 | J2: =IF(ISBLANK(E2),"",E2) -> 42745 | K2: Intervenant | L2: =IF(ISBLANK(I2),"",I2) -> CMD0001 | N2: =IF(ISBLANK(H2),"",H2) -> CIM | O2: =IF(ISBLANK(B2),"",B2) -> C000001 | P2: =IF(ISBLANK(O2),"",VLOOKUP(O2,CLIENTS!A:B,2,FALSE)) -> CLIENT 1 | Q2: Implantation | R2: =IF(ISBLANK(D2),"",D2) -> INT1 | S2: =IF(ISBLANK(G2),"",G2) -> BLA BLA BLA | T2: ok | U2: Ilots | V2: Ilot 1 | X2: 42737 | Y2: =IF(ISBLANK(X2),"",_xlfn.ISOWEEKNUM(X2)) -> 1 | Z2: Messagerie | AB2: Non | AE2: =IF(ISBLANK(AD2),"",_xlfn.ISOWEEKNUM(AD2)) | AF2: =IF(OR(ISBLANK(A2),N2="C"),"",IF(AND(U2<>"Modules",Z2="Messagerie",AB2="Non"),COUNTA(J2:L2,N2:R2,T2:AE2)+4,IF(AND(U2="Modules",Z2="Messagerie",AB2="Non"),COUNTA(J2:L2,N2:R2,T2:AE2)+3,IF(AND(U2<>"Modules",Z2<>"Messagerie",AB2="Non"),COUNTA(J2:L2,N2:R2,T2:AE2)+3,IF(AND(U2="Modules",Z2<>"Messagerie",AB2="Non"),COUNTA(J2:L2,N2:R2,T2:AE2)+2,IF(AND(U2<>"Modules",Z2="Messagerie",AB2="Oui"),COUNTA(J2:L2,N2:R2,T2:AE2)+2,IF(AND(U2="Modules",Z2="Messagerie",AB2="Oui"),COUNTA(J2:L2,N2:R2,T2:AE2)+1,IF(AND(U2<>"Modules",Z2<>"Messagerie",AB2="Oui"),COUNTA(J2:L2,N2:R2,T2:AE2)+1,IF(AND(U2="Modules",Z2<>"Messagerie",AB2="Oui"),COUNTA(J2:L2,N2:R2,T2:AE2),COUNTA(J2:L2,N2:R2,T2:AE2)))))))))) -> 20 | AG2: =COUNTA(J2:L2,N2:R2,T2:AE2) -> 16
A3: 42749 | B3: C000002 | C3: 2 | D3: INT2 | E3: 42745 | F3: 3052.28 | G3: COMMENTAIRE | H3: CIM | I3: CMD0002 | J3: =IF(ISBLANK(E3),"",E3) -> 42745 | K3: Intervenant | L3: =IF(ISBLANK(I3),"",I3) -> CMD0002 | N3: =IF(ISBLANK(H3),"",H3) -> CIM | O3: =IF(ISBLANK(B3),"",B3) -> C000002 | P3: =IF(ISBLANK(O3),"",VLOOKUP(O3,CLIENTS!A:B,2,FALSE)) -> CLIENT 2 | Q3: Implantation | R3: =IF(ISBLANK(D3),"",D3) -> INT2 | S3: =IF(ISBLANK(G3),"",G3) -> COMMENTAIRE | T3: ok | U3: Modules | V3: 1 Module | W3: Oui | X3: 42740 | Y3: =IF(ISBLANK(X3),"",_xlfn.ISOWEEKNUM(X3)) -> 1 | Z3: Messagerie | AB3: Non | AE3: =IF(ISBLANK(AD3),"",_xlfn.ISOWEEKNUM(AD3)) | AF3: =IF(OR(ISBLANK(A3),N3="C"),"",IF(AND(U3<>"Modules",Z3="Messagerie",AB3="Non"),COUNTA(J3:L3,N3:R3,T3:AE3)+4,IF(AND(U3="Modules",Z3="Messagerie",AB3="Non"),COUNTA(J3:L3,N3:R3,T3:AE3)+3,IF(AND(U3<>"Modules",Z3<>"Messagerie",AB3="Non"),COUNTA(J3:L3,N3:R3,T3:AE3)+3,IF(AND(U3="Modules",Z3<>"Messagerie",AB3="Non"),COUNTA(J3:L3,N3:R3,T3:AE3)+2,IF(AND(U3<>"Modules",Z3="Messagerie",AB3="Oui"),COUNTA(J3:L3,N3:R3,T3:AE3)+2,IF(AND(U3="Modules",Z3="Messagerie",AB3="Oui"),COUNTA(J3:L3,N3:R3,T3:AE3)+1,IF(AND(U3<>"Modules",Z3<>"Messagerie",AB3="Oui"),COUNTA(J3:L3,N3:R3,T3:AE3)+1,IF(AND(U3="Modules",Z3<>"Messagerie",AB3="Oui"),COUNTA(J3:L3,N3:R3,T3:AE3),COUNTA(J3:L3,N3:R3,T3:AE3)))))))))) -> 20 | AG3: =COUNTA(J3:L3,N3:R3,T3:AE3) -> 17
A4: 42786 | B4: C000003 | C4: 3 | D4: INT3 | E4: 42746 | F4: 4712.85 | H4: CIM | I4: CMD0003 | J4: =IF(ISBLANK(E4),"",E4) -> 42746 | K4: Client | L4: =IF(ISBLANK(I4),"",I4) -> CMD0003 | N4: =IF(ISBLANK(H4),"",H4) -> CIM | O4: =IF(ISBLANK(B4),"",B4) -> C000003 | P4: =IF(ISBLANK(O4),"",VLOOKUP(O4,CLIENTS!A:B,2,FALSE)) -> CLIENT 3 | Q4: Implantation | R4: =IF(ISBLANK(D4),"",D4) -> INT3 | S4: =IF(ISBLANK(G4),"",G4) | T4: ok | U4: Ilots | V4: Ilot 2 | X4: 42745 | Y4: =IF(ISBLANK(X4),"",_xlfn.ISOWEEKNUM(X4)) -> 2 | Z4: Affrêtement | AA4: ok | AB4: Non | AE4: =IF(ISBLANK(AD4),"",_xlfn.ISOWEEKNUM(AD4)) | AF4: =IF(OR(ISBLANK(A4),N4="C"),"",IF(AND(U4<>"Modules",Z4="Messagerie",AB4="Non"),COUNTA(J4:L4,N4:R4,T4:AE4)+4,IF(AND(U4="Modules",Z4="Messagerie",AB4="Non"),COUNTA(J4:L4,N4:R4,T4:AE4)+3,IF(AND(U4<>"Modules",Z4<>"Messagerie",AB4="Non"),COUNTA(J4:L4,N4:R4,T4:AE4)+3,IF(AND(U4="Modules",Z4<>"Messagerie",AB4="Non"),COUNTA(J4:L4,N4:R4,T4:AE4)+2,IF(AND(U4<>"Modules",Z4="Messagerie",AB4="Oui"),COUNTA(J4:L4,N4:R4,T4:AE4)+2,IF(AND(U4="Modules",Z4="Messagerie",AB4="Oui"),COUNTA(J4:L4,N4:R4,T4:AE4)+1,IF(AND(U4<>"Modules",Z4<>"Messagerie",AB4="Oui"),COUNTA(J4:L4,N4:R4,T4:AE4)+1,IF(AND(U4="Modules",Z4<>"Messagerie",AB4="Oui"),COUNTA(J4:L4,N4:R4,T4:AE4),COUNTA(J4:L4,N4:R4,T4:AE4)))))))))) -> 20 | AG4: =COUNTA(J4:L4,N4:R4,T4:AE4) -> 17
A5: 42760 | B5: C000004 | C5: 4 | D5: INT4 | E5: 42746 | F5: 1859.26 | G5: BLA COMMENTAIRE | H5: CIM | I5: CMD0004 | J5: =IF(ISBLANK(E5),"",E5) -> 42746 | K5: Intervenant | L5: =IF(ISBLANK(I5),"",I5) -> CMD0004 | N5: =IF(ISBLANK(H5),"",H5) -> CIM | O5: =IF(ISBLANK(B5),"",B5) -> C000004 | P5: =IF(ISBLANK(O5),"",VLOOKUP(O5,CLIENTS!A:B,2,FALSE)) -> CLIENT 4 | Q5: Implantation | R5: =IF(ISBLANK(D5),"",D5) -> INT4 | S5: =IF(ISBLANK(G5),"",G5) -> BLA COMMENTAIRE | T5: ok | U5: Modules | V5: 2 Modules | W5: Non | X5: 42750 | Y5: =IF(ISBLANK(X5),"",_xlfn.ISOWEEKNUM(X5)) -> 2 | Z5: Affrêtement | AA5: ok | AB5: Non | AE5: =IF(ISBLANK(AD5),"",_xlfn.ISOWEEKNUM(AD5)) | AF5: =IF(OR(ISBLANK(A5),N5="C"),"",IF(AND(U5<>"Modules",Z5="Messagerie",AB5="Non"),COUNTA(J5:L5,N5:R5,T5:AE5)+4,IF(AND(U5="Modules",Z5="Messagerie",AB5="Non"),COUNTA(J5:L5,N5:R5,T5:AE5)+3,IF(AND(U5<>"Modules",Z5<>"Messagerie",AB5="Non"),COUNTA(J5:L5,N5:R5,T5:AE5)+3,IF(AND(U5="Modules",Z5<>"Messagerie",AB5="Non"),COUNTA(J5:L5,N5:R5,T5:AE5)+2,IF(AND(U5<>"Modules",Z5="Messagerie",AB5="Oui"),COUNTA(J5:L5,N5:R5,T5:AE5)+2,IF(AND(U5="Modules",Z5="Messagerie",AB5="Oui"),COUNTA(J5:L5,N5:R5,T5:AE5)+1,IF(AND(U5<>"Modules",Z5<>"Messagerie",AB5="Oui"),COUNTA(J5:L5,N5:R5,T5:AE5)+1,IF(AND(U5="Modules",Z5<>"Messagerie",AB5="Oui"),COUNTA(J5:L5,N5:R5,T5:AE5),COUNTA(J5:L5,N5:R5,T5:AE5)))))))))) -> 20 | AG5: =COUNTA(J5:L5,N5:R5,T5:AE5) -> 18
A6: 42755 | B6: C000005 | C6: 5 | D6: INT5 | E6: 42747 | F6: 5706.31 | H6: CIM | I6: CMD0005 | J6: =IF(ISBLANK(E6),"",E6) -> 42747 | K6: Intervenant | L6: =IF(ISBLANK(I6),"",I6) -> CMD0005 | N6: =IF(ISBLANK(H6),"",H6) -> CIM | O6: =IF(ISBLANK(B6),"",B6) -> C000005 | P6: =IF(ISBLANK(O6),"",VLOOKUP(O6,CLIENTS!A:B,2,FALSE)) -> CLIENT 5 | Q6: Implantation | R6: =IF(ISBLANK(D6),"",D6) -> INT5 | S6: =IF(ISBLANK(G6),"",G6) | T6: ok | U6: Ilots | V6: Ilot 1 | X6: 42755 | Y6: =IF(ISBLANK(X6),"",_xlfn.ISOWEEKNUM(X6)) -> 3 | Z6: Messagerie | AB6: Oui | AC6: Intervenant 1 | AD6: 42760 | AE6: =IF(ISBLANK(AD6),"",_xlfn.ISOWEEKNUM(AD6)) -> 4 | AF6: =IF(OR(ISBLANK(A6),N6="C"),"",IF(AND(U6<>"Modules",Z6="Messagerie",AB6="Non"),COUNTA(J6:L6,N6:R6,T6:AE6)+4,IF(AND(U6="Modules",Z6="Messagerie",AB6="Non"),COUNTA(J6:L6,N6:R6,T6:AE6)+3,IF(AND(U6<>"Modules",Z6<>"Messagerie",AB6="Non"),COUNTA(J6:L6,N6:R6,T6:AE6)+3,IF(AND(U6="Modules",Z6<>"Messagerie",AB6="Non"),COUNTA(J6:L6,N6:R6,T6:AE6)+2,IF(AND(U6<>"Modules",Z6="Messagerie",AB6="Oui"),COUNTA(J6:L6,N6:R6,T6:AE6)+2,IF(AND(U6="Modules",Z6="Messagerie",AB6="Oui"),COUNTA(J6:L6,N6:R6,T6:AE6)+1,IF(AND(U6<>"Modules",Z6<>"Messagerie",AB6="Oui"),COUNTA(J6:L6,N6:R6,T6:AE6)+1,IF(AND(U6="Modules",Z6<>"Messagerie",AB6="Oui"),COUNTA(J6:L6,N6:R6,T6:AE6),COUNTA(J6:L6,N6:R6,T6:AE6)))))))))) -> 18 | AG6: =COUNTA(J6:L6,N6:R6,T6:AE6) -> 18
A7: 42766 | B7: C000006 | C7: 6 | D7: INT6 | E7: 42747 | F7: 2049.49 | G7: ETCC ETCCC | H7: CIM | I7: CMD0006 | J7: =IF(ISBLANK(E7),"",E7) -> 42747 | K7: Client | L7: =IF(ISBLANK(I7),"",I7) -> CMD0006 | N7: =IF(ISBLANK(H7),"",H7) -> CIM | O7: =IF(ISBLANK(B7),"",B7) -> C000006 | P7: =IF(ISBLANK(O7),"",VLOOKUP(O7,CLIENTS!A:B,2,FALSE)) -> CLIENT 6 | Q7: Implantation | R7: =IF(ISBLANK(D7),"",D7) -> INT6 | S7: =IF(ISBLANK(G7),"",G7) -> ETCC ETCCC | T7: ok | U7: Modules | V7: 1 Module | W7: Oui | X7: 42760 | Y7: =IF(ISBLANK(X7),"",_xlfn.ISOWEEKNUM(X7)) -> 4 | Z7: Messagerie | AB7: Oui | AC7: Intervenant 2 | AD7: 42765 | AE7: =IF(ISBLANK(AD7),"",_xlfn.ISOWEEKNUM(AD7)) -> 5 | AF7: =IF(OR(ISBLANK(A7),N7="C"),"",IF(AND(U7<>"Modules",Z7="Messagerie",AB7="Non"),COUNTA(J7:L7,N7:R7,T7:AE7)+4,IF(AND(U7="Modules",Z7="Messagerie",AB7="Non"),COUNTA(J7:L7,N7:R7,T7:AE7)+3,IF(AND(U7<>"Modules",Z7<>"Messagerie",AB7="Non"),COUNTA(J7:L7,N7:R7,T7:AE7)+3,IF(AND(U7="Modules",Z7<>"Messagerie",AB7="Non"),COUNTA(J7:L7,N7:R7,T7:AE7)+2,IF(AND(U7<>"Modules",Z7="Messagerie",AB7="Oui"),COUNTA(J7:L7,N7:R7,T7:AE7)+2,IF(AND(U7="Modules",Z7="Messagerie",AB7="Oui"),COUNTA(J7:L7,N7:R7,T7:AE7)+1,IF(AND(U7<>"Modules",Z7<>"Messagerie",AB7="Oui"),COUNTA(J7:L7,N7:R7,T7:AE7)+1,IF(AND(U7="Modules",Z7<>"Messagerie",AB7="Oui"),COUNTA(J7:L7,N7:R7,T7:AE7),COUNTA(J7:L7,N7:R7,T7:AE7)))))))))) -> 19 | AG7: =COUNTA(J7:L7,N7:R7,T7:AE7) -> 19
A8: 42771 | B8: C000007 | C8: 7 | D8: INT7 | E8: 42748 | F8: 1983.21 | H8: CIM | I8: CMD0007 | J8: =IF(ISBLANK(E8),"",E8) -> 42748 | K8: Intervenant | L8: =IF(ISBLANK(I8),"",I8) -> CMD0007 | N8: =IF(ISBLANK(H8),"",H8) -> CIM | O8: =IF(ISBLANK(B8),"",B8) -> C000007 | P8: =IF(ISBLANK(O8),"",VLOOKUP(O8,CLIENTS!A:B,2,FALSE)) -> CLIENT 7 | Q8: Implantation | R8: =IF(ISBLANK(D8),"",D8) -> INT7 | S8: =IF(ISBLANK(G8),"",G8) | T8: ok | U8: Ilots | V8: Ilot 2 | X8: 42765 | Y8: =IF(ISBLANK(X8),"",_xlfn.ISOWEEKNUM(X8)) -> 5 | Z8: Affrêtement | AA8: ok | AB8: Oui | AC8: Intervenant 3 | AD8: 42771 | AE8: =IF(ISBLANK(AD8),"",_xlfn.ISOWEEKNUM(AD8)) -> 5 | AF8: =IF(OR(ISBLANK(A8),N8="C"),"",IF(AND(U8<>"Modules",Z8="Messagerie",AB8="Non"),COUNTA(J8:L8,N8:R8,T8:AE8)+4,IF(AND(U8="Modules",Z8="Messagerie",AB8="Non"),COUNTA(J8:L8,N8:R8,T8:AE8)+3,IF(AND(U8<>"Modules",Z8<>"Messagerie",AB8="Non"),COUNTA(J8:L8,N8:R8,T8:AE8)+3,IF(AND(U8="Modules",Z8<>"Messagerie",AB8="Non"),COUNTA(J8:L8,N8:R8,T8:AE8)+2,IF(AND(U8<>"Modules",Z8="Messagerie",AB8="Oui"),COUNTA(J8:L8,N8:R8,T8:AE8)+2,IF(AND(U8="Modules",Z8="Messagerie",AB8="Oui"),COUNTA(J8:L8,N8:R8,T8:AE8)+1,IF(AND(U8<>"Modules",Z8<>"Messagerie",AB8="Oui"),COUNTA(J8:L8,N8:R8,T8:AE8)+1,IF(AND(U8="Modules",Z8<>"Messagerie",AB8="Oui"),COUNTA(J8:L8,N8:R8,T8:AE8),COUNTA(J8:L8,N8:R8,T8:AE8)))))))))) -> 19 | AG8: =COUNTA(J8:L8,N8:R8,T8:AE8) -> 19
A9: 42776 | B9: C000008 | C9: 8 | D9: INT8 | E9: 42748 | F9: 3001.49 | G9: COMMENTAIRE | H9: CIM | I9: CMD0008 | J9: =IF(ISBLANK(E9),"",E9) -> 42748 | K9: Intervenant | L9: =IF(ISBLANK(I9),"",I9) -> CMD0008 | N9: =IF(ISBLANK(H9),"",H9) -> CIM | O9: =IF(ISBLANK(B9),"",B9) -> C000008 | P9: =IF(ISBLANK(O9),"",VLOOKUP(O9,CLIENTS!A:B,2,FALSE)) -> CLIENT 8 | Q9: Implantation | R9: =IF(ISBLANK(D9),"",D9) -> INT8 | S9: =IF(ISBLANK(G9),"",G9) -> COMMENTAIRE | T9: ok | U9: Modules | V9: 2 Modules | W9: Non | X9: 42771 | Y9: =IF(ISBLANK(X9),"",_xlfn.ISOWEEKNUM(X9)) -> 5 | Z9: Affrêtement | AA9: ok | AB9: Oui | AC9: Intervenant 4 | AD9: 42776 | AE9: =IF(ISBLANK(AD9),"",_xlfn.ISOWEEKNUM(AD9)) -> 6 | AF9: =IF(OR(ISBLANK(A9),N9="C"),"",IF(AND(U9<>"Modules",Z9="Messagerie",AB9="Non"),COUNTA(J9:L9,N9:R9,T9:AE9)+4,IF(AND(U9="Modules",Z9="Messagerie",AB9="Non"),COUNTA(J9:L9,N9:R9,T9:AE9)+3,IF(AND(U9<>"Modules",Z9<>"Messagerie",AB9="Non"),COUNTA(J9:L9,N9:R9,T9:AE9)+3,IF(AND(U9="Modules",Z9<>"Messagerie",AB9="Non"),COUNTA(J9:L9,N9:R9,T9:AE9)+2,IF(AND(U9<>"Modules",Z9="Messagerie",AB9="Oui"),COUNTA(J9:L9,N9:R9,T9:AE9)+2,IF(AND(U9="Modules",Z9="Messagerie",AB9="Oui"),COUNTA(J9:L9,N9:R9,T9:AE9)+1,IF(AND(U9<>"Modules",Z9<>"Messagerie",AB9="Oui"),COUNTA(J9:L9,N9:R9,T9:AE9)+1,IF(AND(U9="Modules",Z9<>"Messagerie",AB9="Oui"),COUNTA(J9:L9,N9:R9,T9:AE9),COUNTA(J9:L9,N9:R9,T9:AE9)))))))))) -> 20 | AG9: =COUNTA(J9:L9,N9:R9,T9:AE9) -> 20
U14: Détail de la formule
U15: Condition | AA15: NBVAL colonne AG | AB15: Formule
U16: Détermine quand démarre la formule | AB16: =SI(OU(N2="C";ESTVIDE(A2));"";
U17: U est différent de Modules ET Z = Messagerie ET AB = Non | AA17: 16 | AB17: SI(ET(U2<>"Modules";Z2="Messagerie";AB2="Non");NBVAL(J2:L2;N2:R2;T2:AE2)+4;
U18: U = Module ET Z = Messagerie ET AB = Non | AA18: 17 | AB18: SI(ET(U2="Modules";Z2="Messagerie";AB2="Non");NBVAL(J2:L2;N2:R2;T2:AE2)+3;
U19: U est différent de Modules ET Z est différent de Messagerie ET AB = Non | AA19: 17 | AB19: SI(ET(U2<>"Modules";Z2<>"Messagerie";AB2="Non");NBVAL(J2:L2;N2:R2;T2:AE2)+3;
U20: U = Module ET Z est différent de Messagerie ET AB = Non | AA20: 18 | AB20: SI(ET(U2="Modules";Z2<>"Messagerie";AB2="Non");NBVAL(J2:L2;N2:R2;T2:AE2)+2;
U21: U est différent de Modules ET Z = Messagerie ET AB = Oui | AA21: 18 | AB21: SI(ET(U2<>"Modules";Z2="Messagerie";AB2="Oui");NBVAL(J2:L2;N2:R2;T2:AE2)+2;
U22: U = Modules ET Z = Messagerie ET AB = Oui | AA22: 19 | AB22: SI(ET(U2="Modules";Z2="Messagerie";AB2="Oui");NBVAL(J2:L2;N2:R2;T2:AE2)+1;
U23: U est différent de Modules et Z est différent de Messagerie ET AB = Oui | AA23: 19 | AB23: SI(ET(U2<>"Modules";Z2<>"Messagerie";AB2="Oui");NBVAL(J2:L2;N2:R2;T2:AE2)+1;
U24: U = Modules ET Z est différent de Messagerie ET AB = Oui | AA24: 20 | AB24: SI(ET(U2="Modules";Z2<>"Messagerie";AB2="Oui");NBVAL(J2:L2;N2:R2;T2:AE2);
U25: Cloturer les SI | AB25: NBVAL(J2:L2;N2:R2;T2:AE2))))))))))

Sheet CLIENTS
A1: C000001 | B1: CLIENT 1
A2: C000002 | B2: CLIENT 2
A3: C000003 | B3: CLIENT 3
A4: C000004 | B4: CLIENT 4
A5: C000005 | B5: CLIENT 5
A6: C000006 | B6: CLIENT 6
A7: C000007 | B7: CLIENT 7
A8: C000008 | B8: CLIENT 8
A9: C000009 | B9: CLIENT 9
A10: C000010 | B10: CLIENT 10

Sheet LISTES
A1: TYPE DE VENTE | B1: TYPE D'IMPLANTATION | C1: Ilots | D1: Modules | E1: Satellites | F1: Agrandissement Linéaire | G1: Totem | H1: Autre | I1: Type de Transport | J1: Intervention ? | K1: Intervenant | L1: Eclairage | M1: Initiative
B2: Ilots | C2: Ilot 1 | D2: 1 Module | E2: Coloration | F2: Ilot + 2 caissons | G2: Totem ODR 1 face | H2: Remplacement meuble | I2: Messagerie | J2: Oui | K2: Intervenant 1 | L2: Oui | M2: Client
B3: Modules | C3: Ilot 2 | D3: 2 Modules | E3: Display Nail Cure | G3: Totem ODR 2 faces | H3: Réserve Implantation | I3: Affrêtement | J3: Non | K3: Intervenant 2 | L3: Non | M3: Intervenant
E4: Extension | G4: Totem VAO 1 face | H4: GIFI VSL | I4: Autre | K4: Intervenant 3
A5: Commande Supprimée | E5: Extension Extra le discount | G5: Totem VAO 2 faces | H5: Réappro associée à implant | K5: Intervenant 4
E6: Hair style | G6: Totem Nail Cure | H6: Linéaire Client | K6: Intervenant 5
E7: Meuble ME Premium | G7: Totem SPA | H7: Animations | K7: Intervenant 6
A8: Implantation | E8: Premium | G8: Totem 2 faces Nail Cure / ODR | H8: Linéaire Client Concept Parenthèse | K8: Intervenant 7
A9: OP | E9: Tour ODR | G9: Totem VAO TATI | H9: Proto Meuble GMS | K9: Intervenant 8
A10: Propo client | G10: Totem VAO + SOIN 2 FACES | K10: Intervenant 9
A11: Réappro | G11: Totem TATI x 3 | K11: Intervenant 10
G12: Totem Make Up | K12: Intervenant 11
G13: Totem Teint 2 Faces | K13: Intervenant 12
G14: Totem Regard et lèvres 2 faces
