Workbook
Name Dispo_MERLIN: [1]CDCT!$D$23:$D$25

Sheet centres
AA3: Date | AB3: =TODAY() -> 43793
A4: Effectifs
A5: Centre | C5: JOUR | E5: NUIT | G5: Centres | K5: JOUR | M5: NUIT | O5: centre | S5: JOUR | U5: NUIT | W5: Centres | AA5: JOUR | AC5: NUIT
C6: P | D6: R | E6: P | F6: R | K6: P | L6: R | M6: P | N6: R | S6: P | T6: R | U6: P | V6: R | AA6: P | AB6: R | AC6: P | AD6: R
A7: 1 | B7: G | C7: 21 | D7: 21 | E7: 21 | F7: 21 | G7: 6 | J7: G | K7: 3 | L7: 3 | M7: 3 | N7: 3 | O7: 11 | R7: G | S7: 4 | T7: 4 | U7: 4 | V7: 4 | W7: 16 | Z7: G | AA7: 3 | AB7: 3 | AC7: 3 | AD7: 3
B8: A | J8: A | R8: A | S8: 2 | T8: 1 | U8: 2 | V8: 2 | Z8: A
A9: 2 | B9: G | G9: 7 | J9: G | O9: 12 | R9: G | S9: 3 | T9: 3 | U9: 3 | V9: 3 | W9: 17 | Z9: G | AA9: 4 | AB9: 4 | AC9: 3 | AD9: 4
B10: A | J10: A | R10: A | Z10: A | AC10: 1
A11: 3 | B11: G | C11: 4 | D11: 4 | E11: 3 | F11: 3 | G11: 8 | J11: G | O11: 13 | R11: G | S11: 9 | T11: 8 | U11: 9 | V11: 8 | W11: 18 | Z11: G | AA11: 4 | AB11: 4 | AC11: 4 | AD11: 6
B12: A | E12: 1 | F12: 1 | J12: A | R12: A | Z12: A | AA12: 2 | AC12: 2
A13: 4 | B13: G | G13: 9 | J13: G | K13: 4 | L13: 4 | M13: 4 | N13: 4 | O13: 14 | R13: G | S13: 4 | T13: 4 | U13: 4 | V13: 4 | W13: 19 | Z13: G | AA13: 9 | AB13: 9 | AC13: 9 | AD13: 6
B14: A | J14: A | K14: 2 | M14: 2 | R14: A | S14: 2 | T14: 1 | U14: 2 | Z14: A | AA14: 2 | AC14: 2
A15: 5 | B15: G | C15: 3 | D15: 0 | E15: 3 | F15: 3 | G15: 10 | J15: G | K15: 3 | L15: 3 | M15: 3 | N15: 3 | O15: 15 | R15: G | S15: 3 | T15: 3 | U15: 3 | V15: 3 | W15: 20 | Z15: G
B16: A | J16: A | R16: A | Z16: A | AA16: 3 | AC16: 3
A18: Legendes
A19: P | B19: Prévu
A20: R | B20: Realise
A21: G | B21: Gardes
A22: A | B22: Asteintes

Sheet Novembre
B2: Dates | C2: 1 | E2: 2 | G2: 3 | I2: 4 | K2: 5 | M2: 6 | O2: 7 | Q2: 8 | S2: 9 | U2: 10 | W2: 11 | Y2: 12 | AA2: 13 | AC2: 14 | AE2: 15 | AG2: 16 | AI2: 17 | AK2: 18 | AM2: 19 | AO2: 20 | AQ2: 21 | AS2: 22 | AU2: 23 | AW2: 24 | AY2: 25 | BA2: 26 | BC2: 27 | BE2: 28 | BG2: 29 | BI2: 30 | BK2: 31
C3: Realise | E3: Realise | G3: Realise | I3: Realise | K3: Realise | M3: Realise | O3: Realise | Q3: Realise | S3: Realise | U3: Realise | W3: Realise | Y3: Realise | AA3: Realise | AC3: Realise | AE3: Realise | AG3: Realise | AI3: Realise | AK3: Realise | AM3: Realise | AO3: Realise | AQ3: Realise | AS3: Realise | AU3: Realise | AW3: Realise | AY3: Realise | BA3: Realise | BC3: Realise | BE3: Realise | BG3: Realise | BI3: Realise | BK3: Realise
A4: Centres | C4: JOUR | D4: NUIT | E4: JOUR | F4: NUIT | G4: JOUR | H4: NUIT | I4: JOUR | J4: NUIT | K4: JOUR | L4: NUIT | M4: JOUR | N4: NUIT | O4: JOUR | P4: NUIT | Q4: JOUR | R4: NUIT | S4: JOUR | T4: NUIT | U4: JOUR | V4: NUIT | W4: JOUR | X4: NUIT | Y4: JOUR | Z4: NUIT | AA4: JOUR | AB4: NUIT | AC4: JOUR | AD4: NUIT | AE4: JOUR | AF4: NUIT | AG4: JOUR | AH4: NUIT | AI4: JOUR | AJ4: NUIT | AK4: JOUR | AL4: NUIT | AM4: JOUR | AN4: NUIT | AO4: JOUR | AP4: NUIT | AQ4: JOUR | AR4: NUIT | AS4: JOUR | AT4: NUIT | AU4: JOUR | AV4: NUIT | AW4: JOUR | AX4: NUIT | AY4: JOUR | AZ4: NUIT | BA4: JOUR | BB4: NUIT | BC4: JOUR | BD4: NUIT | BE4: JOUR | BF4: NUIT | BG4: JOUR | BH4: NUIT | BI4: JOUR | BJ4: NUIT | BK4: JOUR | BL4: NUIT
A5: 1 | B5: Gardes | C5: =centres!D7 -> 21 | D5: =centres!F7 -> 21
B6: Astreintes | C6: =centres!D9 -> 0 | D6: 0
A7: 2 | B7: Gardes | C7: =centres!D9 -> 0 | D7: 0
B8: Astreintes | C8: =centres!D10 -> 0 | D8: 0
A9: 3 | B9: Gardes | C9: =centres!D11 -> 4 | D9: 3
B10: Astreintes | C10: =centres!D12 -> 0 | D10: 1
A11: 4 | B11: Gardes | C11: 0 | D11: 0
B12: Astreintes | C12: 0 | D12: 0
A13: 5 | B13: Gardes | C13: 0 | D13: 3
B14: Astreintes | C14: 0 | D14: 0
A15: 6 | B15: Gardes
B16: Astreintes
A17: 7 | B17: Gardes
B18: Astreintes
A19: 8 | B19: Gardes
B20: Astreintes
A21: 9 | B21: Gardes
B22: Astreintes
A23: 10 | B23: Gardes
B24: Astreintes
A25: 11 | B25: Gardes
B26: Astreintes
A27: 12 | B27: Gardes
B28: Astreintes
A29: 13 | B29: Gardes
B30: Astreintes
A31: 14 | B31: Gardes
B32: Astreintes
A33: 15 | B33: Gardes
B34: Astreintes
A35: 16 | B35: Gardes
B36: Astreintes
A37: 17 | B37: Gardes
B38: Astreintes
A39: 18 | B39: Gardes
B40: Astreintes | C40: =centres!D42 -> 0 | D40: =centres!F42 -> 0
A41: 19 | B41: Gardes | C41: =centres!D44 -> 0 | D41: 1.2777778
...

Sheet Decembre

Sheet Synthese 2019
B2: Dates | C2: 1 | E2: 2 | G2: 3 | I2: 4 | K2: 5 | M2: 6 | O2: 7 | Q2: 8 | S2: 9 | U2: 10 | W2: 11 | Y2: 12 | AA2: 13 | AC2: 14 | AE2: 15 | AG2: 16 | AI2: 17 | AK2: 18 | AM2: 19 | AO2: 20 | AQ2: 21 | AS2: 22 | AU2: 23 | AW2: 24 | AY2: 25 | BA2: 26 | BC2: 27 | BE2: 28 | BG2: 29 | BI2: 30 | BK2: 31
C3: Realise | E3: Realise | G3: Realise | I3: Realise | K3: Realise | M3: Realise | O3: Realise | Q3: Realise | S3: Realise | U3: Realise | W3: Realise | Y3: Realise | AA3: Realise | AC3: Realise | AE3: Realise | AG3: Realise | AI3: Realise | AK3: Realise | AM3: Realise | AO3: Realise | AQ3: Realise | AS3: Realise | AU3: Realise | AW3: Realise | AY3: Realise | BA3: Realise | BC3: Realise | BE3: Realise | BG3: Realise | BI3: Realise | BK3: Realise
A4: Centres | C4: JOUR | D4: NUIT | E4: JOUR | F4: NUIT | G4: JOUR | H4: NUIT | I4: JOUR | J4: NUIT | K4: JOUR | L4: NUIT | M4: JOUR | N4: NUIT | O4: JOUR | P4: NUIT | Q4: JOUR | R4: NUIT | S4: JOUR | T4: NUIT | U4: JOUR | V4: NUIT | W4: JOUR | X4: NUIT | Y4: JOUR | Z4: NUIT | AA4: JOUR | AB4: NUIT | AC4: JOUR | AD4: NUIT | AE4: JOUR | AF4: NUIT | AG4: JOUR | AH4: NUIT | AI4: JOUR | AJ4: NUIT | AK4: JOUR | AL4: NUIT | AM4: JOUR | AN4: NUIT | AO4: JOUR | AP4: NUIT | AQ4: JOUR | AR4: NUIT | AS4: JOUR | AT4: NUIT | AU4: JOUR | AV4: NUIT | AW4: JOUR | AX4: NUIT | AY4: JOUR | AZ4: NUIT | BA4: JOUR | BB4: NUIT | BC4: JOUR | BD4: NUIT | BE4: JOUR | BF4: NUIT | BG4: JOUR | BH4: NUIT | BI4: JOUR | BJ4: NUIT | BK4: JOUR | BL4: NUIT
A5: 1 | B5: Gardes | C5: =centres!D7 -> 21 | D5: =centres!F7 -> 21
B6: Astreintes | C6: =centres!D9 -> 0 | D6: 0
A7: 2 | B7: Gardes | C7: =centres!D9 -> 0 | D7: 0
B8: Astreintes | C8: =centres!D10 -> 0 | D8: 0
A9: 3 | B9: Gardes | C9: =centres!D11 -> 4 | D9: 3
B10: Astreintes | C10: =centres!D12 -> 0 | D10: 1
A11: 4 | B11: Gardes | C11: 0 | D11: 0
B12: Astreintes | C12: 0 | D12: 0
A13: 5 | B13: Gardes | C13: 0 | D13: 3
B14: Astreintes | C14: 0 | D14: 0
A15: 6 | B15: Gardes
B16: Astreintes
A17: 7 | B17: Gardes
B18: Astreintes
A19: 8 | B19: Gardes
B20: Astreintes
A21: 9 | B21: Gardes
B22: Astreintes
A23: 10 | B23: Gardes
B24: Astreintes
A25: 11 | B25: Gardes
B26: Astreintes
A27: 12 | B27: Gardes
B28: Astreintes
A29: 13 | B29: Gardes
B30: Astreintes
A31: 14 | B31: Gardes
B32: Astreintes
A33: 15 | B33: Gardes
B34: Astreintes
A35: 16 | B35: Gardes
B36: Astreintes
A37: 17 | B37: Gardes
B38: Astreintes
A39: 18 | B39: Gardes
B40: Astreintes | C40: =centres!D42 -> 0 | D40: =centres!F42 -> 0
A41: 19 | B41: Gardes | C41: =centres!D44 -> 0 | D41: 1.2777778
...
