Workbook

Sheet Home
D3: Premier quart au 1er lundi la première semaine
B4: Liste des agents | D4: 0.0048611111 | E4: 0.30138889 | F4: 0.59722222 | G4: 0.83333333 | H4: Nbre de quarts | J4: 3
B5: agent 1 | D5: x
B6: agent2 | E6: x
F7: x
G8: x

Sheet shift
P1: Tableau de service | AB1: Mois | AE1: 43101
Q3: ="Semaine du "&TEXT(AE1,"jj/mm")&" au "&TEXT(AG5,"jj/mm aaaa") -> Semaine du 01/01 au 07/01 2018
C5: =IF(AE1-WEEKDAY(AE1,2)+1>=AE1,AE1-WEEKDAY(AE1,2)+1,"") -> 43101 | H5: =IF(AE1-WEEKDAY(AE1,2)+2>=AE1,AE1-WEEKDAY(AE1,2)+2,"") -> 43102 | M5: =IF(AE1-WEEKDAY(AE1,2)+3>=AE1,AE1-WEEKDAY(AE1,2)+3,"") -> 43103 | R5: =IF(AE1-WEEKDAY(AE1,2)+4>=AE1,AE1-WEEKDAY(AE1,2)+4,"") -> 43104 | W5: =IF(AE1-WEEKDAY(AE1,2)+5>=AE1,AE1-WEEKDAY(AE1,2)+5,"") -> 43105 | AB5: =IF(AE1-WEEKDAY(AE1,2)+6>=AE1,AE1-WEEKDAY(AE1,2)+6,"") -> 43106 | AG5: =IF(AE1-WEEKDAY(AE1,2)+7>=AE1,AE1-WEEKDAY(AE1,2)+7,"") -> 43107
B6: debut | C6: =TOV!A2 -> 0 | D6: =TOV!B2 -> 0.25 | E6: =TOV!C2 -> 0.54166667 | F6: =TOV!D2 -> 0.75 | G6: =TOV!E2 -> 0.83333333 | H6: =C6 -> 0 | I6: =D6 -> 0.25 | J6: =E6 -> 0.54166667 | K6: =F6 -> 0.75 | L6: =G6 -> 0.83333333 | M6: =H6 -> 0 | N6: =I6 -> 0.25 | O6: =J6 -> 0.54166667 | ... AK6: =AF6 -> 0.83333333
B7: fin | C7: =TOV!A3 -> 0.25 | D7: =TOV!B3 -> 0.54166667 | E7: =TOV!C3 -> 0.75 | F7: =TOV!D3 -> 0.83333333 | G7: =TOV!E3 -> 1 | H7: =C7 -> 0.25 | I7: =D7 -> 0.54166667 | J7: =E7 -> 0.75 | K7: =F7 -> 0.83333333 | L7: =G7 -> 1 | M7: =H7 -> 0.25 | N7: =I7 -> 0.54166667 | O7: =J7 -> 0.75 | ... AK7: =AF7 -> 1
B8: agent1 | C8: X | G8: =IF(D8="X","X","") | H8: =IF(D8="X","X","") | I8: =IF(E8="X","X","") | J8: =IF(C8="X","X","") -> X | L8: =IF(I8="X","X","") | M8: =IF(I8="X","X","") | N8: =IF(J8="X","X","") -> X | O8: =IF(H8="X","X","") | Q8: =IF(N8="X","X","") -> X | R8: =IF(N8="X","X","") -> X | S8: =IF(O8="X","X","") | T8: =IF(M8="X","X","") | V8: =IF(S8="X","X","") | W8: =IF(S8="X","X","") | X8: =IF(T8="X","X","") | Y8: =IF(R8="X","X","") -> X | AA8: =IF(X8="X","X","") | AB8: =IF(X8="X","X","") | AC8: =IF(Y8="X","X","") -> X | AD8: =IF(W8="X","X","") | AF8: =IF(AC8="X","X","") -> X | AG8: =IF(AC8="X","X","") -> X | AH8: =IF(AD8="X","X","") | AI8: =IF(AB8="X","X","") | AK8: =IF(AH8="X","X","")
B9: agent2 | D9: X | G9: =IF(D9="X","X","") -> X | H9: =IF(D9="X","X","") -> X | I9: =IF(E9="X","X","") | J9: =IF(C9="X","X","") | L9: =IF(I9="X","X","") | M9: =IF(I9="X","X","") | N9: =IF(J9="X","X","") | O9: =IF(H9="X","X","") -> X | Q9: =IF(N9="X","X","") | R9: =IF(N9="X","X","") | S9: =IF(O9="X","X","") -> X | T9: =IF(M9="X","X","") | V9: =IF(S9="X","X","") -> X | W9: =IF(S9="X","X","") -> X | X9: =IF(T9="X","X","") | Y9: =IF(R9="X","X","") | AA9: =IF(X9="X","X","") | AB9: =IF(X9="X","X","") | AC9: =IF(Y9="X","X","") | AD9: =IF(W9="X","X","") -> X | AF9: =IF(AC9="X","X","") | AG9: =IF(AC9="X","X","") | AH9: =IF(AD9="X","X","") -> X | AI9: =IF(AB9="X","X","") | AK9: =IF(AH9="X","X","") -> X
B10: agent3 | E10: X | G10: =IF(D10="X","X","") | H10: =IF(D10="X","X","") | I10: =IF(E10="X","X","") -> X | J10: =IF(C10="X","X","") | L10: =IF(I10="X","X","") -> X | M10: =IF(I10="X","X","") -> X | N10: =IF(J10="X","X","") | O10: =IF(H10="X","X","") | Q10: =IF(N10="X","X","") | R10: =IF(N10="X","X","") | S10: =IF(O10="X","X","") | T10: =IF(M10="X","X","") -> X | V10: =IF(S10="X","X","") | W10: =IF(S10="X","X","") | X10: =IF(T10="X","X","") -> X | Y10: =IF(R10="X","X","") | AA10: =IF(X10="X","X","") -> X | AB10: =IF(X10="X","X","") -> X | AC10: =IF(Y10="X","X","") | AD10: =IF(W10="X","X","") | AF10: =IF(AC10="X","X","") | AG10: =IF(AC10="X","X","") | AH10: =IF(AD10="X","X","") | AI10: =IF(AB10="X","X","") -> X | AK10: =IF(AH10="X","X","")
B11: agent4 | D11: x | G11: =IF(D11="X","X","") -> X | H11: =IF(D11="X","X","") -> X | I11: =IF(E11="X","X","") | J11: =IF(C11="X","X","") | L11: =IF(I11="X","X","") | M11: =IF(I11="X","X","") | N11: =IF(J11="X","X","") | O11: =IF(H11="X","X","") -> X | Q11: =IF(N11="X","X","") | R11: =IF(N11="X","X","") | S11: =IF(O11="X","X","") -> X | T11: =IF(M11="X","X","") | V11: =IF(S11="X","X","") -> X | W11: =IF(S11="X","X","") -> X | X11: =IF(T11="X","X","") | Y11: =IF(R11="X","X","") | AA11: =IF(X11="X","X","") | AB11: =IF(X11="X","X","") | AC11: =IF(Y11="X","X","") | AD11: =IF(W11="X","X","") -> X | AF11: =IF(AC11="X","X","") | AG11: =IF(AC11="X","X","") | AH11: =IF(AD11="X","X","") -> X | AI11: =IF(AB11="X","X","") | AK11: =IF(AH11="X","X","") -> X
E12: X | G12: =IF(D12="X","X","") | H12: =IF(D12="X","X","") | I12: =IF(E12="X","X","") -> X | J12: =IF(C12="X","X","") | L12: =IF(I12="X","X","") -> X | M12: =IF(I12="X","X","") -> X | N12: =IF(J12="X","X","") | O12: =IF(H12="X","X","") | Q12: =IF(N12="X","X","") | R12: =IF(N12="X","X","") | S12: =IF(O12="X","X","") | T12: =IF(M12="X","X","") -> X | V12: =IF(S12="X","X","") | W12: =IF(S12="X","X","") | X12: =IF(T12="X","X","") -> X | Y12: =IF(R12="X","X","") | AA12: =IF(X12="X","X","") -> X | AB12: =IF(X12="X","X","") -> X | AC12: =IF(Y12="X","X","") | AD12: =IF(W12="X","X","") | AF12: =IF(AC12="X","X","") | AG12: =IF(AC12="X","X","") | AH12: =IF(AD12="X","X","") | AI12: =IF(AB12="X","X","") -> X | AK12: =IF(AH12="X","X","")
G13: =IF(D13="X","X","") | H13: =IF(D13="X","X","") | I13: =IF(E13="X","X","") | J13: =IF(C13="X","X","") | L13: =IF(I13="X","X","") | M13: =IF(I13="X","X","") | N13: =IF(J13="X","X","") | O13: =IF(H13="X","X","") | Q13: =IF(N13="X","X","") | R13: =IF(N13="X","X","") | S13: =IF(O13="X","X","") | T13: =IF(M13="X","X","") | V13: =IF(S13="X","X","") | W13: =IF(S13="X","X","") | X13: =IF(T13="X","X","") | Y13: =IF(R13="X","X","") | AA13: =IF(X13="X","X","") | AB13: =IF(X13="X","X","") | AC13: =IF(Y13="X","X","") | AD13: =IF(W13="X","X","") | AF13: =IF(AC13="X","X","") | AG13: =IF(AC13="X","X","") | AH13: =IF(AD13="X","X","") | AI13: =IF(AB13="X","X","") | AK13: =IF(AH13="X","X","")
G14: =IF(D14="X","X","") | H14: =IF(D14="X","X","") | I14: =IF(E14="X","X","") | J14: =IF(C14="X","X","") | L14: =IF(I14="X","X","") | M14: =IF(I14="X","X","") | N14: =IF(J14="X","X","") | O14: =IF(H14="X","X","") | Q14: =IF(N14="X","X","") | R14: =IF(N14="X","X","") | S14: =IF(O14="X","X","") | T14: =IF(M14="X","X","") | V14: =IF(S14="X","X","") | W14: =IF(S14="X","X","") | X14: =IF(T14="X","X","") | Y14: =IF(R14="X","X","") | AA14: =IF(X14="X","X","") | AB14: =IF(X14="X","X","") | AC14: =IF(Y14="X","X","") | AD14: =IF(W14="X","X","") | AF14: =IF(AC14="X","X","") | AG14: =IF(AC14="X","X","") | AH14: =IF(AD14="X","X","") | AI14: =IF(AB14="X","X","") | AK14: =IF(AH14="X","X","")
C17: ="Semaine du "&TEXT(C19,"jj/mm")&" au "&TEXT(C19+6,"jj/mm aaaa") -> Semaine du 08/01 au 14/01 2018
C19: =AG5+1 -> 43108 | H19: =C19+1 -> 43109 | M19: =H19+1 -> 43110 | R19: =M19+1 -> 43111 | W19: =R19+1 -> 43112 | AB19: =W19+1 -> 43113 | AG19: =AB19+1 -> 43114
B20: debut | C20: 0 | D20: 0.25 | E20: 0.54166667 | F20: 0.75 | G20: 0.83333333 | H20: 0 | I20: 0.25 | J20: 0.54166667 | K20: 0.75 | L20: 0.83333333 | M20: 0 | N20: 0.25 | O20: 0.54166667 | P20: 0.75 | Q20: 0.83333333 | R20: 0 | S20: 0.25 | T20: 0.54166667 | U20: 0.75 | V20: 0.83333333 | W20: 0 | X20: 0.25 | Y20: 0.54166667 | Z20: 0.75 | AA20: 0.83333333 | AB20: 0 | AC20: 0.25 | AD20: 0.54166667 | AE20: 0.75 | AF20: 0.83333333 | AG20: 0 | AH20: 0.25 | AI20: 0.54166667 | AJ20: 0.75 | AK20: 0.83333333
B21: fin | C21: 0.25 | D21: 0.54166667 | E21: 0.75 | F21: 0.83333333 | G21: 1 | H21: 0.25 | I21: 0.54166667 | J21: 0.75 | K21: 0.83333333 | L21: 1 | M21: 0.25 | N21: 0.54166667 | O21: 0.75 | P21: 0.83333333 | Q21: 1 | R21: 0.25 | S21: 0.54166667 | T21: 0.75 | U21: 0.83333333 | V21: 1 | W21: 0.25 | X21: 0.54166667 | Y21: 0.75 | Z21: 0.83333333 | AA21: 1 | AB21: 0.25 | AC21: 0.54166667 | AD21: 0.75 | AE21: 0.83333333 | AF21: 1 | AG21: 0.25 | AH21: 0.54166667 | AI21: 0.75 | AJ21: 0.83333333 | AK21: 1
B22: agent1
B23: agent2
B24: agent3
B25: agent4
C31: ="semaine du "&TEXT(C33,"jj/mm")&" au "&TEXT(C33+6,"jj/mm aaaa") -> semaine du 15/01 au 21/01 2018
C33: =C19+7 -> 43115 | H33: =C33+1 -> 43116 | M33: =H33+1 -> 43117 | R33: =M33+1 -> 43118 | W33: =R33+1 -> 43119 | AB33: =W33+1 -> 43120 | AG33: =AB33+1 -> 43121
B34: debut | C34: 0 | D34: 0.25 | E34: 0.54166667 | F34: 0.75 | G34: 0.83333333 | H34: 0 | I34: 0.25 | J34: 0.54166667 | K34: 0.75 | L34: 0.83333333 | M34: 0 | N34: 0.25 | O34: 0.54166667 | P34: 0.75 | Q34: 0.83333333 | R34: 0 | S34: 0.25 | T34: 0.54166667 | U34: 0.75 | V34: 0.83333333 | W34: 0 | X34: 0.25 | Y34: 0.54166667 | Z34: 0.75 | AA34: 0.83333333 | AB34: 0 | AC34: 0.25 | AD34: 0.54166667 | AE34: 0.75 | AF34: 0.83333333 | AG34: 0 | AH34: 0.25 | AI34: 0.54166667 | AJ34: 0.75 | AK34: 0.83333333
B35: fin | C35: 0.25 | D35: 0.54166667 | E35: 0.75 | F35: 0.83333333 | G35: 1 | H35: 0.25 | I35: 0.54166667 | J35: 0.75 | K35: 0.83333333 | L35: 1 | M35: 0.25 | N35: 0.54166667 | O35: 0.75 | P35: 0.83333333 | Q35: 1 | R35: 0.25 | S35: 0.54166667 | T35: 0.75 | U35: 0.83333333 | V35: 1 | W35: 0.25 | X35: 0.54166667 | Y35: 0.75 | Z35: 0.83333333 | AA35: 1 | AB35: 0.25 | AC35: 0.54166667 | AD35: 0.75 | AE35: 0.83333333 | AF35: 1 | AG35: 0.25 | AH35: 0.54166667 | AI35: 0.75 | AJ35: 0.83333333 | AK35: 1
B36: agent1
B37: agent2
B38: agent3
B39: agent4
C45: ="semaine du"&TEXT(C47,"jj/mm")&" au "&TEXT(C47+6,"jj/mm aaaa") -> semaine du22/01 au 28/01 2018
C47: =C33+7 -> 43122 | H47: =C47+1 -> 43123 | M47: =H47+1 -> 43124 | R47: =M47+1 -> 43125 | W47: =R47+1 -> 43126 | AB47: =W47+1 -> 43127 | AG47: =AB47+1 -> 43128
B48: debut | C48: 0 | D48: 0.25 | E48: 0.54166667 | F48: 0.75 | G48: 0.83333333 | H48: 0 | I48: 0.25 | J48: 0.54166667 | K48: 0.75 | L48: 0.83333333 | M48: 0 | N48: 0.25 | O48: 0.54166667 | P48: 0.75 | Q48: 0.83333333 | R48: 0 | S48: 0.25 | T48: 0.54166667 | U48: 0.75 | V48: 0.83333333 | W48: 0 | X48: 0.25 | Y48: 0.54166667 | Z48: 0.75 | AA48: 0.83333333 | AB48: 0 | AC48: 0.25 | AD48: 0.54166667 | AE48: 0.75 | AF48: 0.83333333 | AG48: 0 | AH48: 0.25 | AI48: 0.54166667 | AJ48: 0.75 | AK48: 0.83333333
B49: fin | C49: 0.25 | D49: 0.54166667 | E49: 0.75 | F49: 0.83333333 | G49: 1 | H49: 0.25 | I49: 0.54166667 | J49: 0.75 | K49: 0.83333333 | L49: 1 | M49: 0.25 | N49: 0.54166667 | O49: 0.75 | P49: 0.83333333 | Q49: 1 | R49: 0.25 | S49: 0.54166667 | T49: 0.75 | U49: 0.83333333 | V49: 1 | W49: 0.25 | X49: 0.54166667 | Y49: 0.75 | Z49: 0.83333333 | AA49: 1 | AB49: 0.25 | AC49: 0.54166667 | AD49: 0.75 | AE49: 0.83333333 | AF49: 1 | AG49: 0.25 | AH49: 0.54166667 | AI49: 0.75 | AJ49: 0.83333333 | AK49: 1
B50: agent1
B51: agent2
B52: agent3
B53: agent4
C59: ="Semaine du "&TEXT(C61,"jj/mm")&" au "&TEXT(C61+6,"jj/mm aaaa") -> Semaine du 29/01 au 04/02 2018
C61: =IF(OR(IFERROR(MONTH(AG47+1)>MONTH($AE$1),FALSE),AG47=""),"",AG47+1) -> 43129 | H61: =IF(OR(IFERROR(MONTH(C61+1)>MONTH($AE$1),FALSE),C61=""),"",C61+1) -> 43130 | M61: =IF(OR(IFERROR(MONTH(H61+1)>MONTH($AE$1),FALSE),H61=""),"",H61+1) -> 43131 | R61: =IF(OR(IFERROR(MONTH(M61+1)>MONTH($AE$1),FALSE),M61=""),"",M61+1) | W61: =IF(OR(IFERROR(MONTH(R61+1)>MONTH($AE$1),FALSE),R61=""),"",R61+1) | AB61: =IF(OR(IFERROR(MONTH(W61+1)>MONTH($AE$1),FALSE),W61=""),"",W61+1) | AG61: =IF(OR(IFERROR(MONTH(AB61+1)>MONTH($AE$1),FALSE),AB61=""),"",AB61+1)
B62: debut | C62: 0 | D62: 0.25 | E62: 0.54166667 | F62: 0.75 | G62: 0.83333333 | H62: 0 | I62: 0.25 | J62: 0.54166667 | K62: 0.75 | L62: 0.83333333 | M62: 0 | N62: 0.25 | O62: 0.54166667 | P62: 0.75 | Q62: 0.83333333 | R62: 0 | S62: 0.25 | T62: 0.54166667 | U62: 0.75 | V62: 0.83333333 | W62: 0 | X62: 0.25 | Y62: 0.54166667 | Z62: 0.75 | AA62: 0.83333333 | AB62: 0 | AC62: 0.25 | AD62: 0.54166667 | AE62: 0.75 | AF62: 0.83333333 | AG62: 0 | AH62: 0.25 | AI62: 0.54166667 | AJ62: 0.75 | AK62: 0.83333333
B63: fin | C63: 0.25 | D63: 0.54166667 | E63: 0.75 | F63: 0.83333333 | G63: 1 | H63: 0.25 | I63: 0.54166667 | J63: 0.75 | K63: 0.83333333 | L63: 1 | M63: 0.25 | N63: 0.54166667 | O63: 0.75 | P63: 0.83333333 | Q63: 1 | R63: 0.25 | S63: 0.54166667 | T63: 0.75 | U63: 0.83333333 | V63: 1 | W63: 0.25 | X63: 0.54166667 | Y63: 0.75 | Z63: 0.83333333 | AA63: 1 | AB63: 0.25 | AC63: 0.54166667 | AD63: 0.75 | AE63: 0.83333333 | AF63: 1 | AG63: 0.25 | AH63: 0.54166667 | AI63: 0.75 | AJ63: 0.83333333 | AK63: 1
...

Sheet recap
Z3: Mois | AC3: =shift!AE1 -> 43101
B5: N°matr. | C5: =IFERROR(IF(MONTH($AC$3+(COLUMN()-3))=MONTH($AC$3),($AC$3+(COLUMN()-3)),#N/A),"") -> 43101 | D5: =IFERROR(IF(MONTH($AC$3+(COLUMN()-3))=MONTH($AC$3),($AC$3+(COLUMN()-3)),#N/A),"") -> 43102 | E5: =IFERROR(IF(MONTH($AC$3+(COLUMN()-3))=MONTH($AC$3),($AC$3+(COLUMN()-3)),#N/A),"") -> 43103 | F5: =IFERROR(IF(MONTH($AC$3+(COLUMN()-3))=MONTH($AC$3),($AC$3+(COLUMN()-3)),#N/A),"") -> 43104 | G5: =IFERROR(IF(MONTH($AC$3+(COLUMN()-3))=MONTH($AC$3),($AC$3+(COLUMN()-3)),#N/A),"") -> 43105 | H5: =IFERROR(IF(MONTH($AC$3+(COLUMN()-3))=MONTH($AC$3),($AC$3+(COLUMN()-3)),#N/A),"") -> 43106 | I5: =IFERROR(IF(MONTH($AC$3+(COLUMN()-3))=MONTH($AC$3),($AC$3+(COLUMN()-3)),#N/A),"") -> 43107 | J5: =IFERROR(IF(MONTH($AC$3+(COLUMN()-3))=MONTH($AC$3),($AC$3+(COLUMN()-3)),#N/A),"") -> 43108 | ... AG5: =IFERROR(IF(MONTH($AC$3+(COLUMN()-3))=MONTH($AC$3),($AC$3+(COLUMN()-3)),#N/A),"") -> 43131 | AH5: TOTAL
A6: Jours fériés
A8: =shift!B8 -> agent1
A9: Heure travaillé | C9: 0 | D9: 0 | E9: 0 | F9: 0 | G9: 0 | H9: 0 | I9: 0 | J9: 0 | K9: 0 | L9: 0 | M9: 0 | N9: 0 | O9: 0 | P9: 0 | Q9: 0 | R9: 0 | S9: 0 | T9: 0 | U9: 0 | V9: 0 | W9: 0 | X9: 0 | Y9: 0 | Z9: 0 | AA9: 0 | AB9: 0 | AC9: 0 | AD9: 0 | AE9: 0 | AF9: 0 | AG9: 0 | AH9: =SUM(C9:AG9) -> 0
A10: Heure de nuit | C10: 0 | D10: 0 | E10: 0 | F10: 0 | G10: 0 | H10: 0 | I10: 0 | J10: 0 | K10: 0 | L10: 0 | M10: 0 | N10: 0 | O10: 0 | P10: 0 | Q10: 0 | R10: 0 | S10: 0 | T10: 0 | U10: 0 | V10: 0 | W10: 0 | X10: 0 | Y10: 0 | Z10: 0 | AA10: 0 | AB10: 0 | AC10: 0 | AD10: 0 | AE10: 0 | AF10: 0 | AG10: 0 | AH10: =SUM(C10:AG10) -> 0
A11: Heure travaillé | C11: 0 | D11: 0 | E11: 0 | F11: 0 | G11: 0 | H11: 0 | I11: 0 | J11: 0 | K11: 0 | L11: 0 | M11: 0 | N11: 0 | O11: 0 | P11: 0 | Q11: 0 | R11: 0 | S11: 0 | T11: 0 | U11: 0 | V11: 0 | W11: 0 | X11: 0 | Y11: 0 | Z11: 0 | AA11: 0 | AB11: 0 | AC11: 0 | AD11: 0 | AE11: 0 | AF11: 0 | AG11: 0 | AH11: =SUM(C11:AG11) -> 0
A12: Heure de nuit | C12: 0 | D12: 0 | E12: 0 | F12: 0 | G12: 0 | H12: 0 | I12: 0 | J12: 0 | K12: 0 | L12: 0 | M12: 0 | N12: 0 | O12: 0 | P12: 0 | Q12: 0 | R12: 0 | S12: 0 | T12: 0 | U12: 0 | V12: 0 | W12: 0 | X12: 0 | Y12: 0 | Z12: 0 | AA12: 0 | AB12: 0 | AC12: 0 | AD12: 0 | AE12: 0 | AF12: 0 | AG12: 0 | AH12: =SUM(C12:AG12) -> 0
A13: heure sup | C13: =IF(C9="","",IF(SUM($C9:C9)*24>180,SUM($C9:C9)-(180/24)-SUM(B13:$C13),0)) -> 0 | D13: =IF(D9="","",IF(SUM($C9:D9)*24>180,SUM($C9:D9)-(180/24)-SUM(C13:$C13),0)) -> 0 | E13: =IF(E9="","",IF(SUM($C9:E9)*24>180,SUM($C9:E9)-(180/24)-SUM($C13:D13),0)) -> 0 | F13: =IF(F9="","",IF(SUM($C9:F9)*24>180,SUM($C9:F9)-(180/24)-SUM($C13:E13),0)) -> 0 | G13: =IF(G9="","",IF(SUM($C9:G9)*24>180,SUM($C9:G9)-(180/24)-SUM($C13:F13),0)) -> 0 | H13: =IF(H9="","",IF(SUM($C9:H9)*24>180,SUM($C9:H9)-(180/24)-SUM($C13:G13),0)) -> 0 | I13: =IF(I9="","",IF(SUM($C9:I9)*24>180,SUM($C9:I9)-(180/24)-SUM($C13:H13),0)) -> 0 | J13: =IF(J9="","",IF(SUM($C9:J9)*24>180,SUM($C9:J9)-(180/24)-SUM($C13:I13),0)) -> 0 | K13: =IF(K9="","",IF(SUM($C9:K9)*24>180,SUM($C9:K9)-(180/24)-SUM($C13:J13),0)) -> 0 | L13: =IF(L9="","",IF(SUM($C9:L9)*24>180,SUM($C9:L9)-(180/24)-SUM($C13:K13),0)) -> 0 | ... AG13: =IF(AG9="","",IF(SUM($C9:AG9)*24>180,SUM($C9:AG9)-(180/24)-SUM($C13:AF13),0)) -> 0 | AH13: =SUM(C13:AG13) -> 0

Sheet day off
A1: Jours féries
A2: 42729
A3: 42735

Sheet leave
A2: Agents | B2: depart | C2: retour | D2: nbre de jours
A3: agent1

Sheet TOV
A1: blok 1 | B1: blok 2 | C1: blok 3 | D1: blok 4 | E1: blok 5
A2: 0 | B2: 0.25 | C2: 0.54166667 | D2: 0.75 | E2: 0.83333333
A3: 0.25 | B3: 0.54166667 | C3: 0.75 | D3: 0.83333333 | E3: 1
A4: 0 | B4: 0.25 | C4: 0.54166667 | D4: 0.75 | E4: 0
A5: 0 | B5: 0.54166667 | C5: 0.75 | D5: 0.83333333 | E5: 0
A6: 0 | B6: 0 | C6: 0 | D6: 0 | E6: 0.875
A7: 0.25 | B7: 0 | C7: 0 | D7: 0 | E7: 1
