Workbook

Sheet MENU PRINCIPAL
E2: Mois | F2: Janvier
E3: Année | F3: 2018
I5: roulement | J5: 2
B6: LISTE DES AGENTS
D7: ="QUART DU "&TEXT([1]QUART!C3," jj-mm-aaaa")&"" -> QUART DU 01-01-2018
B8: Prénoms et NOM | C8: Matricule | D8: 00:07 | E8: 07:14 | F8: 14:20 | G8: 20:00
B9: agent1 | C9: 21356 | D9: X
B10: Agent2 | C10: 32512 | E10: X | G10: X
B11: Agent3 | C11: 25635 | F11: X
B12: Agent4
B13: Agent5
B14: Agent6

Sheet QUART cas roulement =3
K1: TABLEAU DE QUART | Y1: ='[1]MENU PRINCIPAL'!F2&'[1]MENU PRINCIPAL'!F3 -> Janvier2018
N2: ="Sémaine du "&TEXT(Y1,"jj/mm")&" au "&TEXT(C3+6,"jj/mm aaaa") -> Sémaine du 01/01 au 07/01 2018
C3: =Y1-WEEKDAY(Y1,2)+1 -> 43101 | G3: =C3+1 -> 43102 | K3: =G3+1 -> 43103 | O3: =K3+1 -> 43104 | S3: =O3+1 -> 43105 | W3: =S3+1 -> 43106 | AA3: =W3+1 -> 43107
B4: H.dédut | C4: =TOV!A2 -> 0 | D4: =TOV!B2 -> 0.29166667 | E4: =TOV!C3 -> 0.54166667 | F4: =TOV!D3 -> 0.83333333 | G4: =C4 -> 0 | H4: =D4 -> 0.29166667 | I4: =E4 -> 0.54166667 | J4: =F4 -> 0.83333333 | K4: =G4 -> 0 | L4: =H4 -> 0.29166667 | M4: =I4 -> 0.54166667 | N4: =J4 -> 0.83333333 | ... AD4: =Z4 -> 0.83333333
B5: H.fin | C5: =TOV!A4 -> 0.29166667 | D5: =TOV!B4 -> 0.54166667 | E5: =TOV!C4 -> 0.83333333 | F5: =TOV!E4 -> 1 | G5: =C5 -> 0.29166667 | H5: =D5 -> 0.54166667 | I5: =E5 -> 0.83333333 | J5: =F5 -> 1 | K5: =G5 -> 0.29166667 | L5: =H5 -> 0.54166667 | M5: =I5 -> 0.83333333 | N5: =J5 -> 1 | ... AD5: =Z5 -> 1
B6: Agent1 | C6: X | F6: =IF(Tableau5[[#This Row],[Colonne3]]="X","X","") | G6: =IF(Tableau5[[#This Row],[Colonne5]]="X","X","") | H6: =IF(Tableau5[[#This Row],[Colonne4]]="X","X","") | I6: =IF(OR(Tableau5[[#This Row],[Colonne6]]="X",Tableau5[[#This Row],[Colonne7]]="X"),"","X") -> X | J6: =IF(Tableau5[[#This Row],[Colonne7]]="X","X","") | K6: =IF(Tableau5[[#This Row],[Colonne5]]="X","X","") | L6: =IF(Tableau5[[#This Row],[Colonne8]]="X","X","") -> X | M6: =IF(OR(Tableau5[[#This Row],[Colonne10]]="X",Tableau5[[#This Row],[Colonne11]]="X"),"","X") | N6: =IF(Tableau5[[#This Row],[Colonne11]]="X","X","") -> X | O6: =IF(Tableau5[[#This Row],[Colonne13]]="X","X", "") -> X | P6: =IF(Tableau5[[#This Row],[Colonne12]]="X","X","") | Q6: =IF(OR(Tableau5[[#This Row],[Colonne14]]="X",Tableau5[[#This Row],[Colonne15]]="X"),"","X") | R6: =IF(Tableau5[[#This Row],[Colonne15]]="X","X","") | S6: =IF(Tableau5[[#This Row],[Colonne9]]="X","X", "") | T6: =IF(Tableau5[[#This Row],[Colonne16]]="X","X","") | U6: =IF(OR(Tableau5[[#This Row],[Colonne18]]="X",Tableau5[[#This Row],[Colonne19]]="X"),"","X") -> X | V6: =IF(Tableau5[[#This Row],[Colonne19]]="X","X","") | W6: =IF(Tableau5[[#This Row],[Colonne5]]="X","X", "") | X6: =IF(Tableau5[[#This Row],[Colonne20]]="X","X","") -> X | Y6: =IF(OR(Tableau5[[#This Row],[Colonne22]]="X",Tableau5[[#This Row],[Colonne23]]="X"),"","X") | Z6: =IF(Tableau5[[#This Row],[Colonne23]]="X","X","") -> X | AA6: =IF(Tableau5[[#This Row],[Colonne25]]="X","X", "") -> X | AB6: =IF(Tableau5[[#This Row],[Colonne24]]="X","X","") | AC6: =IF(OR(Tableau5[[#This Row],[Colonne26]]="X",Tableau5[[#This Row],[Colonne27]]="X"),"","X") | AD6: =IF(Tableau5[[#This Row],[Colonne27]]="X","X","")
B7: Agent2 | D7: X | F7: =IF(Tableau5[[#This Row],[Colonne3]]="X","X","") -> X | G7: =IF(Tableau5[[#This Row],[Colonne5]]="X","X","") -> X | H7: =IF(Tableau5[[#This Row],[Colonne4]]="X","X","") | I7: =IF(OR(Tableau5[[#This Row],[Colonne6]]="X",Tableau5[[#This Row],[Colonne7]]="X"),"","X") | J7: =IF(Tableau5[[#This Row],[Colonne7]]="X","X","") | K7: =IF(Tableau5[[#This Row],[Colonne5]]="X","X","") -> X | L7: =IF(Tableau5[[#This Row],[Colonne8]]="X","X","") | M7: =IF(OR(Tableau5[[#This Row],[Colonne10]]="X",Tableau5[[#This Row],[Colonne11]]="X"),"","X") | N7: =IF(Tableau5[[#This Row],[Colonne11]]="X","X","") | O7: =IF(Tableau5[[#This Row],[Colonne13]]="X","X", "") | P7: =IF(Tableau5[[#This Row],[Colonne12]]="X","X","") | Q7: =IF(OR(Tableau5[[#This Row],[Colonne14]]="X",Tableau5[[#This Row],[Colonne15]]="X"),"","X") -> X | R7: =IF(Tableau5[[#This Row],[Colonne15]]="X","X","") | S7: =IF(Tableau5[[#This Row],[Colonne9]]="X","X", "") | T7: =IF(Tableau5[[#This Row],[Colonne16]]="X","X","") -> X | U7: =IF(OR(Tableau5[[#This Row],[Colonne18]]="X",Tableau5[[#This Row],[Colonne19]]="X"),"","X") | V7: =IF(Tableau5[[#This Row],[Colonne19]]="X","X","") -> X | W7: =IF(Tableau5[[#This Row],[Colonne5]]="X","X", "") -> X | X7: =IF(Tableau5[[#This Row],[Colonne20]]="X","X","") | Y7: =IF(OR(Tableau5[[#This Row],[Colonne22]]="X",Tableau5[[#This Row],[Colonne23]]="X"),"","X") | Z7: =IF(Tableau5[[#This Row],[Colonne23]]="X","X","") | AA7: =IF(Tableau5[[#This Row],[Colonne25]]="X","X", "") | AB7: =IF(Tableau5[[#This Row],[Colonne24]]="X","X","") | AC7: =IF(OR(Tableau5[[#This Row],[Colonne26]]="X",Tableau5[[#This Row],[Colonne27]]="X"),"","X") -> X | AD7: =IF(Tableau5[[#This Row],[Colonne27]]="X","X","")
B8: Agent3 | E8: X | F8: =IF(Tableau5[[#This Row],[Colonne3]]="X","X","") | G8: =IF(Tableau5[[#This Row],[Colonne5]]="X","X","") | H8: =IF(Tableau5[[#This Row],[Colonne4]]="X","X","") -> X | I8: =IF(OR(Tableau5[[#This Row],[Colonne6]]="X",Tableau5[[#This Row],[Colonne7]]="X"),"","X") | J8: =IF(Tableau5[[#This Row],[Colonne7]]="X","X","") -> X | K8: =IF(Tableau5[[#This Row],[Colonne5]]="X","X","") | L8: =IF(Tableau5[[#This Row],[Colonne8]]="X","X","") | M8: =IF(OR(Tableau5[[#This Row],[Colonne10]]="X",Tableau5[[#This Row],[Colonne11]]="X"),"","X") -> X | N8: =IF(Tableau5[[#This Row],[Colonne11]]="X","X","") | O8: =IF(Tableau5[[#This Row],[Colonne13]]="X","X", "") | P8: =IF(Tableau5[[#This Row],[Colonne12]]="X","X","") -> X | Q8: =IF(OR(Tableau5[[#This Row],[Colonne14]]="X",Tableau5[[#This Row],[Colonne15]]="X"),"","X") | R8: =IF(Tableau5[[#This Row],[Colonne15]]="X","X","") -> X | S8: =IF(Tableau5[[#This Row],[Colonne9]]="X","X", "") -> X | T8: =IF(Tableau5[[#This Row],[Colonne16]]="X","X","") | U8: =IF(OR(Tableau5[[#This Row],[Colonne18]]="X",Tableau5[[#This Row],[Colonne19]]="X"),"","X") | V8: =IF(Tableau5[[#This Row],[Colonne19]]="X","X","") | W8: =IF(Tableau5[[#This Row],[Colonne5]]="X","X", "") | X8: =IF(Tableau5[[#This Row],[Colonne20]]="X","X","") | Y8: =IF(OR(Tableau5[[#This Row],[Colonne22]]="X",Tableau5[[#This Row],[Colonne23]]="X"),"","X") -> X | Z8: =IF(Tableau5[[#This Row],[Colonne23]]="X","X","") | AA8: =IF(Tableau5[[#This Row],[Colonne25]]="X","X", "") | AB8: =IF(Tableau5[[#This Row],[Colonne24]]="X","X","") -> X | AC8: =IF(OR(Tableau5[[#This Row],[Colonne26]]="X",Tableau5[[#This Row],[Colonne27]]="X"),"","X") | AD8: =IF(Tableau5[[#This Row],[Colonne27]]="X","X","") -> X
N11: ="Sémaine du "&TEXT(C12,"jj/mm")&" au "&TEXT(C12+6,"jj/mm aaaa") -> Sémaine du 08/01 au 14/01 2018
C12: =C3+7 -> 43108 | G12: =C12+1 -> 43109 | K12: =G12+1 -> 43110 | O12: =K12+1 -> 43111 | S12: =O12+1 -> 43112 | W12: =S12+1 -> 43113 | AA12: =W12+1 -> 43114
B13: H.dédut | C13: =C4 -> 0 | D13: =D4 -> 0.29166667 | E13: =E4 -> 0.54166667 | F13: =F4 -> 0.83333333 | G13: =G4 -> 0 | H13: =H4 -> 0.29166667 | I13: =I4 -> 0.54166667 | J13: =J4 -> 0.83333333 | ... AC13: =AC4 -> 0.54166667 | AD13: =Z13 -> 0.83333333
B14: H.fin | C14: =C5 -> 0.29166667 | D14: =D5 -> 0.54166667 | E14: =E5 -> 0.83333333 | F14: =F5 -> 1 | G14: =G5 -> 0.29166667 | H14: =H5 -> 0.54166667 | I14: =I5 -> 0.83333333 | J14: =J5 -> 1 | ... AC14: =AC5 -> 0.83333333 | AD14: =Z14 -> 1
B15: Agent1 | C15: =IF(AD6="X","X","") | D15: =IF(AC6="X","X","") | E15: =IF(OR(Tableau54[[#This Row],[Colonne2]]="X",Tableau54[[#This Row],[Colonne3]]="X"),"","X") -> X | F15: =IF(Tableau54[[#This Row],[Colonne3]]="X","X","") | G15: =IF(Tableau54[[#This Row],[Colonne5]]="X","X","") | H15: =IF(Tableau54[[#This Row],[Colonne4]]="X","X","") -> X | I15: =IF(OR(Tableau54[[#This Row],[Colonne6]]="X",Tableau54[[#This Row],[Colonne7]]="X"),"","X") | J15: =IF(Tableau54[[#This Row],[Colonne7]]="X","X","") -> X | K15: =IF(Tableau54[[#This Row],[Colonne5]]="X","X","") | L15: =IF(Tableau54[[#This Row],[Colonne8]]="X","X","") | M15: =IF(OR(Tableau54[[#This Row],[Colonne10]]="X",Tableau54[[#This Row],[Colonne11]]="X"),"","X") -> X | N15: =IF(Tableau54[[#This Row],[Colonne11]]="X","X","") | O15: =IF(Tableau54[[#This Row],[Colonne13]]="X","X", "") | P15: =IF(Tableau54[[#This Row],[Colonne12]]="X","X","") -> X | Q15: =IF(OR(Tableau54[[#This Row],[Colonne14]]="X",Tableau54[[#This Row],[Colonne15]]="X"),"","X") | R15: =IF(Tableau54[[#This Row],[Colonne15]]="X","X","") -> X | S15: =IF(Tableau54[[#This Row],[Colonne9]]="X","X", "") -> X | T15: =IF(Tableau54[[#This Row],[Colonne16]]="X","X","") | U15: =IF(OR(Tableau54[[#This Row],[Colonne18]]="X",Tableau54[[#This Row],[Colonne19]]="X"),"","X") | V15: =IF(Tableau54[[#This Row],[Colonne19]]="X","X","") | W15: =IF(Tableau54[[#This Row],[Colonne5]]="X","X", "") | X15: =IF(Tableau54[[#This Row],[Colonne20]]="X","X","") | Y15: =IF(OR(Tableau54[[#This Row],[Colonne22]]="X",Tableau54[[#This Row],[Colonne23]]="X"),"","X") -> X | Z15: =IF(Tableau54[[#This Row],[Colonne23]]="X","X","") | AA15: =IF(Tableau54[[#This Row],[Colonne25]]="X","X", "") | AB15: =IF(Tableau54[[#This Row],[Colonne24]]="X","X","") -> X | AC15: =IF(OR(Tableau54[[#This Row],[Colonne26]]="X",Tableau54[[#This Row],[Colonne27]]="X"),"","X") | AD15: =IF(Tableau54[[#This Row],[Colonne27]]="X","X","") -> X
B16: Agent2 | C16: =IF(AD7="X","X","") | D16: =IF(AC7="X","X","") -> X | E16: =IF(OR(Tableau54[[#This Row],[Colonne2]]="X",Tableau54[[#This Row],[Colonne3]]="X"),"","X") | F16: =IF(Tableau54[[#This Row],[Colonne3]]="X","X","") -> X | G16: =IF(Tableau54[[#This Row],[Colonne5]]="X","X","") -> X | H16: =IF(Tableau54[[#This Row],[Colonne4]]="X","X","") | I16: =IF(OR(Tableau54[[#This Row],[Colonne6]]="X",Tableau54[[#This Row],[Colonne7]]="X"),"","X") | J16: =IF(Tableau54[[#This Row],[Colonne7]]="X","X","") | K16: =IF(Tableau54[[#This Row],[Colonne5]]="X","X","") -> X | L16: =IF(Tableau54[[#This Row],[Colonne8]]="X","X","") | M16: =IF(OR(Tableau54[[#This Row],[Colonne10]]="X",Tableau54[[#This Row],[Colonne11]]="X"),"","X") | N16: =IF(Tableau54[[#This Row],[Colonne11]]="X","X","") | O16: =IF(Tableau54[[#This Row],[Colonne13]]="X","X", "") | P16: =IF(Tableau54[[#This Row],[Colonne12]]="X","X","") | Q16: =IF(OR(Tableau54[[#This Row],[Colonne14]]="X",Tableau54[[#This Row],[Colonne15]]="X"),"","X") -> X | R16: =IF(Tableau54[[#This Row],[Colonne15]]="X","X","") | S16: =IF(Tableau54[[#This Row],[Colonne9]]="X","X", "") | T16: =IF(Tableau54[[#This Row],[Colonne16]]="X","X","") -> X | U16: =IF(OR(Tableau54[[#This Row],[Colonne18]]="X",Tableau54[[#This Row],[Colonne19]]="X"),"","X") | V16: =IF(Tableau54[[#This Row],[Colonne19]]="X","X","") -> X | W16: =IF(Tableau54[[#This Row],[Colonne5]]="X","X", "") -> X | X16: =IF(Tableau54[[#This Row],[Colonne20]]="X","X","") | Y16: =IF(OR(Tableau54[[#This Row],[Colonne22]]="X",Tableau54[[#This Row],[Colonne23]]="X"),"","X") | Z16: =IF(Tableau54[[#This Row],[Colonne23]]="X","X","") | AA16: =IF(Tableau54[[#This Row],[Colonne25]]="X","X", "") | AB16: =IF(Tableau54[[#This Row],[Colonne24]]="X","X","") | AC16: =IF(OR(Tableau54[[#This Row],[Colonne26]]="X",Tableau54[[#This Row],[Colonne27]]="X"),"","X") -> X | AD16: =IF(Tableau54[[#This Row],[Colonne27]]="X","X","")
B17: Agent3 | C17: =IF(AD8="X","X","") -> X | D17: =IF(AC8="X","X","") | E17: =IF(OR(Tableau54[[#This Row],[Colonne2]]="X",Tableau54[[#This Row],[Colonne3]]="X"),"","X") | F17: =IF(Tableau54[[#This Row],[Colonne3]]="X","X","") | G17: =IF(Tableau54[[#This Row],[Colonne5]]="X","X","") | H17: =IF(Tableau54[[#This Row],[Colonne4]]="X","X","") | I17: =IF(OR(Tableau54[[#This Row],[Colonne6]]="X",Tableau54[[#This Row],[Colonne7]]="X"),"","X") -> X | J17: =IF(Tableau54[[#This Row],[Colonne7]]="X","X","") | K17: =IF(Tableau54[[#This Row],[Colonne5]]="X","X","") | L17: =IF(Tableau54[[#This Row],[Colonne8]]="X","X","") -> X | M17: =IF(OR(Tableau54[[#This Row],[Colonne10]]="X",Tableau54[[#This Row],[Colonne11]]="X"),"","X") | N17: =IF(Tableau54[[#This Row],[Colonne11]]="X","X","") -> X | O17: =IF(Tableau54[[#This Row],[Colonne13]]="X","X", "") -> X | P17: =IF(Tableau54[[#This Row],[Colonne12]]="X","X","") | Q17: =IF(OR(Tableau54[[#This Row],[Colonne14]]="X",Tableau54[[#This Row],[Colonne15]]="X"),"","X") | R17: =IF(Tableau54[[#This Row],[Colonne15]]="X","X","") | S17: =IF(Tableau54[[#This Row],[Colonne9]]="X","X", "") | T17: =IF(Tableau54[[#This Row],[Colonne16]]="X","X","") | U17: =IF(OR(Tableau54[[#This Row],[Colonne18]]="X",Tableau54[[#This Row],[Colonne19]]="X"),"","X") -> X | V17: =IF(Tableau54[[#This Row],[Colonne19]]="X","X","") | W17: =IF(Tableau54[[#This Row],[Colonne5]]="X","X", "") | X17: =IF(Tableau54[[#This Row],[Colonne20]]="X","X","") -> X | Y17: =IF(OR(Tableau54[[#This Row],[Colonne22]]="X",Tableau54[[#This Row],[Colonne23]]="X"),"","X") | Z17: =IF(Tableau54[[#This Row],[Colonne23]]="X","X","") -> X | AA17: =IF(Tableau54[[#This Row],[Colonne25]]="X","X", "") -> X | AB17: =IF(Tableau54[[#This Row],[Colonne24]]="X","X","") | AC17: =IF(OR(Tableau54[[#This Row],[Colonne26]]="X",Tableau54[[#This Row],[Colonne27]]="X"),"","X") | AD17: =IF(Tableau54[[#This Row],[Colonne27]]="X","X","")
N20: ="Sémaine du "&TEXT(C21,"jj/mm")&" au "&TEXT(C21+6,"jj/mm aaaa") -> Sémaine du 15/01 au 21/01 2018
C21: =C12+7 -> 43115 | G21: =C21+1 -> 43116 | K21: =G21+1 -> 43117 | O21: =K21+1 -> 43118 | S21: =O21+1 -> 43119 | W21: =S21+1 -> 43120 | AA21: =W21+1 -> 43121
B22: H.dédut | C22: =C13 -> 0 | D22: =D13 -> 0.29166667 | E22: =E13 -> 0.54166667 | F22: =F13 -> 0.83333333 | G22: =G13 -> 0 | H22: =H13 -> 0.29166667 | I22: =I13 -> 0.54166667 | J22: =J13 -> 0.83333333 | ... AC22: =AC13 -> 0.54166667 | AD22: =Z22 -> 0.83333333
B23: H.fin | C23: =C14 -> 0.29166667 | D23: =D14 -> 0.54166667 | E23: =E14 -> 0.83333333 | F23: =F14 -> 1 | G23: =G14 -> 0.29166667 | H23: =H14 -> 0.54166667 | I23: =I14 -> 0.83333333 | J23: =J14 -> 1 | ... AC23: =AC14 -> 0.83333333 | AD23: =Z23 -> 1
B24: Agent1 | C24: =IF(AD15="X","X","") -> X | D24: =IF(AC15="X","X","") | E24: =IF(OR(Tableau55[[#This Row],[Colonne2]]="X",Tableau55[[#This Row],[Colonne3]]="X"),"","X") | F24: =IF(Tableau55[[#This Row],[Colonne3]]="X","X","") | G24: =IF(Tableau55[[#This Row],[Colonne5]]="X","X","") | H24: =IF(Tableau55[[#This Row],[Colonne4]]="X","X","") | I24: =IF(OR(Tableau55[[#This Row],[Colonne6]]="X",Tableau55[[#This Row],[Colonne7]]="X"),"","X") -> X | J24: =IF(Tableau55[[#This Row],[Colonne7]]="X","X","") | K24: =IF(Tableau55[[#This Row],[Colonne5]]="X","X","") | L24: =IF(Tableau55[[#This Row],[Colonne8]]="X","X","") -> X | M24: =IF(OR(Tableau55[[#This Row],[Colonne10]]="X",Tableau55[[#This Row],[Colonne11]]="X"),"","X") | N24: =IF(Tableau55[[#This Row],[Colonne11]]="X","X","") -> X | O24: =IF(Tableau55[[#This Row],[Colonne13]]="X","X", "") -> X | P24: =IF(Tableau55[[#This Row],[Colonne12]]="X","X","") | Q24: =IF(OR(Tableau55[[#This Row],[Colonne14]]="X",Tableau55[[#This Row],[Colonne15]]="X"),"","X") | R24: =IF(Tableau55[[#This Row],[Colonne15]]="X","X","") | S24: =IF(Tableau55[[#This Row],[Colonne9]]="X","X", "") | T24: =IF(Tableau55[[#This Row],[Colonne16]]="X","X","") | U24: =IF(OR(Tableau55[[#This Row],[Colonne18]]="X",Tableau55[[#This Row],[Colonne19]]="X"),"","X") -> X | V24: =IF(Tableau55[[#This Row],[Colonne19]]="X","X","") | W24: =IF(Tableau55[[#This Row],[Colonne5]]="X","X", "") | X24: =IF(Tableau55[[#This Row],[Colonne20]]="X","X","") -> X | Y24: =IF(OR(Tableau55[[#This Row],[Colonne22]]="X",Tableau55[[#This Row],[Colonne23]]="X"),"","X") | Z24: =IF(Tableau55[[#This Row],[Colonne23]]="X","X","") -> X | AA24: =IF(Tableau55[[#This Row],[Colonne25]]="X","X", "") -> X | AB24: =IF(Tableau55[[#This Row],[Colonne24]]="X","X","") | AC24: =IF(OR(Tableau55[[#This Row],[Colonne26]]="X",Tableau55[[#This Row],[Colonne27]]="X"),"","X") | AD24: =IF(Tableau55[[#This Row],[Colonne27]]="X","X","")
B25: Agent2 | C25: =IF(AD16="X","X","") | D25: =IF(AC16="X","X","") -> X | E25: =IF(OR(Tableau55[[#This Row],[Colonne2]]="X",Tableau55[[#This Row],[Colonne3]]="X"),"","X") | F25: =IF(Tableau55[[#This Row],[Colonne3]]="X","X","") -> X | G25: =IF(Tableau55[[#This Row],[Colonne5]]="X","X","") -> X | H25: =IF(Tableau55[[#This Row],[Colonne4]]="X","X","") | I25: =IF(OR(Tableau55[[#This Row],[Colonne6]]="X",Tableau55[[#This Row],[Colonne7]]="X"),"","X") | J25: =IF(Tableau55[[#This Row],[Colonne7]]="X","X","") | K25: =IF(Tableau55[[#This Row],[Colonne5]]="X","X","") -> X | L25: =IF(Tableau55[[#This Row],[Colonne8]]="X","X","") | M25: =IF(OR(Tableau55[[#This Row],[Colonne10]]="X",Tableau55[[#This Row],[Colonne11]]="X"),"","X") | N25: =IF(Tableau55[[#This Row],[Colonne11]]="X","X","") | O25: =IF(Tableau55[[#This Row],[Colonne13]]="X","X", "") | P25: =IF(Tableau55[[#This Row],[Colonne12]]="X","X","") | Q25: =IF(OR(Tableau55[[#This Row],[Colonne14]]="X",Tableau55[[#This Row],[Colonne15]]="X"),"","X") -> X | R25: =IF(Tableau55[[#This Row],[Colonne15]]="X","X","") | S25: =IF(Tableau55[[#This Row],[Colonne9]]="X","X", "") | T25: =IF(Tableau55[[#This Row],[Colonne16]]="X","X","") -> X | U25: =IF(OR(Tableau55[[#This Row],[Colonne18]]="X",Tableau55[[#This Row],[Colonne19]]="X"),"","X") | V25: =IF(Tableau55[[#This Row],[Colonne19]]="X","X","") -> X | W25: =IF(Tableau55[[#This Row],[Colonne5]]="X","X", "") -> X | X25: =IF(Tableau55[[#This Row],[Colonne20]]="X","X","") | Y25: =IF(OR(Tableau55[[#This Row],[Colonne22]]="X",Tableau55[[#This Row],[Colonne23]]="X"),"","X") | Z25: =IF(Tableau55[[#This Row],[Colonne23]]="X","X","") | AA25: =IF(Tableau55[[#This Row],[Colonne25]]="X","X", "") | AB25: =IF(Tableau55[[#This Row],[Colonne24]]="X","X","") | AC25: =IF(OR(Tableau55[[#This Row],[Colonne26]]="X",Tableau55[[#This Row],[Colonne27]]="X"),"","X") -> X | AD25: =IF(Tableau55[[#This Row],[Colonne27]]="X","X","")
B26: Agent3 | C26: =IF(AD17="X","X","") | D26: =IF(AC17="X","X","") | E26: =IF(OR(Tableau55[[#This Row],[Colonne2]]="X",Tableau55[[#This Row],[Colonne3]]="X"),"","X") -> X | F26: =IF(Tableau55[[#This Row],[Colonne3]]="X","X","") | G26: =IF(Tableau55[[#This Row],[Colonne5]]="X","X","") | H26: =IF(Tableau55[[#This Row],[Colonne4]]="X","X","") -> X | I26: =IF(OR(Tableau55[[#This Row],[Colonne6]]="X",Tableau55[[#This Row],[Colonne7]]="X"),"","X") | J26: =IF(Tableau55[[#This Row],[Colonne7]]="X","X","") -> X | K26: =IF(Tableau55[[#This Row],[Colonne5]]="X","X","") | L26: =IF(Tableau55[[#This Row],[Colonne8]]="X","X","") | M26: =IF(OR(Tableau55[[#This Row],[Colonne10]]="X",Tableau55[[#This Row],[Colonne11]]="X"),"","X") -> X | N26: =IF(Tableau55[[#This Row],[Colonne11]]="X","X","") | O26: =IF(Tableau55[[#This Row],[Colonne13]]="X","X", "") | P26: =IF(Tableau55[[#This Row],[Colonne12]]="X","X","") -> X | Q26: =IF(OR(Tableau55[[#This Row],[Colonne14]]="X",Tableau55[[#This Row],[Colonne15]]="X"),"","X") | R26: =IF(Tableau55[[#This Row],[Colonne15]]="X","X","") -> X | S26: =IF(Tableau55[[#This Row],[Colonne9]]="X","X", "") -> X | T26: =IF(Tableau55[[#This Row],[Colonne16]]="X","X","") | U26: =IF(OR(Tableau55[[#This Row],[Colonne18]]="X",Tableau55[[#This Row],[Colonne19]]="X"),"","X") | V26: =IF(Tableau55[[#This Row],[Colonne19]]="X","X","") | W26: =IF(Tableau55[[#This Row],[Colonne5]]="X","X", "") | X26: =IF(Tableau55[[#This Row],[Colonne20]]="X","X","") | Y26: =IF(OR(Tableau55[[#This Row],[Colonne22]]="X",Tableau55[[#This Row],[Colonne23]]="X"),"","X") -> X | Z26: =IF(Tableau55[[#This Row],[Colonne23]]="X","X","") | AA26: =IF(Tableau55[[#This Row],[Colonne25]]="X","X", "") | AB26: =IF(Tableau55[[#This Row],[Colonne24]]="X","X","") -> X | AC26: =IF(OR(Tableau55[[#This Row],[Colonne26]]="X",Tableau55[[#This Row],[Colonne27]]="X"),"","X") | AD26: =IF(Tableau55[[#This Row],[Colonne27]]="X","X","") -> X
N29: ="Sémaine du "&TEXT(C30,"jj/mm")&" au "&TEXT(C30+6,"jj/mm aaaa") -> Sémaine du 22/01 au 28/01 2018
C30: =C21+7 -> 43122 | G30: =C30+1 -> 43123 | K30: =G30+1 -> 43124 | O30: =K30+1 -> 43125 | S30: =O30+1 -> 43126 | W30: =S30+1 -> 43127 | AA30: =W30+1 -> 43128
B31: H.dédut | C31: =C22 -> 0 | D31: =D22 -> 0.29166667 | E31: =E22 -> 0.54166667 | F31: =F22 -> 0.83333333 | G31: =G22 -> 0 | H31: =H22 -> 0.29166667 | I31: =I22 -> 0.54166667 | J31: =J22 -> 0.83333333 | ... AC31: =AC22 -> 0.54166667 | AD31: =Z31 -> 0.83333333
B32: H.fin | C32: =C23 -> 0.29166667 | D32: =D23 -> 0.54166667 | E32: =E23 -> 0.83333333 | F32: =F23 -> 1 | G32: =G23 -> 0.29166667 | H32: =H23 -> 0.54166667 | I32: =I23 -> 0.83333333 | J32: =J23 -> 1 | ... AC32: =AC23 -> 0.83333333 | AD32: =Z32 -> 1
B33: Agent1 | C33: =IF(AD24="X","X","") | D33: =IF(AC24="X","X","") | E33: =IF(OR(Tableau56[[#This Row],[Colonne2]]="X",Tableau56[[#This Row],[Colonne3]]="X"),"","X") -> X | F33: =IF(Tableau56[[#This Row],[Colonne3]]="X","X","") | G33: =IF(Tableau56[[#This Row],[Colonne5]]="X","X","") | H33: =IF(Tableau56[[#This Row],[Colonne4]]="X","X","") -> X | I33: =IF(OR(Tableau56[[#This Row],[Colonne6]]="X",Tableau56[[#This Row],[Colonne7]]="X"),"","X") | J33: =IF(Tableau56[[#This Row],[Colonne7]]="X","X","") -> X | K33: =IF(Tableau56[[#This Row],[Colonne5]]="X","X","") | L33: =IF(Tableau56[[#This Row],[Colonne8]]="X","X","") | M33: =IF(OR(Tableau56[[#This Row],[Colonne10]]="X",Tableau56[[#This Row],[Colonne11]]="X"),"","X") -> X | N33: =IF(Tableau56[[#This Row],[Colonne11]]="X","X","") | O33: =IF(Tableau56[[#This Row],[Colonne13]]="X","X", "") | P33: =IF(Tableau56[[#This Row],[Colonne12]]="X","X","") -> X | Q33: =IF(OR(Tableau56[[#This Row],[Colonne14]]="X",Tableau56[[#This Row],[Colonne15]]="X"),"","X") | R33: =IF(Tableau56[[#This Row],[Colonne15]]="X","X","") -> X | S33: =IF(Tableau56[[#This Row],[Colonne9]]="X","X", "") -> X | T33: =IF(Tableau56[[#This Row],[Colonne16]]="X","X","") | U33: =IF(OR(Tableau56[[#This Row],[Colonne18]]="X",Tableau56[[#This Row],[Colonne19]]="X"),"","X") | V33: =IF(Tableau56[[#This Row],[Colonne19]]="X","X","") | W33: =IF(Tableau56[[#This Row],[Colonne5]]="X","X", "") | X33: =IF(Tableau56[[#This Row],[Colonne20]]="X","X","") | Y33: =IF(OR(Tableau56[[#This Row],[Colonne22]]="X",Tableau56[[#This Row],[Colonne23]]="X"),"","X") -> X | Z33: =IF(Tableau56[[#This Row],[Colonne23]]="X","X","") | AA33: =IF(Tableau56[[#This Row],[Colonne25]]="X","X", "") | AB33: =IF(Tableau56[[#This Row],[Colonne24]]="X","X","") -> X | AC33: =IF(OR(Tableau56[[#This Row],[Colonne26]]="X",Tableau56[[#This Row],[Colonne27]]="X"),"","X") | AD33: =IF(Tableau56[[#This Row],[Colonne27]]="X","X","") -> X
B34: Agent2 | C34: =IF(AD25="X","X","") | D34: =IF(AC25="X","X","") -> X | E34: =IF(OR(Tableau56[[#This Row],[Colonne2]]="X",Tableau56[[#This Row],[Colonne3]]="X"),"","X") | F34: =IF(Tableau56[[#This Row],[Colonne3]]="X","X","") -> X | G34: =IF(Tableau56[[#This Row],[Colonne5]]="X","X","") -> X | H34: =IF(Tableau56[[#This Row],[Colonne4]]="X","X","") | I34: =IF(OR(Tableau56[[#This Row],[Colonne6]]="X",Tableau56[[#This Row],[Colonne7]]="X"),"","X") | J34: =IF(Tableau56[[#This Row],[Colonne7]]="X","X","") | K34: =IF(Tableau56[[#This Row],[Colonne5]]="X","X","") -> X | L34: =IF(Tableau56[[#This Row],[Colonne8]]="X","X","") | M34: =IF(OR(Tableau56[[#This Row],[Colonne10]]="X",Tableau56[[#This Row],[Colonne11]]="X"),"","X") | N34: =IF(Tableau56[[#This Row],[Colonne11]]="X","X","") | O34: =IF(Tableau56[[#This Row],[Colonne13]]="X","X", "") | P34: =IF(Tableau56[[#This Row],[Colonne12]]="X","X","") | Q34: =IF(OR(Tableau56[[#This Row],[Colonne14]]="X",Tableau56[[#This Row],[Colonne15]]="X"),"","X") -> X | R34: =IF(Tableau56[[#This Row],[Colonne15]]="X","X","") | S34: =IF(Tableau56[[#This Row],[Colonne9]]="X","X", "") | T34: =IF(Tableau56[[#This Row],[Colonne16]]="X","X","") -> X | U34: =IF(OR(Tableau56[[#This Row],[Colonne18]]="X",Tableau56[[#This Row],[Colonne19]]="X"),"","X") | V34: =IF(Tableau56[[#This Row],[Colonne19]]="X","X","") -> X | W34: =IF(Tableau56[[#This Row],[Colonne5]]="X","X", "") -> X | X34: =IF(Tableau56[[#This Row],[Colonne20]]="X","X","") | Y34: =IF(OR(Tableau56[[#This Row],[Colonne22]]="X",Tableau56[[#This Row],[Colonne23]]="X"),"","X") | Z34: =IF(Tableau56[[#This Row],[Colonne23]]="X","X","") | AA34: =IF(Tableau56[[#This Row],[Colonne25]]="X","X", "") | AB34: =IF(Tableau56[[#This Row],[Colonne24]]="X","X","") | AC34: =IF(OR(Tableau56[[#This Row],[Colonne26]]="X",Tableau56[[#This Row],[Colonne27]]="X"),"","X") -> X | AD34: =IF(Tableau56[[#This Row],[Colonne27]]="X","X","")
B35: Agent3 | C35: =IF(AD26="X","X","") -> X | D35: =IF(AC26="X","X","") | E35: =IF(OR(Tableau56[[#This Row],[Colonne2]]="X",Tableau56[[#This Row],[Colonne3]]="X"),"","X") | F35: =IF(Tableau56[[#This Row],[Colonne3]]="X","X","") | G35: =IF(Tableau56[[#This Row],[Colonne5]]="X","X","") | H35: =IF(Tableau56[[#This Row],[Colonne4]]="X","X","") | I35: =IF(OR(Tableau56[[#This Row],[Colonne6]]="X",Tableau56[[#This Row],[Colonne7]]="X"),"","X") -> X | J35: =IF(Tableau56[[#This Row],[Colonne7]]="X","X","") | K35: =IF(Tableau56[[#This Row],[Colonne5]]="X","X","") | L35: =IF(Tableau56[[#This Row],[Colonne8]]="X","X","") -> X | M35: =IF(OR(Tableau56[[#This Row],[Colonne10]]="X",Tableau56[[#This Row],[Colonne11]]="X"),"","X") | N35: =IF(Tableau56[[#This Row],[Colonne11]]="X","X","") -> X | O35: =IF(Tableau56[[#This Row],[Colonne13]]="X","X", "") -> X | P35: =IF(Tableau56[[#This Row],[Colonne12]]="X","X","") | Q35: =IF(OR(Tableau56[[#This Row],[Colonne14]]="X",Tableau56[[#This Row],[Colonne15]]="X"),"","X") | R35: =IF(Tableau56[[#This Row],[Colonne15]]="X","X","") | S35: =IF(Tableau56[[#This Row],[Colonne9]]="X","X", "") | T35: =IF(Tableau56[[#This Row],[Colonne16]]="X","X","") | U35: =IF(OR(Tableau56[[#This Row],[Colonne18]]="X",Tableau56[[#This Row],[Colonne19]]="X"),"","X") -> X | V35: =IF(Tableau56[[#This Row],[Colonne19]]="X","X","") | W35: =IF(Tableau56[[#This Row],[Colonne5]]="X","X", "") | X35: =IF(Tableau56[[#This Row],[Colonne20]]="X","X","") -> X | Y35: =IF(OR(Tableau56[[#This Row],[Colonne22]]="X",Tableau56[[#This Row],[Colonne23]]="X"),"","X") | Z35: =IF(Tableau56[[#This Row],[Colonne23]]="X","X","") -> X | AA35: =IF(Tableau56[[#This Row],[Colonne25]]="X","X", "") -> X | AB35: =IF(Tableau56[[#This Row],[Colonne24]]="X","X","") | AC35: =IF(OR(Tableau56[[#This Row],[Colonne26]]="X",Tableau56[[#This Row],[Colonne27]]="X"),"","X") | AD35: =IF(Tableau56[[#This Row],[Colonne27]]="X","X","")
N38: ="Sémaine du "&TEXT(C39,"jj/mm")&" au "&TEXT(C39+6,"jj/mm aaaa") -> Sémaine du 29/01 au 04/02 2018
C39: =C30+7 -> 43129 | G39: =C39+1 -> 43130 | K39: =G39+1 -> 43131 | O39: =K39+1 -> 43132 | S39: =O39+1 -> 43133 | W39: =S39+1 -> 43134 | AA39: =W39+1 -> 43135
B40: H.dédut | C40: =C31 -> 0 | D40: =D31 -> 0.29166667 | E40: =E31 -> 0.54166667 | F40: =F31 -> 0.83333333 | G40: =G31 -> 0 | H40: =H31 -> 0.29166667 | I40: =I31 -> 0.54166667 | J40: =J31 -> 0.83333333 | ... AC40: =AC31 -> 0.54166667 | AD40: =Z40 -> 0.83333333
B41: H.fin | C41: =C32 -> 0.29166667 | D41: =D32 -> 0.54166667 | E41: =E32 -> 0.83333333 | F41: =F32 -> 1 | G41: =G32 -> 0.29166667 | H41: =H32 -> 0.54166667 | I41: =I32 -> 0.83333333 | J41: =J32 -> 1 | ... AC41: =AC32 -> 0.83333333 | AD41: =Z41 -> 1
B42: Agent1 | C42: =IF(AD33="X","X","") -> X | D42: =IF(AC33="X","X","") | E42: =IF(OR(Tableau567[[#This Row],[Colonne2]]="X",Tableau567[[#This Row],[Colonne3]]="X"),"","X") | F42: =IF(Tableau567[[#This Row],[Colonne3]]="X","X","") | G42: =IF(Tableau567[[#This Row],[Colonne5]]="X","X","") | H42: =IF(Tableau567[[#This Row],[Colonne4]]="X","X","") | I42: =IF(OR(Tableau567[[#This Row],[Colonne6]]="X",Tableau567[[#This Row],[Colonne7]]="X"),"","X") -> X | J42: =IF(Tableau567[[#This Row],[Colonne7]]="X","X","") | K42: =IF(Tableau567[[#This Row],[Colonne5]]="X","X","") | L42: =IF(Tableau567[[#This Row],[Colonne8]]="X","X","") -> X | M42: =IF(OR(Tableau567[[#This Row],[Colonne10]]="X",Tableau567[[#This Row],[Colonne11]]="X"),"","X") | N42: =IF(Tableau567[[#This Row],[Colonne11]]="X","X","") -> X | O42: =IF(Tableau567[[#This Row],[Colonne13]]="X","X", "") -> X | P42: =IF(Tableau567[[#This Row],[Colonne12]]="X","X","") | Q42: =IF(OR(Tableau567[[#This Row],[Colonne14]]="X",Tableau567[[#This Row],[Colonne15]]="X"),"","X") | R42: =IF(Tableau567[[#This Row],[Colonne15]]="X","X","") | S42: =IF(Tableau567[[#This Row],[Colonne9]]="X","X", "") | T42: =IF(Tableau567[[#This Row],[Colonne16]]="X","X","") | U42: =IF(OR(Tableau567[[#This Row],[Colonne18]]="X",Tableau567[[#This Row],[Colonne19]]="X"),"","X") -> X | V42: =IF(Tableau567[[#This Row],[Colonne19]]="X","X","") | W42: =IF(Tableau567[[#This Row],[Colonne5]]="X","X", "") | X42: =IF(Tableau567[[#This Row],[Colonne20]]="X","X","") -> X | Y42: =IF(OR(Tableau567[[#This Row],[Colonne22]]="X",Tableau567[[#This Row],[Colonne23]]="X"),"","X") | Z42: =IF(Tableau567[[#This Row],[Colonne23]]="X","X","") -> X | AA42: =IF(Tableau567[[#This Row],[Colonne25]]="X","X", "") -> X | AB42: =IF(Tableau567[[#This Row],[Colonne24]]="X","X","") | AC42: =IF(OR(Tableau567[[#This Row],[Colonne26]]="X",Tableau567[[#This Row],[Colonne27]]="X"),"","X") | AD42: =IF(Tableau567[[#This Row],[Colonne27]]="X","X","")
B43: Agent2 | C43: =IF(AD34="X","X","") | D43: =IF(AC34="X","X","") -> X | E43: =IF(OR(Tableau567[[#This Row],[Colonne2]]="X",Tableau567[[#This Row],[Colonne3]]="X"),"","X") | F43: =IF(Tableau567[[#This Row],[Colonne3]]="X","X","") -> X | G43: =IF(Tableau567[[#This Row],[Colonne5]]="X","X","") -> X | H43: =IF(Tableau567[[#This Row],[Colonne4]]="X","X","") | I43: =IF(OR(Tableau567[[#This Row],[Colonne6]]="X",Tableau567[[#This Row],[Colonne7]]="X"),"","X") | J43: =IF(Tableau567[[#This Row],[Colonne7]]="X","X","") | K43: =IF(Tableau567[[#This Row],[Colonne5]]="X","X","") -> X | L43: =IF(Tableau567[[#This Row],[Colonne8]]="X","X","") | M43: =IF(OR(Tableau567[[#This Row],[Colonne10]]="X",Tableau567[[#This Row],[Colonne11]]="X"),"","X") | N43: =IF(Tableau567[[#This Row],[Colonne11]]="X","X","") | O43: =IF(Tableau567[[#This Row],[Colonne13]]="X","X", "") | P43: =IF(Tableau567[[#This Row],[Colonne12]]="X","X","") | Q43: =IF(OR(Tableau567[[#This Row],[Colonne14]]="X",Tableau567[[#This Row],[Colonne15]]="X"),"","X") -> X | R43: =IF(Tableau567[[#This Row],[Colonne15]]="X","X","") | S43: =IF(Tableau567[[#This Row],[Colonne9]]="X","X", "") | T43: =IF(Tableau567[[#This Row],[Colonne16]]="X","X","") -> X | U43: =IF(OR(Tableau567[[#This Row],[Colonne18]]="X",Tableau567[[#This Row],[Colonne19]]="X"),"","X") | V43: =IF(Tableau567[[#This Row],[Colonne19]]="X","X","") -> X | W43: =IF(Tableau567[[#This Row],[Colonne5]]="X","X", "") -> X | X43: =IF(Tableau567[[#This Row],[Colonne20]]="X","X","") | Y43: =IF(OR(Tableau567[[#This Row],[Colonne22]]="X",Tableau567[[#This Row],[Colonne23]]="X"),"","X") | Z43: =IF(Tableau567[[#This Row],[Colonne23]]="X","X","") | AA43: =IF(Tableau567[[#This Row],[Colonne25]]="X","X", "") | AB43: =IF(Tableau567[[#This Row],[Colonne24]]="X","X","") | AC43: =IF(OR(Tableau567[[#This Row],[Colonne26]]="X",Tableau567[[#This Row],[Colonne27]]="X"),"","X") -> X | AD43: =IF(Tableau567[[#This Row],[Colonne27]]="X","X","")
B44: Agent3 | C44: =IF(AD35="X","X","") | D44: =IF(AC35="X","X","") | E44: =IF(OR(Tableau567[[#This Row],[Colonne2]]="X",Tableau567[[#This Row],[Colonne3]]="X"),"","X") -> X | F44: =IF(Tableau567[[#This Row],[Colonne3]]="X","X","") | G44: =IF(Tableau567[[#This Row],[Colonne5]]="X","X","") | H44: =IF(Tableau567[[#This Row],[Colonne4]]="X","X","") -> X | I44: =IF(OR(Tableau567[[#This Row],[Colonne6]]="X",Tableau567[[#This Row],[Colonne7]]="X"),"","X") | J44: =IF(Tableau567[[#This Row],[Colonne7]]="X","X","") -> X | K44: =IF(Tableau567[[#This Row],[Colonne5]]="X","X","") | L44: =IF(Tableau567[[#This Row],[Colonne8]]="X","X","") | M44: =IF(OR(Tableau567[[#This Row],[Colonne10]]="X",Tableau567[[#This Row],[Colonne11]]="X"),"","X") -> X | N44: =IF(Tableau567[[#This Row],[Colonne11]]="X","X","") | O44: =IF(Tableau567[[#This Row],[Colonne13]]="X","X", "") | P44: =IF(Tableau567[[#This Row],[Colonne12]]="X","X","") -> X | Q44: =IF(OR(Tableau567[[#This Row],[Colonne14]]="X",Tableau567[[#This Row],[Colonne15]]="X"),"","X") | R44: =IF(Tableau567[[#This Row],[Colonne15]]="X","X","") -> X | S44: =IF(Tableau567[[#This Row],[Colonne9]]="X","X", "") -> X | T44: =IF(Tableau567[[#This Row],[Colonne16]]="X","X","") | U44: =IF(OR(Tableau567[[#This Row],[Colonne18]]="X",Tableau567[[#This Row],[Colonne19]]="X"),"","X") | V44: =IF(Tableau567[[#This Row],[Colonne19]]="X","X","") | W44: =IF(Tableau567[[#This Row],[Colonne5]]="X","X", "") | X44: =IF(Tableau567[[#This Row],[Colonne20]]="X","X","") | Y44: =IF(OR(Tableau567[[#This Row],[Colonne22]]="X",Tableau567[[#This Row],[Colonne23]]="X"),"","X") -> X | Z44: =IF(Tableau567[[#This Row],[Colonne23]]="X","X","") | AA44: =IF(Tableau567[[#This Row],[Colonne25]]="X","X", "") | AB44: =IF(Tableau567[[#This Row],[Colonne24]]="X","X","") -> X | AC44: =IF(OR(Tableau567[[#This Row],[Colonne26]]="X",Tableau567[[#This Row],[Colonne27]]="X"),"","X") | AD44: =IF(Tableau567[[#This Row],[Colonne27]]="X","X","") -> X

Sheet QUART cas roulement=4
K1: TABLEAU DE QUART | Y1: ='[1]MENU PRINCIPAL'!F2&'[1]MENU PRINCIPAL'!F3 -> Janvier2018
N2: ="Sémaine du "&TEXT(Y1,"jj/mm")&" au "&TEXT(C3+6,"jj/mm aaaa") -> Sémaine du 01/01 au 07/01 2018
C3: =Y1-WEEKDAY(Y1,2)+1 -> 43101 | G3: =C3+1 -> 43102 | K3: =G3+1 -> 43103 | O3: =K3+1 -> 43104 | S3: =O3+1 -> 43105 | W3: =S3+1 -> 43106 | AA3: =W3+1 -> 43107
B4: H.dédut | C4: =TOV!A2 -> 0 | D4: =TOV!B2 -> 0.29166667 | E4: =TOV!C3 -> 0.54166667 | F4: =TOV!D3 -> 0.83333333 | G4: =C4 -> 0 | H4: =D4 -> 0.29166667 | I4: =E4 -> 0.54166667 | J4: =F4 -> 0.83333333 | K4: =G4 -> 0 | L4: =H4 -> 0.29166667 | M4: =I4 -> 0.54166667 | N4: =J4 -> 0.83333333 | ... AD4: =Z4 -> 0.83333333
B5: H.fin | C5: =TOV!A4 -> 0.29166667 | D5: =TOV!B4 -> 0.54166667 | E5: =TOV!C4 -> 0.83333333 | F5: =TOV!E4 -> 1 | G5: =C5 -> 0.29166667 | H5: =D5 -> 0.54166667 | I5: =E5 -> 0.83333333 | J5: =F5 -> 1 | K5: =G5 -> 0.29166667 | L5: =H5 -> 0.54166667 | M5: =I5 -> 0.83333333 | N5: =J5 -> 1 | ... AD5: =Z5 -> 1
B6: Agent1 | C6: X | F6: =IF(Tableau59[[#This Row],[Colonne3]]="X","X","") | G6: =IF(Tableau59[[#This Row],[Colonne5]]="X","X","") | H6: =IF(Tableau59[[#This Row],[Colonne4]]="X","X","") | J6: =IF(Tableau59[[#This Row],[Colonne7]]="X","X","") | K6: =IF(Tableau59[[#This Row],[Colonne9]]="X","X","") | L6: =IF(Tableau59[[#This Row],[Colonne8]]="X","X","") | M6: X | N6: =IF(Tableau59[[#This Row],[Colonne11]]="X","X","") | O6: =IF(Tableau59[[#This Row],[Colonne13]]="X","X", "") | P6: =IF(Tableau59[[#This Row],[Colonne12]]="X","X","") -> X | R6: =IF(Tableau59[[#This Row],[Colonne15]]="X","X","") -> X | S6: =IF(Tableau59[[#This Row],[Colonne17]]="X","X", "") -> X | T6: =IF(Tableau59[[#This Row],[Colonne16]]="X","X","") | V6: =IF(Tableau59[[#This Row],[Colonne19]]="X","X","") | W6: =IF(Tableau59[[#This Row],[Colonne21]]="X","X", "") | X6: =IF(Tableau59[[#This Row],[Colonne20]]="X","X","") | Z6: =IF(Tableau59[[#This Row],[Colonne23]]="X","X","") | AA6: =IF(Tableau59[[#This Row],[Colonne25]]="X","X", "") | AB6: =IF(Tableau59[[#This Row],[Colonne24]]="X","X","") | AC6: X | AD6: =IF(Tableau59[[#This Row],[Colonne27]]="X","X","")
B7: Agent2 | D7: X | F7: =IF(Tableau59[[#This Row],[Colonne3]]="X","X","") -> X | G7: =IF(Tableau59[[#This Row],[Colonne5]]="X","X","") -> X | H7: =IF(Tableau59[[#This Row],[Colonne4]]="X","X","") | I7: =IF(OR(Tableau59[[#This Row],[Colonne6]]="X",Tableau59[[#This Row],[Colonne2]]="X"),"","X") | J7: =IF(Tableau59[[#This Row],[Colonne7]]="X","X","") | K7: =IF(Tableau59[[#This Row],[Colonne9]]="X","X","") | L7: =IF(Tableau59[[#This Row],[Colonne8]]="X","X","") | M7: =IF(OR(Tableau59[[#This Row],[Colonne6]]="X",Tableau59[[#This Row],[Colonne2]]="X"),"","X") | N7: =IF(Tableau59[[#This Row],[Colonne11]]="X","X","") | O7: =IF(Tableau59[[#This Row],[Colonne13]]="X","X", "") | P7: =IF(Tableau59[[#This Row],[Colonne12]]="X","X","") | Q7: =IF(AND((OR(Tableau59[[#This Row],[Colonne6]]="X",Tableau59[[#This Row],[Colonne10]]="X")),Tableau59[[#This Row],[Colonne15]]="X"),"","X") -> X | R7: =IF(Tableau59[[#This Row],[Colonne15]]="X","X","") | S7: =IF(Tableau59[[#This Row],[Colonne17]]="X","X", "") | T7: =IF(Tableau59[[#This Row],[Colonne16]]="X","X","") -> X | U7: =IF(OR(Tableau59[[#This Row],[Colonne18]]="X",Tableau59[[#This Row],[Colonne19]]="X"),"","X") | V7: =IF(Tableau59[[#This Row],[Colonne19]]="X","X","") -> X | W7: =IF(Tableau59[[#This Row],[Colonne21]]="X","X", "") -> X | X7: =IF(Tableau59[[#This Row],[Colonne20]]="X","X","") | Y7: =IF(OR(Tableau59[[#This Row],[Colonne22]]="X",Tableau59[[#This Row],[Colonne18]]="X"),"","X") | Z7: =IF(Tableau59[[#This Row],[Colonne23]]="X","X","") | AA7: =IF(Tableau59[[#This Row],[Colonne25]]="X","X", "") | AB7: =IF(Tableau59[[#This Row],[Colonne24]]="X","X","") | AC7: =IF(OR(Tableau59[[#This Row],[Colonne26]]="X",Tableau59[[#This Row],[Colonne22]]="X"),"","X") | AD7: =IF(Tableau59[[#This Row],[Colonne27]]="X","X","")
B8: Agent3 | E8: X | F8: =IF(Tableau59[[#This Row],[Colonne3]]="X","X","") | G8: =IF(Tableau59[[#This Row],[Colonne5]]="X","X","") | H8: =IF(Tableau59[[#This Row],[Colonne4]]="X","X","") -> X | J8: =IF(Tableau59[[#This Row],[Colonne7]]="X","X","") -> X | K8: =IF(Tableau59[[#This Row],[Colonne9]]="X","X","") -> X | L8: =IF(Tableau59[[#This Row],[Colonne8]]="X","X","") | N8: =IF(Tableau59[[#This Row],[Colonne11]]="X","X","") | O8: =IF(Tableau59[[#This Row],[Colonne13]]="X","X", "") | P8: =IF(Tableau59[[#This Row],[Colonne12]]="X","X","") | R8: =IF(Tableau59[[#This Row],[Colonne15]]="X","X","") | S8: =IF(Tableau59[[#This Row],[Colonne17]]="X","X", "") | T8: =IF(Tableau59[[#This Row],[Colonne16]]="X","X","") | U8: =IF(OR(Tableau59[[#This Row],[Colonne18]]="X",Tableau59[[#This Row],[Colonne19]]="X"),"","X") -> X | V8: =IF(Tableau59[[#This Row],[Colonne19]]="X","X","") | W8: =IF(Tableau59[[#This Row],[Colonne21]]="X","X", "") | X8: =IF(Tableau59[[#This Row],[Colonne20]]="X","X","") -> X | Z8: =IF(Tableau59[[#This Row],[Colonne23]]="X","X","") -> X | AA8: =IF(Tableau59[[#This Row],[Colonne25]]="X","X", "") -> X | AB8: =IF(Tableau59[[#This Row],[Colonne24]]="X","X","") | AC8: =IF(OR(Tableau59[[#This Row],[Colonne26]]="X",Tableau59[[#This Row],[Colonne22]]="X"),"","X") | AD8: =IF(Tableau59[[#This Row],[Colonne27]]="X","X","")
B9: Agent4 | F9: =IF(Tableau59[[#This Row],[Colonne3]]="X","X","") | G9: =IF(Tableau59[[#This Row],[Colonne5]]="X","X","") | H9: =IF(Tableau59[[#This Row],[Colonne4]]="X","X","") | I9: =IF(OR(Tableau59[[#This Row],[Colonne6]]="X",Tableau59[[#This Row],[Colonne2]]="X"),"","X") -> X | J9: =IF(Tableau59[[#This Row],[Colonne7]]="X","X","") | K9: =IF(Tableau59[[#This Row],[Colonne9]]="X","X","") | L9: =IF(Tableau59[[#This Row],[Colonne8]]="X","X","") -> X | N9: =IF(Tableau59[[#This Row],[Colonne11]]="X","X","") -> X | O9: =IF(Tableau59[[#This Row],[Colonne13]]="X","X", "") -> X | P9: =IF(Tableau59[[#This Row],[Colonne12]]="X","X","") | R9: =IF(Tableau59[[#This Row],[Colonne15]]="X","X","") | S9: =IF(Tableau59[[#This Row],[Colonne17]]="X","X", "") | T9: =IF(Tableau59[[#This Row],[Colonne16]]="X","X","") | V9: =IF(Tableau59[[#This Row],[Colonne19]]="X","X","") | W9: =IF(Tableau59[[#This Row],[Colonne21]]="X","X", "") | X9: =IF(Tableau59[[#This Row],[Colonne20]]="X","X","") | Y9: =IF(OR(Tableau59[[#This Row],[Colonne22]]="X",Tableau59[[#This Row],[Colonne18]]="X"),"","X") -> X | Z9: =IF(Tableau59[[#This Row],[Colonne23]]="X","X","") | AA9: =IF(Tableau59[[#This Row],[Colonne25]]="X","X", "") | AB9: =IF(Tableau59[[#This Row],[Colonne24]]="X","X","") -> X | AD9: =IF(Tableau59[[#This Row],[Colonne27]]="X","X","") -> X
N12: ="Sémaine du "&TEXT(C13,"jj/mm")&" au "&TEXT(C13+6,"jj/mm aaaa") -> Sémaine du 08/01 au 14/01 2018
C13: =C3+7 -> 43108 | G13: =C13+1 -> 43109 | K13: =G13+1 -> 43110 | O13: =K13+1 -> 43111 | S13: =O13+1 -> 43112 | W13: =S13+1 -> 43113 | AA13: =W13+1 -> 43114
B14: H.dédut | C14: =C4 -> 0 | D14: =D4 -> 0.29166667 | E14: =E4 -> 0.54166667 | F14: =F4 -> 0.83333333 | G14: =G4 -> 0 | H14: =H4 -> 0.29166667 | I14: =I4 -> 0.54166667 | J14: =J4 -> 0.83333333 | ... AC14: =AC4 -> 0.54166667 | AD14: =Z14 -> 0.83333333
B15: H.fin | C15: =C5 -> 0.29166667 | D15: =D5 -> 0.54166667 | E15: =E5 -> 0.83333333 | F15: =F5 -> 1 | G15: =G5 -> 0.29166667 | H15: =H5 -> 0.54166667 | I15: =I5 -> 0.83333333 | J15: =J5 -> 1 | ... AC15: =AC5 -> 0.83333333 | AD15: =Z15 -> 1
B16: Agent1 | C16: =IF(AD6="X","X","") | D16: =IF(AC6="X","X","") -> X | F16: =IF(Tableau5410[[#This Row],[Colonne3]]="X","X","") -> X | G16: =IF(Tableau5410[[#This Row],[Colonne5]]="X","X","") -> X | H16: =IF(Tableau5410[[#This Row],[Colonne4]]="X","X","") | J16: =IF(Tableau5410[[#This Row],[Colonne7]]="X","X","") | K16: =IF(Tableau5410[[#This Row],[Colonne9]]="X","X","") | L16: =IF(Tableau5410[[#This Row],[Colonne8]]="X","X","") | N16: =IF(Tableau5410[[#This Row],[Colonne11]]="X","X","") | O16: =IF(Tableau5410[[#This Row],[Colonne13]]="X","X", "") | P16: =IF(Tableau5410[[#This Row],[Colonne12]]="X","X","") | Q16: X | R16: =IF(Tableau5410[[#This Row],[Colonne15]]="X","X","") | S16: =IF(Tableau5410[[#This Row],[Colonne17]]="X","X", "") | T16: =IF(Tableau5410[[#This Row],[Colonne16]]="X","X","") -> X | V16: =IF(Tableau5410[[#This Row],[Colonne19]]="X","X","") -> X | W16: =IF(Tableau5410[[#This Row],[Colonne5]]="X","X", "") -> X | X16: =IF(Tableau5410[[#This Row],[Colonne20]]="X","X","") | Z16: =IF(Tableau5410[[#This Row],[Colonne23]]="X","X","") | AA16: =IF(Tableau5410[[#This Row],[Colonne25]]="X","X", "") | AB16: =IF(Tableau5410[[#This Row],[Colonne24]]="X","X","") | AD16: =IF(Tableau5410[[#This Row],[Colonne27]]="X","X","")
B17: Agent2 | C17: =IF(AD7="X","X","") | D17: =IF(AC7="X","X","") | E17: =IF(OR(Tableau5410[[#This Row],[Colonne2]]="X",Tableau5410[[#This Row],[Colonne3]]="X"),"","X") -> X | F17: =IF(Tableau5410[[#This Row],[Colonne3]]="X","X","") | G17: =IF(Tableau5410[[#This Row],[Colonne5]]="X","X","") | H17: =IF(Tableau5410[[#This Row],[Colonne4]]="X","X","") -> X | I17: =IF(OR(Tableau5410[[#This Row],[Colonne6]]="X",Tableau5410[[#This Row],[Colonne7]]="X"),"","X") | J17: =IF(Tableau5410[[#This Row],[Colonne7]]="X","X","") -> X | K17: =IF(Tableau5410[[#This Row],[Colonne9]]="X","X","") -> X | L17: =IF(Tableau5410[[#This Row],[Colonne8]]="X","X","") | M17: =IF(OR(Tableau5410[[#This Row],[Colonne10]]="X",Tableau5410[[#This Row],[Colonne11]]="X"),"","X") | N17: =IF(Tableau5410[[#This Row],[Colonne11]]="X","X","") | O17: =IF(Tableau5410[[#This Row],[Colonne13]]="X","X", "") | P17: =IF(Tableau5410[[#This Row],[Colonne12]]="X","X","") | R17: =IF(Tableau5410[[#This Row],[Colonne15]]="X","X","") | S17: =IF(Tableau5410[[#This Row],[Colonne17]]="X","X", "") | T17: =IF(Tableau5410[[#This Row],[Colonne16]]="X","X","") | U17: =IF(OR(Tableau5410[[#This Row],[Colonne18]]="X",Tableau5410[[#This Row],[Colonne19]]="X"),"","X") -> X | V17: =IF(Tableau5410[[#This Row],[Colonne19]]="X","X","") | W17: =IF(Tableau5410[[#This Row],[Colonne5]]="X","X", "") | X17: =IF(Tableau5410[[#This Row],[Colonne20]]="X","X","") -> X | Y17: =IF(OR(Tableau5410[[#This Row],[Colonne22]]="X",Tableau5410[[#This Row],[Colonne23]]="X"),"","X") | Z17: =IF(Tableau5410[[#This Row],[Colonne23]]="X","X","") -> X | AA17: =IF(Tableau5410[[#This Row],[Colonne25]]="X","X", "") -> X | AB17: =IF(Tableau5410[[#This Row],[Colonne24]]="X","X","") | AC17: =IF(OR(Tableau5410[[#This Row],[Colonne26]]="X",Tableau5410[[#This Row],[Colonne27]]="X"),"","X") | AD17: =IF(Tableau5410[[#This Row],[Colonne27]]="X","X","")
B18: Agent3 | C18: =IF(AD8="X","X","") | D18: =IF(AC8="X","X","") | F18: =IF(Tableau5410[[#This Row],[Colonne3]]="X","X","") | G18: =IF(Tableau5410[[#This Row],[Colonne5]]="X","X","") | H18: =IF(Tableau5410[[#This Row],[Colonne4]]="X","X","") | I18: =IF(OR(Tableau5410[[#This Row],[Colonne6]]="X",Tableau5410[[#This Row],[Colonne7]]="X"),"","X") -> X | J18: =IF(Tableau5410[[#This Row],[Colonne7]]="X","X","") | K18: =IF(Tableau5410[[#This Row],[Colonne9]]="X","X","") | L18: =IF(Tableau5410[[#This Row],[Colonne8]]="X","X","") -> X | M18: =IF(OR(Tableau5410[[#This Row],[Colonne10]]="X",Tableau5410[[#This Row],[Colonne11]]="X"),"","X") | N18: =IF(Tableau5410[[#This Row],[Colonne11]]="X","X","") -> X | O18: =IF(Tableau5410[[#This Row],[Colonne13]]="X","X", "") -> X | P18: =IF(Tableau5410[[#This Row],[Colonne12]]="X","X","") | Q18: =IF(OR(Tableau5410[[#This Row],[Colonne14]]="X",Tableau5410[[#This Row],[Colonne15]]="X"),"","X") | R18: =IF(Tableau5410[[#This Row],[Colonne15]]="X","X","") | S18: =IF(Tableau5410[[#This Row],[Colonne17]]="X","X", "") | T18: =IF(Tableau5410[[#This Row],[Colonne16]]="X","X","") | V18: =IF(Tableau5410[[#This Row],[Colonne19]]="X","X","") | W18: =IF(Tableau5410[[#This Row],[Colonne5]]="X","X", "") | X18: =IF(Tableau5410[[#This Row],[Colonne20]]="X","X","") | Y18: =IF(OR(Tableau5410[[#This Row],[Colonne22]]="X",Tableau5410[[#This Row],[Colonne23]]="X"),"","X") -> X | Z18: =IF(Tableau5410[[#This Row],[Colonne23]]="X","X","") | AA18: =IF(Tableau5410[[#This Row],[Colonne25]]="X","X", "") | AB18: =IF(Tableau5410[[#This Row],[Colonne24]]="X","X","") -> X | AC18: =IF(OR(Tableau5410[[#This Row],[Colonne26]]="X",Tableau5410[[#This Row],[Colonne27]]="X"),"","X") | AD18: =IF(Tableau5410[[#This Row],[Colonne27]]="X","X","") -> X
B19: Agent4 | C19: =IF(AD9="X","X","") -> X | D19: =IF(AC9="X","X","") | E19: =IF(OR(Tableau5410[[#This Row],[Colonne2]]="X",Tableau5410[[#This Row],[Colonne3]]="X"),"","X") | F19: =IF(Tableau5410[[#This Row],[Colonne3]]="X","X","") | G19: =IF(Tableau5410[[#This Row],[Colonne5]]="X","X","") | H19: =IF(Tableau5410[[#This Row],[Colonne4]]="X","X","") | J19: =IF(Tableau5410[[#This Row],[Colonne7]]="X","X","") | K19: =IF(Tableau5410[[#This Row],[Colonne9]]="X","X","") | L19: =IF(Tableau5410[[#This Row],[Colonne8]]="X","X","") | M19: =IF(OR(Tableau5410[[#This Row],[Colonne10]]="X",Tableau5410[[#This Row],[Colonne11]]="X"),"","X") -> X | N19: =IF(Tableau5410[[#This Row],[Colonne11]]="X","X","") | O19: =IF(Tableau5410[[#This Row],[Colonne13]]="X","X", "") | P19: =IF(Tableau5410[[#This Row],[Colonne12]]="X","X","") -> X | Q19: =IF(OR(Tableau5410[[#This Row],[Colonne14]]="X",Tableau5410[[#This Row],[Colonne15]]="X"),"","X") | R19: =IF(Tableau5410[[#This Row],[Colonne15]]="X","X","") -> X | S19: =IF(Tableau5410[[#This Row],[Colonne17]]="X","X", "") -> X | T19: =IF(Tableau5410[[#This Row],[Colonne16]]="X","X","") | U19: =IF(OR(Tableau5410[[#This Row],[Colonne18]]="X",Tableau5410[[#This Row],[Colonne19]]="X"),"","X") | V19: =IF(Tableau5410[[#This Row],[Colonne19]]="X","X","") | W19: =IF(Tableau5410[[#This Row],[Colonne5]]="X","X", "") | X19: =IF(Tableau5410[[#This Row],[Colonne20]]="X","X","") | Z19: =IF(Tableau5410[[#This Row],[Colonne23]]="X","X","") | AA19: =IF(Tableau5410[[#This Row],[Colonne25]]="X","X", "") | AB19: =IF(Tableau5410[[#This Row],[Colonne24]]="X","X","") | AC19: =IF(OR(Tableau5410[[#This Row],[Colonne26]]="X",Tableau5410[[#This Row],[Colonne27]]="X"),"","X") -> X | AD19: =IF(Tableau5410[[#This Row],[Colonne27]]="X","X","")
N21: ="Sémaine du "&TEXT(C22,"jj/mm")&" au "&TEXT(C22+6,"jj/mm aaaa") -> Sémaine du 15/01 au 21/01 2018
C22: =C13+7 -> 43115 | G22: =C22+1 -> 43116 | K22: =G22+1 -> 43117 | O22: =K22+1 -> 43118 | S22: =O22+1 -> 43119 | W22: =S22+1 -> 43120 | AA22: =W22+1 -> 43121
B23: H.dédut | C23: =C14 -> 0 | D23: =D14 -> 0.29166667 | E23: =E14 -> 0.54166667 | F23: =F14 -> 0.83333333 | G23: =G14 -> 0 | H23: =H14 -> 0.29166667 | I23: =I14 -> 0.54166667 | J23: =J14 -> 0.83333333 | ... AC23: =AC14 -> 0.54166667 | AD23: =Z23 -> 0.83333333
B24: H.fin | C24: =C15 -> 0.29166667 | D24: =D15 -> 0.54166667 | E24: =E15 -> 0.83333333 | F24: =F15 -> 1 | G24: =G15 -> 0.29166667 | H24: =H15 -> 0.54166667 | I24: =I15 -> 0.83333333 | J24: =J15 -> 1 | ... AC24: =AC15 -> 0.83333333 | AD24: =Z24 -> 1
B25: Agent1 | C25: =IF(AD16="X","X","") | D25: =IF(AC16="X","X","") | E25: X | F25: =IF(Tableau5511[[#This Row],[Colonne3]]="X","X","") | G25: =IF(Tableau5511[[#This Row],[Colonne5]]="X","X","") | H25: =IF(Tableau5511[[#This Row],[Colonne4]]="X","X","") -> X | J25: =IF(Tableau5511[[#This Row],[Colonne7]]="X","X","") -> X | K25: =IF(Tableau5511[[#This Row],[Colonne9]]="X","X","") -> X | L25: =IF(Tableau5511[[#This Row],[Colonne8]]="X","X","") | N25: =IF(Tableau5511[[#This Row],[Colonne11]]="X","X","") | O25: =IF(Tableau5511[[#This Row],[Colonne13]]="X","X", "") | P25: =IF(Tableau5511[[#This Row],[Colonne12]]="X","X","") | R25: =IF(Tableau5511[[#This Row],[Colonne15]]="X","X","") | S25: =IF(Tableau5511[[#This Row],[Colonne17]]="X","X", "") | T25: =IF(Tableau5511[[#This Row],[Colonne16]]="X","X","") | U25: X | V25: =IF(Tableau5511[[#This Row],[Colonne19]]="X","X","") | W25: =IF(Tableau5511[[#This Row],[Colonne5]]="X","X", "") | X25: =IF(Tableau5511[[#This Row],[Colonne20]]="X","X","") -> X | Z25: =IF(Tableau5511[[#This Row],[Colonne23]]="X","X","") -> X | AA25: =IF(Tableau5511[[#This Row],[Colonne25]]="X","X", "") -> X | AB25: =IF(Tableau5511[[#This Row],[Colonne24]]="X","X","") | AD25: =IF(Tableau5511[[#This Row],[Colonne27]]="X","X","")
B26: Agent2 | C26: =IF(AD17="X","X","") | D26: =IF(AC17="X","X","") | F26: =IF(Tableau5511[[#This Row],[Colonne3]]="X","X","") | G26: =IF(Tableau5511[[#This Row],[Colonne5]]="X","X","") | H26: =IF(Tableau5511[[#This Row],[Colonne4]]="X","X","") | I26: =IF(OR(Tableau5511[[#This Row],[Colonne6]]="X",Tableau5511[[#This Row],[Colonne7]]="X"),"","X") -> X | J26: =IF(Tableau5511[[#This Row],[Colonne7]]="X","X","") | K26: =IF(Tableau5511[[#This Row],[Colonne9]]="X","X","") | L26: =IF(Tableau5511[[#This Row],[Colonne8]]="X","X","") -> X | M26: =IF(OR(Tableau5511[[#This Row],[Colonne10]]="X",Tableau5511[[#This Row],[Colonne11]]="X"),"","X") | N26: =IF(Tableau5511[[#This Row],[Colonne11]]="X","X","") -> X | O26: =IF(Tableau5511[[#This Row],[Colonne13]]="X","X", "") -> X | P26: =IF(Tableau5511[[#This Row],[Colonne12]]="X","X","") | Q26: =IF(OR(Tableau5511[[#This Row],[Colonne14]]="X",Tableau5511[[#This Row],[Colonne15]]="X"),"","X") | R26: =IF(Tableau5511[[#This Row],[Colonne15]]="X","X","") | S26: =IF(Tableau5511[[#This Row],[Colonne17]]="X","X", "") | T26: =IF(Tableau5511[[#This Row],[Colonne16]]="X","X","") | V26: =IF(Tableau5511[[#This Row],[Colonne19]]="X","X","") | W26: =IF(Tableau5511[[#This Row],[Colonne5]]="X","X", "") | X26: =IF(Tableau5511[[#This Row],[Colonne20]]="X","X","") | Y26: =IF(OR(Tableau5511[[#This Row],[Colonne22]]="X",Tableau5511[[#This Row],[Colonne23]]="X"),"","X") -> X | Z26: =IF(Tableau5511[[#This Row],[Colonne23]]="X","X","") | AA26: =IF(Tableau5511[[#This Row],[Colonne25]]="X","X", "") | AB26: =IF(Tableau5511[[#This Row],[Colonne24]]="X","X","") -> X | AC26: =IF(OR(Tableau5511[[#This Row],[Colonne26]]="X",Tableau5511[[#This Row],[Colonne27]]="X"),"","X") | AD26: =IF(Tableau5511[[#This Row],[Colonne27]]="X","X","") -> X
B27: Agent3 | C27: =IF(AD18="X","X","") -> X | D27: =IF(AC18="X","X","") | E27: =IF(OR(Tableau5511[[#This Row],[Colonne2]]="X",Tableau5511[[#This Row],[Colonne3]]="X"),"","X") | F27: =IF(Tableau5511[[#This Row],[Colonne3]]="X","X","") | G27: =IF(Tableau5511[[#This Row],[Colonne5]]="X","X","") | H27: =IF(Tableau5511[[#This Row],[Colonne4]]="X","X","") | J27: =IF(Tableau5511[[#This Row],[Colonne7]]="X","X","") | K27: =IF(Tableau5511[[#This Row],[Colonne9]]="X","X","") | L27: =IF(Tableau5511[[#This Row],[Colonne8]]="X","X","") | M27: =IF(OR(Tableau5511[[#This Row],[Colonne10]]="X",Tableau5511[[#This Row],[Colonne11]]="X"),"","X") -> X | N27: =IF(Tableau5511[[#This Row],[Colonne11]]="X","X","") | O27: =IF(Tableau5511[[#This Row],[Colonne13]]="X","X", "") | P27: =IF(Tableau5511[[#This Row],[Colonne12]]="X","X","") -> X | Q27: =IF(OR(Tableau5511[[#This Row],[Colonne14]]="X",Tableau5511[[#This Row],[Colonne15]]="X"),"","X") | R27: =IF(Tableau5511[[#This Row],[Colonne15]]="X","X","") -> X | S27: =IF(Tableau5511[[#This Row],[Colonne17]]="X","X", "") -> X | T27: =IF(Tableau5511[[#This Row],[Colonne16]]="X","X","") | U27: =IF(OR(Tableau5511[[#This Row],[Colonne18]]="X",Tableau5511[[#This Row],[Colonne19]]="X"),"","X") | V27: =IF(Tableau5511[[#This Row],[Colonne19]]="X","X","") | W27: =IF(Tableau5511[[#This Row],[Colonne5]]="X","X", "") | X27: =IF(Tableau5511[[#This Row],[Colonne20]]="X","X","") | Z27: =IF(Tableau5511[[#This Row],[Colonne23]]="X","X","") | AA27: =IF(Tableau5511[[#This Row],[Colonne25]]="X","X", "") | AB27: =IF(Tableau5511[[#This Row],[Colonne24]]="X","X","") | AC27: =IF(OR(Tableau5511[[#This Row],[Colonne26]]="X",Tableau5511[[#This Row],[Colonne27]]="X"),"","X") -> X | AD27: =IF(Tableau5511[[#This Row],[Colonne27]]="X","X","")
B28: Agent4 | C28: =IF(AD19="X","X","") | D28: =IF(AC19="X","X","") -> X | E28: =IF(OR(Tableau5511[[#This Row],[Colonne2]]="X",Tableau5511[[#This Row],[Colonne3]]="X"),"","X") | F28: =IF(Tableau5511[[#This Row],[Colonne3]]="X","X","") -> X | G28: =IF(Tableau5511[[#This Row],[Colonne5]]="X","X","") -> X | H28: =IF(Tableau5511[[#This Row],[Colonne4]]="X","X","") | I28: =IF(OR(Tableau5511[[#This Row],[Colonne6]]="X",Tableau5511[[#This Row],[Colonne7]]="X"),"","X") | J28: =IF(Tableau5511[[#This Row],[Colonne7]]="X","X","") | K28: =IF(Tableau5511[[#This Row],[Colonne9]]="X","X","") | L28: =IF(Tableau5511[[#This Row],[Colonne8]]="X","X","") | N28: =IF(Tableau5511[[#This Row],[Colonne11]]="X","X","") | O28: =IF(Tableau5511[[#This Row],[Colonne13]]="X","X", "") | P28: =IF(Tableau5511[[#This Row],[Colonne12]]="X","X","") | Q28: =IF(OR(Tableau5511[[#This Row],[Colonne14]]="X",Tableau5511[[#This Row],[Colonne15]]="X"),"","X") -> X | R28: =IF(Tableau5511[[#This Row],[Colonne15]]="X","X","") | S28: =IF(Tableau5511[[#This Row],[Colonne17]]="X","X", "") | T28: =IF(Tableau5511[[#This Row],[Colonne16]]="X","X","") -> X | U28: =IF(OR(Tableau5511[[#This Row],[Colonne18]]="X",Tableau5511[[#This Row],[Colonne19]]="X"),"","X") | V28: =IF(Tableau5511[[#This Row],[Colonne19]]="X","X","") -> X | W28: =IF(Tableau5511[[#This Row],[Colonne5]]="X","X", "") -> X | X28: =IF(Tableau5511[[#This Row],[Colonne20]]="X","X","") | Y28: =IF(OR(Tableau5511[[#This Row],[Colonne22]]="X",Tableau5511[[#This Row],[Colonne23]]="X"),"","X") | Z28: =IF(Tableau5511[[#This Row],[Colonne23]]="X","X","") | AA28: =IF(Tableau5511[[#This Row],[Colonne25]]="X","X", "") | AB28: =IF(Tableau5511[[#This Row],[Colonne24]]="X","X","") | AD28: =IF(Tableau5511[[#This Row],[Colonne27]]="X","X","")
N30: ="Sémaine du "&TEXT(C31,"jj/mm")&" au "&TEXT(C31+6,"jj/mm aaaa") -> Sémaine du 22/01 au 28/01 2018
C31: =C22+7 -> 43122 | G31: =C31+1 -> 43123 | K31: =G31+1 -> 43124 | O31: =K31+1 -> 43125 | S31: =O31+1 -> 43126 | W31: =S31+1 -> 43127 | AA31: =W31+1 -> 43128
B32: H.dédut | C32: =C23 -> 0 | D32: =D23 -> 0.29166667 | E32: =E23 -> 0.54166667 | F32: =F23 -> 0.83333333 | G32: =G23 -> 0 | H32: =H23 -> 0.29166667 | I32: =I23 -> 0.54166667 | J32: =J23 -> 0.83333333 | ... AC32: =AC23 -> 0.54166667 | AD32: =Z32 -> 0.83333333
B33: H.fin | C33: =C24 -> 0.29166667 | D33: =D24 -> 0.54166667 | E33: =E24 -> 0.83333333 | F33: =F24 -> 1 | G33: =G24 -> 0.29166667 | H33: =H24 -> 0.54166667 | I33: =I24 -> 0.83333333 | J33: =J24 -> 1 | ... AC33: =AC24 -> 0.83333333 | AD33: =Z33 -> 1
B34: Agent1 | C34: =IF(AD25="X","X","") | D34: =IF(AC25="X","X","") | F34: =IF(Tableau5612[[#This Row],[Colonne3]]="X","X","") | G34: =IF(Tableau5612[[#This Row],[Colonne5]]="X","X","") | H34: =IF(Tableau5612[[#This Row],[Colonne4]]="X","X","") | I34: X | J34: =IF(Tableau5612[[#This Row],[Colonne7]]="X","X","") | K34: =IF(Tableau5612[[#This Row],[Colonne9]]="X","X","") | L34: =IF(Tableau5612[[#This Row],[Colonne8]]="X","X","") -> X | N34: =IF(Tableau5612[[#This Row],[Colonne11]]="X","X","") -> X | O34: =IF(Tableau5612[[#This Row],[Colonne13]]="X","X", "") -> X | P34: =IF(Tableau5612[[#This Row],[Colonne12]]="X","X","") | R34: =IF(Tableau5612[[#This Row],[Colonne15]]="X","X","") | S34: =IF(Tableau5612[[#This Row],[Colonne17]]="X","X", "") | T34: =IF(Tableau5612[[#This Row],[Colonne16]]="X","X","") | V34: =IF(Tableau5612[[#This Row],[Colonne19]]="X","X","") | W34: =IF(Tableau5612[[#This Row],[Colonne5]]="X","X", "") | X34: =IF(Tableau5612[[#This Row],[Colonne20]]="X","X","") | Z34: =IF(Tableau5612[[#This Row],[Colonne23]]="X","X","") | AA34: =IF(Tableau5612[[#This Row],[Colonne25]]="X","X", "") | AB34: =IF(Tableau5612[[#This Row],[Colonne24]]="X","X","") | AC34: X | AD34: =IF(Tableau5612[[#This Row],[Colonne27]]="X","X","")
B35: Agent2 | C35: =IF(AD26="X","X","") -> X | D35: =IF(AC26="X","X","") | E35: =IF(OR(Tableau5612[[#This Row],[Colonne2]]="X",Tableau5612[[#This Row],[Colonne3]]="X"),"","X") | F35: =IF(Tableau5612[[#This Row],[Colonne3]]="X","X","") | G35: =IF(Tableau5612[[#This Row],[Colonne5]]="X","X","") | H35: =IF(Tableau5612[[#This Row],[Colonne4]]="X","X","") | J35: =IF(Tableau5612[[#This Row],[Colonne7]]="X","X","") | K35: =IF(Tableau5612[[#This Row],[Colonne9]]="X","X","") | L35: =IF(Tableau5612[[#This Row],[Colonne8]]="X","X","") | M35: =IF(OR(Tableau5612[[#This Row],[Colonne10]]="X",Tableau5612[[#This Row],[Colonne11]]="X"),"","X") -> X | N35: =IF(Tableau5612[[#This Row],[Colonne11]]="X","X","") | O35: =IF(Tableau5612[[#This Row],[Colonne13]]="X","X", "") | P35: =IF(Tableau5612[[#This Row],[Colonne12]]="X","X","") -> X | Q35: =IF(OR(Tableau5612[[#This Row],[Colonne14]]="X",Tableau5612[[#This Row],[Colonne15]]="X"),"","X") | R35: =IF(Tableau5612[[#This Row],[Colonne15]]="X","X","") -> X | S35: =IF(Tableau5612[[#This Row],[Colonne17]]="X","X", "") -> X | T35: =IF(Tableau5612[[#This Row],[Colonne16]]="X","X","") | U35: =IF(OR(Tableau5612[[#This Row],[Colonne18]]="X",Tableau5612[[#This Row],[Colonne19]]="X"),"","X") | V35: =IF(Tableau5612[[#This Row],[Colonne19]]="X","X","") | W35: =IF(Tableau5612[[#This Row],[Colonne5]]="X","X", "") | X35: =IF(Tableau5612[[#This Row],[Colonne20]]="X","X","") | Y35: =IF(OR(Tableau5612[[#This Row],[Colonne22]]="X",Tableau5612[[#This Row],[Colonne23]]="X"),"","X") -> X | Z35: =IF(Tableau5612[[#This Row],[Colonne23]]="X","X","") | AA35: =IF(Tableau5612[[#This Row],[Colonne25]]="X","X", "") | AB35: =IF(Tableau5612[[#This Row],[Colonne24]]="X","X","") -> X | AC35: =IF(OR(Tableau5612[[#This Row],[Colonne26]]="X",Tableau5612[[#This Row],[Colonne27]]="X"),"","X") | AD35: =IF(Tableau5612[[#This Row],[Colonne27]]="X","X","") -> X
B36: Agent3 | C36: =IF(AD27="X","X","") | D36: =IF(AC27="X","X","") -> X | E36: =IF(OR(Tableau5612[[#This Row],[Colonne2]]="X",Tableau5612[[#This Row],[Colonne3]]="X"),"","X") | F36: =IF(Tableau5612[[#This Row],[Colonne3]]="X","X","") -> X | G36: =IF(Tableau5612[[#This Row],[Colonne5]]="X","X","") -> X | H36: =IF(Tableau5612[[#This Row],[Colonne4]]="X","X","") | I36: =IF(OR(Tableau5612[[#This Row],[Colonne6]]="X",Tableau5612[[#This Row],[Colonne7]]="X"),"","X") | J36: =IF(Tableau5612[[#This Row],[Colonne7]]="X","X","") | K36: =IF(Tableau5612[[#This Row],[Colonne9]]="X","X","") | L36: =IF(Tableau5612[[#This Row],[Colonne8]]="X","X","") | N36: =IF(Tableau5612[[#This Row],[Colonne11]]="X","X","") | O36: =IF(Tableau5612[[#This Row],[Colonne13]]="X","X", "") | P36: =IF(Tableau5612[[#This Row],[Colonne12]]="X","X","") | Q36: =IF(OR(Tableau5612[[#This Row],[Colonne14]]="X",Tableau5612[[#This Row],[Colonne15]]="X"),"","X") -> X | R36: =IF(Tableau5612[[#This Row],[Colonne15]]="X","X","") | S36: =IF(Tableau5612[[#This Row],[Colonne17]]="X","X", "") | T36: =IF(Tableau5612[[#This Row],[Colonne16]]="X","X","") -> X | U36: =IF(OR(Tableau5612[[#This Row],[Colonne18]]="X",Tableau5612[[#This Row],[Colonne19]]="X"),"","X") | V36: =IF(Tableau5612[[#This Row],[Colonne19]]="X","X","") -> X | W36: =IF(Tableau5612[[#This Row],[Colonne5]]="X","X", "") -> X | X36: =IF(Tableau5612[[#This Row],[Colonne20]]="X","X","") | Y36: =IF(OR(Tableau5612[[#This Row],[Colonne22]]="X",Tableau5612[[#This Row],[Colonne23]]="X"),"","X") | Z36: =IF(Tableau5612[[#This Row],[Colonne23]]="X","X","") | AA36: =IF(Tableau5612[[#This Row],[Colonne25]]="X","X", "") | AB36: =IF(Tableau5612[[#This Row],[Colonne24]]="X","X","") | AD36: =IF(Tableau5612[[#This Row],[Colonne27]]="X","X","")
