Workbook

Sheet quart
P1: TABLEAU DE QUART | AB1: Mois: | AE1: 42705
Q3: ="Semaine du "&TEXT(AE1,"jj/mm")&" au "&TEXT(C5+6,"jj/mm aaaa") -> Semaine du 01/12 au 03/12 2016
C5: =IF(TEXT(AE1,"jjjj")="lundi",TEXT(AE1,"jjjj jj"),DATE(YEAR(AE1),MONTH(AE1),1-WEEKDAY(DATE(YEAR(AE1),MONTH(AE1)-1,3),2))) -> 42701 | H5: =C5+1 -> 42702 | M5: =H5+1 -> 42703 | R5: =M5+1 -> 42704 | W5: =R5+1 -> 42705 | AB5: =W5+1 -> 42706 | AG5: =AB5+1 -> 42707
B6: H.dédut | C6: 0 | D6: 0.25 | E6: 0.54166667 | F6: 0.75 | G6: 0.83333333 | H6: 0 | I6: 0.25 | J6: 0.54166667 | K6: 0.75 | L6: 0.83333333 | M6: 0 | N6: 0.25 | O6: 0.54166667 | P6: 0.75 | Q6: 0.83333333 | R6: 0 | S6: 0.25 | T6: 0.54166667 | U6: 0.75 | V6: 0.83333333 | W6: 0 | X6: 0.25 | Y6: 0.54166667 | Z6: 0.75 | AA6: 0.83333333 | AB6: 0 | AC6: 0.25 | AD6: 0.54166667 | AE6: 0.75 | AF6: 0.83333333 | AG6: 0 | AH6: 0.25 | AI6: 0.54166667 | AJ6: 0.75 | AK6: 0.83333333
B7: H.fin | C7: 0.25 | D7: 0.54166667 | E7: 0.75 | F7: 0.83333333 | G7: 1 | H7: 0.25 | I7: 0.54166667 | J7: 0.75 | K7: 0.83333333 | L7: 1 | M7: 0.25 | N7: 0.54166667 | O7: 0.75 | P7: 0.83333333 | Q7: 1 | R7: 0.25 | S7: 0.54166667 | T7: 0.75 | U7: 0.83333333 | V7: 1 | W7: 0.25 | X7: 0.54166667 | Y7: 0.75 | Z7: 0.83333333 | AA7: 1 | AB7: 0.25 | AC7: 0.54166667 | AD7: 0.75 | AE7: 0.83333333 | AF7: 1 | AG7: 0.25 | AH7: 0.54166667 | AI7: 0.75 | AJ7: 0.83333333 | AK7: 1
B8: agent1 | C8: X | G8: =IF(D8="X", "X", "") | H8: =IF(D8="X", "X", "") | I8: =IF(E8="X", "X", "") | J8: =IF(C8="X", "X", "") -> X | L8: =IF(I8="X", "X", "") | M8: =IF(I8="X", "X", "") | N8: =IF(J8="X", "X", "") -> X | O8: =IF(H8="X", "X", "") | Q8: =IF(N8="X", "X", "") -> X | R8: =IF(N8="X", "X", "") -> X | S8: =IF(O8="X", "X", "") | T8: =IF(M8="X", "X", "") | V8: =IF(S8="X", "X", "") | W8: =IF(S8="X", "X", "") | X8: =IF(T8="X", "X", "") | Y8: =IF(R8="X", "X", "") -> X | AA8: =IF(X8="X", "X", "") | AB8: =IF(X8="X", "X", "") | AC8: =IF(Y8="X", "X", "") -> X | AD8: =IF(W8="X", "X", "") | AF8: =IF(AC8="X", "X", "") -> X | AG8: =IF(AC8="X", "X", "") -> X | AH8: =IF(AD8="X", "X", "") | AI8: =IF(AB8="X", "X", "") | AK8: =IF(AH8="X", "X", "")
B9: agent2 | D9: X | G9: =IF(D9="X", "X", "") -> X | H9: =IF(D9="X", "X", "") -> X | I9: =IF(E9="X", "X", "") | J9: =IF(C9="X", "X", "") | L9: =IF(I9="X", "X", "") | M9: =IF(I9="X", "X", "") | N9: =IF(J9="X", "X", "") | O9: =IF(H9="X", "X", "") -> X | Q9: =IF(N9="X", "X", "") | R9: =IF(N9="X", "X", "") | S9: =IF(O9="X", "X", "") -> X | T9: =IF(M9="X", "X", "") | V9: =IF(S9="X", "X", "") -> X | W9: =IF(S9="X", "X", "") -> X | X9: =IF(T9="X", "X", "") | Y9: =IF(R9="X", "X", "") | AA9: =IF(X9="X", "X", "") | AB9: =IF(X9="X", "X", "") | AC9: =IF(Y9="X", "X", "") | AD9: =IF(W9="X", "X", "") -> X | AF9: =IF(AC9="X", "X", "") | AG9: =IF(AC9="X", "X", "") | AH9: =IF(AD9="X", "X", "") -> X | AI9: =IF(AB9="X", "X", "") | AK9: =IF(AH9="X", "X", "") -> X
B10: agent3 | E10: X | G10: =IF(D10="X", "X", "") | H10: =IF(D10="X", "X", "") | I10: =IF(E10="X", "X", "") -> X | J10: =IF(C10="X", "X", "") | L10: =IF(I10="X", "X", "") -> X | M10: =IF(I10="X", "X", "") -> X | N10: =IF(J10="X", "X", "") | O10: =IF(H10="X", "X", "") | Q10: =IF(N10="X", "X", "") | R10: =IF(N10="X", "X", "") | S10: =IF(O10="X", "X", "") | T10: =IF(M10="X", "X", "") -> X | V10: =IF(S10="X", "X", "") | W10: =IF(S10="X", "X", "") | X10: =IF(T10="X", "X", "") -> X | Y10: =IF(R10="X", "X", "") | AA10: =IF(X10="X", "X", "") -> X | AB10: =IF(X10="X", "X", "") -> X | AC10: =IF(Y10="X", "X", "") | AD10: =IF(W10="X", "X", "") | AF10: =IF(AC10="X", "X", "") | AG10: =IF(AC10="X", "X", "") | AH10: =IF(AD10="X", "X", "") | AI10: =IF(AB10="X", "X", "") -> X | AK10: =IF(AH10="X", "X", "")
G11: =IF(D11="X", "X", "") | H11: =IF(D11="X", "X", "") | I11: =IF(E11="X", "X", "") | J11: =IF(C11="X", "X", "") | L11: =IF(I11="X", "X", "") | M11: =IF(I11="X", "X", "") | N11: =IF(J11="X", "X", "") | O11: =IF(H11="X", "X", "") | Q11: =IF(N11="X", "X", "") | R11: =IF(N11="X", "X", "") | S11: =IF(O11="X", "X", "") | T11: =IF(M11="X", "X", "") | V11: =IF(S11="X", "X", "") | W11: =IF(S11="X", "X", "") | X11: =IF(T11="X", "X", "") | Y11: =IF(R11="X", "X", "") | AA11: =IF(X11="X", "X", "") | AB11: =IF(X11="X", "X", "") | AC11: =IF(Y11="X", "X", "") | AD11: =IF(W11="X", "X", "") | AF11: =IF(AC11="X", "X", "") | AG11: =IF(AC11="X", "X", "") | AH11: =IF(AD11="X", "X", "") | AI11: =IF(AB11="X", "X", "") | AK11: =IF(AH11="X", "X", "")
G12: =IF(D12="X", "X", "") | H12: =IF(D12="X", "X", "") | I12: =IF(E12="X", "X", "") | J12: =IF(C12="X", "X", "") | L12: =IF(I12="X", "X", "") | M12: =IF(I12="X", "X", "") | N12: =IF(J12="X", "X", "") | O12: =IF(H12="X", "X", "") | Q12: =IF(N12="X", "X", "") | R12: =IF(N12="X", "X", "") | S12: =IF(O12="X", "X", "") | T12: =IF(M12="X", "X", "") | V12: =IF(S12="X", "X", "") | W12: =IF(S12="X", "X", "") | X12: =IF(T12="X", "X", "") | Y12: =IF(R12="X", "X", "") | AA12: =IF(X12="X", "X", "") | AB12: =IF(X12="X", "X", "") | AC12: =IF(Y12="X", "X", "") | AD12: =IF(W12="X", "X", "") | AF12: =IF(AC12="X", "X", "") | AG12: =IF(AC12="X", "X", "") | AH12: =IF(AD12="X", "X", "") | AI12: =IF(AB12="X", "X", "") | AK12: =IF(AH12="X", "X", "")
G13: =IF(D13="X", "X", "") | H13: =IF(D13="X", "X", "") | I13: =IF(E13="X", "X", "") | J13: =IF(C13="X", "X", "") | L13: =IF(I13="X", "X", "") | M13: =IF(I13="X", "X", "") | N13: =IF(J13="X", "X", "") | O13: =IF(H13="X", "X", "") | Q13: =IF(N13="X", "X", "") | R13: =IF(N13="X", "X", "") | S13: =IF(O13="X", "X", "") | T13: =IF(M13="X", "X", "") | V13: =IF(S13="X", "X", "") | W13: =IF(S13="X", "X", "") | X13: =IF(T13="X", "X", "") | Y13: =IF(R13="X", "X", "") | AA13: =IF(X13="X", "X", "") | AB13: =IF(X13="X", "X", "") | AC13: =IF(Y13="X", "X", "") | AD13: =IF(W13="X", "X", "") | AF13: =IF(AC13="X", "X", "") | AG13: =IF(AC13="X", "X", "") | AH13: =IF(AD13="X", "X", "") | AI13: =IF(AB13="X", "X", "") | AK13: =IF(AH13="X", "X", "")
G14: =IF(D14="X", "X", "") | H14: =IF(D14="X", "X", "") | I14: =IF(E14="X", "X", "") | J14: =IF(C14="X", "X", "") | L14: =IF(I14="X", "X", "") | M14: =IF(I14="X", "X", "") | N14: =IF(J14="X", "X", "") | O14: =IF(H14="X", "X", "") | Q14: =IF(N14="X", "X", "") | R14: =IF(N14="X", "X", "") | S14: =IF(O14="X", "X", "") | T14: =IF(M14="X", "X", "") | V14: =IF(S14="X", "X", "") | W14: =IF(S14="X", "X", "") | X14: =IF(T14="X", "X", "") | Y14: =IF(R14="X", "X", "") | AA14: =IF(X14="X", "X", "") | AB14: =IF(X14="X", "X", "") | AC14: =IF(Y14="X", "X", "") | AD14: =IF(W14="X", "X", "") | AF14: =IF(AC14="X", "X", "") | AG14: =IF(AC14="X", "X", "") | AH14: =IF(AD14="X", "X", "") | AI14: =IF(AB14="X", "X", "") | AK14: =IF(AH14="X", "X", "")
C17: ="Semaine du "&TEXT(C19,"jj/mm")&" au "&TEXT(C19+6,"jj/mm aaaa") -> Semaine du 04/12 au 10/12 2016
C19: =C5+7 -> 42708 | H19: =C19+1 -> 42709 | M19: =H19+1 -> 42710 | R19: =M19+1 -> 42711 | W19: =R19+1 -> 42712 | AB19: =W19+1 -> 42713 | AG19: =AB19+1 -> 42714
B20: H.dédut | C20: 0 | D20: 0.25 | E20: 0.54166667 | F20: 0.75 | G20: 0.83333333 | H20: 0 | I20: 0.25 | J20: 0.54166667 | K20: 0.75 | L20: 0.83333333 | M20: 0 | N20: 0.25 | O20: 0.54166667 | P20: 0.75 | Q20: 0.83333333 | R20: 0 | S20: 0.25 | T20: 0.54166667 | U20: 0.75 | V20: 0.83333333 | W20: 0 | X20: 0.25 | Y20: 0.54166667 | Z20: 0.75 | AA20: 0.83333333 | AB20: 0 | AC20: 0.25 | AD20: 0.54166667 | AE20: 0.75 | AF20: 0.83333333 | AG20: 0 | AH20: 0.25 | AI20: 0.54166667 | AJ20: 0.75 | AK20: 0.83333333
B21: H.fin | C21: 0.25 | D21: 0.54166667 | E21: 0.75 | F21: 0.83333333 | G21: 1 | H21: 0.25 | I21: 0.54166667 | J21: 0.75 | K21: 0.83333333 | L21: 1 | M21: 0.25 | N21: 0.54166667 | O21: 0.75 | P21: 0.83333333 | Q21: 1 | R21: 0.25 | S21: 0.54166667 | T21: 0.75 | U21: 0.83333333 | V21: 1 | W21: 0.25 | X21: 0.54166667 | Y21: 0.75 | Z21: 0.83333333 | AA21: 1 | AB21: 0.25 | AC21: 0.54166667 | AD21: 0.75 | AE21: 0.83333333 | AF21: 1 | AG21: 0.25 | AH21: 0.54166667 | AI21: 0.75 | AJ21: 0.83333333 | AK21: 1
B22: agent1 | C22: =IF(AH8="X", "X", "") | D22: =IF(AI8="X", "X", "") | E22: =IF(AG8="X", "X", "") -> X | G22: =IF(D22="X", "X", "") | H22: =IF(D22="X", "X", "") | I22: =IF(E22="X", "X", "") -> X | J22: =IF(C22="X", "X", "") | L22: =IF(I22="X", "X", "") -> X | M22: =IF(I22="X", "X", "") -> X | N22: =IF(J22="X", "X", "") | O22: =IF(H22="X", "X", "") | Q22: =IF(N22="X", "X", "") | R22: =IF(N22="X", "X", "") | S22: =IF(O22="X", "X", "") | T22: =IF(M22="X", "X", "") -> X | V22: =IF(S22="X", "X", "") | W22: =IF(S22="X", "X", "") | X22: =IF(T22="X", "X", "") -> X | Y22: =IF(R22="X", "X", "") | AA22: =IF(X22="X", "X", "") -> X | AB22: =IF(X22="X", "X", "") -> X | AC22: =IF(Y22="X", "X", "") | AD22: =IF(W22="X", "X", "") | AF22: =IF(AC22="X", "X", "") | AG22: =IF(AC22="X", "X", "") | AH22: =IF(AD22="X", "X", "") | AI22: =IF(AB22="X", "X", "") -> X | AK22: =IF(AH22="X", "X", "")
B23: agent2 | C23: =IF(AH9="X", "X", "") -> X | D23: =IF(AI9="X", "X", "") | E23: =IF(AG9="X", "X", "") | G23: =IF(D23="X", "X", "") | H23: =IF(D23="X", "X", "") | I23: =IF(E23="X", "X", "") | J23: =IF(C23="X", "X", "") -> X | L23: =IF(I23="X", "X", "") | M23: =IF(I23="X", "X", "") | N23: =IF(J23="X", "X", "") -> X | O23: =IF(H23="X", "X", "") | Q23: =IF(N23="X", "X", "") -> X | R23: =IF(N23="X", "X", "") -> X | S23: =IF(O23="X", "X", "") | T23: =IF(M23="X", "X", "") | V23: =IF(S23="X", "X", "") | W23: =IF(S23="X", "X", "") | X23: =IF(T23="X", "X", "") | Y23: =IF(R23="X", "X", "") -> X | AA23: =IF(X23="X", "X", "") | AB23: =IF(X23="X", "X", "") | AC23: =IF(Y23="X", "X", "") -> X | AD23: =IF(W23="X", "X", "") | AF23: =IF(AC23="X", "X", "") -> X | AG23: =IF(AC23="X", "X", "") -> X | AH23: =IF(AD23="X", "X", "") | AI23: =IF(AB23="X", "X", "") | AK23: =IF(AH23="X", "X", "")
B24: agent3 | C24: =IF(AH10="X", "X", "") | D24: =IF(AI10="X", "X", "") -> X | E24: =IF(AG10="X", "X", "") | G24: =IF(D24="X", "X", "") -> X | H24: =IF(D24="X", "X", "") -> X | I24: =IF(E24="X", "X", "") | J24: =IF(C24="X", "X", "") | L24: =IF(I24="X", "X", "") | M24: =IF(I24="X", "X", "") | N24: =IF(J24="X", "X", "") | O24: =IF(H24="X", "X", "") -> X | Q24: =IF(N24="X", "X", "") | R24: =IF(N24="X", "X", "") | S24: =IF(O24="X", "X", "") -> X | T24: =IF(M24="X", "X", "") | V24: =IF(S24="X", "X", "") -> X | W24: =IF(S24="X", "X", "") -> X | X24: =IF(T24="X", "X", "") | Y24: =IF(R24="X", "X", "") | AA24: =IF(X24="X", "X", "") | AB24: =IF(X24="X", "X", "") | AC24: =IF(Y24="X", "X", "") | AD24: =IF(W24="X", "X", "") -> X | AF24: =IF(AC24="X", "X", "") | AG24: =IF(AC24="X", "X", "") | AH24: =IF(AD24="X", "X", "") -> X | AI24: =IF(AB24="X", "X", "") | AK24: =IF(AH24="X", "X", "") -> X
C25: =IF(AH11="X", "X", "") | D25: =IF(AI11="X", "X", "") | E25: =IF(AG11="X", "X", "") | G25: =IF(D25="X", "X", "") | H25: =IF(D25="X", "X", "") | I25: =IF(E25="X", "X", "") | J25: =IF(C25="X", "X", "") | L25: =IF(I25="X", "X", "") | M25: =IF(I25="X", "X", "") | N25: =IF(J25="X", "X", "") | O25: =IF(H25="X", "X", "") | Q25: =IF(N25="X", "X", "") | R25: =IF(N25="X", "X", "") | S25: =IF(O25="X", "X", "") | T25: =IF(M25="X", "X", "") | V25: =IF(S25="X", "X", "") | W25: =IF(S25="X", "X", "") | X25: =IF(T25="X", "X", "") | Y25: =IF(R25="X", "X", "") | AA25: =IF(X25="X", "X", "") | AB25: =IF(X25="X", "X", "") | AC25: =IF(Y25="X", "X", "") | AD25: =IF(W25="X", "X", "") | AF25: =IF(AC25="X", "X", "") | AG25: =IF(AC25="X", "X", "") | AH25: =IF(AD25="X", "X", "") | AI25: =IF(AB25="X", "X", "") | AK25: =IF(AH25="X", "X", "")
C26: =IF(AH12="X", "X", "") | D26: =IF(AI12="X", "X", "") | E26: =IF(AG12="X", "X", "") | G26: =IF(D26="X", "X", "") | H26: =IF(D26="X", "X", "") | I26: =IF(E26="X", "X", "") | J26: =IF(C26="X", "X", "") | L26: =IF(I26="X", "X", "") | M26: =IF(I26="X", "X", "") | N26: =IF(J26="X", "X", "") | O26: =IF(H26="X", "X", "") | Q26: =IF(N26="X", "X", "") | R26: =IF(N26="X", "X", "") | S26: =IF(O26="X", "X", "") | T26: =IF(M26="X", "X", "") | V26: =IF(S26="X", "X", "") | W26: =IF(S26="X", "X", "") | X26: =IF(T26="X", "X", "") | Y26: =IF(R26="X", "X", "") | AA26: =IF(X26="X", "X", "") | AB26: =IF(X26="X", "X", "") | AC26: =IF(Y26="X", "X", "") | AD26: =IF(W26="X", "X", "") | AF26: =IF(AC26="X", "X", "") | AG26: =IF(AC26="X", "X", "") | AH26: =IF(AD26="X", "X", "") | AI26: =IF(AB26="X", "X", "") | AK26: =IF(AH26="X", "X", "")
C27: =IF(AH13="X", "X", "") | D27: =IF(AI13="X", "X", "") | E27: =IF(AG13="X", "X", "") | G27: =IF(D27="X", "X", "") | H27: =IF(D27="X", "X", "") | I27: =IF(E27="X", "X", "") | J27: =IF(C27="X", "X", "") | L27: =IF(I27="X", "X", "") | M27: =IF(I27="X", "X", "") | N27: =IF(J27="X", "X", "") | O27: =IF(H27="X", "X", "") | Q27: =IF(N27="X", "X", "") | R27: =IF(N27="X", "X", "") | S27: =IF(O27="X", "X", "") | T27: =IF(M27="X", "X", "") | V27: =IF(S27="X", "X", "") | W27: =IF(S27="X", "X", "") | X27: =IF(T27="X", "X", "") | Y27: =IF(R27="X", "X", "") | AA27: =IF(X27="X", "X", "") | AB27: =IF(X27="X", "X", "") | AC27: =IF(Y27="X", "X", "") | AD27: =IF(W27="X", "X", "") | AF27: =IF(AC27="X", "X", "") | AG27: =IF(AC27="X", "X", "") | AH27: =IF(AD27="X", "X", "") | AI27: =IF(AB27="X", "X", "") | AK27: =IF(AH27="X", "X", "")
C28: =IF(AH14="X", "X", "") | D28: =IF(AI14="X", "X", "") | E28: =IF(AG14="X", "X", "") | G28: =IF(D28="X", "X", "") | H28: =IF(D28="X", "X", "") | I28: =IF(E28="X", "X", "") | J28: =IF(C28="X", "X", "") | L28: =IF(I28="X", "X", "") | M28: =IF(I28="X", "X", "") | N28: =IF(J28="X", "X", "") | O28: =IF(H28="X", "X", "") | Q28: =IF(N28="X", "X", "") | R28: =IF(N28="X", "X", "") | S28: =IF(O28="X", "X", "") | T28: =IF(M28="X", "X", "") | V28: =IF(S28="X", "X", "") | W28: =IF(S28="X", "X", "") | X28: =IF(T28="X", "X", "") | Y28: =IF(R28="X", "X", "") | AA28: =IF(X28="X", "X", "") | AB28: =IF(X28="X", "X", "") | AC28: =IF(Y28="X", "X", "") | AD28: =IF(W28="X", "X", "") | AF28: =IF(AC28="X", "X", "") | AG28: =IF(AC28="X", "X", "") | AH28: =IF(AD28="X", "X", "") | AI28: =IF(AB28="X", "X", "") | AK28: =IF(AH28="X", "X", "")
C30: ="Semaine du "&TEXT(C32,"jj/mm")&" au "&TEXT(C32+6,"jj/mm aaaa") -> Semaine du 11/12 au 17/12 2016
C32: =C19+7 -> 42715 | H32: =C32+1 -> 42716 | M32: =H32+1 -> 42717 | R32: =M32+1 -> 42718 | W32: =R32+1 -> 42719 | AB32: =W32+1 -> 42720 | AG32: =AB32+1 -> 42721
B33: H.dédut | C33: 0 | D33: 0.25 | E33: 0.54166667 | F33: 0.75 | G33: 0.83333333 | H33: 0 | I33: 0.25 | J33: 0.54166667 | K33: 0.75 | L33: 0.83333333 | M33: 0 | N33: 0.25 | O33: 0.54166667 | P33: 0.75 | Q33: 0.83333333 | R33: 0 | S33: 0.25 | T33: 0.54166667 | U33: 0.75 | V33: 0.83333333 | W33: 0 | X33: 0.25 | Y33: 0.54166667 | Z33: 0.75 | AA33: 0.83333333 | AB33: 0 | AC33: 0.25 | AD33: 0.54166667 | AE33: 0.75 | AF33: 0.83333333 | AG33: 0 | AH33: 0.25 | AI33: 0.54166667 | AJ33: 0.75 | AK33: 0.83333333
B34: H.fin | C34: 0.25 | D34: 0.54166667 | E34: 0.75 | F34: 0.83333333 | G34: 1 | H34: 0.25 | I34: 0.54166667 | J34: 0.75 | K34: 0.83333333 | L34: 1 | M34: 0.25 | N34: 0.54166667 | O34: 0.75 | P34: 0.83333333 | Q34: 1 | R34: 0.25 | S34: 0.54166667 | T34: 0.75 | U34: 0.83333333 | V34: 1 | W34: 0.25 | X34: 0.54166667 | Y34: 0.75 | Z34: 0.83333333 | AA34: 1 | AB34: 0.25 | AC34: 0.54166667 | AD34: 0.75 | AE34: 0.83333333 | AF34: 1 | AG34: 0.25 | AH34: 0.54166667 | AI34: 0.75 | AJ34: 0.83333333 | AK34: 1
B35: agent1 | C35: =IF(AH21="X", "X", "") | D35: =IF(AI21="X", "X", "") | E35: =IF(AG21="X", "X", "") | G35: =IF(D35="X", "X", "") | H35: =IF(D35="X", "X", "") | I35: =IF(E35="X", "X", "") | J35: =IF(C35="X", "X", "") | L35: =IF(I35="X", "X", "") | M35: =IF(I35="X", "X", "") | N35: =IF(J35="X", "X", "") | O35: =IF(H35="X", "X", "") | Q35: =IF(N35="X", "X", "") | R35: =IF(N35="X", "X", "") | S35: =IF(O35="X", "X", "") | T35: =IF(M35="X", "X", "") | V35: =IF(S35="X", "X", "") | W35: =IF(S35="X", "X", "") | X35: =IF(T35="X", "X", "") | Y35: =IF(R35="X", "X", "") | AA35: =IF(X35="X", "X", "") | AB35: =IF(X35="X", "X", "") | AC35: =IF(Y35="X", "X", "") | AD35: =IF(W35="X", "X", "") | AF35: =IF(AC35="X", "X", "") | AG35: =IF(AC35="X", "X", "") | AH35: =IF(AD35="X", "X", "") | AI35: =IF(AB35="X", "X", "") | AK35: =IF(AH35="X", "X", "")
B36: agent2 | C36: =IF(AH22="X", "X", "") | D36: =IF(AI22="X", "X", "") -> X | E36: =IF(AG22="X", "X", "") | G36: =IF(D36="X", "X", "") -> X | H36: =IF(D36="X", "X", "") -> X | I36: =IF(E36="X", "X", "") | J36: =IF(C36="X", "X", "") | L36: =IF(I36="X", "X", "") | M36: =IF(I36="X", "X", "") | N36: =IF(J36="X", "X", "") | O36: =IF(H36="X", "X", "") -> X | Q36: =IF(N36="X", "X", "") | R36: =IF(N36="X", "X", "") | S36: =IF(O36="X", "X", "") -> X | T36: =IF(M36="X", "X", "") | V36: =IF(S36="X", "X", "") -> X | W36: =IF(S36="X", "X", "") -> X | X36: =IF(T36="X", "X", "") | Y36: =IF(R36="X", "X", "") | AA36: =IF(X36="X", "X", "") | AB36: =IF(X36="X", "X", "") | AC36: =IF(Y36="X", "X", "") | AD36: =IF(W36="X", "X", "") -> X | AF36: =IF(AC36="X", "X", "") | AG36: =IF(AC36="X", "X", "") | AH36: =IF(AD36="X", "X", "") -> X | AI36: =IF(AB36="X", "X", "") | AK36: =IF(AH36="X", "X", "") -> X
B37: agent3 | C37: =IF(AH23="X", "X", "") | D37: =IF(AI23="X", "X", "") | E37: =IF(AG23="X", "X", "") -> X | G37: =IF(D37="X", "X", "") | H37: =IF(D37="X", "X", "") | I37: =IF(E37="X", "X", "") -> X | J37: =IF(C37="X", "X", "") | L37: =IF(I37="X", "X", "") -> X | M37: =IF(I37="X", "X", "") -> X | N37: =IF(J37="X", "X", "") | O37: =IF(H37="X", "X", "") | Q37: =IF(N37="X", "X", "") | R37: =IF(N37="X", "X", "") | S37: =IF(O37="X", "X", "") | T37: =IF(M37="X", "X", "") -> X | V37: =IF(S37="X", "X", "") | W37: =IF(S37="X", "X", "") | X37: =IF(T37="X", "X", "") -> X | Y37: =IF(R37="X", "X", "") | AA37: =IF(X37="X", "X", "") -> X | AB37: =IF(X37="X", "X", "") -> X | AC37: =IF(Y37="X", "X", "") | AD37: =IF(W37="X", "X", "") | AF37: =IF(AC37="X", "X", "") | AG37: =IF(AC37="X", "X", "") | AH37: =IF(AD37="X", "X", "") | AI37: =IF(AB37="X", "X", "") -> X | AK37: =IF(AH37="X", "X", "")
C38: =IF(AH24="X", "X", "") -> X | D38: =IF(AI24="X", "X", "") | E38: =IF(AG24="X", "X", "") | G38: =IF(D38="X", "X", "") | H38: =IF(D38="X", "X", "") | I38: =IF(E38="X", "X", "") | J38: =IF(C38="X", "X", "") -> X | L38: =IF(I38="X", "X", "") | M38: =IF(I38="X", "X", "") | N38: =IF(J38="X", "X", "") -> X | O38: =IF(H38="X", "X", "") | Q38: =IF(N38="X", "X", "") -> X | R38: =IF(N38="X", "X", "") -> X | S38: =IF(O38="X", "X", "") | T38: =IF(M38="X", "X", "") | V38: =IF(S38="X", "X", "") | W38: =IF(S38="X", "X", "") | X38: =IF(T38="X", "X", "") | Y38: =IF(R38="X", "X", "") -> X | AA38: =IF(X38="X", "X", "") | AB38: =IF(X38="X", "X", "") | AC38: =IF(Y38="X", "X", "") -> X | AD38: =IF(W38="X", "X", "") | AF38: =IF(AC38="X", "X", "") -> X | AG38: =IF(AC38="X", "X", "") -> X | AH38: =IF(AD38="X", "X", "") | AI38: =IF(AB38="X", "X", "") | AK38: =IF(AH38="X", "X", "")
C39: =IF(AH25="X", "X", "") | D39: =IF(AI25="X", "X", "") | E39: =IF(AG25="X", "X", "") | G39: =IF(D39="X", "X", "") | H39: =IF(D39="X", "X", "") | I39: =IF(E39="X", "X", "") | J39: =IF(C39="X", "X", "") | L39: =IF(I39="X", "X", "") | M39: =IF(I39="X", "X", "") | N39: =IF(J39="X", "X", "") | O39: =IF(H39="X", "X", "") | Q39: =IF(N39="X", "X", "") | R39: =IF(N39="X", "X", "") | S39: =IF(O39="X", "X", "") | T39: =IF(M39="X", "X", "") | V39: =IF(S39="X", "X", "") | W39: =IF(S39="X", "X", "") | X39: =IF(T39="X", "X", "") | Y39: =IF(R39="X", "X", "") | AA39: =IF(X39="X", "X", "") | AB39: =IF(X39="X", "X", "") | AC39: =IF(Y39="X", "X", "") | AD39: =IF(W39="X", "X", "") | AF39: =IF(AC39="X", "X", "") | AG39: =IF(AC39="X", "X", "") | AH39: =IF(AD39="X", "X", "") | AI39: =IF(AB39="X", "X", "") | AK39: =IF(AH39="X", "X", "")
C40: =IF(AH26="X", "X", "") | D40: =IF(AI26="X", "X", "") | E40: =IF(AG26="X", "X", "") | G40: =IF(D40="X", "X", "") | H40: =IF(D40="X", "X", "") | I40: =IF(E40="X", "X", "") | J40: =IF(C40="X", "X", "") | L40: =IF(I40="X", "X", "") | M40: =IF(I40="X", "X", "") | N40: =IF(J40="X", "X", "") | O40: =IF(H40="X", "X", "") | Q40: =IF(N40="X", "X", "") | R40: =IF(N40="X", "X", "") | S40: =IF(O40="X", "X", "") | T40: =IF(M40="X", "X", "") | V40: =IF(S40="X", "X", "") | W40: =IF(S40="X", "X", "") | X40: =IF(T40="X", "X", "") | Y40: =IF(R40="X", "X", "") | AA40: =IF(X40="X", "X", "") | AB40: =IF(X40="X", "X", "") | AC40: =IF(Y40="X", "X", "") | AD40: =IF(W40="X", "X", "") | AF40: =IF(AC40="X", "X", "") | AG40: =IF(AC40="X", "X", "") | AH40: =IF(AD40="X", "X", "") | AI40: =IF(AB40="X", "X", "") | AK40: =IF(AH40="X", "X", "")
C41: =IF(AH27="X", "X", "") | D41: =IF(AI27="X", "X", "") | E41: =IF(AG27="X", "X", "") | G41: =IF(D41="X", "X", "") | H41: =IF(D41="X", "X", "") | I41: =IF(E41="X", "X", "") | J41: =IF(C41="X", "X", "") | L41: =IF(I41="X", "X", "") | M41: =IF(I41="X", "X", "") | N41: =IF(J41="X", "X", "") | O41: =IF(H41="X", "X", "") | Q41: =IF(N41="X", "X", "") | R41: =IF(N41="X", "X", "") | S41: =IF(O41="X", "X", "") | T41: =IF(M41="X", "X", "") | V41: =IF(S41="X", "X", "") | W41: =IF(S41="X", "X", "") | X41: =IF(T41="X", "X", "") | Y41: =IF(R41="X", "X", "") | AA41: =IF(X41="X", "X", "") | AB41: =IF(X41="X", "X", "") | AC41: =IF(Y41="X", "X", "") | AD41: =IF(W41="X", "X", "") | AF41: =IF(AC41="X", "X", "") | AG41: =IF(AC41="X", "X", "") | AH41: =IF(AD41="X", "X", "") | AI41: =IF(AB41="X", "X", "") | AK41: =IF(AH41="X", "X", "")
C44: ="Semaine du "&TEXT(C46,"jj/mm")&" au "&TEXT(C46+6,"jj/mm aaaa") -> Semaine du 18/12 au 24/12 2016
C46: =C32+7 -> 42722 | H46: =C46+1 -> 42723 | M46: =H46+1 -> 42724 | R46: =M46+1 -> 42725 | W46: =R46+1 -> 42726 | AB46: =W46+1 -> 42727 | AG46: =AB46+1 -> 42728
B47: H.dédut | C47: 0 | D47: 0.25 | E47: 0.54166667 | F47: 0.75 | G47: 0.83333333 | H47: 0 | I47: 0.25 | J47: 0.54166667 | K47: 0.75 | L47: 0.83333333 | M47: 0 | N47: 0.25 | O47: 0.54166667 | P47: 0.75 | Q47: 0.83333333 | R47: 0 | S47: 0.25 | T47: 0.54166667 | U47: 0.75 | V47: 0.83333333 | W47: 0 | X47: 0.25 | Y47: 0.54166667 | Z47: 0.75 | AA47: 0.83333333 | AB47: 0 | AC47: 0.25 | AD47: 0.54166667 | AE47: 0.75 | AF47: 0.83333333 | AG47: 0 | AH47: 0.25 | AI47: 0.54166667 | AJ47: 0.75 | AK47: 0.83333333
B48: H.fin | C48: 0.25 | D48: 0.54166667 | E48: 0.75 | F48: 0.83333333 | G48: 1 | H48: 0.25 | I48: 0.54166667 | J48: 0.75 | K48: 0.83333333 | L48: 1 | M48: 0.25 | N48: 0.54166667 | O48: 0.75 | P48: 0.83333333 | Q48: 1 | R48: 0.25 | S48: 0.54166667 | T48: 0.75 | U48: 0.83333333 | V48: 1 | W48: 0.25 | X48: 0.54166667 | Y48: 0.75 | Z48: 0.83333333 | AA48: 1 | AB48: 0.25 | AC48: 0.54166667 | AD48: 0.75 | AE48: 0.83333333 | AF48: 1 | AG48: 0.25 | AH48: 0.54166667 | AI48: 0.75 | AJ48: 0.83333333 | AK48: 1
B49: agent1 | C49: =IF(AH35="X", "X", "") | D49: =IF(AI35="X", "X", "") | E49: =IF(AG35="X", "X", "") | G49: =IF(D49="X", "X", "") | H49: =IF(D49="X", "X", "") | I49: =IF(E49="X", "X", "") | J49: =IF(C49="X", "X", "") | L49: =IF(I49="X", "X", "") | M49: =IF(I49="X", "X", "") | N49: =IF(J49="X", "X", "") | O49: =IF(H49="X", "X", "") | Q49: =IF(N49="X", "X", "") | R49: =IF(N49="X", "X", "") | S49: =IF(O49="X", "X", "") | T49: =IF(M49="X", "X", "") | V49: =IF(S49="X", "X", "") | W49: =IF(S49="X", "X", "") | X49: =IF(T49="X", "X", "") | Y49: =IF(R49="X", "X", "") | AA49: =IF(X49="X", "X", "") | AB49: =IF(X49="X", "X", "") | AC49: =IF(Y49="X", "X", "") | AD49: =IF(W49="X", "X", "") | AF49: =IF(AC49="X", "X", "") | AG49: =IF(AC49="X", "X", "") | AH49: =IF(AD49="X", "X", "") | AI49: =IF(AB49="X", "X", "") | AK49: =IF(AH49="X", "X", "")
B50: agent2 | C50: =IF(AH36="X", "X", "") -> X | D50: =IF(AI36="X", "X", "") | E50: =IF(AG36="X", "X", "") | G50: =IF(D50="X", "X", "") | H50: =IF(D50="X", "X", "") | I50: =IF(E50="X", "X", "") | J50: =IF(C50="X", "X", "") -> X | L50: =IF(I50="X", "X", "") | M50: =IF(I50="X", "X", "") | N50: =IF(J50="X", "X", "") -> X | O50: =IF(H50="X", "X", "") | Q50: =IF(N50="X", "X", "") -> X | R50: =IF(N50="X", "X", "") -> X | S50: =IF(O50="X", "X", "") | T50: =IF(M50="X", "X", "") | V50: =IF(S50="X", "X", "") | W50: =IF(S50="X", "X", "") | X50: =IF(T50="X", "X", "") | Y50: =IF(R50="X", "X", "") -> X | AA50: =IF(X50="X", "X", "") | AB50: =IF(X50="X", "X", "") | AC50: =IF(Y50="X", "X", "") -> X | AD50: =IF(W50="X", "X", "") | AF50: =IF(AC50="X", "X", "") -> X | AG50: =IF(AC50="X", "X", "") -> X | AH50: =IF(AD50="X", "X", "") | AI50: =IF(AB50="X", "X", "") | AK50: =IF(AH50="X", "X", "")
B51: agent3 | C51: =IF(AH37="X", "X", "") | D51: =IF(AI37="X", "X", "") -> X | E51: =IF(AG37="X", "X", "") | G51: =IF(D51="X", "X", "") -> X | H51: =IF(D51="X", "X", "") -> X | I51: =IF(E51="X", "X", "") | J51: =IF(C51="X", "X", "") | L51: =IF(I51="X", "X", "") | M51: =IF(I51="X", "X", "") | N51: =IF(J51="X", "X", "") | O51: =IF(H51="X", "X", "") -> X | Q51: =IF(N51="X", "X", "") | R51: =IF(N51="X", "X", "") | S51: =IF(O51="X", "X", "") -> X | T51: =IF(M51="X", "X", "") | V51: =IF(S51="X", "X", "") -> X | W51: =IF(S51="X", "X", "") -> X | X51: =IF(T51="X", "X", "") | Y51: =IF(R51="X", "X", "") | AA51: =IF(X51="X", "X", "") | AB51: =IF(X51="X", "X", "") | AC51: =IF(Y51="X", "X", "") | AD51: =IF(W51="X", "X", "") -> X | AF51: =IF(AC51="X", "X", "") | AG51: =IF(AC51="X", "X", "") | AH51: =IF(AD51="X", "X", "") -> X | AI51: =IF(AB51="X", "X", "") | AK51: =IF(AH51="X", "X", "") -> X
C52: =IF(AH38="X", "X", "") | D52: =IF(AI38="X", "X", "") | E52: =IF(AG38="X", "X", "") -> X | G52: =IF(D52="X", "X", "") | H52: =IF(D52="X", "X", "") | I52: =IF(E52="X", "X", "") -> X | J52: =IF(C52="X", "X", "") | L52: =IF(I52="X", "X", "") -> X | M52: =IF(I52="X", "X", "") -> X | N52: =IF(J52="X", "X", "") | O52: =IF(H52="X", "X", "") | Q52: =IF(N52="X", "X", "") | R52: =IF(N52="X", "X", "") | S52: =IF(O52="X", "X", "") | T52: =IF(M52="X", "X", "") -> X | V52: =IF(S52="X", "X", "") | W52: =IF(S52="X", "X", "") | X52: =IF(T52="X", "X", "") -> X | Y52: =IF(R52="X", "X", "") | AA52: =IF(X52="X", "X", "") -> X | AB52: =IF(X52="X", "X", "") -> X | AC52: =IF(Y52="X", "X", "") | AD52: =IF(W52="X", "X", "") | AF52: =IF(AC52="X", "X", "") | AG52: =IF(AC52="X", "X", "") | AH52: =IF(AD52="X", "X", "") | AI52: =IF(AB52="X", "X", "") -> X | AK52: =IF(AH52="X", "X", "")
C53: =IF(AH39="X", "X", "") | D53: =IF(AI39="X", "X", "") | E53: =IF(AG39="X", "X", "") | G53: =IF(D53="X", "X", "") | H53: =IF(D53="X", "X", "") | I53: =IF(E53="X", "X", "") | J53: =IF(C53="X", "X", "") | L53: =IF(I53="X", "X", "") | M53: =IF(I53="X", "X", "") | N53: =IF(J53="X", "X", "") | O53: =IF(H53="X", "X", "") | Q53: =IF(N53="X", "X", "") | R53: =IF(N53="X", "X", "") | S53: =IF(O53="X", "X", "") | T53: =IF(M53="X", "X", "") | V53: =IF(S53="X", "X", "") | W53: =IF(S53="X", "X", "") | X53: =IF(T53="X", "X", "") | Y53: =IF(R53="X", "X", "") | AA53: =IF(X53="X", "X", "") | AB53: =IF(X53="X", "X", "") | AC53: =IF(Y53="X", "X", "") | AD53: =IF(W53="X", "X", "") | AF53: =IF(AC53="X", "X", "") | AG53: =IF(AC53="X", "X", "") | AH53: =IF(AD53="X", "X", "") | AI53: =IF(AB53="X", "X", "") | AK53: =IF(AH53="X", "X", "")
C54: =IF(AH40="X", "X", "") | D54: =IF(AI40="X", "X", "") | E54: =IF(AG40="X", "X", "") | G54: =IF(D54="X", "X", "") | H54: =IF(D54="X", "X", "") | I54: =IF(E54="X", "X", "") | J54: =IF(C54="X", "X", "") | L54: =IF(I54="X", "X", "") | M54: =IF(I54="X", "X", "") | N54: =IF(J54="X", "X", "") | O54: =IF(H54="X", "X", "") | Q54: =IF(N54="X", "X", "") | R54: =IF(N54="X", "X", "") | S54: =IF(O54="X", "X", "") | T54: =IF(M54="X", "X", "") | V54: =IF(S54="X", "X", "") | W54: =IF(S54="X", "X", "") | X54: =IF(T54="X", "X", "") | Y54: =IF(R54="X", "X", "") | AA54: =IF(X54="X", "X", "") | AB54: =IF(X54="X", "X", "") | AC54: =IF(Y54="X", "X", "") | AD54: =IF(W54="X", "X", "") | AF54: =IF(AC54="X", "X", "") | AG54: =IF(AC54="X", "X", "") | AH54: =IF(AD54="X", "X", "") | AI54: =IF(AB54="X", "X", "") | AK54: =IF(AH54="X", "X", "")
C55: =IF(AH41="X", "X", "") | D55: =IF(AI41="X", "X", "") | E55: =IF(AG41="X", "X", "") | G55: =IF(D55="X", "X", "") | H55: =IF(D55="X", "X", "") | I55: =IF(E55="X", "X", "") | J55: =IF(C55="X", "X", "") | L55: =IF(I55="X", "X", "") | M55: =IF(I55="X", "X", "") | N55: =IF(J55="X", "X", "") | O55: =IF(H55="X", "X", "") | Q55: =IF(N55="X", "X", "") | R55: =IF(N55="X", "X", "") | S55: =IF(O55="X", "X", "") | T55: =IF(M55="X", "X", "") | V55: =IF(S55="X", "X", "") | W55: =IF(S55="X", "X", "") | X55: =IF(T55="X", "X", "") | Y55: =IF(R55="X", "X", "") | AA55: =IF(X55="X", "X", "") | AB55: =IF(X55="X", "X", "") | AC55: =IF(Y55="X", "X", "") | AD55: =IF(W55="X", "X", "") | AF55: =IF(AC55="X", "X", "") | AG55: =IF(AC55="X", "X", "") | AH55: =IF(AD55="X", "X", "") | AI55: =IF(AB55="X", "X", "") | AK55: =IF(AH55="X", "X", "")
C59: ="Semaine du "&TEXT(C61,"jj/mm")&" au "&TEXT(C61+6,"jj/mm aaaa") -> Semaine du 25/12 au 31/12 2016
C61: =C46+7 -> 42729 | H61: =C61+1 -> 42730 | M61: =H61+1 -> 42731 | R61: =M61+1 -> 42732 | W61: =R61+1 -> 42733 | AB61: =W61+1 -> 42734 | AG61: =AB61+1 -> 42735
B62: H.dédut | C62: 0 | D62: 0.25 | E62: 0.54166667 | F62: 0.75 | G62: 0.83333333 | H62: 0 | I62: 0.25 | J62: 0.54166667 | K62: 0.75 | L62: 0.83333333 | M62: 0 | N62: 0.25 | O62: 0.54166667 | P62: 0.75 | Q62: 0.83333333 | R62: 0 | S62: 0.25 | T62: 0.54166667 | U62: 0.75 | V62: 0.83333333 | W62: 0 | X62: 0.25 | Y62: 0.54166667 | Z62: 0.75 | AA62: 0.83333333 | AB62: 0 | AC62: 0.25 | AD62: 0.54166667 | AE62: 0.75 | AF62: 0.83333333 | AG62: 0 | AH62: 0.25 | AI62: 0.54166667 | AJ62: 0.75 | AK62: 0.83333333
B63: H.fin | C63: 0.25 | D63: 0.54166667 | E63: 0.75 | F63: 0.83333333 | G63: 1 | H63: 0.25 | I63: 0.54166667 | J63: 0.75 | K63: 0.83333333 | L63: 1 | M63: 0.25 | N63: 0.54166667 | O63: 0.75 | P63: 0.83333333 | Q63: 1 | R63: 0.25 | S63: 0.54166667 | T63: 0.75 | U63: 0.83333333 | V63: 1 | W63: 0.25 | X63: 0.54166667 | Y63: 0.75 | Z63: 0.83333333 | AA63: 1 | AB63: 0.25 | AC63: 0.54166667 | AD63: 0.75 | AE63: 0.83333333 | AF63: 1 | AG63: 0.25 | AH63: 0.54166667 | AI63: 0.75 | AJ63: 0.83333333 | AK63: 1
B64: agent1 | C64: =IF(AH50="X", "X", "") | D64: =IF(AI50="X", "X", "") | E64: =IF(AG50="X", "X", "") -> X | G64: =IF(D64="X", "X", "") | H64: =IF(D64="X", "X", "") | I64: =IF(E64="X", "X", "") -> X | J64: =IF(C64="X", "X", "") | L64: =IF(I64="X", "X", "") -> X | M64: =IF(I64="X", "X", "") -> X | N64: =IF(J64="X", "X", "") | O64: =IF(H64="X", "X", "") | Q64: =IF(N64="X", "X", "") | R64: =IF(N64="X", "X", "") | S64: =IF(O64="X", "X", "") | T64: =IF(M64="X", "X", "") -> X | V64: =IF(S64="X", "X", "") | W64: =IF(S64="X", "X", "") | X64: =IF(T64="X", "X", "") -> X | Y64: =IF(R64="X", "X", "") | AA64: =IF(X64="X", "X", "") -> X | AB64: =IF(X64="X", "X", "") -> X | AC64: =IF(Y64="X", "X", "") | AD64: =IF(W64="X", "X", "") | AF64: =IF(AC64="X", "X", "") | AG64: =IF(AC64="X", "X", "") | AH64: =IF(AD64="X", "X", "") | AI64: =IF(AB64="X", "X", "") -> X | AK64: =IF(AH64="X", "X", "")
B65: agent2 | C65: =IF(AH51="X", "X", "") -> X | D65: =IF(AI51="X", "X", "") | E65: =IF(AG51="X", "X", "") | G65: =IF(D65="X", "X", "") | H65: =IF(D65="X", "X", "") | I65: =IF(E65="X", "X", "") | J65: =IF(C65="X", "X", "") -> X | L65: =IF(I65="X", "X", "") | M65: =IF(I65="X", "X", "") | N65: =IF(J65="X", "X", "") -> X | O65: =IF(H65="X", "X", "") | Q65: =IF(N65="X", "X", "") -> X | R65: =IF(N65="X", "X", "") -> X | S65: =IF(O65="X", "X", "") | T65: =IF(M65="X", "X", "") | V65: =IF(S65="X", "X", "") | W65: =IF(S65="X", "X", "") | X65: =IF(T65="X", "X", "") | Y65: =IF(R65="X", "X", "") -> X | AA65: =IF(X65="X", "X", "") | AB65: =IF(X65="X", "X", "") | AC65: =IF(Y65="X", "X", "") -> X | AD65: =IF(W65="X", "X", "") | AF65: =IF(AC65="X", "X", "") -> X | AG65: =IF(AC65="X", "X", "") -> X | AH65: =IF(AD65="X", "X", "") | AI65: =IF(AB65="X", "X", "") | AK65: =IF(AH65="X", "X", "")
B66: agent3 | C66: =IF(AH52="X", "X", "") | D66: =IF(AI52="X", "X", "") -> X | E66: =IF(AG52="X", "X", "") | G66: =IF(D66="X", "X", "") -> X | H66: =IF(D66="X", "X", "") -> X | I66: =IF(E66="X", "X", "") | J66: =IF(C66="X", "X", "") | L66: =IF(I66="X", "X", "") | M66: =IF(I66="X", "X", "") | N66: =IF(J66="X", "X", "") | O66: =IF(H66="X", "X", "") -> X | Q66: =IF(N66="X", "X", "") | R66: =IF(N66="X", "X", "") | S66: =IF(O66="X", "X", "") -> X | T66: =IF(M66="X", "X", "") | V66: =IF(S66="X", "X", "") -> X | W66: =IF(S66="X", "X", "") -> X | X66: =IF(T66="X", "X", "") | Y66: =IF(R66="X", "X", "") | AA66: =IF(X66="X", "X", "") | AB66: =IF(X66="X", "X", "") | AC66: =IF(Y66="X", "X", "") | AD66: =IF(W66="X", "X", "") -> X | AF66: =IF(AC66="X", "X", "") | AG66: =IF(AC66="X", "X", "") | AH66: =IF(AD66="X", "X", "") -> X | AI66: =IF(AB66="X", "X", "") | AK66: =IF(AH66="X", "X", "") -> X
C67: =IF(AH53="X", "X", "") | D67: =IF(AI53="X", "X", "") | E67: =IF(AG53="X", "X", "") | G67: =IF(D67="X", "X", "") | H67: =IF(D67="X", "X", "") | I67: =IF(E67="X", "X", "") | J67: =IF(C67="X", "X", "") | L67: =IF(I67="X", "X", "") | M67: =IF(I67="X", "X", "") | N67: =IF(J67="X", "X", "") | O67: =IF(H67="X", "X", "") | Q67: =IF(N67="X", "X", "") | R67: =IF(N67="X", "X", "") | S67: =IF(O67="X", "X", "") | T67: =IF(M67="X", "X", "") | V67: =IF(S67="X", "X", "") | W67: =IF(S67="X", "X", "") | X67: =IF(T67="X", "X", "") | Y67: =IF(R67="X", "X", "") | AA67: =IF(X67="X", "X", "") | AB67: =IF(X67="X", "X", "") | AC67: =IF(Y67="X", "X", "") | AD67: =IF(W67="X", "X", "") | AF67: =IF(AC67="X", "X", "") | AG67: =IF(AC67="X", "X", "") | AH67: =IF(AD67="X", "X", "") | AI67: =IF(AB67="X", "X", "") | AK67: =IF(AH67="X", "X", "")
C68: =IF(AH54="X", "X", "") | D68: =IF(AI54="X", "X", "") | E68: =IF(AG54="X", "X", "") | G68: =IF(D68="X", "X", "") | H68: =IF(D68="X", "X", "") | I68: =IF(E68="X", "X", "") | J68: =IF(C68="X", "X", "") | L68: =IF(I68="X", "X", "") | M68: =IF(I68="X", "X", "") | N68: =IF(J68="X", "X", "") | O68: =IF(H68="X", "X", "") | Q68: =IF(N68="X", "X", "") | R68: =IF(N68="X", "X", "") | S68: =IF(O68="X", "X", "") | T68: =IF(M68="X", "X", "") | V68: =IF(S68="X", "X", "") | W68: =IF(S68="X", "X", "") | X68: =IF(T68="X", "X", "") | Y68: =IF(R68="X", "X", "") | AA68: =IF(X68="X", "X", "") | AB68: =IF(X68="X", "X", "") | AC68: =IF(Y68="X", "X", "") | AD68: =IF(W68="X", "X", "") | AF68: =IF(AC68="X", "X", "") | AG68: =IF(AC68="X", "X", "") | AH68: =IF(AD68="X", "X", "") | AI68: =IF(AB68="X", "X", "") | AK68: =IF(AH68="X", "X", "")
C69: =IF(AH55="X", "X", "") | D69: =IF(AI55="X", "X", "") | E69: =IF(AG55="X", "X", "") | G69: =IF(D69="X", "X", "") | H69: =IF(D69="X", "X", "") | I69: =IF(E69="X", "X", "") | J69: =IF(C69="X", "X", "") | L69: =IF(I69="X", "X", "") | M69: =IF(I69="X", "X", "") | N69: =IF(J69="X", "X", "") | O69: =IF(H69="X", "X", "") | Q69: =IF(N69="X", "X", "") | R69: =IF(N69="X", "X", "") | S69: =IF(O69="X", "X", "") | T69: =IF(M69="X", "X", "") | V69: =IF(S69="X", "X", "") | W69: =IF(S69="X", "X", "") | X69: =IF(T69="X", "X", "") | Y69: =IF(R69="X", "X", "") | AA69: =IF(X69="X", "X", "") | AB69: =IF(X69="X", "X", "") | AC69: =IF(Y69="X", "X", "") | AD69: =IF(W69="X", "X", "") | AF69: =IF(AC69="X", "X", "") | AG69: =IF(AC69="X", "X", "") | AH69: =IF(AD69="X", "X", "") | AI69: =IF(AB69="X", "X", "") | AK69: =IF(AH69="X", "X", "")
C70: =IF(AH56="X", "X", "") | D70: =IF(AI56="X", "X", "") | E70: =IF(AG56="X", "X", "") | G70: =IF(D70="X", "X", "") | H70: =IF(D70="X", "X", "") | I70: =IF(E70="X", "X", "") | J70: =IF(C70="X", "X", "") | L70: =IF(I70="X", "X", "") | M70: =IF(I70="X", "X", "") | N70: =IF(J70="X", "X", "") | O70: =IF(H70="X", "X", "") | Q70: =IF(N70="X", "X", "") | R70: =IF(N70="X", "X", "") | S70: =IF(O70="X", "X", "") | T70: =IF(M70="X", "X", "") | V70: =IF(S70="X", "X", "") | W70: =IF(S70="X", "X", "") | X70: =IF(T70="X", "X", "") | Y70: =IF(R70="X", "X", "") | AA70: =IF(X70="X", "X", "") | AB70: =IF(X70="X", "X", "") | AC70: =IF(Y70="X", "X", "") | AD70: =IF(W70="X", "X", "") | AF70: =IF(AC70="X", "X", "") | AG70: =IF(AC70="X", "X", "") | AH70: =IF(AD70="X", "X", "") | AI70: =IF(AB70="X", "X", "") | AK70: =IF(AH70="X", "X", "")
C74: ="Semaine du "&TEXT(C76,"jj/mm")&" au "&TEXT(C76+6,"jj/mm aaaa") -> Semaine du 01/01 au 07/01 2017
C76: =C61+7 -> 42736 | H76: =C76+1 -> 42737 | M76: =H76+1 -> 42738 | R76: =M76+1 -> 42739 | W76: =R76+1 -> 42740 | AB76: =W76+1 -> 42741 | AG76: =AB76+1 -> 42742
B77: H.dédut | C77: 0 | D77: 0.25 | E77: 0.54166667 | F77: 0.75 | G77: 0.83333333 | H77: 0 | I77: 0.25 | J77: 0.54166667 | K77: 0.75 | L77: 0.83333333 | M77: 0 | N77: 0.25 | O77: 0.54166667 | P77: 0.75 | Q77: 0.83333333 | R77: 0 | S77: 0.25 | T77: 0.54166667 | U77: 0.75 | V77: 0.83333333 | W77: 0 | X77: 0.25 | Y77: 0.54166667 | Z77: 0.75 | AA77: 0.83333333 | AB77: 0 | AC77: 0.25 | AD77: 0.54166667 | AE77: 0.75 | AF77: 0.83333333 | AG77: 0 | AH77: 0.25 | AI77: 0.54166667 | AJ77: 0.75 | AK77: 0.83333333
B78: H.fin | C78: 0.25 | D78: 0.54166667 | E78: 0.75 | F78: 0.83333333 | G78: 1 | H78: 0.25 | I78: 0.54166667 | J78: 0.75 | K78: 0.83333333 | L78: 1 | M78: 0.25 | N78: 0.54166667 | O78: 0.75 | P78: 0.83333333 | Q78: 1 | R78: 0.25 | S78: 0.54166667 | T78: 0.75 | U78: 0.83333333 | V78: 1 | W78: 0.25 | X78: 0.54166667 | Y78: 0.75 | Z78: 0.83333333 | AA78: 1 | AB78: 0.25 | AC78: 0.54166667 | AD78: 0.75 | AE78: 0.83333333 | AF78: 1 | AG78: 0.25 | AH78: 0.54166667 | AI78: 0.75 | AJ78: 0.83333333 | AK78: 1
B79: agent1 | C79: =IF(AH65="X", "X", "") | D79: =IF(AI65="X", "X", "") | E79: =IF(AG65="X", "X", "") -> X | G79: =IF(D79="X", "X", "") | H79: =IF(D79="X", "X", "") | I79: =IF(E79="X", "X", "") -> X | J79: =IF(C79="X", "X", "") | L79: =IF(I79="X", "X", "") -> X | M79: =IF(I79="X", "X", "") -> X | N79: =IF(J79="X", "X", "") | O79: =IF(H79="X", "X", "") | Q79: =IF(N79="X", "X", "") | R79: =IF(N79="X", "X", "") | S79: =IF(O79="X", "X", "") | T79: =IF(M79="X", "X", "") -> X | V79: =IF(S79="X", "X", "") | W79: =IF(S79="X", "X", "") | X79: =IF(T79="X", "X", "") -> X | Y79: =IF(R79="X", "X", "") | AA79: =IF(X79="X", "X", "") -> X | AB79: =IF(X79="X", "X", "") -> X | AC79: =IF(Y79="X", "X", "") | AD79: =IF(W79="X", "X", "") | AF79: =IF(AC79="X", "X", "") | AG79: =IF(AC79="X", "X", "") | AH79: =IF(AD79="X", "X", "") | AI79: =IF(AB79="X", "X", "") -> X | AK79: =IF(AH79="X", "X", "")
B80: agent2 | C80: =IF(AH66="X", "X", "") -> X | D80: =IF(AI66="X", "X", "") | E80: =IF(AG66="X", "X", "") | G80: =IF(D80="X", "X", "") | H80: =IF(D80="X", "X", "") | I80: =IF(E80="X", "X", "") | J80: =IF(C80="X", "X", "") -> X | L80: =IF(I80="X", "X", "") | M80: =IF(I80="X", "X", "") | N80: =IF(J80="X", "X", "") -> X | O80: =IF(H80="X", "X", "") | Q80: =IF(N80="X", "X", "") -> X | R80: =IF(N80="X", "X", "") -> X | S80: =IF(O80="X", "X", "") | T80: =IF(M80="X", "X", "") | V80: =IF(S80="X", "X", "") | W80: =IF(S80="X", "X", "") | X80: =IF(T80="X", "X", "") | Y80: =IF(R80="X", "X", "") -> X | AA80: =IF(X80="X", "X", "") | AB80: =IF(X80="X", "X", "") | AC80: =IF(Y80="X", "X", "") -> X | AD80: =IF(W80="X", "X", "") | AF80: =IF(AC80="X", "X", "") -> X | AG80: =IF(AC80="X", "X", "") -> X | AH80: =IF(AD80="X", "X", "") | AI80: =IF(AB80="X", "X", "") | AK80: =IF(AH80="X", "X", "")
B81: agent3 | C81: =IF(AH67="X", "X", "") | D81: =IF(AI67="X", "X", "") | E81: =IF(AG67="X", "X", "") | G81: =IF(D81="X", "X", "") | H81: =IF(D81="X", "X", "") | I81: =IF(E81="X", "X", "") | J81: =IF(C81="X", "X", "") | L81: =IF(I81="X", "X", "") | M81: =IF(I81="X", "X", "") | N81: =IF(J81="X", "X", "") | O81: =IF(H81="X", "X", "") | Q81: =IF(N81="X", "X", "") | R81: =IF(N81="X", "X", "") | S81: =IF(O81="X", "X", "") | T81: =IF(M81="X", "X", "") | V81: =IF(S81="X", "X", "") | W81: =IF(S81="X", "X", "") | X81: =IF(T81="X", "X", "") | Y81: =IF(R81="X", "X", "") | AA81: =IF(X81="X", "X", "") | AB81: =IF(X81="X", "X", "") | AC81: =IF(Y81="X", "X", "") | AD81: =IF(W81="X", "X", "") | AF81: =IF(AC81="X", "X", "") | AG81: =IF(AC81="X", "X", "") | AH81: =IF(AD81="X", "X", "") | AI81: =IF(AB81="X", "X", "") | AK81: =IF(AH81="X", "X", "")
C82: =IF(AH68="X", "X", "") | D82: =IF(AI68="X", "X", "") | E82: =IF(AG68="X", "X", "") | G82: =IF(D82="X", "X", "") | H82: =IF(D82="X", "X", "") | I82: =IF(E82="X", "X", "") | J82: =IF(C82="X", "X", "") | L82: =IF(I82="X", "X", "") | M82: =IF(I82="X", "X", "") | N82: =IF(J82="X", "X", "") | O82: =IF(H82="X", "X", "") | Q82: =IF(N82="X", "X", "") | R82: =IF(N82="X", "X", "") | S82: =IF(O82="X", "X", "") | T82: =IF(M82="X", "X", "") | V82: =IF(S82="X", "X", "") | W82: =IF(S82="X", "X", "") | X82: =IF(T82="X", "X", "") | Y82: =IF(R82="X", "X", "") | AA82: =IF(X82="X", "X", "") | AB82: =IF(X82="X", "X", "") | AC82: =IF(Y82="X", "X", "") | AD82: =IF(W82="X", "X", "") | AF82: =IF(AC82="X", "X", "") | AG82: =IF(AC82="X", "X", "") | AH82: =IF(AD82="X", "X", "") | AI82: =IF(AB82="X", "X", "") | AK82: =IF(AH82="X", "X", "")
C83: =IF(AH69="X", "X", "") | D83: =IF(AI69="X", "X", "") | E83: =IF(AG69="X", "X", "") | G83: =IF(D83="X", "X", "") | H83: =IF(D83="X", "X", "") | I83: =IF(E83="X", "X", "") | J83: =IF(C83="X", "X", "") | L83: =IF(I83="X", "X", "") | M83: =IF(I83="X", "X", "") | N83: =IF(J83="X", "X", "") | O83: =IF(H83="X", "X", "") | Q83: =IF(N83="X", "X", "") | R83: =IF(N83="X", "X", "") | S83: =IF(O83="X", "X", "") | T83: =IF(M83="X", "X", "") | V83: =IF(S83="X", "X", "") | W83: =IF(S83="X", "X", "") | X83: =IF(T83="X", "X", "") | Y83: =IF(R83="X", "X", "") | AA83: =IF(X83="X", "X", "") | AB83: =IF(X83="X", "X", "") | AC83: =IF(Y83="X", "X", "") | AD83: =IF(W83="X", "X", "") | AF83: =IF(AC83="X", "X", "") | AG83: =IF(AC83="X", "X", "") | AH83: =IF(AD83="X", "X", "") | AI83: =IF(AB83="X", "X", "") | AK83: =IF(AH83="X", "X", "")
C84: =IF(AH70="X", "X", "") | D84: =IF(AI70="X", "X", "") | E84: =IF(AG70="X", "X", "") | G84: =IF(D84="X", "X", "") | H84: =IF(D84="X", "X", "") | I84: =IF(E84="X", "X", "") | J84: =IF(C84="X", "X", "") | L84: =IF(I84="X", "X", "") | M84: =IF(I84="X", "X", "") | N84: =IF(J84="X", "X", "") | O84: =IF(H84="X", "X", "") | Q84: =IF(N84="X", "X", "") | R84: =IF(N84="X", "X", "") | S84: =IF(O84="X", "X", "") | T84: =IF(M84="X", "X", "") | V84: =IF(S84="X", "X", "") | W84: =IF(S84="X", "X", "") | X84: =IF(T84="X", "X", "") | Y84: =IF(R84="X", "X", "") | AA84: =IF(X84="X", "X", "") | AB84: =IF(X84="X", "X", "") | AC84: =IF(Y84="X", "X", "") | AD84: =IF(W84="X", "X", "") | AF84: =IF(AC84="X", "X", "") | AG84: =IF(AC84="X", "X", "") | AH84: =IF(AD84="X", "X", "") | AI84: =IF(AB84="X", "X", "") | AK84: =IF(AH84="X", "X", "")
C85: =IF(AH71="X", "X", "") | D85: =IF(AI71="X", "X", "") | E85: =IF(AG71="X", "X", "") | G85: =IF(D85="X", "X", "") | H85: =IF(D85="X", "X", "") | I85: =IF(E85="X", "X", "") | J85: =IF(C85="X", "X", "") | L85: =IF(I85="X", "X", "") | M85: =IF(I85="X", "X", "") | N85: =IF(J85="X", "X", "") | O85: =IF(H85="X", "X", "") | Q85: =IF(N85="X", "X", "") | R85: =IF(N85="X", "X", "") | S85: =IF(O85="X", "X", "") | T85: =IF(M85="X", "X", "") | V85: =IF(S85="X", "X", "") | W85: =IF(S85="X", "X", "") | X85: =IF(T85="X", "X", "") | Y85: =IF(R85="X", "X", "") | AA85: =IF(X85="X", "X", "") | AB85: =IF(X85="X", "X", "") | AC85: =IF(Y85="X", "X", "") | AD85: =IF(W85="X", "X", "") | AF85: =IF(AC85="X", "X", "") | AG85: =IF(AC85="X", "X", "") | AH85: =IF(AD85="X", "X", "") | AI85: =IF(AB85="X", "X", "") | AK85: =IF(AH85="X", "X", "")

Sheet recap
I1: TABLEAU DECOMPTE DES HEURES Mopti/AMBODEDJO
Z3: Mois: | AC3: 42736
B5: N°matr. | C5: =DATE(YEAR(AC3),MONTH(AC3),1) -> 42736 | D5: =IF(C5="","",IF(MONTH(C5+1)<>MONTH(C5),"",C5+1)) -> 42737 | E5: =IF(D5="","",IF(MONTH(D5+1)<>MONTH(D5),"",D5+1)) -> 42738 | F5: =IF(E5="","",IF(MONTH(E5+1)<>MONTH(E5),"",E5+1)) -> 42739 | G5: =IF(F5="","",IF(MONTH(F5+1)<>MONTH(F5),"",F5+1)) -> 42740 | H5: =IF(G5="","",IF(MONTH(G5+1)<>MONTH(G5),"",G5+1)) -> 42741 | I5: =IF(H5="","",IF(MONTH(H5+1)<>MONTH(H5),"",H5+1)) -> 42742 | J5: =IF(I5="","",IF(MONTH(I5+1)<>MONTH(I5),"",I5+1)) -> 42743 | K5: =IF(J5="","",IF(MONTH(J5+1)<>MONTH(J5),"",J5+1)) -> 42744 | ... AG5: =IF(AF5="","",IF(MONTH(AF5+1)<>MONTH(AF5),"",AF5+1)) -> 42766 | AH5: TOTAL
A6: Jours fériés
A7: CC: CR:
A8: =quart!B8 -> agent1
A9: Heures travaillées | C9: =IF(quart!AG8="X",quart!AG7-quart!AG6,)+IF(quart!AH8="X", quart!AH7-quart!AH6,)+IF(quart!AI8="X", quart!AI7-quart!AI6,)+IF(quart!AJ8="X", quart!AJ7-quart!AJ6, )+IF(quart!AK8="X", quart!AK7-quart!AK6,) -> 0.25 | D9: =IF(quart!$C$22="X",quart!$C$21-quart!$C$20,)+IF(quart!$D$22="X", quart!$D$21-quart!$D$20,)+IF(quart!$E$22="X", quart!$E$21-quart!$E$20,)+IF(quart!$F$22="X", quart!$F$21-quart!$F$20, )+IF(quart!$G$22="X", quart!$G$21-quart!$G$20,) -> 0.20833333 | E9: =IF(quart!AI8="X",quart!AI7-quart!AI6,)+IF(quart!AJ8="X", quart!AJ7-quart!AJ6,)+IF(quart!AK8="X", quart!AK7-quart!AK6,)+IF(quart!AL8="X", quart!AL7-quart!AL6, )+IF(quart!AM8="X", quart!AM7-quart!AM6,) -> 0 | F9: =IF(quart!E22="X",quart!E21-quart!E20,)+IF(quart!F22="X", quart!F21-quart!F20,)+IF(quart!G22="X", quart!G21-quart!G20,)+IF(quart!H22="X", quart!H21-quart!H20, )+IF(quart!I22="X", quart!I21-quart!I20,) -> 0.5 | G9: =IF(quart!AK8="X",quart!AK7-quart!AK6,)+IF(quart!AL8="X", quart!AL7-quart!AL6,)+IF(quart!AM8="X", quart!AM7-quart!AM6,)+IF(quart!AN8="X", quart!AN7-quart!AN6, )+IF(quart!AO8="X", quart!AO7-quart!AO6,) -> 0 | H9: =IF(quart!G22="X",quart!G21-quart!G20,)+IF(quart!H22="X", quart!H21-quart!H20,)+IF(quart!I22="X", quart!I21-quart!I20,)+IF(quart!J22="X", quart!J21-quart!J20, )+IF(quart!K22="X", quart!K21-quart!K20,) -> 0.29166667 | I9: =IF(quart!AM8="X",quart!AM7-quart!AM6,)+IF(quart!AN8="X", quart!AN7-quart!AN6,)+IF(quart!AO8="X", quart!AO7-quart!AO6,)+IF(quart!AP8="X", quart!AP7-quart!AP6, )+IF(quart!AQ8="X", quart!AQ7-quart!AQ6,) -> 0 | J9: =IF(quart!I22="X",quart!I21-quart!I20,)+IF(quart!J22="X", quart!J21-quart!J20,)+IF(quart!K22="X", quart!K21-quart!K20,)+IF(quart!L22="X", quart!L21-quart!L20, )+IF(quart!M22="X", quart!M21-quart!M20,) -> 0.70833333 | K9: =IF(quart!AO8="X",quart!AO7-quart!AO6,)+IF(quart!AP8="X", quart!AP7-quart!AP6,)+IF(quart!AQ8="X", quart!AQ7-quart!AQ6,)+IF(quart!AR8="X", quart!AR7-quart!AR6, )+IF(quart!AS8="X", quart!AS7-quart!AS6,) -> 0 | L9: =IF(quart!K22="X",quart!K21-quart!K20,)+IF(quart!L22="X", quart!L21-quart!L20,)+IF(quart!M22="X", quart!M21-quart!M20,)+IF(quart!N22="X", quart!N21-quart!N20, )+IF(quart!O22="X", quart!O21-quart!O20,) -> 0.41666667 | M9: =IF(quart!AQ8="X",quart!AQ7-quart!AQ6,)+IF(quart!AR8="X", quart!AR7-quart!AR6,)+IF(quart!AS8="X", quart!AS7-quart!AS6,)+IF(quart!AT8="X", quart!AT7-quart!AT6, )+IF(quart!AU8="X", quart!AU7-quart!AU6,) -> 0 | N9: =IF(quart!M22="X",quart!M21-quart!M20,)+IF(quart!N22="X", quart!N21-quart!N20,)+IF(quart!O22="X", quart!O21-quart!O20,)+IF(quart!P22="X", quart!P21-quart!P20, )+IF(quart!Q22="X", quart!Q21-quart!Q20,) -> 0.25 | O9: =IF(quart!AS8="X",quart!AS7-quart!AS6,)+IF(quart!AT8="X", quart!AT7-quart!AT6,)+IF(quart!AU8="X", quart!AU7-quart!AU6,)+IF(quart!AV8="X", quart!AV7-quart!AV6, )+IF(quart!AW8="X", quart!AW7-quart!AW6,) -> 0 | P9: =IF(quart!O22="X",quart!O21-quart!O20,)+IF(quart!P22="X", quart!P21-quart!P20,)+IF(quart!Q22="X", quart!Q21-quart!Q20,)+IF(quart!R22="X", quart!R21-quart!R20, )+IF(quart!S22="X", quart!S21-quart!S20,) -> 0 | Q9: =IF(quart!AU8="X",quart!AU7-quart!AU6,)+IF(quart!AV8="X", quart!AV7-quart!AV6,)+IF(quart!AW8="X", quart!AW7-quart!AW6,)+IF(quart!AX8="X", quart!AX7-quart!AX6, )+IF(quart!AY8="X", quart!AY7-quart!AY6,) -> 0 | R9: =IF(quart!Q22="X",quart!Q21-quart!Q20,)+IF(quart!R22="X", quart!R21-quart!R20,)+IF(quart!S22="X", quart!S21-quart!S20,)+IF(quart!T22="X", quart!T21-quart!T20, )+IF(quart!U22="X", quart!U21-quart!U20,) -> 0.20833333 | S9: =IF(quart!AW8="X",quart!AW7-quart!AW6,)+IF(quart!AX8="X", quart!AX7-quart!AX6,)+IF(quart!AY8="X", quart!AY7-quart!AY6,)+IF(quart!AZ8="X", quart!AZ7-quart!AZ6, )+IF(quart!BA8="X", quart!BA7-quart!BA6,) -> 0 | T9: =IF(quart!S22="X",quart!S21-quart!S20,)+IF(quart!T22="X", quart!T21-quart!T20,)+IF(quart!U22="X", quart!U21-quart!U20,)+IF(quart!V22="X", quart!V21-quart!V20, )+IF(quart!W22="X", quart!W21-quart!W20,) -> 0.20833333 | U9: =IF(quart!AY8="X",quart!AY7-quart!AY6,)+IF(quart!AZ8="X", quart!AZ7-quart!AZ6,)+IF(quart!BA8="X", quart!BA7-quart!BA6,)+IF(quart!BB8="X", quart!BB7-quart!BB6, )+IF(quart!BC8="X", quart!BC7-quart!BC6,) -> 0 | V9: =IF(quart!U22="X",quart!U21-quart!U20,)+IF(quart!V22="X", quart!V21-quart!V20,)+IF(quart!W22="X", quart!W21-quart!W20,)+IF(quart!X22="X", quart!X21-quart!X20, )+IF(quart!Y22="X", quart!Y21-quart!Y20,) -> 0.29166667 | W9: =IF(quart!BA8="X",quart!BA7-quart!BA6,)+IF(quart!BB8="X", quart!BB7-quart!BB6,)+IF(quart!BC8="X", quart!BC7-quart!BC6,)+IF(quart!BD8="X", quart!BD7-quart!BD6, )+IF(quart!BE8="X", quart!BE7-quart!BE6,) -> 0 | X9: =IF(quart!W22="X",quart!W21-quart!W20,)+IF(quart!X22="X", quart!X21-quart!X20,)+IF(quart!Y22="X", quart!Y21-quart!Y20,)+IF(quart!Z22="X", quart!Z21-quart!Z20, )+IF(quart!AA22="X", quart!AA21-quart!AA20,) -> 0.45833333 | Y9: =IF(quart!BC8="X",quart!BC7-quart!BC6,)+IF(quart!BD8="X", quart!BD7-quart!BD6,)+IF(quart!BE8="X", quart!BE7-quart!BE6,)+IF(quart!BF8="X", quart!BF7-quart!BF6, )+IF(quart!BG8="X", quart!BG7-quart!BG6,) -> 0 | Z9: =IF(quart!Y22="X",quart!Y21-quart!Y20,)+IF(quart!Z22="X", quart!Z21-quart!Z20,)+IF(quart!AA22="X", quart!AA21-quart!AA20,)+IF(quart!AB22="X", quart!AB21-quart!AB20, )+IF(quart!AC22="X", quart!AC21-quart!AC20,) -> 0.41666667 | AA9: =IF(quart!BE8="X",quart!BE7-quart!BE6,)+IF(quart!BF8="X", quart!BF7-quart!BF6,)+IF(quart!BG8="X", quart!BG7-quart!BG6,)+IF(quart!BH8="X", quart!BH7-quart!BH6, )+IF(quart!BI8="X", quart!BI7-quart!BI6,) -> 0 | AB9: =IF(quart!AA22="X",quart!AA21-quart!AA20,)+IF(quart!AB22="X", quart!AB21-quart!AB20,)+IF(quart!AC22="X", quart!AC21-quart!AC20,)+IF(quart!AD22="X", quart!AD21-quart!AD20, )+IF(quart!AE22="X", quart!AE21-quart!AE20,) -> 0.41666667 | AC9: =IF(quart!BG8="X",quart!BG7-quart!BG6,)+IF(quart!BH8="X", quart!BH7-quart!BH6,)+IF(quart!BI8="X", quart!BI7-quart!BI6,)+IF(quart!BJ8="X", quart!BJ7-quart!BJ6, )+IF(quart!BK8="X", quart!BK7-quart!BK6,) -> 0 | AD9: =IF(quart!AC22="X",quart!AC21-quart!AC20,)+IF(quart!AD22="X", quart!AD21-quart!AD20,)+IF(quart!AE22="X", quart!AE21-quart!AE20,)+IF(quart!AF22="X", quart!AF21-quart!AF20, )+IF(quart!AG22="X", quart!AG21-quart!AG20,) -> 0 | AE9: =IF(quart!BI8="X",quart!BI7-quart!BI6,)+IF(quart!BJ8="X", quart!BJ7-quart!BJ6,)+IF(quart!BK8="X", quart!BK7-quart!BK6,)+IF(quart!BL8="X", quart!BL7-quart!BL6, )+IF(quart!BM8="X", quart!BM7-quart!BM6,) -> 0 | AF9: =IF(quart!AE22="X",quart!AE21-quart!AE20,)+IF(quart!AF22="X", quart!AF21-quart!AF20,)+IF(quart!AG22="X", quart!AG21-quart!AG20,)+IF(quart!AH22="X", quart!AH21-quart!AH20, )+IF(quart!AI22="X", quart!AI21-quart!AI20,) -> 0.20833333 | AG9: =IF(quart!BK8="X",quart!BK7-quart!BK6,)+IF(quart!BL8="X", quart!BL7-quart!BL6,)+IF(quart!BM8="X", quart!BM7-quart!BM6,)+IF(quart!BN8="X", quart!BN7-quart!BN6, )+IF(quart!BO8="X", quart!BO7-quart!BO6,) -> 0
A10: Heures de nuit
A11: Jours fériés
A12: nuit ferié
A13: heures supplementaires
A14: agent2
A15: Heures travaillées
A16: Heures de nuit
A17: Jours fériés
A18: nuit ferié
A19: heures supplementaires

Sheet absence
A1: date | B1: nbre _ absence | C1: nom | D1: permission | E1: Reliquat_permission | F1: congés | G1: reliquat congé | H1: Etat absence
A2: 42737 | B2: 1 | C2: Sony | H2: =7-D2-E2-F2+G2 -> 7
A3: 42738 | B3: 1 | C3: Sony | H3: =7-D3-E3-F3+G3 -> 7
A4: 42739 | B4: 1 | C4: Sony | D4: 7 | H4: =7-D4-E4-F4+G4 -> 0
A5: 42740 | B5: 1 | C5: Sony | H5: =7-D5-E5-F5+G5 -> 7
A6: 42741 | B6: 1 | C6: Sony | D6: 1 | H6: =7-D6-E6-F6+G6 -> 6
A7: 42744 | B7: 2 | C7: Sony | D7: 1 | H7: =7-D7-E7-F7+G7 -> 6
A8: 42745 | B8: 2 | C8: Sony | H8: =7-D8-E8-F8+G8 -> 7
A9: 42746 | B9: 2 | C9: Sony | H9: =7-D9-E9-F9+G9 -> 7
A10: 42747 | B10: 2 | C10: Sony | H10: =7-D10-E10-F10+G10 -> 7
A11: 42748 | B11: 2 | C11: Sony | D11: 1 | H11: =7-D11-E11-F11+G11 -> 6
A12: 42751 | B12: 3 | C12: Sony | D12: 3 | H12: =7-D12-E12-F12+G12 -> 4
A13: 42752 | B13: 3 | C13: Sony | H13: =7-D13-E13-F13+G13 -> 7
A14: 42753 | B14: 3 | C14: Sony | H14: =7-D14-E14-F14+G14 -> 7
A15: 42754 | B15: 3 | C15: Sony | H15: =7-D15-E15-F15+G15 -> 7
A16: 42755 | B16: 3 | C16: Sony | D16: 3 | H16: =7-D16-E16-F16+G16 -> 4
A17: 42758 | B17: 4 | C17: Sony | D17: 1 | H17: =7-D17-E17-F17+G17 -> 6
A18: 42759 | B18: 4 | C18: Sony | H18: =7-D18-E18-F18+G18 -> 7
A19: 42760 | B19: 4 | C19: Sony | H19: =7-D19-E19-F19+G19 -> 7
A20: 42761 | B20: 4 | C20: Sony | H20: =7-D20-E20-F20+G20 -> 7
A21: 42762 | B21: 4 | C21: Sony | H21: =7-D21-E21-F21+G21 -> 7
A22: 42765 | B22: 5 | C22: Sony | H22: =7-D22-E22-F22+G22 -> 7
A23: 42766 | B23: 5 | C23: Sony | H23: =7-D23-E23-F23+G23 -> 7
A24: 42737 | B24: 1 | C24: Karim | D24: 1 | H24: =7-D24-E24-F24+G24 -> 6
A25: 42738 | B25: 1 | C25: Karim | H25: =7-D25-E25-F25+G25 -> 7
A26: 42739 | B26: 1 | C26: Karim | H26: =7-D26-E26-F26+G26 -> 7
A27: 42740 | B27: 1 | C27: Karim | H27: =7-D27-E27-F27+G27 -> 7
A28: 42741 | B28: 1 | C28: Karim | D28: 1 | H28: =7-D28-E28-F28+G28 -> 6
A29: 42744 | B29: 2 | C29: Karim | D29: 2 | H29: =7-D29-E29-F29+G29 -> 5
A30: 42745 | B30: 2 | C30: Karim | H30: =7-D30-E30-F30+G30 -> 7
A31: 42746 | B31: 2 | C31: Karim | H31: =7-D31-E31-F31+G31 -> 7
A32: 42747 | B32: 2 | C32: Karim | H32: =7-D32-E32-F32+G32 -> 7
A33: 42748 | B33: 2 | C33: Karim | D33: 2 | H33: =7-D33-E33-F33+G33 -> 5
A34: 42751 | B34: 3 | C34: Karim | H34: =7-D34-E34-F34+G34 -> 7
A35: 42752 | B35: 3 | C35: Karim | H35: =7-D35-E35-F35+G35 -> 7
A36: 42753 | B36: 3 | C36: Karim | H36: =7-D36-E36-F36+G36 -> 7
A37: 42754 | B37: 3 | C37: Karim | H37: =7-D37-E37-F37+G37 -> 7
A38: 42755 | B38: 3 | C38: Karim | H38: =7-D38-E38-F38+G38 -> 7
A39: 42758 | B39: 4 | C39: Karim | H39: =7-D39-E39-F39+G39 -> 7
A40: 42759 | B40: 4 | C40: Karim | H40: =7-D40-E40-F40+G40 -> 7
A41: 42760 | B41: 4 | C41: Karim | D41: 1 | H41: =7-D41-E41-F41+G41 -> 6
A42: 42761 | B42: 4 | C42: Karim | H42: =7-D42-E42-F42+G42 -> 7
A43: 42762 | B43: 4 | C43: Karim | H43: =7-D43-E43-F43+G43 -> 7
A44: 42765 | B44: 5 | C44: Karim | H44: =7-D44-E44-F44+G44 -> 7
A45: 42766 | B45: 5 | C45: Karim | H45: =7-D45-E45-F45+G45 -> 7
A46: 42737 | B46: 1 | C46: Julien | H46: =7-D46-E46-F46+G46 -> 7
A47: 42738 | B47: 1 | C47: Julien | H47: =7-D47-E47-F47+G47 -> 7
A48: 42739 | B48: 1 | C48: Julien | H48: =7-D48-E48-F48+G48 -> 7
A49: 42740 | B49: 1 | C49: Julien | H49: =7-D49-E49-F49+G49 -> 7
A50: 42741 | B50: 1 | C50: Julien | H50: =7-D50-E50-F50+G50 -> 7
A51: 42744 | B51: 2 | C51: Julien | D51: 1 | H51: =7-D51-E51-F51+G51 -> 6
A52: 42745 | B52: 2 | C52: Julien | H52: =7-D52-E52-F52+G52 -> 7
A53: 42746 | B53: 2 | C53: Julien | H53: =7-D53-E53-F53+G53 -> 7
A54: 42747 | B54: 2 | C54: Julien | H54: =7-D54-E54-F54+G54 -> 7
A55: 42748 | B55: 2 | C55: Julien | D55: 3 | H55: =7-D55-E55-F55+G55 -> 4
A56: 42751 | B56: 3 | C56: Julien | D56: 1 | H56: =7-D56-E56-F56+G56 -> 6
A57: 42752 | B57: 3 | C57: Julien | H57: =7-D57-E57-F57+G57 -> 7
A58: 42753 | B58: 3 | C58: Julien | H58: =7-D58-E58-F58+G58 -> 7
A59: 42754 | B59: 3 | C59: Julien | H59: =7-D59-E59-F59+G59 -> 7
A60: 42755 | B60: 3 | C60: Julien | H60: =7-D60-E60-F60+G60 -> 7
A61: 42758 | B61: 4 | C61: Julien | H61: =7-D61-E61-F61+G61 -> 7
A62: 42759 | B62: 4 | C62: Julien | H62: =7-D62-E62-F62+G62 -> 7
A63: 42760 | B63: 4 | C63: Julien | H63: =7-D63-E63-F63+G63 -> 7
A64: 42761 | B64: 4 | C64: Julien | H64: =7-D64-E64-F64+G64 -> 7
A65: 42762 | B65: 4 | C65: Julien | H65: =7-D65-E65-F65+G65 -> 7
A66: 42765 | B66: 5 | C66: Julien | H66: =7-D66-E66-F66+G66 -> 7
A67: 42766 | B67: 5 | C67: Julien | D67: 3 | H67: =7-D67-E67-F67+G67 -> 4

Sheet Jours feriés
