Workbook

Sheet Synthèse
C2: Synthèse globale depuis le début de l'année 2019
A9: Evolution GLOBALE par PRODUITS (Nombre de contrat et primes)
A19: Evolution Globale NB Contrats par produit
A20: PU | B20: =SUM(Janvier!C22+Février!C22+Mars!C22+Avril!C22+Mai!C22+Juin!C22+Juillet!C22+Août!C22+Septembre!C22+Octobre!C22+Novembre!C22+Décembre!C22) -> 112
A21: PP SL MADELIN | B21: =SUM(Janvier!E22+Février!D22+Mars!E22+Avril!E22+Mai!E22+Juin!E22+Juillet!E22+Août!E22+Septembre!E22+Octobre!E22+Novembre!E22+Décembre!E22) -> 16
A22: PP EPARGNE RETRAITE | B22: =SUM(Janvier!G22+Février!E22+Mars!G22+Avril!G22+Mai!G22+Juin!G22+Juillet!G22+Août!G22+Septembre!G22+Octobre!G22+Novembre!G22+Décembre!G22) -> 25.5
A23: PP CARDIF MADELIN | B23: =SUM(Janvier!I22+Février!F22+Mars!I22+Avril!I22+Mai!I22+Juin!I22+Juillet!I22+Août!I22+Septembre!I22+Octobre!I22+Novembre!I22+Décembre!I22) -> 0
A24: ARBITRAGES | B24: =SUM(Janvier!K22+Février!G22+Mars!K22+Avril!K22+Mai!K22+Juin!K22+Juillet!K22+Août!K22+Septembre!K22+Octobre!K22+Novembre!K22+Décembre!K22) -> 137.5
A25: SANTE | B25: =SUM(Janvier!M22+Février!H22+Mars!M22+Avril!M22+Mai!M22+Juin!M22+Juillet!M22+Août!M22+Septembre!M22+Octobre!M22+Novembre!M22+Décembre!M22) -> 52
A26: PREVOYANCE | B26: =SUM(Janvier!O22+Février!I22+Mars!O22+Avril!O22+Mai!O22+Juin!O22+Juillet!O22+Août!O22+Septembre!O22+Octobre!O22+Novembre!O22+Décembre!O22) -> 32.5
A27: CREDIT | B27: =SUM(Janvier!Q22+Février!J22+Mars!Q22+Avril!Q22+Mai!Q22+Juin!Q22+Juillet!Q22+Août!Q22+Septembre!Q22+Octobre!Q22+Novembre!Q22+Décembre!Q22) -> 4
A31: Evolution Globale Primes par produit
A32: PU | B32: =SUM(Janvier!C38+Février!C38+Mars!C38+Avril!C38+Mai!C38+Juin!C38+Juillet!C38+Août!C38+Septembre!C38+Octobre!C38+Novembre!C38+Décembre!C38) -> 2238487
A33: PP SL MADELIN | B33: =SUM(Janvier!E38+Février!D38+Mars!E38+Avril!E38+Mai!E38+Juin!E38+Juillet!E38+Août!E38+Septembre!E38+Octobre!E38+Novembre!E38+Décembre!E38) -> 56084.88
A34: PP EPARGNE RETRAITE | B34: =SUM(Janvier!G38+Février!E38+Mars!G38+Avril!G38+Mai!G38+Juin!G38+Juillet!G38+Août!G38+Septembre!G38+Octobre!G38+Novembre!G38+Décembre!G38) -> 67141.35
A35: PP CARDIF MADELIN | B35: =SUM(Janvier!I38+Février!F38+Mars!I38+Avril!I38+Mai!I38+Juin!I38+Juillet!I38+Août!I38+Septembre!I38+Octobre!I38+Novembre!I38+Décembre!I38) -> 0
A36: ARBITRAGES | B36: =SUM(Janvier!K38+Février!G38+Mars!K38+Avril!K38+Mai!K38+Juin!K38+Juillet!K38+Août!K38+Septembre!K38+Octobre!K38+Novembre!K38+Décembre!K38) -> 2787367
A37: SANTE | B37: =SUM(Janvier!M38+Février!H38+Mars!M38+Avril!M38+Mai!M38+Juin!M38+Juillet!M38+Août!M38+Septembre!M38+Octobre!M38+Novembre!M38+Décembre!M38) -> 53812.75
A38: PREVOYANCE | B38: =SUM(Janvier!O38+Février!I38+Mars!O38+Avril!O38+Mai!O38+Juin!O38+Juillet!O38+Août!O38+Septembre!O38+Octobre!O38+Novembre!O38+Décembre!O38) -> 47213.66
A39: CREDIT | B39: =SUM(Janvier!Q38+Février!J38+Mars!Q38+Avril!Q38+Mai!Q38+Juin!Q38+Juillet!Q38+Août!Q38+Septembre!Q38+Octobre!Q38+Novembre!Q38+Décembre!Q38) -> 803001

Sheet Février
D2: Evolution production depuis le début du mois de février 2019
C9: Evolution en nombre de contrats par produit
C10: PU | D10: PP SL MADELIN | E10: PP Epargne R | F10: PP CARDIF MADELIN | G10: ARBITRAGES | H10: SANTE | I10: PREVOYANCE | J10: CREDIT
A11: 1 | B11: Benoît | C11: =[1]FEVRIER!$E$7 -> 1 | D11: =[1]FEVRIER!$E$8 -> 0 | E11: =[1]FEVRIER!$E$9 -> 0 | F11: =[1]FEVRIER!$E$10 -> 0 | G11: =[1]FEVRIER!$E$11 -> 21 | H11: =[1]FEVRIER!$E$12 -> 3 | I11: =[1]FEVRIER!$E$13 -> 0 | J11: =[1]FEVRIER!$E$15 -> 0
A12: 3 | B12: Claude | C12: =[2]FEVRIER!$E$7 -> 1 | D12: =[2]FEVRIER!$E$8 -> 0 | E12: =[2]FEVRIER!$E$9 -> 0 | F12: =[2]FEVRIER!$E$10 -> 0 | G12: =[2]FEVRIER!$E$11 -> 1 | H12: =[2]FEVRIER!$E$12 -> 5 | I12: =[2]FEVRIER!$E$13 -> 0 | J12: =[2]FEVRIER!$E$15 -> 0
A13: 4 | B13: Fabrice | C13: =[3]FEVRIER!$E$7 -> 1 | D13: =[3]FEVRIER!$E$8 -> 0 | E13: =[3]FEVRIER!$E$9 -> 0 | F13: =[3]FEVRIER!$E$10 -> 0 | G13: =[3]FEVRIER!$E$11 -> 20 | H13: =[3]FEVRIER!$E$12 -> 0 | I13: =[3]FEVRIER!$E$13 -> 0 | J13: =[3]FEVRIER!$E$15 -> 0
A14: 5 | B14: Dominique | C14: =[4]FEVRIER!$E$7 -> 13 | D14: =[4]FEVRIER!$E$8 -> -0.5 | E14: =[4]FEVRIER!$E$9 -> 0 | F14: =[4]FEVRIER!$E$10 -> 0 | G14: =[4]FEVRIER!$E$11 -> 0.5 | H14: =[4]FEVRIER!$E$12 -> 2 | I14: =[4]FEVRIER!$E$13 -> 0 | J14: =[4]FEVRIER!$E$15 -> 0
A15: 8 | B15: Jérôme | C15: =[5]FEVRIER!$E$7 -> 3.5 | D15: =[5]FEVRIER!$E$8 -> 0 | E15: =[5]FEVRIER!$E$9 -> 0 | F15: =[5]FEVRIER!$E$10 -> 0 | G15: =[5]FEVRIER!$E$11 -> 0.5 | H15: =[5]FEVRIER!$E$12 -> 2 | I15: =[5]FEVRIER!$E$13 -> 0 | J15: =[5]FEVRIER!$E$15 -> 0
A16: 9 | B16: Philippe | C16: =[6]FEVRIER!$E$7 -> 4 | D16: =[6]FEVRIER!$E$8 -> 0 | E16: =[6]FEVRIER!$E$9 -> 0 | F16: =[6]FEVRIER!$E$10 -> 0 | G16: =[6]FEVRIER!$E$11 -> 1.5 | H16: =[6]FEVRIER!$E$12 -> 0 | I16: =[6]FEVRIER!$E$13 -> 0 | J16: =[6]FEVRIER!$E$15 -> 0
A17: 11 | B17: Jean-Charles | C17: =[7]FEVRIER!$E$7 -> 3 | D17: =[7]FEVRIER!$E$8 -> 2 | E17: =[7]FEVRIER!$E$9 -> 1 | F17: =[7]FEVRIER!$E$10 -> 0 | G17: =[7]FEVRIER!$E$11 -> 3 | H17: =[7]FEVRIER!$E$12 -> 0 | I17: =[7]FEVRIER!$E$13 -> 2 | J17: =[7]FEVRIER!$E$15 -> 0
A18: 12 | B18: Eric N | C18: =[8]FEVRIER!$E$7 -> 5 | D18: =[8]FEVRIER!$E$8 -> 0 | E18: =[8]FEVRIER!$E$9 -> 0 | F18: =[8]FEVRIER!$E$10 -> 0 | G18: =[8]FEVRIER!$E$11 -> 9 | H18: =[8]FEVRIER!$E$12 -> 0 | I18: =[8]FEVRIER!$E$13 -> 0 | J18: =[8]FEVRIER!$E$15 -> 1
A19: 16 | B19: Eric P | C19: =[9]FEVRIER!$E$7 -> 6 | D19: =[9]FEVRIER!$E$8 -> 0 | E19: =[9]FEVRIER!$E$9 -> -1 | F19: =[9]FEVRIER!$E$10 -> 0 | G19: =[9]FEVRIER!$E$11 -> 6.5 | H19: =[9]FEVRIER!$E$12 -> 3.5 | I19: =[9]FEVRIER!$E$13 -> 0.5 | J19: =[9]FEVRIER!$E$15 -> 0
A20: 31 | B20: Matthieu | C20: =[10]FEVRIER!$E$7 -> 1.5 | D20: =[10]FEVRIER!$E$8 -> -0.5 | E20: =[10]FEVRIER!$E$9 -> 0 | F20: =[10]FEVRIER!$E$10 -> 0 | G20: =[10]FEVRIER!$E$11 -> 0.5 | H20: =[10]FEVRIER!$E$12 -> 0 | I20: =[10]FEVRIER!$E$13 -> -1 | J20: =[10]FEVRIER!$E$15 -> 0
A21: 33 | B21: Max | C21: =[11]FEVRIER!$E$7 -> 0 | D21: =[11]FEVRIER!$E$8 -> 0 | E21: =[11]FEVRIER!$E$9 -> 1 | F21: =[11]FEVRIER!$E$10 -> 0 | G21: =[11]FEVRIER!$E$11 -> 0 | H21: =[11]FEVRIER!$E$12 -> 4 | I21: =[11]FEVRIER!$E$13 -> 3.5 | J21: =[11]FEVRIER!$E$15 -> 0
B22: TOTAL : | C22: =SUM(C11:C21) -> 39 | D22: =SUM(D11:D21) -> 1 | E22: =SUM(E11:E21) -> 1 | F22: =SUM(F11:F21) -> 0 | G22: =SUM(G11:G21) -> 63.5 | H22: =SUM(H11:H21) -> 19.5 | I22: =SUM(I11:I21) -> 5 | J22: =SUM(J11:J21) -> 1
C25: Evolution en montant des contrats par produits
C26: PU | D26: PP SL MADELIN | E26: PP Epargne R | F26: PP CARDIF MADELIN | G26: ARBITRAGES | H26: SANTE | I26: PREVOYANCE | J26: CREDIT
A27: 1 | B27: Benoît | C27: =[1]FEVRIER!$F$7 -> 2000 | D27: =[1]FEVRIER!$F$8 -> 0 | E27: =[1]FEVRIER!$F$9 -> 0 | F27: =[1]FEVRIER!$F$10 -> 0 | G27: =[1]FEVRIER!$F$11 -> 79274.58 | H27: =[1]FEVRIER!$F$12 -> 4297.73 | I27: =[1]FEVRIER!$F$13 -> 0 | J27: =[1]FEVRIER!$F$15 -> 0
A28: 3 | B28: Claude | C28: =[2]FEVRIER!$F$7 -> 1500 | D28: =[2]FEVRIER!$F$8 -> 0 | E28: =[2]FEVRIER!$F$9 -> 0 | F28: =[2]FEVRIER!$F$10 -> 0 | G28: =[2]FEVRIER!$F$11 -> 16178 | H28: =[2]FEVRIER!$F$12 -> 4784.45 | I28: =[3]FEVRIER!$F$13 -> 0 | J28: =[3]FEVRIER!$F$15 -> 0
A29: 4 | B29: Fabrice | C29: =[3]FEVRIER!$F$7 -> 66000 | D29: =[3]FEVRIER!$F$8 -> 0 | E29: =[3]FEVRIER!$F$9 -> 0 | F29: =[3]FEVRIER!$F$10 -> 0 | G29: =[3]FEVRIER!$F$11 -> 667651 | H29: =[3]FEVRIER!$F$12 -> 0 | I29: =[3]FEVRIER!$F$13 -> 0 | J29: =[3]FEVRIER!$F$15 -> 0
A30: 5 | B30: Dominique | C30: =[4]FEVRIER!$F$7 -> 63000 | D30: =[4]FEVRIER!$F$8 -> -1700 | E30: =[4]FEVRIER!$F$9 -> 0 | F30: =[4]FEVRIER!$F$10 -> 0 | G30: =[4]FEVRIER!$F$11 -> 2633 | H30: =[4]FEVRIER!$F$12 -> 2415.45 | I30: =[4]FEVRIER!$F$13 -> 559.65 | J30: =[4]FEVRIER!$F$15 -> 0
A31: 8 | B31: Jérôme | C31: =[5]FEVRIER!$F$7 -> 150000 | D31: =[5]FEVRIER!$F$8 -> 0 | E31: =[5]FEVRIER!$F$9 -> 0 | F31: =[5]FEVRIER!$F$10 -> 0 | G31: =[5]FEVRIER!$F$11 -> 3136.5 | H31: =[5]FEVRIER!$F$12 -> 3036 | I31: =[5]FEVRIER!$F$13 -> 0 | J31: =[5]FEVRIER!$F$15 -> 0
A32: 9 | B32: Philippe | C32: =[6]FEVRIER!$F$7 -> 73000 | D32: =[6]FEVRIER!$F$8 -> 0 | E32: =[6]FEVRIER!$F$9 -> 0 | F32: =[6]FEVRIER!$F$10 -> 0 | G32: =[6]FEVRIER!$F$11 -> 108461 | H32: =[6]FEVRIER!$F$12 -> 0 | I32: =[6]FEVRIER!$F$13 -> 0 | J32: =[6]FEVRIER!$F$15 -> 0
A33: 11 | B33: Jean-Charles | C33: =[7]FEVRIER!$F$7 -> 36330 | D33: =[7]FEVRIER!$F$8 -> 5040 | E33: =[7]FEVRIER!$F$9 -> 1200 | F33: =[7]FEVRIER!$F$10 -> 0 | G33: =[7]FEVRIER!$F$11 -> 113526 | H33: =[7]FEVRIER!$F$12 -> 0 | I33: =[7]FEVRIER!$F$13 -> 1751.88 | J33: =[7]FEVRIER!$F$15 -> 0
A34: 12 | B34: Eric N | C34: =[8]FEVRIER!$F$7 -> 60000 | D34: =[8]FEVRIER!$F$8 -> 0 | E34: =[8]FEVRIER!$F$9 -> 0 | F34: =[8]FEVRIER!$F$10 -> 0 | G34: =[8]FEVRIER!$F$11 -> 107103 | H34: =[8]FEVRIER!$F$12 -> 0 | I34: =[8]FEVRIER!$F$13 -> 0 | J34: =[8]FEVRIER!$F$15 -> 159062
A35: 16 | B35: Eric P | C35: =[9]FEVRIER!$F$7 -> 165000 | D35: =[9]FEVRIER!$F$8 -> 1100 | E35: =[9]FEVRIER!$F$9 -> -2706 | F35: =[9]FEVRIER!$F$10 -> 0 | G35: =[9]FEVRIER!$F$11 -> 54729 | H35: =[9]FEVRIER!$F$12 -> 2597.85 | I35: =[9]FEVRIER!$F$13 -> 1146.48 | J35: =[9]FEVRIER!$F$15 -> 0
A36: 31 | B36: Matthieu | C36: =[10]FEVRIER!$F$7 -> 40000 | D36: =[10]FEVRIER!$F$8 -> -700 | E36: =[10]FEVRIER!$F$9 -> 3294 | F36: =[10]FEVRIER!$F$10 -> 0 | G36: =[10]FEVRIER!$F$11 -> 7000 | H36: =[10]FEVRIER!$F$12 -> 0 | I36: =[10]FEVRIER!$F$13 -> -649.86 | J36: =[10]FEVRIER!$F$15 -> 0
A37: 33 | B37: Max | C37: =[11]FEVRIER!$F$7 -> 0 | D37: =[11]FEVRIER!$F$8 -> 0 | E37: =[11]FEVRIER!$F$9 -> 1200 | F37: =[11]FEVRIER!$F$10 -> 0 | G37: =[11]FEVRIER!$F$11 -> 0 | H37: =[11]FEVRIER!$F$12 -> 2429.8 | I37: =[11]FEVRIER!$F$13 -> 3483.27 | J37: =[11]FEVRIER!$F$15 -> 0
B38: TOTAL : | C38: =SUM(C27:C37) -> 656830 | D38: =SUM(D27:D37) -> 3740 | E38: =SUM(E27:E37) -> 2988 | F38: =SUM(F27:F37) -> 0 | G38: =SUM(G27:G37) -> 1159692.1 | H38: =SUM(H27:H37) -> 19561.28 | I38: =SUM(I27:I37) -> 6291.42 | J38: =SUM(J27:J37) -> 159062

Sheet Mars
E2: Evolution production depuis le début du mois de mars 2019
C9: Evolution en nombre de contrats
C10: PU | D10: Evolution | E10: PP SL MADELIN | F10: Evolution | G10: PP Epargne R | H10: Evolution | I10: PP CARDIF MADELIN | J10: Evolution | K10: ARBITRAGES | L10: Evolution | M10: SANTE | N10: Evolution | O10: PREVOYANCE | P10: Evolution | Q10: CREDIT | R10: Evolution
A11: 1 | B11: Benoît | C11: =[1]MARS!$E$7 -> 0 | D11: =(C11-Février!C11)/Février!C11 -> -1 | E11: =[1]MARS!$E$8 -> 1 | G11: =[1]MARS!$E$9 -> 1 | I11: =[1]MARS!$E$10 -> 0 | K11: =[1]MARS!$E$11 -> 2 | M11: =[1]MARS!$E$12 -> 4 | O11: =[1]MARS!$E$13 -> 0 | Q11: =[1]MARS!$E$15 -> 0
A12: 3 | B12: Claude | C12: =[2]MARS!$E$7 -> 1 | D12: =(C12-Février!C12)/Février!C12 -> 0 | E12: =[2]MARS!$E$8 -> 0 | G12: =[2]MARS!$E$9 -> 0 | I12: =[2]MARS!$E$10 -> 0 | K12: =[2]MARS!$E$11 -> 0 | M12: =[2]MARS!$E$12 -> 5 | O12: =[2]MARS!$E$13 -> 0 | Q12: =[2]MARS!$E$15 -> 0
A13: 4 | B13: Fabrice | C13: =[3]MARS!$E$7 -> 1 | D13: =(C13-Février!C13)/Février!C13 -> 0 | E13: =[3]MARS!$E$8 -> 0 | G13: =[3]MARS!$E$9 -> 0 | I13: =[3]MARS!$E$10 -> 0 | K13: =[3]MARS!$E$11 -> 28 | M13: =[3]MARS!$E$12 -> 0 | O13: =[3]MARS!$E$13 -> 0 | Q13: =[3]MARS!$E$15 -> 0
A14: 5 | B14: Dominique | C14: =[4]MARS!$E$7 -> 2 | D14: =(C14-Février!C14)/Février!C14 -> -0.84615385 | E14: =[4]MARS!$E$8 -> 0 | G14: =[4]MARS!$E$9 -> 2 | I14: =[4]MARS!$E$10 -> 0 | K14: =[4]MARS!$E$11 -> 0 | M14: =[4]MARS!$E$12 -> 0 | O14: =[4]MARS!$E$13 -> 0 | Q14: =[4]MARS!$E$15 -> 0
A15: 8 | B15: Jérôme | C15: =[5]MARS!$E$7 -> 0.5 | D15: =(C15-Février!C15)/Février!C15 -> -0.85714286 | E15: =[5]MARS!$E$8 -> 0 | G15: =[5]MARS!$E$9 -> 0 | I15: =[5]MARS!$E$10 -> 0 | K15: =[5]MARS!$E$11 -> 2.5 | M15: =[5]MARS!$E$12 -> 2 | O15: =[5]MARS!$E$13 -> 1 | Q15: =[5]MARS!$E$15 -> 0.5
A16: 9 | B16: Philippe | C16: =[6]MARS!$E$7 -> 5 | D16: =(C16-Février!C16)/Février!C16 -> 0.25 | E16: =[6]MARS!$E$8 -> 0 | G16: =[6]MARS!$E$9 -> -1 | I16: =[6]MARS!$E$10 -> 0 | K16: =[6]MARS!$E$11 -> 0 | M16: =[6]MARS!$E$12 -> 0 | O16: =[6]MARS!$E$13 -> 0 | Q16: =[6]MARS!$E$15 -> 1
A17: 11 | B17: Jean-Charles | C17: =[7]MARS!$E$7 -> 2 | D17: =(C17-Février!C17)/Février!C17 -> -0.33333333 | E17: =[7]MARS!$E$8 -> 1 | G17: =[7]MARS!$E$9 -> -1 | I17: =[7]MARS!$E$10 -> 0 | K17: =[7]MARS!$E$11 -> 0 | M17: =[7]MARS!$E$12 -> 3 | O17: =[7]MARS!$E$13 -> 0 | Q17: =[7]MARS!$E$15 -> 0
A18: 12 | B18: Eric N | C18: =[8]MARS!$E$7 -> 1 | D18: =(C18-Février!C18)/Février!C18 -> -0.8 | E18: =[8]MARS!$E$8 -> 0 | G18: =[8]MARS!$E$9 -> 3 | I18: =[8]MARS!$E$10 -> 0 | K18: =[8]MARS!$E$11 -> 0 | M18: =[8]MARS!$E$12 -> 0 | O18: =[8]MARS!$E$13 -> 0 | Q18: =[8]MARS!$E$15 -> 0
A19: 16 | B19: Eric P | C19: =[9]MARS!$E$7 -> 2 | D19: =(C19-Février!C19)/Février!C19 -> -0.66666667 | E19: =[9]MARS!$E$8 -> -0.5 | G19: =[9]MARS!$E$9 -> 0 | I19: =[9]MARS!$E$10 -> 0 | K19: =[9]MARS!$E$11 -> 1 | M19: =[9]MARS!$E$12 -> -0.5 | O19: =[9]MARS!$E$13 -> 1 | Q19: =[9]MARS!$E$15 -> 0
A20: 31 | B20: Matthieu | C20: =[10]MARS!$E$7 -> 2.5 | D20: =(C20-Février!C20)/Février!C20 -> 0.66666667 | E20: =[10]MARS!$E$8 -> 2 | G20: =[10]MARS!$E$9 -> 0.5 | I20: =[10]MARS!$E$10 -> 0 | K20: =[10]MARS!$E$11 -> 0 | M20: =[10]MARS!$E$12 -> -0.5 | O20: =[10]MARS!$E$13 -> 2.5 | Q20: =[10]MARS!$E$15 -> 1
A21: 33 | B21: Max | C21: =[11]MARS!$E$7 -> 0.5 | D21: =(C21-Février!C21)/Février!C21 -> #DIV/0! | E21: =[11]MARS!$E$8 -> 1 | G21: =[11]MARS!$E$9 -> 0 | I21: =[11]MARS!$E$10 -> 0 | K21: =[11]MARS!$E$11 -> 1.5 | M21: =[11]MARS!$E$12 -> 4 | O21: =[11]MARS!$E$13 -> 2 | Q21: =[11]MARS!$E$15 -> 0.5
B22: TOTAL : | C22: =SUM(C11:C21) -> 17.5 | D22: =(C22-Février!C22)/Février!C22 -> -0.55128205 | E22: =SUM(E11:E21) -> 4.5 | G22: =SUM(G11:G21) -> 4.5 | I22: =SUM(I11:I21) -> 0 | K22: =SUM(K11:K21) -> 35 | M22: =SUM(M11:M21) -> 17 | O22: =SUM(O11:O21) -> 6.5 | Q22: =SUM(Q11:Q21) -> 3
C25: Evolution en montant des contrats
C26: PU | D26: Evolution | E26: PP SL MADELIN | F26: Evolution | G26: PP Epargne R | H26: Evolution | I26: PP CARDIF MADELIN | J26: Evolution | K26: ARBITRAGES | L26: Evolution | M26: SANTE | N26: Evolution | O26: PREVOYANCE | P26: Evolution | Q26: CREDIT | R26: Evolution
A27: 1 | B27: Benoît | C27: =[1]MARS!$F$7 -> 0 | E27: =[1]MARS!$F$8 -> 3600 | G27: =[1]MARS!$F$9 -> 900 | I27: =[1]MARS!$F$10 -> 0 | K27: =[1]MARS!$F$11 -> 31876.49 | M27: =[1]MARS!$F$12 -> 5653.12 | O27: =[1]MARS!$F$13 -> 0 | Q27: =[1]MARS!$F$15 -> 0
A28: 3 | B28: Claude | C28: =[2]MARS!$F$7 -> 7800 | E28: =[2]MARS!$F$8 -> 0 | G28: =[2]MARS!$F$9 -> 0 | I28: =[2]MARS!$F$10 -> 0 | K28: =[2]MARS!$F$11 -> 0 | M28: =[2]MARS!$F$12 -> 6227.51 | O28: =[2]MARS!$F$13 -> 0 | Q28: =[2]MARS!$F$15 -> 0
A29: 4 | B29: Fabrice | C29: =[3]MARS!$F$7 -> 104900 | E29: =[3]MARS!$F$8 -> 0 | G29: =[3]MARS!$F$9 -> 0 | I29: =[3]MARS!$F$10 -> 0 | K29: =[3]MARS!$F$11 -> 556591 | M29: =[3]MARS!$F$12 -> 0 | O29: =[3]MARS!$F$13 -> 0 | Q29: =[3]MARS!$F$15 -> 0
A30: 5 | B30: Dominique | C30: =[4]MARS!$F$7 -> 40000 | E30: =[4]MARS!$F$8 -> 0 | G30: =[4]MARS!$F$9 -> 3480 | I30: =[4]MARS!$F$10 -> 0 | K30: =[4]MARS!$F$11 -> 0 | M30: =[4]MARS!$F$12 -> 0 | O30: =[4]MARS!$F$13 -> 0 | Q30: =[4]MARS!$F$15 -> 0
A31: 8 | B31: Jérôme | C31: =[5]MARS!$F$7 -> 75000 | E31: =[5]MARS!$F$8 -> 0 | G31: =[5]MARS!$F$9 -> 0 | I31: =[5]MARS!$F$10 -> 0 | K31: =[5]MARS!$F$11 -> 38902.56 | M31: =[5]MARS!$F$12 -> 1400.39 | O31: =[5]MARS!$F$13 -> 2431.3 | Q31: =[5]MARS!$F$15 -> 105650
A32: 9 | B32: Philippe | C32: =[6]MARS!$F$7 -> 175800 | E32: =[6]MARS!$F$8 -> 0 | G32: =[6]MARS!$F$9 -> -399.99 | I32: =[6]MARS!$F$10 -> 0 | K32: =[6]MARS!$F$11 -> 0 | M32: =[6]MARS!$F$12 -> 0 | O32: =[6]MARS!$F$13 -> 0 | Q32: =[6]MARS!$F$15 -> 230518
A33: 11 | B33: Jean-Charles | C33: =[7]MARS!$F$7 -> 93000 | E33: =[7]MARS!$F$8 -> 3000 | G33: =[7]MARS!$F$9 -> -366.66 | I33: =[7]MARS!$F$10 -> 0 | K33: =[7]MARS!$F$11 -> 0 | M33: =[7]MARS!$F$12 -> 3180.43 | O33: =[7]MARS!$F$13 -> -667 | Q33: =[7]MARS!$F$15 -> 0
A34: 12 | B34: Eric N | C34: =[8]MARS!$F$7 -> 15000 | E34: =[8]MARS!$F$8 -> 0 | G34: =[8]MARS!$F$9 -> 12000 | I34: =[8]MARS!$F$10 -> 0 | K34: =[8]MARS!$F$11 -> 0 | M34: =[8]MARS!$F$12 -> 0 | O34: =[8]MARS!$F$13 -> 0 | Q34: =[8]MARS!$F$15 -> 0
A35: 16 | B35: Eric P | C35: =[9]MARS!$F$7 -> -2036 | E35: =[9]MARS!$F$8 -> 72.44 | G35: =[9]MARS!$F$9 -> 0 | I35: =[9]MARS!$F$10 -> 0 | K35: =[9]MARS!$F$11 -> 87408 | M35: =[9]MARS!$F$12 -> -102.3 | O35: =[9]MARS!$F$13 -> 1568.77 | Q35: =[9]MARS!$F$15 -> 0
A36: 31 | B36: Matthieu | C36: =[10]MARS!$F$7 -> 18300 | E36: =[10]MARS!$F$8 -> 9072.44 | G36: =[10]MARS!$F$9 -> 600 | I36: =[10]MARS!$F$10 -> 0 | K36: =[10]MARS!$F$11 -> 0 | M36: =[10]MARS!$F$12 -> -102.3 | O36: =[10]MARS!$F$13 -> 4108.98 | Q36: =[10]MARS!$F$15 -> 202121
A37: 33 | B37: Max | C37: =[11]MARS!$F$7 -> 1500 | E37: =[11]MARS!$F$8 -> 2400 | G37: =[11]MARS!$F$9 -> 0 | I37: =[11]MARS!$F$10 -> 0 | K37: =[11]MARS!$F$11 -> 8832 | M37: =[11]MARS!$F$12 -> 4130.94 | O37: =[11]MARS!$F$13 -> 4452.45 | Q37: =[11]MARS!$F$15 -> 105650
B38: TOTAL : | C38: =SUM(C27:C37) -> 529264 | E38: =SUM(E27:E37) -> 18144.88 | G38: =SUM(G27:G37) -> 16213.35 | I38: =SUM(I27:I37) -> 0 | K38: =SUM(K27:K37) -> 723610.05 | M38: =SUM(M27:M37) -> 20387.79 | O38: =SUM(O27:O37) -> 11894.5 | Q38: =SUM(Q27:Q37) -> 643939

Sheet Avril
E2: Evolution production depuis le début du mois d'avril 2019
C9: Evolution en nombre de contrats
C10: PU | D10: Evolution | E10: PP SL MADELIN | F10: Evolution | G10: PP Epargne R | H10: Evolution | I10: PP CARDIF MADELIN | J10: Evolution | K10: ARBITRAGES | L10: Evolution | M10: SANTE | N10: Evolution | O10: PREVOYANCE | P10: Evolution | Q10: CREDIT | R10: Evolution
A11: 1 | B11: Benoît | C11: =[1]AVRIL!$E$7 -> 1 | E11: =[1]AVRIL!$E$8 -> 0 | G11: =[1]AVRIL!$E$9 -> 1 | I11: =[1]AVRIL!$E$10 -> 0 | K11: =[1]AVRIL!$E$11 -> 0 | M11: =[1]AVRIL!$E$12 -> 0 | O11: =[1]AVRIL!$E$13 -> 1 | Q11: =[1]AVRIL!$E$15 -> 0
A12: 3 | B12: Claude | C12: =[2]AVRIL!$E$7 -> 1 | E12: =[2]AVRIL!$E$8 -> 0 | G12: =[2]AVRIL!$E$9 -> 3 | I12: =[2]AVRIL!$E$10 -> 0 | K12: =[2]AVRIL!$E$11 -> 0 | M12: =[2]AVRIL!$E$12 -> 0 | O12: =[2]AVRIL!$E$13 -> 0 | Q12: =[2]AVRIL!$E$15 -> 0
A13: 4 | B13: Fabrice | C13: =[3]AVRIL!$E$7 -> 4 | E13: =[3]AVRIL!$E$8 -> 1 | G13: =[3]AVRIL!$E$9 -> 1 | I13: =[3]AVRIL!$E$10 -> 0 | K13: =[3]AVRIL!$E$11 -> 4 | M13: =[3]AVRIL!$E$12 -> 0 | O13: =[3]AVRIL!$E$13 -> 0 | Q13: =[3]AVRIL!$E$15 -> 0
A14: 5 | B14: Dominique | C14: =[4]AVRIL!$E$7 -> 0 | E14: =[4]AVRIL!$E$8 -> 0 | G14: =[4]AVRIL!$E$9 -> 4 | I14: =[4]AVRIL!$E$10 -> 0 | K14: =[4]AVRIL!$E$11 -> 1 | M14: =[4]AVRIL!$E$12 -> 0 | O14: =[4]AVRIL!$E$13 -> 1 | Q14: =[4]AVRIL!$E$15 -> 0
A15: 8 | B15: Jérôme | C15: =[5]AVRIL!$E$7 -> 0 | E15: =[5]AVRIL!$E$8 -> 0 | G15: =[5]AVRIL!$E$9 -> 2 | I15: =[5]AVRIL!$E$10 -> 0 | K15: =[5]AVRIL!$E$11 -> 8 | M15: =[5]AVRIL!$E$12 -> 3 | O15: =[5]AVRIL!$E$13 -> 1.5 | Q15: =[5]AVRIL!$E$15 -> 0
A16: 9 | B16: Philippe | C16: =[6]AVRIL!$E$7 -> 2 | E16: =[6]AVRIL!$E$8 -> 0 | G16: =[6]AVRIL!$E$9 -> 0 | I16: =[6]AVRIL!$E$10 -> 0 | K16: =[6]AVRIL!$E$11 -> 0 | M16: =[6]AVRIL!$E$12 -> 0 | O16: =[6]AVRIL!$E$13 -> 0 | Q16: =[6]AVRIL!$E$15 -> 0
A17: 11 | B17: Jean-Charles | C17: =[7]AVRIL!$E$7 -> 5 | E17: =[7]AVRIL!$E$8 -> 0 | G17: =[7]AVRIL!$E$9 -> 2 | I17: =[7]AVRIL!$E$10 -> 0 | K17: =[7]AVRIL!$E$11 -> 2 | M17: =[7]AVRIL!$E$12 -> 0 | O17: =[7]AVRIL!$E$13 -> 1 | Q17: =[7]AVRIL!$E$15 -> 0
A18: 12 | B18: Eric N | C18: =[8]AVRIL!$E$7 -> 1 | E18: =[8]AVRIL!$E$8 -> 0 | G18: =[8]AVRIL!$E$9 -> 0 | I18: =[8]AVRIL!$E$10 -> 0 | K18: =[8]AVRIL!$E$11 -> 1 | M18: =[8]AVRIL!$E$12 -> 0 | O18: =[8]AVRIL!$E$13 -> 0 | Q18: =[8]AVRIL!$E$15 -> 0
A19: 16 | B19: Eric P | C19: =[9]AVRIL!$E$7 -> 4 | E19: =[9]AVRIL!$E$8 -> 1 | G19: =[9]AVRIL!$E$9 -> 0.5 | I19: =[9]AVRIL!$E$10 -> 0 | K19: =[9]AVRIL!$E$11 -> 0 | M19: =[9]AVRIL!$E$12 -> 1.5 | O19: =[9]AVRIL!$E$13 -> 3 | Q19: =[9]AVRIL!$E$15 -> 0
A20: 31 | B20: Matthieu | C20: =[10]AVRIL!$E$7 -> 2.5 | E20: =[10]AVRIL!$E$8 -> 1.5 | G20: =[10]AVRIL!$E$9 -> 0 | I20: =[10]AVRIL!$E$10 -> 0 | K20: =[10]AVRIL!$E$11 -> 0.5 | M20: =[10]AVRIL!$E$12 -> 2 | O20: =[10]AVRIL!$E$13 -> 3 | Q20: =[10]AVRIL!$E$15 -> 0
A21: 33 | B21: Max | C21: =[11]AVRIL!$E$7 -> 0 | E21: =[11]AVRIL!$E$8 -> 1 | G21: =[11]AVRIL!$E$9 -> 1 | I21: =[11]AVRIL!$E$10 -> 0 | K21: =[11]AVRIL!$E$11 -> 0 | M21: =[11]AVRIL!$E$12 -> 0.5 | O21: =[11]AVRIL!$E$13 -> 3 | Q21: =[11]AVRIL!$E$15 -> 0
B22: TOTAL : | C22: =SUM(C11:C21) -> 20.5 | E22: =SUM(E11:E21) -> 4.5 | G22: =SUM(G11:G21) -> 14.5 | I22: =SUM(I11:I21) -> 0 | K22: =SUM(K11:K21) -> 16.5 | M22: =SUM(M11:M21) -> 7 | O22: =SUM(O11:O21) -> 13.5 | Q22: =SUM(Q11:Q21) -> 0
C25: Evolution en montant des contrats
C26: PU | D26: Evolution | E26: PP SL MADELIN | F26: Evolution | G26: PP Epargne R | H26: Evolution | I26: PP CARDIF MADELIN | J26: Evolution | K26: ARBITRAGES | L26: Evolution | M26: SANTE | N26: Evolution | O26: PREVOYANCE | P26: Evolution | Q26: CREDIT | R26: Evolution
A27: 1 | B27: Benoît | C27: =[1]AVRIL!$F$7 -> 9500 | E27: =[1]AVRIL!$F$8 -> 0 | G27: =[1]AVRIL!$F$9 -> 1200 | I27: =[1]AVRIL!$F$10 -> 0 | K27: =[1]AVRIL!$F$11 -> 0 | M27: =[1]AVRIL!$F$12 -> 0 | O27: =[1]AVRIL!$F$13 -> 1883.13 | Q27: =[1]AVRIL!$F$15 -> 0
A28: 3 | B28: Claude | C28: =[2]AVRIL!$F$7 -> 8225 | E28: =[2]AVRIL!$F$8 -> 0 | G28: =[2]AVRIL!$F$9 -> 9600 | I28: =[2]AVRIL!$F$10 -> 0 | K28: =[2]AVRIL!$F$11 -> 0 | M28: =[2]AVRIL!$F$12 -> 0 | O28: =[2]AVRIL!$F$13 -> 0 | Q28: =[2]AVRIL!$F$15 -> 0
A29: 4 | B29: Fabrice | C29: =[3]AVRIL!$F$7 -> 50000 | E29: =[3]AVRIL!$F$8 -> 3600 | G29: =[3]AVRIL!$F$9 -> 6000 | I29: =[3]AVRIL!$F$10 -> 0 | K29: =[3]AVRIL!$F$11 -> 195200 | M29: =[3]AVRIL!$F$12 -> 0 | O29: =[3]AVRIL!$F$13 -> 0 | Q29: =[3]AVRIL!$F$15 -> 0
A30: 5 | B30: Dominique | C30: =[4]AVRIL!$F$7 -> 0 | E30: =[4]AVRIL!$F$8 -> 0 | G30: =[4]AVRIL!$F$9 -> 5340 | I30: =[4]AVRIL!$F$10 -> 0 | K30: =[4]AVRIL!$F$11 -> 26602 | M30: =[4]AVRIL!$F$12 -> 0 | O30: =[4]AVRIL!$F$13 -> 1846.98 | Q30: =[4]AVRIL!$F$15 -> 0
A31: 8 | B31: Jérôme | C31: =[5]AVRIL!$F$7 -> 0 | E31: =[5]AVRIL!$F$8 -> 0 | G31: =[5]AVRIL!$F$9 -> 4800 | I31: =[5]AVRIL!$F$10 -> 0 | K31: =[5]AVRIL!$F$11 -> 116523.78 | M31: =[5]AVRIL!$F$12 -> 3500.4 | O31: =[5]AVRIL!$F$13 -> 1138.71 | Q31: =[5]AVRIL!$F$15 -> 0
A32: 9 | B32: Philippe | C32: =[6]AVRIL!$F$7 -> 100000 | E32: =[6]AVRIL!$F$8 -> 0 | G32: =[6]AVRIL!$F$9 -> 0 | I32: =[6]AVRIL!$F$10 -> 0 | K32: =[6]AVRIL!$F$11 -> 0 | M32: =[6]AVRIL!$F$12 -> 0 | O32: =[6]AVRIL!$F$13 -> 0 | Q32: =[6]AVRIL!$F$15 -> 0
A33: 11 | B33: Jean-Charles | C33: =[7]AVRIL!$F$7 -> 48000 | E33: =[7]AVRIL!$F$8 -> 0 | G33: =[7]AVRIL!$F$9 -> 3300 | I33: =[7]AVRIL!$F$10 -> 0 | K33: =[7]AVRIL!$F$11 -> 25500 | M33: =[7]AVRIL!$F$12 -> 0 | O33: =[7]AVRIL!$F$13 -> 993.59 | Q33: =[7]AVRIL!$F$15 -> 0
A34: 12 | B34: Eric N | C34: =[8]AVRIL!$F$7 -> 50000 | E34: =[8]AVRIL!$F$8 -> 0 | G34: =[8]AVRIL!$F$9 -> 0 | I34: =[8]AVRIL!$F$10 -> 0 | K34: =[8]AVRIL!$F$11 -> 84150 | M34: =[8]AVRIL!$F$12 -> 0 | O34: =[8]AVRIL!$F$13 -> 0 | Q34: =[8]AVRIL!$F$15 -> 0
A35: 16 | B35: Eric P | C35: =[9]AVRIL!$F$7 -> 47000 | E35: =[9]AVRIL!$F$8 -> 3600 | G35: =[9]AVRIL!$F$9 -> 600 | I35: =[9]AVRIL!$F$10 -> 0 | K35: =[9]AVRIL!$F$11 -> 0 | M35: =[9]AVRIL!$F$12 -> 1135.09 | O35: =[9]AVRIL!$F$13 -> 3269.94 | Q35: =[9]AVRIL!$F$15 -> 0
A36: 31 | B36: Matthieu | C36: =[10]AVRIL!$F$7 -> 30750 | E36: =[10]AVRIL!$F$8 -> 5400 | G36: =[10]AVRIL!$F$9 -> 0 | I36: =[10]AVRIL!$F$10 -> 0 | K36: =[10]AVRIL!$F$11 -> 3600 | M36: =[10]AVRIL!$F$12 -> 1429.57 | O36: =[10]AVRIL!$F$13 -> 5137.82 | Q36: =[10]AVRIL!$F$15 -> 0
A37: 33 | B37: Max | C37: =[11]AVRIL!$F$7 -> 0 | E37: =[11]AVRIL!$F$8 -> 2400 | G37: =[11]AVRIL!$F$9 -> 1200 | I37: =[11]AVRIL!$F$10 -> 0 | K37: =[11]AVRIL!$F$11 -> 0 | M37: =[11]AVRIL!$F$12 -> 264.56 | O37: =[11]AVRIL!$F$13 -> 5096.76 | Q37: =[11]AVRIL!$F$15 -> 0
B38: TOTAL : | C38: =SUM(C27:C37) -> 343475 | E38: =SUM(E27:E37) -> 15000 | G38: =SUM(G27:G37) -> 32040 | I38: =SUM(I27:I37) -> 0 | K38: =SUM(K27:K37) -> 451575.78 | M38: =SUM(M27:M37) -> 6329.62 | O38: =SUM(O27:O37) -> 19366.93 | Q38: =SUM(Q27:Q37) -> 0

Sheet Mai
E2: Evolution production depuis le début du mois de mai 2019
C9: Evolution en nombre de contrats
C10: PU | D10: Evolution | E10: PP SL MADELIN | F10: Evolution | G10: PP Epargne R | H10: Evolution | I10: PP CARDIF MADELIN | J10: Evolution | K10: ARBITRAGES | L10: Evolution | M10: SANTE | N10: Evolution | O10: PREVOYANCE | P10: Evolution | Q10: CREDIT | R10: Evolution
A11: 1 | B11: Benoît | C11: =[1]MAI!$E$7 -> 0 | E11: =[1]MAI!$E$8 -> 0 | G11: =[1]MAI!$E$9 -> 0 | I11: =[1]MAI!$E$10 -> 0 | K11: =[1]MAI!$E$11 -> 0 | M11: =[1]MAI!$E$12 -> 0 | O11: =[1]MAI!$E$13 -> 0 | Q11: =[1]MAI!$E$15 -> 0
A12: 3 | B12: Claude | C12: =[2]MAI!$E$7 -> 0 | E12: =[2]MAI!$E$8 -> 0.5 | G12: =[2]MAI!$E$9 -> 1 | I12: =[2]MAI!$E$10 -> 0 | K12: =[2]MAI!$E$11 -> 0 | M12: =[2]MAI!$E$12 -> 2 | O12: =[2]MAI!$E$13 -> 0 | Q12: =[2]MAI!$E$15 -> 0
A13: 4 | B13: Fabrice | C13: =[3]MAI!$E$7 -> 2 | E13: =[3]MAI!$E$8 -> 0 | G13: =[3]MAI!$E$9 -> 1 | I13: =[3]MAI!$E$10 -> 0 | K13: =[3]MAI!$E$11 -> 0 | M13: =[3]MAI!$E$12 -> 0 | O13: =[3]MAI!$E$13 -> 0 | Q13: =[3]MAI!$E$15 -> 0
A14: 5 | B14: Dominique | C14: =[4]MAI!$E$7 -> 0 | E14: =[4]MAI!$E$8 -> 0 | G14: =[4]MAI!$E$9 -> 0 | I14: =[4]MAI!$E$10 -> 0 | K14: =[4]MAI!$E$11 -> 0 | M14: =[4]MAI!$E$12 -> 0 | O14: =[4]MAI!$E$13 -> 0 | Q14: =[4]MAI!$E$15 -> 0
A15: 8 | B15: Jérôme | C15: =[5]MAI!$E$7 -> 11 | E15: =[5]MAI!$E$8 -> 0 | G15: =[5]MAI!$E$9 -> 0 | I15: =[5]MAI!$E$10 -> 0 | K15: =[5]MAI!$E$11 -> 0.5 | M15: =[5]MAI!$E$12 -> 0.5 | O15: =[5]MAI!$E$13 -> 0 | Q15: =[5]MAI!$E$15 -> 0
A16: 9 | B16: Philippe | C16: =[6]MAI!$E$7 -> 5 | E16: =[6]MAI!$E$8 -> 0 | G16: =[6]MAI!$E$9 -> 0 | I16: =[6]MAI!$E$10 -> 0 | K16: =[6]MAI!$E$11 -> 7 | M16: =[6]MAI!$E$12 -> 0 | O16: =[6]MAI!$E$13 -> 0 | Q16: =[6]MAI!$E$15 -> 0
A17: 11 | B17: Jean-Charles | C17: =[7]MAI!$E$7 -> 1 | E17: =[7]MAI!$E$8 -> 1.5 | G17: =[7]MAI!$E$9 -> 0 | I17: =[7]MAI!$E$10 -> 0 | K17: =[7]MAI!$E$11 -> 0 | M17: =[7]MAI!$E$12 -> 0 | O17: =[7]MAI!$E$13 -> 0 | Q17: =[7]MAI!$E$15 -> 0
A18: 12 | B18: Eric N | C18: =[8]MAI!$E$7 -> 0 | E18: =[8]MAI!$E$8 -> 0 | G18: =[8]MAI!$E$9 -> 0 | I18: =[8]MAI!$E$10 -> 0 | K18: =[8]MAI!$E$11 -> 0 | M18: =[8]MAI!$E$12 -> 0 | O18: =[8]MAI!$E$13 -> 0 | Q18: =[8]MAI!$E$15 -> 0
A19: 16 | B19: Eric P | C19: =[9]MAI!$E$7 -> 4.5 | E19: =[9]MAI!$E$8 -> 0.5 | G19: =[9]MAI!$E$9 -> 1 | I19: =[9]MAI!$E$10 -> 0 | K19: =[9]MAI!$E$11 -> 0.5 | M19: =[9]MAI!$E$12 -> 0 | O19: =[9]MAI!$E$13 -> 0 | Q19: =[9]MAI!$E$15 -> 0
A20: 31 | B20: Matthieu | C20: =[10]MAI!$E$7 -> 3 | E20: =[10]MAI!$E$8 -> 2 | G20: =[10]MAI!$E$9 -> 1.5 | I20: =[10]MAI!$E$10 -> 0 | K20: =[10]MAI!$E$11 -> 1 | M20: =[10]MAI!$E$12 -> 1 | O20: =[10]MAI!$E$13 -> 1.5 | Q20: =[10]MAI!$E$15 -> 0
A21: 33 | B21: Max | C21: =[11]MAI!$E$7 -> 1 | E21: =[11]MAI!$E$8 -> 1 | G21: =[11]MAI!$E$9 -> 0 | I21: =[11]MAI!$E$10 -> 0 | K21: =[11]MAI!$E$11 -> 0 | M21: =[11]MAI!$E$12 -> 0.5 | O21: =[11]MAI!$E$13 -> 2.5 | Q21: =[11]MAI!$E$15 -> 0
B22: TOTAL : | C22: =SUM(C11:C21) -> 27.5 | E22: =SUM(E11:E21) -> 5.5 | G22: =SUM(G11:G21) -> 4.5 | I22: =SUM(I11:I21) -> 0 | K22: =SUM(K11:K21) -> 9 | M22: =SUM(M11:M21) -> 4 | O22: =SUM(O11:O21) -> 4 | Q22: =SUM(Q11:Q21) -> 0
C25: Evolution en montant des contrats
C26: PU | D26: Evolution | E26: PP SL MADELIN | F26: Evolution | G26: PP Epargne R | H26: Evolution | I26: PP CARDIF MADELIN | J26: Evolution | K26: ARBITRAGES | L26: Evolution | M26: SANTE | N26: Evolution | O26: PREVOYANCE | P26: Evolution | Q26: CREDIT | R26: Evolution
A27: 1 | B27: Benoît | C27: =[1]MAI!$F$7 -> 0 | E27: =[1]MAI!$F$8 -> 0 | G27: =[1]MAI!$F$9 -> 0 | I27: =[1]MAI!$F$10 -> 0 | K27: =[1]MAI!$F$11 -> 0 | M27: =[1]MAI!$F$12 -> 0 | O27: =[1]MAI!$F$13 -> 0 | Q27: =[1]MAI!$F$15 -> 0
A28: 3 | B28: Claude | C28: =[2]MAI!$F$7 -> 0 | E28: =[2]MAI!$F$8 -> 1500 | G28: =[2]MAI!$F$9 -> 3600 | I28: =[2]MAI!$F$10 -> 0 | K28: =[2]MAI!$F$11 -> 0 | M28: =[2]MAI!$F$12 -> 2266.94 | O28: =[2]MAI!$F$13 -> 0 | Q28: =[2]MAI!$F$15 -> 0
A29: 4 | B29: Fabrice | C29: =[3]MAI!$F$7 -> 200000 | E29: =[3]MAI!$F$8 -> 0 | G29: =[3]MAI!$F$9 -> 3600 | I29: =[3]MAI!$F$10 -> 0 | K29: =[3]MAI!$F$11 -> 0 | M29: =[3]MAI!$F$12 -> 0 | O29: =[3]MAI!$F$13 -> 0 | Q29: =[3]MAI!$F$15 -> 0
A30: 5 | B30: Dominique | C30: =[4]MAI!$F$7 -> 0 | E30: =[4]MAI!$F$8 -> 0 | G30: =[4]MAI!$F$9 -> 0 | I30: =[4]MAI!$F$10 -> 0 | K30: =[4]MAI!$F$11 -> 0 | M30: =[4]MAI!$F$12 -> 0 | O30: =[4]MAI!$F$13 -> 0 | Q30: =[4]MAI!$F$15 -> 0
A31: 8 | B31: Jérôme | C31: =[5]MAI!$F$7 -> 164250 | E31: =[5]MAI!$F$8 -> 0 | G31: =[5]MAI!$F$9 -> 0 | I31: =[5]MAI!$F$10 -> 0 | K31: =[5]MAI!$F$11 -> 12200 | M31: =[5]MAI!$F$12 -> 401.83 | O31: =[5]MAI!$F$13 -> 0 | Q31: =[5]MAI!$F$15 -> 0
A32: 9 | B32: Philippe | C32: =[6]MAI!$F$7 -> 62200 | E32: =[6]MAI!$F$8 -> 0 | G32: =[6]MAI!$F$9 -> 0 | I32: =[6]MAI!$F$10 -> 0 | K32: =[6]MAI!$F$11 -> 88275 | M32: =[6]MAI!$F$12 -> 0 | O32: =[6]MAI!$F$13 -> 0 | Q32: =[6]MAI!$F$15 -> 0
A33: 11 | B33: Jean-Charles | C33: =[7]MAI!$F$7 -> 5000 | E33: =[7]MAI!$F$8 -> 4500 | G33: =[7]MAI!$F$9 -> 0 | I33: =[7]MAI!$F$10 -> 0 | K33: =[7]MAI!$F$11 -> 0 | M33: =[7]MAI!$F$12 -> 0 | O33: =[7]MAI!$F$13 -> 0 | Q33: =[7]MAI!$F$15 -> 0
A34: 12 | B34: Eric N | C34: =[8]MAI!$F$7 -> 0 | E34: =[8]MAI!$F$8 -> 0 | G34: =[8]MAI!$F$9 -> 0 | I34: =[8]MAI!$F$10 -> 0 | K34: =[8]MAI!$F$11 -> 0 | M34: =[8]MAI!$F$12 -> 0 | O34: =[8]MAI!$F$13 -> 0 | Q34: =[8]MAI!$F$15 -> 0
A35: 16 | B35: Eric P | C35: =[9]MAI!$F$7 -> 150000 | E35: =[9]MAI!$F$8 -> 1800 | G35: =[9]MAI!$F$9 -> 900 | I35: =[9]MAI!$F$10 -> 0 | K35: =[9]MAI!$F$11 -> 7648.1 | M35: =[9]MAI!$F$12 -> 0 | O35: =[9]MAI!$F$13 -> 0 | Q35: =[9]MAI!$F$15 -> 0
A36: 31 | B36: Matthieu | C36: =[10]MAI!$F$7 -> 22000 | E36: =[10]MAI!$F$8 -> 6600 | G36: =[10]MAI!$F$9 -> 4200 | I36: =[10]MAI!$F$10 -> 0 | K36: =[10]MAI!$F$11 -> 5082 | M36: =[10]MAI!$F$12 -> 1043.23 | O36: =[10]MAI!$F$13 -> 1439.77 | Q36: =[10]MAI!$F$15 -> 0
A37: 33 | B37: Max | C37: =[11]MAI!$F$7 -> 3000 | E37: =[11]MAI!$F$8 -> 3000 | G37: =[11]MAI!$F$9 -> 0 | I37: =[11]MAI!$F$10 -> 0 | K37: =[11]MAI!$F$11 -> 0 | M37: =[11]MAI!$F$12 -> 401.83 | O37: =[11]MAI!$F$13 -> 3334.76 | Q37: =[11]MAI!$F$15 -> 0
B38: TOTAL : | C38: =SUM(C27:C37) -> 606450 | E38: =SUM(E27:E37) -> 17400 | G38: =SUM(G27:G37) -> 12300 | I38: =SUM(I27:I37) -> 0 | K38: =SUM(K27:K37) -> 113205.1 | M38: =SUM(M27:M37) -> 4113.83 | O38: =SUM(O27:O37) -> 4774.53 | Q38: =SUM(Q27:Q37) -> 0

Sheet Juin
E2: Evolution production depuis le début du mois de juin 2019
C9: Evolution en nombre de contrats
C10: PU | D10: Evolution | E10: PP SL MADELIN | F10: Evolution | G10: PP Epargne R | H10: Evolution | I10: PP CARDIF MADELIN | J10: Evolution | K10: ARBITRAGES | L10: Evolution | M10: SANTE | N10: Evolution | O10: PREVOYANCE | P10: Evolution | Q10: CREDIT | R10: Evolution
A11: 1 | B11: Benoît | C11: =[1]JUIN!$E$7 -> 0 | E11: =[1]JUIN!$E$8 -> 0 | G11: =[1]JUIN!$E$9 -> 0 | I11: =[1]JUIN!$E$10 -> 0 | K11: =[1]JUIN!$E$11 -> 0 | M11: =[1]JUIN!$E$12 -> 0 | O11: =[1]JUIN!$E$13 -> 0 | Q11: =[1]JUIN!$E$15 -> 0
A12: 3 | B12: Claude | C12: =[2]JUIN!$E$7 -> 0 | E12: =[2]JUIN!$E$8 -> 0 | G12: =[2]JUIN!$E$9 -> 0 | I12: =[2]JUIN!$E$10 -> 0 | K12: =[2]JUIN!$E$11 -> 0 | M12: =[2]JUIN!$E$12 -> 0 | O12: =[2]JUIN!$E$13 -> 0 | Q12: =[2]JUIN!$E$15 -> 0
A13: 4 | B13: Fabrice | C13: =[3]JUIN!$E$7 -> 6 | E13: =[3]JUIN!$E$8 -> 0 | G13: =[3]JUIN!$E$9 -> 1 | I13: =[3]JUIN!$E$10 -> 0 | K13: =[3]JUIN!$E$11 -> 13 | M13: =[3]JUIN!$E$12 -> 3 | O13: =[3]JUIN!$E$13 -> 2 | Q13: =[3]JUIN!$E$15 -> 0
A14: 5 | B14: Dominique | C14: =[4]JUIN!$E$7 -> 0 | E14: =[4]JUIN!$E$8 -> 0 | G14: =[4]JUIN!$E$9 -> 0 | I14: =[4]JUIN!$E$10 -> 0 | K14: =[4]JUIN!$E$11 -> 0 | M14: =[4]JUIN!$E$12 -> 0 | O14: =[4]JUIN!$E$13 -> 0 | Q14: =[4]JUIN!$E$15 -> 0
A15: 8 | B15: Jérôme | C15: =[5]JUIN!$E$7 -> 0 | E15: =[5]JUIN!$E$8 -> 0 | G15: =[5]JUIN!$E$9 -> 0 | I15: =[5]JUIN!$E$10 -> 0 | K15: =[5]JUIN!$E$11 -> 0 | M15: =[5]JUIN!$E$12 -> 0 | O15: =[5]JUIN!$E$13 -> 0 | Q15: =[5]JUIN!$E$15 -> 0
A16: 9 | B16: Philippe | C16: =[6]JUIN!$E$7 -> 0 | E16: =[6]JUIN!$E$8 -> 0 | G16: =[6]JUIN!$E$9 -> 0 | I16: =[6]JUIN!$E$10 -> 0 | K16: =[6]JUIN!$E$11 -> 0 | M16: =[6]JUIN!$E$12 -> 0 | O16: =[6]JUIN!$E$13 -> 0 | Q16: =[6]JUIN!$E$15 -> 0
A17: 11 | B17: Jean-Charles | C17: =[7]JUIN!$E$7 -> 0 | E17: =[7]JUIN!$E$8 -> 0 | G17: =[7]JUIN!$E$9 -> 0 | I17: =[7]JUIN!$E$10 -> 0 | K17: =[7]JUIN!$E$11 -> 0 | M17: =[7]JUIN!$E$12 -> 0 | O17: =[7]JUIN!$E$13 -> 0 | Q17: =[7]JUIN!$E$15 -> 0
A18: 12 | B18: Eric N | C18: =[8]JUIN!$E$7 -> 0 | E18: =[8]JUIN!$E$8 -> 0 | G18: =[8]JUIN!$E$9 -> 0 | I18: =[8]JUIN!$E$10 -> 0 | K18: =[8]JUIN!$E$11 -> 0 | M18: =[8]JUIN!$E$12 -> 0 | O18: =[8]JUIN!$E$13 -> 0 | Q18: =[8]JUIN!$E$15 -> 0
A19: 16 | B19: Eric P | C19: =[9]JUIN!$E$7 -> 0 | E19: =[9]JUIN!$E$8 -> 0 | G19: =[9]JUIN!$E$9 -> 0 | I19: =[9]JUIN!$E$10 -> 0 | K19: =[9]JUIN!$E$11 -> 0 | M19: =[9]JUIN!$E$12 -> 0 | O19: =[9]JUIN!$E$13 -> 0 | Q19: =[9]JUIN!$E$15 -> 0
A20: 31 | B20: Matthieu | C20: =[10]JUIN!$E$7 -> 1.5 | E20: =[10]JUIN!$E$8 -> 0.5 | G20: =[10]JUIN!$E$9 -> 0 | I20: =[10]JUIN!$E$10 -> 0 | K20: =[10]JUIN!$E$11 -> 0.5 | M20: =[10]JUIN!$E$12 -> 1.5 | O20: =[10]JUIN!$E$13 -> 1.5 | Q20: =[10]JUIN!$E$15 -> 0
A21: 33 | B21: Max | C21: =[11]JUIN!$E$7 -> 0 | E21: =[11]JUIN!$E$8 -> 0 | G21: =[11]JUIN!$E$9 -> 0 | I21: =[11]JUIN!$E$10 -> 0 | K21: =[11]JUIN!$E$11 -> 0 | M21: =[11]JUIN!$E$12 -> 0 | O21: =[11]JUIN!$E$13 -> 0 | Q21: =[11]JUIN!$E$15 -> 0
B22: TOTAL : | C22: =SUM(C11:C21) -> 7.5 | E22: =SUM(E11:E21) -> 0.5 | G22: =SUM(G11:G21) -> 1 | I22: =SUM(I11:I21) -> 0 | K22: =SUM(K11:K21) -> 13.5 | M22: =SUM(M11:M21) -> 4.5 | O22: =SUM(O11:O21) -> 3.5 | Q22: =SUM(Q11:Q21) -> 0
C25: Evolution en montant des contrats
C26: PU | D26: Evolution | E26: PP SL MADELIN | F26: Evolution | G26: PP Epargne R | H26: Evolution | I26: PP CARDIF MADELIN | J26: Evolution | K26: ARBITRAGES | L26: Evolution | M26: SANTE | N26: Evolution | O26: PREVOYANCE | P26: Evolution | Q26: CREDIT | R26: Evolution
A27: 1 | B27: Benoît | C27: =[1]JUIN!$F$7 -> 0 | E27: =[1]JUIN!$F$8 -> 0 | G27: =[1]JUIN!$F$9 -> 0 | I27: =[1]JUIN!$F$10 -> 0 | K27: =[1]JUIN!$F$11 -> 0 | M27: =[1]JUIN!$F$12 -> 0 | O27: =[1]JUIN!$F$13 -> 0 | Q27: =[1]JUIN!$F$15 -> 0
A28: 3 | B28: Claude | C28: =[2]JUIN!$F$7 -> 0 | E28: =[2]JUIN!$F$8 -> 0 | G28: =[2]JUIN!$F$9 -> 0 | I28: =[2]JUIN!$F$10 -> 0 | K28: =[2]JUIN!$F$11 -> 0 | M28: =[2]JUIN!$F$12 -> 0 | O28: =[2]JUIN!$F$13 -> 0 | Q28: =[2]JUIN!$F$15 -> 0
A29: 4 | B29: Fabrice | C29: =[3]JUIN!$F$7 -> 90968 | E29: =[3]JUIN!$F$8 -> 0 | G29: =[3]JUIN!$F$9 -> 3600 | I29: =[3]JUIN!$F$10 -> 0 | K29: =[3]JUIN!$F$11 -> 331636 | M29: =[3]JUIN!$F$12 -> 2180.37 | O29: =[3]JUIN!$F$13 -> 2141 | Q29: =[3]JUIN!$F$15 -> 0
A30: 5 | B30: Dominique | C30: =[4]JUIN!$F$7 -> 0 | E30: =[4]JUIN!$F$8 -> 0 | G30: =[4]JUIN!$F$9 -> 0 | I30: =[4]JUIN!$F$10 -> 0 | K30: =[4]JUIN!$F$11 -> 0 | M30: =[4]JUIN!$F$12 -> 0 | O30: =[4]JUIN!$F$13 -> 0 | Q30: =[4]JUIN!$F$15 -> 0
A31: 8 | B31: Jérôme | C31: =[5]JUIN!$F$7 -> 0 | E31: =[5]JUIN!$F$8 -> 0 | G31: =[5]JUIN!$F$9 -> 0 | I31: =[5]JUIN!$F$10 -> 0 | K31: =[5]JUIN!$F$11 -> 0 | M31: =[5]JUIN!$F$12 -> 0 | O31: =[5]JUIN!$F$13 -> 0 | Q31: =[5]JUIN!$F$15 -> 0
A32: 9 | B32: Philippe | C32: =[6]JUIN!$F$7 -> 0 | E32: =[6]JUIN!$F$8 -> 0 | G32: =[6]JUIN!$F$9 -> 0 | I32: =[6]JUIN!$F$10 -> 0 | K32: =[6]JUIN!$F$11 -> 0 | M32: =[6]JUIN!$F$12 -> 0 | O32: =[6]JUIN!$F$13 -> 0 | Q32: =[6]JUIN!$F$15 -> 0
A33: 11 | B33: Jean-Charles | C33: =[7]JUIN!$F$7 -> 0 | E33: =[7]JUIN!$F$8 -> 0 | G33: =[7]JUIN!$F$9 -> 0 | I33: =[7]JUIN!$F$10 -> 0 | K33: =[7]JUIN!$F$11 -> 0 | M33: =[7]JUIN!$F$12 -> 0 | O33: =[7]JUIN!$F$13 -> 0 | Q33: =[7]JUIN!$F$15 -> 0
A34: 12 | B34: Eric N | C34: =[8]JUIN!$F$7 -> 0 | E34: =[8]JUIN!$F$8 -> 0 | G34: =[8]JUIN!$F$9 -> 0 | I34: =[8]JUIN!$F$10 -> 0 | K34: =[8]JUIN!$F$11 -> 0 | M34: =[8]JUIN!$F$12 -> 0 | O34: =[8]JUIN!$F$13 -> 0 | Q34: =[8]JUIN!$F$15 -> 0
A35: 16 | B35: Eric P | C35: =[9]JUIN!$F$7 -> 0 | E35: =[9]JUIN!$F$8 -> 0 | G35: =[9]JUIN!$F$9 -> 0 | I35: =[9]JUIN!$F$10 -> 0 | K35: =[9]JUIN!$F$11 -> 0 | M35: =[9]JUIN!$F$12 -> 0 | O35: =[9]JUIN!$F$13 -> 0 | Q35: =[9]JUIN!$F$15 -> 0
A36: 31 | B36: Matthieu | C36: =[10]JUIN!$F$7 -> 11500 | E36: =[10]JUIN!$F$8 -> 1800 | G36: =[10]JUIN!$F$9 -> 0 | I36: =[10]JUIN!$F$10 -> 0 | K36: =[10]JUIN!$F$11 -> 7648 | M36: =[10]JUIN!$F$12 -> 1239.86 | O36: =[10]JUIN!$F$13 -> 2745.28 | Q36: =[10]JUIN!$F$15 -> 0
A37: 33 | B37: Max | C37: =[11]JUIN!$F$7 -> 0 | E37: =[11]JUIN!$F$8 -> 0 | G37: =[11]JUIN!$F$9 -> 0 | I37: =[11]JUIN!$F$10 -> 0 | K37: =[11]JUIN!$F$11 -> 0 | M37: =[11]JUIN!$F$12 -> 0 | O37: =[11]JUIN!$F$13 -> 0 | Q37: =[11]JUIN!$F$15 -> 0
B38: TOTAL : | C38: =SUM(C27:C37) -> 102468 | E38: =SUM(E27:E37) -> 1800 | G38: =SUM(G27:G37) -> 3600 | I38: =SUM(I27:I37) -> 0 | K38: =SUM(K27:K37) -> 339284 | M38: =SUM(M27:M37) -> 3420.23 | O38: =SUM(O27:O37) -> 4886.28 | Q38: =SUM(Q27:Q37) -> 0

Sheet Juillet
E2: Evolution production depuis le début du mois de juillet 2019
C9: Evolution en nombre de contrats
C10: PU | D10: Evolution | E10: PP SL MADELIN | F10: Evolution | G10: PP Epargne R | H10: Evolution | I10: PP CARDIF MADELIN | J10: Evolution | K10: ARBITRAGES | L10: Evolution | M10: SANTE | N10: Evolution | O10: PREVOYANCE | P10: Evolution | Q10: CREDIT | R10: Evolution
A11: 1 | B11: Benoît | C11: =[1]JUILLET!$E$7 -> 0 | E11: =[1]JUILLET!$E$8 -> 0 | G11: =[1]JUILLET!$E$9 -> 0 | I11: =[1]JUILLET!$E$10 -> 0 | K11: =[1]JUILLET!$E$11 -> 0 | M11: =[1]JUILLET!$E$12 -> 0 | O11: =[1]JUILLET!$E$13 -> 0 | Q11: =[1]JUILLET!$E$15 -> 0
A12: 3 | B12: Claude | C12: =[2]JUILLET!$E$7 -> 0 | E12: =[2]JUILLET!$E$8 -> 0 | G12: =[2]JUILLET!$E$9 -> 0 | I12: =[2]JUILLET!$E$10 -> 0 | K12: =[2]JUILLET!$E$11 -> 0 | M12: =[2]JUILLET!$E$12 -> 0 | O12: =[2]JUILLET!$E$13 -> 0 | Q12: =[2]JUILLET!$E$15 -> 0
A13: 4 | B13: Fabrice | C13: =[3]JUILLET!$E$7 -> 0 | E13: =[3]JUILLET!$E$8 -> 0 | G13: =[3]JUILLET!$E$9 -> 0 | I13: =[3]JUILLET!$E$10 -> 0 | K13: =[3]JUILLET!$E$11 -> 0 | M13: =[3]JUILLET!$E$12 -> 0 | O13: =[3]JUILLET!$E$13 -> 0 | Q13: =[3]JUILLET!$E$15 -> 0
A14: 5 | B14: Dominique | C14: =[4]JUILLET!$E$7 -> 0 | E14: =[4]JUILLET!$E$8 -> 0 | G14: =[4]JUILLET!$E$9 -> 0 | I14: =[4]JUILLET!$E$10 -> 0 | K14: =[4]JUILLET!$E$11 -> 0 | M14: =[4]JUILLET!$E$12 -> 0 | O14: =[4]JUILLET!$E$13 -> 0 | Q14: =[4]JUILLET!$E$15 -> 0
A15: 8 | B15: Jérôme | C15: =[5]JUILLET!$E$7 -> 0 | E15: =[5]JUILLET!$E$8 -> 0 | G15: =[5]JUILLET!$E$9 -> 0 | I15: =[5]JUILLET!$E$10 -> 0 | K15: =[5]JUILLET!$E$11 -> 0 | M15: =[5]JUILLET!$E$12 -> 0 | O15: =[5]JUILLET!$E$13 -> 0 | Q15: =[5]JUILLET!$E$15 -> 0
A16: 9 | B16: Philippe | C16: =[6]JUILLET!$E$7 -> 0 | E16: =[6]JUILLET!$E$8 -> 0 | G16: =[6]JUILLET!$E$9 -> 0 | I16: =[6]JUILLET!$E$10 -> 0 | K16: =[6]JUILLET!$E$11 -> 0 | M16: =[6]JUILLET!$E$12 -> 0 | O16: =[6]JUILLET!$E$13 -> 0 | Q16: =[6]JUILLET!$E$15 -> 0
A17: 11 | B17: Jean-Charles | C17: =[7]JUILLET!$E$7 -> 0 | E17: =[7]JUILLET!$E$8 -> 0 | G17: =[7]JUILLET!$E$9 -> 0 | I17: =[7]JUILLET!$E$10 -> 0 | K17: =[7]JUILLET!$E$11 -> 0 | M17: =[7]JUILLET!$E$12 -> 0 | O17: =[7]JUILLET!$E$13 -> 0 | Q17: =[7]JUILLET!$E$15 -> 0
A18: 12 | B18: Eric N | C18: =[8]JUILLET!$E$7 -> 0 | E18: =[8]JUILLET!$E$8 -> 0 | G18: =[8]JUILLET!$E$9 -> 0 | I18: =[8]JUILLET!$E$10 -> 0 | K18: =[8]JUILLET!$E$11 -> 0 | M18: =[8]JUILLET!$E$12 -> 0 | O18: =[8]JUILLET!$E$13 -> 0 | Q18: =[8]JUILLET!$E$15 -> 0
A19: 16 | B19: Eric P | C19: =[9]JUILLET!$E$7 -> 0 | E19: =[9]JUILLET!$E$8 -> 0 | G19: =[9]JUILLET!$E$9 -> 0 | I19: =[9]JUILLET!$E$10 -> 0 | K19: =[9]JUILLET!$E$11 -> 0 | M19: =[9]JUILLET!$E$12 -> 0 | O19: =[9]JUILLET!$E$13 -> 0 | Q19: =[9]JUILLET!$E$15 -> 0
A20: 31 | B20: Matthieu | C20: =[10]JUILLET!$E$7 -> 0 | E20: =[10]JUILLET!$E$8 -> 0 | G20: =[10]JUILLET!$E$9 -> 0 | I20: =[10]JUILLET!$E$10 -> 0 | K20: =[10]JUILLET!$E$11 -> 0 | M20: =[10]JUILLET!$E$12 -> 0 | O20: =[10]JUILLET!$E$13 -> 0 | Q20: =[10]JUILLET!$E$15 -> 0
A21: 33 | B21: Max | C21: =[11]JUILLET!$E$7 -> 0 | E21: =[11]JUILLET!$E$8 -> 0 | G21: =[11]JUILLET!$E$9 -> 0 | I21: =[11]JUILLET!$E$10 -> 0 | K21: =[11]JUILLET!$E$11 -> 0 | M21: =[11]JUILLET!$E$12 -> 0 | O21: =[11]JUILLET!$E$13 -> 0 | Q21: =[11]JUILLET!$E$15 -> 0
B22: TOTAL : | C22: =SUM(C11:C21) -> 0 | E22: =SUM(E11:E21) -> 0 | G22: =SUM(G11:G21) -> 0 | I22: =SUM(I11:I21) -> 0 | K22: =SUM(K11:K21) -> 0 | M22: =SUM(M11:M21) -> 0 | O22: =SUM(O11:O21) -> 0 | Q22: =SUM(Q11:Q21) -> 0
C25: Evolution en montant des contrats
C26: PU | D26: Evolution | E26: PP SL MADELIN | F26: Evolution | G26: PP Epargne R | H26: Evolution | I26: PP CARDIF MADELIN | J26: Evolution | K26: ARBITRAGES | L26: Evolution | M26: SANTE | N26: Evolution | O26: PREVOYANCE | P26: Evolution | Q26: CREDIT | R26: Evolution
A27: 1 | B27: Benoît | C27: =[1]JUILLET!$F$7 -> 0 | E27: =[1]JUILLET!$F$8 -> 0 | G27: =[1]JUILLET!$F$9 -> 0 | I27: =[1]JUILLET!$F$10 -> 0 | K27: =[1]JUILLET!$F$11 -> 0 | M27: =[1]JUILLET!$F$12 -> 0 | O27: =[1]JUILLET!$F$13 -> 0 | Q27: =[1]JUILLET!$F$15 -> 0
A28: 3 | B28: Claude | C28: =[2]JUILLET!$F$7 -> 0 | E28: =[2]JUILLET!$F$8 -> 0 | G28: =[2]JUILLET!$F$9 -> 0 | I28: =[2]JUILLET!$F$10 -> 0 | K28: =[2]JUILLET!$F$11 -> 0 | M28: =[2]JUILLET!$F$12 -> 0 | O28: =[2]JUILLET!$F$13 -> 0 | Q28: =[2]JUILLET!$F$15 -> 0
A29: 4 | B29: Fabrice | C29: =[3]JUILLET!$F$7 -> 0 | E29: =[3]JUILLET!$F$8 -> 0 | G29: =[3]JUILLET!$F$9 -> 0 | I29: =[3]JUILLET!$F$10 -> 0 | K29: =[3]JUILLET!$F$11 -> 0 | M29: =[3]JUILLET!$F$12 -> 0 | O29: =[3]JUILLET!$F$13 -> 0 | Q29: =[3]JUILLET!$F$15 -> 0
A30: 5 | B30: Dominique | C30: =[4]JUILLET!$F$7 -> 0 | E30: =[4]JUILLET!$F$8 -> 0 | G30: =[4]JUILLET!$F$9 -> 0 | I30: =[4]JUILLET!$F$10 -> 0 | K30: =[4]JUILLET!$F$11 -> 0 | M30: =[4]JUILLET!$F$12 -> 0 | O30: =[4]JUILLET!$F$13 -> 0 | Q30: =[4]JUILLET!$F$15 -> 0
A31: 8 | B31: Jérôme | C31: =[5]JUILLET!$F$7 -> 0 | E31: =[5]JUILLET!$F$8 -> 0 | G31: =[5]JUILLET!$F$9 -> 0 | I31: =[5]JUILLET!$F$10 -> 0 | K31: =[5]JUILLET!$F$11 -> 0 | M31: =[5]JUILLET!$F$12 -> 0 | O31: =[5]JUILLET!$F$13 -> 0 | Q31: =[5]JUILLET!$F$15 -> 0
A32: 9 | B32: Philippe | C32: =[6]JUILLET!$F$7 -> 0 | E32: =[6]JUILLET!$F$8 -> 0 | G32: =[6]JUILLET!$F$9 -> 0 | I32: =[6]JUILLET!$F$10 -> 0 | K32: =[6]JUILLET!$F$11 -> 0 | M32: =[6]JUILLET!$F$12 -> 0 | O32: =[6]JUILLET!$F$13 -> 0 | Q32: =[6]JUILLET!$F$15 -> 0
A33: 11 | B33: Jean-Charles | C33: =[7]JUILLET!$F$7 -> 0 | E33: =[7]JUILLET!$F$8 -> 0 | G33: =[7]JUILLET!$F$9 -> 0 | I33: =[7]JUILLET!$F$10 -> 0 | K33: =[7]JUILLET!$F$11 -> 0 | M33: =[7]JUILLET!$F$12 -> 0 | O33: =[7]JUILLET!$F$13 -> 0 | Q33: =[7]JUILLET!$F$15 -> 0
A34: 12 | B34: Eric N | C34: =[8]JUILLET!$F$7 -> 0 | E34: =[8]JUILLET!$F$8 -> 0 | G34: =[8]JUILLET!$F$9 -> 0 | I34: =[8]JUILLET!$F$10 -> 0 | K34: =[8]JUILLET!$F$11 -> 0 | M34: =[8]JUILLET!$F$12 -> 0 | O34: =[8]JUILLET!$F$13 -> 0 | Q34: =[8]JUILLET!$F$15 -> 0
A35: 16 | B35: Eric P | C35: =[9]JUILLET!$F$7 -> 0 | E35: =[9]JUILLET!$F$8 -> 0 | G35: =[9]JUILLET!$F$9 -> 0 | I35: =[9]JUILLET!$F$10 -> 0 | K35: =[9]JUILLET!$F$11 -> 0 | M35: =[9]JUILLET!$F$12 -> 0 | O35: =[9]JUILLET!$F$13 -> 0 | Q35: =[9]JUILLET!$F$15 -> 0
A36: 31 | B36: Matthieu | C36: =[10]JUILLET!$F$7 -> 0 | E36: =[10]JUILLET!$F$8 -> 0 | G36: =[10]JUILLET!$F$9 -> 0 | I36: =[10]JUILLET!$F$10 -> 0 | K36: =[10]JUILLET!$F$11 -> 0 | M36: =[10]JUILLET!$F$12 -> 0 | O36: =[10]JUILLET!$F$13 -> 0 | Q36: =[10]JUILLET!$F$15 -> 0
A37: 33 | B37: Max | C37: =[11]JUILLET!$F$7 -> 0 | E37: =[11]JUILLET!$F$8 -> 0 | G37: =[11]JUILLET!$F$9 -> 0 | I37: =[11]JUILLET!$F$10 -> 0 | K37: =[11]JUILLET!$F$11 -> 0 | M37: =[11]JUILLET!$F$12 -> 0 | O37: =[11]JUILLET!$F$13 -> 0 | Q37: =[11]JUILLET!$F$15 -> 0
B38: TOTAL : | C38: =SUM(C27:C37) -> 0 | E38: =SUM(E27:E37) -> 0 | G38: =SUM(G27:G37) -> 0 | I38: =SUM(I27:I37) -> 0 | K38: =SUM(K27:K37) -> 0 | M38: =SUM(M27:M37) -> 0 | O38: =SUM(O27:O37) -> 0 | Q38: =SUM(Q27:Q37) -> 0

Sheet Août
E2: Evolution production depuis le début du mois d'août 2019
C9: Evolution en nombre de contrats
C10: PU | D10: Evolution | E10: PP SL MADELIN | F10: Evolution | G10: PP Epargne R | H10: Evolution | I10: PP CARDIF MADELIN | J10: Evolution | K10: ARBITRAGES | L10: Evolution | M10: SANTE | N10: Evolution | O10: PREVOYANCE | P10: Evolution | Q10: CREDIT | R10: Evolution
A11: 1 | B11: Benoît | C11: =[1]AOUT!$E$7 -> 0 | E11: =[1]AOUT!$E$8 -> 0 | G11: =[1]AOUT!$E$9 -> 0 | I11: =[1]AOUT!$E$10 -> 0 | K11: =[1]AOUT!$E$11 -> 0 | M11: =[1]AOUT!$E$12 -> 0 | O11: =[1]AOUT!$E$13 -> 0 | Q11: =[1]AOUT!$E$15 -> 0
A12: 3 | B12: Claude | C12: =[2]AOUT!$E$7 -> 0 | E12: =[2]AOUT!$E$8 -> 0 | G12: =[2]AOUT!$E$9 -> 0 | I12: =[2]AOUT!$E$10 -> 0 | K12: =[2]AOUT!$E$11 -> 0 | M12: =[2]AOUT!$E$12 -> 0 | O12: =[2]AOUT!$E$13 -> 0 | Q12: =[2]AOUT!$E$15 -> 0
A13: 4 | B13: Fabrice | C13: =[3]AOUT!$E$7 -> 0 | E13: =[3]AOUT!$E$8 -> 0 | G13: =[3]AOUT!$E$9 -> 0 | I13: =[3]AOUT!$E$10 -> 0 | K13: =[3]AOUT!$E$11 -> 0 | M13: =[3]AOUT!$E$12 -> 0 | O13: =[3]AOUT!$E$13 -> 0 | Q13: =[3]AOUT!$E$15 -> 0
A14: 5 | B14: Dominique | C14: =[4]AOUT!$E$7 -> 0 | E14: =[4]AOUT!$E$8 -> 0 | G14: =[4]AOUT!$E$9 -> 0 | I14: =[4]AOUT!$E$10 -> 0 | K14: =[4]AOUT!$E$11 -> 0 | M14: =[4]AOUT!$E$12 -> 0 | O14: =[4]AOUT!$E$13 -> 0 | Q14: =[4]AOUT!$E$15 -> 0
A15: 8 | B15: Jérôme | C15: =[5]AOUT!$E$7 -> 0 | E15: =[5]AOUT!$E$8 -> 0 | G15: =[5]AOUT!$E$9 -> 0 | I15: =[5]AOUT!$E$10 -> 0 | K15: =[5]AOUT!$E$11 -> 0 | M15: =[5]AOUT!$E$12 -> 0 | O15: =[5]AOUT!$E$13 -> 0 | Q15: =[5]AOUT!$E$15 -> 0
A16: 9 | B16: Philippe | C16: =[6]AOUT!$E$7 -> 0 | E16: =[6]AOUT!$E$8 -> 0 | G16: =[6]AOUT!$E$9 -> 0 | I16: =[6]AOUT!$E$10 -> 0 | K16: =[6]AOUT!$E$11 -> 0 | M16: =[6]AOUT!$E$12 -> 0 | O16: =[6]AOUT!$E$13 -> 0 | Q16: =[6]AOUT!$E$15 -> 0
A17: 11 | B17: Jean-Charles | C17: =[7]AOUT!$E$7 -> 0 | E17: =[7]AOUT!$E$8 -> 0 | G17: =[7]AOUT!$E$9 -> 0 | I17: =[7]AOUT!$E$10 -> 0 | K17: =[7]AOUT!$E$11 -> 0 | M17: =[7]AOUT!$E$12 -> 0 | O17: =[7]AOUT!$E$13 -> 0 | Q17: =[7]AOUT!$E$15 -> 0
A18: 12 | B18: Eric N | C18: =[8]AOUT!$E$7 -> 0 | E18: =[8]AOUT!$E$8 -> 0 | G18: =[8]AOUT!$E$9 -> 0 | I18: =[8]AOUT!$E$10 -> 0 | K18: =[8]AOUT!$E$11 -> 0 | M18: =[8]AOUT!$E$12 -> 0 | O18: =[8]AOUT!$E$13 -> 0 | Q18: =[8]AOUT!$E$15 -> 0
A19: 16 | B19: Eric P | C19: =[9]AOUT!$E$7 -> 0 | E19: =[9]AOUT!$E$8 -> 0 | G19: =[9]AOUT!$E$9 -> 0 | I19: =[9]AOUT!$E$10 -> 0 | K19: =[9]AOUT!$E$11 -> 0 | M19: =[9]AOUT!$E$12 -> 0 | O19: =[9]AOUT!$E$13 -> 0 | Q19: =[9]AOUT!$E$15 -> 0
A20: 31 | B20: Matthieu | C20: =[10]AOUT!$E$7 -> 0 | E20: =[10]AOUT!$E$8 -> 0 | G20: =[10]AOUT!$E$9 -> 0 | I20: =[10]AOUT!$E$10 -> 0 | K20: =[10]AOUT!$E$11 -> 0 | M20: =[10]AOUT!$E$12 -> 0 | O20: =[10]AOUT!$E$13 -> 0 | Q20: =[10]AOUT!$E$15 -> 0
A21: 33 | B21: Max | C21: =[11]AOUT!$E$7 -> 0 | E21: =[11]AOUT!$E$8 -> 0 | G21: =[11]AOUT!$E$9 -> 0 | I21: =[11]AOUT!$E$10 -> 0 | K21: =[11]AOUT!$E$11 -> 0 | M21: =[11]AOUT!$E$12 -> 0 | O21: =[11]AOUT!$E$13 -> 0 | Q21: =[11]AOUT!$E$15 -> 0
B22: TOTAL : | C22: =SUM(C11:C21) -> 0 | E22: =SUM(E11:E21) -> 0 | G22: =SUM(G11:G21) -> 0 | I22: =SUM(I11:I21) -> 0 | K22: =SUM(K11:K21) -> 0 | M22: =SUM(M11:M21) -> 0 | O22: =SUM(O11:O21) -> 0 | Q22: =SUM(Q11:Q21) -> 0
C25: Evolution en montant des contrats
C26: PU | D26: Evolution | E26: PP SL MADELIN | F26: Evolution | G26: PP Epargne R | H26: Evolution | I26: PP CARDIF MADELIN | J26: Evolution | K26: ARBITRAGES | L26: Evolution | M26: SANTE | N26: Evolution | O26: PREVOYANCE | P26: Evolution | Q26: CREDIT | R26: Evolution
A27: 1 | B27: Benoît | C27: =[1]AOUT!$F$7 -> 0 | E27: =[1]AOUT!$F$8 -> 0 | G27: =[1]AOUT!$F$9 -> 0 | I27: =[1]AOUT!$F$10 -> 0 | K27: =[1]AOUT!$F$11 -> 0 | M27: =[1]AOUT!$F$12 -> 0 | O27: =[1]AOUT!$F$13 -> 0 | Q27: =[1]AOUT!$F$15 -> 0
A28: 3 | B28: Claude | C28: =[2]AOUT!$F$7 -> 0 | E28: =[2]AOUT!$F$8 -> 0 | G28: =[2]AOUT!$F$9 -> 0 | I28: =[2]AOUT!$F$10 -> 0 | K28: =[2]AOUT!$F$11 -> 0 | M28: =[2]AOUT!$F$12 -> 0 | O28: =[2]AOUT!$F$13 -> 0 | Q28: =[2]AOUT!$F$15 -> 0
A29: 4 | B29: Fabrice | C29: =[3]AOUT!$F$7 -> 0 | E29: =[3]AOUT!$F$8 -> 0 | G29: =[3]AOUT!$F$9 -> 0 | I29: =[3]AOUT!$F$10 -> 0 | K29: =[3]AOUT!$F$11 -> 0 | M29: =[3]AOUT!$F$12 -> 0 | O29: =[3]AOUT!$F$13 -> 0 | Q29: =[3]AOUT!$F$15 -> 0
A30: 5 | B30: Dominique | C30: =[4]AOUT!$F$7 -> 0 | E30: =[4]AOUT!$F$8 -> 0 | G30: =[4]AOUT!$F$9 -> 0 | I30: =[4]AOUT!$F$10 -> 0 | K30: =[4]AOUT!$F$11 -> 0 | M30: =[4]AOUT!$F$12 -> 0 | O30: =[4]AOUT!$F$13 -> 0 | Q30: =[4]AOUT!$F$15 -> 0
A31: 8 | B31: Jérôme | C31: =[5]AOUT!$F$7 -> 0 | E31: =[5]AOUT!$F$8 -> 0 | G31: =[5]AOUT!$F$9 -> 0 | I31: =[5]AOUT!$F$10 -> 0 | K31: =[5]AOUT!$F$11 -> 0 | M31: =[5]AOUT!$F$12 -> 0 | O31: =[5]AOUT!$F$13 -> 0 | Q31: =[5]AOUT!$F$15 -> 0
A32: 9 | B32: Philippe | C32: =[6]AOUT!$F$7 -> 0 | E32: =[6]AOUT!$F$8 -> 0 | G32: =[6]AOUT!$F$9 -> 0 | I32: =[6]AOUT!$F$10 -> 0 | K32: =[6]AOUT!$F$11 -> 0 | M32: =[6]AOUT!$F$12 -> 0 | O32: =[6]AOUT!$F$13 -> 0 | Q32: =[6]AOUT!$F$15 -> 0
A33: 11 | B33: Jean-Charles | C33: =[7]AOUT!$F$7 -> 0 | E33: =[7]AOUT!$F$8 -> 0 | G33: =[7]AOUT!$F$9 -> 0 | I33: =[7]AOUT!$F$10 -> 0 | K33: =[7]AOUT!$F$11 -> 0 | M33: =[7]AOUT!$F$12 -> 0 | O33: =[7]AOUT!$F$13 -> 0 | Q33: =[7]AOUT!$F$15 -> 0
A34: 12 | B34: Eric N | C34: =[8]AOUT!$F$7 -> 0 | E34: =[8]AOUT!$F$8 -> 0 | G34: =[8]AOUT!$F$9 -> 0 | I34: =[8]AOUT!$F$10 -> 0 | K34: =[8]AOUT!$F$11 -> 0 | M34: =[8]AOUT!$F$12 -> 0 | O34: =[8]AOUT!$F$13 -> 0 | Q34: =[8]AOUT!$F$15 -> 0
A35: 16 | B35: Eric P | C35: =[9]AOUT!$F$7 -> 0 | E35: =[9]AOUT!$F$8 -> 0 | G35: =[9]AOUT!$F$9 -> 0 | I35: =[9]AOUT!$F$10 -> 0 | K35: =[9]AOUT!$F$11 -> 0 | M35: =[9]AOUT!$F$12 -> 0 | O35: =[9]AOUT!$F$13 -> 0 | Q35: =[9]AOUT!$F$15 -> 0
A36: 31 | B36: Matthieu | C36: =[10]AOUT!$F$7 -> 0 | E36: =[10]AOUT!$F$8 -> 0 | G36: =[10]AOUT!$F$9 -> 0 | I36: =[10]AOUT!$F$10 -> 0 | K36: =[10]AOUT!$F$11 -> 0 | M36: =[10]AOUT!$F$12 -> 0 | O36: =[10]AOUT!$F$13 -> 0 | Q36: =[10]AOUT!$F$15 -> 0
A37: 33 | B37: Max | C37: =[11]AOUT!$F$7 -> 0 | E37: =[11]AOUT!$F$8 -> 0 | G37: =[11]AOUT!$F$9 -> 0 | I37: =[11]AOUT!$F$10 -> 0 | K37: =[11]AOUT!$F$11 -> 0 | M37: =[11]AOUT!$F$12 -> 0 | O37: =[11]AOUT!$F$13 -> 0 | Q37: =[11]AOUT!$F$15 -> 0
B38: TOTAL : | C38: =SUM(C27:C37) -> 0 | E38: =SUM(E27:E37) -> 0 | G38: =SUM(G27:G37) -> 0 | I38: =SUM(I27:I37) -> 0 | K38: =SUM(K27:K37) -> 0 | M38: =SUM(M27:M37) -> 0 | O38: =SUM(O27:O37) -> 0 | Q38: =SUM(Q27:Q37) -> 0

Sheet Septembre
E2: Evolution production depuis le début du mois de septembre 2019
C9: Evolution en nombre de contrats
C10: PU | D10: Evolution | E10: PP SL MADELIN | F10: Evolution | G10: PP Epargne R | H10: Evolution | I10: PP CARDIF MADELIN | J10: Evolution | K10: ARBITRAGES | L10: Evolution | M10: SANTE | N10: Evolution | O10: PREVOYANCE | P10: Evolution | Q10: CREDIT | R10: Evolution
A11: 1 | B11: Benoît | C11: =[1]SEPTEMBRE!$E$7 -> 0 | E11: =[1]SEPTEMBRE!$E$8 -> 0 | G11: =[1]SEPTEMBRE!$E$9 -> 0 | I11: =[1]SEPTEMBRE!$E$10 -> 0 | K11: =[1]SEPTEMBRE!$E$11 -> 0 | M11: =[1]SEPTEMBRE!$E$12 -> 0 | O11: =[1]SEPTEMBRE!$E$13 -> 0 | Q11: =[1]SEPTEMBRE!$E$15 -> 0
A12: 3 | B12: Claude | C12: =[2]SEPTEMBRE!$E$7 -> 0 | E12: =[2]SEPTEMBRE!$E$8 -> 0 | G12: =[2]SEPTEMBRE!$E$9 -> 0 | I12: =[2]SEPTEMBRE!$E$10 -> 0 | K12: =[2]SEPTEMBRE!$E$11 -> 0 | M12: =[2]SEPTEMBRE!$E$12 -> 0 | O12: =[2]SEPTEMBRE!$E$13 -> 0 | Q12: =[2]SEPTEMBRE!$E$15 -> 0
A13: 4 | B13: Fabrice | C13: =[3]SEPTEMBRE!$E$7 -> 0 | E13: =[3]SEPTEMBRE!$E$8 -> 0 | G13: =[3]SEPTEMBRE!$E$9 -> 0 | I13: =[3]SEPTEMBRE!$E$10 -> 0 | K13: =[3]SEPTEMBRE!$E$11 -> 0 | M13: =[3]SEPTEMBRE!$E$12 -> 0 | O13: =[3]SEPTEMBRE!$E$13 -> 0 | Q13: =[3]SEPTEMBRE!$E$15 -> 0
A14: 5 | B14: Dominique | C14: =[4]SEPTEMBRE!$E$7 -> 0 | E14: =[4]SEPTEMBRE!$E$8 -> 0 | G14: =[4]SEPTEMBRE!$E$9 -> 0 | I14: =[4]SEPTEMBRE!$E$10 -> 0 | K14: =[4]SEPTEMBRE!$E$11 -> 0 | M14: =[4]SEPTEMBRE!$E$12 -> 0 | O14: =[4]SEPTEMBRE!$E$13 -> 0 | Q14: =[4]SEPTEMBRE!$E$15 -> 0
A15: 8 | B15: Jérôme | C15: =[5]SEPTEMBRE!$E$7 -> 0 | E15: =[5]SEPTEMBRE!$E$8 -> 0 | G15: =[5]SEPTEMBRE!$E$9 -> 0 | I15: =[5]SEPTEMBRE!$E$10 -> 0 | K15: =[5]SEPTEMBRE!$E$11 -> 0 | M15: =[5]SEPTEMBRE!$E$12 -> 0 | O15: =[5]SEPTEMBRE!$E$13 -> 0 | Q15: =[5]SEPTEMBRE!$E$15 -> 0
A16: 9 | B16: Philippe | C16: =[6]SEPTEMBRE!$E$7 -> 0 | E16: =[6]SEPTEMBRE!$E$8 -> 0 | G16: =[6]SEPTEMBRE!$E$9 -> 0 | I16: =[6]SEPTEMBRE!$E$10 -> 0 | K16: =[6]SEPTEMBRE!$E$11 -> 0 | M16: =[6]SEPTEMBRE!$E$12 -> 0 | O16: =[6]SEPTEMBRE!$E$13 -> 0 | Q16: =[6]SEPTEMBRE!$E$15 -> 0
A17: 11 | B17: Jean-Charles | C17: =[7]SEPTEMBRE!$E$7 -> 0 | E17: =[7]SEPTEMBRE!$E$8 -> 0 | G17: =[7]SEPTEMBRE!$E$9 -> 0 | I17: =[7]SEPTEMBRE!$E$10 -> 0 | K17: =[7]SEPTEMBRE!$E$11 -> 0 | M17: =[7]SEPTEMBRE!$E$12 -> 0 | O17: =[7]SEPTEMBRE!$E$13 -> 0 | Q17: =[7]SEPTEMBRE!$E$15 -> 0
A18: 12 | B18: Eric N | C18: =[8]SEPTEMBRE!$E$7 -> 0 | E18: =[8]SEPTEMBRE!$E$8 -> 0 | G18: =[8]SEPTEMBRE!$E$9 -> 0 | I18: =[8]SEPTEMBRE!$E$10 -> 0 | K18: =[8]SEPTEMBRE!$E$11 -> 0 | M18: =[8]SEPTEMBRE!$E$12 -> 0 | O18: =[8]SEPTEMBRE!$E$13 -> 0 | Q18: =[8]SEPTEMBRE!$E$15 -> 0
A19: 16 | B19: Eric P | C19: =[9]SEPTEMBRE!$E$7 -> 0 | E19: =[9]SEPTEMBRE!$E$8 -> 0 | G19: =[9]SEPTEMBRE!$E$9 -> 0 | I19: =[9]SEPTEMBRE!$E$10 -> 0 | K19: =[9]SEPTEMBRE!$E$11 -> 0 | M19: =[9]SEPTEMBRE!$E$12 -> 0 | O19: =[9]SEPTEMBRE!$E$13 -> 0 | Q19: =[9]SEPTEMBRE!$E$15 -> 0
A20: 31 | B20: Matthieu | C20: =[10]SEPTEMBRE!$E$7 -> 0 | E20: =[10]SEPTEMBRE!$E$8 -> 0 | G20: =[10]SEPTEMBRE!$E$9 -> 0 | I20: =[10]SEPTEMBRE!$E$10 -> 0 | K20: =[10]SEPTEMBRE!$E$11 -> 0 | M20: =[10]SEPTEMBRE!$E$12 -> 0 | O20: =[10]SEPTEMBRE!$E$13 -> 0 | Q20: =[10]SEPTEMBRE!$E$15 -> 0
A21: 33 | B21: Max | C21: =[11]SEPTEMBRE!$E$7 -> 0 | E21: =[11]SEPTEMBRE!$E$8 -> 0 | G21: =[11]SEPTEMBRE!$E$9 -> 0 | I21: =[11]SEPTEMBRE!$E$10 -> 0 | K21: =[11]SEPTEMBRE!$E$11 -> 0 | M21: =[11]SEPTEMBRE!$E$12 -> 0 | O21: =[11]SEPTEMBRE!$E$13 -> 0 | Q21: =[11]SEPTEMBRE!$E$15 -> 0
B22: TOTAL : | C22: =SUM(C11:C21) -> 0 | E22: =SUM(E11:E21) -> 0 | G22: =SUM(G11:G21) -> 0 | I22: =SUM(I11:I21) -> 0 | K22: =SUM(K11:K21) -> 0 | M22: =SUM(M11:M21) -> 0 | O22: =SUM(O11:O21) -> 0 | Q22: =SUM(Q11:Q21) -> 0
C25: Evolution en montant des contrats
C26: PU | D26: Evolution | E26: PP SL MADELIN | F26: Evolution | G26: PP Epargne R | H26: Evolution | I26: PP CARDIF MADELIN | J26: Evolution | K26: ARBITRAGES | L26: Evolution | M26: SANTE | N26: Evolution | O26: PREVOYANCE | P26: Evolution | Q26: CREDIT | R26: Evolution
A27: 1 | B27: Benoît | C27: =[1]SEPTEMBRE!$F$7 -> 0 | E27: =[1]SEPTEMBRE!$F$8 -> 0 | G27: =[1]SEPTEMBRE!$F$9 -> 0 | I27: =[1]SEPTEMBRE!$F$10 -> 0 | K27: =[1]SEPTEMBRE!$F$11 -> 0 | M27: =[1]SEPTEMBRE!$F$12 -> 0 | O27: =[1]SEPTEMBRE!$F$13 -> 0 | Q27: =[1]SEPTEMBRE!$F$15 -> 0
A28: 3 | B28: Claude | C28: =[2]SEPTEMBRE!$F$7 -> 0 | E28: =[2]SEPTEMBRE!$F$8 -> 0 | G28: =[2]SEPTEMBRE!$F$9 -> 0 | I28: =[2]SEPTEMBRE!$F$10 -> 0 | K28: =[2]SEPTEMBRE!$F$11 -> 0 | M28: =[2]SEPTEMBRE!$F$12 -> 0 | O28: =[2]SEPTEMBRE!$F$13 -> 0 | Q28: =[2]SEPTEMBRE!$F$15 -> 0
A29: 4 | B29: Fabrice | C29: =[3]SEPTEMBRE!$F$7 -> 0 | E29: =[3]SEPTEMBRE!$F$8 -> 0 | G29: =[3]SEPTEMBRE!$F$9 -> 0 | I29: =[3]SEPTEMBRE!$F$10 -> 0 | K29: =[3]SEPTEMBRE!$F$11 -> 0 | M29: =[3]SEPTEMBRE!$F$12 -> 0 | O29: =[3]SEPTEMBRE!$F$13 -> 0 | Q29: =[3]SEPTEMBRE!$F$15 -> 0
A30: 5 | B30: Dominique | C30: =[4]SEPTEMBRE!$F$7 -> 0 | E30: =[4]SEPTEMBRE!$F$8 -> 0 | G30: =[4]SEPTEMBRE!$F$9 -> 0 | I30: =[4]SEPTEMBRE!$F$10 -> 0 | K30: =[4]SEPTEMBRE!$F$11 -> 0 | M30: =[4]SEPTEMBRE!$F$12 -> 0 | O30: =[4]SEPTEMBRE!$F$13 -> 0 | Q30: =[4]SEPTEMBRE!$F$15 -> 0
A31: 8 | B31: Jérôme | C31: =[5]SEPTEMBRE!$F$7 -> 0 | E31: =[5]SEPTEMBRE!$F$8 -> 0 | G31: =[5]SEPTEMBRE!$F$9 -> 0 | I31: =[5]SEPTEMBRE!$F$10 -> 0 | K31: =[5]SEPTEMBRE!$F$11 -> 0 | M31: =[5]SEPTEMBRE!$F$12 -> 0 | O31: =[5]SEPTEMBRE!$F$13 -> 0 | Q31: =[5]SEPTEMBRE!$F$15 -> 0
A32: 9 | B32: Philippe | C32: =[6]SEPTEMBRE!$F$7 -> 0 | E32: =[6]SEPTEMBRE!$F$8 -> 0 | G32: =[6]SEPTEMBRE!$F$9 -> 0 | I32: =[6]SEPTEMBRE!$F$10 -> 0 | K32: =[6]SEPTEMBRE!$F$11 -> 0 | M32: =[6]SEPTEMBRE!$F$12 -> 0 | O32: =[6]SEPTEMBRE!$F$13 -> 0 | Q32: =[6]SEPTEMBRE!$F$15 -> 0
A33: 11 | B33: Jean-Charles | C33: =[7]SEPTEMBRE!$F$7 -> 0 | E33: =[7]SEPTEMBRE!$F$8 -> 0 | G33: =[7]SEPTEMBRE!$F$9 -> 0 | I33: =[7]SEPTEMBRE!$F$10 -> 0 | K33: =[7]SEPTEMBRE!$F$11 -> 0 | M33: =[7]SEPTEMBRE!$F$12 -> 0 | O33: =[7]SEPTEMBRE!$F$13 -> 0 | Q33: =[7]SEPTEMBRE!$F$15 -> 0
A34: 12 | B34: Eric N | C34: =[8]SEPTEMBRE!$F$7 -> 0 | E34: =[8]SEPTEMBRE!$F$8 -> 0 | G34: =[8]SEPTEMBRE!$F$9 -> 0 | I34: =[8]SEPTEMBRE!$F$10 -> 0 | K34: =[8]SEPTEMBRE!$F$11 -> 0 | M34: =[8]SEPTEMBRE!$F$12 -> 0 | O34: =[8]SEPTEMBRE!$F$13 -> 0 | Q34: =[8]SEPTEMBRE!$F$15 -> 0
A35: 16 | B35: Eric P | C35: =[9]SEPTEMBRE!$F$7 -> 0 | E35: =[9]SEPTEMBRE!$F$8 -> 0 | G35: =[9]SEPTEMBRE!$F$9 -> 0 | I35: =[9]SEPTEMBRE!$F$10 -> 0 | K35: =[9]SEPTEMBRE!$F$11 -> 0 | M35: =[9]SEPTEMBRE!$F$12 -> 0 | O35: =[9]SEPTEMBRE!$F$13 -> 0 | Q35: =[9]SEPTEMBRE!$F$15 -> 0
A36: 31 | B36: Matthieu | C36: =[10]SEPTEMBRE!$F$7 -> 0 | E36: =[10]SEPTEMBRE!$F$8 -> 0 | G36: =[10]SEPTEMBRE!$F$9 -> 0 | I36: =[10]SEPTEMBRE!$F$10 -> 0 | K36: =[10]SEPTEMBRE!$F$11 -> 0 | M36: =[10]SEPTEMBRE!$F$12 -> 0 | O36: =[10]SEPTEMBRE!$F$13 -> 0 | Q36: =[10]SEPTEMBRE!$F$15 -> 0
A37: 33 | B37: Max | C37: =[11]SEPTEMBRE!$F$7 -> 0 | E37: =[11]SEPTEMBRE!$F$8 -> 0 | G37: =[11]SEPTEMBRE!$F$9 -> 0 | I37: =[11]SEPTEMBRE!$F$10 -> 0 | K37: =[11]SEPTEMBRE!$F$11 -> 0 | M37: =[11]SEPTEMBRE!$F$12 -> 0 | O37: =[11]SEPTEMBRE!$F$13 -> 0 | Q37: =[11]SEPTEMBRE!$F$15 -> 0
B38: TOTAL : | C38: =SUM(C27:C37) -> 0 | E38: =SUM(E27:E37) -> 0 | G38: =SUM(G27:G37) -> 0 | I38: =SUM(I27:I37) -> 0 | K38: =SUM(K27:K37) -> 0 | M38: =SUM(M27:M37) -> 0 | O38: =SUM(O27:O37) -> 0 | Q38: =SUM(Q27:Q37) -> 0

Sheet Octobre
E2: Evolution production depuis le début du mois d'octobre 2019
C9: Evolution en nombre de contrats
C10: PU | D10: Evolution | E10: PP SL MADELIN | F10: Evolution | G10: PP Epargne R | H10: Evolution | I10: PP CARDIF MADELIN | J10: Evolution | K10: ARBITRAGES | L10: Evolution | M10: SANTE | N10: Evolution | O10: PREVOYANCE | P10: Evolution | Q10: CREDIT | R10: Evolution
A11: 1 | B11: Benoît | C11: =[1]OCTOBRE!$E$7 -> 0 | E11: =[1]OCTOBRE!$E$8 -> 0 | G11: =[1]OCTOBRE!$E$9 -> 0 | I11: =[1]OCTOBRE!$E$10 -> 0 | K11: =[1]OCTOBRE!$E$11 -> 0 | M11: =[1]OCTOBRE!$E$12 -> 0 | O11: =[1]OCTOBRE!$E$13 -> 0 | Q11: =[1]OCTOBRE!$E$15 -> 0
A12: 3 | B12: Claude | C12: =[2]OCTOBRE!$E$7 -> 0 | E12: =[2]OCTOBRE!$E$8 -> 0 | G12: =[2]OCTOBRE!$E$9 -> 0 | I12: =[2]OCTOBRE!$E$10 -> 0 | K12: =[2]OCTOBRE!$E$11 -> 0 | M12: =[2]OCTOBRE!$E$12 -> 0 | O12: =[2]OCTOBRE!$E$13 -> 0 | Q12: =[2]OCTOBRE!$E$15 -> 0
A13: 4 | B13: Fabrice | C13: =[3]OCTOBRE!$E$7 -> 0 | E13: =[3]OCTOBRE!$E$8 -> 0 | G13: =[3]OCTOBRE!$E$9 -> 0 | I13: =[3]OCTOBRE!$E$10 -> 0 | K13: =[3]OCTOBRE!$E$11 -> 0 | M13: =[3]OCTOBRE!$E$12 -> 0 | O13: =[3]OCTOBRE!$E$13 -> 0 | Q13: =[3]OCTOBRE!$E$15 -> 0
A14: 5 | B14: Dominique | C14: =[4]OCTOBRE!$E$7 -> 0 | E14: =[4]OCTOBRE!$E$8 -> 0 | G14: =[4]OCTOBRE!$E$9 -> 0 | I14: =[4]OCTOBRE!$E$10 -> 0 | K14: =[4]OCTOBRE!$E$11 -> 0 | M14: =[4]OCTOBRE!$E$12 -> 0 | O14: =[4]OCTOBRE!$E$13 -> 0 | Q14: =[4]OCTOBRE!$E$15 -> 0
A15: 8 | B15: Jérôme | C15: =[5]OCTOBRE!$E$7 -> 0 | E15: =[5]OCTOBRE!$E$8 -> 0 | G15: =[5]OCTOBRE!$E$9 -> 0 | I15: =[5]OCTOBRE!$E$10 -> 0 | K15: =[5]OCTOBRE!$E$11 -> 0 | M15: =[5]OCTOBRE!$E$12 -> 0 | O15: =[5]OCTOBRE!$E$13 -> 0 | Q15: =[5]OCTOBRE!$E$15 -> 0
A16: 9 | B16: Philippe | C16: =[6]OCTOBRE!$E$7 -> 0 | E16: =[6]OCTOBRE!$E$8 -> 0 | G16: =[6]OCTOBRE!$E$9 -> 0 | I16: =[6]OCTOBRE!$E$10 -> 0 | K16: =[6]OCTOBRE!$E$11 -> 0 | M16: =[6]OCTOBRE!$E$12 -> 0 | O16: =[6]OCTOBRE!$E$13 -> 0 | Q16: =[6]OCTOBRE!$E$15 -> 0
A17: 11 | B17: Jean-Charles | C17: =[7]OCTOBRE!$E$7 -> 0 | E17: =[7]OCTOBRE!$E$8 -> 0 | G17: =[7]OCTOBRE!$E$9 -> 0 | I17: =[7]OCTOBRE!$E$10 -> 0 | K17: =[7]OCTOBRE!$E$11 -> 0 | M17: =[7]OCTOBRE!$E$12 -> 0 | O17: =[7]OCTOBRE!$E$13 -> 0 | Q17: =[7]OCTOBRE!$E$15 -> 0
A18: 12 | B18: Eric N | C18: =[8]OCTOBRE!$E$7 -> 0 | E18: =[8]OCTOBRE!$E$8 -> 0 | G18: =[8]OCTOBRE!$E$9 -> 0 | I18: =[8]OCTOBRE!$E$10 -> 0 | K18: =[8]OCTOBRE!$E$11 -> 0 | M18: =[8]OCTOBRE!$E$12 -> 0 | O18: =[8]OCTOBRE!$E$13 -> 0 | Q18: =[8]OCTOBRE!$E$15 -> 0
A19: 16 | B19: Eric P | C19: =[9]OCTOBRE!$E$7 -> 0 | E19: =[9]OCTOBRE!$E$8 -> 0 | G19: =[9]OCTOBRE!$E$9 -> 0 | I19: =[9]OCTOBRE!$E$10 -> 0 | K19: =[9]OCTOBRE!$E$11 -> 0 | M19: =[9]OCTOBRE!$E$12 -> 0 | O19: =[9]OCTOBRE!$E$13 -> 0 | Q19: =[9]OCTOBRE!$E$15 -> 0
