Workbook

Sheet FEVRIER
A2: PERIODE | C2: 01/12/17 au 31/12/17 | F2: MATRICE_TEST
A4: REGLEMENT | C4: 43136
A7: PU | E7: =E90 -> 0 | F7: =F90 -> 0 | H7: =H90 -> 0
A8: TRANSFERT MADELIN
A9: PP EPARGNE RETRAITE
A10: PP Madelin | E10: =E179 -> 0 | F10: =F179 -> 0 | H10: =H179 -> 0
A11: ARBITRAGES | E11: =E138 -> 0 | F11: =F138 -> 0 | H11: =H138 -> 0
A12: SANTE TNS/SENIOR | E12: =E301 -> 0 | F12: =F301 -> 0 | H12: =H301 -> 0
A13: SANTE | E13: =E315+E342+E361+E376 -> 0 | F13: =F315 -> 0
A14: PREVOYANCE | E14: =E278 -> 0 | F14: =F278 -> 0 | H14: =H278 -> 0
A15: DIVERS | E15: =E399 -> 0 | F15: =F399 -> 0 | H15: =H399 -> 0
A16: CREDIT | E16: =E385 -> 0 | F16: =F385 -> 0 | H16: =H385 -> 0
A17: RECURRENT MMA/CARDIF
A18: RECURRENT SANTE
A30: TOTAL RECURRENT | F30: =SUM(F17:F29) -> 0 | H30: =SUM(H17:H29) -> 0
A31: TOTAL | E31: =E7+E10+E11+E12+E14+E15+E16 -> 0 | H31: =SUM(H7:H30)+H30 -> 0
G33: Com souhaitée | H33: 0
G34: Net à Payer
G35: Mon avance | H35: =H31-H33 -> 0
A37: COMMISSIONS PU
A38: CLIENT | B38: EURO/UC/FONDS/TRANSFERTS | C38: Frais | D38: DE | E38: CT | F38: PRIME | G38: % | H38: COM
A39: PU MMA
H40: =SUM(F40*G40) -> 0 | W40: EUROS
H41: =SUM(F41*G41) -> 0 | W41: UC
H42: =SUM(F42*G42) -> 0 | W42: FONDS
H43: =SUM(F43*G43) -> 0
H44: =SUM(F44*G44) -> 0
H45: =SUM(F45*G45) -> 0
H46: =SUM(F46*G46) -> 0
H47: =SUM(F47*G47) -> 0
H48: =SUM(F48*G48) -> 0
H49: =SUM(F49*G49) -> 0
H50: =SUM(F50*G50) -> 0
H51: =SUM(F51*G51) -> 0
H52: =SUM(F52*G52) -> 0
A53: TOTAL PU MMA | C53: =AVERAGE(C40:C52) -> #DIV/0! | E53: =SUM(E40:E52) -> 0 | F53: =SUM(F40:F53) -> 0 | H53: =SUM(H40:H52) -> 0
A54: PU SWISS | B54: EURO/UC/FONDS/TRANSFERTS | C54: Frais | D54: DE | E54: CT | F54: PRIME | G54: % | H54: COM
H56: =SUM(F56*G56) -> 0
H57: =SUM(F57*G57) -> 0
H58: =SUM(F58*G58) -> 0
H59: =SUM(F59*G59) -> 0
H60: =SUM(F60*G60) -> 0
H61: =SUM(F61*G61) -> 0
H62: =SUM(F62*G62) -> 0
H63: =SUM(F63*G63) -> 0
H64: =SUM(F64*G64) -> 0
H65: =SUM(F65*G65) -> 0
H66: =SUM(F66*G66) -> 0
H67: =SUM(F67*G67) -> 0
... H69: =SUM(F69*G69) -> 0
A70: TOTAL PU SWISS | C70: =AVERAGE(C56:C69) -> #DIV/0! | E70: =SUM(E55:E69) -> 0 | F70: =SUM(F55:F69) -> 0 | H70: =SUM(H55:H69) -> 0
A71: PU AGEAS | B71: Euro/UC/Fonds | C71: Frais | D71: DE | E71: CT | F71: PRIME | G71: % | H71: COM
H72: =SUM(F72*G72) -> 0
H73: =SUM(F73*G73) -> 0
H74: =SUM(F74*G74) -> 0
H75: =SUM(F75*G75) -> 0
H76: =SUM(F76*G76) -> 0
H77: =SUM(F77*G77) -> 0
H78: =SUM(F78*G78) -> 0
H79: =SUM(F79*G79) -> 0
A80: TOTAL PU AGEAS | C80: =AVERAGE(C72:C79) -> #DIV/0! | E80: =SUM(E72:E79) -> 0 | F80: =SUM(F72:F79) -> 0 | H80: =SUM(H72:H79) -> 0
A81: PU CARDIF | B81: EURO/UC/FONDS/TRANSFERTS | C81: Frais | D81: DE | E81: CT | F81: PRIME | G81: % | H81: COM
H83: =SUM(F83*G83) -> 0
H84: =SUM(F84*G84) -> 0
H85: =SUM(F85*G85) -> 0
H86: =SUM(F86*G86) -> 0
H87: =SUM(F87*G87) -> 0
H88: =SUM(F88*G88) -> 0
A89: TOTAL PU CARDIF | C89: =AVERAGE(C83:C88) -> #DIV/0! | E89: =SUM(E82:E88) -> 0 | F89: =SUM(F82:F88) -> 0 | H89: =SUM(H82:H88) -> 0
A90: TOTAL PU | E90: =E80+E70+E53+E89 -> 0 | F90: =F80+F70+F53+F89 -> 0 | H90: =H80+H70+H53+H89 -> 0
A91: MOYENNE DES FRAIS | B91: =AVERAGE(C83:C88,C72:C79,C56:C69,C40:C52) -> #DIV/0!
A92: ARBITRAGES
A93: CLIENT | B93: NOM FONDS A PROMESSE | D93: DE | E93: CT | F93: PRIME | G93: % | H93: COM
H95: =SUM(F95*G95) -> 0
H96: =SUM(F96*G96) -> 0
H97: =SUM(F97*G97) -> 0
H98: =SUM(F98*G98) -> 0
H99: =SUM(F99*G99) -> 0
H100: =SUM(F100*G100) -> 0
H101: =SUM(F101*G101) -> 0
H102: =SUM(F102*G102) -> 0
H103: =SUM(F103*G103) -> 0
H104: =SUM(F104*G104) -> 0
H105: =SUM(F105*G105) -> 0
H106: =SUM(F106*G106) -> 0
... H137: =SUM(F137*G137) -> 0
A138: TOTAL ARBITRAGES | E138: =SUM(E95:E137) -> 0 | F138: =SUM(F95:F137) -> 0 | H138: =SUM(H95:H137) -> 0
A139: COMMISSIONS PP
A140: PP SWISS | B140: NOM CT | D140: DE | E140: CT | F140: PRIME | G140: % | H140: COM
A141: CLIENT
H142: =SUM(F142*G142) -> 0
H143: =SUM(F143*G143) -> 0
H144: =SUM(F144*G144) -> 0 | M144: MADELIN
H145: =SUM(F145*G145) -> 0 | M145: EPARGNE RETRAITE
H146: =SUM(F146*G146) -> 0
H147: =SUM(F147*G147) -> 0
H148: =SUM(F148*G148) -> 0
H149: =SUM(F149*G149) -> 0
H150: =SUM(F150*G150) -> 0
H151: =SUM(F151*G151) -> 0
...

Sheet MARS
A2: PERIODE | C2: 01/01/17 au 31/01/17 | F2: =FEVRIER!F2 -> MATRICE_TEST
A4: REGLEMENT | C4: 42799
A7: PU | E7: =E92 -> 0 | F7: =F92 -> 0 | H7: =H92 -> 0
A8: TRANSFERT MADELIN
A9: PP EPARGNE RETRAITE
A10: PP Madelin | E10: =E180 -> 0 | F10: =F180 -> 0 | H10: =H180 -> 0
A11: ARBITRAGES | E11: =E139 -> 0 | F11: =F139 -> 0 | H11: =H139 -> 0
A12: SANTE TNS/SENIOR | E12: =E379 -> 0 | F12: =F379 -> 0 | H12: =H379 -> 0
A13: SANTE | E13: =E316+E343+E362+E377 -> 0 | F13: =F316+F343+F362+F377 -> 0 | H13: =H316+H343+H362+H377 -> 0
A14: PREVOYANCE | E14: =E279 -> 0 | F14: =F279 -> 0 | H14: =H279 -> 0
A15: DIVERS | E15: =E400 -> 0 | F15: =F400 -> 0 | H15: =H400 -> 0
A16: CREDIT | E16: =E386 -> 0 | F16: =F386 -> 0 | H16: =H386 -> 0
A17: RECURRENT MMA/CARDIF
A18: RECURRENT IARD
A31: TOTAL RECURRENT | F31: =SUM(F17:F30) -> 0 | H31: =SUM(H7:H30)+H30 -> 0
A32: TOTAL | E32: =E7+E10+E11+E12+E13+E14+E16+E8+E9 -> 8 | H32: =SUM(H7:H30)+H31 -> 0
G34: Com souhaitée | H34: 0
G35: Net à Payer
G36: Mon avance | H36: =(H32-H34)+FEVRIER!H35 -> 0
A38: COMMISSIONS PU
A39: CLIENT | B39: EURO/UC/FONDS/TRANSFERTS | C39: Frais | D39: DE | E39: CT | F39: PRIME | G39: % | H39: COM
A40: PU MMA | W40: EUROS
H41: =SUM(F41*G41) -> 0 | W41: UC
H42: =SUM(F42*G42) -> 0 | W42: FONDS
H43: =SUM(F43*G43) -> 0
H44: =SUM(F44*G44) -> 0
H45: =SUM(F45*G45) -> 0
H46: =SUM(F46*G46) -> 0
H47: =SUM(F47*G47) -> 0
H48: =SUM(F48*G48) -> 0
H49: =SUM(F49*G49) -> 0
H50: =SUM(F50*G50) -> 0
H51: =SUM(F51*G51) -> 0
H52: =SUM(F52*G52) -> 0
H53: =SUM(F53*G53) -> 0
A54: TOTAL PU MMA | C54: =AVERAGE(C41:C53) -> #DIV/0! | E54: =SUM(E41:E54) -> 0 | F54: =SUM(F41:F54) -> 0 | H54: =SUM(H41:H54) -> 0
A55: PU SWISS | B55: Euro/UC/Fonds | C55: Frais | D55: DE | E55: CT | F55: PRIME | G55: % | H55: COM
H57: =SUM(F57*G57) -> 0
H58: =SUM(F58*G58) -> 0
H59: =SUM(F59*G59) -> 0
H60: =SUM(F60*G60) -> 0
H61: =SUM(F61*G61) -> 0
H62: =SUM(F62*G62) -> 0
H63: =SUM(F63*G63) -> 0
H64: =SUM(F64*G64) -> 0
H65: =SUM(F65*G65) -> 0
H66: =SUM(F66*G66) -> 0
H67: =SUM(F67*G67) -> 0
H68: =SUM(F68*G68) -> 0
... H70: =SUM(F70*G70) -> 0
A71: TOTAL PU SWISS | C71: =AVERAGE(C57:C70) -> #DIV/0! | E71: =SUM(E56:E70) -> 0 | F71: =SUM(F56:F70) -> 0 | H71: =SUM(H56:H70) -> 0
A72: PU AGEAS | B72: Euro/UC/Fonds | C72: Frais | D72: DE | E72: CT | F72: PRIME | G72: % | H72: COM
H73: =SUM(F73*G73) -> 0
H74: =SUM(F74*G74) -> 0
H75: =SUM(F75*G75) -> 0
H76: =SUM(F76*G76) -> 0
H77: =SUM(F77*G77) -> 0
H78: =SUM(F78*G78) -> 0
H79: =SUM(F79*G79) -> 0
H80: =SUM(F80*G80) -> 0
A81: TOTAL PU AGEAS | C81: =AVERAGE(C73:C80) -> #DIV/0! | E81: =SUM(E73:E80) -> 0 | F81: =SUM(F73:F80) -> 0 | H81: =SUM(H73:H80) -> 0
A82: PU CARDIF | B82: Euro/UC/Fonds | C82: Frais | D82: DE | E82: CT | F82: PRIME | G82: % | H82: COM
H84: =SUM(F84*G84) -> 0
H85: =SUM(F85*G85) -> 0
H86: =SUM(F86*G86) -> 0
H87: =SUM(F87*G87) -> 0
H88: =SUM(F88*G88) -> 0
H89: =SUM(F89*G89) -> 0
A90: TOTAL PU CARDIF | C90: =AVERAGE(C84:C89) -> #DIV/0! | E90: =SUM(E83:E89) -> 0 | F90: =SUM(F83:F89) -> 0 | H90: =SUM(H83:H89) -> 0
A91: MOYENNE DES FRAIS | B91: =AVERAGE(C84:C89,C73:C80,C57:C70,C41:C53) -> #DIV/0!
A92: TOTAL PU | E92: =E81+E71+E54+E90 -> 0 | F92: =F81+F71+F54+F90 -> 0 | H92: =H81+H71+H54+H90 -> 7.2
A93: ARBITRAGES
A94: CLIENT | B94: NOM FONDS A PROMESSE | D94: DE | E94: CT | F94: PRIME | G94: % | H94: COM
H96: =SUM(F96*G96) -> 0
H97: =SUM(F97*G97) -> 0
H98: =SUM(F98*G98) -> 0
H99: =SUM(F99*G99) -> 0
H100: =SUM(F100*G100) -> 0
H101: =SUM(F101*G101) -> 0
H102: =SUM(F102*G102) -> 0
H103: =SUM(F103*G103) -> 0
H104: =SUM(F104*G104) -> 0
H105: =SUM(F105*G105) -> 0
H106: =SUM(F106*G106) -> 0
H107: =SUM(F107*G107) -> 0
... H138: =SUM(F138*G138) -> 0
A139: TOTAL ARBITRAGES | E139: =SUM(E134:E138) -> 0 | F139: =SUM(F134:F138) -> 0 | H139: =SUM(H134:H138) -> 0
A140: COMMISSIONS PP
A141: PP SWISS | B141: NOM CT | D141: DE | E141: CT | F141: PRIME | G141: % | H141: COM
A142: CLIENT
H143: =SUM(F143*G143) -> 0
H144: =SUM(F144*G144) -> 0
H145: =SUM(F145*G145) -> 0 | M145: MADELIN
H146: =SUM(F146*G146) -> 0 | M146: EPARGNE RETRAITE
H147: =SUM(F147*G147) -> 0
H148: =SUM(F148*G148) -> 0
H149: =SUM(F149*G149) -> 0
H150: =SUM(F150*G150) -> 0
H151: =SUM(F151*G151) -> 0
H152: =SUM(F152*G152) -> 0
...

Sheet AVRIL
A2: PERIODE | C2: 01/02/17 au 28/02/17 | F2: =FEVRIER!F2 -> MATRICE_TEST
A4: REGLEMENT | C4: 42830
A7: PU | E7: =E92 -> 0 | F7: =F92 -> 0 | H7: =H92 -> 0
A8: TRANSFERT MADELIN
A9: PP EPARGNE RETRAITE
A10: PP Madelin | E10: =E180 -> 0 | F10: =F180 -> 0 | H10: =H180 -> 0
A11: ARBITRAGES | E11: =E139 -> 0 | F11: =F139 -> 0 | H11: =H139 -> 0
A12: SANTE TNS/SENIOR | E12: =E379 -> 0 | F12: =F379 -> 0 | H12: =H379 -> 0
A13: SANTE | E13: =E316+E343+E362+E377 -> 0 | F13: =F316+F343+F362+F377 -> 0 | H13: =H316+H343+H362+H377 -> 0
A14: PREVOYANCE | E14: =E279 -> 0 | F14: =F279 -> 0 | H14: =H279 -> 0
A15: DIVERS | E15: =E400 -> 0 | F15: =F400 -> 0 | H15: =H400 -> 0
A16: CREDIT | E16: =E386 -> 0 | F16: =F386 -> 0 | H16: =H386 -> 0
A17: RECURRENT MMA/CARDIF
A18: RECURRENT IARD
A30: PREVOYANCE PERSO
A31: TOTAL RECURRENT | F31: =SUM(F17:F30) -> 0 | H31: =SUM(H7:H30)+H30 -> 0
A32: TOTAL | E32: =E7+E10+E11+E12+E13+E14+E16+E8+E9 -> 0 | H32: =SUM(H7:H16)+H31 -> 0
G34: Com souhaitée | H34: 0
G35: Net à Payer
G36: Mon avance | H36: =(H32-H34)+MARS!H36 -> 0
A38: COMMISSIONS PU
A39: CLIENT | B39: EURO/UC/FONDS/TRANSFERTS | C39: Frais | D39: DE | E39: CT | F39: PRIME | G39: % | H39: COM
A40: PU MMA | W40: EUROS
H41: =SUM(F41*G41) -> 0 | W41: UC
H42: =SUM(F42*G42) -> 0 | W42: FONDS
H43: =SUM(F43*G43) -> 0
H44: =SUM(F44*G44) -> 0
H45: =SUM(F45*G45) -> 0
H46: =SUM(F46*G46) -> 0
H47: =SUM(F47*G47) -> 0
H48: =SUM(F48*G48) -> 0
H49: =SUM(F49*G49) -> 0
H50: =SUM(F50*G50) -> 0
H51: =SUM(F51*G51) -> 0
H52: =SUM(F52*G52) -> 0
H53: =SUM(F53*G53) -> 0
A54: TOTAL PU MMA | C54: =AVERAGE(C41:C53) -> #DIV/0! | E54: =SUM(E41:E54) -> 0 | F54: =SUM(F41:F54) -> 0 | H54: =SUM(H41:H54) -> 0
A55: PU SWISS | B55: Euro/UC/Fonds | C55: Frais | D55: DE | E55: CT | F55: PRIME | G55: % | H55: COM
H57: =SUM(F57*G57) -> 0
H58: =SUM(F58*G58) -> 0
H59: =SUM(F59*G59) -> 0
H60: =SUM(F60*G60) -> 0
H61: =SUM(F61*G61) -> 0
H62: =SUM(F62*G62) -> 0
H63: =SUM(F63*G63) -> 0
H64: =SUM(F64*G64) -> 0
H65: =SUM(F65*G65) -> 0
H66: =SUM(F66*G66) -> 0
H67: =SUM(F67*G67) -> 0
H68: =SUM(F68*G68) -> 0
... H70: =SUM(F70*G70) -> 0
A71: TOTAL PU SWISS | C71: =AVERAGE(C57:C70) -> #DIV/0! | E71: =SUM(E56:E70) -> 0 | F71: =SUM(F56:F70) -> 0 | H71: =SUM(H56:H70) -> 0
A72: PU AGEAS | B72: Euro/UC/Fonds | C72: Frais | D72: DE | E72: CT | F72: PRIME | G72: % | H72: COM
H73: =SUM(F73*G73) -> 0
H74: =SUM(F74*G74) -> 0
H75: =SUM(F75*G75) -> 0
H76: =SUM(F76*G76) -> 0
H77: =SUM(F77*G77) -> 0
H78: =SUM(F78*G78) -> 0
H79: =SUM(F79*G79) -> 0
H80: =SUM(F80*G80) -> 0
A81: TOTAL PU AGEAS | C81: =AVERAGE(C73:C80) -> #DIV/0! | E81: =SUM(E73:E80) -> 0 | F81: =SUM(F73:F80) -> 0 | H81: =SUM(H73:H80) -> 0
A82: PU CARDIF | B82: Euro/UC/Fonds | C82: Frais | D82: DE | E82: CT | F82: PRIME | G82: % | H82: COM
H84: =SUM(F84*G84) -> 0
H85: =SUM(F85*G85) -> 0
H86: =SUM(F86*G86) -> 0
H87: =SUM(F87*G87) -> 0
H88: =SUM(F88*G88) -> 0
H89: =SUM(F89*G89) -> 0
A90: TOTAL PU CARDIF | C90: =AVERAGE(C84:C89) -> #DIV/0! | E90: =SUM(E83:E89) -> 0 | F90: =SUM(F83:F89) -> 0 | H90: =SUM(H83:H89) -> 0
A91: MOYENNE DES FRAIS | B91: =AVERAGE(C84:C89,C73:C80,C57:C70,C41:C53) -> #DIV/0!
A92: TOTAL PU | E92: =E81+E71+E54+E90 -> 0 | F92: =F81+F71+F54+F90 -> 0 | H92: =H81+H71+H54+H90 -> 0
A93: ARBITRAGES
A94: CLIENT | B94: NOM FONDS A PROMESSE | D94: DE | E94: CT | F94: PRIME | G94: % | H94: COM
H96: =SUM(F96*G96) -> 0
H97: =SUM(F97*G97) -> 0
H98: =SUM(F98*G98) -> 0
H99: =SUM(F99*G99) -> 0
H100: =SUM(F100*G100) -> 0
H101: =SUM(F101*G101) -> 0
H102: =SUM(F102*G102) -> 0
H103: =SUM(F103*G103) -> 0
H104: =SUM(F104*G104) -> 0
H105: =SUM(F105*G105) -> 0
H106: =SUM(F106*G106) -> 0
H107: =SUM(F107*G107) -> 0
... H138: =SUM(F138*G138) -> 0
A139: TOTAL ARBITRAGES | E139: =SUM(E134:E138) -> 0 | F139: =SUM(F134:F138) -> 0 | H139: =SUM(H134:H138) -> 0
A140: COMMISSIONS PP
A141: PP SWISS | B141: NOM CT | D141: DE | E141: CT | F141: PRIME | G141: % | H141: COM
A142: CLIENT
H143: =SUM(F143*G143) -> 0
H144: =SUM(F144*G144) -> 0
H145: =SUM(F145*G145) -> 0 | M145: MADELIN
H146: =SUM(F146*G146) -> 0 | M146: EPARGNE RETRAITE
H147: =SUM(F147*G147) -> 0
H148: =SUM(F148*G148) -> 0
H149: =SUM(F149*G149) -> 0
H150: =SUM(F150*G150) -> 0
H151: =SUM(F151*G151) -> 0
...

Sheet MAI
A2: PERIODE | C2: 01/03/17 au 31/03/17 | F2: =FEVRIER!F2 -> MATRICE_TEST
A4: REGLEMENT | C4: 42860
A7: PU | E7: =E92 -> 0 | F7: =F92 -> 0 | H7: =H92 -> 0
A8: TRANSFERT MADELIN
A9: PP EPARGNE RETRAITE
A10: PP Madelin | E10: =E180 -> 0 | F10: =F180 -> 0 | H10: =H180 -> 0
A11: ARBITRAGES | E11: =E139 -> 0 | F11: =F139 -> 0 | H11: =H139 -> 0
A12: SANTE TNS/SENIOR | E12: =E301 -> 0 | F12: =F301 -> 0 | H12: =H301 -> 0
A13: SANTE | E13: =E315+E342+E361+E376 -> 0 | F13: =F315+F342+F361+F376 -> 0 | H13: =H315+H342+H361+H376 -> 0
A14: PREVOYANCE | E14: =E399 -> 0 | F14: =F399 -> 0 | H14: =H399 -> 0
A15: DIVERS | E15: =E399 -> 0 | F15: =F399 -> 0 | H15: =H399 -> 0
A16: CREDIT | E16: =E385 -> 0 | F16: =F385 -> 0 | H16: =H385 -> 0
A17: RECURRENT MMA/CARDIF
A18: RECURRENT IARD
A31: TOTAL RECURRENT | F31: =SUM(F17:F30) -> 0 | H31: =SUM(H7:H30)+H30 -> 0
A32: TOTAL | E32: =E7+E10+E11+E12+E13+E14+E16+E8+E9 -> 0 | H32: =SUM(H7:H16)+H31 -> 0
G34: Com souhaitée | H34: 0
G35: Net à Payer
G36: Mon avance | H36: =(H32-H34)+AVRIL!H36 -> 0
A38: COMMISSIONS PU
A39: CLIENT | B39: EURO/UC/FONDS/TRANSFERTS | C39: Frais | D39: DE | E39: CT | F39: PRIME | G39: % | H39: COM
A40: PU MMA | W40: EUROS
H41: =SUM(F41*G41) -> 0 | W41: UC
H42: =SUM(F42*G42) -> 0 | W42: FONDS
H43: =SUM(F43*G43) -> 0
H44: =SUM(F44*G44) -> 0
H45: =SUM(F45*G45) -> 0
H46: =SUM(F46*G46) -> 0
H47: =SUM(F47*G47) -> 0
H48: =SUM(F48*G48) -> 0
H49: =SUM(F49*G49) -> 0
H50: =SUM(F50*G50) -> 0
H51: =SUM(F51*G51) -> 0
H52: =SUM(F52*G52) -> 0
H53: =SUM(F53*G53) -> 0
A54: TOTAL PU MMA | C54: =AVERAGE(C41:C53) -> #DIV/0! | E54: =SUM(E41:E54) -> 0 | F54: =SUM(F41:F54) -> 0 | H54: =SUM(H41:H54) -> 0
A55: PU SWISS | B55: Euro/UC/Fonds | C55: Frais | D55: DE | E55: CT | F55: PRIME | G55: % | H55: COM
H57: =SUM(F57*G57) -> 0
H58: =SUM(F58*G58) -> 0
H59: =SUM(F59*G59) -> 0
H60: =SUM(F60*G60) -> 0
H61: =SUM(F61*G61) -> 0
H62: =SUM(F62*G62) -> 0
H63: =SUM(F63*G63) -> 0
H64: =SUM(F64*G64) -> 0
H65: =SUM(F65*G65) -> 0
H66: =SUM(F66*G66) -> 0
H67: =SUM(F67*G67) -> 0
H68: =SUM(F68*G68) -> 0
... H70: =SUM(F70*G70) -> 0
A71: TOTAL PU SWISS | C71: =AVERAGE(C57:C70) -> #DIV/0! | E71: =SUM(E56:E70) -> 0 | F71: =SUM(F56:F70) -> 0 | H71: =SUM(H56:H70) -> 0
A72: PU AGEAS | B72: Euro/UC/Fonds | C72: Frais | D72: DE | E72: CT | F72: PRIME | G72: % | H72: COM
H73: =SUM(F73*G73) -> 0
H74: =SUM(F74*G74) -> 0
H75: =SUM(F75*G75) -> 0
H76: =SUM(F76*G76) -> 0
H77: =SUM(F77*G77) -> 0
H78: =SUM(F78*G78) -> 0
H79: =SUM(F79*G79) -> 0
H80: =SUM(F80*G80) -> 0
A81: TOTAL PU AGEAS | C81: =AVERAGE(C73:C80) -> #DIV/0! | E81: =SUM(E73:E80) -> 0 | F81: =SUM(F73:F80) -> 0 | H81: =SUM(H73:H80) -> 0
A82: PU CARDIF | B82: Euro/UC/Fonds | C82: Frais | D82: DE | E82: CT | F82: PRIME | G82: % | H82: COM
H84: =SUM(F84*G84) -> 0
H85: =SUM(F85*G85) -> 0
H86: =SUM(F86*G86) -> 0
H87: =SUM(F87*G87) -> 0
H88: =SUM(F88*G88) -> 0
H89: =SUM(F89*G89) -> 0
A90: TOTAL PU CARDIF | C90: =AVERAGE(C84:C89) -> #DIV/0! | E90: =SUM(E83:E89) -> 0 | F90: =SUM(F83:F89) -> 0 | H90: =SUM(H83:H89) -> 0
A91: MOYENNE DES FRAIS | B91: =AVERAGE(C82:C88,C72:C79,C55:C69,C40:C54) -> #DIV/0!
A92: TOTAL PU | E92: =E81+E71+E54+E90 -> 0 | F92: =F81+F71+F54+F90 -> 0 | H92: =H81+H71+H54+H90 -> 0
A93: ARBITRAGES
A94: CLIENT | B94: NOM FONDS A PROMESSE | D94: DE | E94: CT | F94: PRIME | G94: % | H94: COM
H96: =SUM(F96*G96) -> 0
H97: =SUM(F97*G97) -> 0
H98: =SUM(F98*G98) -> 0
H99: =SUM(F99*G99) -> 0
H100: =SUM(F100*G100) -> 0
H101: =SUM(F101*G101) -> 0
H102: =SUM(F102*G102) -> 0
H103: =SUM(F103*G103) -> 0
H104: =SUM(F104*G104) -> 0
H105: =SUM(F105*G105) -> 0
H106: =SUM(F106*G106) -> 0
H107: =SUM(F107*G107) -> 0
... H138: =SUM(F138*G138) -> 0
A139: TOTAL ARBITRAGES | E139: =SUM(E134:E138) -> 0 | F139: =SUM(F134:F138) -> 0 | H139: =SUM(H134:H138) -> 0
A140: COMMISSIONS PP
A141: PP SWISS | B141: NOM CT | D141: DE | E141: CT | F141: PRIME | G141: % | H141: COM
A142: CLIENT
H143: =SUM(F143*G143) -> 0
H144: =SUM(F144*G144) -> 0
H145: =SUM(F145*G145) -> 0 | M145: MADELIN
H146: =SUM(F146*G146) -> 0 | M146: EPARGNE RETRAITE
H147: =SUM(F147*G147) -> 0
H148: =SUM(F148*G148) -> 0
H149: =SUM(F149*G149) -> 0
H150: =SUM(F150*G150) -> 0
H151: =SUM(F151*G151) -> 0
H152: =SUM(F152*G152) -> 0
...

Sheet JUIN
A2: PERIODE | C2: 01/04/17 au 30/04/17 | F2: =FEVRIER!F2 -> MATRICE_TEST
A4: REGLEMENT | C4: 42891
A7: PU | E7: =E92 -> 0 | F7: =F92 -> 0 | H7: =H92 -> 0
A8: TRANSFERT MADELIN
A9: PP EPARGNE RETRAITE
A10: PP Madelin | E10: =E180 -> 0 | F10: =F180 -> 0 | H10: =H180 -> 0
A11: ARBITRAGES | E11: =E139 -> 0 | F11: =F139 -> 0 | H11: =H139 -> 0
A12: SANTE TNS/SENIOR | E12: =E301 -> 0 | F12: =F301 -> 0 | H12: =H301 -> 0
A13: SANTE | E13: =E315+E342+E361+E376 -> 0 | F13: =F315+F342+F361+F376 -> 0 | H13: =H315+H342+H361+H376 -> 0
A14: PREVOYANCE | E14: =E399 -> 0 | F14: =F399 -> 0 | H14: =H399 -> 0
A15: DIVERS | E15: =E399 -> 0 | F15: =F399 -> 0 | H15: =H399 -> 0
A16: CREDIT | E16: =E385 -> 0 | F16: =F385 -> 0 | H16: =H385 -> 0
A17: RECURRENT MMA/CARDIF
A18: RECURRENT IARD
A31: TOTAL RECURRENT | F31: =SUM(F17:F30) -> 0 | H31: =SUM(H7:H30)+H30 -> 0
A32: TOTAL | E32: =E7+E10+E11+E12+E13+E14+E16+E8+E9 -> 0 | H32: =SUM(H7:H16)+H31 -> 0
G34: Com souhaitée | H34: 0
G35: Net à Payer
G36: Mon avance | H36: =(H32-H34)+MAI!H36 -> 0
A38: COMMISSIONS PU
A39: CLIENT | B39: EURO/UC/FONDS/TRANSFERTS | C39: Frais | D39: DE | E39: CT | F39: PRIME | G39: % | H39: COM
A40: PU MMA | W40: EUROS
H41: =SUM(F41*G41) -> 0 | W41: UC
H42: =SUM(F42*G42) -> 0 | W42: FONDS
H43: =SUM(F43*G43) -> 0
H44: =SUM(F44*G44) -> 0
H45: =SUM(F45*G45) -> 0
H46: =SUM(F46*G46) -> 0
H47: =SUM(F47*G47) -> 0
H48: =SUM(F48*G48) -> 0
H49: =SUM(F49*G49) -> 0
H50: =SUM(F50*G50) -> 0
H51: =SUM(F51*G51) -> 0
H52: =SUM(F52*G52) -> 0
H53: =SUM(F53*G53) -> 0
A54: TOTAL PU MMA | C54: =AVERAGE(C41:C53) -> #DIV/0! | E54: =SUM(E41:E54) -> 0 | F54: =SUM(F41:F54) -> 0 | H54: =SUM(H41:H54) -> 0
A55: PU SWISS | B55: Euro/UC/Fonds | C55: Frais | D55: DE | E55: CT | F55: PRIME | G55: % | H55: COM
H57: =SUM(F57*G57) -> 0
H58: =SUM(F58*G58) -> 0
H59: =SUM(F59*G59) -> 0
H60: =SUM(F60*G60) -> 0
H61: =SUM(F61*G61) -> 0
H62: =SUM(F62*G62) -> 0
H63: =SUM(F63*G63) -> 0
H64: =SUM(F64*G64) -> 0
H65: =SUM(F65*G65) -> 0
H66: =SUM(F66*G66) -> 0
H67: =SUM(F67*G67) -> 0
H68: =SUM(F68*G68) -> 0
... H70: =SUM(F70*G70) -> 0
A71: TOTAL PU SWISS | C71: =AVERAGE(C57:C70) -> #DIV/0! | E71: =SUM(E56:E70) -> 0 | F71: =SUM(F56:F70) -> 0 | H71: =SUM(H56:H70) -> 0
A72: PU AGEAS | B72: Euro/UC/Fonds | C72: Frais | D72: DE | E72: CT | F72: PRIME | G72: % | H72: COM
H73: =SUM(F73*G73) -> 0
H74: =SUM(F74*G74) -> 0
H75: =SUM(F75*G75) -> 0
H76: =SUM(F76*G76) -> 0
H77: =SUM(F77*G77) -> 0
H78: =SUM(F78*G78) -> 0
H79: =SUM(F79*G79) -> 0
H80: =SUM(F80*G80) -> 0
A81: TOTAL PU AGEAS | C81: =AVERAGE(C73:C80) -> #DIV/0! | E81: =SUM(E73:E80) -> 0 | F81: =SUM(F73:F80) -> 0 | H81: =SUM(H73:H80) -> 0
A82: PU CARDIF | B82: Euro/UC/Fonds | C82: Frais | D82: DE | E82: CT | F82: PRIME | G82: % | H82: COM
H84: =SUM(F84*G84) -> 0
H85: =SUM(F85*G85) -> 0
H86: =SUM(F86*G86) -> 0
H87: =SUM(F87*G87) -> 0
H88: =SUM(F88*G88) -> 0
H89: =SUM(F89*G89) -> 0
A90: TOTAL PU CARDIF | C90: =AVERAGE(C84:C89) -> #DIV/0! | E90: =SUM(E83:E89) -> 0 | F90: =SUM(F83:F89) -> 0 | H90: =SUM(H83:H89) -> 0
A91: MOYENNE DES FRAIS | B91: =AVERAGE(C82:C88,C72:C79,C55:C69,C40:C54) -> #DIV/0!
A92: TOTAL PU | E92: =E81+E71+E54+E90 -> 0 | F92: =F81+F71+F54+F90 -> 0 | H92: =H81+H71+H54+H90 -> 0
A93: ARBITRAGES
A94: CLIENT | B94: NOM FONDS A PROMESSE | D94: DE | E94: CT | F94: PRIME | G94: % | H94: COM
H96: =SUM(F96*G96) -> 0
H97: =SUM(F97*G97) -> 0
H98: =SUM(F98*G98) -> 0
H99: =SUM(F99*G99) -> 0
H100: =SUM(F100*G100) -> 0
H101: =SUM(F101*G101) -> 0
H102: =SUM(F102*G102) -> 0
H103: =SUM(F103*G103) -> 0
H104: =SUM(F104*G104) -> 0
H105: =SUM(F105*G105) -> 0
H106: =SUM(F106*G106) -> 0
H107: =SUM(F107*G107) -> 0
... H138: =SUM(F138*G138) -> 0
A139: TOTAL ARBITRAGES | E139: =SUM(E134:E138) -> 0 | F139: =SUM(F134:F138) -> 0 | H139: =SUM(H134:H138) -> 0
A140: COMMISSIONS PP
A141: PP SWISS | B141: NOM CT | D141: DE | E141: CT | F141: PRIME | G141: % | H141: COM
A142: CLIENT
H143: =SUM(F143*G143) -> 0
H144: =SUM(F144*G144) -> 0
H145: =SUM(F145*G145) -> 0 | M145: MADELIN
H146: =SUM(F146*G146) -> 0 | M146: EPARGNE RETRAITE
H147: =SUM(F147*G147) -> 0
H148: =SUM(F148*G148) -> 0
H149: =SUM(F149*G149) -> 0
H150: =SUM(F150*G150) -> 0
H151: =SUM(F151*G151) -> 0
H152: =SUM(F152*G152) -> 0
...

Sheet JUILLET
A2: PERIODE | C2: 01/05/17 au 31/05/17 | F2: =FEVRIER!F2 -> MATRICE_TEST
A4: REGLEMENT | C4: 42921
A7: PU | E7: =E92 -> 0 | F7: =F92 -> 0 | H7: =H92 -> 0
A8: TRANSFERT MADELIN
A9: PP EPARGNE RETRAITE
A10: PP Madelin | E10: =E180 -> 0 | F10: =F180 -> 0 | H10: =H180 -> 0
A11: ARBITRAGES | E11: =E139 -> 0 | F11: =F139 -> 0 | H11: =H139 -> 0
A12: SANTE TNS/SENIOR | E12: =E301 -> 0 | F12: =F301 -> 0 | H12: =H301 -> 0
A13: SANTE | E13: =E315+E342+E361+E376 -> 0 | F13: =F315+F342+F361+F376 -> 0 | H13: =H315+H342+H361+H376 -> 0
A14: PREVOYANCE | E14: =E399 -> 0 | F14: =F399 -> 0 | H14: =H399 -> 0
A15: DIVERS | E15: =E399 -> 0 | F15: =F399 -> 0 | H15: =H399 -> 0
A16: CREDIT | E16: =E385 -> 0 | F16: =F385 -> 0 | H16: =H385 -> 0
A17: RECURRENT MMA/CARDIF
A30: PREVOYANCE PERSO
A31: TOTAL RECURRENT | F31: =SUM(F17:F30) -> 0 | H31: =SUM(H7:H30)+H30 -> 0
A32: TOTAL | E32: =E7+E10+E11+E12+E13+E14+E16+E8+E9 -> 0 | H32: =SUM(H7:H16)+H31 -> 0
G34: Com souhaitée | H34: 0
G35: Net à Payer
G36: Mon avance | H36: =(H32-H34)+JUIN!H36 -> 0
A38: COMMISSIONS PU
A39: CLIENT | B39: EURO/UC/FONDS/TRANSFERTS | C39: Frais | D39: DE | E39: CT | F39: PRIME | G39: % | H39: COM
A40: PU MMA | W40: EUROS
H41: =SUM(F41*G41) -> 0 | W41: UC
H42: =SUM(F42*G42) -> 0 | W42: FONDS
H43: =SUM(F43*G43) -> 0
H44: =SUM(F44*G44) -> 0
H45: =SUM(F45*G45) -> 0
H46: =SUM(F46*G46) -> 0
H47: =SUM(F47*G47) -> 0
H48: =SUM(F48*G48) -> 0
H49: =SUM(F49*G49) -> 0
H50: =SUM(F50*G50) -> 0
H51: =SUM(F51*G51) -> 0
H52: =SUM(F52*G52) -> 0
H53: =SUM(F53*G53) -> 0
A54: TOTAL PU MMA | C54: =AVERAGE(C41:C53) -> #DIV/0! | E54: =SUM(E41:E54) -> 0 | F54: =SUM(F41:F54) -> 0 | H54: =SUM(H41:H54) -> 0
A55: PU SWISS | B55: Euro/UC/Fonds | C55: Frais | D55: DE | E55: CT | F55: PRIME | G55: % | H55: COM
H57: =SUM(F57*G57) -> 0
H58: =SUM(F58*G58) -> 0
H59: =SUM(F59*G59) -> 0
H60: =SUM(F60*G60) -> 0
H61: =SUM(F61*G61) -> 0
H62: =SUM(F62*G62) -> 0
H63: =SUM(F63*G63) -> 0
H64: =SUM(F64*G64) -> 0
H65: =SUM(F65*G65) -> 0
H66: =SUM(F66*G66) -> 0
H67: =SUM(F67*G67) -> 0
H68: =SUM(F68*G68) -> 0
... H70: =SUM(F70*G70) -> 0
A71: TOTAL PU SWISS | C71: =AVERAGE(C57:C70) -> #DIV/0! | E71: =SUM(E56:E70) -> 0 | F71: =SUM(F56:F70) -> 0 | H71: =SUM(H56:H70) -> 0
A72: PU AGEAS | B72: Euro/UC/Fonds | C72: Frais | D72: DE | E72: CT | F72: PRIME | G72: % | H72: COM
H73: =SUM(F73*G73) -> 0
H74: =SUM(F74*G74) -> 0
H75: =SUM(F75*G75) -> 0
H76: =SUM(F76*G76) -> 0
H77: =SUM(F77*G77) -> 0
H78: =SUM(F78*G78) -> 0
H79: =SUM(F79*G79) -> 0
H80: =SUM(F80*G80) -> 0
A81: TOTAL PU AGEAS | C81: =AVERAGE(C73:C80) -> #DIV/0! | E81: =SUM(E73:E80) -> 0 | F81: =SUM(F73:F80) -> 0 | H81: =SUM(H73:H80) -> 0
A82: PU CARDIF | B82: Euro/UC/Fonds | C82: Frais | D82: DE | E82: CT | F82: PRIME | G82: % | H82: COM
H84: =SUM(F84*G84) -> 0
H85: =SUM(F85*G85) -> 0
H86: =SUM(F86*G86) -> 0
H87: =SUM(F87*G87) -> 0
H88: =SUM(F88*G88) -> 0
H89: =SUM(F89*G89) -> 0
A90: TOTAL PU CARDIF | C90: =AVERAGE(C84:C89) -> #DIV/0! | E90: =SUM(E83:E89) -> 0 | F90: =SUM(F83:F89) -> 0 | H90: =SUM(H83:H89) -> 0
A91: MOYENNE DES FRAIS | B91: =AVERAGE(C82:C88,C72:C79,C55:C69,C40:C54) -> #DIV/0!
A92: TOTAL PU | E92: =E81+E71+E54+E90 -> 0 | F92: =F81+F71+F54+F90 -> 0 | H92: =H81+H71+H54+H90 -> 0
A93: ARBITRAGES
A94: CLIENT | B94: NOM FONDS A PROMESSE | D94: DE | E94: CT | F94: PRIME | G94: % | H94: COM
H96: =SUM(F96*G96) -> 0
H97: =SUM(F97*G97) -> 0
H98: =SUM(F98*G98) -> 0
H99: =SUM(F99*G99) -> 0
H100: =SUM(F100*G100) -> 0
H101: =SUM(F101*G101) -> 0
H102: =SUM(F102*G102) -> 0
H103: =SUM(F103*G103) -> 0
H104: =SUM(F104*G104) -> 0
H105: =SUM(F105*G105) -> 0
H106: =SUM(F106*G106) -> 0
H107: =SUM(F107*G107) -> 0
... H138: =SUM(F138*G138) -> 0
A139: TOTAL ARBITRAGES | E139: =SUM(E134:E138) -> 0 | F139: =SUM(F134:F138) -> 0 | H139: =SUM(H134:H138) -> 0
A140: COMMISSIONS PP
A141: PP SWISS | B141: NOM CT | D141: DE | E141: CT | F141: PRIME | G141: % | H141: COM
A142: CLIENT
H143: =SUM(F143*G143) -> 0
H144: =SUM(F144*G144) -> 0
H145: =SUM(F145*G145) -> 0 | M145: MADELIN
H146: =SUM(F146*G146) -> 0 | M146: EPARGNE RETRAITE
H147: =SUM(F147*G147) -> 0
H148: =SUM(F148*G148) -> 0
H149: =SUM(F149*G149) -> 0
H150: =SUM(F150*G150) -> 0
H151: =SUM(F151*G151) -> 0
H152: =SUM(F152*G152) -> 0
...

Sheet AOUT
A2: PERIODE | C2: 01/06/17 au 30/06/17 | F2: =FEVRIER!F2 -> MATRICE_TEST
A4: REGLEMENT | C4: 42952
A7: PU | E7: =E92 -> 0 | F7: =F92 -> 0 | H7: =H92 -> 0
A8: TRANSFERT MADELIN
A9: PP EPARGNE RETRAITE
A10: PP Madelin | E10: =E180 -> 0 | F10: =F180 -> 0 | H10: =H180 -> 0
A11: ARBITRAGES | E11: =E139 -> 0 | F11: =F139 -> 0 | H11: =H139 -> 0
A12: SANTE TNS/SENIOR | E12: =E301 -> 0 | F12: =F301 -> 0 | H12: =H301 -> 0
A13: SANTE | E13: =E315+E342+E361+E376 -> 0 | F13: =F315+F342+F361+F376 -> 0 | H13: =H315+H342+H361+H376 -> 0
A14: PREVOYANCE | E14: =E399 -> 0 | F14: =F399 -> 0 | H14: =H399 -> 0
A15: DIVERS | E15: =E399 -> 0 | F15: =F399 -> 0 | H15: =H399 -> 0
A16: CREDIT | E16: =E385 -> 0 | F16: =F385 -> 0 | H16: =H385 -> 0
A17: RECURRENT MMA/CARDIF
A18: RECURRENT IARD
A31: TOTAL RECURRENT | F31: =SUM(F17:F30) -> 0 | H31: =SUM(H7:H30)+H30 -> 0
A32: TOTAL | E32: =E7+E10+E11+E12+E13+E14+E16+E8+E9 -> 0 | H32: =SUM(H7:H16)+H31 -> 0
G34: Com souhaitée | H34: 0
G35: Net à Payer
G36: Mon avance | H36: =(H32-H34)+JUILLET!H36 -> 0
A38: COMMISSIONS PU
A39: CLIENT | B39: EURO/UC/FONDS/TRANSFERTS | C39: Frais | D39: DE | E39: CT | F39: PRIME | G39: % | H39: COM
A40: PU MMA | W40: EUROS
H41: =SUM(F41*G41) -> 0 | W41: UC
H42: =SUM(F42*G42) -> 0 | W42: FONDS
H43: =SUM(F43*G43) -> 0
H44: =SUM(F44*G44) -> 0
H45: =SUM(F45*G45) -> 0
H46: =SUM(F46*G46) -> 0
H47: =SUM(F47*G47) -> 0
H48: =SUM(F48*G48) -> 0
H49: =SUM(F49*G49) -> 0
H50: =SUM(F50*G50) -> 0
H51: =SUM(F51*G51) -> 0
H52: =SUM(F52*G52) -> 0
H53: =SUM(F53*G53) -> 0
A54: TOTAL PU MMA | C54: =AVERAGE(C41:C53) -> #DIV/0! | E54: =SUM(E41:E54) -> 0 | F54: =SUM(F41:F54) -> 0 | H54: =SUM(H41:H54) -> 0
A55: PU SWISS | B55: Euro/UC/Fonds | C55: Frais | D55: DE | E55: CT | F55: PRIME | G55: % | H55: COM
H57: =SUM(F57*G57) -> 0
H58: =SUM(F58*G58) -> 0
H59: =SUM(F59*G59) -> 0
H60: =SUM(F60*G60) -> 0
H61: =SUM(F61*G61) -> 0
H62: =SUM(F62*G62) -> 0
H63: =SUM(F63*G63) -> 0
H64: =SUM(F64*G64) -> 0
H65: =SUM(F65*G65) -> 0
H66: =SUM(F66*G66) -> 0
H67: =SUM(F67*G67) -> 0
H68: =SUM(F68*G68) -> 0
... H70: =SUM(F70*G70) -> 0
A71: TOTAL PU SWISS | C71: =AVERAGE(C57:C70) -> #DIV/0! | E71: =SUM(E56:E70) -> 0 | F71: =SUM(F56:F70) -> 0 | H71: =SUM(H56:H70) -> 0
A72: PU AGEAS | B72: Euro/UC/Fonds | C72: Frais | D72: DE | E72: CT | F72: PRIME | G72: % | H72: COM
H73: =SUM(F73*G73) -> 0
H74: =SUM(F74*G74) -> 0
H75: =SUM(F75*G75) -> 0
H76: =SUM(F76*G76) -> 0
H77: =SUM(F77*G77) -> 0
H78: =SUM(F78*G78) -> 0
H79: =SUM(F79*G79) -> 0
H80: =SUM(F80*G80) -> 0
A81: TOTAL PU AGEAS | C81: =AVERAGE(C73:C80) -> #DIV/0! | E81: =SUM(E73:E80) -> 0 | F81: =SUM(F73:F80) -> 0 | H81: =SUM(H73:H80) -> 0
A82: PU CARDIF | B82: Euro/UC/Fonds | C82: Frais | D82: DE | E82: CT | F82: PRIME | G82: % | H82: COM
H84: =SUM(F84*G84) -> 0
H85: =SUM(F85*G85) -> 0
H86: =SUM(F86*G86) -> 0
H87: =SUM(F87*G87) -> 0
H88: =SUM(F88*G88) -> 0
H89: =SUM(F89*G89) -> 0
A90: TOTAL PU CARDIF | C90: =AVERAGE(C84:C89) -> #DIV/0! | E90: =SUM(E83:E89) -> 0 | F90: =SUM(F83:F89) -> 0 | H90: =SUM(H83:H89) -> 0
A91: MOYENNE DES FRAIS | B91: =AVERAGE(C82:C88,C72:C79,C55:C69,C40:C54) -> #DIV/0!
A92: TOTAL PU | E92: =E81+E71+E54+E90 -> 0 | F92: =F81+F71+F54+F90 -> 0 | H92: =H81+H71+H54+H90 -> 0
A93: ARBITRAGES
A94: CLIENT | B94: NOM FONDS A PROMESSE | D94: DE | E94: CT | F94: PRIME | G94: % | H94: COM
H96: =SUM(F96*G96) -> 0
H97: =SUM(F97*G97) -> 0
H98: =SUM(F98*G98) -> 0
H99: =SUM(F99*G99) -> 0
H100: =SUM(F100*G100) -> 0
H101: =SUM(F101*G101) -> 0
H102: =SUM(F102*G102) -> 0
H103: =SUM(F103*G103) -> 0
H104: =SUM(F104*G104) -> 0
H105: =SUM(F105*G105) -> 0
H106: =SUM(F106*G106) -> 0
H107: =SUM(F107*G107) -> 0
... H138: =SUM(F138*G138) -> 0
A139: TOTAL ARBITRAGES | E139: =SUM(E134:E138) -> 0 | F139: =SUM(F134:F138) -> 0 | H139: =SUM(H134:H138) -> 0
A140: COMMISSIONS PP
A141: PP SWISS | B141: NOM CT | D141: DE | E141: CT | F141: PRIME | G141: % | H141: COM
A142: CLIENT
H143: =SUM(F143*G143) -> 0
H144: =SUM(F144*G144) -> 0
H145: =SUM(F145*G145) -> 0 | M145: MADELIN
H146: =SUM(F146*G146) -> 0 | M146: EPARGNE RETRAITE
H147: =SUM(F147*G147) -> 0
H148: =SUM(F148*G148) -> 0
H149: =SUM(F149*G149) -> 0
H150: =SUM(F150*G150) -> 0
H151: =SUM(F151*G151) -> 0
H152: =SUM(F152*G152) -> 0
...

Sheet SEPTEMBRE
A2: PERIODE | C2: 01/07/17 au 31/07/17 | F2: =FEVRIER!F2 -> MATRICE_TEST
A4: REGLEMENT | C4: 42983
A7: PU | E7: =E92 -> 0 | F7: =F92 -> 0 | H7: =H92 -> 0
A8: TRANSFERT MADELIN
A9: PP EPARGNE RETRAITE
A10: PP Madelin | E10: =E180 -> 0 | F10: =F180 -> 0 | H10: =H180 -> 0
A11: ARBITRAGES | E11: =E139 -> 0 | F11: =F139 -> 0 | H11: =H139 -> 0
A12: SANTE TNS/SENIOR | E12: =E301 -> 0 | F12: =F301 -> 0 | H12: =H301 -> 0
A13: SANTE | E13: =E315+E342+E361+E376 -> 0 | F13: =F315+F342+F361+F376 -> 0 | H13: =H315+H342+H361+H376 -> 0
A14: PREVOYANCE | E14: =E399 -> 0 | F14: =F399 -> 0 | H14: =H399 -> 0
A15: DIVERS | E15: =E399 -> 0 | F15: =F399 -> 0 | H15: =H399 -> 0
A16: CREDIT | E16: =E385 -> 0 | F16: =F385 -> 0 | H16: =H385 -> 0
A17: RECURRENT MMA/CARDIF
A18: RECURRENT IARD
A31: TOTAL RECURRENT | F31: =SUM(F17:F30) -> 0 | H31: =SUM(H7:H30)+H30 -> 0
A32: TOTAL | E32: =E7+E10+E11+E12+E13+E14+E16+E8+E9 -> 0 | H32: =SUM(H7:H16)+H31 -> 0
G34: Com souhaitée | H34: 0
G35: Net à Payer
G36: Mon avance | H36: =(H32-H34)+AOUT!H36 -> 0
A38: COMMISSIONS PU
A39: CLIENT | B39: EURO/UC/FONDS/TRANSFERTS | C39: Frais | D39: DE | E39: CT | F39: PRIME | G39: % | H39: COM
A40: PU MMA | W40: EUROS
H41: =SUM(F41*G41) -> 0 | W41: UC
H42: =SUM(F42*G42) -> 0 | W42: FONDS
H43: =SUM(F43*G43) -> 0
H44: =SUM(F44*G44) -> 0
H45: =SUM(F45*G45) -> 0
H46: =SUM(F46*G46) -> 0
H47: =SUM(F47*G47) -> 0
H48: =SUM(F48*G48) -> 0
H49: =SUM(F49*G49) -> 0
H50: =SUM(F50*G50) -> 0
H51: =SUM(F51*G51) -> 0
H52: =SUM(F52*G52) -> 0
H53: =SUM(F53*G53) -> 0
A54: TOTAL PU MMA | C54: =AVERAGE(C41:C53) -> #DIV/0! | E54: =SUM(E41:E54) -> 0 | F54: =SUM(F41:F54) -> 0 | H54: =SUM(H41:H54) -> 0
A55: PU SWISS | B55: Euro/UC/Fonds | C55: Frais | D55: DE | E55: CT | F55: PRIME | G55: % | H55: COM
H57: =SUM(F57*G57) -> 0
H58: =SUM(F58*G58) -> 0
H59: =SUM(F59*G59) -> 0
H60: =SUM(F60*G60) -> 0
H61: =SUM(F61*G61) -> 0
H62: =SUM(F62*G62) -> 0
H63: =SUM(F63*G63) -> 0
H64: =SUM(F64*G64) -> 0
H65: =SUM(F65*G65) -> 0
H66: =SUM(F66*G66) -> 0
H67: =SUM(F67*G67) -> 0
H68: =SUM(F68*G68) -> 0
... H70: =SUM(F70*G70) -> 0
A71: TOTAL PU SWISS | C71: =AVERAGE(C57:C70) -> #DIV/0! | E71: =SUM(E56:E70) -> 0 | F71: =SUM(F56:F70) -> 0 | H71: =SUM(H56:H70) -> 0
A72: PU AGEAS | B72: Euro/UC/Fonds | C72: Frais | D72: DE | E72: CT | F72: PRIME | G72: % | H72: COM
H73: =SUM(F73*G73) -> 0
H74: =SUM(F74*G74) -> 0
H75: =SUM(F75*G75) -> 0
H76: =SUM(F76*G76) -> 0
H77: =SUM(F77*G77) -> 0
H78: =SUM(F78*G78) -> 0
H79: =SUM(F79*G79) -> 0
H80: =SUM(F80*G80) -> 0
A81: TOTAL PU AGEAS | C81: =AVERAGE(C73:C80) -> #DIV/0! | E81: =SUM(E73:E80) -> 0 | F81: =SUM(F73:F80) -> 0 | H81: =SUM(H73:H80) -> 0
A82: PU CARDIF | B82: Euro/UC/Fonds | C82: Frais | D82: DE | E82: CT | F82: PRIME | G82: % | H82: COM
H84: =SUM(F84*G84) -> 0
H85: =SUM(F85*G85) -> 0
H86: =SUM(F86*G86) -> 0
H87: =SUM(F87*G87) -> 0
H88: =SUM(F88*G88) -> 0
H89: =SUM(F89*G89) -> 0
A90: TOTAL PU CARDIF | C90: =AVERAGE(C84:C89) -> #DIV/0! | E90: =SUM(E83:E89) -> 0 | F90: =SUM(F83:F89) -> 0 | H90: =SUM(H83:H89) -> 0
A91: MOYENNE DES FRAIS | B91: =AVERAGE(C82:C88,C72:C79,C55:C69,C40:C54) -> #DIV/0!
A92: TOTAL PU | E92: =E81+E71+E54+E90 -> 0 | F92: =F81+F71+F54+F90 -> 0 | H92: =H81+H71+H54+H90 -> 0
A93: ARBITRAGES
A94: CLIENT | B94: NOM FONDS A PROMESSE | D94: DE | E94: CT | F94: PRIME | G94: % | H94: COM
H96: =SUM(F96*G96) -> 0
H97: =SUM(F97*G97) -> 0
H98: =SUM(F98*G98) -> 0
H99: =SUM(F99*G99) -> 0
H100: =SUM(F100*G100) -> 0
H101: =SUM(F101*G101) -> 0
H102: =SUM(F102*G102) -> 0
H103: =SUM(F103*G103) -> 0
H104: =SUM(F104*G104) -> 0
H105: =SUM(F105*G105) -> 0
H106: =SUM(F106*G106) -> 0
H107: =SUM(F107*G107) -> 0
... H138: =SUM(F138*G138) -> 0
A139: TOTAL ARBITRAGES | E139: =SUM(E134:E138) -> 0 | F139: =SUM(F134:F138) -> 0 | H139: =SUM(H134:H138) -> 0
A140: COMMISSIONS PP
A141: PP SWISS | B141: NOM CT | D141: DE | E141: CT | F141: PRIME | G141: % | H141: COM
A142: CLIENT
H143: =SUM(F143*G143) -> 0
H144: =SUM(F144*G144) -> 0
H145: =SUM(F145*G145) -> 0 | M145: MADELIN
H146: =SUM(F146*G146) -> 0 | M146: EPARGNE RETRAITE
H147: =SUM(F147*G147) -> 0
H148: =SUM(F148*G148) -> 0
H149: =SUM(F149*G149) -> 0
H150: =SUM(F150*G150) -> 0
H151: =SUM(F151*G151) -> 0
H152: =SUM(F152*G152) -> 0
...

Sheet OCTOBRE
A2: PERIODE | C2: 01/08/17 au 31/08/17 | F2: =FEVRIER!F2 -> MATRICE_TEST
A4: REGLEMENT | C4: 43013
A7: PU | E7: =E92 -> 0 | F7: =F92 -> 0 | H7: =H92 -> 0
A8: TRANSFERT MADELIN
A9: PP EPARGNE RETRAITE
A10: PP Madelin | E10: =E180 -> 0 | F10: =F180 -> 0 | H10: =H180 -> 0
A11: ARBITRAGES | E11: =E139 -> 0 | F11: =F139 -> 0 | H11: =H139 -> 0
A12: SANTE TNS/SENIOR | E12: =E301 -> 0 | F12: =F301 -> 0 | H12: =H301 -> 0
A13: SANTE | E13: =E315+E342+E361+E376 -> 0 | F13: =F315+F342+F361+F376 -> 0 | H13: =H315+H342+H361+H376 -> 0
A14: PREVOYANCE | E14: =E399 -> 0 | F14: =F399 -> 0 | H14: =H399 -> 0
A15: DIVERS | E15: =E399 -> 0 | F15: =F399 -> 0 | H15: =H399 -> 0
A16: CREDIT | E16: =E385 -> 0 | F16: =F385 -> 0 | H16: =H385 -> 0
A17: RECURRENT MMA/CARDIF
A18: RECURRENT IARD
A30: PREVOYANCE PERSO
A31: TOTAL RECURRENT | F31: =SUM(F17:F30) -> 0 | H31: =SUM(H7:H30)+H30 -> 0
A32: TOTAL | E32: =E7+E10+E11+E12+E13+E14+E16+E8+E9 -> 0 | H32: =SUM(H7:H16)+H31 -> 0
G34: Com souhaitée | H34: 0
G35: Net à Payer
G36: Mon avance | H36: =(H32-H34)+SEPTEMBRE!H36 -> 0
A38: COMMISSIONS PU
A39: CLIENT | B39: EURO/UC/FONDS/TRANSFERTS | C39: Frais | D39: DE | E39: CT | F39: PRIME | G39: % | H39: COM
A40: PU MMA | W40: EUROS
H41: =SUM(F41*G41) -> 0 | W41: UC
H42: =SUM(F42*G42) -> 0 | W42: FONDS
H43: =SUM(F43*G43) -> 0
H44: =SUM(F44*G44) -> 0
H45: =SUM(F45*G45) -> 0
H46: =SUM(F46*G46) -> 0
H47: =SUM(F47*G47) -> 0
H48: =SUM(F48*G48) -> 0
H49: =SUM(F49*G49) -> 0
H50: =SUM(F50*G50) -> 0
H51: =SUM(F51*G51) -> 0
H52: =SUM(F52*G52) -> 0
H53: =SUM(F53*G53) -> 0
A54: TOTAL PU MMA | C54: =AVERAGE(C41:C53) -> #DIV/0! | E54: =SUM(E41:E54) -> 0 | F54: =SUM(F41:F54) -> 0 | H54: =SUM(H41:H54) -> 0
A55: PU SWISS | B55: Euro/UC/Fonds | C55: Frais | D55: DE | E55: CT | F55: PRIME | G55: % | H55: COM
H57: =SUM(F57*G57) -> 0
H58: =SUM(F58*G58) -> 0
H59: =SUM(F59*G59) -> 0
H60: =SUM(F60*G60) -> 0
H61: =SUM(F61*G61) -> 0
H62: =SUM(F62*G62) -> 0
H63: =SUM(F63*G63) -> 0
H64: =SUM(F64*G64) -> 0
H65: =SUM(F65*G65) -> 0
H66: =SUM(F66*G66) -> 0
H67: =SUM(F67*G67) -> 0
H68: =SUM(F68*G68) -> 0
... H70: =SUM(F70*G70) -> 0
A71: TOTAL PU SWISS | C71: =AVERAGE(C57:C70) -> #DIV/0! | E71: =SUM(E56:E70) -> 0 | F71: =SUM(F56:F70) -> 0 | H71: =SUM(H56:H70) -> 0
A72: PU AGEAS | B72: Euro/UC/Fonds | C72: Frais | D72: DE | E72: CT | F72: PRIME | G72: % | H72: COM
H73: =SUM(F73*G73) -> 0
H74: =SUM(F74*G74) -> 0
H75: =SUM(F75*G75) -> 0
H76: =SUM(F76*G76) -> 0
H77: =SUM(F77*G77) -> 0
H78: =SUM(F78*G78) -> 0
H79: =SUM(F79*G79) -> 0
H80: =SUM(F80*G80) -> 0
A81: TOTAL PU AGEAS | C81: =AVERAGE(C73:C80) -> #DIV/0! | E81: =SUM(E73:E80) -> 0 | F81: =SUM(F73:F80) -> 0 | H81: =SUM(H73:H80) -> 0
A82: PU CARDIF | B82: Euro/UC/Fonds | C82: Frais | D82: DE | E82: CT | F82: PRIME | G82: % | H82: COM
H84: =SUM(F84*G84) -> 0
H85: =SUM(F85*G85) -> 0
H86: =SUM(F86*G86) -> 0
H87: =SUM(F87*G87) -> 0
H88: =SUM(F88*G88) -> 0
H89: =SUM(F89*G89) -> 0
A90: TOTAL PU CARDIF | C90: =AVERAGE(C84:C89) -> #DIV/0! | E90: =SUM(E83:E89) -> 0 | F90: =SUM(F83:F89) -> 0 | H90: =SUM(H83:H89) -> 0
A91: MOYENNE DES FRAIS | B91: =AVERAGE(C82:C88,C72:C79,C55:C69,C40:C54) -> #DIV/0!
A92: TOTAL PU | E92: =E81+E71+E54+E90 -> 0 | F92: =F81+F71+F54+F90 -> 0 | H92: =H81+H71+H54+H90 -> 0
A93: ARBITRAGES
A94: CLIENT | B94: NOM FONDS A PROMESSE | D94: DE | E94: CT | F94: PRIME | G94: % | H94: COM
H96: =SUM(F96*G96) -> 0
H97: =SUM(F97*G97) -> 0
H98: =SUM(F98*G98) -> 0
H99: =SUM(F99*G99) -> 0
H100: =SUM(F100*G100) -> 0
H101: =SUM(F101*G101) -> 0
H102: =SUM(F102*G102) -> 0
H103: =SUM(F103*G103) -> 0
H104: =SUM(F104*G104) -> 0
H105: =SUM(F105*G105) -> 0
H106: =SUM(F106*G106) -> 0
H107: =SUM(F107*G107) -> 0
... H138: =SUM(F138*G138) -> 0
A139: TOTAL ARBITRAGES | E139: =SUM(E134:E138) -> 0 | F139: =SUM(F134:F138) -> 0 | H139: =SUM(H134:H138) -> 0
A140: COMMISSIONS PP
A141: PP SWISS | B141: NOM CT | D141: DE | E141: CT | F141: PRIME | G141: % | H141: COM
A142: CLIENT
H143: =SUM(F143*G143) -> 0
H144: =SUM(F144*G144) -> 0
H145: =SUM(F145*G145) -> 0 | M145: MADELIN
H146: =SUM(F146*G146) -> 0 | M146: EPARGNE RETRAITE
H147: =SUM(F147*G147) -> 0
H148: =SUM(F148*G148) -> 0
H149: =SUM(F149*G149) -> 0
H150: =SUM(F150*G150) -> 0
H151: =SUM(F151*G151) -> 0
...

Sheet NOVEMBRE
A2: PERIODE | C2: 01/09/17 au 30/09/17 | F2: =FEVRIER!F2 -> MATRICE_TEST
A4: REGLEMENT | C4: 43044
A7: PU | E7: =E92 -> 0 | F7: =F92 -> 0 | H7: =H92 -> 0
A8: TRANSFERT MADELIN
A9: PP EPARGNE RETRAITE
A10: PP Madelin | E10: =E180 -> 0 | F10: =F180 -> 0 | H10: =H180 -> 0
A11: ARBITRAGES | E11: =E139 -> 0 | F11: =F139 -> 0 | H11: =H139 -> 0
A12: SANTE TNS/SENIOR | E12: =E301 -> 0 | F12: =F301 -> 0 | H12: =H301 -> 0
A13: SANTE | E13: =E315+E342+E361+E376 -> 0 | F13: =F315+F342+F361+F376 -> 0 | H13: =H315+H342+H361+H376 -> 0
A14: PREVOYANCE | E14: =E399 -> 0 | F14: =F399 -> 0 | H14: =H399 -> 0
A15: DIVERS | E15: =E399 -> 0 | F15: =F399 -> 0 | H15: =H399 -> 0
A16: CREDIT | E16: =E385 -> 0 | F16: =F385 -> 0 | H16: =H385 -> 0
A17: RECURRENT MMA/CARDIF
A18: RECURRENT IARD
A31: TOTAL RECURRENT | F31: =SUM(F17:F30) -> 0 | H31: =SUM(H7:H30)+H30 -> 0
A32: TOTAL | E32: =E7+E10+E11+E12+E13+E14+E16+E8+E9 -> 0 | H32: =SUM(H7:H16)+H31 -> 0
G34: Com souhaitée | H34: 0
G35: Net à Payer
G36: Mon avance | H36: =(H32-H34)+OCTOBRE!H36 -> 0
A38: COMMISSIONS PU
A39: CLIENT | B39: EURO/UC/FONDS/TRANSFERTS | C39: Frais | D39: DE | E39: CT | F39: PRIME | G39: % | H39: COM
A40: PU MMA | W40: EUROS
H41: =SUM(F41*G41) -> 0 | W41: UC
H42: =SUM(F42*G42) -> 0 | W42: FONDS
H43: =SUM(F43*G43) -> 0
H44: =SUM(F44*G44) -> 0
H45: =SUM(F45*G45) -> 0
H46: =SUM(F46*G46) -> 0
H47: =SUM(F47*G47) -> 0
H48: =SUM(F48*G48) -> 0
H49: =SUM(F49*G49) -> 0
H50: =SUM(F50*G50) -> 0
H51: =SUM(F51*G51) -> 0
H52: =SUM(F52*G52) -> 0
H53: =SUM(F53*G53) -> 0
A54: TOTAL PU MMA | C54: =AVERAGE(C41:C53) -> #DIV/0! | E54: =SUM(E41:E54) -> 0 | F54: =SUM(F41:F54) -> 0 | H54: =SUM(H41:H54) -> 0
A55: PU SWISS | B55: Euro/UC/Fonds | C55: Frais | D55: DE | E55: CT | F55: PRIME | G55: % | H55: COM
H57: =SUM(F57*G57) -> 0
H58: =SUM(F58*G58) -> 0
H59: =SUM(F59*G59) -> 0
H60: =SUM(F60*G60) -> 0
H61: =SUM(F61*G61) -> 0
H62: =SUM(F62*G62) -> 0
H63: =SUM(F63*G63) -> 0
H64: =SUM(F64*G64) -> 0
H65: =SUM(F65*G65) -> 0
H66: =SUM(F66*G66) -> 0
H67: =SUM(F67*G67) -> 0
H68: =SUM(F68*G68) -> 0
... H70: =SUM(F70*G70) -> 0
A71: TOTAL PU SWISS | C71: =AVERAGE(C57:C70) -> #DIV/0! | E71: =SUM(E56:E70) -> 0 | F71: =SUM(F56:F70) -> 0 | H71: =SUM(H56:H70) -> 0
A72: PU AGEAS | B72: Euro/UC/Fonds | C72: Frais | D72: DE | E72: CT | F72: PRIME | G72: % | H72: COM
H73: =SUM(F73*G73) -> 0
H74: =SUM(F74*G74) -> 0
H75: =SUM(F75*G75) -> 0
H76: =SUM(F76*G76) -> 0
H77: =SUM(F77*G77) -> 0
H78: =SUM(F78*G78) -> 0
H79: =SUM(F79*G79) -> 0
H80: =SUM(F80*G80) -> 0
A81: TOTAL PU AGEAS | C81: =AVERAGE(C73:C80) -> #DIV/0! | E81: =SUM(E73:E80) -> 0 | F81: =SUM(F73:F80) -> 0 | H81: =SUM(H73:H80) -> 0
A82: PU CARDIF | B82: Euro/UC/Fonds | C82: Frais | D82: DE | E82: CT | F82: PRIME | G82: % | H82: COM
H84: =SUM(F84*G84) -> 0
H85: =SUM(F85*G85) -> 0
H86: =SUM(F86*G86) -> 0
H87: =SUM(F87*G87) -> 0
H88: =SUM(F88*G88) -> 0
H89: =SUM(F89*G89) -> 0
A90: TOTAL PU CARDIF | C90: =AVERAGE(C84:C89) -> #DIV/0! | E90: =SUM(E83:E89) -> 0 | F90: =SUM(F83:F89) -> 0 | H90: =SUM(H83:H89) -> 0
A91: MOYENNE DES FRAIS | B91: =AVERAGE(C82:C88,C72:C79,C55:C69,C40:C54) -> #DIV/0!
A92: TOTAL PU | E92: =E81+E71+E54+E90 -> 0 | F92: =F81+F71+F54+F90 -> 0 | H92: =H81+H71+H54+H90 -> 0
A93: ARBITRAGES
A94: CLIENT | B94: NOM FONDS A PROMESSE | D94: DE | E94: CT | F94: PRIME | G94: % | H94: COM
H96: =SUM(F96*G96) -> 0
H97: =SUM(F97*G97) -> 0
H98: =SUM(F98*G98) -> 0
H99: =SUM(F99*G99) -> 0
H100: =SUM(F100*G100) -> 0
H101: =SUM(F101*G101) -> 0
H102: =SUM(F102*G102) -> 0
H103: =SUM(F103*G103) -> 0
H104: =SUM(F104*G104) -> 0
H105: =SUM(F105*G105) -> 0
H106: =SUM(F106*G106) -> 0
H107: =SUM(F107*G107) -> 0
... H138: =SUM(F138*G138) -> 0
A139: TOTAL ARBITRAGES | E139: =SUM(E134:E138) -> 0 | F139: =SUM(F134:F138) -> 0 | H139: =SUM(H134:H138) -> 0
A140: COMMISSIONS PP
A141: PP SWISS | B141: NOM CT | D141: DE | E141: CT | F141: PRIME | G141: % | H141: COM
A142: CLIENT
H143: =SUM(F143*G143) -> 0
H144: =SUM(F144*G144) -> 0
H145: =SUM(F145*G145) -> 0 | M145: MADELIN
H146: =SUM(F146*G146) -> 0 | M146: EPARGNE RETRAITE
H147: =SUM(F147*G147) -> 0
H148: =SUM(F148*G148) -> 0
H149: =SUM(F149*G149) -> 0
H150: =SUM(F150*G150) -> 0
H151: =SUM(F151*G151) -> 0
H152: =SUM(F152*G152) -> 0
...

Sheet DECEMBRE
A2: PERIODE | C2: 01/10/17 au 31/10/17 | F2: =FEVRIER!F2 -> MATRICE_TEST
A4: REGLEMENT | C4: 43074
A7: PU | E7: =E92 -> 0 | F7: =F92 -> 0 | H7: =H92 -> 0
A8: TRANSFERT MADELIN
A9: PP EPARGNE RETRAITE
A10: PP Madelin | E10: =E180 -> 0 | F10: =F180 -> 0 | H10: =H180 -> 0
A11: ARBITRAGES | E11: =E139 -> 0 | F11: =F139 -> 0 | H11: =H139 -> 0
A12: SANTE TNS/SENIOR | E12: =E301 -> 0 | F12: =F301 -> 0 | H12: =H301 -> 0
A13: SANTE | E13: =E315+E342+E361+E376 -> 0 | F13: =F315+F342+F361+F376 -> 0 | H13: =H315+H342+H361+H376 -> 0
A14: PREVOYANCE | E14: =E399 -> 0 | F14: =F399 -> 0 | H14: =H399 -> 0
A15: DIVERS | E15: =E399 -> 0 | F15: =F399 -> 0 | H15: =H399 -> 0
A16: CREDIT | E16: =E385 -> 0 | F16: =F385 -> 0 | H16: =H385 -> 0
A17: RECURRENT MMA/CARDIF
A18: RECURRENT IARD
A31: TOTAL RECURRENT | F31: =SUM(F17:F30) -> 0 | H31: =SUM(H7:H30)+H30 -> 0
A32: TOTAL | E32: =E7+E10+E11+E12+E13+E14+E16+E8+E9 -> 0 | H32: =SUM(H7:H16)+H31 -> 0
G34: Com souhaitée | H34: 0
G35: Net à Payer
G36: Mon avance | H36: =(H32-H34)+NOVEMBRE!H36 -> 0
A38: COMMISSIONS PU
A39: CLIENT | B39: EURO/UC/FONDS/TRANSFERTS | C39: Frais | D39: DE | E39: CT | F39: PRIME | G39: % | H39: COM
A40: PU MMA | W40: EUROS
H41: =SUM(F41*G41) -> 0 | W41: UC
H42: =SUM(F42*G42) -> 0 | W42: FONDS
H43: =SUM(F43*G43) -> 0
H44: =SUM(F44*G44) -> 0
H45: =SUM(F45*G45) -> 0
H46: =SUM(F46*G46) -> 0
H47: =SUM(F47*G47) -> 0
H48: =SUM(F48*G48) -> 0
H49: =SUM(F49*G49) -> 0
H50: =SUM(F50*G50) -> 0
H51: =SUM(F51*G51) -> 0
H52: =SUM(F52*G52) -> 0
H53: =SUM(F53*G53) -> 0
A54: TOTAL PU MMA | C54: =AVERAGE(C41:C53) -> #DIV/0! | E54: =SUM(E41:E54) -> 0 | F54: =SUM(F41:F54) -> 0 | H54: =SUM(H41:H54) -> 0
A55: PU SWISS | B55: Euro/UC/Fonds | C55: Frais | D55: DE | E55: CT | F55: PRIME | G55: % | H55: COM
H57: =SUM(F57*G57) -> 0
H58: =SUM(F58*G58) -> 0
H59: =SUM(F59*G59) -> 0
H60: =SUM(F60*G60) -> 0
H61: =SUM(F61*G61) -> 0
H62: =SUM(F62*G62) -> 0
H63: =SUM(F63*G63) -> 0
H64: =SUM(F64*G64) -> 0
H65: =SUM(F65*G65) -> 0
H66: =SUM(F66*G66) -> 0
H67: =SUM(F67*G67) -> 0
H68: =SUM(F68*G68) -> 0
... H70: =SUM(F70*G70) -> 0
A71: TOTAL PU SWISS | C71: =AVERAGE(C57:C70) -> #DIV/0! | E71: =SUM(E56:E70) -> 0 | F71: =SUM(F56:F70) -> 0 | H71: =SUM(H56:H70) -> 0
A72: PU AGEAS | B72: Euro/UC/Fonds | C72: Frais | D72: DE | E72: CT | F72: PRIME | G72: % | H72: COM
H73: =SUM(F73*G73) -> 0
H74: =SUM(F74*G74) -> 0
H75: =SUM(F75*G75) -> 0
H76: =SUM(F76*G76) -> 0
H77: =SUM(F77*G77) -> 0
H78: =SUM(F78*G78) -> 0
H79: =SUM(F79*G79) -> 0
H80: =SUM(F80*G80) -> 0
A81: TOTAL PU AGEAS | C81: =AVERAGE(C73:C80) -> #DIV/0! | E81: =SUM(E73:E80) -> 0 | F81: =SUM(F73:F80) -> 0 | H81: =SUM(H73:H80) -> 0
A82: PU CARDIF | B82: Euro/UC/Fonds | C82: Frais | D82: DE | E82: CT | F82: PRIME | G82: % | H82: COM
H84: =SUM(F84*G84) -> 0
H85: =SUM(F85*G85) -> 0
H86: =SUM(F86*G86) -> 0
H87: =SUM(F87*G87) -> 0
H88: =SUM(F88*G88) -> 0
H89: =SUM(F89*G89) -> 0
A90: TOTAL PU CARDIF | C90: =AVERAGE(C84:C89) -> #DIV/0! | E90: =SUM(E83:E89) -> 0 | F90: =SUM(F83:F89) -> 0 | H90: =SUM(H83:H89) -> 0
A91: MOYENNE DES FRAIS | B91: =AVERAGE(C82:C88,C72:C79,C55:C69,C40:C54) -> #DIV/0!
A92: TOTAL PU | E92: =E81+E71+E54+E90 -> 0 | F92: =F81+F71+F54+F90 -> 0 | H92: =H81+H71+H54+H90 -> 0
A93: ARBITRAGES
A94: CLIENT | B94: NOM FONDS A PROMESSE | D94: DE | E94: CT | F94: PRIME | G94: % | H94: COM
H96: =SUM(F96*G96) -> 0
H97: =SUM(F97*G97) -> 0
H98: =SUM(F98*G98) -> 0
H99: =SUM(F99*G99) -> 0
H100: =SUM(F100*G100) -> 0
H101: =SUM(F101*G101) -> 0
H102: =SUM(F102*G102) -> 0
H103: =SUM(F103*G103) -> 0
H104: =SUM(F104*G104) -> 0
H105: =SUM(F105*G105) -> 0
H106: =SUM(F106*G106) -> 0
H107: =SUM(F107*G107) -> 0
... H138: =SUM(F138*G138) -> 0
A139: TOTAL ARBITRAGES | E139: =SUM(E134:E138) -> 0 | F139: =SUM(F134:F138) -> 0 | H139: =SUM(H134:H138) -> 0
A140: COMMISSIONS PP
A141: PP SWISS | B141: NOM CT | D141: DE | E141: CT | F141: PRIME | G141: % | H141: COM
A142: CLIENT
H143: =SUM(F143*G143) -> 0
H144: =SUM(F144*G144) -> 0
H145: =SUM(F145*G145) -> 0 | M145: MADELIN
H146: =SUM(F146*G146) -> 0 | M146: EPARGNE RETRAITE
H147: =SUM(F147*G147) -> 0
H148: =SUM(F148*G148) -> 0
H149: =SUM(F149*G149) -> 0
H150: =SUM(F150*G150) -> 0
H151: =SUM(F151*G151) -> 0
H152: =SUM(F152*G152) -> 0
...

Sheet JANVIER
A2: PERIODE | C2: 01/10/17 au 30/12/17 | F2: =FEVRIER!F2 -> MATRICE_TEST
A4: REGLEMENT | C4: 43105
A7: PU | E7: =E92 -> 0 | F7: =F92 -> 0 | H7: =H92 -> 0
A8: TRANSFERT MADELIN
A9: PP EPARGNE RETRAITE
A10: PP Madelin | E10: =E180 -> 0 | F10: =F180 -> 0 | H10: =H180 -> 0
A11: ARBITRAGES | E11: =E139 -> 0 | F11: =F139 -> 0 | H11: =H139 -> 0
A12: SANTE TNS/SENIOR | E12: =E301 -> 0 | F12: =F301 -> 0 | H12: =H301 -> 0
A13: SANTE | E13: =E315+E342+E361+E376 -> 0 | F13: =F315+F342+F361+F376 -> 0 | H13: =H315+H342+H361+H376 -> 0
A14: PREVOYANCE | E14: =E399 -> 0 | F14: =F399 -> 0 | H14: =H399 -> 0
A15: DIVERS | E15: =E399 -> 0 | F15: =F399 -> 0 | H15: =H399 -> 0
A16: CREDIT | E16: =E385 -> 0 | F16: =F385 -> 0 | H16: =H385 -> 0
A17: RECURRENT MMA/CARDIF
A18: RECURRENT SANTE
A30: PREVOYANCE PERSO
A31: TOTAL RECURRENT | F31: =SUM(F17:F30) -> 0 | H31: =SUM(H7:H30)+H30 -> 0
A32: TOTAL | E32: =E7+E10+E11+E12+E13+E14+E16+E8+E9 -> 0 | H32: =SUM(H7:H16)+H31 -> 0
G34: Com souhaitée | H34: 0
G35: Net à Payer
G36: Mon avance | H36: =(H32-H34)+DECEMBRE!H36 -> 0
A38: COMMISSIONS PU
A39: CLIENT | B39: EURO/UC/FONDS/TRANSFERTS | C39: Frais | D39: DE | E39: CT | F39: PRIME | G39: % | H39: COM
A40: PU MMA | W40: EUROS
H41: =SUM(F41*G41) -> 0 | W41: UC
H42: =SUM(F42*G42) -> 0 | W42: FONDS
H43: =SUM(F43*G43) -> 0
H44: =SUM(F44*G44) -> 0
H45: =SUM(F45*G45) -> 0
H46: =SUM(F46*G46) -> 0
H47: =SUM(F47*G47) -> 0
H48: =SUM(F48*G48) -> 0
H49: =SUM(F49*G49) -> 0
H50: =SUM(F50*G50) -> 0
H51: =SUM(F51*G51) -> 0
H52: =SUM(F52*G52) -> 0
H53: =SUM(F53*G53) -> 0
A54: TOTAL PU MMA | C54: =AVERAGE(C41:C53) -> #DIV/0! | E54: =SUM(E41:E54) -> 0 | F54: =SUM(F41:F54) -> 0 | H54: =SUM(H41:H54) -> 0
A55: PU SWISS | B55: Euro/UC/Fonds | C55: Frais | D55: DE | E55: CT | F55: PRIME | G55: % | H55: COM
H57: =SUM(F57*G57) -> 0
H58: =SUM(F58*G58) -> 0
H59: =SUM(F59*G59) -> 0
H60: =SUM(F60*G60) -> 0
H61: =SUM(F61*G61) -> 0
H62: =SUM(F62*G62) -> 0
H63: =SUM(F63*G63) -> 0
H64: =SUM(F64*G64) -> 0
H65: =SUM(F65*G65) -> 0
H66: =SUM(F66*G66) -> 0
H67: =SUM(F67*G67) -> 0
H68: =SUM(F68*G68) -> 0
... H70: =SUM(F70*G70) -> 0
A71: TOTAL PU SWISS | C71: =AVERAGE(C57:C70) -> #DIV/0! | E71: =SUM(E56:E70) -> 0 | F71: =SUM(F56:F70) -> 0 | H71: =SUM(H56:H70) -> 0
A72: PU AGEAS | B72: Euro/UC/Fonds | C72: Frais | D72: DE | E72: CT | F72: PRIME | G72: % | H72: COM
H73: =SUM(F73*G73) -> 0
H74: =SUM(F74*G74) -> 0
H75: =SUM(F75*G75) -> 0
H76: =SUM(F76*G76) -> 0
H77: =SUM(F77*G77) -> 0
H78: =SUM(F78*G78) -> 0
H79: =SUM(F79*G79) -> 0
H80: =SUM(F80*G80) -> 0
A81: TOTAL PU AGEAS | C81: =AVERAGE(C73:C80) -> #DIV/0! | E81: =SUM(E73:E80) -> 0 | F81: =SUM(F73:F80) -> 0 | H81: =SUM(H73:H80) -> 0
A82: PU CARDIF | B82: Euro/UC/Fonds | C82: Frais | D82: DE | E82: CT | F82: PRIME | G82: % | H82: COM
H84: =SUM(F84*G84) -> 0
H85: =SUM(F85*G85) -> 0
H86: =SUM(F86*G86) -> 0
H87: =SUM(F87*G87) -> 0
H88: =SUM(F88*G88) -> 0
H89: =SUM(F89*G89) -> 0
A90: TOTAL PU CARDIF | C90: =AVERAGE(C84:C89) -> #DIV/0! | E90: =SUM(E83:E89) -> 0 | F90: =SUM(F83:F89) -> 0 | H90: =SUM(H83:H89) -> 0
A91: MOYENNE DES FRAIS | B91: =AVERAGE(C82:C88,C72:C79,C55:C69,C40:C54) -> #DIV/0!
A92: TOTAL PU | E92: =E81+E71+E54+E90 -> 0 | F92: =F81+F71+F54+F90 -> 0 | H92: =H81+H71+H54+H90 -> 0
A93: ARBITRAGES
A94: CLIENT | B94: NOM FONDS A PROMESSE | D94: DE | E94: CT | F94: PRIME | G94: % | H94: COM
H96: =SUM(F96*G96) -> 0
H97: =SUM(F97*G97) -> 0
H98: =SUM(F98*G98) -> 0
H99: =SUM(F99*G99) -> 0
H100: =SUM(F100*G100) -> 0
H101: =SUM(F101*G101) -> 0
H102: =SUM(F102*G102) -> 0
H103: =SUM(F103*G103) -> 0
H104: =SUM(F104*G104) -> 0
H105: =SUM(F105*G105) -> 0
H106: =SUM(F106*G106) -> 0
H107: =SUM(F107*G107) -> 0
... H138: =SUM(F138*G138) -> 0
A139: TOTAL ARBITRAGES | E139: =SUM(E134:E138) -> 0 | F139: =SUM(F134:F138) -> 0 | H139: =SUM(H134:H138) -> 0
A140: COMMISSIONS PP
A141: PP SWISS | B141: NOM CT | D141: DE | E141: CT | F141: PRIME | G141: % | H141: COM
A142: CLIENT
H143: =SUM(F143*G143) -> 0
H144: =SUM(F144*G144) -> 0
H145: =SUM(F145*G145) -> 0 | M145: MADELIN
H146: =SUM(F146*G146) -> 0 | M146: EPARGNE RETRAITE
H147: =SUM(F147*G147) -> 0
H148: =SUM(F148*G148) -> 0
H149: =SUM(F149*G149) -> 0
H150: =SUM(F150*G150) -> 0
H151: =SUM(F151*G151) -> 0
...

Sheet TABLEAU
A1: PAYES AU 05 | B1: PU MMA | C1: PU CARDIF | D1: PU AGEAS | E1: PU SWISS | F1: TRANSFERTS | G1: ARBITRAGES | H1: PP Epargne retraite | I1: PP MADELIN | J1: PP CARDIF | K1: IMMO | L1: IJ SWISS | M1: IJ UNIM | N1: SWISS TNS/SENIOR | O1: SWISS DIRIGEANT/ENTREPRISE | P1: UNIM | Q1: APIVIA | R1: ALPTIS | S1: Rec SANTE | T1: Rec VIE | U1: CREDIT | V1: CA APA | W1: CA APAI | X1: CA TOTAL
A2: FEVRIER | B2: =FEVRIER!F53 -> 0 | C2: =FEVRIER!F89 -> 0 | D2: =FEVRIER!F80 -> 0 | E2: =FEVRIER!F70 -> 0 | G2: =FEVRIER!F138 -> 0 | H2: =FEVRIER!F159 -> 0 | J2: =FEVRIER!F177 -> 0 | L2: =FEVRIER!F214 -> 0 | M2: =FEVRIER!F270 -> 0 | N2: =FEVRIER!F301 -> 0 | O2: =FEVRIER!F315 -> 0 | P2: =FEVRIER!F342 -> 0 | Q2: =FEVRIER!F361 -> 0 | R2: =FEVRIER!F376 -> 0 | S2: =FEVRIER!F18 -> 0 | T2: =FEVRIER!F17 -> 0 | U2: =FEVRIER!F16 -> 0 | V2: =FEVRIER!H31 -> 0 | W2: 0 | X2: =V2+W2 -> 0
A3: MARS | B3: =MARS!F54 -> 0 | C3: =MARS!F90 -> 0 | D3: =MARS!F81 -> 0 | E3: =MARS!F71 -> 0 | G3: =MARS!F139 -> 0 | H3: =MARS!F160 -> 0 | J3: =MARS!F178 -> 0 | L3: =MARS!F215 -> 0 | M3: =MARS!F271 -> 0 | N3: =MARS!F302 -> 0 | O3: =MARS!F316 -> 0 | P3: =MARS!F343 -> 0 | Q3: =MARS!F362 -> 0 | R3: =MARS!F377 -> 0 | S3: =MARS!F26 -> 0 | T3: =MARS!F17 -> 0 | U3: =MARS!F16 -> 0 | V3: =MARS!H31 -> 0 | W3: 0 | X3: =V3+W3 -> 0
A4: AVRIL | B4: =AVRIL!F54 -> 0 | C4: =AVRIL!F90 -> 0 | D4: =AVRIL!F81 -> 0 | E4: =AVRIL!F71 -> 0 | G4: =AVRIL!F139 -> 0 | H4: =AVRIL!F160 -> 0 | J4: =AVRIL!F178 -> 0 | L4: =AVRIL!F215 -> 0 | M4: =AVRIL!F271 -> 0 | N4: =AVRIL!F302 -> 0 | O4: =AVRIL!F316 -> 0 | P4: =AVRIL!F343 -> 0 | Q4: =AVRIL!F362 -> 0 | R4: =AVRIL!F377 -> 0 | S4: =AVRIL!F26 -> 0 | T4: =AVRIL!F17 -> 0 | U4: =AVRIL!F16 -> 0 | V4: =AVRIL!H31 -> 0 | W4: 0 | X4: =V4+W4 -> 0
A5: MAI | B5: =MAI!F54 -> 0 | C5: =MAI!F90 -> 0 | D5: =MAI!F81 -> 0 | E5: =MAI!F71 -> 0 | G5: =MAI!F139 -> 0 | H5: =MAI!F160 -> 0 | J5: =MAI!F178 -> 0 | L5: =MAI!F215 -> 0 | M5: =MAI!F271 -> 0 | N5: =MAI!F301 -> 0 | O5: =MAI!F316 -> 0 | P5: =MAI!F342 -> 0 | Q5: =MAI!F361 -> 0 | R5: =MAI!F376 -> 0 | S5: =MAI!F26 -> 0 | T5: =MAI!F17 -> 0 | U5: =MAI!F16 -> 0 | V5: =MAI!H31 -> 0 | W5: 0 | X5: =V5+W5 -> 0
A6: JUIN | B6: =JUIN!F54 -> 0 | C6: =JUIN!F90 -> 0 | D6: =JUIN!F81 -> 0 | E6: =JUIN!F71 -> 0 | G6: =JUIN!F139 -> 0 | H6: =JUIN!F160 -> 0 | J6: =JUIN!F178 -> 0 | L6: =JUIN!F215 -> 0 | M6: =JUIN!F271 -> 0 | N6: =JUIN!F301 -> 0 | O6: =JUIN!F316 -> 0 | P6: =JUIN!F342 -> 0 | Q6: =JUIN!F361 -> 0 | R6: =JUIN!F376 -> 0 | S6: =JUIN!F26 -> 0 | T6: =JUIN!F17 -> 0 | U6: =JUIN!F16 -> 0 | V6: =MAI!H31 -> 0 | W6: 0 | X6: =V6+W6 -> 0
A7: JUILLET | B7: =JUILLET!F54 -> 0 | C7: =JUILLET!F90 -> 0 | D7: =JUILLET!F81 -> 0 | E7: =JUILLET!F71 -> 0 | G7: =JUILLET!F139 -> 0 | H7: =JUILLET!F160 -> 0 | J7: =JUILLET!F178 -> 0 | L7: =JUILLET!F215 -> 0 | M7: =JUILLET!F271 -> 0 | N7: =JUILLET!F301 -> 0 | O7: =JUILLET!F316 -> 0 | P7: =JUILLET!F342 -> 0 | Q7: =JUILLET!F361 -> 0 | R7: =JUILLET!F376 -> 0 | S7: =JUILLET!F26 -> 0 | T7: =JUILLET!F17 -> 0 | U7: =JUILLET!F16 -> 0 | V7: =JUIN!H31 -> 0 | W7: 0 | X7: =V7+W7 -> 0
A8: AOUT | B8: =AOUT!F54 -> 0 | C8: =AOUT!F90 -> 0 | D8: =AOUT!F81 -> 0 | E8: =AOUT!F71 -> 0 | G8: =AOUT!F139 -> 0 | H8: =AOUT!F160 -> 0 | J8: =AOUT!F178 -> 0 | L8: =AOUT!F215 -> 0 | M8: =AOUT!F271 -> 0 | N8: =AOUT!F301 -> 0 | O8: =AOUT!F316 -> 0 | P8: =AOUT!F342 -> 0 | Q8: =AOUT!F361 -> 0 | R8: =AOUT!F376 -> 0 | S8: =AOUT!F26 -> 0 | T8: =AOUT!F17 -> 0 | U8: =AOUT!F16 -> 0 | V8: =JUILLET!H31 -> 0 | W8: 0 | X8: =V8+W8 -> 0
A9: SEPTEMBRE | B9: =SEPTEMBRE!F54 -> 0 | C9: =SEPTEMBRE!F90 -> 0 | D9: =SEPTEMBRE!F81 -> 0 | E9: =SEPTEMBRE!F71 -> 0 | G9: =SEPTEMBRE!F139 -> 0 | H9: =SEPTEMBRE!F160 -> 0 | J9: =SEPTEMBRE!F178 -> 0 | L9: =SEPTEMBRE!F215 -> 0 | M9: =SEPTEMBRE!F271 -> 0 | N9: =SEPTEMBRE!F301 -> 0 | O9: =SEPTEMBRE!F316 -> 0 | P9: =SEPTEMBRE!F342 -> 0 | Q9: =SEPTEMBRE!F361 -> 0 | R9: =SEPTEMBRE!F376 -> 0 | S9: =SEPTEMBRE!F26 -> 0 | T9: =SEPTEMBRE!F17 -> 0 | U9: =SEPTEMBRE!F16 -> 0 | V9: =AOUT!H31 -> 0 | W9: 0 | X9: =V9+W9 -> 0
A10: OCTOBRE | B10: =OCTOBRE!F54 -> 0 | C10: =OCTOBRE!F90 -> 0 | D10: =OCTOBRE!F81 -> 0 | E10: =OCTOBRE!F71 -> 0 | G10: =OCTOBRE!F139 -> 0 | H10: =OCTOBRE!F160 -> 0 | J10: =OCTOBRE!F178 -> 0 | L10: =OCTOBRE!F215 -> 0 | M10: =OCTOBRE!F271 -> 0 | N10: =OCTOBRE!F301 -> 0 | O10: =OCTOBRE!F316 -> 0 | P10: =OCTOBRE!F342 -> 0 | Q10: =OCTOBRE!F361 -> 0 | R10: =OCTOBRE!F376 -> 0 | S10: =OCTOBRE!F26 -> 0 | T10: =OCTOBRE!F17 -> 0 | U10: =OCTOBRE!F16 -> 0 | V10: =SEPTEMBRE!H31 -> 0 | W10: 0 | X10: =V10+W10 -> 0
A11: NOVEMBRE | B11: =NOVEMBRE!F54 -> 0 | C11: =NOVEMBRE!F90 -> 0 | D11: =NOVEMBRE!F81 -> 0 | E11: =NOVEMBRE!F71 -> 0 | G11: =NOVEMBRE!F139 -> 0 | H11: =NOVEMBRE!F160 -> 0 | J11: =NOVEMBRE!F178 -> 0 | L11: =NOVEMBRE!F215 -> 0 | M11: =NOVEMBRE!F271 -> 0 | N11: =NOVEMBRE!F301 -> 0 | O11: =NOVEMBRE!F316 -> 0 | P11: =NOVEMBRE!F342 -> 0 | Q11: =NOVEMBRE!F361 -> 0 | R11: =NOVEMBRE!F376 -> 0 | S11: =NOVEMBRE!F26 -> 0 | T11: =NOVEMBRE!F17 -> 0 | U11: =NOVEMBRE!F16 -> 0 | V11: =OCTOBRE!H31 -> 0 | W11: 0 | X11: =V11+W11 -> 0
A12: DECEMBRE | B12: =DECEMBRE!F54 -> 0 | C12: =DECEMBRE!F90 -> 0 | D12: =DECEMBRE!F81 -> 0 | E12: =DECEMBRE!F71 -> 0 | G12: =DECEMBRE!F139 -> 0 | H12: =DECEMBRE!F160 -> 0 | J12: =DECEMBRE!F178 -> 0 | L12: =DECEMBRE!F215 -> 0 | M12: =DECEMBRE!F271 -> 0 | N12: =DECEMBRE!F301 -> 0 | O12: =DECEMBRE!F316 -> 0 | P12: =DECEMBRE!F342 -> 0 | Q12: =DECEMBRE!F361 -> 0 | R12: =DECEMBRE!F376 -> 0 | S12: =DECEMBRE!F26 -> 0 | T12: =DECEMBRE!F17 -> 0 | U12: =DECEMBRE!F16 -> 0 | V12: =NOVEMBRE!H31 -> 0 | W12: 0 | X12: =V12+W12 -> 0
A13: JANVIER | B13: =JANVIER!F54 -> 0 | C13: =JANVIER!F90 -> 0 | D13: =JANVIER!F81 -> 0 | E13: =JANVIER!F71 -> 0 | G13: =JANVIER!F139 -> 0 | H13: =JANVIER!F160 -> 0 | J13: =JANVIER!F178 -> 0 | L13: =JANVIER!F215 -> 0 | M13: =JANVIER!F271 -> 0 | N13: =JANVIER!F301 -> 0 | O13: =JANVIER!F316 -> 0 | P13: =JANVIER!F342 -> 0 | Q13: =JANVIER!F361 -> 0 | R13: =JANVIER!F376 -> 0 | S13: =JANVIER!F18 -> 0 | T13: =JANVIER!F17 -> 0 | U13: =JANVIER!F16 -> 0 | V13: =DECEMBRE!H31 -> 0 | W13: 0 | X13: =V13+W13 -> 0
A14: TOTAL | B14: =SUM(B2:B13) -> 0 | C14: =SUM(C2:C13) -> 0 | D14: =SUM(D2:D13) -> 0 | E14: =SUM(E2:E13) -> 0 | G14: =SUM(G2:G13) -> 0 | H14: =SUM(H2:H13) -> 0 | I14: =SUM(I2:I13) -> 0 | J14: =SUM(J2:J13) -> 0 | K14: =SUM(K2:K13) -> 0 | L14: =SUM(L2:L13) -> 0 | M14: =SUM(M2:M13) -> 0 | N14: =SUM(N2:N13) -> 0 | ... X14: =SUM(X2:X13) -> 0
A16: Moyenne annuelle des frais | C16: =AVERAGE(FEVRIER!B91,MARS!B91,AVRIL!B91,MAI!B91,JUIN!B91,JUILLET!B91,AOUT!B91,SEPTEMBRE!B91,OCTOBRE!B91,NOVEMBRE!B91,DECEMBRE!B91,JANVIER!B91) -> #DIV/0!
A18: MOIS | B18: EUROS | C18: UC | D18: FOND
A19: FEVRIER | B19: 1000000 | C19: 25000 | D19: 38900
A20: MARS | B20: 52000 | C20: 100000 | D20: 60000
A21: AVRIL | B21: 980000 | C21: 1000000 | D21: 800000
A22: MAI | B22: 77000 | C22: 800000 | D22: 93000
A23: JUIN
A24: JUILLET
A25: AOÛT
A26: SEPTEMBRE
A27: OCTOBRE
A28: NOVEMBRE
A29: DÉCEMBRE
A30: JANVIER
