Workbook

Sheet Pointage
A1: =[1]Pointage!A1 -> NOMS | B1: =[1]Pointage!B1 -> PRESTATION | C1: =[1]Pointage!C1 -> 43029 | D1: =[1]Pointage!D1 -> 43030 | E1: =[1]Pointage!E1 -> 43031 | F1: =[1]Pointage!F1 -> 43032 | G1: =[1]Pointage!G1 -> 43033 | H1: =[1]Pointage!H1 -> 43034 | ... AL1: =[1]Pointage!AL1 -> 0
A2: =[1]Pointage!A2 -> Addario Grégory | B2: =[1]Pointage!B2 -> remplaçant | C2: =[1]Pointage!C2 -> REPOS | D2: =[1]Pointage!D2 -> V.N. Matin | E2: =[1]Pointage!E2 -> CARTON AP | F2: =[1]Pointage!F2 -> CARTON AP | G2: =[1]Pointage!G2 -> CARTON AP | H2: =[1]Pointage!H2 -> CARTON AP | ... AL2: =[1]Pointage!AL2 -> 0
A3: =[1]Pointage!A3 -> Alliouane Saïd | B3: =[1]Pointage!B3 -> remplaçant | C3: =[1]Pointage!C3 -> REPOS | D3: =[1]Pointage!D3 -> NICE OUEST DIM | E3: =[1]Pointage!E3 -> NICE OUEST | F3: =[1]Pointage!F3 -> ENC NUIT 20H30-02H30 | G3: =[1]Pointage!G3 -> ENC NUIT 20H30-02H30 | H3: =[1]Pointage!H3 -> ENC NUIT 20H30-02H30 | ... AL3: =[1]Pointage!AL3 -> 0
A4: =[1]Pointage!A4 -> Arnaud Fabrice | B4: =[1]Pointage!B4 -> fourgon carton AMP | C4: =[1]Pointage!C4 -> CARTON 8H30-12H / 13H-16H30 | D4: =[1]Pointage!D4 -> REPOS | E4: =[1]Pointage!E4 -> CARTON AP | F4: =[1]Pointage!F4 -> CARTON AP | G4: =[1]Pointage!G4 -> CARTON AP | H4: =[1]Pointage!H4 -> CARTON AP | ... AL4: =[1]Pointage!AL4 -> CARTON 8H30-12H / 13H-16H30
A5: =[1]Pointage!A5 -> Atarsia Kamel | B5: =[1]Pointage!B5 -> CPL | C5: =[1]Pointage!C5 -> REPOS | D5: =[1]Pointage!D5 -> POLY 7H-12H + CP | E5: =[1]Pointage!E5 -> Congés | F5: =[1]Pointage!F5 -> Congés | G5: =[1]Pointage!G5 -> Congés | H5: =[1]Pointage!H5 -> Congés | ... AL5: =[1]Pointage!AL5 -> 0
A6: =[1]Pointage!A6 -> Audibert Michel | B6: =[1]Pointage!B6 -> OUEST Déchetterie | C6: =[1]Pointage!C6 -> Congés | D6: =[1]Pointage!D6 -> Congés | E6: =[1]Pointage!E6 -> Congés | F6: =[1]Pointage!F6 -> Congés | G6: =[1]Pointage!G6 -> Congés | H6: =[1]Pointage!H6 -> Congés | ... AL6: =[1]Pointage!AL6 -> 0
A7: =[1]Pointage!A7 -> Ben Bouzid Bourhane | B7: =[1]Pointage!B7 -> OUEST Déchetterie | C7: =[1]Pointage!C7 -> NICE OUEST | D7: =[1]Pointage!D7 -> REPOS | E7: =[1]Pointage!E7 -> NICE OUEST | F7: =[1]Pointage!F7 -> NICE OUEST | G7: =[1]Pointage!G7 -> NICE OUEST | H7: =[1]Pointage!H7 -> NICE OUEST | ... AL7: =[1]Pointage!AL7 -> 0
A8: =[1]Pointage!A8 -> Bour Yvon | B8: =[1]Pointage!B8 -> CPL | C8: =[1]Pointage!C8 -> POLY 7H-12H / 14H-18H | D8: =[1]Pointage!D8 -> POLY 7H-12H | E8: =[1]Pointage!E8 -> REPOS | F8: =[1]Pointage!F8 -> POLY 12H-18H | G8: =[1]Pointage!G8 -> POLY 12H-19H | H8: =[1]Pointage!H8 -> POLY 12H-18H | ... AL8: =[1]Pointage!AL8 -> 0
A9: =[1]Pointage!A9 -> Burle Yann | B9: =[1]Pointage!B9 -> EST Déchetterie | C9: =[1]Pointage!C9 -> 0 | D9: =[1]Pointage!D9 -> 0 | E9: =[1]Pointage!E9 -> 0 | F9: =[1]Pointage!F9 -> NICE EST | G9: =[1]Pointage!G9 -> NICE EST | H9: =[1]Pointage!H9 -> NICE EST | ... AL9: =[1]Pointage!AL9 -> 0
A10: =[1]Pointage!A10 -> Cantelli Thomas | B10: =[1]Pointage!B10 -> remplaçant | C10: =[1]Pointage!C10 -> NICE OUEST | D10: =[1]Pointage!D10 -> REPOS | E10: =[1]Pointage!E10 -> REPOS | F10: =[1]Pointage!F10 -> NICE EST | G10: =[1]Pointage!G10 -> NICE OUEST | H10: =[1]Pointage!H10 -> NICE OUEST | ... AL10: =[1]Pointage!AL10 -> 0
A11: =[1]Pointage!A11 -> Cardinale Jean Claude | B11: =[1]Pointage!B11 -> OUEST Déchetterie | C11: =[1]Pointage!C11 -> Congés | D11: =[1]Pointage!D11 -> Congés | E11: =[1]Pointage!E11 -> NICE OUEST | F11: =[1]Pointage!F11 -> NICE OUEST | G11: =[1]Pointage!G11 -> NICE OUEST | H11: =[1]Pointage!H11 -> NICE OUEST | ... AL11: =[1]Pointage!AL11 -> NICE OUEST
A12: =[1]Pointage!A12 -> Courtois Alexis | B12: =[1]Pointage!B12 -> remplaçant | C12: =[1]Pointage!C12 -> NICE EST | D12: =[1]Pointage!D12 -> REPOS | E12: =[1]Pointage!E12 -> NICE OUEST | F12: =[1]Pointage!F12 -> NICE OUEST | G12: =[1]Pointage!G12 -> NICE OUEST | H12: =[1]Pointage!H12 -> NICE OUEST | ... AL12: =[1]Pointage!AL12 -> 0
... A45: =[1]Pointage!A45 -> 0 | B45: =[1]Pointage!B45 -> 0 | C45: =[1]Pointage!C45 -> 0 | D45: =[1]Pointage!D45 -> 0 | E45: =[1]Pointage!E45 -> 0 | F45: =[1]Pointage!F45 -> 0 | G45: =[1]Pointage!G45 -> 0 | H45: =[1]Pointage!H45 -> 0 | ... AL45: =[1]Pointage!AL45 -> 0

Sheet Affectations Service
A1: =Pointage!A1 -> NOMS | B1: =Pointage!B1 -> PRESTATION | C1: =Pointage!C1 -> 43029 | D1: =Pointage!D1 -> 43030 | E1: =Pointage!E1 -> 43031 | F1: =Pointage!F1 -> 43032 | G1: =Pointage!G1 -> 43033 | H1: =Pointage!H1 -> 43034 | ... AL1: =Pointage!AL1 -> 0
A2: =Pointage!A2 -> Addario Grégory | B2: =Pointage!B2 -> remplaçant | C2: =IF(Pointage!C2="ENC NUIT 20H30-02H30","ENC SOIR",IF(Pointage!C2="ENC MATIN 5H-12H","ENC MATIN",IF(Pointage!C2="ENC AM 12H30-19H30","ENC AM",IF(Pointage!C2="POLY 4H-12H + CP","COMPACTEUR",IF(Pointage!C2="HS CP 4H-7H ","COMPACTEUR",IF(Pointage!C2="POLY 7H-12H + CP","COMPACTEUR",IF(Pointage!C2="CARTON MATIN","CARTON MATIN",IF(Pointage!C2="CARTON AP","CARTON AM",IF(Pointage!C2="B. CARTON","BENNE CARTON",""))))))))) | D2: =IF(Pointage!D2="ENC NUIT 20H30-02H30","ENC SOIR",IF(Pointage!D2="ENC MATIN 5H-12H","ENC MATIN",IF(Pointage!D2="ENC AM 12H30-19H30","ENC AM",IF(Pointage!D2="POLY 4H-12H + CP","COMPACTEUR",IF(Pointage!D2="HS CP 4H-7H ","COMPACTEUR",IF(Pointage!D2="POLY 7H-12H + CP","COMPACTEUR",IF(Pointage!D2="CARTON MATIN","CARTON MATIN",IF(Pointage!D2="CARTON AP","CARTON AM",IF(Pointage!D2="B. CARTON","BENNE CARTON",""))))))))) | E2: =IF(Pointage!E2="ENC NUIT 20H30-02H30","ENC SOIR",IF(Pointage!E2="ENC MATIN 5H-12H","ENC MATIN",IF(Pointage!E2="ENC AM 12H30-19H30","ENC AM",IF(Pointage!E2="POLY 4H-12H + CP","COMPACTEUR",IF(Pointage!E2="HS CP 4H-7H ","COMPACTEUR",IF(Pointage!E2="POLY 7H-12H + CP","COMPACTEUR",IF(Pointage!E2="CARTON MATIN","CARTON MATIN",IF(Pointage!E2="CARTON AP","CARTON AM",IF(Pointage!E2="B. CARTON","BENNE CARTON",""))))))))) -> CARTON AM | F2: =IF(Pointage!F2="ENC NUIT 20H30-02H30","ENC SOIR",IF(Pointage!F2="ENC MATIN 5H-12H","ENC MATIN",IF(Pointage!F2="ENC AM 12H30-19H30","ENC AM",IF(Pointage!F2="POLY 4H-12H + CP","COMPACTEUR",IF(Pointage!F2="HS CP 4H-7H ","COMPACTEUR",IF(Pointage!F2="POLY 7H-12H + CP","COMPACTEUR",IF(Pointage!F2="CARTON MATIN","CARTON MATIN",IF(Pointage!F2="CARTON AP","CARTON AM",IF(Pointage!F2="B. CARTON","BENNE CARTON",""))))))))) -> CARTON AM | G2: =IF(Pointage!G2="ENC NUIT 20H30-02H30","ENC SOIR",IF(Pointage!G2="ENC MATIN 5H-12H","ENC MATIN",IF(Pointage!G2="ENC AM 12H30-19H30","ENC AM",IF(Pointage!G2="POLY 4H-12H + CP","COMPACTEUR",IF(Pointage!G2="HS CP 4H-7H ","COMPACTEUR",IF(Pointage!G2="POLY 7H-12H + CP","COMPACTEUR",IF(Pointage!G2="CARTON MATIN","CARTON MATIN",IF(Pointage!G2="CARTON AP","CARTON AM",IF(Pointage!G2="B. CARTON","BENNE CARTON",""))))))))) -> CARTON AM | H2: =IF(Pointage!H2="ENC NUIT 20H30-02H30","ENC SOIR",IF(Pointage!H2="ENC MATIN 5H-12H","ENC MATIN",IF(Pointage!H2="ENC AM 12H30-19H30","ENC AM",IF(Pointage!H2="POLY 4H-12H + CP","COMPACTEUR",IF(Pointage!H2="HS CP 4H-7H ","COMPACTEUR",IF(Pointage!H2="POLY 7H-12H + CP","COMPACTEUR",IF(Pointage!H2="CARTON MATIN","CARTON MATIN",IF(Pointage!H2="CARTON AP","CARTON AM",IF(Pointage!H2="B. CARTON","BENNE CARTON",""))))))))) -> CARTON AM | I2: =IF(Pointage!I2="ENC NUIT 20H30-02H30","ENC SOIR",IF(Pointage!I2="ENC MATIN 5H-12H","ENC MATIN",IF(Pointage!I2="ENC AM 12H30-19H30","ENC AM",IF(Pointage!I2="POLY 4H-12H + CP","COMPACTEUR",IF(Pointage!I2="HS CP 4H-7H ","COMPACTEUR",IF(Pointage!I2="POLY 7H-12H + CP","COMPACTEUR",IF(Pointage!I2="CARTON MATIN","CARTON MATIN",IF(Pointage!I2="CARTON AP","CARTON AM",IF(Pointage!I2="B. CARTON","BENNE CARTON",""))))))))) -> CARTON AM | J2: =IF(Pointage!J2="ENC NUIT 20H30-02H30","ENC SOIR",IF(Pointage!J2="ENC MATIN 5H-12H","ENC MATIN",IF(Pointage!J2="ENC AM 12H30-19H30","ENC AM",IF(Pointage!J2="POLY 4H-12H + CP","COMPACTEUR",IF(Pointage!J2="HS CP 4H-7H ","COMPACTEUR",IF(Pointage!J2="POLY 7H-12H + CP","COMPACTEUR",IF(Pointage!J2="CARTON MATIN","CARTON MATIN",IF(Pointage!J2="CARTON AP","CARTON AM",IF(Pointage!J2="B. CARTON","BENNE CARTON",""))))))))) | ... AL2: =IF(Pointage!AL2="ENC NUIT 20H30-02H30","ENC SOIR",IF(Pointage!AL2="ENC MATIN 5H-12H","ENC MATIN",IF(Pointage!AL2="ENC AM 12H30-19H30","ENC AM",IF(Pointage!AL2="POLY 4H-12H + CP","COMPACTEUR",IF(Pointage!AL2="HS CP 4H-7H ","COMPACTEUR",IF(Pointage!AL2="POLY 7H-12H + CP","COMPACTEUR",IF(Pointage!AL2="CARTON MATIN","CARTON MATIN",IF(Pointage!AL2="CARTON AP","CARTON AM",IF(Pointage!AL2="B. CARTON","BENNE CARTON","")))))))))
A3: =Pointage!A3 -> Alliouane Saïd | B3: =Pointage!B3 -> remplaçant | C3: =IF(Pointage!C3="ENC NUIT 20H30-02H30","ENC SOIR",IF(Pointage!C3="ENC MATIN 5H-12H","ENC MATIN",IF(Pointage!C3="ENC AM 12H30-19H30","ENC AM",IF(Pointage!C3="POLY 4H-12H + CP","COMPACTEUR",IF(Pointage!C3="HS CP 4H-7H ","COMPACTEUR",IF(Pointage!C3="POLY 7H-12H + CP","COMPACTEUR",IF(Pointage!C3="CARTON MATIN","CARTON MATIN",IF(Pointage!C3="CARTON AP","CARTON AM",IF(Pointage!C3="B. CARTON","BENNE CARTON",""))))))))) | D3: =IF(Pointage!D3="ENC NUIT 20H30-02H30","ENC SOIR",IF(Pointage!D3="ENC MATIN 5H-12H","ENC MATIN",IF(Pointage!D3="ENC AM 12H30-19H30","ENC AM",IF(Pointage!D3="POLY 4H-12H + CP","COMPACTEUR",IF(Pointage!D3="HS CP 4H-7H ","COMPACTEUR",IF(Pointage!D3="POLY 7H-12H + CP","COMPACTEUR",IF(Pointage!D3="CARTON MATIN","CARTON MATIN",IF(Pointage!D3="CARTON AP","CARTON AM",IF(Pointage!D3="B. CARTON","BENNE CARTON",""))))))))) | E3: =IF(Pointage!E3="ENC NUIT 20H30-02H30","ENC SOIR",IF(Pointage!E3="ENC MATIN 5H-12H","ENC MATIN",IF(Pointage!E3="ENC AM 12H30-19H30","ENC AM",IF(Pointage!E3="POLY 4H-12H + CP","COMPACTEUR",IF(Pointage!E3="HS CP 4H-7H ","COMPACTEUR",IF(Pointage!E3="POLY 7H-12H + CP","COMPACTEUR",IF(Pointage!E3="CARTON MATIN","CARTON MATIN",IF(Pointage!E3="CARTON AP","CARTON AM",IF(Pointage!E3="B. CARTON","BENNE CARTON",""))))))))) | F3: =IF(Pointage!F3="ENC NUIT 20H30-02H30","ENC SOIR",IF(Pointage!F3="ENC MATIN 5H-12H","ENC MATIN",IF(Pointage!F3="ENC AM 12H30-19H30","ENC AM",IF(Pointage!F3="POLY 4H-12H + CP","COMPACTEUR",IF(Pointage!F3="HS CP 4H-7H ","COMPACTEUR",IF(Pointage!F3="POLY 7H-12H + CP","COMPACTEUR",IF(Pointage!F3="CARTON MATIN","CARTON MATIN",IF(Pointage!F3="CARTON AP","CARTON AM",IF(Pointage!F3="B. CARTON","BENNE CARTON",""))))))))) -> ENC SOIR | G3: =IF(Pointage!G3="ENC NUIT 20H30-02H30","ENC SOIR",IF(Pointage!G3="ENC MATIN 5H-12H","ENC MATIN",IF(Pointage!G3="ENC AM 12H30-19H30","ENC AM",IF(Pointage!G3="POLY 4H-12H + CP","COMPACTEUR",IF(Pointage!G3="HS CP 4H-7H ","COMPACTEUR",IF(Pointage!G3="POLY 7H-12H + CP","COMPACTEUR",IF(Pointage!G3="CARTON MATIN","CARTON MATIN",IF(Pointage!G3="CARTON AP","CARTON AM",IF(Pointage!G3="B. CARTON","BENNE CARTON",""))))))))) -> ENC SOIR | H3: =IF(Pointage!H3="ENC NUIT 20H30-02H30","ENC SOIR",IF(Pointage!H3="ENC MATIN 5H-12H","ENC MATIN",IF(Pointage!H3="ENC AM 12H30-19H30","ENC AM",IF(Pointage!H3="POLY 4H-12H + CP","COMPACTEUR",IF(Pointage!H3="HS CP 4H-7H ","COMPACTEUR",IF(Pointage!H3="POLY 7H-12H + CP","COMPACTEUR",IF(Pointage!H3="CARTON MATIN","CARTON MATIN",IF(Pointage!H3="CARTON AP","CARTON AM",IF(Pointage!H3="B. CARTON","BENNE CARTON",""))))))))) -> ENC SOIR | I3: =IF(Pointage!I3="ENC NUIT 20H30-02H30","ENC SOIR",IF(Pointage!I3="ENC MATIN 5H-12H","ENC MATIN",IF(Pointage!I3="ENC AM 12H30-19H30","ENC AM",IF(Pointage!I3="POLY 4H-12H + CP","COMPACTEUR",IF(Pointage!I3="HS CP 4H-7H ","COMPACTEUR",IF(Pointage!I3="POLY 7H-12H + CP","COMPACTEUR",IF(Pointage!I3="CARTON MATIN","CARTON MATIN",IF(Pointage!I3="CARTON AP","CARTON AM",IF(Pointage!I3="B. CARTON","BENNE CARTON",""))))))))) -> ENC SOIR | J3: =IF(Pointage!J3="ENC NUIT 20H30-02H30","ENC SOIR",IF(Pointage!J3="ENC MATIN 5H-12H","ENC MATIN",IF(Pointage!J3="ENC AM 12H30-19H30","ENC AM",IF(Pointage!J3="POLY 4H-12H + CP","COMPACTEUR",IF(Pointage!J3="HS CP 4H-7H ","COMPACTEUR",IF(Pointage!J3="POLY 7H-12H + CP","COMPACTEUR",IF(Pointage!J3="CARTON MATIN","CARTON MATIN",IF(Pointage!J3="CARTON AP","CARTON AM",IF(Pointage!J3="B. CARTON","BENNE CARTON",""))))))))) | ... AL3: =IF(Pointage!AL3="ENC NUIT 20H30-02H30","ENC SOIR",IF(Pointage!AL3="ENC MATIN 5H-12H","ENC MATIN",IF(Pointage!AL3="ENC AM 12H30-19H30","ENC AM",IF(Pointage!AL3="POLY 4H-12H + CP","COMPACTEUR",IF(Pointage!AL3="HS CP 4H-7H ","COMPACTEUR",IF(Pointage!AL3="POLY 7H-12H + CP","COMPACTEUR",IF(Pointage!AL3="CARTON MATIN","CARTON MATIN",IF(Pointage!AL3="CARTON AP","CARTON AM",IF(Pointage!AL3="B. CARTON","BENNE CARTON","")))))))))
A4: =Pointage!A4 -> Arnaud Fabrice | B4: =Pointage!B4 -> fourgon carton AMP | C4: =IF(Pointage!C4="ENC NUIT 20H30-02H30","ENC SOIR",IF(Pointage!C4="ENC MATIN 5H-12H","ENC MATIN",IF(Pointage!C4="ENC AM 12H30-19H30","ENC AM",IF(Pointage!C4="POLY 4H-12H + CP","COMPACTEUR",IF(Pointage!C4="HS CP 4H-7H ","COMPACTEUR",IF(Pointage!C4="POLY 7H-12H + CP","COMPACTEUR",IF(Pointage!C4="CARTON MATIN","CARTON MATIN",IF(Pointage!C4="CARTON AP","CARTON AM",IF(Pointage!C4="B. CARTON","BENNE CARTON",""))))))))) | D4: =IF(Pointage!D4="ENC NUIT 20H30-02H30","ENC SOIR",IF(Pointage!D4="ENC MATIN 5H-12H","ENC MATIN",IF(Pointage!D4="ENC AM 12H30-19H30","ENC AM",IF(Pointage!D4="POLY 4H-12H + CP","COMPACTEUR",IF(Pointage!D4="HS CP 4H-7H ","COMPACTEUR",IF(Pointage!D4="POLY 7H-12H + CP","COMPACTEUR",IF(Pointage!D4="CARTON MATIN","CARTON MATIN",IF(Pointage!D4="CARTON AP","CARTON AM",IF(Pointage!D4="B. CARTON","BENNE CARTON",""))))))))) | E4: =IF(Pointage!E4="ENC NUIT 20H30-02H30","ENC SOIR",IF(Pointage!E4="ENC MATIN 5H-12H","ENC MATIN",IF(Pointage!E4="ENC AM 12H30-19H30","ENC AM",IF(Pointage!E4="POLY 4H-12H + CP","COMPACTEUR",IF(Pointage!E4="HS CP 4H-7H ","COMPACTEUR",IF(Pointage!E4="POLY 7H-12H + CP","COMPACTEUR",IF(Pointage!E4="CARTON MATIN","CARTON MATIN",IF(Pointage!E4="CARTON AP","CARTON AM",IF(Pointage!E4="B. CARTON","BENNE CARTON",""))))))))) -> CARTON AM | F4: =IF(Pointage!F4="ENC NUIT 20H30-02H30","ENC SOIR",IF(Pointage!F4="ENC MATIN 5H-12H","ENC MATIN",IF(Pointage!F4="ENC AM 12H30-19H30","ENC AM",IF(Pointage!F4="POLY 4H-12H + CP","COMPACTEUR",IF(Pointage!F4="HS CP 4H-7H ","COMPACTEUR",IF(Pointage!F4="POLY 7H-12H + CP","COMPACTEUR",IF(Pointage!F4="CARTON MATIN","CARTON MATIN",IF(Pointage!F4="CARTON AP","CARTON AM",IF(Pointage!F4="B. CARTON","BENNE CARTON",""))))))))) -> CARTON AM | G4: =IF(Pointage!G4="ENC NUIT 20H30-02H30","ENC SOIR",IF(Pointage!G4="ENC MATIN 5H-12H","ENC MATIN",IF(Pointage!G4="ENC AM 12H30-19H30","ENC AM",IF(Pointage!G4="POLY 4H-12H + CP","COMPACTEUR",IF(Pointage!G4="HS CP 4H-7H ","COMPACTEUR",IF(Pointage!G4="POLY 7H-12H + CP","COMPACTEUR",IF(Pointage!G4="CARTON MATIN","CARTON MATIN",IF(Pointage!G4="CARTON AP","CARTON AM",IF(Pointage!G4="B. CARTON","BENNE CARTON",""))))))))) -> CARTON AM | H4: =IF(Pointage!H4="ENC NUIT 20H30-02H30","ENC SOIR",IF(Pointage!H4="ENC MATIN 5H-12H","ENC MATIN",IF(Pointage!H4="ENC AM 12H30-19H30","ENC AM",IF(Pointage!H4="POLY 4H-12H + CP","COMPACTEUR",IF(Pointage!H4="HS CP 4H-7H ","COMPACTEUR",IF(Pointage!H4="POLY 7H-12H + CP","COMPACTEUR",IF(Pointage!H4="CARTON MATIN","CARTON MATIN",IF(Pointage!H4="CARTON AP","CARTON AM",IF(Pointage!H4="B. CARTON","BENNE CARTON",""))))))))) -> CARTON AM | I4: =IF(Pointage!I4="ENC NUIT 20H30-02H30","ENC SOIR",IF(Pointage!I4="ENC MATIN 5H-12H","ENC MATIN",IF(Pointage!I4="ENC AM 12H30-19H30","ENC AM",IF(Pointage!I4="POLY 4H-12H + CP","COMPACTEUR",IF(Pointage!I4="HS CP 4H-7H ","COMPACTEUR",IF(Pointage!I4="POLY 7H-12H + CP","COMPACTEUR",IF(Pointage!I4="CARTON MATIN","CARTON MATIN",IF(Pointage!I4="CARTON AP","CARTON AM",IF(Pointage!I4="B. CARTON","BENNE CARTON",""))))))))) -> CARTON AM | J4: =IF(Pointage!J4="ENC NUIT 20H30-02H30","ENC SOIR",IF(Pointage!J4="ENC MATIN 5H-12H","ENC MATIN",IF(Pointage!J4="ENC AM 12H30-19H30","ENC AM",IF(Pointage!J4="POLY 4H-12H + CP","COMPACTEUR",IF(Pointage!J4="HS CP 4H-7H ","COMPACTEUR",IF(Pointage!J4="POLY 7H-12H + CP","COMPACTEUR",IF(Pointage!J4="CARTON MATIN","CARTON MATIN",IF(Pointage!J4="CARTON AP","CARTON AM",IF(Pointage!J4="B. CARTON","BENNE CARTON",""))))))))) | ... AL4: =IF(Pointage!AL4="ENC NUIT 20H30-02H30","ENC SOIR",IF(Pointage!AL4="ENC MATIN 5H-12H","ENC MATIN",IF(Pointage!AL4="ENC AM 12H30-19H30","ENC AM",IF(Pointage!AL4="POLY 4H-12H + CP","COMPACTEUR",IF(Pointage!AL4="HS CP 4H-7H ","COMPACTEUR",IF(Pointage!AL4="POLY 7H-12H + CP","COMPACTEUR",IF(Pointage!AL4="CARTON MATIN","CARTON MATIN",IF(Pointage!AL4="CARTON AP","CARTON AM",IF(Pointage!AL4="B. CARTON","BENNE CARTON","")))))))))
A5: =Pointage!A5 -> Atarsia Kamel | B5: =Pointage!B5 -> CPL | C5: =IF(Pointage!C5="ENC NUIT 20H30-02H30","ENC SOIR",IF(Pointage!C5="ENC MATIN 5H-12H","ENC MATIN",IF(Pointage!C5="ENC AM 12H30-19H30","ENC AM",IF(Pointage!C5="POLY 4H-12H + CP","COMPACTEUR",IF(Pointage!C5="HS CP 4H-7H ","COMPACTEUR",IF(Pointage!C5="POLY 7H-12H + CP","COMPACTEUR",IF(Pointage!C5="CARTON MATIN","CARTON MATIN",IF(Pointage!C5="CARTON AP","CARTON AM",IF(Pointage!C5="B. CARTON","BENNE CARTON",""))))))))) | D5: =IF(Pointage!D5="ENC NUIT 20H30-02H30","ENC SOIR",IF(Pointage!D5="ENC MATIN 5H-12H","ENC MATIN",IF(Pointage!D5="ENC AM 12H30-19H30","ENC AM",IF(Pointage!D5="POLY 4H-12H + CP","COMPACTEUR",IF(Pointage!D5="HS CP 4H-7H ","COMPACTEUR",IF(Pointage!D5="POLY 7H-12H + CP","COMPACTEUR",IF(Pointage!D5="CARTON MATIN","CARTON MATIN",IF(Pointage!D5="CARTON AP","CARTON AM",IF(Pointage!D5="B. CARTON","BENNE CARTON",""))))))))) -> COMPACTEUR | E5: =IF(Pointage!E5="ENC NUIT 20H30-02H30","ENC SOIR",IF(Pointage!E5="ENC MATIN 5H-12H","ENC MATIN",IF(Pointage!E5="ENC AM 12H30-19H30","ENC AM",IF(Pointage!E5="POLY 4H-12H + CP","COMPACTEUR",IF(Pointage!E5="HS CP 4H-7H ","COMPACTEUR",IF(Pointage!E5="POLY 7H-12H + CP","COMPACTEUR",IF(Pointage!E5="CARTON MATIN","CARTON MATIN",IF(Pointage!E5="CARTON AP","CARTON AM",IF(Pointage!E5="B. CARTON","BENNE CARTON",""))))))))) | F5: =IF(Pointage!F5="ENC NUIT 20H30-02H30","ENC SOIR",IF(Pointage!F5="ENC MATIN 5H-12H","ENC MATIN",IF(Pointage!F5="ENC AM 12H30-19H30","ENC AM",IF(Pointage!F5="POLY 4H-12H + CP","COMPACTEUR",IF(Pointage!F5="HS CP 4H-7H ","COMPACTEUR",IF(Pointage!F5="POLY 7H-12H + CP","COMPACTEUR",IF(Pointage!F5="CARTON MATIN","CARTON MATIN",IF(Pointage!F5="CARTON AP","CARTON AM",IF(Pointage!F5="B. CARTON","BENNE CARTON",""))))))))) | G5: =IF(Pointage!G5="ENC NUIT 20H30-02H30","ENC SOIR",IF(Pointage!G5="ENC MATIN 5H-12H","ENC MATIN",IF(Pointage!G5="ENC AM 12H30-19H30","ENC AM",IF(Pointage!G5="POLY 4H-12H + CP","COMPACTEUR",IF(Pointage!G5="HS CP 4H-7H ","COMPACTEUR",IF(Pointage!G5="POLY 7H-12H + CP","COMPACTEUR",IF(Pointage!G5="CARTON MATIN","CARTON MATIN",IF(Pointage!G5="CARTON AP","CARTON AM",IF(Pointage!G5="B. CARTON","BENNE CARTON",""))))))))) | H5: =IF(Pointage!H5="ENC NUIT 20H30-02H30","ENC SOIR",IF(Pointage!H5="ENC MATIN 5H-12H","ENC MATIN",IF(Pointage!H5="ENC AM 12H30-19H30","ENC AM",IF(Pointage!H5="POLY 4H-12H + CP","COMPACTEUR",IF(Pointage!H5="HS CP 4H-7H ","COMPACTEUR",IF(Pointage!H5="POLY 7H-12H + CP","COMPACTEUR",IF(Pointage!H5="CARTON MATIN","CARTON MATIN",IF(Pointage!H5="CARTON AP","CARTON AM",IF(Pointage!H5="B. CARTON","BENNE CARTON",""))))))))) | I5: =IF(Pointage!I5="ENC NUIT 20H30-02H30","ENC SOIR",IF(Pointage!I5="ENC MATIN 5H-12H","ENC MATIN",IF(Pointage!I5="ENC AM 12H30-19H30","ENC AM",IF(Pointage!I5="POLY 4H-12H + CP","COMPACTEUR",IF(Pointage!I5="HS CP 4H-7H ","COMPACTEUR",IF(Pointage!I5="POLY 7H-12H + CP","COMPACTEUR",IF(Pointage!I5="CARTON MATIN","CARTON MATIN",IF(Pointage!I5="CARTON AP","CARTON AM",IF(Pointage!I5="B. CARTON","BENNE CARTON",""))))))))) | J5: =IF(Pointage!J5="ENC NUIT 20H30-02H30","ENC SOIR",IF(Pointage!J5="ENC MATIN 5H-12H","ENC MATIN",IF(Pointage!J5="ENC AM 12H30-19H30","ENC AM",IF(Pointage!J5="POLY 4H-12H + CP","COMPACTEUR",IF(Pointage!J5="HS CP 4H-7H ","COMPACTEUR",IF(Pointage!J5="POLY 7H-12H + CP","COMPACTEUR",IF(Pointage!J5="CARTON MATIN","CARTON MATIN",IF(Pointage!J5="CARTON AP","CARTON AM",IF(Pointage!J5="B. CARTON","BENNE CARTON",""))))))))) | ... AL5: =IF(Pointage!AL5="ENC NUIT 20H30-02H30","ENC SOIR",IF(Pointage!AL5="ENC MATIN 5H-12H","ENC MATIN",IF(Pointage!AL5="ENC AM 12H30-19H30","ENC AM",IF(Pointage!AL5="POLY 4H-12H + CP","COMPACTEUR",IF(Pointage!AL5="HS CP 4H-7H ","COMPACTEUR",IF(Pointage!AL5="POLY 7H-12H + CP","COMPACTEUR",IF(Pointage!AL5="CARTON MATIN","CARTON MATIN",IF(Pointage!AL5="CARTON AP","CARTON AM",IF(Pointage!AL5="B. CARTON","BENNE CARTON","")))))))))
A6: =Pointage!A6 -> Audibert Michel | B6: =Pointage!B6 -> OUEST Déchetterie | C6: =IF(Pointage!C6="ENC NUIT 20H30-02H30","ENC SOIR",IF(Pointage!C6="ENC MATIN 5H-12H","ENC MATIN",IF(Pointage!C6="ENC AM 12H30-19H30","ENC AM",IF(Pointage!C6="POLY 4H-12H + CP","COMPACTEUR",IF(Pointage!C6="HS CP 4H-7H ","COMPACTEUR",IF(Pointage!C6="POLY 7H-12H + CP","COMPACTEUR",IF(Pointage!C6="CARTON MATIN","CARTON MATIN",IF(Pointage!C6="CARTON AP","CARTON AM",IF(Pointage!C6="B. CARTON","BENNE CARTON",""))))))))) | D6: =IF(Pointage!D6="ENC NUIT 20H30-02H30","ENC SOIR",IF(Pointage!D6="ENC MATIN 5H-12H","ENC MATIN",IF(Pointage!D6="ENC AM 12H30-19H30","ENC AM",IF(Pointage!D6="POLY 4H-12H + CP","COMPACTEUR",IF(Pointage!D6="HS CP 4H-7H ","COMPACTEUR",IF(Pointage!D6="POLY 7H-12H + CP","COMPACTEUR",IF(Pointage!D6="CARTON MATIN","CARTON MATIN",IF(Pointage!D6="CARTON AP","CARTON AM",IF(Pointage!D6="B. CARTON","BENNE CARTON",""))))))))) | E6: =IF(Pointage!E6="ENC NUIT 20H30-02H30","ENC SOIR",IF(Pointage!E6="ENC MATIN 5H-12H","ENC MATIN",IF(Pointage!E6="ENC AM 12H30-19H30","ENC AM",IF(Pointage!E6="POLY 4H-12H + CP","COMPACTEUR",IF(Pointage!E6="HS CP 4H-7H ","COMPACTEUR",IF(Pointage!E6="POLY 7H-12H + CP","COMPACTEUR",IF(Pointage!E6="CARTON MATIN","CARTON MATIN",IF(Pointage!E6="CARTON AP","CARTON AM",IF(Pointage!E6="B. CARTON","BENNE CARTON",""))))))))) | F6: =IF(Pointage!F6="ENC NUIT 20H30-02H30","ENC SOIR",IF(Pointage!F6="ENC MATIN 5H-12H","ENC MATIN",IF(Pointage!F6="ENC AM 12H30-19H30","ENC AM",IF(Pointage!F6="POLY 4H-12H + CP","COMPACTEUR",IF(Pointage!F6="HS CP 4H-7H ","COMPACTEUR",IF(Pointage!F6="POLY 7H-12H + CP","COMPACTEUR",IF(Pointage!F6="CARTON MATIN","CARTON MATIN",IF(Pointage!F6="CARTON AP","CARTON AM",IF(Pointage!F6="B. CARTON","BENNE CARTON",""))))))))) | G6: =IF(Pointage!G6="ENC NUIT 20H30-02H30","ENC SOIR",IF(Pointage!G6="ENC MATIN 5H-12H","ENC MATIN",IF(Pointage!G6="ENC AM 12H30-19H30","ENC AM",IF(Pointage!G6="POLY 4H-12H + CP","COMPACTEUR",IF(Pointage!G6="HS CP 4H-7H ","COMPACTEUR",IF(Pointage!G6="POLY 7H-12H + CP","COMPACTEUR",IF(Pointage!G6="CARTON MATIN","CARTON MATIN",IF(Pointage!G6="CARTON AP","CARTON AM",IF(Pointage!G6="B. CARTON","BENNE CARTON",""))))))))) | H6: =IF(Pointage!H6="ENC NUIT 20H30-02H30","ENC SOIR",IF(Pointage!H6="ENC MATIN 5H-12H","ENC MATIN",IF(Pointage!H6="ENC AM 12H30-19H30","ENC AM",IF(Pointage!H6="POLY 4H-12H + CP","COMPACTEUR",IF(Pointage!H6="HS CP 4H-7H ","COMPACTEUR",IF(Pointage!H6="POLY 7H-12H + CP","COMPACTEUR",IF(Pointage!H6="CARTON MATIN","CARTON MATIN",IF(Pointage!H6="CARTON AP","CARTON AM",IF(Pointage!H6="B. CARTON","BENNE CARTON",""))))))))) | I6: =IF(Pointage!I6="ENC NUIT 20H30-02H30","ENC SOIR",IF(Pointage!I6="ENC MATIN 5H-12H","ENC MATIN",IF(Pointage!I6="ENC AM 12H30-19H30","ENC AM",IF(Pointage!I6="POLY 4H-12H + CP","COMPACTEUR",IF(Pointage!I6="HS CP 4H-7H ","COMPACTEUR",IF(Pointage!I6="POLY 7H-12H + CP","COMPACTEUR",IF(Pointage!I6="CARTON MATIN","CARTON MATIN",IF(Pointage!I6="CARTON AP","CARTON AM",IF(Pointage!I6="B. CARTON","BENNE CARTON",""))))))))) | J6: =IF(Pointage!J6="ENC NUIT 20H30-02H30","ENC SOIR",IF(Pointage!J6="ENC MATIN 5H-12H","ENC MATIN",IF(Pointage!J6="ENC AM 12H30-19H30","ENC AM",IF(Pointage!J6="POLY 4H-12H + CP","COMPACTEUR",IF(Pointage!J6="HS CP 4H-7H ","COMPACTEUR",IF(Pointage!J6="POLY 7H-12H + CP","COMPACTEUR",IF(Pointage!J6="CARTON MATIN","CARTON MATIN",IF(Pointage!J6="CARTON AP","CARTON AM",IF(Pointage!J6="B. CARTON","BENNE CARTON",""))))))))) | ... AL6: =IF(Pointage!AL6="ENC NUIT 20H30-02H30","ENC SOIR",IF(Pointage!AL6="ENC MATIN 5H-12H","ENC MATIN",IF(Pointage!AL6="ENC AM 12H30-19H30","ENC AM",IF(Pointage!AL6="POLY 4H-12H + CP","COMPACTEUR",IF(Pointage!AL6="HS CP 4H-7H ","COMPACTEUR",IF(Pointage!AL6="POLY 7H-12H + CP","COMPACTEUR",IF(Pointage!AL6="CARTON MATIN","CARTON MATIN",IF(Pointage!AL6="CARTON AP","CARTON AM",IF(Pointage!AL6="B. CARTON","BENNE CARTON","")))))))))
A7: =Pointage!A7 -> Ben Bouzid Bourhane | B7: =Pointage!B7 -> OUEST Déchetterie | C7: =IF(Pointage!C7="ENC NUIT 20H30-02H30","ENC SOIR",IF(Pointage!C7="ENC MATIN 5H-12H","ENC MATIN",IF(Pointage!C7="ENC AM 12H30-19H30","ENC AM",IF(Pointage!C7="POLY 4H-12H + CP","COMPACTEUR",IF(Pointage!C7="HS CP 4H-7H ","COMPACTEUR",IF(Pointage!C7="POLY 7H-12H + CP","COMPACTEUR",IF(Pointage!C7="CARTON MATIN","CARTON MATIN",IF(Pointage!C7="CARTON AP","CARTON AM",IF(Pointage!C7="B. CARTON","BENNE CARTON",""))))))))) | D7: =IF(Pointage!D7="ENC NUIT 20H30-02H30","ENC SOIR",IF(Pointage!D7="ENC MATIN 5H-12H","ENC MATIN",IF(Pointage!D7="ENC AM 12H30-19H30","ENC AM",IF(Pointage!D7="POLY 4H-12H + CP","COMPACTEUR",IF(Pointage!D7="HS CP 4H-7H ","COMPACTEUR",IF(Pointage!D7="POLY 7H-12H + CP","COMPACTEUR",IF(Pointage!D7="CARTON MATIN","CARTON MATIN",IF(Pointage!D7="CARTON AP","CARTON AM",IF(Pointage!D7="B. CARTON","BENNE CARTON",""))))))))) | E7: =IF(Pointage!E7="ENC NUIT 20H30-02H30","ENC SOIR",IF(Pointage!E7="ENC MATIN 5H-12H","ENC MATIN",IF(Pointage!E7="ENC AM 12H30-19H30","ENC AM",IF(Pointage!E7="POLY 4H-12H + CP","COMPACTEUR",IF(Pointage!E7="HS CP 4H-7H ","COMPACTEUR",IF(Pointage!E7="POLY 7H-12H + CP","COMPACTEUR",IF(Pointage!E7="CARTON MATIN","CARTON MATIN",IF(Pointage!E7="CARTON AP","CARTON AM",IF(Pointage!E7="B. CARTON","BENNE CARTON",""))))))))) | F7: =IF(Pointage!F7="ENC NUIT 20H30-02H30","ENC SOIR",IF(Pointage!F7="ENC MATIN 5H-12H","ENC MATIN",IF(Pointage!F7="ENC AM 12H30-19H30","ENC AM",IF(Pointage!F7="POLY 4H-12H + CP","COMPACTEUR",IF(Pointage!F7="HS CP 4H-7H ","COMPACTEUR",IF(Pointage!F7="POLY 7H-12H + CP","COMPACTEUR",IF(Pointage!F7="CARTON MATIN","CARTON MATIN",IF(Pointage!F7="CARTON AP","CARTON AM",IF(Pointage!F7="B. CARTON","BENNE CARTON",""))))))))) | G7: =IF(Pointage!G7="ENC NUIT 20H30-02H30","ENC SOIR",IF(Pointage!G7="ENC MATIN 5H-12H","ENC MATIN",IF(Pointage!G7="ENC AM 12H30-19H30","ENC AM",IF(Pointage!G7="POLY 4H-12H + CP","COMPACTEUR",IF(Pointage!G7="HS CP 4H-7H ","COMPACTEUR",IF(Pointage!G7="POLY 7H-12H + CP","COMPACTEUR",IF(Pointage!G7="CARTON MATIN","CARTON MATIN",IF(Pointage!G7="CARTON AP","CARTON AM",IF(Pointage!G7="B. CARTON","BENNE CARTON",""))))))))) | H7: =IF(Pointage!H7="ENC NUIT 20H30-02H30","ENC SOIR",IF(Pointage!H7="ENC MATIN 5H-12H","ENC MATIN",IF(Pointage!H7="ENC AM 12H30-19H30","ENC AM",IF(Pointage!H7="POLY 4H-12H + CP","COMPACTEUR",IF(Pointage!H7="HS CP 4H-7H ","COMPACTEUR",IF(Pointage!H7="POLY 7H-12H + CP","COMPACTEUR",IF(Pointage!H7="CARTON MATIN","CARTON MATIN",IF(Pointage!H7="CARTON AP","CARTON AM",IF(Pointage!H7="B. CARTON","BENNE CARTON",""))))))))) | I7: =IF(Pointage!I7="ENC NUIT 20H30-02H30","ENC SOIR",IF(Pointage!I7="ENC MATIN 5H-12H","ENC MATIN",IF(Pointage!I7="ENC AM 12H30-19H30","ENC AM",IF(Pointage!I7="POLY 4H-12H + CP","COMPACTEUR",IF(Pointage!I7="HS CP 4H-7H ","COMPACTEUR",IF(Pointage!I7="POLY 7H-12H + CP","COMPACTEUR",IF(Pointage!I7="CARTON MATIN","CARTON MATIN",IF(Pointage!I7="CARTON AP","CARTON AM",IF(Pointage!I7="B. CARTON","BENNE CARTON",""))))))))) | J7: =IF(Pointage!J7="ENC NUIT 20H30-02H30","ENC SOIR",IF(Pointage!J7="ENC MATIN 5H-12H","ENC MATIN",IF(Pointage!J7="ENC AM 12H30-19H30","ENC AM",IF(Pointage!J7="POLY 4H-12H + CP","COMPACTEUR",IF(Pointage!J7="HS CP 4H-7H ","COMPACTEUR",IF(Pointage!J7="POLY 7H-12H + CP","COMPACTEUR",IF(Pointage!J7="CARTON MATIN","CARTON MATIN",IF(Pointage!J7="CARTON AP","CARTON AM",IF(Pointage!J7="B. CARTON","BENNE CARTON",""))))))))) | ... AL7: =IF(Pointage!AL7="ENC NUIT 20H30-02H30","ENC SOIR",IF(Pointage!AL7="ENC MATIN 5H-12H","ENC MATIN",IF(Pointage!AL7="ENC AM 12H30-19H30","ENC AM",IF(Pointage!AL7="POLY 4H-12H + CP","COMPACTEUR",IF(Pointage!AL7="HS CP 4H-7H ","COMPACTEUR",IF(Pointage!AL7="POLY 7H-12H + CP","COMPACTEUR",IF(Pointage!AL7="CARTON MATIN","CARTON MATIN",IF(Pointage!AL7="CARTON AP","CARTON AM",IF(Pointage!AL7="B. CARTON","BENNE CARTON","")))))))))
A8: =Pointage!A8 -> Bour Yvon | B8: =Pointage!B8 -> CPL | C8: =IF(Pointage!C8="ENC NUIT 20H30-02H30","ENC SOIR",IF(Pointage!C8="ENC MATIN 5H-12H","ENC MATIN",IF(Pointage!C8="ENC AM 12H30-19H30","ENC AM",IF(Pointage!C8="POLY 4H-12H + CP","COMPACTEUR",IF(Pointage!C8="HS CP 4H-7H ","COMPACTEUR",IF(Pointage!C8="POLY 7H-12H + CP","COMPACTEUR",IF(Pointage!C8="CARTON MATIN","CARTON MATIN",IF(Pointage!C8="CARTON AP","CARTON AM",IF(Pointage!C8="B. CARTON","BENNE CARTON",""))))))))) | D8: =IF(Pointage!D8="ENC NUIT 20H30-02H30","ENC SOIR",IF(Pointage!D8="ENC MATIN 5H-12H","ENC MATIN",IF(Pointage!D8="ENC AM 12H30-19H30","ENC AM",IF(Pointage!D8="POLY 4H-12H + CP","COMPACTEUR",IF(Pointage!D8="HS CP 4H-7H ","COMPACTEUR",IF(Pointage!D8="POLY 7H-12H + CP","COMPACTEUR",IF(Pointage!D8="CARTON MATIN","CARTON MATIN",IF(Pointage!D8="CARTON AP","CARTON AM",IF(Pointage!D8="B. CARTON","BENNE CARTON",""))))))))) | E8: =IF(Pointage!E8="ENC NUIT 20H30-02H30","ENC SOIR",IF(Pointage!E8="ENC MATIN 5H-12H","ENC MATIN",IF(Pointage!E8="ENC AM 12H30-19H30","ENC AM",IF(Pointage!E8="POLY 4H-12H + CP","COMPACTEUR",IF(Pointage!E8="HS CP 4H-7H ","COMPACTEUR",IF(Pointage!E8="POLY 7H-12H + CP","COMPACTEUR",IF(Pointage!E8="CARTON MATIN","CARTON MATIN",IF(Pointage!E8="CARTON AP","CARTON AM",IF(Pointage!E8="B. CARTON","BENNE CARTON",""))))))))) | F8: =IF(Pointage!F8="ENC NUIT 20H30-02H30","ENC SOIR",IF(Pointage!F8="ENC MATIN 5H-12H","ENC MATIN",IF(Pointage!F8="ENC AM 12H30-19H30","ENC AM",IF(Pointage!F8="POLY 4H-12H + CP","COMPACTEUR",IF(Pointage!F8="HS CP 4H-7H ","COMPACTEUR",IF(Pointage!F8="POLY 7H-12H + CP","COMPACTEUR",IF(Pointage!F8="CARTON MATIN","CARTON MATIN",IF(Pointage!F8="CARTON AP","CARTON AM",IF(Pointage!F8="B. CARTON","BENNE CARTON",""))))))))) | G8: =IF(Pointage!G8="ENC NUIT 20H30-02H30","ENC SOIR",IF(Pointage!G8="ENC MATIN 5H-12H","ENC MATIN",IF(Pointage!G8="ENC AM 12H30-19H30","ENC AM",IF(Pointage!G8="POLY 4H-12H + CP","COMPACTEUR",IF(Pointage!G8="HS CP 4H-7H ","COMPACTEUR",IF(Pointage!G8="POLY 7H-12H + CP","COMPACTEUR",IF(Pointage!G8="CARTON MATIN","CARTON MATIN",IF(Pointage!G8="CARTON AP","CARTON AM",IF(Pointage!G8="B. CARTON","BENNE CARTON",""))))))))) | H8: =IF(Pointage!H8="ENC NUIT 20H30-02H30","ENC SOIR",IF(Pointage!H8="ENC MATIN 5H-12H","ENC MATIN",IF(Pointage!H8="ENC AM 12H30-19H30","ENC AM",IF(Pointage!H8="POLY 4H-12H + CP","COMPACTEUR",IF(Pointage!H8="HS CP 4H-7H ","COMPACTEUR",IF(Pointage!H8="POLY 7H-12H + CP","COMPACTEUR",IF(Pointage!H8="CARTON MATIN","CARTON MATIN",IF(Pointage!H8="CARTON AP","CARTON AM",IF(Pointage!H8="B. CARTON","BENNE CARTON",""))))))))) | I8: =IF(Pointage!I8="ENC NUIT 20H30-02H30","ENC SOIR",IF(Pointage!I8="ENC MATIN 5H-12H","ENC MATIN",IF(Pointage!I8="ENC AM 12H30-19H30","ENC AM",IF(Pointage!I8="POLY 4H-12H + CP","COMPACTEUR",IF(Pointage!I8="HS CP 4H-7H ","COMPACTEUR",IF(Pointage!I8="POLY 7H-12H + CP","COMPACTEUR",IF(Pointage!I8="CARTON MATIN","CARTON MATIN",IF(Pointage!I8="CARTON AP","CARTON AM",IF(Pointage!I8="B. CARTON","BENNE CARTON",""))))))))) | J8: =IF(Pointage!J8="ENC NUIT 20H30-02H30","ENC SOIR",IF(Pointage!J8="ENC MATIN 5H-12H","ENC MATIN",IF(Pointage!J8="ENC AM 12H30-19H30","ENC AM",IF(Pointage!J8="POLY 4H-12H + CP","COMPACTEUR",IF(Pointage!J8="HS CP 4H-7H ","COMPACTEUR",IF(Pointage!J8="POLY 7H-12H + CP","COMPACTEUR",IF(Pointage!J8="CARTON MATIN","CARTON MATIN",IF(Pointage!J8="CARTON AP","CARTON AM",IF(Pointage!J8="B. CARTON","BENNE CARTON",""))))))))) | ... AL8: =IF(Pointage!AL8="ENC NUIT 20H30-02H30","ENC SOIR",IF(Pointage!AL8="ENC MATIN 5H-12H","ENC MATIN",IF(Pointage!AL8="ENC AM 12H30-19H30","ENC AM",IF(Pointage!AL8="POLY 4H-12H + CP","COMPACTEUR",IF(Pointage!AL8="HS CP 4H-7H ","COMPACTEUR",IF(Pointage!AL8="POLY 7H-12H + CP","COMPACTEUR",IF(Pointage!AL8="CARTON MATIN","CARTON MATIN",IF(Pointage!AL8="CARTON AP","CARTON AM",IF(Pointage!AL8="B. CARTON","BENNE CARTON","")))))))))
A9: =Pointage!A9 -> Burle Yann | B9: =Pointage!B9 -> EST Déchetterie | C9: =IF(Pointage!C9="ENC NUIT 20H30-02H30","ENC SOIR",IF(Pointage!C9="ENC MATIN 5H-12H","ENC MATIN",IF(Pointage!C9="ENC AM 12H30-19H30","ENC AM",IF(Pointage!C9="POLY 4H-12H + CP","COMPACTEUR",IF(Pointage!C9="HS CP 4H-7H ","COMPACTEUR",IF(Pointage!C9="POLY 7H-12H + CP","COMPACTEUR",IF(Pointage!C9="CARTON MATIN","CARTON MATIN",IF(Pointage!C9="CARTON AP","CARTON AM",IF(Pointage!C9="B. CARTON","BENNE CARTON",""))))))))) | D9: =IF(Pointage!D9="ENC NUIT 20H30-02H30","ENC SOIR",IF(Pointage!D9="ENC MATIN 5H-12H","ENC MATIN",IF(Pointage!D9="ENC AM 12H30-19H30","ENC AM",IF(Pointage!D9="POLY 4H-12H + CP","COMPACTEUR",IF(Pointage!D9="HS CP 4H-7H ","COMPACTEUR",IF(Pointage!D9="POLY 7H-12H + CP","COMPACTEUR",IF(Pointage!D9="CARTON MATIN","CARTON MATIN",IF(Pointage!D9="CARTON AP","CARTON AM",IF(Pointage!D9="B. CARTON","BENNE CARTON",""))))))))) | E9: =IF(Pointage!E9="ENC NUIT 20H30-02H30","ENC SOIR",IF(Pointage!E9="ENC MATIN 5H-12H","ENC MATIN",IF(Pointage!E9="ENC AM 12H30-19H30","ENC AM",IF(Pointage!E9="POLY 4H-12H + CP","COMPACTEUR",IF(Pointage!E9="HS CP 4H-7H ","COMPACTEUR",IF(Pointage!E9="POLY 7H-12H + CP","COMPACTEUR",IF(Pointage!E9="CARTON MATIN","CARTON MATIN",IF(Pointage!E9="CARTON AP","CARTON AM",IF(Pointage!E9="B. CARTON","BENNE CARTON",""))))))))) | F9: =IF(Pointage!F9="ENC NUIT 20H30-02H30","ENC SOIR",IF(Pointage!F9="ENC MATIN 5H-12H","ENC MATIN",IF(Pointage!F9="ENC AM 12H30-19H30","ENC AM",IF(Pointage!F9="POLY 4H-12H + CP","COMPACTEUR",IF(Pointage!F9="HS CP 4H-7H ","COMPACTEUR",IF(Pointage!F9="POLY 7H-12H + CP","COMPACTEUR",IF(Pointage!F9="CARTON MATIN","CARTON MATIN",IF(Pointage!F9="CARTON AP","CARTON AM",IF(Pointage!F9="B. CARTON","BENNE CARTON",""))))))))) | G9: =IF(Pointage!G9="ENC NUIT 20H30-02H30","ENC SOIR",IF(Pointage!G9="ENC MATIN 5H-12H","ENC MATIN",IF(Pointage!G9="ENC AM 12H30-19H30","ENC AM",IF(Pointage!G9="POLY 4H-12H + CP","COMPACTEUR",IF(Pointage!G9="HS CP 4H-7H ","COMPACTEUR",IF(Pointage!G9="POLY 7H-12H + CP","COMPACTEUR",IF(Pointage!G9="CARTON MATIN","CARTON MATIN",IF(Pointage!G9="CARTON AP","CARTON AM",IF(Pointage!G9="B. CARTON","BENNE CARTON",""))))))))) | H9: =IF(Pointage!H9="ENC NUIT 20H30-02H30","ENC SOIR",IF(Pointage!H9="ENC MATIN 5H-12H","ENC MATIN",IF(Pointage!H9="ENC AM 12H30-19H30","ENC AM",IF(Pointage!H9="POLY 4H-12H + CP","COMPACTEUR",IF(Pointage!H9="HS CP 4H-7H ","COMPACTEUR",IF(Pointage!H9="POLY 7H-12H + CP","COMPACTEUR",IF(Pointage!H9="CARTON MATIN","CARTON MATIN",IF(Pointage!H9="CARTON AP","CARTON AM",IF(Pointage!H9="B. CARTON","BENNE CARTON",""))))))))) | I9: =IF(Pointage!I9="ENC NUIT 20H30-02H30","ENC SOIR",IF(Pointage!I9="ENC MATIN 5H-12H","ENC MATIN",IF(Pointage!I9="ENC AM 12H30-19H30","ENC AM",IF(Pointage!I9="POLY 4H-12H + CP","COMPACTEUR",IF(Pointage!I9="HS CP 4H-7H ","COMPACTEUR",IF(Pointage!I9="POLY 7H-12H + CP","COMPACTEUR",IF(Pointage!I9="CARTON MATIN","CARTON MATIN",IF(Pointage!I9="CARTON AP","CARTON AM",IF(Pointage!I9="B. CARTON","BENNE CARTON",""))))))))) | J9: =IF(Pointage!J9="ENC NUIT 20H30-02H30","ENC SOIR",IF(Pointage!J9="ENC MATIN 5H-12H","ENC MATIN",IF(Pointage!J9="ENC AM 12H30-19H30","ENC AM",IF(Pointage!J9="POLY 4H-12H + CP","COMPACTEUR",IF(Pointage!J9="HS CP 4H-7H ","COMPACTEUR",IF(Pointage!J9="POLY 7H-12H + CP","COMPACTEUR",IF(Pointage!J9="CARTON MATIN","CARTON MATIN",IF(Pointage!J9="CARTON AP","CARTON AM",IF(Pointage!J9="B. CARTON","BENNE CARTON",""))))))))) | ... AL9: =IF(Pointage!AL9="ENC NUIT 20H30-02H30","ENC SOIR",IF(Pointage!AL9="ENC MATIN 5H-12H","ENC MATIN",IF(Pointage!AL9="ENC AM 12H30-19H30","ENC AM",IF(Pointage!AL9="POLY 4H-12H + CP","COMPACTEUR",IF(Pointage!AL9="HS CP 4H-7H ","COMPACTEUR",IF(Pointage!AL9="POLY 7H-12H + CP","COMPACTEUR",IF(Pointage!AL9="CARTON MATIN","CARTON MATIN",IF(Pointage!AL9="CARTON AP","CARTON AM",IF(Pointage!AL9="B. CARTON","BENNE CARTON","")))))))))
A10: =Pointage!A10 -> Cantelli Thomas | B10: =Pointage!B10 -> remplaçant | C10: =IF(Pointage!C10="ENC NUIT 20H30-02H30","ENC SOIR",IF(Pointage!C10="ENC MATIN 5H-12H","ENC MATIN",IF(Pointage!C10="ENC AM 12H30-19H30","ENC AM",IF(Pointage!C10="POLY 4H-12H + CP","COMPACTEUR",IF(Pointage!C10="HS CP 4H-7H ","COMPACTEUR",IF(Pointage!C10="POLY 7H-12H + CP","COMPACTEUR",IF(Pointage!C10="CARTON MATIN","CARTON MATIN",IF(Pointage!C10="CARTON AP","CARTON AM",IF(Pointage!C10="B. CARTON","BENNE CARTON",""))))))))) | D10: =IF(Pointage!D10="ENC NUIT 20H30-02H30","ENC SOIR",IF(Pointage!D10="ENC MATIN 5H-12H","ENC MATIN",IF(Pointage!D10="ENC AM 12H30-19H30","ENC AM",IF(Pointage!D10="POLY 4H-12H + CP","COMPACTEUR",IF(Pointage!D10="HS CP 4H-7H ","COMPACTEUR",IF(Pointage!D10="POLY 7H-12H + CP","COMPACTEUR",IF(Pointage!D10="CARTON MATIN","CARTON MATIN",IF(Pointage!D10="CARTON AP","CARTON AM",IF(Pointage!D10="B. CARTON","BENNE CARTON",""))))))))) | E10: =IF(Pointage!E10="ENC NUIT 20H30-02H30","ENC SOIR",IF(Pointage!E10="ENC MATIN 5H-12H","ENC MATIN",IF(Pointage!E10="ENC AM 12H30-19H30","ENC AM",IF(Pointage!E10="POLY 4H-12H + CP","COMPACTEUR",IF(Pointage!E10="HS CP 4H-7H ","COMPACTEUR",IF(Pointage!E10="POLY 7H-12H + CP","COMPACTEUR",IF(Pointage!E10="CARTON MATIN","CARTON MATIN",IF(Pointage!E10="CARTON AP","CARTON AM",IF(Pointage!E10="B. CARTON","BENNE CARTON",""))))))))) | F10: =IF(Pointage!F10="ENC NUIT 20H30-02H30","ENC SOIR",IF(Pointage!F10="ENC MATIN 5H-12H","ENC MATIN",IF(Pointage!F10="ENC AM 12H30-19H30","ENC AM",IF(Pointage!F10="POLY 4H-12H + CP","COMPACTEUR",IF(Pointage!F10="HS CP 4H-7H ","COMPACTEUR",IF(Pointage!F10="POLY 7H-12H + CP","COMPACTEUR",IF(Pointage!F10="CARTON MATIN","CARTON MATIN",IF(Pointage!F10="CARTON AP","CARTON AM",IF(Pointage!F10="B. CARTON","BENNE CARTON",""))))))))) | G10: =IF(Pointage!G10="ENC NUIT 20H30-02H30","ENC SOIR",IF(Pointage!G10="ENC MATIN 5H-12H","ENC MATIN",IF(Pointage!G10="ENC AM 12H30-19H30","ENC AM",IF(Pointage!G10="POLY 4H-12H + CP","COMPACTEUR",IF(Pointage!G10="HS CP 4H-7H ","COMPACTEUR",IF(Pointage!G10="POLY 7H-12H + CP","COMPACTEUR",IF(Pointage!G10="CARTON MATIN","CARTON MATIN",IF(Pointage!G10="CARTON AP","CARTON AM",IF(Pointage!G10="B. CARTON","BENNE CARTON",""))))))))) | H10: =IF(Pointage!H10="ENC NUIT 20H30-02H30","ENC SOIR",IF(Pointage!H10="ENC MATIN 5H-12H","ENC MATIN",IF(Pointage!H10="ENC AM 12H30-19H30","ENC AM",IF(Pointage!H10="POLY 4H-12H + CP","COMPACTEUR",IF(Pointage!H10="HS CP 4H-7H ","COMPACTEUR",IF(Pointage!H10="POLY 7H-12H + CP","COMPACTEUR",IF(Pointage!H10="CARTON MATIN","CARTON MATIN",IF(Pointage!H10="CARTON AP","CARTON AM",IF(Pointage!H10="B. CARTON","BENNE CARTON",""))))))))) | I10: =IF(Pointage!I10="ENC NUIT 20H30-02H30","ENC SOIR",IF(Pointage!I10="ENC MATIN 5H-12H","ENC MATIN",IF(Pointage!I10="ENC AM 12H30-19H30","ENC AM",IF(Pointage!I10="POLY 4H-12H + CP","COMPACTEUR",IF(Pointage!I10="HS CP 4H-7H ","COMPACTEUR",IF(Pointage!I10="POLY 7H-12H + CP","COMPACTEUR",IF(Pointage!I10="CARTON MATIN","CARTON MATIN",IF(Pointage!I10="CARTON AP","CARTON AM",IF(Pointage!I10="B. CARTON","BENNE CARTON",""))))))))) | J10: =IF(Pointage!J10="ENC NUIT 20H30-02H30","ENC SOIR",IF(Pointage!J10="ENC MATIN 5H-12H","ENC MATIN",IF(Pointage!J10="ENC AM 12H30-19H30","ENC AM",IF(Pointage!J10="POLY 4H-12H + CP","COMPACTEUR",IF(Pointage!J10="HS CP 4H-7H ","COMPACTEUR",IF(Pointage!J10="POLY 7H-12H + CP","COMPACTEUR",IF(Pointage!J10="CARTON MATIN","CARTON MATIN",IF(Pointage!J10="CARTON AP","CARTON AM",IF(Pointage!J10="B. CARTON","BENNE CARTON",""))))))))) | ... AL10: =IF(Pointage!AL10="ENC NUIT 20H30-02H30","ENC SOIR",IF(Pointage!AL10="ENC MATIN 5H-12H","ENC MATIN",IF(Pointage!AL10="ENC AM 12H30-19H30","ENC AM",IF(Pointage!AL10="POLY 4H-12H + CP","COMPACTEUR",IF(Pointage!AL10="HS CP 4H-7H ","COMPACTEUR",IF(Pointage!AL10="POLY 7H-12H + CP","COMPACTEUR",IF(Pointage!AL10="CARTON MATIN","CARTON MATIN",IF(Pointage!AL10="CARTON AP","CARTON AM",IF(Pointage!AL10="B. CARTON","BENNE CARTON","")))))))))
A11: =Pointage!A11 -> Cardinale Jean Claude | B11: =Pointage!B11 -> OUEST Déchetterie | C11: =IF(Pointage!C11="ENC NUIT 20H30-02H30","ENC SOIR",IF(Pointage!C11="ENC MATIN 5H-12H","ENC MATIN",IF(Pointage!C11="ENC AM 12H30-19H30","ENC AM",IF(Pointage!C11="POLY 4H-12H + CP","COMPACTEUR",IF(Pointage!C11="HS CP 4H-7H ","COMPACTEUR",IF(Pointage!C11="POLY 7H-12H + CP","COMPACTEUR",IF(Pointage!C11="CARTON MATIN","CARTON MATIN",IF(Pointage!C11="CARTON AP","CARTON AM",IF(Pointage!C11="B. CARTON","BENNE CARTON",""))))))))) | D11: =IF(Pointage!D11="ENC NUIT 20H30-02H30","ENC SOIR",IF(Pointage!D11="ENC MATIN 5H-12H","ENC MATIN",IF(Pointage!D11="ENC AM 12H30-19H30","ENC AM",IF(Pointage!D11="POLY 4H-12H + CP","COMPACTEUR",IF(Pointage!D11="HS CP 4H-7H ","COMPACTEUR",IF(Pointage!D11="POLY 7H-12H + CP","COMPACTEUR",IF(Pointage!D11="CARTON MATIN","CARTON MATIN",IF(Pointage!D11="CARTON AP","CARTON AM",IF(Pointage!D11="B. CARTON","BENNE CARTON",""))))))))) | E11: =IF(Pointage!E11="ENC NUIT 20H30-02H30","ENC SOIR",IF(Pointage!E11="ENC MATIN 5H-12H","ENC MATIN",IF(Pointage!E11="ENC AM 12H30-19H30","ENC AM",IF(Pointage!E11="POLY 4H-12H + CP","COMPACTEUR",IF(Pointage!E11="HS CP 4H-7H ","COMPACTEUR",IF(Pointage!E11="POLY 7H-12H + CP","COMPACTEUR",IF(Pointage!E11="CARTON MATIN","CARTON MATIN",IF(Pointage!E11="CARTON AP","CARTON AM",IF(Pointage!E11="B. CARTON","BENNE CARTON",""))))))))) | F11: =IF(Pointage!F11="ENC NUIT 20H30-02H30","ENC SOIR",IF(Pointage!F11="ENC MATIN 5H-12H","ENC MATIN",IF(Pointage!F11="ENC AM 12H30-19H30","ENC AM",IF(Pointage!F11="POLY 4H-12H + CP","COMPACTEUR",IF(Pointage!F11="HS CP 4H-7H ","COMPACTEUR",IF(Pointage!F11="POLY 7H-12H + CP","COMPACTEUR",IF(Pointage!F11="CARTON MATIN","CARTON MATIN",IF(Pointage!F11="CARTON AP","CARTON AM",IF(Pointage!F11="B. CARTON","BENNE CARTON",""))))))))) | G11: =IF(Pointage!G11="ENC NUIT 20H30-02H30","ENC SOIR",IF(Pointage!G11="ENC MATIN 5H-12H","ENC MATIN",IF(Pointage!G11="ENC AM 12H30-19H30","ENC AM",IF(Pointage!G11="POLY 4H-12H + CP","COMPACTEUR",IF(Pointage!G11="HS CP 4H-7H ","COMPACTEUR",IF(Pointage!G11="POLY 7H-12H + CP","COMPACTEUR",IF(Pointage!G11="CARTON MATIN","CARTON MATIN",IF(Pointage!G11="CARTON AP","CARTON AM",IF(Pointage!G11="B. CARTON","BENNE CARTON",""))))))))) | H11: =IF(Pointage!H11="ENC NUIT 20H30-02H30","ENC SOIR",IF(Pointage!H11="ENC MATIN 5H-12H","ENC MATIN",IF(Pointage!H11="ENC AM 12H30-19H30","ENC AM",IF(Pointage!H11="POLY 4H-12H + CP","COMPACTEUR",IF(Pointage!H11="HS CP 4H-7H ","COMPACTEUR",IF(Pointage!H11="POLY 7H-12H + CP","COMPACTEUR",IF(Pointage!H11="CARTON MATIN","CARTON MATIN",IF(Pointage!H11="CARTON AP","CARTON AM",IF(Pointage!H11="B. CARTON","BENNE CARTON",""))))))))) | I11: =IF(Pointage!I11="ENC NUIT 20H30-02H30","ENC SOIR",IF(Pointage!I11="ENC MATIN 5H-12H","ENC MATIN",IF(Pointage!I11="ENC AM 12H30-19H30","ENC AM",IF(Pointage!I11="POLY 4H-12H + CP","COMPACTEUR",IF(Pointage!I11="HS CP 4H-7H ","COMPACTEUR",IF(Pointage!I11="POLY 7H-12H + CP","COMPACTEUR",IF(Pointage!I11="CARTON MATIN","CARTON MATIN",IF(Pointage!I11="CARTON AP","CARTON AM",IF(Pointage!I11="B. CARTON","BENNE CARTON",""))))))))) | J11: =IF(Pointage!J11="ENC NUIT 20H30-02H30","ENC SOIR",IF(Pointage!J11="ENC MATIN 5H-12H","ENC MATIN",IF(Pointage!J11="ENC AM 12H30-19H30","ENC AM",IF(Pointage!J11="POLY 4H-12H + CP","COMPACTEUR",IF(Pointage!J11="HS CP 4H-7H ","COMPACTEUR",IF(Pointage!J11="POLY 7H-12H + CP","COMPACTEUR",IF(Pointage!J11="CARTON MATIN","CARTON MATIN",IF(Pointage!J11="CARTON AP","CARTON AM",IF(Pointage!J11="B. CARTON","BENNE CARTON",""))))))))) | ... AL11: =IF(Pointage!AL11="ENC NUIT 20H30-02H30","ENC SOIR",IF(Pointage!AL11="ENC MATIN 5H-12H","ENC MATIN",IF(Pointage!AL11="ENC AM 12H30-19H30","ENC AM",IF(Pointage!AL11="POLY 4H-12H + CP","COMPACTEUR",IF(Pointage!AL11="HS CP 4H-7H ","COMPACTEUR",IF(Pointage!AL11="POLY 7H-12H + CP","COMPACTEUR",IF(Pointage!AL11="CARTON MATIN","CARTON MATIN",IF(Pointage!AL11="CARTON AP","CARTON AM",IF(Pointage!AL11="B. CARTON","BENNE CARTON","")))))))))
A12: =Pointage!A12 -> Courtois Alexis | B12: =Pointage!B12 -> remplaçant | C12: =IF(Pointage!C12="ENC NUIT 20H30-02H30","ENC SOIR",IF(Pointage!C12="ENC MATIN 5H-12H","ENC MATIN",IF(Pointage!C12="ENC AM 12H30-19H30","ENC AM",IF(Pointage!C12="POLY 4H-12H + CP","COMPACTEUR",IF(Pointage!C12="HS CP 4H-7H ","COMPACTEUR",IF(Pointage!C12="POLY 7H-12H + CP","COMPACTEUR",IF(Pointage!C12="CARTON MATIN","CARTON MATIN",IF(Pointage!C12="CARTON AP","CARTON AM",IF(Pointage!C12="B. CARTON","BENNE CARTON",""))))))))) | D12: =IF(Pointage!D12="ENC NUIT 20H30-02H30","ENC SOIR",IF(Pointage!D12="ENC MATIN 5H-12H","ENC MATIN",IF(Pointage!D12="ENC AM 12H30-19H30","ENC AM",IF(Pointage!D12="POLY 4H-12H + CP","COMPACTEUR",IF(Pointage!D12="HS CP 4H-7H ","COMPACTEUR",IF(Pointage!D12="POLY 7H-12H + CP","COMPACTEUR",IF(Pointage!D12="CARTON MATIN","CARTON MATIN",IF(Pointage!D12="CARTON AP","CARTON AM",IF(Pointage!D12="B. CARTON","BENNE CARTON",""))))))))) | E12: =IF(Pointage!E12="ENC NUIT 20H30-02H30","ENC SOIR",IF(Pointage!E12="ENC MATIN 5H-12H","ENC MATIN",IF(Pointage!E12="ENC AM 12H30-19H30","ENC AM",IF(Pointage!E12="POLY 4H-12H + CP","COMPACTEUR",IF(Pointage!E12="HS CP 4H-7H ","COMPACTEUR",IF(Pointage!E12="POLY 7H-12H + CP","COMPACTEUR",IF(Pointage!E12="CARTON MATIN","CARTON MATIN",IF(Pointage!E12="CARTON AP","CARTON AM",IF(Pointage!E12="B. CARTON","BENNE CARTON",""))))))))) | F12: =IF(Pointage!F12="ENC NUIT 20H30-02H30","ENC SOIR",IF(Pointage!F12="ENC MATIN 5H-12H","ENC MATIN",IF(Pointage!F12="ENC AM 12H30-19H30","ENC AM",IF(Pointage!F12="POLY 4H-12H + CP","COMPACTEUR",IF(Pointage!F12="HS CP 4H-7H ","COMPACTEUR",IF(Pointage!F12="POLY 7H-12H + CP","COMPACTEUR",IF(Pointage!F12="CARTON MATIN","CARTON MATIN",IF(Pointage!F12="CARTON AP","CARTON AM",IF(Pointage!F12="B. CARTON","BENNE CARTON",""))))))))) | G12: =IF(Pointage!G12="ENC NUIT 20H30-02H30","ENC SOIR",IF(Pointage!G12="ENC MATIN 5H-12H","ENC MATIN",IF(Pointage!G12="ENC AM 12H30-19H30","ENC AM",IF(Pointage!G12="POLY 4H-12H + CP","COMPACTEUR",IF(Pointage!G12="HS CP 4H-7H ","COMPACTEUR",IF(Pointage!G12="POLY 7H-12H + CP","COMPACTEUR",IF(Pointage!G12="CARTON MATIN","CARTON MATIN",IF(Pointage!G12="CARTON AP","CARTON AM",IF(Pointage!G12="B. CARTON","BENNE CARTON",""))))))))) | H12: =IF(Pointage!H12="ENC NUIT 20H30-02H30","ENC SOIR",IF(Pointage!H12="ENC MATIN 5H-12H","ENC MATIN",IF(Pointage!H12="ENC AM 12H30-19H30","ENC AM",IF(Pointage!H12="POLY 4H-12H + CP","COMPACTEUR",IF(Pointage!H12="HS CP 4H-7H ","COMPACTEUR",IF(Pointage!H12="POLY 7H-12H + CP","COMPACTEUR",IF(Pointage!H12="CARTON MATIN","CARTON MATIN",IF(Pointage!H12="CARTON AP","CARTON AM",IF(Pointage!H12="B. CARTON","BENNE CARTON",""))))))))) | I12: =IF(Pointage!I12="ENC NUIT 20H30-02H30","ENC SOIR",IF(Pointage!I12="ENC MATIN 5H-12H","ENC MATIN",IF(Pointage!I12="ENC AM 12H30-19H30","ENC AM",IF(Pointage!I12="POLY 4H-12H + CP","COMPACTEUR",IF(Pointage!I12="HS CP 4H-7H ","COMPACTEUR",IF(Pointage!I12="POLY 7H-12H + CP","COMPACTEUR",IF(Pointage!I12="CARTON MATIN","CARTON MATIN",IF(Pointage!I12="CARTON AP","CARTON AM",IF(Pointage!I12="B. CARTON","BENNE CARTON",""))))))))) | J12: =IF(Pointage!J12="ENC NUIT 20H30-02H30","ENC SOIR",IF(Pointage!J12="ENC MATIN 5H-12H","ENC MATIN",IF(Pointage!J12="ENC AM 12H30-19H30","ENC AM",IF(Pointage!J12="POLY 4H-12H + CP","COMPACTEUR",IF(Pointage!J12="HS CP 4H-7H ","COMPACTEUR",IF(Pointage!J12="POLY 7H-12H + CP","COMPACTEUR",IF(Pointage!J12="CARTON MATIN","CARTON MATIN",IF(Pointage!J12="CARTON AP","CARTON AM",IF(Pointage!J12="B. CARTON","BENNE CARTON",""))))))))) | ... AL12: =IF(Pointage!AL12="ENC NUIT 20H30-02H30","ENC SOIR",IF(Pointage!AL12="ENC MATIN 5H-12H","ENC MATIN",IF(Pointage!AL12="ENC AM 12H30-19H30","ENC AM",IF(Pointage!AL12="POLY 4H-12H + CP","COMPACTEUR",IF(Pointage!AL12="HS CP 4H-7H ","COMPACTEUR",IF(Pointage!AL12="POLY 7H-12H + CP","COMPACTEUR",IF(Pointage!AL12="CARTON MATIN","CARTON MATIN",IF(Pointage!AL12="CARTON AP","CARTON AM",IF(Pointage!AL12="B. CARTON","BENNE CARTON","")))))))))
A13: =Pointage!A13 -> Dalmasso Yves | B13: =Pointage!B13 -> CPL | C13: =IF(Pointage!C13="ENC NUIT 20H30-02H30","ENC SOIR",IF(Pointage!C13="ENC MATIN 5H-12H","ENC MATIN",IF(Pointage!C13="ENC AM 12H30-19H30","ENC AM",IF(Pointage!C13="POLY 4H-12H + CP","COMPACTEUR",IF(Pointage!C13="HS CP 4H-7H ","COMPACTEUR",IF(Pointage!C13="POLY 7H-12H + CP","COMPACTEUR",IF(Pointage!C13="CARTON MATIN","CARTON MATIN",IF(Pointage!C13="CARTON AP","CARTON AM",IF(Pointage!C13="B. CARTON","BENNE CARTON",""))))))))) | D13: =IF(Pointage!D13="ENC NUIT 20H30-02H30","ENC SOIR",IF(Pointage!D13="ENC MATIN 5H-12H","ENC MATIN",IF(Pointage!D13="ENC AM 12H30-19H30","ENC AM",IF(Pointage!D13="POLY 4H-12H + CP","COMPACTEUR",IF(Pointage!D13="HS CP 4H-7H ","COMPACTEUR",IF(Pointage!D13="POLY 7H-12H + CP","COMPACTEUR",IF(Pointage!D13="CARTON MATIN","CARTON MATIN",IF(Pointage!D13="CARTON AP","CARTON AM",IF(Pointage!D13="B. CARTON","BENNE CARTON",""))))))))) | E13: =IF(Pointage!E13="ENC NUIT 20H30-02H30","ENC SOIR",IF(Pointage!E13="ENC MATIN 5H-12H","ENC MATIN",IF(Pointage!E13="ENC AM 12H30-19H30","ENC AM",IF(Pointage!E13="POLY 4H-12H + CP","COMPACTEUR",IF(Pointage!E13="HS CP 4H-7H ","COMPACTEUR",IF(Pointage!E13="POLY 7H-12H + CP","COMPACTEUR",IF(Pointage!E13="CARTON MATIN","CARTON MATIN",IF(Pointage!E13="CARTON AP","CARTON AM",IF(Pointage!E13="B. CARTON","BENNE CARTON",""))))))))) | F13: =IF(Pointage!F13="ENC NUIT 20H30-02H30","ENC SOIR",IF(Pointage!F13="ENC MATIN 5H-12H","ENC MATIN",IF(Pointage!F13="ENC AM 12H30-19H30","ENC AM",IF(Pointage!F13="POLY 4H-12H + CP","COMPACTEUR",IF(Pointage!F13="HS CP 4H-7H ","COMPACTEUR",IF(Pointage!F13="POLY 7H-12H + CP","COMPACTEUR",IF(Pointage!F13="CARTON MATIN","CARTON MATIN",IF(Pointage!F13="CARTON AP","CARTON AM",IF(Pointage!F13="B. CARTON","BENNE CARTON",""))))))))) | G13: =IF(Pointage!G13="ENC NUIT 20H30-02H30","ENC SOIR",IF(Pointage!G13="ENC MATIN 5H-12H","ENC MATIN",IF(Pointage!G13="ENC AM 12H30-19H30","ENC AM",IF(Pointage!G13="POLY 4H-12H + CP","COMPACTEUR",IF(Pointage!G13="HS CP 4H-7H ","COMPACTEUR",IF(Pointage!G13="POLY 7H-12H + CP","COMPACTEUR",IF(Pointage!G13="CARTON MATIN","CARTON MATIN",IF(Pointage!G13="CARTON AP","CARTON AM",IF(Pointage!G13="B. CARTON","BENNE CARTON",""))))))))) -> BENNE CARTON | H13: =IF(Pointage!H13="ENC NUIT 20H30-02H30","ENC SOIR",IF(Pointage!H13="ENC MATIN 5H-12H","ENC MATIN",IF(Pointage!H13="ENC AM 12H30-19H30","ENC AM",IF(Pointage!H13="POLY 4H-12H + CP","COMPACTEUR",IF(Pointage!H13="HS CP 4H-7H ","COMPACTEUR",IF(Pointage!H13="POLY 7H-12H + CP","COMPACTEUR",IF(Pointage!H13="CARTON MATIN","CARTON MATIN",IF(Pointage!H13="CARTON AP","CARTON AM",IF(Pointage!H13="B. CARTON","BENNE CARTON",""))))))))) | I13: =IF(Pointage!I13="ENC NUIT 20H30-02H30","ENC SOIR",IF(Pointage!I13="ENC MATIN 5H-12H","ENC MATIN",IF(Pointage!I13="ENC AM 12H30-19H30","ENC AM",IF(Pointage!I13="POLY 4H-12H + CP","COMPACTEUR",IF(Pointage!I13="HS CP 4H-7H ","COMPACTEUR",IF(Pointage!I13="POLY 7H-12H + CP","COMPACTEUR",IF(Pointage!I13="CARTON MATIN","CARTON MATIN",IF(Pointage!I13="CARTON AP","CARTON AM",IF(Pointage!I13="B. CARTON","BENNE CARTON",""))))))))) | J13: =IF(Pointage!J13="ENC NUIT 20H30-02H30","ENC SOIR",IF(Pointage!J13="ENC MATIN 5H-12H","ENC MATIN",IF(Pointage!J13="ENC AM 12H30-19H30","ENC AM",IF(Pointage!J13="POLY 4H-12H + CP","COMPACTEUR",IF(Pointage!J13="HS CP 4H-7H ","COMPACTEUR",IF(Pointage!J13="POLY 7H-12H + CP","COMPACTEUR",IF(Pointage!J13="CARTON MATIN","CARTON MATIN",IF(Pointage!J13="CARTON AP","CARTON AM",IF(Pointage!J13="B. CARTON","BENNE CARTON",""))))))))) | ... AL13: =IF(Pointage!AL13="ENC NUIT 20H30-02H30","ENC SOIR",IF(Pointage!AL13="ENC MATIN 5H-12H","ENC MATIN",IF(Pointage!AL13="ENC AM 12H30-19H30","ENC AM",IF(Pointage!AL13="POLY 4H-12H + CP","COMPACTEUR",IF(Pointage!AL13="HS CP 4H-7H ","COMPACTEUR",IF(Pointage!AL13="POLY 7H-12H + CP","COMPACTEUR",IF(Pointage!AL13="CARTON MATIN","CARTON MATIN",IF(Pointage!AL13="CARTON AP","CARTON AM",IF(Pointage!AL13="B. CARTON","BENNE CARTON","")))))))))
... A45: =Pointage!A45 -> 0 | B45: =Pointage!B45 -> 0 | C45: =IF(Pointage!C45="ENC NUIT 20H30-02H30","ENC SOIR",IF(Pointage!C45="ENC MATIN 5H-12H","ENC MATIN",IF(Pointage!C45="ENC AM 12H30-19H30","ENC AM",IF(Pointage!C45="POLY 4H-12H + CP","COMPACTEUR",IF(Pointage!C45="HS CP 4H-7H ","COMPACTEUR",IF(Pointage!C45="POLY 7H-12H + CP","COMPACTEUR",IF(Pointage!C45="CARTON MATIN","CARTON MATIN",IF(Pointage!C45="CARTON AP","CARTON AM",IF(Pointage!C45="B. CARTON","BENNE CARTON",""))))))))) | D45: =IF(Pointage!D45="ENC NUIT 20H30-02H30","ENC SOIR",IF(Pointage!D45="ENC MATIN 5H-12H","ENC MATIN",IF(Pointage!D45="ENC AM 12H30-19H30","ENC AM",IF(Pointage!D45="POLY 4H-12H + CP","COMPACTEUR",IF(Pointage!D45="HS CP 4H-7H ","COMPACTEUR",IF(Pointage!D45="POLY 7H-12H + CP","COMPACTEUR",IF(Pointage!D45="CARTON MATIN","CARTON MATIN",IF(Pointage!D45="CARTON AP","CARTON AM",IF(Pointage!D45="B. CARTON","BENNE CARTON",""))))))))) | E45: =IF(Pointage!E45="ENC NUIT 20H30-02H30","ENC SOIR",IF(Pointage!E45="ENC MATIN 5H-12H","ENC MATIN",IF(Pointage!E45="ENC AM 12H30-19H30","ENC AM",IF(Pointage!E45="POLY 4H-12H + CP","COMPACTEUR",IF(Pointage!E45="HS CP 4H-7H ","COMPACTEUR",IF(Pointage!E45="POLY 7H-12H + CP","COMPACTEUR",IF(Pointage!E45="CARTON MATIN","CARTON MATIN",IF(Pointage!E45="CARTON AP","CARTON AM",IF(Pointage!E45="B. CARTON","BENNE CARTON",""))))))))) | F45: =IF(Pointage!F45="ENC NUIT 20H30-02H30","ENC SOIR",IF(Pointage!F45="ENC MATIN 5H-12H","ENC MATIN",IF(Pointage!F45="ENC AM 12H30-19H30","ENC AM",IF(Pointage!F45="POLY 4H-12H + CP","COMPACTEUR",IF(Pointage!F45="HS CP 4H-7H ","COMPACTEUR",IF(Pointage!F45="POLY 7H-12H + CP","COMPACTEUR",IF(Pointage!F45="CARTON MATIN","CARTON MATIN",IF(Pointage!F45="CARTON AP","CARTON AM",IF(Pointage!F45="B. CARTON","BENNE CARTON",""))))))))) | G45: =IF(Pointage!G45="ENC NUIT 20H30-02H30","ENC SOIR",IF(Pointage!G45="ENC MATIN 5H-12H","ENC MATIN",IF(Pointage!G45="ENC AM 12H30-19H30","ENC AM",IF(Pointage!G45="POLY 4H-12H + CP","COMPACTEUR",IF(Pointage!G45="HS CP 4H-7H ","COMPACTEUR",IF(Pointage!G45="POLY 7H-12H + CP","COMPACTEUR",IF(Pointage!G45="CARTON MATIN","CARTON MATIN",IF(Pointage!G45="CARTON AP","CARTON AM",IF(Pointage!G45="B. CARTON","BENNE CARTON",""))))))))) | H45: =IF(Pointage!H45="ENC NUIT 20H30-02H30","ENC SOIR",IF(Pointage!H45="ENC MATIN 5H-12H","ENC MATIN",IF(Pointage!H45="ENC AM 12H30-19H30","ENC AM",IF(Pointage!H45="POLY 4H-12H + CP","COMPACTEUR",IF(Pointage!H45="HS CP 4H-7H ","COMPACTEUR",IF(Pointage!H45="POLY 7H-12H + CP","COMPACTEUR",IF(Pointage!H45="CARTON MATIN","CARTON MATIN",IF(Pointage!H45="CARTON AP","CARTON AM",IF(Pointage!H45="B. CARTON","BENNE CARTON",""))))))))) | I45: =IF(Pointage!I45="ENC NUIT 20H30-02H30","ENC SOIR",IF(Pointage!I45="ENC MATIN 5H-12H","ENC MATIN",IF(Pointage!I45="ENC AM 12H30-19H30","ENC AM",IF(Pointage!I45="POLY 4H-12H + CP","COMPACTEUR",IF(Pointage!I45="HS CP 4H-7H ","COMPACTEUR",IF(Pointage!I45="POLY 7H-12H + CP","COMPACTEUR",IF(Pointage!I45="CARTON MATIN","CARTON MATIN",IF(Pointage!I45="CARTON AP","CARTON AM",IF(Pointage!I45="B. CARTON","BENNE CARTON",""))))))))) | J45: =IF(Pointage!J45="ENC NUIT 20H30-02H30","ENC SOIR",IF(Pointage!J45="ENC MATIN 5H-12H","ENC MATIN",IF(Pointage!J45="ENC AM 12H30-19H30","ENC AM",IF(Pointage!J45="POLY 4H-12H + CP","COMPACTEUR",IF(Pointage!J45="HS CP 4H-7H ","COMPACTEUR",IF(Pointage!J45="POLY 7H-12H + CP","COMPACTEUR",IF(Pointage!J45="CARTON MATIN","CARTON MATIN",IF(Pointage!J45="CARTON AP","CARTON AM",IF(Pointage!J45="B. CARTON","BENNE CARTON",""))))))))) | ... AL45: =IF(Pointage!AL45="ENC NUIT 20H30-02H30","ENC SOIR",IF(Pointage!AL45="ENC MATIN 5H-12H","ENC MATIN",IF(Pointage!AL45="ENC AM 12H30-19H30","ENC AM",IF(Pointage!AL45="POLY 4H-12H + CP","COMPACTEUR",IF(Pointage!AL45="HS CP 4H-7H ","COMPACTEUR",IF(Pointage!AL45="POLY 7H-12H + CP","COMPACTEUR",IF(Pointage!AL45="CARTON MATIN","CARTON MATIN",IF(Pointage!AL45="CARTON AP","CARTON AM",IF(Pointage!AL45="B. CARTON","BENNE CARTON","")))))))))

Sheet Affectations Encombrant
A1: {=TRANSPOSE('Affectations Service'!A1:AK45)} -> NOMS | B1: Addario Grégory | C1: Alliouane Saïd | D1: Arnaud Fabrice | E1: Atarsia Kamel | F1: Audibert Michel | G1: Ben Bouzid Bourhane | H1: Bour Yvon | I1: Burle Yann | J1: Cantelli Thomas | K1: Cardinale Jean Claude | L1: Courtois Alexis | M1: Dalmasso Yves | N1: Dhouimer Yassine | O1: Ellena Thomas | P1: Féralis Cécile | Q1: Frendo Mathieu | R1: Gandolin Adrien | S1: Glaskoff Hervé | T1: Guizani Samy | U1: Isoard Nicolas | V1: Landrieux Nathalie | W1: Mallo Alfred | X1: Mandrea Thierry | Y1: Marcelli Alain | Z1: Marino Alain | AA1: Martinelli Julien | AB1: Marzarro Christopher | AC1: Moliner David | AD1: Moraldo Adrien | AE1: Napolitano Walter | AF1: Orofino Carmelo | AG1: Outili Yassin | AH1: Perez Yann | AI1: Perrone Lucas | AJ1: Piombino Jean-Marc | AK1: Rateau Laurent | AL1: Rini Romain | AM1: Rodriguez franck | AN1: Rosso Dominique | AO1: Selsis Bruno | AP1: Torre Jean Marie | AQ1: Vanini Kévin | AR1: Viale Jonathan | AS1: 0 | AT1: #N/A | AU1: #N/A | AV1: #N/A | AW1: #N/A | AX1: #N/A | AY1: #N/A | AZ1: #N/A | BA1: #N/A | BB1: #N/A | BC1: #N/A | BD1: #N/A | BE1: #N/A | BF1: #N/A | BG1: #N/A
A2: PRESTATION | B2: remplaçant | C2: remplaçant | D2: fourgon carton AMP | E2: CPL | F2: OUEST Déchetterie | G2: OUEST Déchetterie | H2: CPL | I2: EST Déchetterie | J2: remplaçant | K2: OUEST Déchetterie | L2: remplaçant | M2: CPL | N2: remplaçant | O2: remplaçant | P2: CPL | Q2: EST Déchetterie | R2: remplaçant | S2: Benne Carton | T2: fourgon carton matin | U2: remplaçant | V2: CPL | W2: NORD Déchetterie | X2: OUEST Déchetterie | Y2: EST Déchetterie | Z2: remplaçant | AA2: fourgon carton matin | AB2: fourgon carton AMP | AC2: CPL | AD2: fourgon carton AMP | AE2: remplaçant | AF2: remplaçant | AG2: remplaçant | AH2: fourgon carton AMP | AI2: remplaçant | AJ2: CPL | AK2: CPL | AL2: remplaçant | AM2: remplaçant | AN2: CPL | AO2: CPL | AP2: Benne Carton | AQ2: remplaçant | AR2: remplaçant | AS2: 0 | AT2: #N/A | AU2: #N/A | AV2: #N/A | AW2: #N/A | AX2: #N/A | AY2: #N/A | AZ2: #N/A | BA2: #N/A | BB2: #N/A | BC2: #N/A | BD2: #N/A | BE2: #N/A | BF2: #N/A | BG2: #N/A
A3: 43029 | O3: ENC MATIN | AT3: #N/A | AU3: #N/A | AV3: #N/A | AW3: #N/A | AX3: #N/A | AY3: #N/A | AZ3: #N/A | BA3: #N/A | BB3: #N/A | BC3: #N/A | BD3: #N/A | BE3: #N/A | BF3: #N/A | BG3: #N/A
A4: 43030 | E4: COMPACTEUR | AT4: #N/A | AU4: #N/A | AV4: #N/A | AW4: #N/A | AX4: #N/A | AY4: #N/A | AZ4: #N/A | BA4: #N/A | BB4: #N/A | BC4: #N/A | BD4: #N/A | BE4: #N/A | BF4: #N/A | BG4: #N/A
A5: 43031 | B5: CARTON AM | D5: CARTON AM | O5: ENC SOIR | S5: BENNE CARTON | V5: BENNE CARTON | Z5: CARTON MATIN | AA5: CARTON MATIN | AC5: COMPACTEUR | AD5: CARTON AM | AE5: ENC SOIR | AF5: ENC AM | AG5: ENC SOIR | AI5: ENC MATIN | AP5: BENNE CARTON | AR5: ENC MATIN | AT5: #N/A | AU5: #N/A | AV5: #N/A | AW5: #N/A | AX5: #N/A | AY5: #N/A | AZ5: #N/A | BA5: #N/A | BB5: #N/A | BC5: #N/A | BD5: #N/A | BE5: #N/A | BF5: #N/A | BG5: #N/A
A6: 43032 | B6: CARTON AM | C6: ENC SOIR | D6: CARTON AM | O6: ENC SOIR | S6: BENNE CARTON | V6: BENNE CARTON | Z6: CARTON MATIN | AA6: CARTON MATIN | AC6: COMPACTEUR | AD6: CARTON AM | AG6: ENC SOIR | AH6: CARTON AM | AI6: ENC MATIN | AP6: BENNE CARTON | AR6: ENC MATIN | AT6: #N/A | AU6: #N/A | AV6: #N/A | AW6: #N/A | AX6: #N/A | AY6: #N/A | AZ6: #N/A | BA6: #N/A | BB6: #N/A | BC6: #N/A | BD6: #N/A | BE6: #N/A | BF6: #N/A | BG6: #N/A
A7: 43033 | B7: CARTON AM | C7: ENC SOIR | D7: CARTON AM | M7: BENNE CARTON | O7: ENC SOIR | S7: BENNE CARTON | T7: CARTON MATIN | Z7: ENC MATIN | AA7: CARTON MATIN | AC7: COMPACTEUR | AE7: ENC MATIN | AG7: ENC SOIR | AH7: CARTON AM | AI7: ENC MATIN | AP7: BENNE CARTON | AT7: #N/A | AU7: #N/A | AV7: #N/A | AW7: #N/A | AX7: #N/A | AY7: #N/A | AZ7: #N/A | BA7: #N/A | BB7: #N/A | BC7: #N/A | BD7: #N/A | BE7: #N/A | BF7: #N/A | BG7: #N/A
A8: 43034 | B8: CARTON AM | C8: ENC SOIR | D8: CARTON AM | O8: ENC SOIR | S8: BENNE CARTON | T8: CARTON MATIN | V8: BENNE CARTON | Z8: ENC MATIN | AA8: CARTON MATIN | AC8: COMPACTEUR | AD8: CARTON AM | AE8: ENC MATIN | AG8: ENC SOIR | AH8: CARTON AM | AI8: ENC MATIN | AP8: BENNE CARTON | AR8: ENC MATIN | AT8: #N/A | AU8: #N/A | AV8: #N/A | AW8: #N/A | AX8: #N/A | AY8: #N/A | AZ8: #N/A | BA8: #N/A | BB8: #N/A | BC8: #N/A | BD8: #N/A | BE8: #N/A | BF8: #N/A | BG8: #N/A
