Workbook

Sheet Pointage
A1: =[1]Pointage!A1 -> NOMS | B1: =[1]Pointage!B1 -> PRESTATION | C1: =[1]Pointage!C1 -> 43029 | D1: =[1]Pointage!D1 -> 43030 | E1: =[1]Pointage!E1 -> 43031 | F1: =[1]Pointage!F1 -> 43032 | G1: =[1]Pointage!G1 -> 43033 | H1: =[1]Pointage!H1 -> 43034 | ... AL1: =[1]Pointage!AL1 -> 0
A2: =[1]Pointage!A2 -> Addario Grégory | B2: =[1]Pointage!B2 -> remplaçant | C2: =[1]Pointage!C2 -> REPOS | D2: =[1]Pointage!D2 -> V.N. Matin | E2: =[1]Pointage!E2 -> CARTON AP | F2: =[1]Pointage!F2 -> CARTON AP | G2: =[1]Pointage!G2 -> CARTON AP | H2: =[1]Pointage!H2 -> CARTON AP | ... AL2: =[1]Pointage!AL2 -> 0
A3: =[1]Pointage!A3 -> Alliouane Saïd | B3: =[1]Pointage!B3 -> remplaçant | C3: =[1]Pointage!C3 -> REPOS | D3: =[1]Pointage!D3 -> NICE OUEST DIM | E3: =[1]Pointage!E3 -> NICE OUEST | F3: =[1]Pointage!F3 -> ENC NUIT 20H30-02H30 | G3: =[1]Pointage!G3 -> ENC NUIT 20H30-02H30 | H3: =[1]Pointage!H3 -> ENC NUIT 20H30-02H30 | ... AL3: =[1]Pointage!AL3 -> 0
A4: =[1]Pointage!A4 -> Arnaud Fabrice | B4: =[1]Pointage!B4 -> fourgon carton AMP | C4: =[1]Pointage!C4 -> CARTON 8H30-12H / 13H-16H30 | D4: =[1]Pointage!D4 -> REPOS | E4: =[1]Pointage!E4 -> CARTON AP | F4: =[1]Pointage!F4 -> CARTON AP | G4: =[1]Pointage!G4 -> CARTON AP | H4: =[1]Pointage!H4 -> CARTON AP | ... AL4: =[1]Pointage!AL4 -> CARTON 8H30-12H / 13H-16H30
A5: =[1]Pointage!A5 -> Atarsia Kamel | B5: =[1]Pointage!B5 -> CPL | C5: =[1]Pointage!C5 -> REPOS | D5: =[1]Pointage!D5 -> POLY 7H-12H + CP | E5: =[1]Pointage!E5 -> Congés | F5: =[1]Pointage!F5 -> Congés | G5: =[1]Pointage!G5 -> Congés | H5: =[1]Pointage!H5 -> Congés | ... AL5: =[1]Pointage!AL5 -> 0
A6: =[1]Pointage!A6 -> Audibert Michel | B6: =[1]Pointage!B6 -> OUEST Déchetterie | C6: =[1]Pointage!C6 -> Congés | D6: =[1]Pointage!D6 -> Congés | E6: =[1]Pointage!E6 -> Congés | F6: =[1]Pointage!F6 -> Congés | G6: =[1]Pointage!G6 -> Congés | H6: =[1]Pointage!H6 -> Congés | ... AL6: =[1]Pointage!AL6 -> 0
A7: =[1]Pointage!A7 -> Ben Bouzid Bourhane | B7: =[1]Pointage!B7 -> OUEST Déchetterie | C7: =[1]Pointage!C7 -> NICE OUEST | D7: =[1]Pointage!D7 -> REPOS | E7: =[1]Pointage!E7 -> NICE OUEST | F7: =[1]Pointage!F7 -> NICE OUEST | G7: =[1]Pointage!G7 -> NICE OUEST | H7: =[1]Pointage!H7 -> NICE OUEST | ... AL7: =[1]Pointage!AL7 -> 0
A8: =[1]Pointage!A8 -> Bour Yvon | B8: =[1]Pointage!B8 -> CPL | C8: =[1]Pointage!C8 -> POLY 7H-12H / 14H-18H | D8: =[1]Pointage!D8 -> POLY 7H-12H | E8: =[1]Pointage!E8 -> REPOS | F8: =[1]Pointage!F8 -> POLY 12H-18H | G8: =[1]Pointage!G8 -> POLY 12H-19H | H8: =[1]Pointage!H8 -> POLY 12H-18H | ... AL8: =[1]Pointage!AL8 -> 0
A9: =[1]Pointage!A9 -> Burle Yann | B9: =[1]Pointage!B9 -> EST Déchetterie | C9: =[1]Pointage!C9 -> 0 | D9: =[1]Pointage!D9 -> 0 | E9: =[1]Pointage!E9 -> 0 | F9: =[1]Pointage!F9 -> NICE EST | G9: =[1]Pointage!G9 -> NICE EST | H9: =[1]Pointage!H9 -> NICE EST | ... AL9: =[1]Pointage!AL9 -> 0
A10: =[1]Pointage!A10 -> Cantelli Thomas | B10: =[1]Pointage!B10 -> remplaçant | C10: =[1]Pointage!C10 -> NICE OUEST | D10: =[1]Pointage!D10 -> REPOS | E10: =[1]Pointage!E10 -> REPOS | F10: =[1]Pointage!F10 -> NICE EST | G10: =[1]Pointage!G10 -> NICE OUEST | H10: =[1]Pointage!H10 -> NICE OUEST | ... AL10: =[1]Pointage!AL10 -> 0
A11: =[1]Pointage!A11 -> Cardinale Jean Claude | B11: =[1]Pointage!B11 -> OUEST Déchetterie | C11: =[1]Pointage!C11 -> Congés | D11: =[1]Pointage!D11 -> Congés | E11: =[1]Pointage!E11 -> NICE OUEST | F11: =[1]Pointage!F11 -> NICE OUEST | G11: =[1]Pointage!G11 -> NICE OUEST | H11: =[1]Pointage!H11 -> NICE OUEST | ... AL11: =[1]Pointage!AL11 -> NICE OUEST
A12: =[1]Pointage!A12 -> Courtois Alexis | B12: =[1]Pointage!B12 -> remplaçant | C12: =[1]Pointage!C12 -> NICE EST | D12: =[1]Pointage!D12 -> REPOS | E12: =[1]Pointage!E12 -> NICE OUEST | F12: =[1]Pointage!F12 -> NICE OUEST | G12: =[1]Pointage!G12 -> NICE OUEST | H12: =[1]Pointage!H12 -> NICE OUEST | ... AL12: =[1]Pointage!AL12 -> 0
... A45: =[1]Pointage!A45 -> 0 | B45: =[1]Pointage!B45 -> 0 | C45: =[1]Pointage!C45 -> 0 | D45: =[1]Pointage!D45 -> 0 | E45: =[1]Pointage!E45 -> 0 | F45: =[1]Pointage!F45 -> 0 | G45: =[1]Pointage!G45 -> 0 | H45: =[1]Pointage!H45 -> 0 | ... AL45: =[1]Pointage!AL45 -> 0

Sheet Affectations Service
A1: =Pointage!A1 -> NOMS | B1: =Pointage!B1 -> PRESTATION | C1: =Pointage!C1 -> 43029 | D1: =Pointage!D1 -> 43030 | E1: =Pointage!E1 -> 43031 | F1: =Pointage!F1 -> 43032 | G1: =Pointage!G1 -> 43033 | H1: =Pointage!H1 -> 43034 | ... AL1: =Pointage!AL1 -> 0
A2: =Pointage!A2 -> Addario Grégory | B2: =Pointage!B2 -> remplaçant | C2: =IF(Pointage!C2="ENC NUIT 20H30-02H30","ENC SOIR",IF(Pointage!C2="ENC MATIN 5H-12H","ENC MATIN",IF(Pointage!C2="ENC AM 12H30-19H30","ENC AM",IF(Pointage!C2="POLY 4H-12H + CP","COMPACTEUR",IF(Pointage!C2="HS CP 4H-7H ","COMPACTEUR",IF(Pointage!C2="POLY 7H-12H + CP","COMPACTEUR",IF(Pointage!C2="CARTON MATIN","CARTON MATIN",IF(Pointage!C2="CARTON AP","CARTON AM",IF(Pointage!C2="B. CARTON","BENNE CARTON",""))))))))) | D2: =IF(Pointage!D2="ENC NUIT 20H30-02H30","ENC SOIR",IF(Pointage!D2="ENC MATIN 5H-12H","ENC MATIN",IF(Pointage!D2="ENC AM 12H30-19H30","ENC AM",IF(Pointage!D2="POLY 4H-12H + CP","COMPACTEUR",IF(Pointage!D2="HS CP 4H-7H ","COMPACTEUR",IF(Pointage!D2="POLY 7H-12H + CP","COMPACTEUR",IF(Pointage!D2="CARTON MATIN","CARTON MATIN",IF(Pointage!D2="CARTON AP","CARTON AM",IF(Pointage!D2="B. CARTON","BENNE CARTON",""))))))))) | E2: =IF(Pointage!E2="ENC NUIT 20H30-02H30","ENC SOIR",IF(Pointage!E2="ENC MATIN 5H-12H","ENC MATIN",IF(Pointage!E2="ENC AM 12H30-19H30","ENC AM",IF(Pointage!E2="POLY 4H-12H + CP","COMPACTEUR",IF(Pointage!E2="HS CP 4H-7H ","COMPACTEUR",IF(Pointage!E2="POLY 7H-12H + CP","COMPACTEUR",IF(Pointage!E2="CARTON MATIN","CARTON MATIN",IF(Pointage!E2="CARTON AP","CARTON AM",IF(Pointage!E2="B. CARTON","BENNE CARTON",""))))))))) -> CARTON AM | F2: =IF(Pointage!F2="ENC NUIT 20H30-02H30","ENC SOIR",IF(Pointage!F2="ENC MATIN 5H-12H","ENC MATIN",IF(Pointage!F2="ENC AM 12H30-19H30","ENC AM",IF(Pointage!F2="POLY 4H-12H + CP","COMPACTEUR",IF(Pointage!F2="HS CP 4H-7H ","COMPACTEUR",IF(Pointage!F2="POLY 7H-12H + CP","COMPACTEUR",IF(Pointage!F2="CARTON MATIN","CARTON MATIN",IF(Pointage!F2="CARTON AP","CARTON AM",IF(Pointage!F2="B. CARTON","BENNE CARTON",""))))))))) -> CARTON AM | G2: =IF(Pointage!G2="ENC NUIT 20H30-02H30","ENC SOIR",IF(Pointage!G2="ENC MATIN 5H-12H","ENC MATIN",IF(Pointage!G2="ENC AM 12H30-19H30","ENC AM",IF(Pointage!G2="POLY 4H-12H + CP","COMPACTEUR",IF(Pointage!G2="HS CP 4H-7H ","COMPACTEUR",IF(Pointage!G2="POLY 7H-12H + CP","COMPACTEUR",IF(Pointage!G2="CARTON MATIN","CARTON MATIN",IF(Pointage!G2="CARTON AP","CARTON AM",IF(Pointage!G2="B. CARTON","BENNE CARTON",""))))))))) -> CARTON AM | H2: =IF(Pointage!H2="ENC NUIT 20H30-02H30","ENC SOIR",IF(Pointage!H2="ENC MATIN 5H-12H","ENC MATIN",IF(Pointage!H2="ENC AM 12H30-19H30","ENC AM",IF(Pointage!H2="POLY 4H-12H + CP","COMPACTEUR",IF(Pointage!H2="HS CP 4H-7H ","COMPACTEUR",IF(Pointage!H2="POLY 7H-12H + CP","COMPACTEUR",IF(Pointage!H2="CARTON MATIN","CARTON MATIN",IF(Pointage!H2="CARTON AP","CARTON AM",IF(Pointage!H2="B. CARTON","BENNE CARTON",""))))))))) -> CARTON AM | I2: =IF(Pointage!I2="ENC NUIT 20H30-02H30","ENC SOIR",IF(Pointage!I2="ENC MATIN 5H-12H","ENC MATIN",IF(Pointage!I2="ENC AM 12H30-19H30","ENC AM",IF(Pointage!I2="POLY 4H-12H + CP","COMPACTEUR",IF(Pointage!I2="HS CP 4H-7H ","COMPACTEUR",IF(Pointage!I2="POLY 7H-12H + CP","COMPACTEUR",IF(Pointage!I2="CARTON MATIN","CARTON MATIN",IF(Pointage!I2="CARTON AP","CARTON AM",IF(Pointage!I2="B. CARTON","BENNE CARTON",""))))))))) -> CARTON AM | J2: =IF(Pointage!J2="ENC NUIT 20H30-02H30","ENC SOIR",IF(Pointage!J2="ENC MATIN 5H-12H","ENC MATIN",IF(Pointage!J2="ENC AM 12H30-19H30","ENC AM",IF(Pointage!J2="POLY 4H-12H + CP","COMPACTEUR",IF(Pointage!J2="HS CP 4H-7H ","COMPACTEUR",IF(Pointage!J2="POLY 7H-12H + CP","COMPACTEUR",IF(Pointage!J2="CARTON MATIN","CARTON MATIN",IF(Pointage!J2="CARTON AP","CARTON AM",IF(Pointage!J2="B. CARTON","BENNE CARTON",""))))))))) | ... AL2: =IF(Pointage!AL2="ENC NUIT 20H30-02H30","ENC SOIR",IF(Pointage!AL2="ENC MATIN 5H-12H","ENC MATIN",IF(Pointage!AL2="ENC AM 12H30-19H30","ENC AM",IF(Pointage!AL2="POLY 4H-12H + CP","COMPACTEUR",IF(Pointage!AL2="HS CP 4H-7H ","COMPACTEUR",IF(Pointage!AL2="POLY 7H-12H + CP","COMPACTEUR",IF(Pointage!AL2="CARTON MATIN","CARTON MATIN",IF(Pointage!AL2="CARTON AP","CARTON AM",IF(Pointage!AL2="B. CARTON","BENNE CARTON","")))))))))
A3: =Pointage!A3 -> Alliouane Saïd | B3: =Pointage!B3 -> remplaçant | C3: =IF(Pointage!C3="ENC NUIT 20H30-02H30","ENC SOIR",IF(Pointage!C3="ENC MATIN 5H-12H","ENC MATIN",IF(Pointage!C3="ENC AM 12H30-19H30","ENC AM",IF(Pointage!C3="POLY 4H-12H + CP","COMPACTEUR",IF(Pointage!C3="HS CP 4H-7H ","COMPACTEUR",IF(Pointage!C3="POLY 7H-12H + CP","COMPACTEUR",IF(Pointage!C3="CARTON MATIN","CARTON MATIN",IF(Pointage!C3="CARTON AP","CARTON AM",IF(Pointage!C3="B. CARTON","BENNE CARTON",""))))))))) | D3: =IF(Pointage!D3="ENC NUIT 20H30-02H30","ENC SOIR",IF(Pointage!D3="ENC MATIN 5H-12H","ENC MATIN",IF(Pointage!D3="ENC AM 12H30-19H30","ENC AM",IF(Pointage!D3="POLY 4H-12H + CP","COMPACTEUR",IF(Pointage!D3="HS CP 4H-7H ","COMPACTEUR",IF(Pointage!D3="POLY 7H-12H + CP","COMPACTEUR",IF(Pointage!D3="CARTON MATIN","CARTON MATIN",IF(Pointage!D3="CARTON AP","CARTON AM",IF(Pointage!D3="B. CARTON","BENNE CARTON",""))))))))) | E3: =IF(Pointage!E3="ENC NUIT 20H30-02H30","ENC SOIR",IF(Pointage!E3="ENC MATIN 5H-12H","ENC MATIN",IF(Pointage!E3="ENC AM 12H30-19H30","ENC AM",IF(Pointage!E3="POLY 4H-12H + CP","COMPACTEUR",IF(Pointage!E3="HS CP 4H-7H ","COMPACTEUR",IF(Pointage!E3="POLY 7H-12H + CP","COMPACTEUR",IF(Pointage!E3="CARTON MATIN","CARTON MATIN",IF(Pointage!E3="CARTON AP","CARTON AM",IF(Pointage!E3="B. CARTON","BENNE CARTON",""))))))))) | F3: =IF(Pointage!F3="ENC NUIT 20H30-02H30","ENC SOIR",IF(Pointage!F3="ENC MATIN 5H-12H","ENC MATIN",IF(Pointage!F3="ENC AM 12H30-19H30","ENC AM",IF(Pointage!F3="POLY 4H-12H + CP","COMPACTEUR",IF(Pointage!F3="HS CP 4H-7H ","COMPACTEUR",IF(Pointage!F3="POLY 7H-12H + CP","COMPACTEUR",IF(Pointage!F3="CARTON MATIN","CARTON MATIN",IF(Pointage!F3="CARTON AP","CARTON AM",IF(Pointage!F3="B. CARTON","BENNE CARTON",""))))))))) -> ENC SOIR | G3: =IF(Pointage!G3="ENC NUIT 20H30-02H30","ENC SOIR",IF(Pointage!G3="ENC MATIN 5H-12H","ENC MATIN",IF(Pointage!G3="ENC AM 12H30-19H30","ENC AM",IF(Pointage!G3="POLY 4H-12H + CP","COMPACTEUR",IF(Pointage!G3="HS CP 4H-7H ","COMPACTEUR",IF(Pointage!G3="POLY 7H-12H + CP","COMPACTEUR",IF(Pointage!G3="CARTON MATIN","CARTON MATIN",IF(Pointage!G3="CARTON AP","CARTON AM",IF(Pointage!G3="B. CARTON","BENNE CARTON",""))))))))) -> ENC SOIR | H3: =IF(Pointage!H3="ENC NUIT 20H30-02H30","ENC SOIR",IF(Pointage!H3="ENC MATIN 5H-12H","ENC MATIN",IF(Pointage!H3="ENC AM 12H30-19H30","ENC AM",IF(Pointage!H3="POLY 4H-12H + CP","COMPACTEUR",IF(Pointage!H3="HS CP 4H-7H ","COMPACTEUR",IF(Pointage!H3="POLY 7H-12H + CP","COMPACTEUR",IF(Pointage!H3="CARTON MATIN","CARTON MATIN",IF(Pointage!H3="CARTON AP","CARTON AM",IF(Pointage!H3="B. CARTON","BENNE CARTON",""))))))))) -> ENC SOIR | I3: =IF(Pointage!I3="ENC NUIT 20H30-02H30","ENC SOIR",IF(Pointage!I3="ENC MATIN 5H-12H","ENC MATIN",IF(Pointage!I3="ENC AM 12H30-19H30","ENC AM",IF(Pointage!I3="POLY 4H-12H + CP","COMPACTEUR",IF(Pointage!I3="HS CP 4H-7H ","COMPACTEUR",IF(Pointage!I3="POLY 7H-12H + CP","COMPACTEUR",IF(Pointage!I3="CARTON MATIN","CARTON MATIN",IF(Pointage!I3="CARTON AP","CARTON AM",IF(Pointage!I3="B. CARTON","BENNE CARTON",""))))))))) -> ENC SOIR | J3: =IF(Pointage!J3="ENC NUIT 20H30-02H30","ENC SOIR",IF(Pointage!J3="ENC MATIN 5H-12H","ENC MATIN",IF(Pointage!J3="ENC AM 12H30-19H30","ENC AM",IF(Pointage!J3="POLY 4H-12H + CP","COMPACTEUR",IF(Pointage!J3="HS CP 4H-7H ","COMPACTEUR",IF(Pointage!J3="POLY 7H-12H + CP","COMPACTEUR",IF(Pointage!J3="CARTON MATIN","CARTON MATIN",IF(Pointage!J3="CARTON AP","CARTON AM",IF(Pointage!J3="B. CARTON","BENNE CARTON",""))))))))) | ... AL3: =IF(Pointage!AL3="ENC NUIT 20H30-02H30","ENC SOIR",IF(Pointage!AL3="ENC MATIN 5H-12H","ENC MATIN",IF(Pointage!AL3="ENC AM 12H30-19H30","ENC AM",IF(Pointage!AL3="POLY 4H-12H + CP","COMPACTEUR",IF(Pointage!AL3="HS CP 4H-7H ","COMPACTEUR",IF(Pointage!AL3="POLY 7H-12H + CP","COMPACTEUR",IF(Pointage!AL3="CARTON MATIN","CARTON MATIN",IF(Pointage!AL3="CARTON AP","CARTON AM",IF(Pointage!AL3="B. CARTON","BENNE CARTON","")))))))))
A4: =Pointage!A4 -> Arnaud Fabrice | B4: =Pointage!B4 -> fourgon carton AMP | C4: =IF(Pointage!C4="ENC NUIT 20H30-02H30","ENC SOIR",IF(Pointage!C4="ENC MATIN 5H-12H","ENC MATIN",IF(Pointage!C4="ENC AM 12H30-19H30","ENC AM",IF(Pointage!C4="POLY 4H-12H + CP","COMPACTEUR",IF(Pointage!C4="HS CP 4H-7H ","COMPACTEUR",IF(Pointage!C4="POLY 7H-12H + CP","COMPACTEUR",IF(Pointage!C4="CARTON MATIN","CARTON MATIN",IF(Pointage!C4="CARTON AP","CARTON AM",IF(Pointage!C4="B. CARTON","BENNE CARTON",""))))))))) | D4: =IF(Pointage!D4="ENC NUIT 20H30-02H30","ENC SOIR",IF(Pointage!D4="ENC MATIN 5H-12H","ENC MATIN",IF(Pointage!D4="ENC AM 12H30-19H30","ENC AM",IF(Pointage!D4="POLY 4H-12H + CP","COMPACTEUR",IF(Pointage!D4="HS CP 4H-7H ","COMPACTEUR",IF(Pointage!D4="POLY 7H-12H + CP","COMPACTEUR",IF(Pointage!D4="CARTON MATIN","CARTON MATIN",IF(Pointage!D4="CARTON AP","CARTON AM",IF(Pointage!D4="B. CARTON","BENNE CARTON",""))))))))) | E4: =IF(Pointage!E4="ENC NUIT 20H30-02H30","ENC SOIR",IF(Pointage!E4="ENC MATIN 5H-12H","ENC MATIN",IF(Pointage!E4="ENC AM 12H30-19H30","ENC AM",IF(Pointage!E4="POLY 4H-12H + CP","COMPACTEUR",IF(Pointage!E4="HS CP 4H-7H ","COMPACTEUR",IF(Pointage!E4="POLY 7H-12H + CP","COMPACTEUR",IF(Pointage!E4="CARTON MATIN","CARTON MATIN",IF(Pointage!E4="CARTON AP","CARTON AM",IF(Pointage!E4="B. CARTON","BENNE CARTON",""))))))))) -> CARTON AM | F4: =IF(Pointage!F4="ENC NUIT 20H30-02H30","ENC SOIR",IF(Pointage!F4="ENC MATIN 5H-12H","ENC MATIN",IF(Pointage!F4="ENC AM 12H30-19H30","ENC AM",IF(Pointage!F4="POLY 4H-12H + CP","COMPACTEUR",IF(Pointage!F4="HS CP 4H-7H ","COMPACTEUR",IF(Pointage!F4="POLY 7H-12H + CP","COMPACTEUR",IF(Pointage!F4="CARTON MATIN","CARTON MATIN",IF(Pointage!F4="CARTON AP","CARTON AM",IF(Pointage!F4="B. CARTON","BENNE CARTON",""))))))))) -> CARTON AM | G4: =IF(Pointage!G4="ENC NUIT 20H30-02H30","ENC SOIR",IF(Pointage!G4="ENC MATIN 5H-12H","ENC MATIN",IF(Pointage!G4="ENC AM 12H30-19H30","ENC AM",IF(Pointage!G4="POLY 4H-12H + CP","COMPACTEUR",IF(Pointage!G4="HS CP 4H-7H ","COMPACTEUR",IF(Pointage!G4="POLY 7H-12H + CP","COMPACTEUR",IF(Pointage!G4="CARTON MATIN","CARTON MATIN",IF(Pointage!G4="CARTON AP","CARTON AM",IF(Pointage!G4="B. CARTON","BENNE CARTON",""))))))))) -> CARTON AM | H4: =IF(Pointage!H4="ENC NUIT 20H30-02H30","ENC SOIR",IF(Pointage!H4="ENC MATIN 5H-12H","ENC MATIN",IF(Pointage!H4="ENC AM 12H30-19H30","ENC AM",IF(Pointage!H4="POLY 4H-12H + CP","COMPACTEUR",IF(Pointage!H4="HS CP 4H-7H ","COMPACTEUR",IF(Pointage!H4="POLY 7H-12H + CP","COMPACTEUR",IF(Pointage!H4="CARTON MATIN","CARTON MATIN",IF(Pointage!H4="CARTON AP","CARTON AM",IF(Pointage!H4="B. CARTON","BENNE CARTON",""))))))))) -> CARTON AM | I4: =IF(Pointage!I4="ENC NUIT 20H30-02H30","ENC SOIR",IF(Pointage!I4="ENC MATIN 5H-12H","ENC MATIN",IF(Pointage!I4="ENC AM 12H30-19H30","ENC AM",IF(Pointage!I4="POLY 4H-12H + CP","COMPACTEUR",IF(Pointage!I4="HS CP 4H-7H ","COMPACTEUR",IF(Pointage!I4="POLY 7H-12H + CP","COMPACTEUR",IF(Pointage!I4="CARTON MATIN","CARTON MATIN",IF(Pointage!I4="CARTON AP","CARTON AM",IF(Pointage!I4="B. CARTON","BENNE CARTON",""))))))))) -> CARTON AM | J4: =IF(Pointage!J4="ENC NUIT 20H30-02H30","ENC SOIR",IF(Pointage!J4="ENC MATIN 5H-12H","ENC MATIN",IF(Pointage!J4="ENC AM 12H30-19H30","ENC AM",IF(Pointage!J4="POLY 4H-12H + CP","COMPACTEUR",IF(Pointage!J4="HS CP 4H-7H ","COMPACTEUR",IF(Pointage!J4="POLY 7H-12H + CP","COMPACTEUR",IF(Pointage!J4="CARTON MATIN","CARTON MATIN",IF(Pointage!J4="CARTON AP","CARTON AM",IF(Pointage!J4="B. CARTON","BENNE CARTON",""))))))))) | ... AL4: =IF(Pointage!AL4="ENC NUIT 20H30-02H30","ENC SOIR",IF(Pointage!AL4="ENC MATIN 5H-12H","ENC MATIN",IF(Pointage!AL4="ENC AM 12H30-19H30","ENC AM",IF(Pointage!AL4="POLY 4H-12H + CP","COMPACTEUR",IF(Pointage!AL4="HS CP 4H-7H ","COMPACTEUR",IF(Pointage!AL4="POLY 7H-12H + CP","COMPACTEUR",IF(Pointage!AL4="CARTON MATIN","CARTON MATIN",IF(Pointage!AL4="CARTON AP","CARTON AM",IF(Pointage!AL4="B. CARTON","BENNE CARTON","")))))))))
A5: =Pointage!A5 -> Atarsia Kamel | B5: =Pointage!B5 -> CPL | C5: =IF(Pointage!C5="ENC NUIT 20H30-02H30","ENC SOIR",IF(Pointage!C5="ENC MATIN 5H-12H","ENC MATIN",IF(Pointage!C5="ENC AM 12H30-19H30","ENC AM",IF(Pointage!C5="POLY 4H-12H + CP","COMPACTEUR",IF(Pointage!C5="HS CP 4H-7H ","COMPACTEUR",IF(Pointage!C5="POLY 7H-12H + CP","COMPACTEUR",IF(Pointage!C5="CARTON MATIN","CARTON MATIN",IF(Pointage!C5="CARTON AP","CARTON AM",IF(Pointage!C5="B. CARTON","BENNE CARTON",""))))))))) | D5: =IF(Pointage!D5="ENC NUIT 20H30-02H30","ENC SOIR",IF(Pointage!D5="ENC MATIN 5H-12H","ENC MATIN",IF(Pointage!D5="ENC AM 12H30-19H30","ENC AM",IF(Pointage!D5="POLY 4H-12H + CP","COMPACTEUR",IF(Pointage!D5="HS CP 4H-7H ","COMPACTEUR",IF(Pointage!D5="POLY 7H-12H + CP","COMPACTEUR",IF(Pointage!D5="CARTON MATIN","CARTON MATIN",IF(Pointage!D5="CARTON AP","CARTON AM",IF(Pointage!D5="B. CARTON","BENNE CARTON",""))))))))) -> COMPACTEUR | E5: =IF(Pointage!E5="ENC NUIT 20H30-02H30","ENC SOIR",IF(Pointage!E5="ENC MATIN 5H-12H","ENC MATIN",IF(Pointage!E5="ENC AM 12H30-19H30","ENC AM",IF(Pointage!E5="POLY 4H-12H + CP","COMPACTEUR",IF(Pointage!E5="HS CP 4H-7H ","COMPACTEUR",IF(Pointage!E5="POLY 7H-12H + CP","COMPACTEUR",IF(Pointage!E5="CARTON MATIN","CARTON MATIN",IF(Pointage!E5="CARTON AP","CARTON AM",IF(Pointage!E5="B. CARTON","BENNE CARTON",""))))))))) | F5: =IF(Pointage!F5="ENC NUIT 20H30-02H30","ENC SOIR",IF(Pointage!F5="ENC MATIN 5H-12H","ENC MATIN",IF(Pointage!F5="ENC AM 12H30-19H30","ENC AM",IF(Pointage!F5="POLY 4H-12H + CP","COMPACTEUR",IF(Pointage!F5="HS CP 4H-7H ","COMPACTEUR",IF(Pointage!F5="POLY 7H-12H + CP","COMPACTEUR",IF(Pointage!F5="CARTON MATIN","CARTON MATIN",IF(Pointage!F5="CARTON AP","CARTON AM",IF(Pointage!F5="B. CARTON","BENNE CARTON",""))))))))) | G5: =IF(Pointage!G5="ENC NUIT 20H30-02H30","ENC SOIR",IF(Pointage!G5="ENC MATIN 5H-12H","ENC MATIN",IF(Pointage!G5="ENC AM 12H30-19H30","ENC AM",IF(Pointage!G5="POLY 4H-12H + CP","COMPACTEUR",IF(Pointage!G5="HS CP 4H-7H ","COMPACTEUR",IF(Pointage!G5="POLY 7H-12H + CP","COMPACTEUR",IF(Pointage!G5="CARTON MATIN","CARTON MATIN",IF(Pointage!G5="CARTON AP","CARTON AM",IF(Pointage!G5="B. CARTON","BENNE CARTON",""))))))))) | H5: =IF(Pointage!H5="ENC NUIT 20H30-02H30","ENC SOIR",IF(Pointage!H5="ENC MATIN 5H-12H","ENC MATIN",IF(Pointage!H5="ENC AM 12H30-19H30","ENC AM",IF(Pointage!H5="POLY 4H-12H + CP","COMPACTEUR",IF(Pointage!H5="HS CP 4H-7H ","COMPACTEUR",IF(Pointage!H5="POLY 7H-12H + CP","COMPACTEUR",IF(Pointage!H5="CARTON MATIN","CARTON MATIN",IF(Pointage!H5="CARTON AP","CARTON AM",IF(Pointage!H5="B. CARTON","BENNE CARTON",""))))))))) | I5: =IF(Pointage!I5="ENC NUIT 20H30-02H30","ENC SOIR",IF(Pointage!I5="ENC MATIN 5H-12H","ENC MATIN",IF(Pointage!I5="ENC AM 12H30-19H30","ENC AM",IF(Pointage!I5="POLY 4H-12H + CP","COMPACTEUR",IF(Pointage!I5="HS CP 4H-7H ","COMPACTEUR",IF(Pointage!I5="POLY 7H-12H + CP","COMPACTEUR",IF(Pointage!I5="CARTON MATIN","CARTON MATIN",IF(Pointage!I5="CARTON AP","CARTON AM",IF(Pointage!I5="B. CARTON","BENNE CARTON",""))))))))) | J5: =IF(Pointage!J5="ENC NUIT 20H30-02H30","ENC SOIR",IF(Pointage!J5="ENC MATIN 5H-12H","ENC MATIN",IF(Pointage!J5="ENC AM 12H30-19H30","ENC AM",IF(Pointage!J5="POLY 4H-12H + CP","COMPACTEUR",IF(Pointage!J5="HS CP 4H-7H ","COMPACTEUR",IF(Pointage!J5="POLY 7H-12H + CP","COMPACTEUR",IF(Pointage!J5="CARTON MATIN","CARTON MATIN",IF(Pointage!J5="CARTON AP","CARTON AM",IF(Pointage!J5="B. CARTON","BENNE CARTON",""))))))))) | ... AL5: =IF(Pointage!AL5="ENC NUIT 20H30-02H30","ENC SOIR",IF(Pointage!AL5="ENC MATIN 5H-12H","ENC MATIN",IF(Pointage!AL5="ENC AM 12H30-19H30","ENC AM",IF(Pointage!AL5="POLY 4H-12H + CP","COMPACTEUR",IF(Pointage!AL5="HS CP 4H-7H ","COMPACTEUR",IF(Pointage!AL5="POLY 7H-12H + CP","COMPACTEUR",IF(Pointage!AL5="CARTON MATIN","CARTON MATIN",IF(Pointage!AL5="CARTON AP","CARTON AM",IF(Pointage!AL5="B. CARTON","BENNE CARTON","")))))))))
A6: =Pointage!A6 -> Audibert Michel | B6: =Pointage!B6 -> OUEST Déchetterie | C6: =IF(Pointage!C6="ENC NUIT 20H30-02H30","ENC SOIR",IF(Pointage!C6="ENC MATIN 5H-12H","ENC MATIN",IF(Pointage!C6="ENC AM 12H30-19H30","ENC AM",IF(Pointage!C6="POLY 4H-12H + CP","COMPACTEUR",IF(Pointage!C6="HS CP 4H-7H ","COMPACTEUR",IF(Pointage!C6="POLY 7H-12H + CP","COMPACTEUR",IF(Pointage!C6="CARTON MATIN","CARTON MATIN",IF(Pointage!C6="CARTON AP","CARTON AM",IF(Pointage!C6="B. CARTON","BENNE CARTON",""))))))))) | D6: =IF(Pointage!D6="ENC NUIT 20H30-02H30","ENC SOIR",IF(Pointage!D6="ENC MATIN 5H-12H","ENC MATIN",IF(Pointage!D6="ENC AM 12H30-19H30","ENC AM",IF(Pointage!D6="POLY 4H-12H + CP","COMPACTEUR",IF(Pointage!D6="HS CP 4H-7H ","COMPACTEUR",IF(Pointage!D6="POLY 7H-12H + CP","COMPACTEUR",IF(Pointage!D6="CARTON MATIN","CARTON MATIN",IF(Pointage!D6="CARTON AP","CARTON AM",IF(Pointage!D6="B. CARTON","BENNE CARTON",""))))))))) | E6: =IF(Pointage!E6="ENC NUIT 20H30-02H30","ENC SOIR",IF(Pointage!E6="ENC MATIN 5H-12H","ENC MATIN",IF(Pointage!E6="ENC AM 12H30-19H30","ENC AM",IF(Pointage!E6="POLY 4H-12H + CP","COMPACTEUR",IF(Pointage!E6="HS CP 4H-7H ","COMPACTEUR",IF(Pointage!E6="POLY 7H-12H + CP","COMPACTEUR",IF(Pointage!E6="CARTON MATIN","CARTON MATIN",IF(Pointage!E6="CARTON AP","CARTON AM",IF(Pointage!E6="B. CARTON","BENNE CARTON",""))))))))) | F6: =IF(Pointage!F6="ENC NUIT 20H30-02H30","ENC SOIR",IF(Pointage!F6="ENC MATIN 5H-12H","ENC MATIN",IF(Pointage!F6="ENC AM 12H30-19H30","ENC AM",IF(Pointage!F6="POLY 4H-12H + CP","COMPACTEUR",IF(Pointage!F6="HS CP 4H-7H ","COMPACTEUR",IF(Pointage!F6="POLY 7H-12H + CP","COMPACTEUR",IF(Pointage!F6="CARTON MATIN","CARTON MATIN",IF(Pointage!F6="CARTON AP","CARTON AM",IF(Pointage!F6="B. CARTON","BENNE CARTON",""))))))))) | G6: =IF(Pointage!G6="ENC NUIT 20H30-02H30","ENC SOIR",IF(Pointage!G6="ENC MATIN 5H-12H","ENC MATIN",IF(Pointage!G6="ENC AM 12H30-19H30","ENC AM",IF(Pointage!G6="POLY 4H-12H + CP","COMPACTEUR",IF(Pointage!G6="HS CP 4H-7H ","COMPACTEUR",IF(Pointage!G6="POLY 7H-12H + CP","COMPACTEUR",IF(Pointage!G6="CARTON MATIN","CARTON MATIN",IF(Pointage!G6="CARTON AP","CARTON AM",IF(Pointage!G6="B. CARTON","BENNE CARTON",""))))))))) | H6: =IF(Pointage!H6="ENC NUIT 20H30-02H30","ENC SOIR",IF(Pointage!H6="ENC MATIN 5H-12H","ENC MATIN",IF(Pointage!H6="ENC AM 12H30-19H30","ENC AM",IF(Pointage!H6="POLY 4H-12H + CP","COMPACTEUR",IF(Pointage!H6="HS CP 4H-7H ","COMPACTEUR",IF(Pointage!H6="POLY 7H-12H + CP","COMPACTEUR",IF(Pointage!H6="CARTON MATIN","CARTON MATIN",IF(Pointage!H6="CARTON AP","CARTON AM",IF(Pointage!H6="B. CARTON","BENNE CARTON",""))))))))) | I6: =IF(Pointage!I6="ENC NUIT 20H30-02H30","ENC SOIR",IF(Pointage!I6="ENC MATIN 5H-12H","ENC MATIN",IF(Pointage!I6="ENC AM 12H30-19H30","ENC AM",IF(Pointage!I6="POLY 4H-12H + CP","COMPACTEUR",IF(Pointage!I6="HS CP 4H-7H ","COMPACTEUR",IF(Pointage!I6="POLY 7H-12H + CP","COMPACTEUR",IF(Pointage!I6="CARTON MATIN","CARTON MATIN",IF(Pointage!I6="CARTON AP","CARTON AM",IF(Pointage!I6="B. CARTON","BENNE CARTON",""))))))))) | J6: =IF(Pointage!J6="ENC NUIT 20H30-02H30","ENC SOIR",IF(Pointage!J6="ENC MATIN 5H-12H","ENC MATIN",IF(Pointage!J6="ENC AM 12H30-19H30","ENC AM",IF(Pointage!J6="POLY 4H-12H + CP","COMPACTEUR",IF(Pointage!J6="HS CP 4H-7H ","COMPACTEUR",IF(Pointage!J6="POLY 7H-12H + CP","COMPACTEUR",IF(Pointage!J6="CARTON MATIN","CARTON MATIN",IF(Pointage!J6="CARTON AP","CARTON AM",IF(Pointage!J6="B. CARTON","BENNE CARTON",""))))))))) | ... AL6: =IF(Pointage!AL6="ENC NUIT 20H30-02H30","ENC SOIR",IF(Pointage!AL6="ENC MATIN 5H-12H","ENC MATIN",IF(Pointage!AL6="ENC AM 12H30-19H30","ENC AM",IF(Pointage!AL6="POLY 4H-12H + CP","COMPACTEUR",IF(Pointage!AL6="HS CP 4H-7H ","COMPACTEUR",IF(Pointage!AL6="POLY 7H-12H + CP","COMPACTEUR",IF(Pointage!AL6="CARTON MATIN","CARTON MATIN",IF(Pointage!AL6="CARTON AP","CARTON AM",IF(Pointage!AL6="B. CARTON","BENNE CARTON","")))))))))
A7: =Pointage!A7 -> Ben Bouzid Bourhane | B7: =Pointage!B7 -> OUEST Déchetterie | C7: =IF(Pointage!C7="ENC NUIT 20H30-02H30","ENC SOIR",IF(Pointage!C7="ENC MATIN 5H-12H","ENC MATIN",IF(Pointage!C7="ENC AM 12H30-19H30","ENC AM",IF(Pointage!C7="POLY 4H-12H + CP","COMPACTEUR",IF(Pointage!C7="HS CP 4H-7H ","COMPACTEUR",IF(Pointage!C7="POLY 7H-12H + CP","COMPACTEUR",IF(Pointage!C7="CARTON MATIN","CARTON MATIN",IF(Pointage!C7="CARTON AP","CARTON AM",IF(Pointage!C7="B. CARTON","BENNE CARTON",""))))))))) | D7: =IF(Pointage!D7="ENC NUIT 20H30-02H30","ENC SOIR",IF(Pointage!D7="ENC MATIN 5H-12H","ENC MATIN",IF(Pointage!D7="ENC AM 12H30-19H30","ENC AM",IF(Pointage!D7="POLY 4H-12H + CP","COMPACTEUR",IF(Pointage!D7="HS CP 4H-7H ","COMPACTEUR",IF(Pointage!D7="POLY 7H-12H + CP","COMPACTEUR",IF(Pointage!D7="CARTON MATIN","CARTON MATIN",IF(Pointage!D7="CARTON AP","CARTON AM",IF(Pointage!D7="B. CARTON","BENNE CARTON",""))))))))) | E7: =IF(Pointage!E7="ENC NUIT 20H30-02H30","ENC SOIR",IF(Pointage!E7="ENC MATIN 5H-12H","ENC MATIN",IF(Pointage!E7="ENC AM 12H30-19H30","ENC AM",IF(Pointage!E7="POLY 4H-12H + CP","COMPACTEUR",IF(Pointage!E7="HS CP 4H-7H ","COMPACTEUR",IF(Pointage!E7="POLY 7H-12H + CP","COMPACTEUR",IF(Pointage!E7="CARTON MATIN","CARTON MATIN",IF(Pointage!E7="CARTON AP","CARTON AM",IF(Pointage!E7="B. CARTON","BENNE CARTON",""))))))))) | F7: =IF(Pointage!F7="ENC NUIT 20H30-02H30","ENC SOIR",IF(Pointage!F7="ENC MATIN 5H-12H","ENC MATIN",IF(Pointage!F7="ENC AM 12H30-19H30","ENC AM",IF(Pointage!F7="POLY 4H-12H + CP","COMPACTEUR",IF(Pointage!F7="HS CP 4H-7H ","COMPACTEUR",IF(Pointage!F7="POLY 7H-12H + CP","COMPACTEUR",IF(Pointage!F7="CARTON MATIN","CARTON MATIN",IF(Pointage!F7="CARTON AP","CARTON AM",IF(Pointage!F7="B. CARTON","BENNE CARTON",""))))))))) | G7: =IF(Pointage!G7="ENC NUIT 20H30-02H30","ENC SOIR",IF(Pointage!G7="ENC MATIN 5H-12H","ENC MATIN",IF(Pointage!G7="ENC AM 12H30-19H30","ENC AM",IF(Pointage!G7="POLY 4H-12H + CP","COMPACTEUR",IF(Pointage!G7="HS CP 4H-7H ","COMPACTEUR",IF(Pointage!G7="POLY 7H-12H + CP","COMPACTEUR",IF(Pointage!G7="CARTON MATIN","CARTON MATIN",IF(Pointage!G7="CARTON AP","CARTON AM",IF(Pointage!G7="B. CARTON","BENNE CARTON",""))))))))) | H7: =IF(Pointage!H7="ENC NUIT 20H30-02H30","ENC SOIR",IF(Pointage!H7="ENC MATIN 5H-12H","ENC MATIN",IF(Pointage!H7="ENC AM 12H30-19H30","ENC AM",IF(Pointage!H7="POLY 4H-12H + CP","COMPACTEUR",IF(Pointage!H7="HS CP 4H-7H ","COMPACTEUR",IF(Pointage!H7="POLY 7H-12H + CP","COMPACTEUR",IF(Pointage!H7="CARTON MATIN","CARTON MATIN",IF(Pointage!H7="CARTON AP","CARTON AM",IF(Pointage!H7="B. CARTON","BENNE CARTON",""))))))))) | I7: =IF(Pointage!I7="ENC NUIT 20H30-02H30","ENC SOIR",IF(Pointage!I7="ENC MATIN 5H-12H","ENC MATIN",IF(Pointage!I7="ENC AM 12H30-19H30","ENC AM",IF(Pointage!I7="POLY 4H-12H + CP","COMPACTEUR",IF(Pointage!I7="HS CP 4H-7H ","COMPACTEUR",IF(Pointage!I7="POLY 7H-12H + CP","COMPACTEUR",IF(Pointage!I7="CARTON MATIN","CARTON MATIN",IF(Pointage!I7="CARTON AP","CARTON AM",IF(Pointage!I7="B. CARTON","BENNE CARTON",""))))))))) | J7: =IF(Pointage!J7="ENC NUIT 20H30-02H30","ENC SOIR",IF(Pointage!J7="ENC MATIN 5H-12H","ENC MATIN",IF(Pointage!J7="ENC AM 12H30-19H30","ENC AM",IF(Pointage!J7="POLY 4H-12H + CP","COMPACTEUR",IF(Pointage!J7="HS CP 4H-7H ","COMPACTEUR",IF(Pointage!J7="POLY 7H-12H + CP","COMPACTEUR",IF(Pointage!J7="CARTON MATIN","CARTON MATIN",IF(Pointage!J7="CARTON AP","CARTON AM",IF(Pointage!J7="B. CARTON","BENNE CARTON",""))))))))) | ... AL7: =IF(Pointage!AL7="ENC NUIT 20H30-02H30","ENC SOIR",IF(Pointage!AL7="ENC MATIN 5H-12H","ENC MATIN",IF(Pointage!AL7="ENC AM 12H30-19H30","ENC AM",IF(Pointage!AL7="POLY 4H-12H + CP","COMPACTEUR",IF(Pointage!AL7="HS CP 4H-7H ","COMPACTEUR",IF(Pointage!AL7="POLY 7H-12H + CP","COMPACTEUR",IF(Pointage!AL7="CARTON MATIN","CARTON MATIN",IF(Pointage!AL7="CARTON AP","CARTON AM",IF(Pointage!AL7="B. CARTON","BENNE CARTON","")))))))))
A8: =Pointage!A8 -> Bour Yvon | B8: =Pointage!B8 -> CPL | C8: =IF(Pointage!C8="ENC NUIT 20H30-02H30","ENC SOIR",IF(Pointage!C8="ENC MATIN 5H-12H","ENC MATIN",IF(Pointage!C8="ENC AM 12H30-19H30","ENC AM",IF(Pointage!C8="POLY 4H-12H + CP","COMPACTEUR",IF(Pointage!C8="HS CP 4H-7H ","COMPACTEUR",IF(Pointage!C8="POLY 7H-12H + CP","COMPACTEUR",IF(Pointage!C8="CARTON MATIN","CARTON MATIN",IF(Pointage!C8="CARTON AP","CARTON AM",IF(Pointage!C8="B. CARTON","BENNE CARTON",""))))))))) | D8: =IF(Pointage!D8="ENC NUIT 20H30-02H30","ENC SOIR",IF(Pointage!D8="ENC MATIN 5H-12H","ENC MATIN",IF(Pointage!D8="ENC AM 12H30-19H30","ENC AM",IF(Pointage!D8="POLY 4H-12H + CP","COMPACTEUR",IF(Pointage!D8="HS CP 4H-7H ","COMPACTEUR",IF(Pointage!D8="POLY 7H-12H + CP","COMPACTEUR",IF(Pointage!D8="CARTON MATIN","CARTON MATIN",IF(Pointage!D8="CARTON AP","CARTON AM",IF(Pointage!D8="B. CARTON","BENNE CARTON",""))))))))) | E8: =IF(Pointage!E8="ENC NUIT 20H30-02H30","ENC SOIR",IF(Pointage!E8="ENC MATIN 5H-12H","ENC MATIN",IF(Pointage!E8="ENC AM 12H30-19H30","ENC AM",IF(Pointage!E8="POLY 4H-12H + CP","COMPACTEUR",IF(Pointage!E8="HS CP 4H-7H ","COMPACTEUR",IF(Pointage!E8="POLY 7H-12H + CP","COMPACTEUR",IF(Pointage!E8="CARTON MATIN","CARTON MATIN",IF(Pointage!E8="CARTON AP","CARTON AM",IF(Pointage!E8="B. CARTON","BENNE CARTON",""))))))))) | F8: =IF(Pointage!F8="ENC NUIT 20H30-02H30","ENC SOIR",IF(Pointage!F8="ENC MATIN 5H-12H","ENC MATIN",IF(Pointage!F8="ENC AM 12H30-19H30","ENC AM",IF(Pointage!F8="POLY 4H-12H + CP","COMPACTEUR",IF(Pointage!F8="HS CP 4H-7H ","COMPACTEUR",IF(Pointage!F8="POLY 7H-12H + CP","COMPACTEUR",IF(Pointage!F8="CARTON MATIN","CARTON MATIN",IF(Pointage!F8="CARTON AP","CARTON AM",IF(Pointage!F8="B. CARTON","BENNE CARTON",""))))))))) | G8: =IF(Pointage!G8="ENC NUIT 20H30-02H30","ENC SOIR",IF(Pointage!G8="ENC MATIN 5H-12H","ENC MATIN",IF(Pointage!G8="ENC AM 12H30-19H30","ENC AM",IF(Pointage!G8="POLY 4H-12H + CP","COMPACTEUR",IF(Pointage!G8="HS CP 4H-7H ","COMPACTEUR",IF(Pointage!G8="POLY 7H-12H + CP","COMPACTEUR",IF(Pointage!G8="CARTON MATIN","CARTON MATIN",IF(Pointage!G8="CARTON AP","CARTON AM",IF(Pointage!G8="B. CARTON","BENNE CARTON",""))))))))) | H8: =IF(Pointage!H8="ENC NUIT 20H30-02H30","ENC SOIR",IF(Pointage!H8="ENC MATIN 5H-12H","ENC MATIN",IF(Pointage!H8="ENC AM 12H30-19H30","ENC AM",IF(Pointage!H8="POLY 4H-12H + CP","COMPACTEUR",IF(Pointage!H8="HS CP 4H-7H ","COMPACTEUR",IF(Pointage!H8="POLY 7H-12H + CP","COMPACTEUR",IF(Pointage!H8="CARTON MATIN","CARTON MATIN",IF(Pointage!H8="CARTON AP","CARTON AM",IF(Pointage!H8="B. CARTON","BENNE CARTON",""))))))))) | I8: =IF(Pointage!I8="ENC NUIT 20H30-02H30","ENC SOIR",IF(Pointage!I8="ENC MATIN 5H-12H","ENC MATIN",IF(Pointage!I8="ENC AM 12H30-19H30","ENC AM",IF(Pointage!I8="POLY 4H-12H + CP","COMPACTEUR",IF(Pointage!I8="HS CP 4H-7H ","COMPACTEUR",IF(Pointage!I8="POLY 7H-12H + CP","COMPACTEUR",IF(Pointage!I8="CARTON MATIN","CARTON MATIN",IF(Pointage!I8="CARTON AP","CARTON AM",IF(Pointage!I8="B. CARTON","BENNE CARTON",""))))))))) | J8: =IF(Pointage!J8="ENC NUIT 20H30-02H30","ENC SOIR",IF(Pointage!J8="ENC MATIN 5H-12H","ENC MATIN",IF(Pointage!J8="ENC AM 12H30-19H30","ENC AM",IF(Pointage!J8="POLY 4H-12H + CP","COMPACTEUR",IF(Pointage!J8="HS CP 4H-7H ","COMPACTEUR",IF(Pointage!J8="POLY 7H-12H + CP","COMPACTEUR",IF(Pointage!J8="CARTON MATIN","CARTON MATIN",IF(Pointage!J8="CARTON AP","CARTON AM",IF(Pointage!J8="B. CARTON","BENNE CARTON",""))))))))) | ... AL8: =IF(Pointage!AL8="ENC NUIT 20H30-02H30","ENC SOIR",IF(Pointage!AL8="ENC MATIN 5H-12H","ENC MATIN",IF(Pointage!AL8="ENC AM 12H30-19H30","ENC AM",IF(Pointage!AL8="POLY 4H-12H + CP","COMPACTEUR",IF(Pointage!AL8="HS CP 4H-7H ","COMPACTEUR",IF(Pointage!AL8="POLY 7H-12H + CP","COMPACTEUR",IF(Pointage!AL8="CARTON MATIN","CARTON MATIN",IF(Pointage!AL8="CARTON AP","CARTON AM",IF(Pointage!AL8="B. CARTON","BENNE CARTON","")))))))))
A9: =Pointage!A9 -> Burle Yann | B9: =Pointage!B9 -> EST Déchetterie | C9: =IF(Pointage!C9="ENC NUIT 20H30-02H30","ENC SOIR",IF(Pointage!C9="ENC MATIN 5H-12H","ENC MATIN",IF(Pointage!C9="ENC AM 12H30-19H30","ENC AM",IF(Pointage!C9="POLY 4H-12H + CP","COMPACTEUR",IF(Pointage!C9="HS CP 4H-7H ","COMPACTEUR",IF(Pointage!C9="POLY 7H-12H + CP","COMPACTEUR",IF(Pointage!C9="CARTON MATIN","CARTON MATIN",IF(Pointage!C9="CARTON AP","CARTON AM",IF(Pointage!C9="B. CARTON","BENNE CARTON",""))))))))) | D9: =IF(Pointage!D9="ENC NUIT 20H30-02H30","ENC SOIR",IF(Pointage!D9="ENC MATIN 5H-12H","ENC MATIN",IF(Pointage!D9="ENC AM 12H30-19H30","ENC AM",IF(Pointage!D9="POLY 4H-12H + CP","COMPACTEUR",IF(Pointage!D9="HS CP 4H-7H ","COMPACTEUR",IF(Pointage!D9="POLY 7H-12H + CP","COMPACTEUR",IF(Pointage!D9="CARTON MATIN","CARTON MATIN",IF(Pointage!D9="CARTON AP","CARTON AM",IF(Pointage!D9="B. CARTON","BENNE CARTON",""))))))))) | E9: =IF(Pointage!E9="ENC NUIT 20H30-02H30","ENC SOIR",IF(Pointage!E9="ENC MATIN 5H-12H","ENC MATIN",IF(Pointage!E9="ENC AM 12H30-19H30","ENC AM",IF(Pointage!E9="POLY 4H-12H + CP","COMPACTEUR",IF(Pointage!E9="HS CP 4H-7H ","COMPACTEUR",IF(Pointage!E9="POLY 7H-12H + CP","COMPACTEUR",IF(Pointage!E9="CARTON MATIN","CARTON MATIN",IF(Pointage!E9="CARTON AP","CARTON AM",IF(Pointage!E9="B. CARTON","BENNE CARTON",""))))))))) | F9: =IF(Pointage!F9="ENC NUIT 20H30-02H30","ENC SOIR",IF(Pointage!F9="ENC MATIN 5H-12H","ENC MATIN",IF(Pointage!F9="ENC AM 12H30-19H30","ENC AM",IF(Pointage!F9="POLY 4H-12H + CP","COMPACTEUR",IF(Pointage!F9="HS CP 4H-7H ","COMPACTEUR",IF(Pointage!F9="POLY 7H-12H + CP","COMPACTEUR",IF(Pointage!F9="CARTON MATIN","CARTON MATIN",IF(Pointage!F9="CARTON AP","CARTON AM",IF(Pointage!F9="B. CARTON","BENNE CARTON",""))))))))) | G9: =IF(Pointage!G9="ENC NUIT 20H30-02H30","ENC SOIR",IF(Pointage!G9="ENC MATIN 5H-12H","ENC MATIN",IF(Pointage!G9="ENC AM 12H30-19H30","ENC AM",IF(Pointage!G9="POLY 4H-12H + CP","COMPACTEUR",IF(Pointage!G9="HS CP 4H-7H ","COMPACTEUR",IF(Pointage!G9="POLY 7H-12H + CP","COMPACTEUR",IF(Pointage!G9="CARTON MATIN","CARTON MATIN",IF(Pointage!G9="CARTON AP","CARTON AM",IF(Pointage!G9="B. CARTON","BENNE CARTON",""))))))))) | H9: =IF(Pointage!H9="ENC NUIT 20H30-02H30","ENC SOIR",IF(Pointage!H9="ENC MATIN 5H-12H","ENC MATIN",IF(Pointage!H9="ENC AM 12H30-19H30","ENC AM",IF(Pointage!H9="POLY 4H-12H + CP","COMPACTEUR",IF(Pointage!H9="HS CP 4H-7H ","COMPACTEUR",IF(Pointage!H9="POLY 7H-12H + CP","COMPACTEUR",IF(Pointage!H9="CARTON MATIN","CARTON MATIN",IF(Pointage!H9="CARTON AP","CARTON AM",IF(Pointage!H9="B. CARTON","BENNE CARTON",""))))))))) | I9: =IF(Pointage!I9="ENC NUIT 20H30-02H30","ENC SOIR",IF(Pointage!I9="ENC MATIN 5H-12H","ENC MATIN",IF(Pointage!I9="ENC AM 12H30-19H30","ENC AM",IF(Pointage!I9="POLY 4H-12H + CP","COMPACTEUR",IF(Pointage!I9="HS CP 4H-7H ","COMPACTEUR",IF(Pointage!I9="POLY 7H-12H + CP","COMPACTEUR",IF(Pointage!I9="CARTON MATIN","CARTON MATIN",IF(Pointage!I9="CARTON AP","CARTON AM",IF(Pointage!I9="B. CARTON","BENNE CARTON",""))))))))) | J9: =IF(Pointage!J9="ENC NUIT 20H30-02H30","ENC SOIR",IF(Pointage!J9="ENC MATIN 5H-12H","ENC MATIN",IF(Pointage!J9="ENC AM 12H30-19H30","ENC AM",IF(Pointage!J9="POLY 4H-12H + CP","COMPACTEUR",IF(Pointage!J9="HS CP 4H-7H ","COMPACTEUR",IF(Pointage!J9="POLY 7H-12H + CP","COMPACTEUR",IF(Pointage!J9="CARTON MATIN","CARTON MATIN",IF(Pointage!J9="CARTON AP","CARTON AM",IF(Pointage!J9="B. CARTON","BENNE CARTON",""))))))))) | ... AL9: =IF(Pointage!AL9="ENC NUIT 20H30-02H30","ENC SOIR",IF(Pointage!AL9="ENC MATIN 5H-12H","ENC MATIN",IF(Pointage!AL9="ENC AM 12H30-19H30","ENC AM",IF(Pointage!AL9="POLY 4H-12H + CP","COMPACTEUR",IF(Pointage!AL9="HS CP 4H-7H ","COMPACTEUR",IF(Pointage!AL9="POLY 7H-12H + CP","COMPACTEUR",IF(Pointage!AL9="CARTON MATIN","CARTON MATIN",IF(Pointage!AL9="CARTON AP","CARTON AM",IF(Pointage!AL9="B. CARTON","BENNE CARTON","")))))))))
A10: =Pointage!A10 -> Cantelli Thomas | B10: =Pointage!B10 -> remplaçant | C10: =IF(Pointage!C10="ENC NUIT 20H30-02H30","ENC SOIR",IF(Pointage!C10="ENC MATIN 5H-12H","ENC MATIN",IF(Pointage!C10="ENC AM 12H30-19H30","ENC AM",IF(Pointage!C10="POLY 4H-12H + CP","COMPACTEUR",IF(Pointage!C10="HS CP 4H-7H ","COMPACTEUR",IF(Pointage!C10="POLY 7H-12H + CP","COMPACTEUR",IF(Pointage!C10="CARTON MATIN","CARTON MATIN",IF(Pointage!C10="CARTON AP","CARTON AM",IF(Pointage!C10="B. CARTON","BENNE CARTON",""))))))))) | D10: =IF(Pointage!D10="ENC NUIT 20H30-02H30","ENC SOIR",IF(Pointage!D10="ENC MATIN 5H-12H","ENC MATIN",IF(Pointage!D10="ENC AM 12H30-19H30","ENC AM",IF(Pointage!D10="POLY 4H-12H + CP","COMPACTEUR",IF(Pointage!D10="HS CP 4H-7H ","COMPACTEUR",IF(Pointage!D10="POLY 7H-12H + CP","COMPACTEUR",IF(Pointage!D10="CARTON MATIN","CARTON MATIN",IF(Pointage!D10="CARTON AP","CARTON AM",IF(Pointage!D10="B. CARTON","BENNE CARTON",""))))))))) | E10: =IF(Pointage!E10="ENC NUIT 20H30-02H30","ENC SOIR",IF(Pointage!E10="ENC MATIN 5H-12H","ENC MATIN",IF(Pointage!E10="ENC AM 12H30-19H30","ENC AM",IF(Pointage!E10="POLY 4H-12H + CP","COMPACTEUR",IF(Pointage!E10="HS CP 4H-7H ","COMPACTEUR",IF(Pointage!E10="POLY 7H-12H + CP","COMPACTEUR",IF(Pointage!E10="CARTON MATIN","CARTON MATIN",IF(Pointage!E10="CARTON AP","CARTON AM",IF(Pointage!E10="B. CARTON","BENNE CARTON",""))))))))) | F10: =IF(Pointage!F10="ENC NUIT 20H30-02H30","ENC SOIR",IF(Pointage!F10="ENC MATIN 5H-12H","ENC MATIN",IF(Pointage!F10="ENC AM 12H30-19H30","ENC AM",IF(Pointage!F10="POLY 4H-12H + CP","COMPACTEUR",IF(Pointage!F10="HS CP 4H-7H ","COMPACTEUR",IF(Pointage!F10="POLY 7H-12H + CP","COMPACTEUR",IF(Pointage!F10="CARTON MATIN","CARTON MATIN",IF(Pointage!F10="CARTON AP","CARTON AM",IF(Pointage!F10="B. CARTON","BENNE CARTON",""))))))))) | G10: =IF(Pointage!G10="ENC NUIT 20H30-02H30","ENC SOIR",IF(Pointage!G10="ENC MATIN 5H-12H","ENC MATIN",IF(Pointage!G10="ENC AM 12H30-19H30","ENC AM",IF(Pointage!G10="POLY 4H-12H + CP","COMPACTEUR",IF(Pointage!G10="HS CP 4H-7H ","COMPACTEUR",IF(Pointage!G10="POLY 7H-12H + CP","COMPACTEUR",IF(Pointage!G10="CARTON MATIN","CARTON MATIN",IF(Pointage!G10="CARTON AP","CARTON AM",IF(Pointage!G10="B. CARTON","BENNE CARTON",""))))))))) | H10: =IF(Pointage!H10="ENC NUIT 20H30-02H30","ENC SOIR",IF(Pointage!H10="ENC MATIN 5H-12H","ENC MATIN",IF(Pointage!H10="ENC AM 12H30-19H30","ENC AM",IF(Pointage!H10="POLY 4H-12H + CP","COMPACTEUR",IF(Pointage!H10="HS CP 4H-7H ","COMPACTEUR",IF(Pointage!H10="POLY 7H-12H + CP","COMPACTEUR",IF(Pointage!H10="CARTON MATIN","CARTON MATIN",IF(Pointage!H10="CARTON AP","CARTON AM",IF(Pointage!H10="B. CARTON","BENNE CARTON",""))))))))) | I10: =IF(Pointage!I10="ENC NUIT 20H30-02H30","ENC SOIR",IF(Pointage!I10="ENC MATIN 5H-12H","ENC MATIN",IF(Pointage!I10="ENC AM 12H30-19H30","ENC AM",IF(Pointage!I10="POLY 4H-12H + CP","COMPACTEUR",IF(Pointage!I10="HS CP 4H-7H ","COMPACTEUR",IF(Pointage!I10="POLY 7H-12H + CP","COMPACTEUR",IF(Pointage!I10="CARTON MATIN","CARTON MATIN",IF(Pointage!I10="CARTON AP","CARTON AM",IF(Pointage!I10="B. CARTON","BENNE CARTON",""))))))))) | J10: =IF(Pointage!J10="ENC NUIT 20H30-02H30","ENC SOIR",IF(Pointage!J10="ENC MATIN 5H-12H","ENC MATIN",IF(Pointage!J10="ENC AM 12H30-19H30","ENC AM",IF(Pointage!J10="POLY 4H-12H + CP","COMPACTEUR",IF(Pointage!J10="HS CP 4H-7H ","COMPACTEUR",IF(Pointage!J10="POLY 7H-12H + CP","COMPACTEUR",IF(Pointage!J10="CARTON MATIN","CARTON MATIN",IF(Pointage!J10="CARTON AP","CARTON AM",IF(Pointage!J10="B. CARTON","BENNE CARTON",""))))))))) | ... AL10: =IF(Pointage!AL10="ENC NUIT 20H30-02H30","ENC SOIR",IF(Pointage!AL10="ENC MATIN 5H-12H","ENC MATIN",IF(Pointage!AL10="ENC AM 12H30-19H30","ENC AM",IF(Pointage!AL10="POLY 4H-12H + CP","COMPACTEUR",IF(Pointage!AL10="HS CP 4H-7H ","COMPACTEUR",IF(Pointage!AL10="POLY 7H-12H + CP","COMPACTEUR",IF(Pointage!AL10="CARTON MATIN","CARTON MATIN",IF(Pointage!AL10="CARTON AP","CARTON AM",IF(Pointage!AL10="B. CARTON","BENNE CARTON","")))))))))
A11: =Pointage!A11 -> Cardinale Jean Claude | B11: =Pointage!B11 -> OUEST Déchetterie | C11: =IF(Pointage!C11="ENC NUIT 20H30-02H30","ENC SOIR",IF(Pointage!C11="ENC MATIN 5H-12H","ENC MATIN",IF(Pointage!C11="ENC AM 12H30-19H30","ENC AM",IF(Pointage!C11="POLY 4H-12H + CP","COMPACTEUR",IF(Pointage!C11="HS CP 4H-7H ","COMPACTEUR",IF(Pointage!C11="POLY 7H-12H + CP","COMPACTEUR",IF(Pointage!C11="CARTON MATIN","CARTON MATIN",IF(Pointage!C11="CARTON AP","CARTON AM",IF(Pointage!C11="B. CARTON","BENNE CARTON",""))))))))) | D11: =IF(Pointage!D11="ENC NUIT 20H30-02H30","ENC SOIR",IF(Pointage!D11="ENC MATIN 5H-12H","ENC MATIN",IF(Pointage!D11="ENC AM 12H30-19H30","ENC AM",IF(Pointage!D11="POLY 4H-12H + CP","COMPACTEUR",IF(Pointage!D11="HS CP 4H-7H ","COMPACTEUR",IF(Pointage!D11="POLY 7H-12H + CP","COMPACTEUR",IF(Pointage!D11="CARTON MATIN","CARTON MATIN",IF(Pointage!D11="CARTON AP","CARTON AM",IF(Pointage!D11="B. CARTON","BENNE CARTON",""))))))))) | E11: =IF(Pointage!E11="ENC NUIT 20H30-02H30","ENC SOIR",IF(Pointage!E11="ENC MATIN 5H-12H","ENC MATIN",IF(Pointage!E11="ENC AM 12H30-19H30","ENC AM",IF(Pointage!E11="POLY 4H-12H + CP","COMPACTEUR",IF(Pointage!E11="HS CP 4H-7H ","COMPACTEUR",IF(Pointage!E11="POLY 7H-12H + CP","COMPACTEUR",IF(Pointage!E11="CARTON MATIN","CARTON MATIN",IF(Pointage!E11="CARTON AP","CARTON AM",IF(Pointage!E11="B. CARTON","BENNE CARTON",""))))))))) | F11: =IF(Pointage!F11="ENC NUIT 20H30-02H30","ENC SOIR",IF(Pointage!F11="ENC MATIN 5H-12H","ENC MATIN",IF(Pointage!F11="ENC AM 12H30-19H30","ENC AM",IF(Pointage!F11="POLY 4H-12H + CP","COMPACTEUR",IF(Pointage!F11="HS CP 4H-7H ","COMPACTEUR",IF(Pointage!F11="POLY 7H-12H + CP","COMPACTEUR",IF(Pointage!F11="CARTON MATIN","CARTON MATIN",IF(Pointage!F11="CARTON AP","CARTON AM",IF(Pointage!F11="B. CARTON","BENNE CARTON",""))))))))) | G11: =IF(Pointage!G11="ENC NUIT 20H30-02H30","ENC SOIR",IF(Pointage!G11="ENC MATIN 5H-12H","ENC MATIN",IF(Pointage!G11="ENC AM 12H30-19H30","ENC AM",IF(Pointage!G11="POLY 4H-12H + CP","COMPACTEUR",IF(Pointage!G11="HS CP 4H-7H ","COMPACTEUR",IF(Pointage!G11="POLY 7H-12H + CP","COMPACTEUR",IF(Pointage!G11="CARTON MATIN","CARTON MATIN",IF(Pointage!G11="CARTON AP","CARTON AM",IF(Pointage!G11="B. CARTON","BENNE CARTON",""))))))))) | H11: =IF(Pointage!H11="ENC NUIT 20H30-02H30","ENC SOIR",IF(Pointage!H11="ENC MATIN 5H-12H","ENC MATIN",IF(Pointage!H11="ENC AM 12H30-19H30","ENC AM",IF(Pointage!H11="POLY 4H-12H + CP","COMPACTEUR",IF(Pointage!H11="HS CP 4H-7H ","COMPACTEUR",IF(Pointage!H11="POLY 7H-12H + CP","COMPACTEUR",IF(Pointage!H11="CARTON MATIN","CARTON MATIN",IF(Pointage!H11="CARTON AP","CARTON AM",IF(Pointage!H11="B. CARTON","BENNE CARTON",""))))))))) | I11: =IF(Pointage!I11="ENC NUIT 20H30-02H30","ENC SOIR",IF(Pointage!I11="ENC MATIN 5H-12H","ENC MATIN",IF(Pointage!I11="ENC AM 12H30-19H30","ENC AM",IF(Pointage!I11="POLY 4H-12H + CP","COMPACTEUR",IF(Pointage!I11="HS CP 4H-7H ","COMPACTEUR",IF(Pointage!I11="POLY 7H-12H + CP","COMPACTEUR",IF(Pointage!I11="CARTON MATIN","CARTON MATIN",IF(Pointage!I11="CARTON AP","CARTON AM",IF(Pointage!I11="B. CARTON","BENNE CARTON",""))))))))) | J11: =IF(Pointage!J11="ENC NUIT 20H30-02H30","ENC SOIR",IF(Pointage!J11="ENC MATIN 5H-12H","ENC MATIN",IF(Pointage!J11="ENC AM 12H30-19H30","ENC AM",IF(Pointage!J11="POLY 4H-12H + CP","COMPACTEUR",IF(Pointage!J11="HS CP 4H-7H ","COMPACTEUR",IF(Pointage!J11="POLY 7H-12H + CP","COMPACTEUR",IF(Pointage!J11="CARTON MATIN","CARTON MATIN",IF(Pointage!J11="CARTON AP","CARTON AM",IF(Pointage!J11="B. CARTON","BENNE CARTON",""))))))))) | ... AL11: =IF(Pointage!AL11="ENC NUIT 20H30-02H30","ENC SOIR",IF(Pointage!AL11="ENC MATIN 5H-12H","ENC MATIN",IF(Pointage!AL11="ENC AM 12H30-19H30","ENC AM",IF(Pointage!AL11="POLY 4H-12H + CP","COMPACTEUR",IF(Pointage!AL11="HS CP 4H-7H ","COMPACTEUR",IF(Pointage!AL11="POLY 7H-12H + CP","COMPACTEUR",IF(Pointage!AL11="CARTON MATIN","CARTON MATIN",IF(Pointage!AL11="CARTON AP","CARTON AM",IF(Pointage!AL11="B. CARTON","BENNE CARTON","")))))))))
A12: =Pointage!A12 -> Courtois Alexis | B12: =Pointage!B12 -> remplaçant | C12: =IF(Pointage!C12="ENC NUIT 20H30-02H30","ENC SOIR",IF(Pointage!C12="ENC MATIN 5H-12H","ENC MATIN",IF(Pointage!C12="ENC AM 12H30-19H30","ENC AM",IF(Pointage!C12="POLY 4H-12H + CP","COMPACTEUR",IF(Pointage!C12="HS CP 4H-7H ","COMPACTEUR",IF(Pointage!C12="POLY 7H-12H + CP","COMPACTEUR",IF(Pointage!C12="CARTON MATIN","CARTON MATIN",IF(Pointage!C12="CARTON AP","CARTON AM",IF(Pointage!C12="B. CARTON","BENNE CARTON",""))))))))) | D12: =IF(Pointage!D12="ENC NUIT 20H30-02H30","ENC SOIR",IF(Pointage!D12="ENC MATIN 5H-12H","ENC MATIN",IF(Pointage!D12="ENC AM 12H30-19H30","ENC AM",IF(Pointage!D12="POLY 4H-12H + CP","COMPACTEUR",IF(Pointage!D12="HS CP 4H-7H ","COMPACTEUR",IF(Pointage!D12="POLY 7H-12H + CP","COMPACTEUR",IF(Pointage!D12="CARTON MATIN","CARTON MATIN",IF(Pointage!D12="CARTON AP","CARTON AM",IF(Pointage!D12="B. CARTON","BENNE CARTON",""))))))))) | E12: =IF(Pointage!E12="ENC NUIT 20H30-02H30","ENC SOIR",IF(Pointage!E12="ENC MATIN 5H-12H","ENC MATIN",IF(Pointage!E12="ENC AM 12H30-19H30","ENC AM",IF(Pointage!E12="POLY 4H-12H + CP","COMPACTEUR",IF(Pointage!E12="HS CP 4H-7H ","COMPACTEUR",IF(Pointage!E12="POLY 7H-12H + CP","COMPACTEUR",IF(Pointage!E12="CARTON MATIN","CARTON MATIN",IF(Pointage!E12="CARTON AP","CARTON AM",IF(Pointage!E12="B. CARTON","BENNE CARTON",""))))))))) | F12: =IF(Pointage!F12="ENC NUIT 20H30-02H30","ENC SOIR",IF(Pointage!F12="ENC MATIN 5H-12H","ENC MATIN",IF(Pointage!F12="ENC AM 12H30-19H30","ENC AM",IF(Pointage!F12="POLY 4H-12H + CP","COMPACTEUR",IF(Pointage!F12="HS CP 4H-7H ","COMPACTEUR",IF(Pointage!F12="POLY 7H-12H + CP","COMPACTEUR",IF(Pointage!F12="CARTON MATIN","CARTON MATIN",IF(Pointage!F12="CARTON AP","CARTON AM",IF(Pointage!F12="B. CARTON","BENNE CARTON",""))))))))) | G12: =IF(Pointage!G12="ENC NUIT 20H30-02H30","ENC SOIR",IF(Pointage!G12="ENC MATIN 5H-12H","ENC MATIN",IF(Pointage!G12="ENC AM 12H30-19H30","ENC AM",IF(Pointage!G12="POLY 4H-12H + CP","COMPACTEUR",IF(Pointage!G12="HS CP 4H-7H ","COMPACTEUR",IF(Pointage!G12="POLY 7H-12H + CP","COMPACTEUR",IF(Pointage!G12="CARTON MATIN","CARTON MATIN",IF(Pointage!G12="CARTON AP","CARTON AM",IF(Pointage!G12="B. CARTON","BENNE CARTON",""))))))))) | H12: =IF(Pointage!H12="ENC NUIT 20H30-02H30","ENC SOIR",IF(Pointage!H12="ENC MATIN 5H-12H","ENC MATIN",IF(Pointage!H12="ENC AM 12H30-19H30","ENC AM",IF(Pointage!H12="POLY 4H-12H + CP","COMPACTEUR",IF(Pointage!H12="HS CP 4H-7H ","COMPACTEUR",IF(Pointage!H12="POLY 7H-12H + CP","COMPACTEUR",IF(Pointage!H12="CARTON MATIN","CARTON MATIN",IF(Pointage!H12="CARTON AP","CARTON AM",IF(Pointage!H12="B. CARTON","BENNE CARTON",""))))))))) | I12: =IF(Pointage!I12="ENC NUIT 20H30-02H30","ENC SOIR",IF(Pointage!I12="ENC MATIN 5H-12H","ENC MATIN",IF(Pointage!I12="ENC AM 12H30-19H30","ENC AM",IF(Pointage!I12="POLY 4H-12H + CP","COMPACTEUR",IF(Pointage!I12="HS CP 4H-7H ","COMPACTEUR",IF(Pointage!I12="POLY 7H-12H + CP","COMPACTEUR",IF(Pointage!I12="CARTON MATIN","CARTON MATIN",IF(Pointage!I12="CARTON AP","CARTON AM",IF(Pointage!I12="B. CARTON","BENNE CARTON",""))))))))) | J12: =IF(Pointage!J12="ENC NUIT 20H30-02H30","ENC SOIR",IF(Pointage!J12="ENC MATIN 5H-12H","ENC MATIN",IF(Pointage!J12="ENC AM 12H30-19H30","ENC AM",IF(Pointage!J12="POLY 4H-12H + CP","COMPACTEUR",IF(Pointage!J12="HS CP 4H-7H ","COMPACTEUR",IF(Pointage!J12="POLY 7H-12H + CP","COMPACTEUR",IF(Pointage!J12="CARTON MATIN","CARTON MATIN",IF(Pointage!J12="CARTON AP","CARTON AM",IF(Pointage!J12="B. CARTON","BENNE CARTON",""))))))))) | ... AL12: =IF(Pointage!AL12="ENC NUIT 20H30-02H30","ENC SOIR",IF(Pointage!AL12="ENC MATIN 5H-12H","ENC MATIN",IF(Pointage!AL12="ENC AM 12H30-19H30","ENC AM",IF(Pointage!AL12="POLY 4H-12H + CP","COMPACTEUR",IF(Pointage!AL12="HS CP 4H-7H ","COMPACTEUR",IF(Pointage!AL12="POLY 7H-12H + CP","COMPACTEUR",IF(Pointage!AL12="CARTON MATIN","CARTON MATIN",IF(Pointage!AL12="CARTON AP","CARTON AM",IF(Pointage!AL12="B. CARTON","BENNE CARTON","")))))))))
A13: =Pointage!A13 -> Dalmasso Yves | B13: =Pointage!B13 -> CPL | C13: =IF(Pointage!C13="ENC NUIT 20H30-02H30","ENC SOIR",IF(Pointage!C13="ENC MATIN 5H-12H","ENC MATIN",IF(Pointage!C13="ENC AM 12H30-19H30","ENC AM",IF(Pointage!C13="POLY 4H-12H + CP","COMPACTEUR",IF(Pointage!C13="HS CP 4H-7H ","COMPACTEUR",IF(Pointage!C13="POLY 7H-12H + CP","COMPACTEUR",IF(Pointage!C13="CARTON MATIN","CARTON MATIN",IF(Pointage!C13="CARTON AP","CARTON AM",IF(Pointage!C13="B. CARTON","BENNE CARTON",""))))))))) | D13: =IF(Pointage!D13="ENC NUIT 20H30-02H30","ENC SOIR",IF(Pointage!D13="ENC MATIN 5H-12H","ENC MATIN",IF(Pointage!D13="ENC AM 12H30-19H30","ENC AM",IF(Pointage!D13="POLY 4H-12H + CP","COMPACTEUR",IF(Pointage!D13="HS CP 4H-7H ","COMPACTEUR",IF(Pointage!D13="POLY 7H-12H + CP","COMPACTEUR",IF(Pointage!D13="CARTON MATIN","CARTON MATIN",IF(Pointage!D13="CARTON AP","CARTON AM",IF(Pointage!D13="B. CARTON","BENNE CARTON",""))))))))) | E13: =IF(Pointage!E13="ENC NUIT 20H30-02H30","ENC SOIR",IF(Pointage!E13="ENC MATIN 5H-12H","ENC MATIN",IF(Pointage!E13="ENC AM 12H30-19H30","ENC AM",IF(Pointage!E13="POLY 4H-12H + CP","COMPACTEUR",IF(Pointage!E13="HS CP 4H-7H ","COMPACTEUR",IF(Pointage!E13="POLY 7H-12H + CP","COMPACTEUR",IF(Pointage!E13="CARTON MATIN","CARTON MATIN",IF(Pointage!E13="CARTON AP","CARTON AM",IF(Pointage!E13="B. CARTON","BENNE CARTON",""))))))))) | F13: =IF(Pointage!F13="ENC NUIT 20H30-02H30","ENC SOIR",IF(Pointage!F13="ENC MATIN 5H-12H","ENC MATIN",IF(Pointage!F13="ENC AM 12H30-19H30","ENC AM",IF(Pointage!F13="POLY 4H-12H + CP","COMPACTEUR",IF(Pointage!F13="HS CP 4H-7H ","COMPACTEUR",IF(Pointage!F13="POLY 7H-12H + CP","COMPACTEUR",IF(Pointage!F13="CARTON MATIN","CARTON MATIN",IF(Pointage!F13="CARTON AP","CARTON AM",IF(Pointage!F13="B. CARTON","BENNE CARTON",""))))))))) | G13: =IF(Pointage!G13="ENC NUIT 20H30-02H30","ENC SOIR",IF(Pointage!G13="ENC MATIN 5H-12H","ENC MATIN",IF(Pointage!G13="ENC AM 12H30-19H30","ENC AM",IF(Pointage!G13="POLY 4H-12H + CP","COMPACTEUR",IF(Pointage!G13="HS CP 4H-7H ","COMPACTEUR",IF(Pointage!G13="POLY 7H-12H + CP","COMPACTEUR",IF(Pointage!G13="CARTON MATIN","CARTON MATIN",IF(Pointage!G13="CARTON AP","CARTON AM",IF(Pointage!G13="B. CARTON","BENNE CARTON",""))))))))) -> BENNE CARTON | H13: =IF(Pointage!H13="ENC NUIT 20H30-02H30","ENC SOIR",IF(Pointage!H13="ENC MATIN 5H-12H","ENC MATIN",IF(Pointage!H13="ENC AM 12H30-19H30","ENC AM",IF(Pointage!H13="POLY 4H-12H + CP","COMPACTEUR",IF(Pointage!H13="HS CP 4H-7H ","COMPACTEUR",IF(Pointage!H13="POLY 7H-12H + CP","COMPACTEUR",IF(Pointage!H13="CARTON MATIN","CARTON MATIN",IF(Pointage!H13="CARTON AP","CARTON AM",IF(Pointage!H13="B. CARTON","BENNE CARTON",""))))))))) | I13: =IF(Pointage!I13="ENC NUIT 20H30-02H30","ENC SOIR",IF(Pointage!I13="ENC MATIN 5H-12H","ENC MATIN",IF(Pointage!I13="ENC AM 12H30-19H30","ENC AM",IF(Pointage!I13="POLY 4H-12H + CP","COMPACTEUR",IF(Pointage!I13="HS CP 4H-7H ","COMPACTEUR",IF(Pointage!I13="POLY 7H-12H + CP","COMPACTEUR",IF(Pointage!I13="CARTON MATIN","CARTON MATIN",IF(Pointage!I13="CARTON AP","CARTON AM",IF(Pointage!I13="B. CARTON","BENNE CARTON",""))))))))) | J13: =IF(Pointage!J13="ENC NUIT 20H30-02H30","ENC SOIR",IF(Pointage!J13="ENC MATIN 5H-12H","ENC MATIN",IF(Pointage!J13="ENC AM 12H30-19H30","ENC AM",IF(Pointage!J13="POLY 4H-12H + CP","COMPACTEUR",IF(Pointage!J13="HS CP 4H-7H ","COMPACTEUR",IF(Pointage!J13="POLY 7H-12H + CP","COMPACTEUR",IF(Pointage!J13="CARTON MATIN","CARTON MATIN",IF(Pointage!J13="CARTON AP","CARTON AM",IF(Pointage!J13="B. CARTON","BENNE CARTON",""))))))))) | ... AL13: =IF(Pointage!AL13="ENC NUIT 20H30-02H30","ENC SOIR",IF(Pointage!AL13="ENC MATIN 5H-12H","ENC MATIN",IF(Pointage!AL13="ENC AM 12H30-19H30","ENC AM",IF(Pointage!AL13="POLY 4H-12H + CP","COMPACTEUR",IF(Pointage!AL13="HS CP 4H-7H ","COMPACTEUR",IF(Pointage!AL13="POLY 7H-12H + CP","COMPACTEUR",IF(Pointage!AL13="CARTON MATIN","CARTON MATIN",IF(Pointage!AL13="CARTON AP","CARTON AM",IF(Pointage!AL13="B. CARTON","BENNE CARTON","")))))))))
... A45: =Pointage!A45 -> 0 | B45: =Pointage!B45 -> 0 | C45: =IF(Pointage!C45="ENC NUIT 20H30-02H30","ENC SOIR",IF(Pointage!C45="ENC MATIN 5H-12H","ENC MATIN",IF(Pointage!C45="ENC AM 12H30-19H30","ENC AM",IF(Pointage!C45="POLY 4H-12H + CP","COMPACTEUR",IF(Pointage!C45="HS CP 4H-7H ","COMPACTEUR",IF(Pointage!C45="POLY 7H-12H + CP","COMPACTEUR",IF(Pointage!C45="CARTON MATIN","CARTON MATIN",IF(Pointage!C45="CARTON AP","CARTON AM",IF(Pointage!C45="B. CARTON","BENNE CARTON",""))))))))) | D45: =IF(Pointage!D45="ENC NUIT 20H30-02H30","ENC SOIR",IF(Pointage!D45="ENC MATIN 5H-12H","ENC MATIN",IF(Pointage!D45="ENC AM 12H30-19H30","ENC AM",IF(Pointage!D45="POLY 4H-12H + CP","COMPACTEUR",IF(Pointage!D45="HS CP 4H-7H ","COMPACTEUR",IF(Pointage!D45="POLY 7H-12H + CP","COMPACTEUR",IF(Pointage!D45="CARTON MATIN","CARTON MATIN",IF(Pointage!D45="CARTON AP","CARTON AM",IF(Pointage!D45="B. CARTON","BENNE CARTON",""))))))))) | E45: =IF(Pointage!E45="ENC NUIT 20H30-02H30","ENC SOIR",IF(Pointage!E45="ENC MATIN 5H-12H","ENC MATIN",IF(Pointage!E45="ENC AM 12H30-19H30","ENC AM",IF(Pointage!E45="POLY 4H-12H + CP","COMPACTEUR",IF(Pointage!E45="HS CP 4H-7H ","COMPACTEUR",IF(Pointage!E45="POLY 7H-12H + CP","COMPACTEUR",IF(Pointage!E45="CARTON MATIN","CARTON MATIN",IF(Pointage!E45="CARTON AP","CARTON AM",IF(Pointage!E45="B. CARTON","BENNE CARTON",""))))))))) | F45: =IF(Pointage!F45="ENC NUIT 20H30-02H30","ENC SOIR",IF(Pointage!F45="ENC MATIN 5H-12H","ENC MATIN",IF(Pointage!F45="ENC AM 12H30-19H30","ENC AM",IF(Pointage!F45="POLY 4H-12H + CP","COMPACTEUR",IF(Pointage!F45="HS CP 4H-7H ","COMPACTEUR",IF(Pointage!F45="POLY 7H-12H + CP","COMPACTEUR",IF(Pointage!F45="CARTON MATIN","CARTON MATIN",IF(Pointage!F45="CARTON AP","CARTON AM",IF(Pointage!F45="B. CARTON","BENNE CARTON",""))))))))) | G45: =IF(Pointage!G45="ENC NUIT 20H30-02H30","ENC SOIR",IF(Pointage!G45="ENC MATIN 5H-12H","ENC MATIN",IF(Pointage!G45="ENC AM 12H30-19H30","ENC AM",IF(Pointage!G45="POLY 4H-12H + CP","COMPACTEUR",IF(Pointage!G45="HS CP 4H-7H ","COMPACTEUR",IF(Pointage!G45="POLY 7H-12H + CP","COMPACTEUR",IF(Pointage!G45="CARTON MATIN","CARTON MATIN",IF(Pointage!G45="CARTON AP","CARTON AM",IF(Pointage!G45="B. CARTON","BENNE CARTON",""))))))))) | H45: =IF(Pointage!H45="ENC NUIT 20H30-02H30","ENC SOIR",IF(Pointage!H45="ENC MATIN 5H-12H","ENC MATIN",IF(Pointage!H45="ENC AM 12H30-19H30","ENC AM",IF(Pointage!H45="POLY 4H-12H + CP","COMPACTEUR",IF(Pointage!H45="HS CP 4H-7H ","COMPACTEUR",IF(Pointage!H45="POLY 7H-12H + CP","COMPACTEUR",IF(Pointage!H45="CARTON MATIN","CARTON MATIN",IF(Pointage!H45="CARTON AP","CARTON AM",IF(Pointage!H45="B. CARTON","BENNE CARTON",""))))))))) | I45: =IF(Pointage!I45="ENC NUIT 20H30-02H30","ENC SOIR",IF(Pointage!I45="ENC MATIN 5H-12H","ENC MATIN",IF(Pointage!I45="ENC AM 12H30-19H30","ENC AM",IF(Pointage!I45="POLY 4H-12H + CP","COMPACTEUR",IF(Pointage!I45="HS CP 4H-7H ","COMPACTEUR",IF(Pointage!I45="POLY 7H-12H + CP","COMPACTEUR",IF(Pointage!I45="CARTON MATIN","CARTON MATIN",IF(Pointage!I45="CARTON AP","CARTON AM",IF(Pointage!I45="B. CARTON","BENNE CARTON",""))))))))) | J45: =IF(Pointage!J45="ENC NUIT 20H30-02H30","ENC SOIR",IF(Pointage!J45="ENC MATIN 5H-12H","ENC MATIN",IF(Pointage!J45="ENC AM 12H30-19H30","ENC AM",IF(Pointage!J45="POLY 4H-12H + CP","COMPACTEUR",IF(Pointage!J45="HS CP 4H-7H ","COMPACTEUR",IF(Pointage!J45="POLY 7H-12H + CP","COMPACTEUR",IF(Pointage!J45="CARTON MATIN","CARTON MATIN",IF(Pointage!J45="CARTON AP","CARTON AM",IF(Pointage!J45="B. CARTON","BENNE CARTON",""))))))))) | ... AL45: =IF(Pointage!AL45="ENC NUIT 20H30-02H30","ENC SOIR",IF(Pointage!AL45="ENC MATIN 5H-12H","ENC MATIN",IF(Pointage!AL45="ENC AM 12H30-19H30","ENC AM",IF(Pointage!AL45="POLY 4H-12H + CP","COMPACTEUR",IF(Pointage!AL45="HS CP 4H-7H ","COMPACTEUR",IF(Pointage!AL45="POLY 7H-12H + CP","COMPACTEUR",IF(Pointage!AL45="CARTON MATIN","CARTON MATIN",IF(Pointage!AL45="CARTON AP","CARTON AM",IF(Pointage!AL45="B. CARTON","BENNE CARTON","")))))))))

Sheet Affectations Encombrant
A1: {=TRANSPOSE('Affectations Service'!A1:AK45)} -> NOMS | B1: Addario Grégory | C1: Alliouane Saïd | D1: Arnaud Fabrice | E1: Atarsia Kamel | F1: Audibert Michel | G1: Ben Bouzid Bourhane | H1: Bour Yvon | I1: Burle Yann | J1: Cantelli Thomas | K1: Cardinale Jean Claude | L1: Courtois Alexis | M1: Dalmasso Yves | N1: Dhouimer Yassine | O1: Ellena Thomas | P1: Féralis Cécile | Q1: Frendo Mathieu | R1: Gandolin Adrien | S1: Glaskoff Hervé | T1: Guizani Samy | U1: Isoard Nicolas | V1: Landrieux Nathalie | W1: Mallo Alfred | X1: Mandrea Thierry | Y1: Marcelli Alain | Z1: Marino Alain | AA1: Martinelli Julien | AB1: Marzarro Christopher | AC1: Moliner David | AD1: Moraldo Adrien | AE1: Napolitano Walter | AF1: Orofino Carmelo | AG1: Outili Yassin | AH1: Perez Yann | AI1: Perrone Lucas | AJ1: Piombino Jean-Marc | AK1: Rateau Laurent | AL1: Rini Romain | AM1: Rodriguez franck | AN1: Rosso Dominique | AO1: Selsis Bruno | AP1: Torre Jean Marie | AQ1: Vanini Kévin | AR1: Viale Jonathan | AS1: 0 | AT1: #N/A | AU1: #N/A | AV1: #N/A | AW1: #N/A | AX1: #N/A | AY1: #N/A | AZ1: #N/A | BA1: #N/A | BB1: #N/A | BC1: #N/A | BD1: #N/A | BE1: #N/A | BF1: #N/A | BG1: #N/A
A2: PRESTATION | B2: remplaçant | C2: remplaçant | D2: fourgon carton AMP | E2: CPL | F2: OUEST Déchetterie | G2: OUEST Déchetterie | H2: CPL | I2: EST Déchetterie | J2: remplaçant | K2: OUEST Déchetterie | L2: remplaçant | M2: CPL | N2: remplaçant | O2: remplaçant | P2: CPL | Q2: EST Déchetterie | R2: remplaçant | S2: Benne Carton | T2: fourgon carton matin | U2: remplaçant | V2: CPL | W2: NORD Déchetterie | X2: OUEST Déchetterie | Y2: EST Déchetterie | Z2: remplaçant | AA2: fourgon carton matin | AB2: fourgon carton AMP | AC2: CPL | AD2: fourgon carton AMP | AE2: remplaçant | AF2: remplaçant | AG2: remplaçant | AH2: fourgon carton AMP | AI2: remplaçant | AJ2: CPL | AK2: CPL | AL2: remplaçant | AM2: remplaçant | AN2: CPL | AO2: CPL | AP2: Benne Carton | AQ2: remplaçant | AR2: remplaçant | AS2: 0 | AT2: #N/A | AU2: #N/A | AV2: #N/A | AW2: #N/A | AX2: #N/A | AY2: #N/A | AZ2: #N/A | BA2: #N/A | BB2: #N/A | BC2: #N/A | BD2: #N/A | BE2: #N/A | BF2: #N/A | BG2: #N/A
A3: 43029 | O3: ENC MATIN | AT3: #N/A | AU3: #N/A | AV3: #N/A | AW3: #N/A | AX3: #N/A | AY3: #N/A | AZ3: #N/A | BA3: #N/A | BB3: #N/A | BC3: #N/A | BD3: #N/A | BE3: #N/A | BF3: #N/A | BG3: #N/A
A4: 43030 | E4: COMPACTEUR | AT4: #N/A | AU4: #N/A | AV4: #N/A | AW4: #N/A | AX4: #N/A | AY4: #N/A | AZ4: #N/A | BA4: #N/A | BB4: #N/A | BC4: #N/A | BD4: #N/A | BE4: #N/A | BF4: #N/A | BG4: #N/A
A5: 43031 | B5: CARTON AM | D5: CARTON AM | O5: ENC SOIR | S5: BENNE CARTON | V5: BENNE CARTON | Z5: CARTON MATIN | AA5: CARTON MATIN | AC5: COMPACTEUR | AD5: CARTON AM | AE5: ENC SOIR | AF5: ENC AM | AG5: ENC SOIR | AI5: ENC MATIN | AP5: BENNE CARTON | AR5: ENC MATIN | AT5: #N/A | AU5: #N/A | AV5: #N/A | AW5: #N/A | AX5: #N/A | AY5: #N/A | AZ5: #N/A | BA5: #N/A | BB5: #N/A | BC5: #N/A | BD5: #N/A | BE5: #N/A | BF5: #N/A | BG5: #N/A
A6: 43032 | B6: CARTON AM | C6: ENC SOIR | D6: CARTON AM | O6: ENC SOIR | S6: BENNE CARTON | V6: BENNE CARTON | Z6: CARTON MATIN | AA6: CARTON MATIN | AC6: COMPACTEUR | AD6: CARTON AM | AG6: ENC SOIR | AH6: CARTON AM | AI6: ENC MATIN | AP6: BENNE CARTON | AR6: ENC MATIN | AT6: #N/A | AU6: #N/A | AV6: #N/A | AW6: #N/A | AX6: #N/A | AY6: #N/A | AZ6: #N/A | BA6: #N/A | BB6: #N/A | BC6: #N/A | BD6: #N/A | BE6: #N/A | BF6: #N/A | BG6: #N/A
A7: 43033 | B7: CARTON AM | C7: ENC SOIR | D7: CARTON AM | M7: BENNE CARTON | O7: ENC SOIR | S7: BENNE CARTON | T7: CARTON MATIN | Z7: ENC MATIN | AA7: CARTON MATIN | AC7: COMPACTEUR | AE7: ENC MATIN | AG7: ENC SOIR | AH7: CARTON AM | AI7: ENC MATIN | AP7: BENNE CARTON | AT7: #N/A | AU7: #N/A | AV7: #N/A | AW7: #N/A | AX7: #N/A | AY7: #N/A | AZ7: #N/A | BA7: #N/A | BB7: #N/A | BC7: #N/A | BD7: #N/A | BE7: #N/A | BF7: #N/A | BG7: #N/A
A8: 43034 | B8: CARTON AM | C8: ENC SOIR | D8: CARTON AM | O8: ENC SOIR | S8: BENNE CARTON | T8: CARTON MATIN | V8: BENNE CARTON | Z8: ENC MATIN | AA8: CARTON MATIN | AC8: COMPACTEUR | AD8: CARTON AM | AE8: ENC MATIN | AG8: ENC SOIR | AH8: CARTON AM | AI8: ENC MATIN | AP8: BENNE CARTON | AR8: ENC MATIN | AT8: #N/A | AU8: #N/A | AV8: #N/A | AW8: #N/A | AX8: #N/A | AY8: #N/A | AZ8: #N/A | BA8: #N/A | BB8: #N/A | BC8: #N/A | BD8: #N/A | BE8: #N/A | BF8: #N/A | BG8: #N/A
A9: 43035 | B9: CARTON AM | C9: ENC SOIR | D9: CARTON AM | O9: ENC SOIR | S9: BENNE CARTON | T9: CARTON MATIN | V9: BENNE CARTON | Z9: ENC MATIN | AA9: CARTON MATIN | AC9: COMPACTEUR | AD9: CARTON AM | AE9: ENC MATIN | AG9: ENC SOIR | AH9: CARTON AM | AP9: BENNE CARTON | AT9: #N/A | AU9: #N/A | AV9: #N/A | AW9: #N/A | AX9: #N/A | AY9: #N/A | AZ9: #N/A | BA9: #N/A | BB9: #N/A | BC9: #N/A | BD9: #N/A | BE9: #N/A | BF9: #N/A | BG9: #N/A
A10: 43036 | AT10: #N/A | AU10: #N/A | AV10: #N/A | AW10: #N/A | AX10: #N/A | AY10: #N/A | AZ10: #N/A | BA10: #N/A | BB10: #N/A | BC10: #N/A | BD10: #N/A | BE10: #N/A | BF10: #N/A | BG10: #N/A
A11: 43037 | AO11: COMPACTEUR | AT11: #N/A | AU11: #N/A | AV11: #N/A | AW11: #N/A | AX11: #N/A | AY11: #N/A | AZ11: #N/A | BA11: #N/A | BB11: #N/A | BC11: #N/A | BD11: #N/A | BE11: #N/A | BF11: #N/A | BG11: #N/A
A12: 43038 | B12: ENC MATIN | C12: ENC SOIR | D12: CARTON AM | L12: ENC AM | M12: BENNE CARTON | O12: ENC SOIR | S12: BENNE CARTON | T12: CARTON MATIN | Z12: ENC MATIN | AA12: CARTON MATIN | AB12: CARTON AM | AE12: ENC MATIN | AF12: ENC AM | AG12: ENC MATIN | AH12: CARTON AM | AI12: ENC SOIR | AJ12: COMPACTEUR | AP12: BENNE CARTON | AR12: ENC SOIR | AT12: #N/A | AU12: #N/A | AV12: #N/A | AW12: #N/A | AX12: #N/A | AY12: #N/A | AZ12: #N/A | BA12: #N/A | BB12: #N/A | BC12: #N/A | BD12: #N/A | BE12: #N/A | BF12: #N/A | BG12: #N/A
A13: 43039 | C13: ENC SOIR | D13: CARTON AM | M13: BENNE CARTON | O13: ENC SOIR | S13: BENNE CARTON | T13: CARTON MATIN | Z13: ENC MATIN | AA13: CARTON MATIN | AB13: CARTON AM | AD13: CARTON AM | AE13: ENC MATIN | AG13: ENC MATIN | AH13: CARTON AM | AI13: ENC SOIR | AJ13: COMPACTEUR | AP13: BENNE CARTON | AR13: ENC SOIR | AT13: #N/A | AU13: #N/A | AV13: #N/A | AW13: #N/A | AX13: #N/A | AY13: #N/A | AZ13: #N/A | BA13: #N/A | BB13: #N/A | BC13: #N/A | BD13: #N/A | BE13: #N/A | BF13: #N/A | BG13: #N/A
A14: 43040 | AJ14: COMPACTEUR | AT14: #N/A | AU14: #N/A | AV14: #N/A | AW14: #N/A | AX14: #N/A | AY14: #N/A | AZ14: #N/A | BA14: #N/A | BB14: #N/A | BC14: #N/A | BD14: #N/A | BE14: #N/A | BF14: #N/A | BG14: #N/A
A15: 43041 | B15: ENC MATIN | C15: ENC SOIR | D15: CARTON AM | M15: BENNE CARTON | O15: ENC SOIR | S15: BENNE CARTON | T15: CARTON MATIN | Z15: ENC MATIN | AA15: CARTON MATIN | AB15: CARTON AM | AD15: CARTON AM | AE15: ENC MATIN | AG15: ENC MATIN | AH15: CARTON AM | AI15: ENC SOIR | AJ15: COMPACTEUR | AP15: BENNE CARTON | AR15: ENC SOIR | AT15: #N/A | AU15: #N/A | AV15: #N/A | AW15: #N/A | AX15: #N/A | AY15: #N/A | AZ15: #N/A | BA15: #N/A | BB15: #N/A | BC15: #N/A | BD15: #N/A | BE15: #N/A | BF15: #N/A | BG15: #N/A
A16: 43042 | B16: ENC MATIN | C16: ENC SOIR | D16: CARTON AM | M16: BENNE CARTON | O16: ENC SOIR | S16: BENNE CARTON | T16: CARTON MATIN | AA16: CARTON MATIN | AB16: CARTON AM | AD16: CARTON AM | AE16: ENC MATIN | AH16: CARTON AM | AI16: ENC SOIR | AJ16: COMPACTEUR | AP16: BENNE CARTON | AR16: ENC SOIR | AT16: #N/A | AU16: #N/A | AV16: #N/A | AW16: #N/A | AX16: #N/A | AY16: #N/A | AZ16: #N/A | BA16: #N/A | BB16: #N/A | BC16: #N/A | BD16: #N/A | BE16: #N/A | BF16: #N/A | BG16: #N/A
A17: 43043 | AT17: #N/A | AU17: #N/A | AV17: #N/A | AW17: #N/A | AX17: #N/A | AY17: #N/A | AZ17: #N/A | BA17: #N/A | BB17: #N/A | BC17: #N/A | BD17: #N/A | BE17: #N/A | BF17: #N/A | BG17: #N/A
A18: 43044 | AT18: #N/A | AU18: #N/A | AV18: #N/A | AW18: #N/A | AX18: #N/A | AY18: #N/A | AZ18: #N/A | BA18: #N/A | BB18: #N/A | BC18: #N/A | BD18: #N/A | BE18: #N/A | BF18: #N/A | BG18: #N/A
A19: 43045 | B19: ENC SOIR | D19: CARTON AM | E19: COMPACTEUR | J19: ENC SOIR | N19: ENC MATIN | O19: ENC MATIN | R19: ENC SOIR | S19: BENNE CARTON | T19: CARTON MATIN | V19: BENNE CARTON | Z19: ENC MATIN | AA19: CARTON MATIN | AB19: CARTON AM | AD19: CARTON AM | AG19: ENC SOIR | AH19: CARTON AM | AI19: ENC MATIN | AP19: BENNE CARTON | AR19: ENC SOIR | AT19: #N/A | AU19: #N/A | AV19: #N/A | AW19: #N/A | AX19: #N/A | AY19: #N/A | AZ19: #N/A | BA19: #N/A | BB19: #N/A | BC19: #N/A | BD19: #N/A | BE19: #N/A | BF19: #N/A | BG19: #N/A
A20: 43046 | B20: ENC SOIR | D20: CARTON AM | E20: COMPACTEUR | J20: ENC SOIR | N20: ENC MATIN | O20: ENC MATIN | R20: ENC SOIR | S20: BENNE CARTON | T20: CARTON MATIN | V20: BENNE CARTON | Z20: ENC MATIN | AA20: CARTON MATIN | AB20: CARTON AM | AD20: CARTON AM | AG20: ENC SOIR | AH20: CARTON AM | AI20: ENC MATIN | AP20: BENNE CARTON | AR20: ENC SOIR | AT20: #N/A | AU20: #N/A | AV20: #N/A | AW20: #N/A | AX20: #N/A | AY20: #N/A | AZ20: #N/A | BA20: #N/A | BB20: #N/A | BC20: #N/A | BD20: #N/A | BE20: #N/A | BF20: #N/A | BG20: #N/A
A21: 43047 | B21: ENC SOIR | D21: CARTON AM | J21: ENC SOIR | M21: BENNE CARTON | N21: ENC MATIN | O21: ENC MATIN | R21: ENC SOIR | S21: BENNE CARTON | T21: CARTON MATIN | Z21: ENC MATIN | AA21: CARTON MATIN | AB21: CARTON AM | AC21: COMPACTEUR | AD21: CARTON AM | AE21: ENC SOIR | AG21: ENC SOIR | AH21: CARTON AM | AI21: ENC MATIN | AP21: BENNE CARTON | AR21: ENC SOIR | AT21: #N/A | AU21: #N/A | AV21: #N/A | AW21: #N/A | AX21: #N/A | AY21: #N/A | AZ21: #N/A | BA21: #N/A | BB21: #N/A | BC21: #N/A | BD21: #N/A | BE21: #N/A | BF21: #N/A | BG21: #N/A
A22: 43048 | B22: ENC SOIR | D22: CARTON AM | E22: COMPACTEUR | J22: ENC SOIR | N22: ENC MATIN | O22: ENC MATIN | R22: ENC SOIR | S22: BENNE CARTON | T22: CARTON MATIN | V22: BENNE CARTON | Z22: ENC MATIN | AA22: CARTON MATIN | AB22: CARTON AM | AD22: CARTON AM | AE22: ENC SOIR | AG22: ENC SOIR | AH22: CARTON AM | AI22: ENC MATIN | AP22: BENNE CARTON | AR22: ENC SOIR | AT22: #N/A | AU22: #N/A | AV22: #N/A | AW22: #N/A | AX22: #N/A | AY22: #N/A | AZ22: #N/A | BA22: #N/A | BB22: #N/A | BC22: #N/A | BD22: #N/A | BE22: #N/A | BF22: #N/A | BG22: #N/A
A23: 43049 | B23: ENC SOIR | D23: CARTON AM | E23: COMPACTEUR | J23: ENC SOIR | N23: ENC MATIN | O23: ENC MATIN | R23: ENC SOIR | S23: BENNE CARTON | T23: CARTON MATIN | V23: BENNE CARTON | Z23: ENC MATIN | AA23: CARTON MATIN | AB23: CARTON AM | AD23: CARTON AM | AE23: ENC SOIR | AG23: ENC SOIR | AH23: CARTON AM | AI23: ENC MATIN | AP23: BENNE CARTON | AR23: ENC SOIR | AT23: #N/A | AU23: #N/A | AV23: #N/A | AW23: #N/A | AX23: #N/A | AY23: #N/A | AZ23: #N/A | BA23: #N/A | BB23: #N/A | BC23: #N/A | BD23: #N/A | BE23: #N/A | BF23: #N/A | BG23: #N/A
A24: 43050 | AC24: COMPACTEUR | AT24: #N/A | AU24: #N/A | AV24: #N/A | AW24: #N/A | AX24: #N/A | AY24: #N/A | AZ24: #N/A | BA24: #N/A | BB24: #N/A | BC24: #N/A | BD24: #N/A | BE24: #N/A | BF24: #N/A | BG24: #N/A
A25: 43051 | E25: COMPACTEUR | AT25: #N/A | AU25: #N/A | AV25: #N/A | AW25: #N/A | AX25: #N/A | AY25: #N/A | AZ25: #N/A | BA25: #N/A | BB25: #N/A | BC25: #N/A | BD25: #N/A | BE25: #N/A | BF25: #N/A | BG25: #N/A
A26: 43052 | D26: CARTON AM | J26: ENC SOIR | N26: ENC MATIN | O26: ENC MATIN | S26: BENNE CARTON | T26: CARTON MATIN | V26: BENNE CARTON | Z26: ENC MATIN | AA26: CARTON MATIN | AC26: COMPACTEUR | AD26: CARTON AM | AF26: ENC AM | AG26: ENC SOIR | AH26: CARTON AM | AI26: ENC MATIN | AL26: ENC AM | AP26: BENNE CARTON | AR26: ENC SOIR | AT26: #N/A | AU26: #N/A | AV26: #N/A | AW26: #N/A | AX26: #N/A | AY26: #N/A | AZ26: #N/A | BA26: #N/A | BB26: #N/A | BC26: #N/A | BD26: #N/A | BE26: #N/A | BF26: #N/A | BG26: #N/A
A27: 43053 | D27: CARTON AM | J27: ENC SOIR | L27: ENC MATIN | N27: ENC MATIN | O27: ENC MATIN | S27: BENNE CARTON | T27: CARTON MATIN | V27: BENNE CARTON | Z27: ENC MATIN | AA27: CARTON MATIN | AB27: CARTON AM | AC27: COMPACTEUR | AD27: CARTON AM | AF27: ENC AM | AG27: ENC SOIR | AH27: CARTON AM | AI27: ENC MATIN | AP27: BENNE CARTON | AR27: ENC SOIR | AT27: #N/A | AU27: #N/A | AV27: #N/A | AW27: #N/A | AX27: #N/A | AY27: #N/A | AZ27: #N/A | BA27: #N/A | BB27: #N/A | BC27: #N/A | BD27: #N/A | BE27: #N/A | BF27: #N/A | BG27: #N/A
A28: 43054 | D28: CARTON AM | J28: ENC SOIR | L28: ENC MATIN | M28: BENNE CARTON | O28: ENC MATIN | S28: BENNE CARTON | T28: CARTON MATIN | Z28: ENC MATIN | AA28: CARTON MATIN | AB28: CARTON AM | AC28: COMPACTEUR | AD28: CARTON AM | AE28: ENC SOIR | AF28: ENC AM | AG28: ENC SOIR | AH28: CARTON AM | AI28: ENC MATIN | AP28: BENNE CARTON | AR28: ENC SOIR | AT28: #N/A | AU28: #N/A | AV28: #N/A | AW28: #N/A | AX28: #N/A | AY28: #N/A | AZ28: #N/A | BA28: #N/A | BB28: #N/A | BC28: #N/A | BD28: #N/A | BE28: #N/A | BF28: #N/A | BG28: #N/A
A29: 43055 | D29: CARTON AM | J29: ENC SOIR | L29: ENC MATIN | N29: ENC MATIN | O29: ENC MATIN | T29: CARTON MATIN | V29: BENNE CARTON | Z29: CARTON MATIN | AB29: CARTON AM | AC29: COMPACTEUR | AD29: CARTON AM | AF29: BENNE CARTON | AG29: ENC SOIR | AH29: CARTON AM | AI29: ENC AM | AP29: BENNE CARTON | AR29: ENC SOIR | AT29: #N/A | AU29: #N/A | AV29: #N/A | AW29: #N/A | AX29: #N/A | AY29: #N/A | AZ29: #N/A | BA29: #N/A | BB29: #N/A | BC29: #N/A | BD29: #N/A | BE29: #N/A | BF29: #N/A | BG29: #N/A
A30: 43056 | D30: CARTON AM | J30: ENC SOIR | L30: ENC MATIN | N30: ENC MATIN | O30: ENC MATIN | S30: BENNE CARTON | V30: BENNE CARTON | Z30: CARTON MATIN | AA30: CARTON MATIN | AB30: CARTON AM | AC30: COMPACTEUR | AD30: CARTON AM | AE30: ENC SOIR | AF30: BENNE CARTON | AG30: ENC SOIR | AH30: CARTON AM | AI30: ENC AM | AR30: ENC SOIR | AT30: #N/A | AU30: #N/A | AV30: #N/A | AW30: #N/A | AX30: #N/A | AY30: #N/A | AZ30: #N/A | BA30: #N/A | BB30: #N/A | BC30: #N/A | BD30: #N/A | BE30: #N/A | BF30: #N/A | BG30: #N/A
A31: 43057 | AT31: #N/A | AU31: #N/A | AV31: #N/A | AW31: #N/A | AX31: #N/A | AY31: #N/A | AZ31: #N/A | BA31: #N/A | BB31: #N/A | BC31: #N/A | BD31: #N/A | BE31: #N/A | BF31: #N/A | BG31: #N/A
A32: 43058 | V32: COMPACTEUR | AT32: #N/A | AU32: #N/A | AV32: #N/A | AW32: #N/A | AX32: #N/A | AY32: #N/A | AZ32: #N/A | BA32: #N/A | BB32: #N/A | BC32: #N/A | BD32: #N/A | BE32: #N/A | BF32: #N/A | BG32: #N/A
A33: 43059 | C33: ENC MATIN | L33: ENC MATIN | N33: ENC MATIN | O33: ENC SOIR | R33: ENC SOIR | S33: BENNE CARTON | T33: CARTON MATIN | V33: BENNE CARTON | AA33: CARTON MATIN | AB33: CARTON AM | AD33: CARTON AM | AE33: ENC MATIN | AF33: ENC AM | AG33: ENC SOIR | AH33: CARTON AM | AI33: ENC MATIN | AJ33: COMPACTEUR | AP33: BENNE CARTON | AR33: ENC SOIR | AT33: #N/A | AU33: #N/A | AV33: #N/A | AW33: #N/A | AX33: #N/A | AY33: #N/A | AZ33: #N/A | BA33: #N/A | BB33: #N/A | BC33: #N/A | BD33: #N/A | BE33: #N/A | BF33: #N/A | BG33: #N/A
A34: 43060 | C34: ENC SOIR | D34: CARTON AM | J34: ENC SOIR | L34: ENC MATIN | N34: ENC MATIN | O34: ENC SOIR | R34: ENC SOIR | S34: BENNE CARTON | T34: CARTON MATIN | V34: BENNE CARTON | AA34: CARTON MATIN | AB34: CARTON AM | AD34: CARTON AM | AE34: ENC MATIN | AF34: ENC AM | AG34: ENC SOIR | AH34: CARTON AM | AI34: ENC MATIN | AJ34: COMPACTEUR | AP34: BENNE CARTON | AR34: ENC SOIR | AT34: #N/A | AU34: #N/A | AV34: #N/A | AW34: #N/A | AX34: #N/A | AY34: #N/A | AZ34: #N/A | BA34: #N/A | BB34: #N/A | BC34: #N/A | BD34: #N/A | BE34: #N/A | BF34: #N/A | BG34: #N/A
A35: 43061 | C35: ENC SOIR | D35: CARTON AM | J35: ENC SOIR | L35: ENC MATIN | M35: BENNE CARTON | N35: ENC MATIN | O35: ENC SOIR | R35: ENC SOIR | S35: BENNE CARTON | T35: CARTON MATIN | AA35: CARTON MATIN | AB35: CARTON AM | AD35: CARTON AM | AE35: ENC MATIN | AF35: ENC AM | AG35: ENC SOIR | AH35: CARTON AM | AI35: ENC MATIN | AJ35: COMPACTEUR | AP35: BENNE CARTON | AR35: ENC SOIR | AT35: #N/A | AU35: #N/A | AV35: #N/A | AW35: #N/A | AX35: #N/A | AY35: #N/A | AZ35: #N/A | BA35: #N/A | BB35: #N/A | BC35: #N/A | BD35: #N/A | BE35: #N/A | BF35: #N/A | BG35: #N/A
A36: 43062 | C36: ENC SOIR | D36: CARTON AM | J36: ENC SOIR | L36: ENC MATIN | N36: ENC MATIN | O36: ENC SOIR | R36: ENC SOIR | S36: BENNE CARTON | T36: CARTON MATIN | V36: BENNE CARTON | AA36: CARTON MATIN | AB36: CARTON AM | AD36: CARTON AM | AE36: ENC MATIN | AF36: ENC AM | AG36: ENC SOIR | AH36: CARTON AM | AI36: ENC MATIN | AJ36: COMPACTEUR | AP36: BENNE CARTON | AR36: ENC SOIR | AT36: #N/A | AU36: #N/A | AV36: #N/A | AW36: #N/A | AX36: #N/A | AY36: #N/A | AZ36: #N/A | BA36: #N/A | BB36: #N/A | BC36: #N/A | BD36: #N/A | BE36: #N/A | BF36: #N/A | BG36: #N/A
A37: 43063 | C37: ENC SOIR | D37: CARTON AM | J37: ENC SOIR | L37: ENC MATIN | N37: ENC MATIN | O37: ENC SOIR | R37: ENC SOIR | S37: BENNE CARTON | T37: CARTON MATIN | V37: BENNE CARTON | AA37: CARTON MATIN | AB37: CARTON AM | AD37: CARTON AM | AE37: ENC MATIN | AF37: ENC AM | AG37: ENC SOIR | AH37: CARTON AM | AI37: ENC MATIN | AJ37: COMPACTEUR | AP37: BENNE CARTON | AR37: ENC SOIR | AT37: #N/A | AU37: #N/A | AV37: #N/A | AW37: #N/A | AX37: #N/A | AY37: #N/A | AZ37: #N/A | BA37: #N/A | BB37: #N/A | BC37: #N/A | BD37: #N/A | BE37: #N/A | BF37: #N/A | BG37: #N/A
A38: #N/A | B38: #N/A | C38: #N/A | D38: #N/A | E38: #N/A | F38: #N/A | G38: #N/A | H38: #N/A | I38: #N/A | J38: #N/A | K38: #N/A | L38: #N/A | M38: #N/A | N38: #N/A | O38: #N/A | P38: #N/A | Q38: #N/A | R38: #N/A | S38: #N/A | T38: #N/A | U38: #N/A | V38: #N/A | W38: #N/A | X38: #N/A | Y38: #N/A | Z38: #N/A | AA38: #N/A | AB38: #N/A | AC38: #N/A | AD38: #N/A | AE38: #N/A | AF38: #N/A | AG38: #N/A | AH38: #N/A | AI38: #N/A | AJ38: #N/A | AK38: #N/A | AL38: #N/A | AM38: #N/A | AN38: #N/A | AO38: #N/A | AP38: #N/A | AQ38: #N/A | AR38: #N/A | AS38: #N/A | AT38: #N/A | AU38: #N/A | AV38: #N/A | AW38: #N/A | AX38: #N/A | AY38: #N/A | AZ38: #N/A | BA38: #N/A | BB38: #N/A | BC38: #N/A | BD38: #N/A | BE38: #N/A | BF38: #N/A | BG38: #N/A
A39: #N/A | B39: #N/A | C39: #N/A | D39: #N/A | E39: #N/A | F39: #N/A | G39: #N/A | H39: #N/A | I39: #N/A | J39: #N/A | K39: #N/A | L39: #N/A | M39: #N/A | N39: #N/A | O39: #N/A | P39: #N/A | Q39: #N/A | R39: #N/A | S39: #N/A | T39: #N/A | U39: #N/A | V39: #N/A | W39: #N/A | X39: #N/A | Y39: #N/A | Z39: #N/A | AA39: #N/A | AB39: #N/A | AC39: #N/A | AD39: #N/A | AE39: #N/A | AF39: #N/A | AG39: #N/A | AH39: #N/A | AI39: #N/A | AJ39: #N/A | AK39: #N/A | AL39: #N/A | AM39: #N/A | AN39: #N/A | AO39: #N/A | AP39: #N/A | AQ39: #N/A | AR39: #N/A | AS39: #N/A | AT39: #N/A | AU39: #N/A | AV39: #N/A | AW39: #N/A | AX39: #N/A | AY39: #N/A | AZ39: #N/A | BA39: #N/A | BB39: #N/A | BC39: #N/A | BD39: #N/A | BE39: #N/A | BF39: #N/A | BG39: #N/A
A40: #N/A | B40: #N/A | C40: #N/A | D40: #N/A | E40: #N/A | F40: #N/A | G40: #N/A | H40: #N/A | I40: #N/A | J40: #N/A | K40: #N/A | L40: #N/A | M40: #N/A | N40: #N/A | O40: #N/A | P40: #N/A | Q40: #N/A | R40: #N/A | S40: #N/A | T40: #N/A | U40: #N/A | V40: #N/A | W40: #N/A | X40: #N/A | Y40: #N/A | Z40: #N/A | AA40: #N/A | AB40: #N/A | AC40: #N/A | AD40: #N/A | AE40: #N/A | AF40: #N/A | AG40: #N/A | AH40: #N/A | AI40: #N/A | AJ40: #N/A | AK40: #N/A | AL40: #N/A | AM40: #N/A | AN40: #N/A | AO40: #N/A | AP40: #N/A | AQ40: #N/A | AR40: #N/A | AS40: #N/A | AT40: #N/A | AU40: #N/A | AV40: #N/A | AW40: #N/A | AX40: #N/A | AY40: #N/A | AZ40: #N/A | BA40: #N/A | BB40: #N/A | BC40: #N/A | BD40: #N/A | BE40: #N/A | BF40: #N/A | BG40: #N/A
A41: #N/A | B41: #N/A | C41: #N/A | D41: #N/A | E41: #N/A | F41: #N/A | G41: #N/A | H41: #N/A | I41: #N/A | J41: #N/A | K41: #N/A | L41: #N/A | M41: #N/A | N41: #N/A | O41: #N/A | P41: #N/A | Q41: #N/A | R41: #N/A | S41: #N/A | T41: #N/A | U41: #N/A | V41: #N/A | W41: #N/A | X41: #N/A | Y41: #N/A | Z41: #N/A | AA41: #N/A | AB41: #N/A | AC41: #N/A | AD41: #N/A | AE41: #N/A | AF41: #N/A | AG41: #N/A | AH41: #N/A | AI41: #N/A | AJ41: #N/A | AK41: #N/A | AL41: #N/A | AM41: #N/A | AN41: #N/A | AO41: #N/A | AP41: #N/A | AQ41: #N/A | AR41: #N/A | AS41: #N/A | AT41: #N/A | AU41: #N/A | AV41: #N/A | AW41: #N/A | AX41: #N/A | AY41: #N/A | AZ41: #N/A | BA41: #N/A | BB41: #N/A | BC41: #N/A | BD41: #N/A | BE41: #N/A | BF41: #N/A | BG41: #N/A
A42: #N/A | B42: #N/A | C42: #N/A | D42: #N/A | E42: #N/A | F42: #N/A | G42: #N/A | H42: #N/A | I42: #N/A | J42: #N/A | K42: #N/A | L42: #N/A | M42: #N/A | N42: #N/A | O42: #N/A | P42: #N/A | Q42: #N/A | R42: #N/A | S42: #N/A | T42: #N/A | U42: #N/A | V42: #N/A | W42: #N/A | X42: #N/A | Y42: #N/A | Z42: #N/A | AA42: #N/A | AB42: #N/A | AC42: #N/A | AD42: #N/A | AE42: #N/A | AF42: #N/A | AG42: #N/A | AH42: #N/A | AI42: #N/A | AJ42: #N/A | AK42: #N/A | AL42: #N/A | AM42: #N/A | AN42: #N/A | AO42: #N/A | AP42: #N/A | AQ42: #N/A | AR42: #N/A | AS42: #N/A | AT42: #N/A | AU42: #N/A | AV42: #N/A | AW42: #N/A | AX42: #N/A | AY42: #N/A | AZ42: #N/A | BA42: #N/A | BB42: #N/A | BC42: #N/A | BD42: #N/A | BE42: #N/A | BF42: #N/A | BG42: #N/A
A43: #N/A | B43: #N/A | C43: #N/A | D43: #N/A | E43: #N/A | F43: #N/A | G43: #N/A | H43: #N/A | I43: #N/A | J43: #N/A | K43: #N/A | L43: #N/A | M43: #N/A | N43: #N/A | O43: #N/A | P43: #N/A | Q43: #N/A | R43: #N/A | S43: #N/A | T43: #N/A | U43: #N/A | V43: #N/A | W43: #N/A | X43: #N/A | Y43: #N/A | Z43: #N/A | AA43: #N/A | AB43: #N/A | AC43: #N/A | AD43: #N/A | AE43: #N/A | AF43: #N/A | AG43: #N/A | AH43: #N/A | AI43: #N/A | AJ43: #N/A | AK43: #N/A | AL43: #N/A | AM43: #N/A | AN43: #N/A | AO43: #N/A | AP43: #N/A | AQ43: #N/A | AR43: #N/A | AS43: #N/A | AT43: #N/A | AU43: #N/A | AV43: #N/A | AW43: #N/A | AX43: #N/A | AY43: #N/A | AZ43: #N/A | BA43: #N/A | BB43: #N/A | BC43: #N/A | BD43: #N/A | BE43: #N/A | BF43: #N/A | BG43: #N/A
A44: #N/A | B44: #N/A | C44: #N/A | D44: #N/A | E44: #N/A | F44: #N/A | G44: #N/A | H44: #N/A | I44: #N/A | J44: #N/A | K44: #N/A | L44: #N/A | M44: #N/A | N44: #N/A | O44: #N/A | P44: #N/A | Q44: #N/A | R44: #N/A | S44: #N/A | T44: #N/A | U44: #N/A | V44: #N/A | W44: #N/A | X44: #N/A | Y44: #N/A | Z44: #N/A | AA44: #N/A | AB44: #N/A | AC44: #N/A | AD44: #N/A | AE44: #N/A | AF44: #N/A | AG44: #N/A | AH44: #N/A | AI44: #N/A | AJ44: #N/A | AK44: #N/A | AL44: #N/A | AM44: #N/A | AN44: #N/A | AO44: #N/A | AP44: #N/A | AQ44: #N/A | AR44: #N/A | AS44: #N/A | AT44: #N/A | AU44: #N/A | AV44: #N/A | AW44: #N/A | AX44: #N/A | AY44: #N/A | AZ44: #N/A | BA44: #N/A | BB44: #N/A | BC44: #N/A | BD44: #N/A | BE44: #N/A | BF44: #N/A | BG44: #N/A
A45: #N/A | B45: #N/A | C45: #N/A | D45: #N/A | E45: #N/A | F45: #N/A | G45: #N/A | H45: #N/A | I45: #N/A | J45: #N/A | K45: #N/A | L45: #N/A | M45: #N/A | N45: #N/A | O45: #N/A | P45: #N/A | Q45: #N/A | R45: #N/A | S45: #N/A | T45: #N/A | U45: #N/A | V45: #N/A | W45: #N/A | X45: #N/A | Y45: #N/A | Z45: #N/A | AA45: #N/A | AB45: #N/A | AC45: #N/A | AD45: #N/A | AE45: #N/A | AF45: #N/A | AG45: #N/A | AH45: #N/A | AI45: #N/A | AJ45: #N/A | AK45: #N/A | AL45: #N/A | AM45: #N/A | AN45: #N/A | AO45: #N/A | AP45: #N/A | AQ45: #N/A | AR45: #N/A | AS45: #N/A | AT45: #N/A | AU45: #N/A | AV45: #N/A | AW45: #N/A | AX45: #N/A | AY45: #N/A | AZ45: #N/A | BA45: #N/A | BB45: #N/A | BC45: #N/A | BD45: #N/A | BE45: #N/A | BF45: #N/A | BG45: #N/A
A46: #N/A | B46: #N/A | C46: #N/A | D46: #N/A | E46: #N/A | F46: #N/A | G46: #N/A | H46: #N/A | I46: #N/A | J46: #N/A | K46: #N/A | L46: #N/A | M46: #N/A | N46: #N/A | O46: #N/A | P46: #N/A | Q46: #N/A | R46: #N/A | S46: #N/A | T46: #N/A | U46: #N/A | V46: #N/A | W46: #N/A | X46: #N/A | Y46: #N/A | Z46: #N/A | AA46: #N/A | AB46: #N/A | AC46: #N/A | AD46: #N/A | AE46: #N/A | AF46: #N/A | AG46: #N/A | AH46: #N/A | AI46: #N/A | AJ46: #N/A | AK46: #N/A | AL46: #N/A | AM46: #N/A | AN46: #N/A | AO46: #N/A | AP46: #N/A | AQ46: #N/A | AR46: #N/A | AS46: #N/A | AT46: #N/A | AU46: #N/A | AV46: #N/A | AW46: #N/A | AX46: #N/A | AY46: #N/A | AZ46: #N/A | BA46: #N/A | BB46: #N/A | BC46: #N/A | BD46: #N/A | BE46: #N/A | BF46: #N/A | BG46: #N/A
A47: #N/A | B47: #N/A | C47: #N/A | D47: #N/A | E47: #N/A | F47: #N/A | G47: #N/A | H47: #N/A | I47: #N/A | J47: #N/A | K47: #N/A | L47: #N/A | M47: #N/A | N47: #N/A | O47: #N/A | P47: #N/A | Q47: #N/A | R47: #N/A | S47: #N/A | T47: #N/A | U47: #N/A | V47: #N/A | W47: #N/A | X47: #N/A | Y47: #N/A | Z47: #N/A | AA47: #N/A | AB47: #N/A | AC47: #N/A | AD47: #N/A | AE47: #N/A | AF47: #N/A | AG47: #N/A | AH47: #N/A | AI47: #N/A | AJ47: #N/A | AK47: #N/A | AL47: #N/A | AM47: #N/A | AN47: #N/A | AO47: #N/A | AP47: #N/A | AQ47: #N/A | AR47: #N/A | AS47: #N/A | AT47: #N/A | AU47: #N/A | AV47: #N/A | AW47: #N/A | AX47: #N/A | AY47: #N/A | AZ47: #N/A | BA47: #N/A | BB47: #N/A | BC47: #N/A | BD47: #N/A | BE47: #N/A | BF47: #N/A | BG47: #N/A
A48: #N/A | B48: #N/A | C48: #N/A | D48: #N/A | E48: #N/A | F48: #N/A | G48: #N/A | H48: #N/A | I48: #N/A | J48: #N/A | K48: #N/A | L48: #N/A | M48: #N/A | N48: #N/A | O48: #N/A | P48: #N/A | Q48: #N/A | R48: #N/A | S48: #N/A | T48: #N/A | U48: #N/A | V48: #N/A | W48: #N/A | X48: #N/A | Y48: #N/A | Z48: #N/A | AA48: #N/A | AB48: #N/A | AC48: #N/A | AD48: #N/A | AE48: #N/A | AF48: #N/A | AG48: #N/A | AH48: #N/A | AI48: #N/A | AJ48: #N/A | AK48: #N/A | AL48: #N/A | AM48: #N/A | AN48: #N/A | AO48: #N/A | AP48: #N/A | AQ48: #N/A | AR48: #N/A | AS48: #N/A | AT48: #N/A | AU48: #N/A | AV48: #N/A | AW48: #N/A | AX48: #N/A | AY48: #N/A | AZ48: #N/A | BA48: #N/A | BB48: #N/A | BC48: #N/A | BD48: #N/A | BE48: #N/A | BF48: #N/A | BG48: #N/A
A49: #N/A | B49: #N/A | C49: #N/A | D49: #N/A | E49: #N/A | F49: #N/A | G49: #N/A | H49: #N/A | I49: #N/A | J49: #N/A | K49: #N/A | L49: #N/A | M49: #N/A | N49: #N/A | O49: #N/A | P49: #N/A | Q49: #N/A | R49: #N/A | S49: #N/A | T49: #N/A | U49: #N/A | V49: #N/A | W49: #N/A | X49: #N/A | Y49: #N/A | Z49: #N/A | AA49: #N/A | AB49: #N/A | AC49: #N/A | AD49: #N/A | AE49: #N/A | AF49: #N/A | AG49: #N/A | AH49: #N/A | AI49: #N/A | AJ49: #N/A | AK49: #N/A | AL49: #N/A | AM49: #N/A | AN49: #N/A | AO49: #N/A | AP49: #N/A | AQ49: #N/A | AR49: #N/A | AS49: #N/A | AT49: #N/A | AU49: #N/A | AV49: #N/A | AW49: #N/A | AX49: #N/A | AY49: #N/A | AZ49: #N/A | BA49: #N/A | BB49: #N/A | BC49: #N/A | BD49: #N/A | BE49: #N/A | BF49: #N/A | BG49: #N/A
... A51: #N/A | B51: #N/A | C51: #N/A | D51: #N/A | E51: #N/A | F51: #N/A | G51: #N/A | H51: #N/A | I51: #N/A | J51: #N/A | K51: #N/A | L51: #N/A | M51: #N/A | N51: #N/A | O51: #N/A | P51: #N/A | Q51: #N/A | R51: #N/A | S51: #N/A | T51: #N/A | U51: #N/A | V51: #N/A | W51: #N/A | X51: #N/A | Y51: #N/A | Z51: #N/A | AA51: #N/A | AB51: #N/A | AC51: #N/A | AD51: #N/A | AE51: #N/A | AF51: #N/A | AG51: #N/A | AH51: #N/A | AI51: #N/A | AJ51: #N/A | AK51: #N/A | AL51: #N/A | AM51: #N/A | AN51: #N/A | AO51: #N/A | AP51: #N/A | AQ51: #N/A | AR51: #N/A | AS51: #N/A | AT51: #N/A | AU51: #N/A | AV51: #N/A | AW51: #N/A | AX51: #N/A | AY51: #N/A | AZ51: #N/A | BA51: #N/A | BB51: #N/A | BC51: #N/A | BD51: #N/A | BE51: #N/A | BF51: #N/A | BG51: #N/A

Sheet Compacteur
A1: {=TRANSPOSE('Affectations Service'!A1:AL45)} -> NOMS | B1: Addario Grégory | C1: Alliouane Saïd | D1: Arnaud Fabrice | E1: Atarsia Kamel | F1: Audibert Michel | G1: Ben Bouzid Bourhane | H1: Bour Yvon | I1: Burle Yann | J1: Cantelli Thomas | K1: Cardinale Jean Claude | L1: Courtois Alexis | M1: Dalmasso Yves | N1: Dhouimer Yassine | O1: Ellena Thomas | P1: Féralis Cécile | Q1: Frendo Mathieu | R1: Gandolin Adrien | S1: Glaskoff Hervé | T1: Guizani Samy | U1: Isoard Nicolas | V1: Landrieux Nathalie | W1: Mallo Alfred | X1: Mandrea Thierry | Y1: Marcelli Alain | Z1: Marino Alain | AA1: Martinelli Julien | AB1: Marzarro Christopher | AC1: Moliner David | AD1: Moraldo Adrien | AE1: Napolitano Walter | AF1: Orofino Carmelo | AG1: Outili Yassin | AH1: Perez Yann | AI1: Perrone Lucas | AJ1: Piombino Jean-Marc | AK1: Rateau Laurent | AL1: Rini Romain | AM1: Rodriguez franck | AN1: Rosso Dominique | AO1: Selsis Bruno | AP1: Torre Jean Marie | AQ1: Vanini Kévin | AR1: Viale Jonathan | AS1: 0
A2: PRESTATION | B2: remplaçant | C2: remplaçant | D2: fourgon carton AMP | E2: CPL | F2: OUEST Déchetterie | G2: OUEST Déchetterie | H2: CPL | I2: EST Déchetterie | J2: remplaçant | K2: OUEST Déchetterie | L2: remplaçant | M2: CPL | N2: remplaçant | O2: remplaçant | P2: CPL | Q2: EST Déchetterie | R2: remplaçant | S2: Benne Carton | T2: fourgon carton matin | U2: remplaçant | V2: CPL | W2: NORD Déchetterie | X2: OUEST Déchetterie | Y2: EST Déchetterie | Z2: remplaçant | AA2: fourgon carton matin | AB2: fourgon carton AMP | AC2: CPL | AD2: fourgon carton AMP | AE2: remplaçant | AF2: remplaçant | AG2: remplaçant | AH2: fourgon carton AMP | AI2: remplaçant | AJ2: CPL | AK2: CPL | AL2: remplaçant | AM2: remplaçant | AN2: CPL | AO2: CPL | AP2: Benne Carton | AQ2: remplaçant | AR2: remplaçant | AS2: 0
A3: 43029 | O3: ENC MATIN
A4: 43030 | E4: COMPACTEUR
A5: 43031 | B5: CARTON AM | D5: CARTON AM | O5: ENC SOIR | S5: BENNE CARTON | V5: BENNE CARTON | Z5: CARTON MATIN | AA5: CARTON MATIN | AC5: COMPACTEUR | AD5: CARTON AM | AE5: ENC SOIR | AF5: ENC AM | AG5: ENC SOIR | AI5: ENC MATIN | AP5: BENNE CARTON | AR5: ENC MATIN
A6: 43032 | B6: CARTON AM | C6: ENC SOIR | D6: CARTON AM | O6: ENC SOIR | S6: BENNE CARTON | V6: BENNE CARTON | Z6: CARTON MATIN | AA6: CARTON MATIN | AC6: COMPACTEUR | AD6: CARTON AM | AG6: ENC SOIR | AH6: CARTON AM | AI6: ENC MATIN | AP6: BENNE CARTON | AR6: ENC MATIN
A7: 43033 | B7: CARTON AM | C7: ENC SOIR | D7: CARTON AM | M7: BENNE CARTON | O7: ENC SOIR | S7: BENNE CARTON | T7: CARTON MATIN | Z7: ENC MATIN | AA7: CARTON MATIN | AC7: COMPACTEUR | AE7: ENC MATIN | AG7: ENC SOIR | AH7: CARTON AM | AI7: ENC MATIN | AP7: BENNE CARTON
A8: 43034 | B8: CARTON AM | C8: ENC SOIR | D8: CARTON AM | O8: ENC SOIR | S8: BENNE CARTON | T8: CARTON MATIN | V8: BENNE CARTON | Z8: ENC MATIN | AA8: CARTON MATIN | AC8: COMPACTEUR | AD8: CARTON AM | AE8: ENC MATIN | AG8: ENC SOIR | AH8: CARTON AM | AI8: ENC MATIN | AP8: BENNE CARTON | AR8: ENC MATIN
A9: 43035 | B9: CARTON AM | C9: ENC SOIR | D9: CARTON AM | O9: ENC SOIR | S9: BENNE CARTON | T9: CARTON MATIN | V9: BENNE CARTON | Z9: ENC MATIN | AA9: CARTON MATIN | AC9: COMPACTEUR | AD9: CARTON AM | AE9: ENC MATIN | AG9: ENC SOIR | AH9: CARTON AM | AP9: BENNE CARTON
A10: 43036
A11: 43037 | AO11: COMPACTEUR
A12: 43038 | B12: ENC MATIN | C12: ENC SOIR | D12: CARTON AM | L12: ENC AM | M12: BENNE CARTON | O12: ENC SOIR | S12: BENNE CARTON | T12: CARTON MATIN | Z12: ENC MATIN | AA12: CARTON MATIN | AB12: CARTON AM | AE12: ENC MATIN | AF12: ENC AM | AG12: ENC MATIN | AH12: CARTON AM | AI12: ENC SOIR | AJ12: COMPACTEUR | AP12: BENNE CARTON | AR12: ENC SOIR
A13: 43039 | C13: ENC SOIR | D13: CARTON AM | M13: BENNE CARTON | O13: ENC SOIR | S13: BENNE CARTON | T13: CARTON MATIN | Z13: ENC MATIN | AA13: CARTON MATIN | AB13: CARTON AM | AD13: CARTON AM | AE13: ENC MATIN | AG13: ENC MATIN | AH13: CARTON AM | AI13: ENC SOIR | AJ13: COMPACTEUR | AP13: BENNE CARTON | AR13: ENC SOIR
A14: 43040 | AJ14: COMPACTEUR
A15: 43041 | B15: ENC MATIN | C15: ENC SOIR | D15: CARTON AM | M15: BENNE CARTON | O15: ENC SOIR | S15: BENNE CARTON | T15: CARTON MATIN | Z15: ENC MATIN | AA15: CARTON MATIN | AB15: CARTON AM | AD15: CARTON AM | AE15: ENC MATIN | AG15: ENC MATIN | AH15: CARTON AM | AI15: ENC SOIR | AJ15: COMPACTEUR | AP15: BENNE CARTON | AR15: ENC SOIR
A16: 43042 | B16: ENC MATIN | C16: ENC SOIR | D16: CARTON AM | M16: BENNE CARTON | O16: ENC SOIR | S16: BENNE CARTON | T16: CARTON MATIN | AA16: CARTON MATIN | AB16: CARTON AM | AD16: CARTON AM | AE16: ENC MATIN | AH16: CARTON AM | AI16: ENC SOIR | AJ16: COMPACTEUR | AP16: BENNE CARTON | AR16: ENC SOIR
A17: 43043
A18: 43044
A19: 43045 | B19: ENC SOIR | D19: CARTON AM | E19: COMPACTEUR | J19: ENC SOIR | N19: ENC MATIN | O19: ENC MATIN | R19: ENC SOIR | S19: BENNE CARTON | T19: CARTON MATIN | V19: BENNE CARTON | Z19: ENC MATIN | AA19: CARTON MATIN | AB19: CARTON AM | AD19: CARTON AM | AG19: ENC SOIR | AH19: CARTON AM | AI19: ENC MATIN | AP19: BENNE CARTON | AR19: ENC SOIR
A20: 43046 | B20: ENC SOIR | D20: CARTON AM | E20: COMPACTEUR | J20: ENC SOIR | N20: ENC MATIN | O20: ENC MATIN | R20: ENC SOIR | S20: BENNE CARTON | T20: CARTON MATIN | V20: BENNE CARTON | Z20: ENC MATIN | AA20: CARTON MATIN | AB20: CARTON AM | AD20: CARTON AM | AG20: ENC SOIR | AH20: CARTON AM | AI20: ENC MATIN | AP20: BENNE CARTON | AR20: ENC SOIR
A21: 43047 | B21: ENC SOIR | D21: CARTON AM | J21: ENC SOIR | M21: BENNE CARTON | N21: ENC MATIN | O21: ENC MATIN | R21: ENC SOIR | S21: BENNE CARTON | T21: CARTON MATIN | Z21: ENC MATIN | AA21: CARTON MATIN | AB21: CARTON AM | AC21: COMPACTEUR | AD21: CARTON AM | AE21: ENC SOIR | AG21: ENC SOIR | AH21: CARTON AM | AI21: ENC MATIN | AP21: BENNE CARTON | AR21: ENC SOIR
A22: 43048 | B22: ENC SOIR | D22: CARTON AM | E22: COMPACTEUR | J22: ENC SOIR | N22: ENC MATIN | O22: ENC MATIN | R22: ENC SOIR | S22: BENNE CARTON | T22: CARTON MATIN | V22: BENNE CARTON | Z22: ENC MATIN | AA22: CARTON MATIN | AB22: CARTON AM | AD22: CARTON AM | AE22: ENC SOIR | AG22: ENC SOIR | AH22: CARTON AM | AI22: ENC MATIN | AP22: BENNE CARTON | AR22: ENC SOIR
A23: 43049 | B23: ENC SOIR | D23: CARTON AM | E23: COMPACTEUR | J23: ENC SOIR | N23: ENC MATIN | O23: ENC MATIN | R23: ENC SOIR | S23: BENNE CARTON | T23: CARTON MATIN | V23: BENNE CARTON | Z23: ENC MATIN | AA23: CARTON MATIN | AB23: CARTON AM | AD23: CARTON AM | AE23: ENC SOIR | AG23: ENC SOIR | AH23: CARTON AM | AI23: ENC MATIN | AP23: BENNE CARTON | AR23: ENC SOIR
A24: 43050 | AC24: COMPACTEUR
A25: 43051 | E25: COMPACTEUR
A26: 43052 | D26: CARTON AM | J26: ENC SOIR | N26: ENC MATIN | O26: ENC MATIN | S26: BENNE CARTON | T26: CARTON MATIN | V26: BENNE CARTON | Z26: ENC MATIN | AA26: CARTON MATIN | AC26: COMPACTEUR | AD26: CARTON AM | AF26: ENC AM | AG26: ENC SOIR | AH26: CARTON AM | AI26: ENC MATIN | AL26: ENC AM | AP26: BENNE CARTON | AR26: ENC SOIR
A27: 43053 | D27: CARTON AM | J27: ENC SOIR | L27: ENC MATIN | N27: ENC MATIN | O27: ENC MATIN | S27: BENNE CARTON | T27: CARTON MATIN | V27: BENNE CARTON | Z27: ENC MATIN | AA27: CARTON MATIN | AB27: CARTON AM | AC27: COMPACTEUR | AD27: CARTON AM | AF27: ENC AM | AG27: ENC SOIR | AH27: CARTON AM | AI27: ENC MATIN | AP27: BENNE CARTON | AR27: ENC SOIR
A28: 43054 | D28: CARTON AM | J28: ENC SOIR | L28: ENC MATIN | M28: BENNE CARTON | O28: ENC MATIN | S28: BENNE CARTON | T28: CARTON MATIN | Z28: ENC MATIN | AA28: CARTON MATIN | AB28: CARTON AM | AC28: COMPACTEUR | AD28: CARTON AM | AE28: ENC SOIR | AF28: ENC AM | AG28: ENC SOIR | AH28: CARTON AM | AI28: ENC MATIN | AP28: BENNE CARTON | AR28: ENC SOIR
A29: 43055 | D29: CARTON AM | J29: ENC SOIR | L29: ENC MATIN | N29: ENC MATIN | O29: ENC MATIN | T29: CARTON MATIN | V29: BENNE CARTON | Z29: CARTON MATIN | AB29: CARTON AM | AC29: COMPACTEUR | AD29: CARTON AM | AF29: BENNE CARTON | AG29: ENC SOIR | AH29: CARTON AM | AI29: ENC AM | AP29: BENNE CARTON | AR29: ENC SOIR
A30: 43056 | D30: CARTON AM | J30: ENC SOIR | L30: ENC MATIN | N30: ENC MATIN | O30: ENC MATIN | S30: BENNE CARTON | V30: BENNE CARTON | Z30: CARTON MATIN | AA30: CARTON MATIN | AB30: CARTON AM | AC30: COMPACTEUR | AD30: CARTON AM | AE30: ENC SOIR | AF30: BENNE CARTON | AG30: ENC SOIR | AH30: CARTON AM | AI30: ENC AM | AR30: ENC SOIR
A31: 43057
A32: 43058 | V32: COMPACTEUR
A33: 43059 | C33: ENC MATIN | L33: ENC MATIN | N33: ENC MATIN | O33: ENC SOIR | R33: ENC SOIR | S33: BENNE CARTON | T33: CARTON MATIN | V33: BENNE CARTON | AA33: CARTON MATIN | AB33: CARTON AM | AD33: CARTON AM | AE33: ENC MATIN | AF33: ENC AM | AG33: ENC SOIR | AH33: CARTON AM | AI33: ENC MATIN | AJ33: COMPACTEUR | AP33: BENNE CARTON | AR33: ENC SOIR
A34: 43060 | C34: ENC SOIR | D34: CARTON AM | J34: ENC SOIR | L34: ENC MATIN | N34: ENC MATIN | O34: ENC SOIR | R34: ENC SOIR | S34: BENNE CARTON | T34: CARTON MATIN | V34: BENNE CARTON | AA34: CARTON MATIN | AB34: CARTON AM | AD34: CARTON AM | AE34: ENC MATIN | AF34: ENC AM | AG34: ENC SOIR | AH34: CARTON AM | AI34: ENC MATIN | AJ34: COMPACTEUR | AP34: BENNE CARTON | AR34: ENC SOIR
A35: 43061 | C35: ENC SOIR | D35: CARTON AM | J35: ENC SOIR | L35: ENC MATIN | M35: BENNE CARTON | N35: ENC MATIN | O35: ENC SOIR | R35: ENC SOIR | S35: BENNE CARTON | T35: CARTON MATIN | AA35: CARTON MATIN | AB35: CARTON AM | AD35: CARTON AM | AE35: ENC MATIN | AF35: ENC AM | AG35: ENC SOIR | AH35: CARTON AM | AI35: ENC MATIN | AJ35: COMPACTEUR | AP35: BENNE CARTON | AR35: ENC SOIR
A36: 43062 | C36: ENC SOIR | D36: CARTON AM | J36: ENC SOIR | L36: ENC MATIN | N36: ENC MATIN | O36: ENC SOIR | R36: ENC SOIR | S36: BENNE CARTON | T36: CARTON MATIN | V36: BENNE CARTON | AA36: CARTON MATIN | AB36: CARTON AM | AD36: CARTON AM | AE36: ENC MATIN | AF36: ENC AM | AG36: ENC SOIR | AH36: CARTON AM | AI36: ENC MATIN | AJ36: COMPACTEUR | AP36: BENNE CARTON | AR36: ENC SOIR
A37: 43063 | C37: ENC SOIR | D37: CARTON AM | J37: ENC SOIR | L37: ENC MATIN | N37: ENC MATIN | O37: ENC SOIR | R37: ENC SOIR | S37: BENNE CARTON | T37: CARTON MATIN | V37: BENNE CARTON | AA37: CARTON MATIN | AB37: CARTON AM | AD37: CARTON AM | AE37: ENC MATIN | AF37: ENC AM | AG37: ENC SOIR | AH37: CARTON AM | AI37: ENC MATIN | AJ37: COMPACTEUR | AP37: BENNE CARTON | AR37: ENC SOIR
A38: 0

Sheet Cartons
A1: {=TRANSPOSE('Affectations Service'!A1:AL45)} -> NOMS | B1: Addario Grégory | C1: Alliouane Saïd | D1: Arnaud Fabrice | E1: Atarsia Kamel | F1: Audibert Michel | G1: Ben Bouzid Bourhane | H1: Bour Yvon | I1: Burle Yann | J1: Cantelli Thomas | K1: Cardinale Jean Claude | L1: Courtois Alexis | M1: Dalmasso Yves | N1: Dhouimer Yassine | O1: Ellena Thomas | P1: Féralis Cécile | Q1: Frendo Mathieu | R1: Gandolin Adrien | S1: Glaskoff Hervé | T1: Guizani Samy | U1: Isoard Nicolas | V1: Landrieux Nathalie | W1: Mallo Alfred | X1: Mandrea Thierry | Y1: Marcelli Alain | Z1: Marino Alain | AA1: Martinelli Julien | AB1: Marzarro Christopher | AC1: Moliner David | AD1: Moraldo Adrien | AE1: Napolitano Walter | AF1: Orofino Carmelo | AG1: Outili Yassin | AH1: Perez Yann | AI1: Perrone Lucas | AJ1: Piombino Jean-Marc | AK1: Rateau Laurent | AL1: Rini Romain | AM1: Rodriguez franck | AN1: Rosso Dominique | AO1: Selsis Bruno | AP1: Torre Jean Marie | AQ1: Vanini Kévin | AR1: Viale Jonathan | AS1: 0
A2: PRESTATION | B2: remplaçant | C2: remplaçant | D2: fourgon carton AMP | E2: CPL | F2: OUEST Déchetterie | G2: OUEST Déchetterie | H2: CPL | I2: EST Déchetterie | J2: remplaçant | K2: OUEST Déchetterie | L2: remplaçant | M2: CPL | N2: remplaçant | O2: remplaçant | P2: CPL | Q2: EST Déchetterie | R2: remplaçant | S2: Benne Carton | T2: fourgon carton matin | U2: remplaçant | V2: CPL | W2: NORD Déchetterie | X2: OUEST Déchetterie | Y2: EST Déchetterie | Z2: remplaçant | AA2: fourgon carton matin | AB2: fourgon carton AMP | AC2: CPL | AD2: fourgon carton AMP | AE2: remplaçant | AF2: remplaçant | AG2: remplaçant | AH2: fourgon carton AMP | AI2: remplaçant | AJ2: CPL | AK2: CPL | AL2: remplaçant | AM2: remplaçant | AN2: CPL | AO2: CPL | AP2: Benne Carton | AQ2: remplaçant | AR2: remplaçant | AS2: 0
A3: 43029 | O3: ENC MATIN
A4: 43030 | E4: COMPACTEUR
A5: 43031 | B5: CARTON AM | D5: CARTON AM | O5: ENC SOIR | S5: BENNE CARTON | V5: BENNE CARTON | Z5: CARTON MATIN | AA5: CARTON MATIN | AC5: COMPACTEUR | AD5: CARTON AM | AE5: ENC SOIR | AF5: ENC AM | AG5: ENC SOIR | AI5: ENC MATIN | AP5: BENNE CARTON | AR5: ENC MATIN
A6: 43032 | B6: CARTON AM | C6: ENC SOIR | D6: CARTON AM | O6: ENC SOIR | S6: BENNE CARTON | V6: BENNE CARTON | Z6: CARTON MATIN | AA6: CARTON MATIN | AC6: COMPACTEUR | AD6: CARTON AM | AG6: ENC SOIR | AH6: CARTON AM | AI6: ENC MATIN | AP6: BENNE CARTON | AR6: ENC MATIN
A7: 43033 | B7: CARTON AM | C7: ENC SOIR | D7: CARTON AM | M7: BENNE CARTON | O7: ENC SOIR | S7: BENNE CARTON | T7: CARTON MATIN | Z7: ENC MATIN | AA7: CARTON MATIN | AC7: COMPACTEUR | AE7: ENC MATIN | AG7: ENC SOIR | AH7: CARTON AM | AI7: ENC MATIN | AP7: BENNE CARTON
A8: 43034 | B8: CARTON AM | C8: ENC SOIR | D8: CARTON AM | O8: ENC SOIR | S8: BENNE CARTON | T8: CARTON MATIN | V8: BENNE CARTON | Z8: ENC MATIN | AA8: CARTON MATIN | AC8: COMPACTEUR | AD8: CARTON AM | AE8: ENC MATIN | AG8: ENC SOIR | AH8: CARTON AM | AI8: ENC MATIN | AP8: BENNE CARTON | AR8: ENC MATIN
A9: 43035 | B9: CARTON AM | C9: ENC SOIR | D9: CARTON AM | O9: ENC SOIR | S9: BENNE CARTON | T9: CARTON MATIN | V9: BENNE CARTON | Z9: ENC MATIN | AA9: CARTON MATIN | AC9: COMPACTEUR | AD9: CARTON AM | AE9: ENC MATIN | AG9: ENC SOIR | AH9: CARTON AM | AP9: BENNE CARTON
A10: 43036
A11: 43037 | AO11: COMPACTEUR
A12: 43038 | B12: ENC MATIN | C12: ENC SOIR | D12: CARTON AM | L12: ENC AM | M12: BENNE CARTON | O12: ENC SOIR | S12: BENNE CARTON | T12: CARTON MATIN | Z12: ENC MATIN | AA12: CARTON MATIN | AB12: CARTON AM | AE12: ENC MATIN | AF12: ENC AM | AG12: ENC MATIN | AH12: CARTON AM | AI12: ENC SOIR | AJ12: COMPACTEUR | AP12: BENNE CARTON | AR12: ENC SOIR
A13: 43039 | C13: ENC SOIR | D13: CARTON AM | M13: BENNE CARTON | O13: ENC SOIR | S13: BENNE CARTON | T13: CARTON MATIN | Z13: ENC MATIN | AA13: CARTON MATIN | AB13: CARTON AM | AD13: CARTON AM | AE13: ENC MATIN | AG13: ENC MATIN | AH13: CARTON AM | AI13: ENC SOIR | AJ13: COMPACTEUR | AP13: BENNE CARTON | AR13: ENC SOIR
A14: 43040 | AJ14: COMPACTEUR
A15: 43041 | B15: ENC MATIN | C15: ENC SOIR | D15: CARTON AM | M15: BENNE CARTON | O15: ENC SOIR | S15: BENNE CARTON | T15: CARTON MATIN | Z15: ENC MATIN | AA15: CARTON MATIN | AB15: CARTON AM | AD15: CARTON AM | AE15: ENC MATIN | AG15: ENC MATIN | AH15: CARTON AM | AI15: ENC SOIR | AJ15: COMPACTEUR | AP15: BENNE CARTON | AR15: ENC SOIR
A16: 43042 | B16: ENC MATIN | C16: ENC SOIR | D16: CARTON AM | M16: BENNE CARTON | O16: ENC SOIR | S16: BENNE CARTON | T16: CARTON MATIN | AA16: CARTON MATIN | AB16: CARTON AM | AD16: CARTON AM | AE16: ENC MATIN | AH16: CARTON AM | AI16: ENC SOIR | AJ16: COMPACTEUR | AP16: BENNE CARTON | AR16: ENC SOIR
A17: 43043
A18: 43044
A19: 43045 | B19: ENC SOIR | D19: CARTON AM | E19: COMPACTEUR | J19: ENC SOIR | N19: ENC MATIN | O19: ENC MATIN | R19: ENC SOIR | S19: BENNE CARTON | T19: CARTON MATIN | V19: BENNE CARTON | Z19: ENC MATIN | AA19: CARTON MATIN | AB19: CARTON AM | AD19: CARTON AM | AG19: ENC SOIR | AH19: CARTON AM | AI19: ENC MATIN | AP19: BENNE CARTON | AR19: ENC SOIR
A20: 43046 | B20: ENC SOIR | D20: CARTON AM | E20: COMPACTEUR | J20: ENC SOIR | N20: ENC MATIN | O20: ENC MATIN | R20: ENC SOIR | S20: BENNE CARTON | T20: CARTON MATIN | V20: BENNE CARTON | Z20: ENC MATIN | AA20: CARTON MATIN | AB20: CARTON AM | AD20: CARTON AM | AG20: ENC SOIR | AH20: CARTON AM | AI20: ENC MATIN | AP20: BENNE CARTON | AR20: ENC SOIR
A21: 43047 | B21: ENC SOIR | D21: CARTON AM | J21: ENC SOIR | M21: BENNE CARTON | N21: ENC MATIN | O21: ENC MATIN | R21: ENC SOIR | S21: BENNE CARTON | T21: CARTON MATIN | Z21: ENC MATIN | AA21: CARTON MATIN | AB21: CARTON AM | AC21: COMPACTEUR | AD21: CARTON AM | AE21: ENC SOIR | AG21: ENC SOIR | AH21: CARTON AM | AI21: ENC MATIN | AP21: BENNE CARTON | AR21: ENC SOIR
A22: 43048 | B22: ENC SOIR | D22: CARTON AM | E22: COMPACTEUR | J22: ENC SOIR | N22: ENC MATIN | O22: ENC MATIN | R22: ENC SOIR | S22: BENNE CARTON | T22: CARTON MATIN | V22: BENNE CARTON | Z22: ENC MATIN | AA22: CARTON MATIN | AB22: CARTON AM | AD22: CARTON AM | AE22: ENC SOIR | AG22: ENC SOIR | AH22: CARTON AM | AI22: ENC MATIN | AP22: BENNE CARTON | AR22: ENC SOIR
A23: 43049 | B23: ENC SOIR | D23: CARTON AM | E23: COMPACTEUR | J23: ENC SOIR | N23: ENC MATIN | O23: ENC MATIN | R23: ENC SOIR | S23: BENNE CARTON | T23: CARTON MATIN | V23: BENNE CARTON | Z23: ENC MATIN | AA23: CARTON MATIN | AB23: CARTON AM | AD23: CARTON AM | AE23: ENC SOIR | AG23: ENC SOIR | AH23: CARTON AM | AI23: ENC MATIN | AP23: BENNE CARTON | AR23: ENC SOIR
A24: 43050 | AC24: COMPACTEUR
A25: 43051 | E25: COMPACTEUR
A26: 43052 | D26: CARTON AM | J26: ENC SOIR | N26: ENC MATIN | O26: ENC MATIN | S26: BENNE CARTON | T26: CARTON MATIN | V26: BENNE CARTON | Z26: ENC MATIN | AA26: CARTON MATIN | AC26: COMPACTEUR | AD26: CARTON AM | AF26: ENC AM | AG26: ENC SOIR | AH26: CARTON AM | AI26: ENC MATIN | AL26: ENC AM | AP26: BENNE CARTON | AR26: ENC SOIR
A27: 43053 | D27: CARTON AM | J27: ENC SOIR | L27: ENC MATIN | N27: ENC MATIN | O27: ENC MATIN | S27: BENNE CARTON | T27: CARTON MATIN | V27: BENNE CARTON | Z27: ENC MATIN | AA27: CARTON MATIN | AB27: CARTON AM | AC27: COMPACTEUR | AD27: CARTON AM | AF27: ENC AM | AG27: ENC SOIR | AH27: CARTON AM | AI27: ENC MATIN | AP27: BENNE CARTON | AR27: ENC SOIR
A28: 43054 | D28: CARTON AM | J28: ENC SOIR | L28: ENC MATIN | M28: BENNE CARTON | O28: ENC MATIN | S28: BENNE CARTON | T28: CARTON MATIN | Z28: ENC MATIN | AA28: CARTON MATIN | AB28: CARTON AM | AC28: COMPACTEUR | AD28: CARTON AM | AE28: ENC SOIR | AF28: ENC AM | AG28: ENC SOIR | AH28: CARTON AM | AI28: ENC MATIN | AP28: BENNE CARTON | AR28: ENC SOIR
A29: 43055 | D29: CARTON AM | J29: ENC SOIR | L29: ENC MATIN | N29: ENC MATIN | O29: ENC MATIN | T29: CARTON MATIN | V29: BENNE CARTON | Z29: CARTON MATIN | AB29: CARTON AM | AC29: COMPACTEUR | AD29: CARTON AM | AF29: BENNE CARTON | AG29: ENC SOIR | AH29: CARTON AM | AI29: ENC AM | AP29: BENNE CARTON | AR29: ENC SOIR
A30: 43056 | D30: CARTON AM | J30: ENC SOIR | L30: ENC MATIN | N30: ENC MATIN | O30: ENC MATIN | S30: BENNE CARTON | V30: BENNE CARTON | Z30: CARTON MATIN | AA30: CARTON MATIN | AB30: CARTON AM | AC30: COMPACTEUR | AD30: CARTON AM | AE30: ENC SOIR | AF30: BENNE CARTON | AG30: ENC SOIR | AH30: CARTON AM | AI30: ENC AM | AR30: ENC SOIR
A31: 43057
A32: 43058 | V32: COMPACTEUR
A33: 43059 | C33: ENC MATIN | L33: ENC MATIN | N33: ENC MATIN | O33: ENC SOIR | R33: ENC SOIR | S33: BENNE CARTON | T33: CARTON MATIN | V33: BENNE CARTON | AA33: CARTON MATIN | AB33: CARTON AM | AD33: CARTON AM | AE33: ENC MATIN | AF33: ENC AM | AG33: ENC SOIR | AH33: CARTON AM | AI33: ENC MATIN | AJ33: COMPACTEUR | AP33: BENNE CARTON | AR33: ENC SOIR
A34: 43060 | C34: ENC SOIR | D34: CARTON AM | J34: ENC SOIR | L34: ENC MATIN | N34: ENC MATIN | O34: ENC SOIR | R34: ENC SOIR | S34: BENNE CARTON | T34: CARTON MATIN | V34: BENNE CARTON | AA34: CARTON MATIN | AB34: CARTON AM | AD34: CARTON AM | AE34: ENC MATIN | AF34: ENC AM | AG34: ENC SOIR | AH34: CARTON AM | AI34: ENC MATIN | AJ34: COMPACTEUR | AP34: BENNE CARTON | AR34: ENC SOIR
A35: 43061 | C35: ENC SOIR | D35: CARTON AM | J35: ENC SOIR | L35: ENC MATIN | M35: BENNE CARTON | N35: ENC MATIN | O35: ENC SOIR | R35: ENC SOIR | S35: BENNE CARTON | T35: CARTON MATIN | AA35: CARTON MATIN | AB35: CARTON AM | AD35: CARTON AM | AE35: ENC MATIN | AF35: ENC AM | AG35: ENC SOIR | AH35: CARTON AM | AI35: ENC MATIN | AJ35: COMPACTEUR | AP35: BENNE CARTON | AR35: ENC SOIR
A36: 43062 | C36: ENC SOIR | D36: CARTON AM | J36: ENC SOIR | L36: ENC MATIN | N36: ENC MATIN | O36: ENC SOIR | R36: ENC SOIR | S36: BENNE CARTON | T36: CARTON MATIN | V36: BENNE CARTON | AA36: CARTON MATIN | AB36: CARTON AM | AD36: CARTON AM | AE36: ENC MATIN | AF36: ENC AM | AG36: ENC SOIR | AH36: CARTON AM | AI36: ENC MATIN | AJ36: COMPACTEUR | AP36: BENNE CARTON | AR36: ENC SOIR
A37: 43063 | C37: ENC SOIR | D37: CARTON AM | J37: ENC SOIR | L37: ENC MATIN | N37: ENC MATIN | O37: ENC SOIR | R37: ENC SOIR | S37: BENNE CARTON | T37: CARTON MATIN | V37: BENNE CARTON | AA37: CARTON MATIN | AB37: CARTON AM | AD37: CARTON AM | AE37: ENC MATIN | AF37: ENC AM | AG37: ENC SOIR | AH37: CARTON AM | AI37: ENC MATIN | AJ37: COMPACTEUR | AP37: BENNE CARTON | AR37: ENC SOIR
A38: 0
