Workbook

Sheet Feuil1
A1: TYPE | B1: FOURNISSEUR | C1: site | D1: date validation devis | E1: Domaine | F1: descriptif travaux | G1: Libellé de facturation | H1: ht | I1: ttc | J1: facture validée NL | K1: facture validée FC | L1: date réalisation travaux | M1: Commentaires
A2: FACTURE | B2: VINCI | C2: LILLE RIHOUR | D2: 43532 | E2: SERRURERIE | F2: REMPLACEMENT SERRURE MOTORIS22 KEL | G2: CAISSE FEDERALE | H2: 2502.96 | I2: 3003.552
A3: FACTURE | B3: VINCI | C3: ABBEVILLE | D3: 43516 | E3: SERRURERIE | F3: REMPLACEMENT SERRURE ELECTRIQUE PORTAIL N°2 | G3: SCI CMN 1 | H3: 423.5 | I3: 508.2

Sheet Hors contrat 2020
A1: DI | B1: TYPE | C1: FOURNISSEUR | D1: SITE | E1: date validation devis | F1: DOMAINE | G1: REMPLACEMENT | H1: Libellé de facturation | I1: ht | J1: ttc | K1: facture validée CH | L1: facture validée SD | M1: facture validée FC | N1: date réalisation travaux | O1: Commentaires | P1: Colonne2
B2: FACTURE | C2: PLASTAL | D2: BERCK | E2: 43857 | F2: RIDEAU METALLIQUE | G2: REMPLACEMENT MOTEUR | H2: CCM +NOM DE LA CAISSE | I2: 1510 | J2: =Tableau1[[#This Row],[ht]]*1.2 -> 1812
B3: FACTURE | C3: PLASTAL | D3: VALENCIENNES | E3: 43857 | F3: PORTE AUTO | G3: FACTURE DE REGULARISATION (DI 51784) PORTE BLOQUE | H3: SCI CMN | I3: 364.5 | J3: =Tableau1[[#This Row],[ht]]*1.2 -> 437.4 | M3: 43871
B4: FACTURE | C4: PLASTAL | D4: LA MADELIENE | E4: 43857 | F4: PORTE AUTO | G4: POSE NOUVEAU BOUTON POUSSOIR | H4: CCM +NOM DE LA CAISSE | I4: 214.7 | J4: =Tableau1[[#This Row],[ht]]*1.2 -> 257.64 | M4: 43871
B5: FACTURE | C5: PLASTAL | D5: CYSOING | E5: 43888 | F5: PORTE AUTO | G5: REPLACEMENT MOTEUR RIDEAUX METALLIQUE | H5: SCI CMN | I5: 1010 | J5: =Tableau1[[#This Row],[ht]]*1.2 -> 1212
B6: FACTURE | C6: PLASTAL | D6: CYSOING | E6: 43889 | F6: PORTE AUTO | G6: REMPLACEMENT GALETS SUR CHARIOTS DE ROULEMENT PORTE AUTO | H6: SCI CMN | I6: 265 | J6: =Tableau1[[#This Row],[ht]]*1.2 -> 318
B7: FACTURE | C7: PLASTAL | D7: PROVIN | E7: 43890 | F7: PORTE AUTO | G7: REGLAGE RADAR, TENSION | H7: SCI CMN | I7: 216 | J7: =Tableau1[[#This Row],[ht]]*1.2 -> 259.2
B8: FACTURE | C8: PLASTAL | D8: HONDSCHOOTE | E8: 43891 | F8: PORTE AUTO | G8: DEVIS REGULARISATION RECALIBRAGE MOTEUR SUITE ERREUR POSITIONNEMENT | H8: SCI CMN | I8: 352.5 | J8: =Tableau1[[#This Row],[ht]]*1.2 -> 423
B9: FACTURE | C9: PLASTAL | D9: GRAVELINES | E9: 43860 | F9: PORTE AUTO | G9: FACTURE REGULARISATION REMPLACEMENT REMISE EN PLACE ELEASTIQUE CO48 | H9: SCI CMN | I9: 429.5 | J9: =Tableau1[[#This Row],[ht]]*1.2 -> 515.4 | M9: 43871
B10: FACTURE | C10: PLASTAL | D10: ARMENTIERES HOUSSOYE | E10: 43860 | F10: PORTE SECTIONNELLE / BARRIERE | G10: REMPLACEMENT 2 PANNEAUX SUR LE BAS DE LA POSRTE SECTIONNELLES | H10: SCI CMN | I10: 4005.2 | J10: =Tableau1[[#This Row],[ht]]*1.2 -> 4806.24
B11: FACTURE | C11: PLASTAL | D11: BERCK | E11: 43860 | F11: PORTE AUTO | G11: REMPLACEMENT REMISE EN PLACE ELEASTIQUE CO48 | H11: CCM +NOM DE LA CAISSE | I11: 797.4 | J11: =Tableau1[[#This Row],[ht]]*1.2 -> 956.88
A12: 50703 | B12: FACTURE | C12: VINCI | D12: FOURMIES | E12: 43831 | F12: ELECTRICITE | G12: (FACTURE 3/12/19) INSTALLATION PRISE ET POSE CABLE ELECTRIQUE | H12: CCM +NOM DE LA CAISSE | I12: 337.4 | J12: =Tableau1[[#This Row],[ht]]*1.2 -> 404.88
A13: 50785 | B13: FACTURE | C13: VINCI | D13: AMIENS | E13: 43831 | F13: TOITURE | G13: (FACTURE 6/12/19) REGULARISATION TOITURE | H13: SCI CMN 1 | I13: 970.75 | J13: =Tableau1[[#This Row],[ht]]*1.2 -> 1164.9
A14: 50857 | B14: FACTURE | C14: VINCI | D14: ABBEVILLE | E14: 43831 | F14: PORTE SECTIONNELLE / BARRIERE | G14: (FACTURE 6/12/19) FOURNITURE ET PARAMETRAGE 2 EMETTEURS | H14: CCM +NOM DE LA CAISSE | I14: 326.04 | J14: =Tableau1[[#This Row],[ht]]*1.2 -> 391.248
A15: 51290 | B15: FACTURE | C15: VINCI | D15: LILLE SAINT MAURICE | E15: 43831 | F15: SINISTRE VINCI | G15: (FACTURE 6/12/19) REMPLACEMENT VITRAGE TREMPE ET EMALIT SUITE VENDALISME | H15: CAISSE FEDERALE | I15: 2625.9 | J15: =Tableau1[[#This Row],[ht]]*1.2 -> 3151.08
A16: 51085 | B16: FACTURE | C16: VINCI | D16: BOULOGNE SUR MER | E16: 43831 | F16: TOITURE | G16: (FACTURE 6/12/19) REPARATION ETANCHEITE TERRASE | H16: SCI CMN 2 | I16: 861.3 | J16: =Tableau1[[#This Row],[ht]]*1.2 -> 1033.56
A17: 51722 | B17: FACTURE | C17: VINCI | D17: LENS | E17: 43889 | F17: TOITURE | G17: REPRISE ETANCHEITE TOITURE | H17: SCI CMN 1 | I17: 557.7 | J17: =Tableau1[[#This Row],[ht]]*1.2 -> 669.24
A18: 51827 | B18: FACTURE | C18: VINCI | D18: LAVENTIE | E18: 43889 | F18: TOITURE | G18: REPARATION TOITURE TERRASSE | H18: SCI CMN 2 | I18: 610.24 | J18: =Tableau1[[#This Row],[ht]]*1.2 -> 732.288
A19: 51454 | B19: FACTURE | C19: VINCI | D19: TEMPLEUVE | E19: 43918 | F19: PLOMBERIE | G19: REMPLACEMENT VASQUE ET MITIGEUR | H19: CCM +NOM DE LA CAISSE | I19: 442.4 | J19: =Tableau1[[#This Row],[ht]]*1.2 -> 530.88
A20: 50565 | B20: FACTURE | C20: VINCI | D20: AMIENS | E20: 43918 | F20: PORTE SECTIONNELLE / BARRIERE | G20: FOURNITURE ET POSE DE 2 RECEPTEURS ET PARAMETRAGE 5 EMETTEURS | I20: 852.28 | J20: =Tableau1[[#This Row],[ht]]*1.2 -> 1022.736
A21: Total | C21: =SUBTOTAL(103,Tableau1[FOURNISSEUR]) -> 4 | I21: =SUBTOTAL(109,Tableau1[ht]) -> 1806.1 | J21: =SUBTOTAL(109,Tableau1[ttc]) -> 2167.32 | P21: =SUBTOTAL(103,Tableau1[Colonne2]) -> 0

Sheet Suivi Hors Contrat 2020
A1: DOMAINE | B1: HORS CONTRAT | C1: Janvier | D1: Février | E1: Mars | F1: Avril | G1: Mai | H1: Juin | I1: Juillet | J1: Août | K1: Septembre | L1: Octobre | M1: Novembre | N1: Décembre | O1: Total Budget | P1: Total Dépense | Q1: Budget rectifié | R1: Budget Restant | T1: Libellé de facturation
A2: MAINTENANCE TECHNIQUE | B2: BUDGET CAISSE FEDERALE | C2: 15000 | D2: 15000 | E2: 15000 | F2: 15000 | G2: 15000 | H2: 15000 | I2: 15000 | J2: 15000 | K2: 15000 | L2: 15000 | M2: 15000 | N2: 15000 | O2: =SUM(Tableau5[[#This Row],[Janvier]:[Décembre]]) -> 180000 | T2: CCM +NOM DE LA CAISSE
A3: APPAREIL ELEVATEUR | C3: {=IFERROR(SUMPRODUCT(('Hors contrat 2020'!$F$2:$F$30=$A3)*(YEAR('Hors contrat 2020'!$E$2:$E$30)=YEAR(TODAY()))*(MONTH('Hors contrat 2020'!$E$2:$E$30)=COLUMN()-2)*('Hors contrat 2020'!$J$2:$J$30)),"")} -> 0 | D3: {=IFERROR(SUMPRODUCT(('Hors contrat 2020'!$F$2:$F$30=$A3)*(YEAR('Hors contrat 2020'!$E$2:$E$30)=YEAR(TODAY()))*(MONTH('Hors contrat 2020'!$E$2:$E$30)=COLUMN()-2)*('Hors contrat 2020'!$J$2:$J$30)),"")} -> 0 | E3: {=IFERROR(SUMPRODUCT(('Hors contrat 2020'!$F$2:$F$30=$A3)*(YEAR('Hors contrat 2020'!$E$2:$E$30)=YEAR(TODAY()))*(MONTH('Hors contrat 2020'!$E$2:$E$30)=COLUMN()-2)*('Hors contrat 2020'!$J$2:$J$30)),"")} -> 0 | F3: {=IFERROR(SUMPRODUCT(('Hors contrat 2020'!$F$2:$F$30=$A3)*(YEAR('Hors contrat 2020'!$E$2:$E$30)=YEAR(TODAY()))*(MONTH('Hors contrat 2020'!$E$2:$E$30)=COLUMN()-2)*('Hors contrat 2020'!$J$2:$J$30)),"")} -> 0 | G3: {=IFERROR(SUMPRODUCT(('Hors contrat 2020'!$F$2:$F$30=$A3)*(YEAR('Hors contrat 2020'!$E$2:$E$30)=YEAR(TODAY()))*(MONTH('Hors contrat 2020'!$E$2:$E$30)=COLUMN()-2)*('Hors contrat 2020'!$J$2:$J$30)),"")} -> 0 | H3: {=IFERROR(SUMPRODUCT(('Hors contrat 2020'!$F$2:$F$30=$A3)*(YEAR('Hors contrat 2020'!$E$2:$E$30)=YEAR(TODAY()))*(MONTH('Hors contrat 2020'!$E$2:$E$30)=COLUMN()-2)*('Hors contrat 2020'!$J$2:$J$30)),"")} -> 0 | I3: {=IFERROR(SUMPRODUCT(('Hors contrat 2020'!$F$2:$F$30=$A3)*(YEAR('Hors contrat 2020'!$E$2:$E$30)=YEAR(TODAY()))*(MONTH('Hors contrat 2020'!$E$2:$E$30)=COLUMN()-2)*('Hors contrat 2020'!$J$2:$J$30)),"")} -> 0 | J3: {=IFERROR(SUMPRODUCT(('Hors contrat 2020'!$F$2:$F$30=$A3)*(YEAR('Hors contrat 2020'!$E$2:$E$30)=YEAR(TODAY()))*(MONTH('Hors contrat 2020'!$E$2:$E$30)=COLUMN()-2)*('Hors contrat 2020'!$J$2:$J$30)),"")} -> 0 | ... N3: {=IFERROR(SUMPRODUCT(('Hors contrat 2020'!$F$2:$F$30=$A3)*(YEAR('Hors contrat 2020'!$E$2:$E$30)=YEAR(TODAY()))*(MONTH('Hors contrat 2020'!$E$2:$E$30)=COLUMN()-2)*('Hors contrat 2020'!$J$2:$J$30)),"")} -> 0 | P3: =SUM(Tableau5[[#This Row],[Janvier]:[Décembre]]) -> 0 | T3: CAISSE FEDERALE
A4: CVC | C4: {=IFERROR(SUMPRODUCT(('Hors contrat 2020'!$F$2:$F$30=$A4)*(YEAR('Hors contrat 2020'!$E$2:$E$30)=YEAR(TODAY()))*(MONTH('Hors contrat 2020'!$E$2:$E$30)=COLUMN()-2)*('Hors contrat 2020'!$J$2:$J$30)),"")} -> 0 | D4: {=IFERROR(SUMPRODUCT(('Hors contrat 2020'!$F$2:$F$30=$A4)*(YEAR('Hors contrat 2020'!$E$2:$E$30)=YEAR(TODAY()))*(MONTH('Hors contrat 2020'!$E$2:$E$30)=COLUMN()-2)*('Hors contrat 2020'!$J$2:$J$30)),"")} -> 0 | E4: {=IFERROR(SUMPRODUCT(('Hors contrat 2020'!$F$2:$F$30=$A4)*(YEAR('Hors contrat 2020'!$E$2:$E$30)=YEAR(TODAY()))*(MONTH('Hors contrat 2020'!$E$2:$E$30)=COLUMN()-2)*('Hors contrat 2020'!$J$2:$J$30)),"")} -> 0 | F4: {=IFERROR(SUMPRODUCT(('Hors contrat 2020'!$F$2:$F$30=$A4)*(YEAR('Hors contrat 2020'!$E$2:$E$30)=YEAR(TODAY()))*(MONTH('Hors contrat 2020'!$E$2:$E$30)=COLUMN()-2)*('Hors contrat 2020'!$J$2:$J$30)),"")} -> 0 | G4: {=IFERROR(SUMPRODUCT(('Hors contrat 2020'!$F$2:$F$30=$A4)*(YEAR('Hors contrat 2020'!$E$2:$E$30)=YEAR(TODAY()))*(MONTH('Hors contrat 2020'!$E$2:$E$30)=COLUMN()-2)*('Hors contrat 2020'!$J$2:$J$30)),"")} -> 0 | H4: {=IFERROR(SUMPRODUCT(('Hors contrat 2020'!$F$2:$F$30=$A4)*(YEAR('Hors contrat 2020'!$E$2:$E$30)=YEAR(TODAY()))*(MONTH('Hors contrat 2020'!$E$2:$E$30)=COLUMN()-2)*('Hors contrat 2020'!$J$2:$J$30)),"")} -> 0 | I4: {=IFERROR(SUMPRODUCT(('Hors contrat 2020'!$F$2:$F$30=$A4)*(YEAR('Hors contrat 2020'!$E$2:$E$30)=YEAR(TODAY()))*(MONTH('Hors contrat 2020'!$E$2:$E$30)=COLUMN()-2)*('Hors contrat 2020'!$J$2:$J$30)),"")} -> 0 | J4: {=IFERROR(SUMPRODUCT(('Hors contrat 2020'!$F$2:$F$30=$A4)*(YEAR('Hors contrat 2020'!$E$2:$E$30)=YEAR(TODAY()))*(MONTH('Hors contrat 2020'!$E$2:$E$30)=COLUMN()-2)*('Hors contrat 2020'!$J$2:$J$30)),"")} -> 0 | ... N4: {=IFERROR(SUMPRODUCT(('Hors contrat 2020'!$F$2:$F$30=$A4)*(YEAR('Hors contrat 2020'!$E$2:$E$30)=YEAR(TODAY()))*(MONTH('Hors contrat 2020'!$E$2:$E$30)=COLUMN()-2)*('Hors contrat 2020'!$J$2:$J$30)),"")} -> 0 | P4: =SUM(Tableau5[[#This Row],[Janvier]:[Décembre]]) -> 0
A5: ELECTRICITE | C5: {=IFERROR(SUMPRODUCT(('Hors contrat 2020'!$F$2:$F$30=$A5)*(YEAR('Hors contrat 2020'!$E$2:$E$30)=YEAR(TODAY()))*(MONTH('Hors contrat 2020'!$E$2:$E$30)=COLUMN()-2)*('Hors contrat 2020'!$J$2:$J$30)),"")} -> 404.88 | D5: {=IFERROR(SUMPRODUCT(('Hors contrat 2020'!$F$2:$F$30=$A5)*(YEAR('Hors contrat 2020'!$E$2:$E$30)=YEAR(TODAY()))*(MONTH('Hors contrat 2020'!$E$2:$E$30)=COLUMN()-2)*('Hors contrat 2020'!$J$2:$J$30)),"")} -> 0 | E5: {=IFERROR(SUMPRODUCT(('Hors contrat 2020'!$F$2:$F$30=$A5)*(YEAR('Hors contrat 2020'!$E$2:$E$30)=YEAR(TODAY()))*(MONTH('Hors contrat 2020'!$E$2:$E$30)=COLUMN()-2)*('Hors contrat 2020'!$J$2:$J$30)),"")} -> 0 | F5: {=IFERROR(SUMPRODUCT(('Hors contrat 2020'!$F$2:$F$30=$A5)*(YEAR('Hors contrat 2020'!$E$2:$E$30)=YEAR(TODAY()))*(MONTH('Hors contrat 2020'!$E$2:$E$30)=COLUMN()-2)*('Hors contrat 2020'!$J$2:$J$30)),"")} -> 0 | G5: {=IFERROR(SUMPRODUCT(('Hors contrat 2020'!$F$2:$F$30=$A5)*(YEAR('Hors contrat 2020'!$E$2:$E$30)=YEAR(TODAY()))*(MONTH('Hors contrat 2020'!$E$2:$E$30)=COLUMN()-2)*('Hors contrat 2020'!$J$2:$J$30)),"")} -> 0 | H5: {=IFERROR(SUMPRODUCT(('Hors contrat 2020'!$F$2:$F$30=$A5)*(YEAR('Hors contrat 2020'!$E$2:$E$30)=YEAR(TODAY()))*(MONTH('Hors contrat 2020'!$E$2:$E$30)=COLUMN()-2)*('Hors contrat 2020'!$J$2:$J$30)),"")} -> 0 | I5: {=IFERROR(SUMPRODUCT(('Hors contrat 2020'!$F$2:$F$30=$A5)*(YEAR('Hors contrat 2020'!$E$2:$E$30)=YEAR(TODAY()))*(MONTH('Hors contrat 2020'!$E$2:$E$30)=COLUMN()-2)*('Hors contrat 2020'!$J$2:$J$30)),"")} -> 0 | J5: {=IFERROR(SUMPRODUCT(('Hors contrat 2020'!$F$2:$F$30=$A5)*(YEAR('Hors contrat 2020'!$E$2:$E$30)=YEAR(TODAY()))*(MONTH('Hors contrat 2020'!$E$2:$E$30)=COLUMN()-2)*('Hors contrat 2020'!$J$2:$J$30)),"")} -> 0 | ... N5: {=IFERROR(SUMPRODUCT(('Hors contrat 2020'!$F$2:$F$30=$A5)*(YEAR('Hors contrat 2020'!$E$2:$E$30)=YEAR(TODAY()))*(MONTH('Hors contrat 2020'!$E$2:$E$30)=COLUMN()-2)*('Hors contrat 2020'!$J$2:$J$30)),"")} -> 0 | P5: =SUM(Tableau5[[#This Row],[Janvier]:[Décembre]]) -> 404.88
A6: ENSEIGNE | C6: {=IFERROR(SUMPRODUCT(('Hors contrat 2020'!$F$2:$F$30=$A6)*(YEAR('Hors contrat 2020'!$E$2:$E$30)=YEAR(TODAY()))*(MONTH('Hors contrat 2020'!$E$2:$E$30)=COLUMN()-2)*('Hors contrat 2020'!$J$2:$J$30)),"")} -> 0 | D6: {=IFERROR(SUMPRODUCT(('Hors contrat 2020'!$F$2:$F$30=$A6)*(YEAR('Hors contrat 2020'!$E$2:$E$30)=YEAR(TODAY()))*(MONTH('Hors contrat 2020'!$E$2:$E$30)=COLUMN()-2)*('Hors contrat 2020'!$J$2:$J$30)),"")} -> 0 | E6: {=IFERROR(SUMPRODUCT(('Hors contrat 2020'!$F$2:$F$30=$A6)*(YEAR('Hors contrat 2020'!$E$2:$E$30)=YEAR(TODAY()))*(MONTH('Hors contrat 2020'!$E$2:$E$30)=COLUMN()-2)*('Hors contrat 2020'!$J$2:$J$30)),"")} -> 0 | F6: {=IFERROR(SUMPRODUCT(('Hors contrat 2020'!$F$2:$F$30=$A6)*(YEAR('Hors contrat 2020'!$E$2:$E$30)=YEAR(TODAY()))*(MONTH('Hors contrat 2020'!$E$2:$E$30)=COLUMN()-2)*('Hors contrat 2020'!$J$2:$J$30)),"")} -> 0 | G6: {=IFERROR(SUMPRODUCT(('Hors contrat 2020'!$F$2:$F$30=$A6)*(YEAR('Hors contrat 2020'!$E$2:$E$30)=YEAR(TODAY()))*(MONTH('Hors contrat 2020'!$E$2:$E$30)=COLUMN()-2)*('Hors contrat 2020'!$J$2:$J$30)),"")} -> 0 | H6: {=IFERROR(SUMPRODUCT(('Hors contrat 2020'!$F$2:$F$30=$A6)*(YEAR('Hors contrat 2020'!$E$2:$E$30)=YEAR(TODAY()))*(MONTH('Hors contrat 2020'!$E$2:$E$30)=COLUMN()-2)*('Hors contrat 2020'!$J$2:$J$30)),"")} -> 0 | I6: {=IFERROR(SUMPRODUCT(('Hors contrat 2020'!$F$2:$F$30=$A6)*(YEAR('Hors contrat 2020'!$E$2:$E$30)=YEAR(TODAY()))*(MONTH('Hors contrat 2020'!$E$2:$E$30)=COLUMN()-2)*('Hors contrat 2020'!$J$2:$J$30)),"")} -> 0 | J6: {=IFERROR(SUMPRODUCT(('Hors contrat 2020'!$F$2:$F$30=$A6)*(YEAR('Hors contrat 2020'!$E$2:$E$30)=YEAR(TODAY()))*(MONTH('Hors contrat 2020'!$E$2:$E$30)=COLUMN()-2)*('Hors contrat 2020'!$J$2:$J$30)),"")} -> 0 | ... N6: {=IFERROR(SUMPRODUCT(('Hors contrat 2020'!$F$2:$F$30=$A6)*(YEAR('Hors contrat 2020'!$E$2:$E$30)=YEAR(TODAY()))*(MONTH('Hors contrat 2020'!$E$2:$E$30)=COLUMN()-2)*('Hors contrat 2020'!$J$2:$J$30)),"")} -> 0 | P6: =SUM(Tableau5[[#This Row],[Janvier]:[Décembre]]) -> 0
A7: GTC | C7: {=IFERROR(SUMPRODUCT(('Hors contrat 2020'!$F$2:$F$30=$A7)*(YEAR('Hors contrat 2020'!$E$2:$E$30)=YEAR(TODAY()))*(MONTH('Hors contrat 2020'!$E$2:$E$30)=COLUMN()-2)*('Hors contrat 2020'!$J$2:$J$30)),"")} -> 0 | D7: {=IFERROR(SUMPRODUCT(('Hors contrat 2020'!$F$2:$F$30=$A7)*(YEAR('Hors contrat 2020'!$E$2:$E$30)=YEAR(TODAY()))*(MONTH('Hors contrat 2020'!$E$2:$E$30)=COLUMN()-2)*('Hors contrat 2020'!$J$2:$J$30)),"")} -> 0 | E7: {=IFERROR(SUMPRODUCT(('Hors contrat 2020'!$F$2:$F$30=$A7)*(YEAR('Hors contrat 2020'!$E$2:$E$30)=YEAR(TODAY()))*(MONTH('Hors contrat 2020'!$E$2:$E$30)=COLUMN()-2)*('Hors contrat 2020'!$J$2:$J$30)),"")} -> 0 | F7: {=IFERROR(SUMPRODUCT(('Hors contrat 2020'!$F$2:$F$30=$A7)*(YEAR('Hors contrat 2020'!$E$2:$E$30)=YEAR(TODAY()))*(MONTH('Hors contrat 2020'!$E$2:$E$30)=COLUMN()-2)*('Hors contrat 2020'!$J$2:$J$30)),"")} -> 0 | G7: {=IFERROR(SUMPRODUCT(('Hors contrat 2020'!$F$2:$F$30=$A7)*(YEAR('Hors contrat 2020'!$E$2:$E$30)=YEAR(TODAY()))*(MONTH('Hors contrat 2020'!$E$2:$E$30)=COLUMN()-2)*('Hors contrat 2020'!$J$2:$J$30)),"")} -> 0 | H7: {=IFERROR(SUMPRODUCT(('Hors contrat 2020'!$F$2:$F$30=$A7)*(YEAR('Hors contrat 2020'!$E$2:$E$30)=YEAR(TODAY()))*(MONTH('Hors contrat 2020'!$E$2:$E$30)=COLUMN()-2)*('Hors contrat 2020'!$J$2:$J$30)),"")} -> 0 | I7: {=IFERROR(SUMPRODUCT(('Hors contrat 2020'!$F$2:$F$30=$A7)*(YEAR('Hors contrat 2020'!$E$2:$E$30)=YEAR(TODAY()))*(MONTH('Hors contrat 2020'!$E$2:$E$30)=COLUMN()-2)*('Hors contrat 2020'!$J$2:$J$30)),"")} -> 0 | J7: {=IFERROR(SUMPRODUCT(('Hors contrat 2020'!$F$2:$F$30=$A7)*(YEAR('Hors contrat 2020'!$E$2:$E$30)=YEAR(TODAY()))*(MONTH('Hors contrat 2020'!$E$2:$E$30)=COLUMN()-2)*('Hors contrat 2020'!$J$2:$J$30)),"")} -> 0 | ... N7: {=IFERROR(SUMPRODUCT(('Hors contrat 2020'!$F$2:$F$30=$A7)*(YEAR('Hors contrat 2020'!$E$2:$E$30)=YEAR(TODAY()))*(MONTH('Hors contrat 2020'!$E$2:$E$30)=COLUMN()-2)*('Hors contrat 2020'!$J$2:$J$30)),"")} -> 0 | P7: =SUM(Tableau5[[#This Row],[Janvier]:[Décembre]]) -> 0
A8: MENUISERIE | C8: {=IFERROR(SUMPRODUCT(('Hors contrat 2020'!$F$2:$F$30=$A8)*(YEAR('Hors contrat 2020'!$E$2:$E$30)=YEAR(TODAY()))*(MONTH('Hors contrat 2020'!$E$2:$E$30)=COLUMN()-2)*('Hors contrat 2020'!$J$2:$J$30)),"")} -> 0 | D8: {=IFERROR(SUMPRODUCT(('Hors contrat 2020'!$F$2:$F$30=$A8)*(YEAR('Hors contrat 2020'!$E$2:$E$30)=YEAR(TODAY()))*(MONTH('Hors contrat 2020'!$E$2:$E$30)=COLUMN()-2)*('Hors contrat 2020'!$J$2:$J$30)),"")} -> 0 | E8: {=IFERROR(SUMPRODUCT(('Hors contrat 2020'!$F$2:$F$30=$A8)*(YEAR('Hors contrat 2020'!$E$2:$E$30)=YEAR(TODAY()))*(MONTH('Hors contrat 2020'!$E$2:$E$30)=COLUMN()-2)*('Hors contrat 2020'!$J$2:$J$30)),"")} -> 0 | F8: {=IFERROR(SUMPRODUCT(('Hors contrat 2020'!$F$2:$F$30=$A8)*(YEAR('Hors contrat 2020'!$E$2:$E$30)=YEAR(TODAY()))*(MONTH('Hors contrat 2020'!$E$2:$E$30)=COLUMN()-2)*('Hors contrat 2020'!$J$2:$J$30)),"")} -> 0 | G8: {=IFERROR(SUMPRODUCT(('Hors contrat 2020'!$F$2:$F$30=$A8)*(YEAR('Hors contrat 2020'!$E$2:$E$30)=YEAR(TODAY()))*(MONTH('Hors contrat 2020'!$E$2:$E$30)=COLUMN()-2)*('Hors contrat 2020'!$J$2:$J$30)),"")} -> 0 | H8: {=IFERROR(SUMPRODUCT(('Hors contrat 2020'!$F$2:$F$30=$A8)*(YEAR('Hors contrat 2020'!$E$2:$E$30)=YEAR(TODAY()))*(MONTH('Hors contrat 2020'!$E$2:$E$30)=COLUMN()-2)*('Hors contrat 2020'!$J$2:$J$30)),"")} -> 0 | I8: {=IFERROR(SUMPRODUCT(('Hors contrat 2020'!$F$2:$F$30=$A8)*(YEAR('Hors contrat 2020'!$E$2:$E$30)=YEAR(TODAY()))*(MONTH('Hors contrat 2020'!$E$2:$E$30)=COLUMN()-2)*('Hors contrat 2020'!$J$2:$J$30)),"")} -> 0 | J8: {=IFERROR(SUMPRODUCT(('Hors contrat 2020'!$F$2:$F$30=$A8)*(YEAR('Hors contrat 2020'!$E$2:$E$30)=YEAR(TODAY()))*(MONTH('Hors contrat 2020'!$E$2:$E$30)=COLUMN()-2)*('Hors contrat 2020'!$J$2:$J$30)),"")} -> 0 | ... N8: {=IFERROR(SUMPRODUCT(('Hors contrat 2020'!$F$2:$F$30=$A8)*(YEAR('Hors contrat 2020'!$E$2:$E$30)=YEAR(TODAY()))*(MONTH('Hors contrat 2020'!$E$2:$E$30)=COLUMN()-2)*('Hors contrat 2020'!$J$2:$J$30)),"")} -> 0 | P8: =SUM(Tableau5[[#This Row],[Janvier]:[Décembre]]) -> 0
A9: PEINTURE/SOL/PLAFOND | C9: {=IFERROR(SUMPRODUCT(('Hors contrat 2020'!$F$2:$F$30=$A9)*(YEAR('Hors contrat 2020'!$E$2:$E$30)=YEAR(TODAY()))*(MONTH('Hors contrat 2020'!$E$2:$E$30)=COLUMN()-2)*('Hors contrat 2020'!$J$2:$J$30)),"")} -> 0 | D9: {=IFERROR(SUMPRODUCT(('Hors contrat 2020'!$F$2:$F$30=$A9)*(YEAR('Hors contrat 2020'!$E$2:$E$30)=YEAR(TODAY()))*(MONTH('Hors contrat 2020'!$E$2:$E$30)=COLUMN()-2)*('Hors contrat 2020'!$J$2:$J$30)),"")} -> 0 | E9: {=IFERROR(SUMPRODUCT(('Hors contrat 2020'!$F$2:$F$30=$A9)*(YEAR('Hors contrat 2020'!$E$2:$E$30)=YEAR(TODAY()))*(MONTH('Hors contrat 2020'!$E$2:$E$30)=COLUMN()-2)*('Hors contrat 2020'!$J$2:$J$30)),"")} -> 0 | F9: {=IFERROR(SUMPRODUCT(('Hors contrat 2020'!$F$2:$F$30=$A9)*(YEAR('Hors contrat 2020'!$E$2:$E$30)=YEAR(TODAY()))*(MONTH('Hors contrat 2020'!$E$2:$E$30)=COLUMN()-2)*('Hors contrat 2020'!$J$2:$J$30)),"")} -> 0 | G9: {=IFERROR(SUMPRODUCT(('Hors contrat 2020'!$F$2:$F$30=$A9)*(YEAR('Hors contrat 2020'!$E$2:$E$30)=YEAR(TODAY()))*(MONTH('Hors contrat 2020'!$E$2:$E$30)=COLUMN()-2)*('Hors contrat 2020'!$J$2:$J$30)),"")} -> 0 | H9: {=IFERROR(SUMPRODUCT(('Hors contrat 2020'!$F$2:$F$30=$A9)*(YEAR('Hors contrat 2020'!$E$2:$E$30)=YEAR(TODAY()))*(MONTH('Hors contrat 2020'!$E$2:$E$30)=COLUMN()-2)*('Hors contrat 2020'!$J$2:$J$30)),"")} -> 0 | I9: {=IFERROR(SUMPRODUCT(('Hors contrat 2020'!$F$2:$F$30=$A9)*(YEAR('Hors contrat 2020'!$E$2:$E$30)=YEAR(TODAY()))*(MONTH('Hors contrat 2020'!$E$2:$E$30)=COLUMN()-2)*('Hors contrat 2020'!$J$2:$J$30)),"")} -> 0 | J9: {=IFERROR(SUMPRODUCT(('Hors contrat 2020'!$F$2:$F$30=$A9)*(YEAR('Hors contrat 2020'!$E$2:$E$30)=YEAR(TODAY()))*(MONTH('Hors contrat 2020'!$E$2:$E$30)=COLUMN()-2)*('Hors contrat 2020'!$J$2:$J$30)),"")} -> 0 | ... N9: {=IFERROR(SUMPRODUCT(('Hors contrat 2020'!$F$2:$F$30=$A9)*(YEAR('Hors contrat 2020'!$E$2:$E$30)=YEAR(TODAY()))*(MONTH('Hors contrat 2020'!$E$2:$E$30)=COLUMN()-2)*('Hors contrat 2020'!$J$2:$J$30)),"")} -> 0 | P9: =SUM(Tableau5[[#This Row],[Janvier]:[Décembre]]) -> 0
A10: PORTE AUTO | C10: {=IFERROR(SUMPRODUCT(('Hors contrat 2020'!$F$2:$F$30=$A10)*(YEAR('Hors contrat 2020'!$E$2:$E$30)=YEAR(TODAY()))*(MONTH('Hors contrat 2020'!$E$2:$E$30)=COLUMN()-2)*('Hors contrat 2020'!$J$2:$J$30)),"")} -> 2167.32 | D10: {=IFERROR(SUMPRODUCT(('Hors contrat 2020'!$F$2:$F$30=$A10)*(YEAR('Hors contrat 2020'!$E$2:$E$30)=YEAR(TODAY()))*(MONTH('Hors contrat 2020'!$E$2:$E$30)=COLUMN()-2)*('Hors contrat 2020'!$J$2:$J$30)),"")} -> 1789.2 | E10: {=IFERROR(SUMPRODUCT(('Hors contrat 2020'!$F$2:$F$30=$A10)*(YEAR('Hors contrat 2020'!$E$2:$E$30)=YEAR(TODAY()))*(MONTH('Hors contrat 2020'!$E$2:$E$30)=COLUMN()-2)*('Hors contrat 2020'!$J$2:$J$30)),"")} -> 423 | F10: {=IFERROR(SUMPRODUCT(('Hors contrat 2020'!$F$2:$F$30=$A10)*(YEAR('Hors contrat 2020'!$E$2:$E$30)=YEAR(TODAY()))*(MONTH('Hors contrat 2020'!$E$2:$E$30)=COLUMN()-2)*('Hors contrat 2020'!$J$2:$J$30)),"")} -> 0 | G10: {=IFERROR(SUMPRODUCT(('Hors contrat 2020'!$F$2:$F$30=$A10)*(YEAR('Hors contrat 2020'!$E$2:$E$30)=YEAR(TODAY()))*(MONTH('Hors contrat 2020'!$E$2:$E$30)=COLUMN()-2)*('Hors contrat 2020'!$J$2:$J$30)),"")} -> 0 | H10: {=IFERROR(SUMPRODUCT(('Hors contrat 2020'!$F$2:$F$30=$A10)*(YEAR('Hors contrat 2020'!$E$2:$E$30)=YEAR(TODAY()))*(MONTH('Hors contrat 2020'!$E$2:$E$30)=COLUMN()-2)*('Hors contrat 2020'!$J$2:$J$30)),"")} -> 0 | I10: {=IFERROR(SUMPRODUCT(('Hors contrat 2020'!$F$2:$F$30=$A10)*(YEAR('Hors contrat 2020'!$E$2:$E$30)=YEAR(TODAY()))*(MONTH('Hors contrat 2020'!$E$2:$E$30)=COLUMN()-2)*('Hors contrat 2020'!$J$2:$J$30)),"")} -> 0 | J10: {=IFERROR(SUMPRODUCT(('Hors contrat 2020'!$F$2:$F$30=$A10)*(YEAR('Hors contrat 2020'!$E$2:$E$30)=YEAR(TODAY()))*(MONTH('Hors contrat 2020'!$E$2:$E$30)=COLUMN()-2)*('Hors contrat 2020'!$J$2:$J$30)),"")} -> 0 | ... N10: {=IFERROR(SUMPRODUCT(('Hors contrat 2020'!$F$2:$F$30=$A10)*(YEAR('Hors contrat 2020'!$E$2:$E$30)=YEAR(TODAY()))*(MONTH('Hors contrat 2020'!$E$2:$E$30)=COLUMN()-2)*('Hors contrat 2020'!$J$2:$J$30)),"")} -> 0 | P10: =SUM(Tableau5[[#This Row],[Janvier]:[Décembre]]) -> 4379.52
A11: SERRURERIE | C11: {=IFERROR(SUMPRODUCT(('Hors contrat 2020'!$F$2:$F$30=$A11)*(YEAR('Hors contrat 2020'!$E$2:$E$30)=YEAR(TODAY()))*(MONTH('Hors contrat 2020'!$E$2:$E$30)=COLUMN()-2)*('Hors contrat 2020'!$J$2:$J$30)),"")} -> 0 | D11: {=IFERROR(SUMPRODUCT(('Hors contrat 2020'!$F$2:$F$30=$A11)*(YEAR('Hors contrat 2020'!$E$2:$E$30)=YEAR(TODAY()))*(MONTH('Hors contrat 2020'!$E$2:$E$30)=COLUMN()-2)*('Hors contrat 2020'!$J$2:$J$30)),"")} -> 0 | E11: {=IFERROR(SUMPRODUCT(('Hors contrat 2020'!$F$2:$F$30=$A11)*(YEAR('Hors contrat 2020'!$E$2:$E$30)=YEAR(TODAY()))*(MONTH('Hors contrat 2020'!$E$2:$E$30)=COLUMN()-2)*('Hors contrat 2020'!$J$2:$J$30)),"")} -> 0 | F11: {=IFERROR(SUMPRODUCT(('Hors contrat 2020'!$F$2:$F$30=$A11)*(YEAR('Hors contrat 2020'!$E$2:$E$30)=YEAR(TODAY()))*(MONTH('Hors contrat 2020'!$E$2:$E$30)=COLUMN()-2)*('Hors contrat 2020'!$J$2:$J$30)),"")} -> 0 | G11: {=IFERROR(SUMPRODUCT(('Hors contrat 2020'!$F$2:$F$30=$A11)*(YEAR('Hors contrat 2020'!$E$2:$E$30)=YEAR(TODAY()))*(MONTH('Hors contrat 2020'!$E$2:$E$30)=COLUMN()-2)*('Hors contrat 2020'!$J$2:$J$30)),"")} -> 0 | H11: {=IFERROR(SUMPRODUCT(('Hors contrat 2020'!$F$2:$F$30=$A11)*(YEAR('Hors contrat 2020'!$E$2:$E$30)=YEAR(TODAY()))*(MONTH('Hors contrat 2020'!$E$2:$E$30)=COLUMN()-2)*('Hors contrat 2020'!$J$2:$J$30)),"")} -> 0 | I11: {=IFERROR(SUMPRODUCT(('Hors contrat 2020'!$F$2:$F$30=$A11)*(YEAR('Hors contrat 2020'!$E$2:$E$30)=YEAR(TODAY()))*(MONTH('Hors contrat 2020'!$E$2:$E$30)=COLUMN()-2)*('Hors contrat 2020'!$J$2:$J$30)),"")} -> 0 | J11: {=IFERROR(SUMPRODUCT(('Hors contrat 2020'!$F$2:$F$30=$A11)*(YEAR('Hors contrat 2020'!$E$2:$E$30)=YEAR(TODAY()))*(MONTH('Hors contrat 2020'!$E$2:$E$30)=COLUMN()-2)*('Hors contrat 2020'!$J$2:$J$30)),"")} -> 0 | ... N11: {=IFERROR(SUMPRODUCT(('Hors contrat 2020'!$F$2:$F$30=$A11)*(YEAR('Hors contrat 2020'!$E$2:$E$30)=YEAR(TODAY()))*(MONTH('Hors contrat 2020'!$E$2:$E$30)=COLUMN()-2)*('Hors contrat 2020'!$J$2:$J$30)),"")} -> 0 | P11: =SUM(Tableau5[[#This Row],[Janvier]:[Décembre]]) -> 0
A12: STORE | C12: {=IFERROR(SUMPRODUCT(('Hors contrat 2020'!$F$2:$F$30=$A12)*(YEAR('Hors contrat 2020'!$E$2:$E$30)=YEAR(TODAY()))*(MONTH('Hors contrat 2020'!$E$2:$E$30)=COLUMN()-2)*('Hors contrat 2020'!$J$2:$J$30)),"")} -> 0 | D12: {=IFERROR(SUMPRODUCT(('Hors contrat 2020'!$F$2:$F$30=$A12)*(YEAR('Hors contrat 2020'!$E$2:$E$30)=YEAR(TODAY()))*(MONTH('Hors contrat 2020'!$E$2:$E$30)=COLUMN()-2)*('Hors contrat 2020'!$J$2:$J$30)),"")} -> 0 | E12: {=IFERROR(SUMPRODUCT(('Hors contrat 2020'!$F$2:$F$30=$A12)*(YEAR('Hors contrat 2020'!$E$2:$E$30)=YEAR(TODAY()))*(MONTH('Hors contrat 2020'!$E$2:$E$30)=COLUMN()-2)*('Hors contrat 2020'!$J$2:$J$30)),"")} -> 0 | F12: {=IFERROR(SUMPRODUCT(('Hors contrat 2020'!$F$2:$F$30=$A12)*(YEAR('Hors contrat 2020'!$E$2:$E$30)=YEAR(TODAY()))*(MONTH('Hors contrat 2020'!$E$2:$E$30)=COLUMN()-2)*('Hors contrat 2020'!$J$2:$J$30)),"")} -> 0 | G12: {=IFERROR(SUMPRODUCT(('Hors contrat 2020'!$F$2:$F$30=$A12)*(YEAR('Hors contrat 2020'!$E$2:$E$30)=YEAR(TODAY()))*(MONTH('Hors contrat 2020'!$E$2:$E$30)=COLUMN()-2)*('Hors contrat 2020'!$J$2:$J$30)),"")} -> 0 | H12: {=IFERROR(SUMPRODUCT(('Hors contrat 2020'!$F$2:$F$30=$A12)*(YEAR('Hors contrat 2020'!$E$2:$E$30)=YEAR(TODAY()))*(MONTH('Hors contrat 2020'!$E$2:$E$30)=COLUMN()-2)*('Hors contrat 2020'!$J$2:$J$30)),"")} -> 0 | I12: {=IFERROR(SUMPRODUCT(('Hors contrat 2020'!$F$2:$F$30=$A12)*(YEAR('Hors contrat 2020'!$E$2:$E$30)=YEAR(TODAY()))*(MONTH('Hors contrat 2020'!$E$2:$E$30)=COLUMN()-2)*('Hors contrat 2020'!$J$2:$J$30)),"")} -> 0 | J12: {=IFERROR(SUMPRODUCT(('Hors contrat 2020'!$F$2:$F$30=$A12)*(YEAR('Hors contrat 2020'!$E$2:$E$30)=YEAR(TODAY()))*(MONTH('Hors contrat 2020'!$E$2:$E$30)=COLUMN()-2)*('Hors contrat 2020'!$J$2:$J$30)),"")} -> 0 | ... N12: {=IFERROR(SUMPRODUCT(('Hors contrat 2020'!$F$2:$F$30=$A12)*(YEAR('Hors contrat 2020'!$E$2:$E$30)=YEAR(TODAY()))*(MONTH('Hors contrat 2020'!$E$2:$E$30)=COLUMN()-2)*('Hors contrat 2020'!$J$2:$J$30)),"")} -> 0 | P12: =SUM(Tableau5[[#This Row],[Janvier]:[Décembre]]) -> 0
A13: TOITURE | C13: {=IFERROR(SUMPRODUCT(('Hors contrat 2020'!$F$2:$F$30=$A13)*(YEAR('Hors contrat 2020'!$E$2:$E$30)=YEAR(TODAY()))*(MONTH('Hors contrat 2020'!$E$2:$E$30)=COLUMN()-2)*('Hors contrat 2020'!$J$2:$J$30)),"")} -> 2198.46 | D13: {=IFERROR(SUMPRODUCT(('Hors contrat 2020'!$F$2:$F$30=$A13)*(YEAR('Hors contrat 2020'!$E$2:$E$30)=YEAR(TODAY()))*(MONTH('Hors contrat 2020'!$E$2:$E$30)=COLUMN()-2)*('Hors contrat 2020'!$J$2:$J$30)),"")} -> 1401.528 | E13: {=IFERROR(SUMPRODUCT(('Hors contrat 2020'!$F$2:$F$30=$A13)*(YEAR('Hors contrat 2020'!$E$2:$E$30)=YEAR(TODAY()))*(MONTH('Hors contrat 2020'!$E$2:$E$30)=COLUMN()-2)*('Hors contrat 2020'!$J$2:$J$30)),"")} -> 0 | F13: {=IFERROR(SUMPRODUCT(('Hors contrat 2020'!$F$2:$F$30=$A13)*(YEAR('Hors contrat 2020'!$E$2:$E$30)=YEAR(TODAY()))*(MONTH('Hors contrat 2020'!$E$2:$E$30)=COLUMN()-2)*('Hors contrat 2020'!$J$2:$J$30)),"")} -> 0 | G13: {=IFERROR(SUMPRODUCT(('Hors contrat 2020'!$F$2:$F$30=$A13)*(YEAR('Hors contrat 2020'!$E$2:$E$30)=YEAR(TODAY()))*(MONTH('Hors contrat 2020'!$E$2:$E$30)=COLUMN()-2)*('Hors contrat 2020'!$J$2:$J$30)),"")} -> 0 | H13: {=IFERROR(SUMPRODUCT(('Hors contrat 2020'!$F$2:$F$30=$A13)*(YEAR('Hors contrat 2020'!$E$2:$E$30)=YEAR(TODAY()))*(MONTH('Hors contrat 2020'!$E$2:$E$30)=COLUMN()-2)*('Hors contrat 2020'!$J$2:$J$30)),"")} -> 0 | I13: {=IFERROR(SUMPRODUCT(('Hors contrat 2020'!$F$2:$F$30=$A13)*(YEAR('Hors contrat 2020'!$E$2:$E$30)=YEAR(TODAY()))*(MONTH('Hors contrat 2020'!$E$2:$E$30)=COLUMN()-2)*('Hors contrat 2020'!$J$2:$J$30)),"")} -> 0 | J13: {=IFERROR(SUMPRODUCT(('Hors contrat 2020'!$F$2:$F$30=$A13)*(YEAR('Hors contrat 2020'!$E$2:$E$30)=YEAR(TODAY()))*(MONTH('Hors contrat 2020'!$E$2:$E$30)=COLUMN()-2)*('Hors contrat 2020'!$J$2:$J$30)),"")} -> 0 | ... N13: {=IFERROR(SUMPRODUCT(('Hors contrat 2020'!$F$2:$F$30=$A13)*(YEAR('Hors contrat 2020'!$E$2:$E$30)=YEAR(TODAY()))*(MONTH('Hors contrat 2020'!$E$2:$E$30)=COLUMN()-2)*('Hors contrat 2020'!$J$2:$J$30)),"")} -> 0 | P13: =SUM(Tableau5[[#This Row],[Janvier]:[Décembre]]) -> 3599.988
A14: PLOMBERIE | C14: {=IFERROR(SUMPRODUCT(('Hors contrat 2020'!$F$2:$F$30=$A14)*(YEAR('Hors contrat 2020'!$E$2:$E$30)=YEAR(TODAY()))*(MONTH('Hors contrat 2020'!$E$2:$E$30)=COLUMN()-2)*('Hors contrat 2020'!$J$2:$J$30)),"")} -> 0 | D14: {=IFERROR(SUMPRODUCT(('Hors contrat 2020'!$F$2:$F$30=$A14)*(YEAR('Hors contrat 2020'!$E$2:$E$30)=YEAR(TODAY()))*(MONTH('Hors contrat 2020'!$E$2:$E$30)=COLUMN()-2)*('Hors contrat 2020'!$J$2:$J$30)),"")} -> 0 | E14: {=IFERROR(SUMPRODUCT(('Hors contrat 2020'!$F$2:$F$30=$A14)*(YEAR('Hors contrat 2020'!$E$2:$E$30)=YEAR(TODAY()))*(MONTH('Hors contrat 2020'!$E$2:$E$30)=COLUMN()-2)*('Hors contrat 2020'!$J$2:$J$30)),"")} -> 530.88 | F14: {=IFERROR(SUMPRODUCT(('Hors contrat 2020'!$F$2:$F$30=$A14)*(YEAR('Hors contrat 2020'!$E$2:$E$30)=YEAR(TODAY()))*(MONTH('Hors contrat 2020'!$E$2:$E$30)=COLUMN()-2)*('Hors contrat 2020'!$J$2:$J$30)),"")} -> 0 | G14: {=IFERROR(SUMPRODUCT(('Hors contrat 2020'!$F$2:$F$30=$A14)*(YEAR('Hors contrat 2020'!$E$2:$E$30)=YEAR(TODAY()))*(MONTH('Hors contrat 2020'!$E$2:$E$30)=COLUMN()-2)*('Hors contrat 2020'!$J$2:$J$30)),"")} -> 0 | H14: {=IFERROR(SUMPRODUCT(('Hors contrat 2020'!$F$2:$F$30=$A14)*(YEAR('Hors contrat 2020'!$E$2:$E$30)=YEAR(TODAY()))*(MONTH('Hors contrat 2020'!$E$2:$E$30)=COLUMN()-2)*('Hors contrat 2020'!$J$2:$J$30)),"")} -> 0 | I14: {=IFERROR(SUMPRODUCT(('Hors contrat 2020'!$F$2:$F$30=$A14)*(YEAR('Hors contrat 2020'!$E$2:$E$30)=YEAR(TODAY()))*(MONTH('Hors contrat 2020'!$E$2:$E$30)=COLUMN()-2)*('Hors contrat 2020'!$J$2:$J$30)),"")} -> 0 | J14: {=IFERROR(SUMPRODUCT(('Hors contrat 2020'!$F$2:$F$30=$A14)*(YEAR('Hors contrat 2020'!$E$2:$E$30)=YEAR(TODAY()))*(MONTH('Hors contrat 2020'!$E$2:$E$30)=COLUMN()-2)*('Hors contrat 2020'!$J$2:$J$30)),"")} -> 0 | ... N14: {=IFERROR(SUMPRODUCT(('Hors contrat 2020'!$F$2:$F$30=$A14)*(YEAR('Hors contrat 2020'!$E$2:$E$30)=YEAR(TODAY()))*(MONTH('Hors contrat 2020'!$E$2:$E$30)=COLUMN()-2)*('Hors contrat 2020'!$J$2:$J$30)),"")} -> 0 | P14: =SUM(Tableau5[[#This Row],[Janvier]:[Décembre]]) -> 530.88
A15: RIDEAU METALLIQUE | C15: {=IFERROR(SUMPRODUCT(('Hors contrat 2020'!$F$2:$F$30=$A15)*(YEAR('Hors contrat 2020'!$E$2:$E$30)=YEAR(TODAY()))*(MONTH('Hors contrat 2020'!$E$2:$E$30)=COLUMN()-2)*('Hors contrat 2020'!$J$2:$J$30)),"")} -> 1812 | D15: {=IFERROR(SUMPRODUCT(('Hors contrat 2020'!$F$2:$F$30=$A15)*(YEAR('Hors contrat 2020'!$E$2:$E$30)=YEAR(TODAY()))*(MONTH('Hors contrat 2020'!$E$2:$E$30)=COLUMN()-2)*('Hors contrat 2020'!$J$2:$J$30)),"")} -> 0 | E15: {=IFERROR(SUMPRODUCT(('Hors contrat 2020'!$F$2:$F$30=$A15)*(YEAR('Hors contrat 2020'!$E$2:$E$30)=YEAR(TODAY()))*(MONTH('Hors contrat 2020'!$E$2:$E$30)=COLUMN()-2)*('Hors contrat 2020'!$J$2:$J$30)),"")} -> 0 | F15: {=IFERROR(SUMPRODUCT(('Hors contrat 2020'!$F$2:$F$30=$A15)*(YEAR('Hors contrat 2020'!$E$2:$E$30)=YEAR(TODAY()))*(MONTH('Hors contrat 2020'!$E$2:$E$30)=COLUMN()-2)*('Hors contrat 2020'!$J$2:$J$30)),"")} -> 0 | G15: {=IFERROR(SUMPRODUCT(('Hors contrat 2020'!$F$2:$F$30=$A15)*(YEAR('Hors contrat 2020'!$E$2:$E$30)=YEAR(TODAY()))*(MONTH('Hors contrat 2020'!$E$2:$E$30)=COLUMN()-2)*('Hors contrat 2020'!$J$2:$J$30)),"")} -> 0 | H15: {=IFERROR(SUMPRODUCT(('Hors contrat 2020'!$F$2:$F$30=$A15)*(YEAR('Hors contrat 2020'!$E$2:$E$30)=YEAR(TODAY()))*(MONTH('Hors contrat 2020'!$E$2:$E$30)=COLUMN()-2)*('Hors contrat 2020'!$J$2:$J$30)),"")} -> 0 | I15: {=IFERROR(SUMPRODUCT(('Hors contrat 2020'!$F$2:$F$30=$A15)*(YEAR('Hors contrat 2020'!$E$2:$E$30)=YEAR(TODAY()))*(MONTH('Hors contrat 2020'!$E$2:$E$30)=COLUMN()-2)*('Hors contrat 2020'!$J$2:$J$30)),"")} -> 0 | J15: {=IFERROR(SUMPRODUCT(('Hors contrat 2020'!$F$2:$F$30=$A15)*(YEAR('Hors contrat 2020'!$E$2:$E$30)=YEAR(TODAY()))*(MONTH('Hors contrat 2020'!$E$2:$E$30)=COLUMN()-2)*('Hors contrat 2020'!$J$2:$J$30)),"")} -> 0 | ... N15: {=IFERROR(SUMPRODUCT(('Hors contrat 2020'!$F$2:$F$30=$A15)*(YEAR('Hors contrat 2020'!$E$2:$E$30)=YEAR(TODAY()))*(MONTH('Hors contrat 2020'!$E$2:$E$30)=COLUMN()-2)*('Hors contrat 2020'!$J$2:$J$30)),"")} -> 0 | P15: =SUM(Tableau5[[#This Row],[Janvier]:[Décembre]]) -> 1812
... A24: SINISTRE VINCI | C24: {=IFERROR(SUMPRODUCT(('Hors contrat 2020'!$F$2:$F$30=$A24)*(YEAR('Hors contrat 2020'!$E$2:$E$30)=YEAR(TODAY()))*(MONTH('Hors contrat 2020'!$E$2:$E$30)=COLUMN()-2)*('Hors contrat 2020'!$J$2:$J$30)),"")} -> 3151.08 | D24: {=IFERROR(SUMPRODUCT(('Hors contrat 2020'!$F$2:$F$30=$A24)*(YEAR('Hors contrat 2020'!$E$2:$E$30)=YEAR(TODAY()))*(MONTH('Hors contrat 2020'!$E$2:$E$30)=COLUMN()-2)*('Hors contrat 2020'!$J$2:$J$30)),"")} -> 0 | E24: {=IFERROR(SUMPRODUCT(('Hors contrat 2020'!$F$2:$F$30=$A24)*(YEAR('Hors contrat 2020'!$E$2:$E$30)=YEAR(TODAY()))*(MONTH('Hors contrat 2020'!$E$2:$E$30)=COLUMN()-2)*('Hors contrat 2020'!$J$2:$J$30)),"")} -> 0 | F24: {=IFERROR(SUMPRODUCT(('Hors contrat 2020'!$F$2:$F$30=$A24)*(YEAR('Hors contrat 2020'!$E$2:$E$30)=YEAR(TODAY()))*(MONTH('Hors contrat 2020'!$E$2:$E$30)=COLUMN()-2)*('Hors contrat 2020'!$J$2:$J$30)),"")} -> 0 | G24: {=IFERROR(SUMPRODUCT(('Hors contrat 2020'!$F$2:$F$30=$A24)*(YEAR('Hors contrat 2020'!$E$2:$E$30)=YEAR(TODAY()))*(MONTH('Hors contrat 2020'!$E$2:$E$30)=COLUMN()-2)*('Hors contrat 2020'!$J$2:$J$30)),"")} -> 0 | H24: {=IFERROR(SUMPRODUCT(('Hors contrat 2020'!$F$2:$F$30=$A24)*(YEAR('Hors contrat 2020'!$E$2:$E$30)=YEAR(TODAY()))*(MONTH('Hors contrat 2020'!$E$2:$E$30)=COLUMN()-2)*('Hors contrat 2020'!$J$2:$J$30)),"")} -> 0 | I24: {=IFERROR(SUMPRODUCT(('Hors contrat 2020'!$F$2:$F$30=$A24)*(YEAR('Hors contrat 2020'!$E$2:$E$30)=YEAR(TODAY()))*(MONTH('Hors contrat 2020'!$E$2:$E$30)=COLUMN()-2)*('Hors contrat 2020'!$J$2:$J$30)),"")} -> 0 | J24: {=IFERROR(SUMPRODUCT(('Hors contrat 2020'!$F$2:$F$30=$A24)*(YEAR('Hors contrat 2020'!$E$2:$E$30)=YEAR(TODAY()))*(MONTH('Hors contrat 2020'!$E$2:$E$30)=COLUMN()-2)*('Hors contrat 2020'!$J$2:$J$30)),"")} -> 0 | ... N24: {=IFERROR(SUMPRODUCT(('Hors contrat 2020'!$F$2:$F$30=$A24)*(YEAR('Hors contrat 2020'!$E$2:$E$30)=YEAR(TODAY()))*(MONTH('Hors contrat 2020'!$E$2:$E$30)=COLUMN()-2)*('Hors contrat 2020'!$J$2:$J$30)),"")} -> 0 | P24: =SUM(Tableau5[[#This Row],[Janvier]:[Décembre]]) -> 3151.08
B25: TOTAL DEPENSE CAISSE FEDERALE | C25: =SUBTOTAL(109,C3:C24) -> 14931.228 | D25: =SUBTOTAL(109,D3:D24) -> 3190.728 | E25: =SUBTOTAL(109,E3:E24) -> 1976.616 | F25: =SUBTOTAL(109,F3:F24) -> 0 | G25: =SUBTOTAL(109,G3:G24) -> 0 | H25: =SUBTOTAL(109,H3:H24) -> 0 | I25: =SUBTOTAL(109,I3:I24) -> 0 | J25: =SUBTOTAL(109,J3:J24) -> 0 | ... N25: =SUBTOTAL(109,N3:N24) -> 0 | P25: =SUM(Tableau5[[#This Row],[Janvier]:[Décembre]]) -> 20098.572 | R25: =SUM(O2-Tableau5[[#This Row],[Total Dépense ]]) -> 159901.43
A26: MAINTENANCE TECHNIQUE | B26: BUDGET SCI | C26: 33333.33 | D26: 33333.33 | E26: 33333.33 | F26: 33333.33 | G26: 33333.33 | H26: 33333.33 | I26: 33333.33 | J26: 33333.33 | K26: 33333.33 | L26: 33333.33 | M26: 33333.33 | N26: 33333.33 | O26: 400000
A27: CVC | P27: =SUM(Tableau5[[#This Row],[Janvier]:[Décembre]]) -> 0 | T27: Libellé de facturation
A28: PORTE AUTO | P28: =SUM(Tableau5[[#This Row],[Janvier]:[Décembre]]) -> 0 | T28: SCI CMN
A29: RIDEAU METALLIQUE | P29: =SUM(Tableau5[[#This Row],[Janvier]:[Décembre]]) -> 0 | T29: SCI CMN 1
A30: TOITURE | P30: =SUM(Tableau5[[#This Row],[Janvier]:[Décembre]]) -> 0 | T30: SCI CMN 2
A31: CURAGE | P31: =SUM(Tableau5[[#This Row],[Janvier]:[Décembre]]) -> 0 | T31: SCI CMN 3
A32: ODEUR | P32: =SUM(Tableau5[[#This Row],[Janvier]:[Décembre]]) -> 0 | T32: BCMNE
A33: PLOMBERIE | P33: =SUM(Tableau5[[#This Row],[Janvier]:[Décembre]]) -> 0 | T33: SCI RICHEBE INKERMAN
A34: MENUISERIE | P34: =SUM(Tableau5[[#This Row],[Janvier]:[Décembre]]) -> 0 | T34: BAIL ACTEA
A35: APPAREIL ELEVATEUR
B36: TOTAL DEPENSE SCI | C36: =SUBTOTAL(109,C27:C35) -> 0 | D36: =SUBTOTAL(109,D27:D35) -> 0 | E36: =SUBTOTAL(109,E27:E35) -> 0 | F36: =SUBTOTAL(109,F27:F35) -> 0 | G36: =SUBTOTAL(109,G27:G35) -> 0 | H36: =SUBTOTAL(109,H27:H35) -> 0 | I36: =SUBTOTAL(109,I27:I35) -> 0 | J36: =SUBTOTAL(109,J27:J35) -> 0 | ... N36: =SUBTOTAL(109,N27:N35) -> 0 | P36: =SUM(Tableau5[[#This Row],[Janvier]:[Décembre]]) -> 0 | R36: =SUM(O26-Tableau5[[#This Row],[Total Dépense ]]) -> 400000
A37: MAINTENANCE TECHNIQUE | B37: BUDGET ENSEIGNE | C37: 7500 | D37: 7500 | E37: 7500 | F37: 7500 | G37: 7500 | H37: 7500 | I37: 7500 | J37: 7500 | K37: 7500 | L37: 7500 | M37: 7500 | N37: 7500 | O37: 90000
A38: ENSEIGNE
B39: DEPENSE ENSEIGNE | C39: =SUBTOTAL(109,C38:C38) -> 0 | D39: =SUBTOTAL(109,D38:D38) -> 0 | E39: =SUBTOTAL(109,E38:E38) -> 0 | F39: =SUBTOTAL(109,F38:F38) -> 0 | G39: =SUBTOTAL(109,G38:G38) -> 0 | H39: =SUBTOTAL(109,H38:H38) -> 0 | I39: =SUBTOTAL(109,I38:I38) -> 0 | J39: =SUBTOTAL(109,J38:J38) -> 0 | ... O39: =SUBTOTAL(109,O38:O38) -> 0 | P39: =SUM(Tableau5[[#This Row],[Janvier]:[Décembre]]) -> 0
A40: DECHETS | B40: BUDGET | C40: 2500 | D40: 2500 | E40: 2500 | F40: 2500 | G40: 2500 | H40: 2500 | I40: 2500 | J40: 2500 | K40: 2500 | L40: 2500 | M40: 2500 | N40: 2500 | O40: 30000
A41: DECHETS
B42: TOTAL DEPENSE DECHETS | C42: =SUBTOTAL(109,C41) -> 0 | D42: =SUBTOTAL(109,D41) -> 0 | E42: =SUBTOTAL(109,E41) -> 0 | F42: =SUBTOTAL(109,F41) -> 0 | G42: =SUBTOTAL(109,G41) -> 0 | H42: =SUBTOTAL(109,H41) -> 0 | I42: =SUBTOTAL(109,I41) -> 0 | J42: =SUBTOTAL(109,J41) -> 0 | ... N42: =SUBTOTAL(109,N41) -> 0 | P42: =SUM(Tableau5[[#This Row],[Janvier]:[Décembre]]) -> 0 | R42: =SUM(O40-Tableau5[[#This Row],[Total Dépense ]]) -> 30000
A43: PROPRETE | B43: BUDGET | C43: 63250 | D43: 63250 | E43: 63250 | F43: 63250 | G43: 63250 | H43: 63250 | I43: 63250 | J43: 63250 | K43: 63250 | L43: 63250 | M43: 63250 | N43: 63250 | O43: 75000
A44: NETTOYAGE
A45: HF ISS
A46: SINISTRE ISS
A47: DIVERS ISS
B48: TOTAL DEPENSE PROPRETE | C48: =SUBTOTAL(109,C44:C47) -> 0 | D48: =SUBTOTAL(109,D44:D47) -> 0 | E48: =SUBTOTAL(109,E44:E47) -> 0 | F48: =SUBTOTAL(109,F44:F47) -> 0 | G48: =SUBTOTAL(109,G44:G47) -> 0 | H48: =SUBTOTAL(109,H44:H47) -> 0 | I48: =SUBTOTAL(109,I44:I47) -> 0 | J48: =SUBTOTAL(109,J44:J47) -> 0 | ... N48: =SUBTOTAL(109,N44:N47) -> 0 | P48: =SUM(Tableau5[[#This Row],[Janvier]:[Décembre]]) -> 0 | R48: =SUM(O43-Tableau5[[#This Row],[Total Dépense ]]) -> 75000
...

Sheet  Suivi contractuel 2020
A1: Prestataire | B1: Entité | C1: Janvier | D1: Février | E1: Mars | F1: Avril | G1: Mai | H1: Juin | I1: Juillet | J1: Août | K1: Septembre | L1: Octobre | M1: Novembre | N1: Décembre | O1: Budget 2019
A2: VINCI | B2: CAISSE FEDERALE | O2: =SUM(Tableau15[[#This Row],[Janvier]:[Décembre]]) -> 0
B3: Validé Piefou
A4: VINCI | B4: SCI | O4: =SUM(Tableau15[[#This Row],[Janvier]:[Décembre]]) -> 0
B5: Validé Piefou
B6: ARRAS CMNE NORMAND INFO VOIX DU NORD | O6: =SUM(Tableau15[[#This Row],[Janvier]:[Décembre]]) -> 0
A8: ISS | B8: CAISSE FEDERALE + Polyvalent | O8: =SUM(Tableau15[[#This Row],[Janvier]:[Décembre]]) -> 0
B9: Validé Piefou
A10: ISS | B10: SCI | O10: =SUM(Tableau15[[#This Row],[Janvier]:[Décembre]]) -> 0
B11: Validé Piefou
A12: ELISE | B12: LILLE | O12: =SUM(Tableau15[[#This Row],[Janvier]:[Décembre]]) -> 0
B13: Validé Piefou
A14: ELISE | B14: COMPIEGNE | O14: =SUM(Tableau15[[#This Row],[Janvier]:[Décembre]]) -> 0
B15: Validé Piefou
A16: ELISE | B16: CHAMPAGNE | O16: =SUM(Tableau15[[#This Row],[Janvier]:[Décembre]]) -> 0
B17: Validé Piefou
A18: IDVERDE | B18: Contrat général + siège | O18: =SUM(Tableau15[[#This Row],[Janvier]:[Décembre]]) -> 0
B19: Validé Piefou
A20: ENGIE | B20: Gaz | O20: =SUM(Tableau15[[#This Row],[Janvier]:[Décembre]]) -> 0
B21: Validé Piefou
A22: DIRECT ENERGIE | B22: facturation globale C5 | O22: =SUM(Tableau15[[#This Row],[Janvier]:[Décembre]]) -> 0
B23: Validé Piefou
A24: DIRECT ENERGIE | B24: Compteur vert Arras C2 C4 | O24: =SUM(Tableau15[[#This Row],[Janvier]:[Décembre]]) -> 0
B25: Validé Piefou
A26: EAU | O26: 100000
O27: =SUBTOTAL(109,Tableau15[Budget 2019]) -> 100000

Sheet Support
A1: Domaine | B1: Libelle de facturation | C1: FOURNISSEUR | D1: TYPE
A2: APPAREIL ELEVATEUR | B2: CCM +NOM DE LA CAISSE | C2: VINCI | D2: FACTURE
A3: CVC | B3: CAISSE FEDERALE | C3: ISS | D3: HF
A4: DIVERS VINCI | B4: SCI CMN | C4: IDVERDE | D4: PENALITE
A5: DIVERS ISS | B5: SCI CMN 1 | C5: ELISE | D5: FICHE EVOLUTION
A6: DIVERS | B6: SCI CMN 2 | C6: PLASTAL | D6: SINISTRE
A7: ELECTRICITE | B7: SCI CMN 3 | C7: CŒUR DES ARBRES | D7: FIOUL
A8: ENSEIGNE | B8: BCMNE | C8: ENGIE (facturation globale) | D8: AVOIR
A9: GTC | B9: SCI RICHEBE INKERMAN | C9: DIRECT ENERGIE (facturation globale)
A10: HF VINCI | B10: BAIL ACTEA | C10: NORD CLIMATISATION
A11: HF ISS | C11: ROGER
A12: MENUISERIE | C12: GREEN OFFICE
A13: PEINTURE/SOL/PLAFOND | C13: CRBS
A14: PORTE AUTO | C14: EURO FUITE DETECTION
A15: SERRURERIE | C15: AUSTRALAIR
A16: SINISTRE VINCI | C16: DALKIA
A17: SINISTRE ISS | C17: DIRECT ENERGIE
A18: STORE | C18: DIRECT ENERGIE VERT
A19: TOITURE | C19: ENGIE
A20: PLOMBERIE | C20: GAZELEC PERONNE
A21: RIDEAU METALLIQUE | C21: THELIA
A22: ESPACES VERTS | C22: IRIS BLEU
... A27: HORS CONTRAT ELEC | C27: LOOS RME ELEC
A28: PORTE SECTIONNELLE / BARRIERE | B28: CAISSE FEDERALE | D28: FACTURE
A29: VITROPHANIE
A30: PMR
A31: TAPIS A LAMES
