Workbook
Name produits: 'liste produit'!$A$2:$A$17

Sheet liste produit
A1: produits
A2: PRODUIT 1
A3: PRODUIT 2
A4: PRODUIT 3
A5: PRODUIT 4
A6: PRODUIT 5
A7: PRODUIT 6
A8: PRODUIT 7
A9: PRODUIT 8
A10: PRODUIT 9
A11: PRODUIT 10
A12: PRODUIT 11
... A17: produit 16

Sheet RAP1
F1: RAPPORT N° | G1: 1
A2: PHASE: | B2: 36 | F2: DATE: | G2: 43766 | Q2: 36
Q3: 26
I4: PRODUITS | J4: initiale | K4: REçU | L4: Utilisé | M4: phase suivante | N4: finale | Q4: 16
I5: PRODUIT 1 | J5: 10 | N5: =+J5+K5-L5-M5 -> 10 | Q5: 12.25
I6: PRODUIT 2 | J6: 20 | N6: =+J6+K6-L6-M6 -> 20 | Q6: 8.5
I7: PRODUIT 3 | J7: 30 | N7: =+J7+K7-L7-M7 -> 30 | Q7: 6
I8: PRODUIT 4 | J8: 40 | N8: =+J8+K8-L8-M8 -> 40 | Q8: 4.75
I9: PRODUIT 5 | J9: 45 | N9: =+J9+K9-L9-M9 -> 45
I10: PRODUIT 6 | J10: 50 | N10: =+J10+K10-L10-M10 -> 50
I11: PRODUIT 7 | J11: 55 | N11: =+J11+K11-L11-M11 -> 55
I12: PRODUIT 8 | J12: 60 | N12: =+J12+K12-L12-M12 -> 60
I13: PRODUIT 9 | J13: 65 | N13: =+J13+K13-L13-M13 -> 65
I14: PRODUIT 10 | J14: 70 | N14: =+J14+K14-L14-M14 -> 70
I15: PRODUIT 11 | J15: 75 | N15: =+J15+K15-L15-M15 -> 75
I16: PRODUIT 12 | J16: 80 | N16: =+J16+K16-L16-M16 -> 80
I17: PRODUIT 13 | J17: 85 | N17: =+J17+K17-L17-M17 -> 85
I18: PRODUIT 14 | J18: 90 | N18: =+J18+K18-L18-M18 -> 90
I19: PRODUIT 15 | J19: 95 | N19: =+J19+K19-L19-M19 -> 95

Sheet RAP2
F1: RAPPORT N° | G1: 2
A2: PHASE: | B2: 36 | F2: DATE: | G2: ='RAP1'!G2+1 -> 43767 | Q2: 36
Q3: 26
I4: PRODUITS | J4: initiale | K4: REçU | L4: Utilisé | M4: phase suivante | N4: finale | Q4: 16
I5: PRODUIT 1 | J5: =IFERROR(VLOOKUP(t_rap2[[#This Row],[PRODUITS]],t_rap1[],6,FALSE),0) -> 10 | N5: =+J5+K5-L5-M5 -> 10 | Q5: 12.25
I6: PRODUIT 2 | J6: =IFERROR(VLOOKUP(t_rap2[[#This Row],[PRODUITS]],t_rap1[],6,FALSE),0) -> 20 | K6: 5 | N6: =+J6+K6-L6-M6 -> 25 | Q6: 8.5
I7: PRODUIT 3 | J7: =IFERROR(VLOOKUP(t_rap2[[#This Row],[PRODUITS]],t_rap1[],6,FALSE),0) -> 30 | L7: 2 | N7: =+J7+K7-L7-M7 -> 28 | Q7: 6
I8: PRODUIT 4 | J8: =IFERROR(VLOOKUP(t_rap2[[#This Row],[PRODUITS]],t_rap1[],6,FALSE),0) -> 40 | N8: =+J8+K8-L8-M8 -> 40 | Q8: 4.75
I9: PRODUIT 5 | J9: =IFERROR(VLOOKUP(t_rap2[[#This Row],[PRODUITS]],t_rap1[],6,FALSE),0) -> 45 | K9: 3 | L9: 4 | N9: =+J9+K9-L9-M9 -> 44
I10: PRODUIT 6 | J10: =IFERROR(VLOOKUP(t_rap2[[#This Row],[PRODUITS]],t_rap1[],6,FALSE),0) -> 50 | N10: =+J10+K10-L10-M10 -> 50
I11: PRODUIT 7 | J11: =IFERROR(VLOOKUP(t_rap2[[#This Row],[PRODUITS]],t_rap1[],6,FALSE),0) -> 55 | L11: 4 | N11: =+J11+K11-L11-M11 -> 51
I12: PRODUIT 8 | J12: =IFERROR(VLOOKUP(t_rap2[[#This Row],[PRODUITS]],t_rap1[],6,FALSE),0) -> 60 | N12: =+J12+K12-L12-M12 -> 60
I13: PRODUIT 9 | J13: =IFERROR(VLOOKUP(t_rap2[[#This Row],[PRODUITS]],t_rap1[],6,FALSE),0) -> 65 | N13: =+J13+K13-L13-M13 -> 65
I14: PRODUIT 10 | J14: =IFERROR(VLOOKUP(t_rap2[[#This Row],[PRODUITS]],t_rap1[],6,FALSE),0) -> 70 | K14: 9 | N14: =+J14+K14-L14-M14 -> 79
I15: PRODUIT 11 | J15: =IFERROR(VLOOKUP(t_rap2[[#This Row],[PRODUITS]],t_rap1[],6,FALSE),0) -> 75 | L15: 5 | N15: =+J15+K15-L15-M15 -> 70
I16: PRODUIT 12 | J16: =IFERROR(VLOOKUP(t_rap2[[#This Row],[PRODUITS]],t_rap1[],6,FALSE),0) -> 80 | N16: =+J16+K16-L16-M16 -> 80
I17: PRODUIT 13 | J17: =IFERROR(VLOOKUP(t_rap2[[#This Row],[PRODUITS]],t_rap1[],6,FALSE),0) -> 85 | N17: =+J17+K17-L17-M17 -> 85
I18: PRODUIT 14 | J18: =IFERROR(VLOOKUP(t_rap2[[#This Row],[PRODUITS]],t_rap1[],6,FALSE),0) -> 90 | N18: =+J18+K18-L18-M18 -> 90
I19: PRODUIT 15 | J19: =IFERROR(VLOOKUP(t_rap2[[#This Row],[PRODUITS]],t_rap1[],6,FALSE),0) -> 95 | N19: =+J19+K19-L19-M19 -> 95

Sheet RAP3
F1: RAPPORT N° | G1: 3
A2: PHASE: | B2: 36 | F2: DATE: | G2: ='RAP2'!G2+1 -> 43768 | Q2: 36
Q3: 26
I4: PRODUITS | J4: initiale | K4: REçU | L4: Utilisé | M4: phase suivante | N4: finale | Q4: 16
I5: PRODUIT 1 | J5: =IFERROR(VLOOKUP(t_rap3[[#This Row],[PRODUITS]],t_rap2[],6,FALSE),0) -> 10 | N5: =+J5+K5-L5-M5 -> 10 | Q5: 12.25
I6: PRODUIT 2 | J6: =IFERROR(VLOOKUP(t_rap3[[#This Row],[PRODUITS]],t_rap2[],6,FALSE),0) -> 25 | N6: =+J6+K6-L6-M6 -> 25 | Q6: 8.5
I7: PRODUIT 3 | J7: =IFERROR(VLOOKUP(t_rap3[[#This Row],[PRODUITS]],t_rap2[],6,FALSE),0) -> 28 | L7: 4 | N7: =+J7+K7-L7-M7 -> 24 | Q7: 6
I8: PRODUIT 4 | J8: =IFERROR(VLOOKUP(t_rap3[[#This Row],[PRODUITS]],t_rap2[],6,FALSE),0) -> 40 | N8: =+J8+K8-L8-M8 -> 40 | Q8: 4.75
I9: PRODUIT 5 | J9: =IFERROR(VLOOKUP(t_rap3[[#This Row],[PRODUITS]],t_rap2[],6,FALSE),0) -> 44 | N9: =+J9+K9-L9-M9 -> 44
I10: PRODUIT 6 | J10: =IFERROR(VLOOKUP(t_rap3[[#This Row],[PRODUITS]],t_rap2[],6,FALSE),0) -> 50 | L10: 6 | N10: =+J10+K10-L10-M10 -> 44
I11: PRODUIT 7 | J11: =IFERROR(VLOOKUP(t_rap3[[#This Row],[PRODUITS]],t_rap2[],6,FALSE),0) -> 51 | N11: =+J11+K11-L11-M11 -> 51
I12: PRODUIT 8 | J12: =IFERROR(VLOOKUP(t_rap3[[#This Row],[PRODUITS]],t_rap2[],6,FALSE),0) -> 60 | N12: =+J12+K12-L12-M12 -> 60
I13: PRODUIT 9 | J13: =IFERROR(VLOOKUP(t_rap3[[#This Row],[PRODUITS]],t_rap2[],6,FALSE),0) -> 65 | N13: =+J13+K13-L13-M13 -> 65
I14: PRODUIT 10 | J14: =IFERROR(VLOOKUP(t_rap3[[#This Row],[PRODUITS]],t_rap2[],6,FALSE),0) -> 79 | N14: =+J14+K14-L14-M14 -> 79
I15: PRODUIT 11 | J15: =IFERROR(VLOOKUP(t_rap3[[#This Row],[PRODUITS]],t_rap2[],6,FALSE),0) -> 70 | N15: =+J15+K15-L15-M15 -> 70
I16: PRODUIT 12 | J16: =IFERROR(VLOOKUP(t_rap3[[#This Row],[PRODUITS]],t_rap2[],6,FALSE),0) -> 80 | N16: =+J16+K16-L16-M16 -> 80
I17: PRODUIT 13 | J17: =IFERROR(VLOOKUP(t_rap3[[#This Row],[PRODUITS]],t_rap2[],6,FALSE),0) -> 85 | N17: =+J17+K17-L17-M17 -> 85
I18: PRODUIT 14 | J18: =IFERROR(VLOOKUP(t_rap3[[#This Row],[PRODUITS]],t_rap2[],6,FALSE),0) -> 90 | L18: 10 | N18: =+J18+K18-L18-M18 -> 80
I19: PRODUIT 15 | J19: =IFERROR(VLOOKUP(t_rap3[[#This Row],[PRODUITS]],t_rap2[],6,FALSE),0) -> 95 | N19: =+J19+K19-L19-M19 -> 95
I20: produit 16 | J20: =IFERROR(VLOOKUP(t_rap3[[#This Row],[PRODUITS]],t_rap2[],6,FALSE),0) -> 0 | N20: =+J20+K20-L20-M20 -> 0

Sheet RAP4
F1: RAPPORT N° | G1: 4
A2: PHASE: | B2: 36 | F2: DATE: | G2: ='RAP3'!G2+1 -> 43769 | Q2: 36
Q3: 26
I4: PRODUITS | J4: initiale | K4: REçU | L4: Utilisé | M4: phase suivante | N4: finale | Q4: 16
I5: PRODUIT 1 | J5: 10 | L5: 5 | N5: =+J5+K5-L5-M5 -> 5 | Q5: 12.25
I6: PRODUIT 2 | J6: 25 | N6: =+J6+K6-L6-M6 -> 25 | Q6: 8.5
I7: PRODUIT 3 | J7: 24 | N7: =+J7+K7-L7-M7 -> 24 | Q7: 6
I8: PRODUIT 4 | J8: 40 | N8: =+J8+K8-L8-M8 -> 40 | Q8: 4.75
I9: PRODUIT 5 | J9: 44 | L9: 3 | N9: =+J9+K9-L9-M9 -> 41
I10: PRODUIT 6 | J10: 44 | N10: =+J10+K10-L10-M10 -> 44
I11: PRODUIT 7 | J11: 51 | L11: 5 | N11: =+J11+K11-L11-M11 -> 46
I12: PRODUIT 8 | J12: 60 | N12: =+J12+K12-L12-M12 -> 60
I13: PRODUIT 9 | J13: 65 | N13: =+J13+K13-L13-M13 -> 65
I14: PRODUIT 10 | J14: 79 | L14: 6 | N14: =+J14+K14-L14-M14 -> 73
I15: PRODUIT 11 | J15: 70 | L15: 5 | N15: =+J15+K15-L15-M15 -> 65
I16: PRODUIT 12 | J16: 80 | N16: =+J16+K16-L16-M16 -> 80
I17: PRODUIT 13 | J17: 85 | N17: =+J17+K17-L17-M17 -> 85
I18: PRODUIT 14 | J18: 80 | N18: =+J18+K18-L18-M18 -> 80
I19: PRODUIT 15 | J19: 95 | N19: =+J19+K19-L19-M19 -> 95

Sheet RAP5
F1: RAPPORT N° | G1: 5
A2: PHASE: | B2: 36 | F2: DATE: | G2: ='RAP4'!G2+1 -> 43770 | Q2: 36
Q3: 26
I4: PRODUITS | J4: initiale | K4: REçU | L4: Utilisé | M4: phase suivante | N4: finale | Q4: 16
I5: PRODUIT 1 | J5: 5 | N5: =+J5+K5-L5-M5 -> 5 | Q5: 12.25
I6: PRODUIT 2 | J6: 25 | N6: =+J6+K6-L6-M6 -> 25 | Q6: 8.5
I7: PRODUIT 3 | J7: 24 | N7: =+J7+K7-L7-M7 -> 24 | Q7: 6
I8: PRODUIT 4 | J8: 40 | N8: =+J8+K8-L8-M8 -> 40 | Q8: 4.75
I9: PRODUIT 5 | J9: 41 | N9: =+J9+K9-L9-M9 -> 41
I10: PRODUIT 6 | J10: 44 | N10: =+J10+K10-L10-M10 -> 44
I11: PRODUIT 7 | J11: 46 | N11: =+J11+K11-L11-M11 -> 46
I12: PRODUIT 8 | J12: 60 | N12: =+J12+K12-L12-M12 -> 60
I13: PRODUIT 9 | J13: 65 | N13: =+J13+K13-L13-M13 -> 65
I14: PRODUIT 10 | J14: 73 | N14: =+J14+K14-L14-M14 -> 73
I15: PRODUIT 11 | J15: 65 | N15: =+J15+K15-L15-M15 -> 65
I16: PRODUIT 12 | J16: 80 | N16: =+J16+K16-L16-M16 -> 80
I17: PRODUIT 13 | J17: 85 | N17: =+J17+K17-L17-M17 -> 85
I18: PRODUIT 14 | J18: 80 | N18: =+J18+K18-L18-M18 -> 80
I19: PRODUIT 15 | J19: 95 | N19: =+J19+K19-L19-M19 -> 95

Sheet RAP6
F1: RAPPORT N° | G1: 6
A2: PHASE: | B2: 36 | F2: DATE: | G2: ='RAP5'!G2+1 -> 43771 | Q2: 36
Q3: 26
I4: PRODUITS | J4: initiale | K4: REçU | L4: Utilisé | M4: phase suivante | N4: finale | Q4: 16
I5: PRODUIT 1 | J5: 5 | N5: =+J5+K5-L5-M5 -> 5 | Q5: 12.25
I6: PRODUIT 2 | J6: 25 | L6: 5 | N6: =+J6+K6-L6-M6 -> 20 | Q6: 8.5
I7: PRODUIT 3 | J7: 24 | N7: =+J7+K7-L7-M7 -> 24 | Q7: 6
I8: PRODUIT 4 | J8: 40 | L8: 30 | N8: =+J8+K8-L8-M8 -> 10 | Q8: 4.75
I9: PRODUIT 5 | J9: 41 | N9: =+J9+K9-L9-M9 -> 41
I10: PRODUIT 6 | J10: 44 | N10: =+J10+K10-L10-M10 -> 44
I11: PRODUIT 7 | J11: 46 | N11: =+J11+K11-L11-M11 -> 46
I12: PRODUIT 8 | J12: 60 | N12: =+J12+K12-L12-M12 -> 60
I13: PRODUIT 9 | J13: 65 | N13: =+J13+K13-L13-M13 -> 65
I14: PRODUIT 10 | J14: 73 | L14: 3 | N14: =+J14+K14-L14-M14 -> 70
I15: PRODUIT 11 | J15: 65 | N15: =+J15+K15-L15-M15 -> 65
I16: PRODUIT 12 | J16: 80 | L16: 40 | N16: =+J16+K16-L16-M16 -> 40
I17: PRODUIT 13 | J17: 85 | N17: =+J17+K17-L17-M17 -> 85
I18: PRODUIT 14 | J18: 80 | N18: =+J18+K18-L18-M18 -> 80
I19: PRODUIT 15 | J19: 95 | N19: =+J19+K19-L19-M19 -> 95

Sheet RAP7
F1: RAPPORT N° | G1: 7
A2: PHASE: | B2: 26 | F2: DATE: | G2: ='RAP6'!G2+1 -> 43772 | Q2: 36
Q3: 26
I4: PRODUITS | J4: initiale | K4: REçU | L4: Utilisé | M4: phase suivante | N4: finale | Q4: 16
I5: PRODUIT 1 | J5: 5 | N5: =+J5+K5-L5-M5 -> 5 | Q5: 12.25
I6: PRODUIT 2 | J6: 20 | N6: =+J6+K6-L6-M6 -> 20 | Q6: 8.5
I7: PRODUIT 3 | J7: 24 | N7: =+J7+K7-L7-M7 -> 24 | Q7: 6
I8: PRODUIT 4 | J8: 10 | N8: =+J8+K8-L8-M8 -> 10 | Q8: 4.75
I9: PRODUIT 5 | J9: 41 | N9: =+J9+K9-L9-M9 -> 41
I10: PRODUIT 6 | J10: 44 | N10: =+J10+K10-L10-M10 -> 44
I11: PRODUIT 7 | J11: 46 | N11: =+J11+K11-L11-M11 -> 46
I12: PRODUIT 8 | J12: 60 | N12: =+J12+K12-L12-M12 -> 60
I13: PRODUIT 9 | J13: 65 | N13: =+J13+K13-L13-M13 -> 65
I14: PRODUIT 10 | J14: 70 | N14: =+J14+K14-L14-M14 -> 70
I15: PRODUIT 11 | J15: 65 | N15: =+J15+K15-L15-M15 -> 65
I16: PRODUIT 12 | J16: 40 | N16: =+J16+K16-L16-M16 -> 40
I17: PRODUIT 13 | J17: 85 | N17: =+J17+K17-L17-M17 -> 85
I18: PRODUIT 14 | J18: 80 | N18: =+J18+K18-L18-M18 -> 80
I19: PRODUIT 15 | J19: 95 | N19: =+J19+K19-L19-M19 -> 95

Sheet RAP8
F1: RAPPORT N° | G1: 8
A2: PHASE: | B2: 26 | F2: DATE: | G2: ='RAP7'!G2+1 -> 43773 | Q2: 36
Q3: 26
I4: PRODUITS | J4: initiale | K4: REçU | L4: Utilisé | M4: phase suivante | N4: finale | Q4: 16
I5: PRODUIT 1 | J5: 5 | N5: =+J5+K5-L5-M5 -> 5 | Q5: 12.25
I6: PRODUIT 2 | J6: 20 | N6: =+J6+K6-L6-M6 -> 20 | Q6: 8.5
I7: PRODUIT 3 | J7: 24 | L7: 4 | N7: =+J7+K7-L7-M7 -> 20 | Q7: 6
I8: PRODUIT 4 | J8: 10 | N8: =+J8+K8-L8-M8 -> 10 | Q8: 4.75
I9: PRODUIT 5 | J9: 41 | N9: =+J9+K9-L9-M9 -> 41
I10: PRODUIT 6 | J10: 44 | L10: 4 | N10: =+J10+K10-L10-M10 -> 40
I11: PRODUIT 7 | J11: 46 | N11: =+J11+K11-L11-M11 -> 46
I12: PRODUIT 8 | J12: 60 | L12: 60 | N12: =+J12+K12-L12-M12 -> 0
I13: PRODUIT 9 | J13: 65 | N13: =+J13+K13-L13-M13 -> 65
I14: PRODUIT 10 | J14: 70 | N14: =+J14+K14-L14-M14 -> 70
I15: PRODUIT 11 | J15: 65 | N15: =+J15+K15-L15-M15 -> 65
I16: PRODUIT 12 | J16: 40 | N16: =+J16+K16-L16-M16 -> 40
I17: PRODUIT 13 | J17: 85 | N17: =+J17+K17-L17-M17 -> 85
I18: PRODUIT 14 | J18: 80 | N18: =+J18+K18-L18-M18 -> 80
I19: PRODUIT 15 | J19: 95 | N19: =+J19+K19-L19-M19 -> 95

Sheet RAP9
F1: RAPPORT N° | G1: 9
A2: PHASE: | B2: 26 | F2: DATE: | G2: ='RAP8'!G2+1 -> 43774 | Q2: 36
Q3: 26
I4: PRODUITS | J4: initiale | K4: REçU | L4: Utilisé | M4: phase suivante | N4: finale | Q4: 16
I5: PRODUIT 1 | J5: 5 | N5: =+J5+K5-L5-M5 -> 5 | Q5: 12.25
I6: PRODUIT 2 | J6: 20 | N6: =+J6+K6-L6-M6 -> 20 | Q6: 8.5
I7: PRODUIT 3 | J7: 20 | N7: =+J7+K7-L7-M7 -> 20 | Q7: 6
I8: PRODUIT 4 | J8: 10 | N8: =+J8+K8-L8-M8 -> 10 | Q8: 4.75
I9: PRODUIT 5 | J9: 41 | N9: =+J9+K9-L9-M9 -> 41
I10: PRODUIT 6 | J10: 40 | N10: =+J10+K10-L10-M10 -> 40
I11: PRODUIT 7 | J11: 46 | N11: =+J11+K11-L11-M11 -> 46
I12: PRODUIT 8 | J12: 0 | N12: =+J12+K12-L12-M12 -> 0
I13: PRODUIT 9 | J13: 65 | N13: =+J13+K13-L13-M13 -> 65
I14: PRODUIT 10 | J14: 70 | N14: =+J14+K14-L14-M14 -> 70
I15: PRODUIT 11 | J15: 65 | N15: =+J15+K15-L15-M15 -> 65
I16: PRODUIT 12 | J16: 40 | N16: =+J16+K16-L16-M16 -> 40
I17: PRODUIT 13 | J17: 85 | N17: =+J17+K17-L17-M17 -> 85
I18: PRODUIT 14 | J18: 80 | N18: =+J18+K18-L18-M18 -> 80
I19: PRODUIT 15 | J19: 95 | N19: =+J19+K19-L19-M19 -> 95

Sheet RAP10
F1: RAPPORT N° | G1: 10
A2: PHASE: | B2: 26 | F2: DATE: | G2: ='RAP9'!G2+1 -> 43775 | Q2: 36
Q3: 26
I4: PRODUITS | J4: initiale | K4: REçU | L4: Utilisé | M4: phase suivante | N4: finale | Q4: 16
I5: PRODUIT 1 | J5: 5 | N5: =+J5+K5-L5-M5 -> 5 | Q5: 12.25
I6: PRODUIT 2 | J6: 20 | N6: =+J6+K6-L6-M6 -> 20 | Q6: 8.5
I7: PRODUIT 3 | J7: 20 | N7: =+J7+K7-L7-M7 -> 20 | Q7: 6
I8: PRODUIT 4 | J8: 10 | N8: =+J8+K8-L8-M8 -> 10 | Q8: 4.75
I9: PRODUIT 5 | J9: 41 | N9: =+J9+K9-L9-M9 -> 41
I10: PRODUIT 6 | J10: 40 | N10: =+J10+K10-L10-M10 -> 40
I11: PRODUIT 7 | J11: 46 | N11: =+J11+K11-L11-M11 -> 46
I12: PRODUIT 8 | J12: 0 | N12: =+J12+K12-L12-M12 -> 0
I13: PRODUIT 9 | J13: 65 | N13: =+J13+K13-L13-M13 -> 65
I14: PRODUIT 10 | J14: 70 | N14: =+J14+K14-L14-M14 -> 70
I15: PRODUIT 11 | J15: 65 | N15: =+J15+K15-L15-M15 -> 65
I16: PRODUIT 12 | J16: 40 | N16: =+J16+K16-L16-M16 -> 40
I17: PRODUIT 13 | J17: 85 | N17: =+J17+K17-L17-M17 -> 85
I18: PRODUIT 14 | J18: 80 | N18: =+J18+K18-L18-M18 -> 80
I19: PRODUIT 15 | J19: 95 | N19: =+J19+K19-L19-M19 -> 95

Sheet RAP11
F1: RAPPORT N° | G1: 11
A2: PHASE: | B2: 26 | F2: DATE: | G2: ='RAP10'!G2+1 -> 43776 | Q2: 36
Q3: 26
I4: PRODUITS | J4: initiale | K4: REçU | L4: Utilisé | M4: phase suivante | N4: finale | Q4: 16
I5: PRODUIT 1 | J5: 5 | N5: =+J5+K5-L5-M5 -> 5 | Q5: 12.25
I6: PRODUIT 2 | J6: 20 | N6: =+J6+K6-L6-M6 -> 20 | Q6: 8.5
I7: PRODUIT 3 | J7: 20 | N7: =+J7+K7-L7-M7 -> 20 | Q7: 6
I8: PRODUIT 4 | J8: 10 | N8: =+J8+K8-L8-M8 -> 10 | Q8: 4.75
I9: PRODUIT 5 | J9: 41 | N9: =+J9+K9-L9-M9 -> 41
I10: PRODUIT 6 | J10: 40 | N10: =+J10+K10-L10-M10 -> 40
I11: PRODUIT 7 | J11: 46 | N11: =+J11+K11-L11-M11 -> 46
I12: PRODUIT 8 | J12: 0 | N12: =+J12+K12-L12-M12 -> 0
I13: PRODUIT 9 | J13: 65 | N13: =+J13+K13-L13-M13 -> 65
I14: PRODUIT 10 | J14: 70 | N14: =+J14+K14-L14-M14 -> 70
I15: PRODUIT 11 | J15: 65 | N15: =+J15+K15-L15-M15 -> 65
I16: PRODUIT 12 | J16: 40 | N16: =+J16+K16-L16-M16 -> 40
I17: PRODUIT 13 | J17: 85 | N17: =+J17+K17-L17-M17 -> 85
I18: PRODUIT 14 | J18: 80 | N18: =+J18+K18-L18-M18 -> 80
I19: PRODUIT 15 | J19: 95 | N19: =+J19+K19-L19-M19 -> 95
