Workbook
Name d_noms: matrice!$A:$A
Name Liste_hotesses: #REF!

Sheet Lundi
A1: =L1 -> 42716 | L1: 42716 | BL1: Pause Matin | BN1: Pause AM
A2: Accueil | I2: 9h | M2: 10h | Q2: 11h | U2: 12h | Y2: 13h | AC2: 14h | AG2: 15h | AK2: 16h | AO2: 17h | AS2: 18h | AW2: 19h | BA2: 20h | BE2: 21h | BI2: 22h | BL2: Début | BM2: Fin | BN2: Début | BO2: Fin
F3: 8h30 | J3: 9h30 | N3: 10h30 | R3: 11h30 | V3: 12h30 | Z3: 13h30 | AD3: 14h30 | AH3: 15h30 | AL3: 16h30 | AP3: 17h30 | AT3: 18h30 | AX3: 19h30 | BF3: 21h30
B4: Matin | D4: Apres-midi | F4: 15 | H4: 45 | J4: 15 | L4: 45 | N4: 15 | P4: 45 | R4: 15 | T4: 45 | V4: 15 | X4: 45 | Z4: 15 | AB4: 45 | AD4: 15 | AF4: 45 | AH4: 15 | AJ4: 45 | AL4: 15 | AN4: 45 | AP4: 15 | AR4: 45 | AT4: 15 | AV4: 45 | AX4: 15 | AZ4: 45 | BD4: 45 | BF4: 15 | BH4: 45
A5: Martin Romain | B5: 0.4375 | C5: 0.625 | D5: 0 | E5: 0 | G5: =IF(G6<B5,"",IF(G6>=C5,"","x")) | H5: =IF(H6<B5,"",IF(H6>=C5,"","x")) | I5: =IF(I6<B5,"",IF(I6>=C5,"","x")) | J5: =IF(J6<B5,"",IF(J6>=C5,"","x")) | K5: =IF(K6<B5,"",IF(K6>=C5,"","x")) | L5: =IF(L6<B5,"",IF(L6>=C5,"","x")) | M5: =IF(M6<B5,"",IF(M6>=C5,"","x")) | N5: =IF(N6<B5,"",IF(N6>=C5,"","x")) | O5: =IF(O6<B5,"",IF(O6>=C5,"","x")) | P5: =IF(P6<B5,"",IF(P6>=C5,"","x")) -> x | Q5: =IF(Q6<B5,"",IF(Q6>=C5,"","x")) -> x | R5: =IF(R6<B5,"",IF(R6>=C5,"","x")) -> x | S5: =IF(S6<B5,"",IF(S6>=C5,"","x")) -> x | T5: =IF(T6<B5,"",IF(T6>=C5,"","x")) -> x | U5: =IF(U6<B5,"",IF(U6>=C5,"","x")) -> x | V5: =IF(V6<B5,"",IF(V6>=C5,"","x")) -> x | W5: =IF(W6<B5,"",IF(W6>=C5,"","x")) -> x | X5: =IF(X6<B5,"",IF(X6>=C5,"","x")) -> x | Y5: =IF(Y6<B5,"",IF(Y6>=C5,"","x")) -> x | Z5: =IF(Z6<B5,"",IF(Z6>=C5,"","x")) -> x | AA5: =IF(AA6<B5,"",IF(AA6>=C5,"","x")) -> x | AB5: =IF(AB6<B5,"",IF(AB6>=C5,"","x")) -> x | AC5: =IF(AC6<B5,"",IF(AC6>=C5,"","x")) -> x | AD5: =IF(AD6<$D$5,"",IF(AD6>=$E$5,"","x")) | AE5: =IF(AE6<$D$5,"",IF(AE6>=$E$5,"","x")) | AF5: =IF(AF6<$D$5,"",IF(AF6>=$E$5,"","x")) | AG5: =IF(AG6<$D$5,"",IF(AG6>=$E$5,"","x")) | AH5: =IF(AH6<$D$5,"",IF(AH6>=$E$5,"","x")) | AI5: =IF(AI6<$D$5,"",IF(AI6>=$E$5,"","x")) | AJ5: =IF(AJ6<$D$5,"",IF(AJ6>=$E$5,"","x")) | AK5: =IF(AK6<$D$5,"",IF(AK6>=$E$5,"","x")) | ... BB5: =IF(BB6<$D$5,"",IF(BB6>=$E$5,"","x")) | BC5: =IF(BC6<$D$29,"",IF(BC6>=$E$29,"","x")) | BD5: =IF(BD6<$D$29,"",IF(BD6>=$E$29,"","x")) | BE5: =IF(BE6<$D$29,"",IF(BE6>=$E$29,"","x")) | BF5: =IF(BF6<$D$29,"",IF(BF6>=$E$29,"","x")) | BG5: =IF(BG6<$D$29,"",IF(BG6>=$E$29,"","x")) | BH5: =IF(BH6<$D$29,"",IF(BH6>=$E$29,"","x")) | BI5: =IF(BI6<$D$29,"",IF(BI6>=$E$29,"","x"))
B6: 0.375 | C6: 0.58333333 | D6: 0.375 | E6: 0.58333333 | F6: 0.33333333 | G6: 0.34375 | H6: 0.35416667 | I6: 0.36458333 | J6: 0.375 | K6: 0.38541667 | L6: 0.39583333 | M6: 0.40625 | N6: 0.41666667 | O6: 0.42708333 | P6: 0.4375 | Q6: 0.44791667 | R6: 0.45833333 | S6: 0.46875 | T6: 0.47916667 | U6: 0.48958333 | V6: 0.5 | W6: 0.51041667 | X6: 0.52083333 | Y6: 0.53125 | Z6: 0.54166667 | AA6: 0.55208333 | AB6: 0.5625 | AC6: 0.57291667 | AD6: 0.58333333 | AE6: 0.59375 | AF6: 0.60416667 | AG6: 0.61458333 | AH6: 0.625 | AI6: 0.63541667 | AJ6: 0.64583333 | AK6: 0.65625 | AL6: 0.66666667 | AM6: 0.67708333 | AN6: 0.6875 | AO6: 0.69791667 | AP6: 0.70833333 | AQ6: 0.71875 | AR6: 0.72916667 | AS6: 0.73958333 | AT6: 0.75 | AU6: 0.76041667 | AV6: 0.77083333 | AW6: 0.78125 | AX6: 0.79166667 | AY6: 0.80208333 | AZ6: 0.8125 | BA6: 0.82291667 | BB6: 0.83333333 | BC6: 0.84375 | BD6: 0.85416667 | BE6: 0.86458333 | BF6: 0.875 | BG6: 0.88541667 | BH6: 0.89583333 | BI6: 0.90625
B8: Matin | D8: Apres-midi | F8: 15 | H8: 45 | J8: 15 | L8: 45 | N8: 15 | P8: 45 | R8: 15 | T8: 45 | V8: 15 | X8: 45 | Z8: 15 | AB8: 45 | AD8: 15 | AF8: 45 | AH8: 15 | AJ8: 45 | AL8: 15 | AN8: 45 | AP8: 15 | AR8: 45 | AT8: 15 | AV8: 45 | AX8: 15 | AZ8: 45 | BD8: 45 | BF8: 15 | BH8: 45

Sheet Mardi
A1: =L1 -> 42717 | L1: =Lundi!L1+1 -> 42717 | BL1: Pause Matin | BN1: Pause AM
A2: Accueil | I2: 9h | M2: 10h | Q2: 11h | U2: 12h | Y2: 13h | AC2: 14h | AG2: 15h | AK2: 16h | AO2: 17h | AS2: 18h | AW2: 19h | BA2: 20h | BE2: 21h | BI2: 22h | BL2: Début | BM2: Fin | BN2: Début | BO2: Fin
F3: 8h30 | J3: 9h30 | N3: 10h30 | R3: 11h30 | V3: 12h30 | Z3: 13h30 | AD3: 14h30 | AH3: 15h30 | AL3: 16h30 | AP3: 17h30 | AT3: 18h30 | AX3: 19h30 | BF3: 21h30
B4: Matin | D4: Apres-midi | F4: 15 | H4: 45 | J4: 15 | L4: 45 | N4: 15 | P4: 45 | R4: 15 | T4: 45 | V4: 15 | X4: 45 | Z4: 15 | AB4: 45 | AD4: 15 | AF4: 45 | AH4: 15 | AJ4: 45 | AL4: 15 | AN4: 45 | AP4: 15 | AR4: 45 | AT4: 15 | AV4: 45 | AX4: 15 | AZ4: 45 | BD4: 45 | BF4: 15 | BH4: 45
A5: Martin romain | B5: 0.44791667 | C5: 0.58333333 | D5: 0.77083333 | E5: 0.9375 | F5: =IF(F8<B5,"",IF(F8>=C5,"","x")) | G5: =IF(G8<B5,"",IF(G8>=C5,"","x")) | H5: =IF(H8<B5,"",IF(H8>=C5,"","x")) | I5: =IF(I8<B5,"",IF(I8>=C5,"","x")) | J5: =IF(J8<B5,"",IF(J8>=C5,"","x")) | K5: =IF(K8<B5,"",IF(K8>=C5,"","x")) | L5: =IF(L8<B5,"",IF(L8>=C5,"","x")) | M5: =IF(M8<B5,"",IF(M8>=C5,"","x")) | N5: =IF(N8<B5,"",IF(N8>=C5,"","x")) | O5: =IF(O8<B5,"",IF(O8>=C5,"","x")) | P5: =IF(P8<B5,"",IF(P8>=C5,"","x")) | Q5: =IF(Q8<B5,"",IF(Q8>=C5,"","x")) -> x | R5: =IF(R8<B5,"",IF(R8>=C5,"","x")) -> x | S5: =IF(S8<B5,"",IF(S8>=C5,"","x")) -> x | T5: =IF(T8<B5,"",IF(T8>=C5,"","x")) -> x | U5: =IF(U8<B5,"",IF(U8>=C5,"","x")) -> x | V5: =IF(V8<B5,"",IF(V8>=C5,"","x")) -> x | W5: =IF(W8<B5,"",IF(W8>=C5,"","x")) -> x | X5: =IF(X8<B5,"",IF(X8>=C5,"","x")) -> x | Y5: =IF(Y8<B5,"",IF(Y8>=C5,"","x")) -> x | Z5: =IF(Z8<B5,"",IF(Z8>=C5,"","x")) -> x | AA5: =IF(AA8<B5,"",IF(AA8>=C5,"","x")) -> x | AB5: =IF(AB8<B5,"",IF(AB8>=C5,"","x")) -> x | AC5: =IF(AC8<B5,"",IF(AC8>=C5,"","x")) -> x | AD5: =IF(AD8<$D$5,"",IF(AD8>=$E$5,"","x")) | AE5: =IF(AE8<$D$5,"",IF(AE8>=$E$5,"","x")) | AF5: =IF(AF8<$D$5,"",IF(AF8>=$E$5,"","x")) | AG5: =IF(AG8<$D$5,"",IF(AG8>=$E$5,"","x")) | AH5: =IF(AH8<$D$5,"",IF(AH8>=$E$5,"","x")) | AI5: =IF(AI8<$D$5,"",IF(AI8>=$E$5,"","x")) | AJ5: =IF(AJ8<$D$5,"",IF(AJ8>=$E$5,"","x")) | AK5: =IF(AK8<$D$5,"",IF(AK8>=$E$5,"","x")) | ... BK5: =IF(BK8<$D$5,"",IF(BK8>=$E$5,"","x"))
B6: 0.375 | C6: 0.58333333 | D6: 0.375 | E6: 0.58333333 | F6: 0.33333333 | G6: 0.34375 | H6: 0.35416667 | I6: 0.36458333 | J6: 0.375 | K6: 0.38541667 | L6: 0.39583333 | M6: 0.40625 | N6: 0.41666667 | O6: 0.42708333 | P6: 0.4375 | Q6: 0.44791667 | R6: 0.45833333 | S6: 0.46875 | T6: 0.47916667 | U6: 0.48958333 | V6: 0.5 | W6: 0.51041667 | X6: 0.52083333 | Y6: 0.53125 | Z6: 0.54166667 | AA6: 0.55208333 | AB6: 0.5625 | AC6: 0.57291667 | AD6: 0.58333333 | AE6: 0.59375 | AF6: 0.60416667 | AG6: 0.61458333 | AH6: 0.625 | AI6: 0.63541667 | AJ6: 0.64583333 | AK6: 0.65625 | AL6: 0.66666667 | AM6: 0.67708333 | AN6: 0.6875 | AO6: 0.69791667 | AP6: 0.70833333 | AQ6: 0.71875 | AR6: 0.72916667 | AS6: 0.73958333 | AT6: 0.75 | AU6: 0.76041667 | AV6: 0.77083333 | AW6: 0.78125 | AX6: 0.79166667 | AY6: 0.80208333 | AZ6: 0.8125 | BA6: 0.82291667 | BB6: 0.83333333 | BC6: 0.84375 | BD6: 0.85416667 | BE6: 0.86458333 | BF6: 0.875 | BG6: 0.88541667 | BH6: 0.89583333 | BI6: 0.90625
B8: 0.375 | C8: 0.58333333 | D8: 0.375 | E8: 0.58333333 | F8: 0.33333333 | G8: 0.34375 | H8: 0.35416667 | I8: 0.36458333 | J8: 0.375 | K8: 0.38541667 | L8: 0.39583333 | M8: 0.40625 | N8: 0.41666667 | O8: 0.42708333 | P8: 0.4375 | Q8: 0.44791667 | R8: 0.45833333 | S8: 0.46875 | T8: 0.47916667 | U8: 0.48958333 | V8: 0.5 | W8: 0.51041667 | X8: 0.52083333 | Y8: 0.53125 | Z8: 0.54166667 | AA8: 0.55208333 | AB8: 0.5625 | AC8: 0.57291667 | AD8: 0.58333333 | AE8: 0.59375 | AF8: 0.60416667 | AG8: 0.61458333 | AH8: 0.625 | AI8: 0.63541667 | AJ8: 0.64583333 | AK8: 0.65625 | AL8: 0.66666667 | AM8: 0.67708333 | AN8: 0.6875 | AO8: 0.69791667 | AP8: 0.70833333 | AQ8: 0.71875 | AR8: 0.72916667 | AS8: 0.73958333 | AT8: 0.75 | AU8: 0.76041667 | AV8: 0.77083333 | AW8: 0.78125 | AX8: 0.79166667 | AY8: 0.80208333 | AZ8: 0.8125 | BA8: 0.82291667 | BB8: 0.83333333 | BC8: 0.84375 | BD8: 0.85416667 | BE8: 0.86458333 | BF8: 0.875 | BG8: 0.88541667 | BH8: 0.89583333 | BI8: 0.90625

Sheet Mercredi
A1: =L1 -> 42718 | L1: =Lundi!L1+2 -> 42718 | BL1: Pause Matin | BN1: Pause AM
A2: Accueil | I2: 9h | M2: 10h | Q2: 11h | U2: 12h | Y2: 13h | AC2: 14h | AG2: 15h | AK2: 16h | AO2: 17h | AS2: 18h | AW2: 19h | BA2: 20h | BE2: 21h | BI2: 22h | BL2: Début | BM2: Fin | BN2: Début | BO2: Fin
F3: 8h30 | J3: 9h30 | N3: 10h30 | R3: 11h30 | V3: 12h30 | Z3: 13h30 | AD3: 14h30 | AH3: 15h30 | AL3: 16h30 | AP3: 17h30 | AT3: 18h30 | AX3: 19h30 | BF3: 21h30
B4: Matin | D4: Apres-midi | F4: 15 | H4: 45 | J4: 15 | L4: 45 | N4: 15 | P4: 45 | R4: 15 | T4: 45 | V4: 15 | X4: 45 | Z4: 15 | AB4: 45 | AD4: 15 | AF4: 45 | AH4: 15 | AJ4: 45 | AL4: 15 | AN4: 45 | AP4: 15 | AR4: 45 | AT4: 15 | AV4: 45 | AX4: 15 | AZ4: 45 | BD4: 45 | BF4: 15 | BH4: 45
A5: Martin romain | F5: =IF(F8<B5,"",IF(F8>=C5,"","x")) | G5: =IF(G8<B5,"",IF(G8>=C5,"","x")) | H5: =IF(H8<B5,"",IF(H8>=C5,"","x")) | I5: =IF(I8<B5,"",IF(I8>=C5,"","x")) | J5: =IF(J8<B5,"",IF(J8>=C5,"","x")) | K5: =IF(K8<B5,"",IF(K8>=C5,"","x")) | L5: =IF(L8<B5,"",IF(L8>=C5,"","x")) | M5: =IF(M8<B5,"",IF(M8>=C5,"","x")) | N5: =IF(N8<B5,"",IF(N8>=C5,"","x")) | O5: =IF(O8<B5,"",IF(O8>=C5,"","x")) | P5: =IF(P8<B5,"",IF(P8>=C5,"","x")) | Q5: =IF(Q8<B5,"",IF(Q8>=C5,"","x")) | R5: =IF(R8<B5,"",IF(R8>=C5,"","x")) | S5: =IF(S8<B5,"",IF(S8>=C5,"","x")) | T5: =IF(T8<B5,"",IF(T8>=C5,"","x")) | U5: =IF(U8<B5,"",IF(U8>=C5,"","x")) | V5: =IF(V8<B5,"",IF(V8>=C5,"","x")) | W5: =IF(W8<B5,"",IF(W8>=C5,"","x")) | X5: =IF(X8<B5,"",IF(X8>=C5,"","x")) | Y5: =IF(Y8<B5,"",IF(Y8>=C5,"","x")) | Z5: =IF(Z8<B5,"",IF(Z8>=C5,"","x")) | AA5: =IF(AA8<B5,"",IF(AA8>=C5,"","x")) | AB5: =IF(AB8<B5,"",IF(AB8>=C5,"","x")) | AC5: =IF(AC8<B5,"",IF(AC8>=C5,"","x")) | AD5: =IF(AD8<$D$5,"",IF(AD8>=$E$5,"","x")) | AE5: =IF(AE8<$D$5,"",IF(AE8>=$E$5,"","x")) | AF5: =IF(AF8<$D$5,"",IF(AF8>=$E$5,"","x")) | AG5: =IF(AG8<$D$5,"",IF(AG8>=$E$5,"","x")) | AH5: =IF(AH8<$D$5,"",IF(AH8>=$E$5,"","x")) | AI5: =IF(AI8<$D$5,"",IF(AI8>=$E$5,"","x")) | AJ5: =IF(AJ8<$D$5,"",IF(AJ8>=$E$5,"","x")) | AK5: =IF(AK8<$D$5,"",IF(AK8>=$E$5,"","x")) | ... BK5: =IF(BK8<$D$5,"",IF(BK8>=$E$5,"","x"))
B6: 0.375 | C6: 0.58333333 | D6: 0.375 | E6: 0.58333333 | F6: 0.33333333 | G6: 0.34375 | H6: 0.35416667 | I6: 0.36458333 | J6: 0.375 | K6: 0.38541667 | L6: 0.39583333 | M6: 0.40625 | N6: 0.41666667 | O6: 0.42708333 | P6: 0.4375 | Q6: 0.44791667 | R6: 0.45833333 | S6: 0.46875 | T6: 0.47916667 | U6: 0.48958333 | V6: 0.5 | W6: 0.51041667 | X6: 0.52083333 | Y6: 0.53125 | Z6: 0.54166667 | AA6: 0.55208333 | AB6: 0.5625 | AC6: 0.57291667 | AD6: 0.58333333 | AE6: 0.59375 | AF6: 0.60416667 | AG6: 0.61458333 | AH6: 0.625 | AI6: 0.63541667 | AJ6: 0.64583333 | AK6: 0.65625 | AL6: 0.66666667 | AM6: 0.67708333 | AN6: 0.6875 | AO6: 0.69791667 | AP6: 0.70833333 | AQ6: 0.71875 | AR6: 0.72916667 | AS6: 0.73958333 | AT6: 0.75 | AU6: 0.76041667 | AV6: 0.77083333 | AW6: 0.78125 | AX6: 0.79166667 | AY6: 0.80208333 | AZ6: 0.8125 | BA6: 0.82291667 | BB6: 0.83333333 | BC6: 0.84375 | BD6: 0.85416667 | BE6: 0.86458333 | BF6: 0.875 | BG6: 0.88541667 | BH6: 0.89583333 | BI6: 0.90625
B8: 0.375 | C8: 0.58333333 | D8: 0.375 | E8: 0.58333333 | F8: 0.33333333 | G8: 0.34375 | H8: 0.35416667 | I8: 0.36458333 | J8: 0.375 | K8: 0.38541667 | L8: 0.39583333 | M8: 0.40625 | N8: 0.41666667 | O8: 0.42708333 | P8: 0.4375 | Q8: 0.44791667 | R8: 0.45833333 | S8: 0.46875 | T8: 0.47916667 | U8: 0.48958333 | V8: 0.5 | W8: 0.51041667 | X8: 0.52083333 | Y8: 0.53125 | Z8: 0.54166667 | AA8: 0.55208333 | AB8: 0.5625 | AC8: 0.57291667 | AD8: 0.58333333 | AE8: 0.59375 | AF8: 0.60416667 | AG8: 0.61458333 | AH8: 0.625 | AI8: 0.63541667 | AJ8: 0.64583333 | AK8: 0.65625 | AL8: 0.66666667 | AM8: 0.67708333 | AN8: 0.6875 | AO8: 0.69791667 | AP8: 0.70833333 | AQ8: 0.71875 | AR8: 0.72916667 | AS8: 0.73958333 | AT8: 0.75 | AU8: 0.76041667 | AV8: 0.77083333 | AW8: 0.78125 | AX8: 0.79166667 | AY8: 0.80208333 | AZ8: 0.8125 | BA8: 0.82291667 | BB8: 0.83333333 | BC8: 0.84375 | BD8: 0.85416667 | BE8: 0.86458333 | BF8: 0.875 | BG8: 0.88541667 | BH8: 0.89583333 | BI8: 0.90625

Sheet Jeudi
A1: =L1 -> 42719 | L1: =Lundi!L1+3 -> 42719 | BL1: Pause Matin | BN1: Pause AM
A2: Accueil | I2: 9h | M2: 10h | Q2: 11h | U2: 12h | Y2: 13h | AC2: 14h | AG2: 15h | AK2: 16h | AO2: 17h | AS2: 18h | AW2: 19h | BA2: 20h | BE2: 21h | BI2: 22h | BL2: Début | BM2: Fin | BN2: Début | BO2: Fin
F3: 8h30 | J3: 9h30 | N3: 10h30 | R3: 11h30 | V3: 12h30 | Z3: 13h30 | AD3: 14h30 | AH3: 15h30 | AL3: 16h30 | AP3: 17h30 | AT3: 18h30 | AX3: 19h30 | BF3: 21h30
B4: Matin | D4: Apres-midi | F4: 15 | H4: 45 | J4: 15 | L4: 45 | N4: 15 | P4: 45 | R4: 15 | T4: 45 | V4: 15 | X4: 45 | Z4: 15 | AB4: 45 | AD4: 15 | AF4: 45 | AH4: 15 | AJ4: 45 | AL4: 15 | AN4: 45 | AP4: 15 | AR4: 45 | AT4: 15 | AV4: 45 | AX4: 15 | AZ4: 45 | BD4: 45 | BF4: 15 | BH4: 45
A5: Martin romain | B5: 0.58333333 | C5: 0.6875 | D5: 0.75 | E5: 0.88541667 | F5: =IF(F8<B5,"",IF(F8>=C5,"","x")) | G5: =IF(G8<B5,"",IF(G8>=C5,"","x")) | H5: =IF(H8<B5,"",IF(H8>=C5,"","x")) | I5: =IF(I8<B5,"",IF(I8>=C5,"","x")) | J5: =IF(J8<B5,"",IF(J8>=C5,"","x")) | K5: =IF(K8<B5,"",IF(K8>=C5,"","x")) | L5: =IF(L8<B5,"",IF(L8>=C5,"","x")) | M5: =IF(M8<B5,"",IF(M8>=C5,"","x")) | N5: =IF(N8<B5,"",IF(N8>=C5,"","x")) | O5: =IF(O8<B5,"",IF(O8>=C5,"","x")) | P5: =IF(P8<B5,"",IF(P8>=C5,"","x")) | Q5: =IF(Q8<B5,"",IF(Q8>=C5,"","x")) | R5: =IF(R8<B5,"",IF(R8>=C5,"","x")) | S5: =IF(S8<B5,"",IF(S8>=C5,"","x")) | T5: =IF(T8<B5,"",IF(T8>=C5,"","x")) | U5: =IF(U8<B5,"",IF(U8>=C5,"","x")) | V5: =IF(V8<B5,"",IF(V8>=C5,"","x")) | W5: =IF(W8<B5,"",IF(W8>=C5,"","x")) | X5: =IF(X8<B5,"",IF(X8>=C5,"","x")) | Y5: =IF(Y8<B5,"",IF(Y8>=C5,"","x")) | Z5: =IF(Z8<B5,"",IF(Z8>=C5,"","x")) | AA5: =IF(AA8<B5,"",IF(AA8>=C5,"","x")) | AB5: =IF(AB8<B5,"",IF(AB8>=C5,"","x")) | AC5: =IF(AC8<B5,"",IF(AC8>=C5,"","x")) | AD5: =IF(AD8<$D$5,"",IF(AD8>=$E$5,"","x")) | AE5: =IF(AE8<$D$5,"",IF(AE8>=$E$5,"","x")) | AF5: =IF(AF8<$D$5,"",IF(AF8>=$E$5,"","x")) | AG5: =IF(AG8<$D$5,"",IF(AG8>=$E$5,"","x")) | AH5: =IF(AH8<$D$5,"",IF(AH8>=$E$5,"","x")) | AI5: =IF(AI8<$D$5,"",IF(AI8>=$E$5,"","x")) | AJ5: =IF(AJ8<$D$5,"",IF(AJ8>=$E$5,"","x")) | AK5: =IF(AK8<$D$5,"",IF(AK8>=$E$5,"","x")) | ... BK5: =IF(BK8<$D$5,"",IF(BK8>=$E$5,"","x"))
B6: 0.375 | C6: 0.58333333 | D6: 0.375 | E6: 0.58333333 | F6: 0.33333333 | G6: 0.34375 | H6: 0.35416667 | I6: 0.36458333 | J6: 0.375 | K6: 0.38541667 | L6: 0.39583333 | M6: 0.40625 | N6: 0.41666667 | O6: 0.42708333 | P6: 0.4375 | Q6: 0.44791667 | R6: 0.45833333 | S6: 0.46875 | T6: 0.47916667 | U6: 0.48958333 | V6: 0.5 | W6: 0.51041667 | X6: 0.52083333 | Y6: 0.53125 | Z6: 0.54166667 | AA6: 0.55208333 | AB6: 0.5625 | AC6: 0.57291667 | AD6: 0.58333333 | AE6: 0.59375 | AF6: 0.60416667 | AG6: 0.61458333 | AH6: 0.625 | AI6: 0.63541667 | AJ6: 0.64583333 | AK6: 0.65625 | AL6: 0.66666667 | AM6: 0.67708333 | AN6: 0.6875 | AO6: 0.69791667 | AP6: 0.70833333 | AQ6: 0.71875 | AR6: 0.72916667 | AS6: 0.73958333 | AT6: 0.75 | AU6: 0.76041667 | AV6: 0.77083333 | AW6: 0.78125 | AX6: 0.79166667 | AY6: 0.80208333 | AZ6: 0.8125 | BA6: 0.82291667 | BB6: 0.83333333 | BC6: 0.84375 | BD6: 0.85416667 | BE6: 0.86458333 | BF6: 0.875 | BG6: 0.88541667 | BH6: 0.89583333 | BI6: 0.90625
B8: 0.375 | C8: 0.58333333 | D8: 0.375 | E8: 0.58333333 | F8: 0.33333333 | G8: 0.34375 | H8: 0.35416667 | I8: 0.36458333 | J8: 0.375 | K8: 0.38541667 | L8: 0.39583333 | M8: 0.40625 | N8: 0.41666667 | O8: 0.42708333 | P8: 0.4375 | Q8: 0.44791667 | R8: 0.45833333 | S8: 0.46875 | T8: 0.47916667 | U8: 0.48958333 | V8: 0.5 | W8: 0.51041667 | X8: 0.52083333 | Y8: 0.53125 | Z8: 0.54166667 | AA8: 0.55208333 | AB8: 0.5625 | AC8: 0.57291667 | AD8: 0.58333333 | AE8: 0.59375 | AF8: 0.60416667 | AG8: 0.61458333 | AH8: 0.625 | AI8: 0.63541667 | AJ8: 0.64583333 | AK8: 0.65625 | AL8: 0.66666667 | AM8: 0.67708333 | AN8: 0.6875 | AO8: 0.69791667 | AP8: 0.70833333 | AQ8: 0.71875 | AR8: 0.72916667 | AS8: 0.73958333 | AT8: 0.75 | AU8: 0.76041667 | AV8: 0.77083333 | AW8: 0.78125 | AX8: 0.79166667 | AY8: 0.80208333 | AZ8: 0.8125 | BA8: 0.82291667 | BB8: 0.83333333 | BC8: 0.84375 | BD8: 0.85416667 | BE8: 0.86458333 | BF8: 0.875 | BG8: 0.88541667 | BH8: 0.89583333 | BI8: 0.90625

Sheet Vendredi
A1: =L1 -> 42720 | L1: =Lundi!L1+4 -> 42720 | BL1: Pause Matin | BN1: Pause AM
A2: Accueil | I2: 9h | M2: 10h | Q2: 11h | U2: 12h | Y2: 13h | AC2: 14h | AG2: 15h | AK2: 16h | AO2: 17h | AS2: 18h | AW2: 19h | BA2: 20h | BE2: 21h | BI2: 22h | BL2: Début | BM2: Fin | BN2: Début | BO2: Fin
F3: 8h30 | J3: 9h30 | N3: 10h30 | R3: 11h30 | V3: 12h30 | Z3: 13h30 | AD3: 14h30 | AH3: 15h30 | AL3: 16h30 | AP3: 17h30 | AT3: 18h30 | AX3: 19h30 | BF3: 21h30
B4: Matin | D4: Apres-midi | F4: 15 | H4: 45 | J4: 15 | L4: 45 | N4: 15 | P4: 45 | R4: 15 | T4: 45 | V4: 15 | X4: 45 | Z4: 15 | AB4: 45 | AD4: 15 | AF4: 45 | AH4: 15 | AJ4: 45 | AL4: 15 | AN4: 45 | AP4: 15 | AR4: 45 | AT4: 15 | AV4: 45 | AX4: 15 | AZ4: 45 | BD4: 45 | BF4: 15 | BH4: 45
A5: Martin romain | B5: 0.47916667 | C5: 0.625 | D5: 0.75 | E5: 0.88541667 | F5: =IF(F6<B5,"",IF(F6>=C5,"","x")) | G5: =IF(G6<B5,"",IF(G6>=C5,"","x")) | H5: =IF(H6<B5,"",IF(H6>=C5,"","x")) | I5: =IF(I6<B5,"",IF(I6>=C5,"","x")) | J5: =IF(J6<B5,"",IF(J6>=C5,"","x")) | K5: =IF(K6<B5,"",IF(K6>=C5,"","x")) | L5: =IF(L6<B5,"",IF(L6>=C5,"","x")) | M5: =IF(M6<B5,"",IF(M6>=C5,"","x")) | N5: =IF(N6<B5,"",IF(N6>=C5,"","x")) | O5: =IF(O6<B5,"",IF(O6>=C5,"","x")) | P5: =IF(P6<B5,"",IF(P6>=C5,"","x")) | Q5: =IF(Q6<B5,"",IF(Q6>=C5,"","x")) | R5: =IF(R6<B5,"",IF(R6>=C5,"","x")) | S5: =IF(S6<B5,"",IF(S6>=C5,"","x")) | T5: =IF(T6<B5,"",IF(T6>=C5,"","x")) | U5: =IF(U6<B5,"",IF(U6>=C5,"","x")) | V5: =IF(V6<B5,"",IF(V6>=C5,"","x")) | W5: =IF(W6<B5,"",IF(W6>=C5,"","x")) | X5: =IF(X6<B5,"",IF(X6>=C5,"","x")) | Y5: =IF(Y6<B5,"",IF(Y6>=C5,"","x")) | Z5: =IF(Z6<B5,"",IF(Z6>=C5,"","x")) | AA5: =IF(AA6<B5,"",IF(AA6>=C5,"","x")) | AB5: =IF(AB6<B5,"",IF(AB6>=C5,"","x")) | AC5: =IF(AC6<B5,"",IF(AC6>=C5,"","x")) | AD5: =IF(AD6<$D$5,"",IF(AD6>=$E$5,"","x")) | AE5: =IF(AE6<$D$5,"",IF(AE6>=$E$5,"","x")) | AF5: =IF(AF6<$D$5,"",IF(AF6>=$E$5,"","x")) | AG5: =IF(AG6<$D$5,"",IF(AG6>=$E$5,"","x")) | AH5: =IF(AH6<$D$5,"",IF(AH6>=$E$5,"","x")) | AI5: =IF(AI6<$D$5,"",IF(AI6>=$E$5,"","x")) | AJ5: =IF(AJ6<$D$5,"",IF(AJ6>=$E$5,"","x")) | AK5: =IF(AK6<$D$5,"",IF(AK6>=$E$5,"","x")) | ... BK5: =IF(BK6<$D$5,"",IF(BK6>=$E$5,"","x"))

Sheet Samedi
A1: =L1 -> 42721 | L1: =Lundi!L1+5 -> 42721 | BL1: Pause Matin | BN1: Pause AM
A2: Accueil | I2: 9h | M2: 10h | Q2: 11h | U2: 12h | Y2: 13h | AC2: 14h | AG2: 15h | AK2: 16h | AO2: 17h | AS2: 18h | AW2: 19h | BA2: 20h | BE2: 21h | BI2: 22h | BL2: Début | BM2: Fin | BN2: Début | BO2: Fin
F3: 8h30 | J3: 9h30 | N3: 10h30 | R3: 11h30 | V3: 12h30 | Z3: 13h30 | AD3: 14h30 | AH3: 15h30 | AL3: 16h30 | AP3: 17h30 | AT3: 18h30 | AX3: 19h30 | BF3: 21h30
B4: Matin | D4: Apres-midi | F4: 15 | H4: 45 | J4: 15 | L4: 45 | N4: 15 | P4: 45 | R4: 15 | T4: 45 | V4: 15 | X4: 45 | Z4: 15 | AB4: 45 | AD4: 15 | AF4: 45 | AH4: 15 | AJ4: 45 | AL4: 15 | AN4: 45 | AP4: 15 | AR4: 45 | AT4: 15 | AV4: 45 | AX4: 15 | AZ4: 45 | BD4: 45 | BF4: 15 | BH4: 45
A5: Martin romain | B5: 0.58333333 | C5: 0.6875 | D5: 0.75 | E5: 0.875 | F5: =IF(F8<B5,"",IF(F8>=C5,"","x")) | G5: =IF(G8<B5,"",IF(G8>=C5,"","x")) | H5: =IF(H8<B5,"",IF(H8>=C5,"","x")) | I5: =IF(I8<B5,"",IF(I8>=C5,"","x")) | J5: =IF(J8<B5,"",IF(J8>=C5,"","x")) | K5: =IF(K8<B5,"",IF(K8>=C5,"","x")) | L5: =IF(L8<B5,"",IF(L8>=C5,"","x")) | M5: =IF(M8<B5,"",IF(M8>=C5,"","x")) | N5: =IF(N8<B5,"",IF(N8>=C5,"","x")) | O5: =IF(O8<B5,"",IF(O8>=C5,"","x")) | P5: =IF(P8<B5,"",IF(P8>=C5,"","x")) | Q5: =IF(Q8<B5,"",IF(Q8>=C5,"","x")) | R5: =IF(R8<B5,"",IF(R8>=C5,"","x")) | S5: =IF(S8<B5,"",IF(S8>=C5,"","x")) | T5: =IF(T8<B5,"",IF(T8>=C5,"","x")) | U5: =IF(U8<B5,"",IF(U8>=C5,"","x")) | V5: =IF(V8<B5,"",IF(V8>=C5,"","x")) | W5: =IF(W8<B5,"",IF(W8>=C5,"","x")) | X5: =IF(X8<B5,"",IF(X8>=C5,"","x")) | Y5: =IF(Y8<B5,"",IF(Y8>=C5,"","x")) | Z5: =IF(Z8<B5,"",IF(Z8>=C5,"","x")) | AA5: =IF(AA8<B5,"",IF(AA8>=C5,"","x")) | AB5: =IF(AB8<B5,"",IF(AB8>=C5,"","x")) | AC5: =IF(AC8<B5,"",IF(AC8>=C5,"","x")) | AD5: =IF(AD8<$D$5,"",IF(AD8>=$E$5,"","x")) | AE5: =IF(AE8<$D$5,"",IF(AE8>=$E$5,"","x")) | AF5: =IF(AF8<$D$5,"",IF(AF8>=$E$5,"","x")) | AG5: =IF(AG8<$D$5,"",IF(AG8>=$E$5,"","x")) | AH5: =IF(AH8<$D$5,"",IF(AH8>=$E$5,"","x")) | AI5: =IF(AI8<$D$5,"",IF(AI8>=$E$5,"","x")) | AJ5: =IF(AJ8<$D$5,"",IF(AJ8>=$E$5,"","x")) | AK5: =IF(AK8<$D$5,"",IF(AK8>=$E$5,"","x")) | ... BK5: =IF(BK8<$D$5,"",IF(BK8>=$E$5,"","x"))
B6: 0.375 | C6: 0.58333333 | D6: 0.375 | E6: 0.58333333 | F6: 0.33333333 | G6: 0.34375 | H6: 0.35416667 | I6: 0.36458333 | J6: 0.375 | K6: 0.38541667 | L6: 0.39583333 | M6: 0.40625 | N6: 0.41666667 | O6: 0.42708333 | P6: 0.4375 | Q6: 0.44791667 | R6: 0.45833333 | S6: 0.46875 | T6: 0.47916667 | U6: 0.48958333 | V6: 0.5 | W6: 0.51041667 | X6: 0.52083333 | Y6: 0.53125 | Z6: 0.54166667 | AA6: 0.55208333 | AB6: 0.5625 | AC6: 0.57291667 | AD6: 0.58333333 | AE6: 0.59375 | AF6: 0.60416667 | AG6: 0.61458333 | AH6: 0.625 | AI6: 0.63541667 | AJ6: 0.64583333 | AK6: 0.65625 | AL6: 0.66666667 | AM6: 0.67708333 | AN6: 0.6875 | AO6: 0.69791667 | AP6: 0.70833333 | AQ6: 0.71875 | AR6: 0.72916667 | AS6: 0.73958333 | AT6: 0.75 | AU6: 0.76041667 | AV6: 0.77083333 | AW6: 0.78125 | AX6: 0.79166667 | AY6: 0.80208333 | AZ6: 0.8125 | BA6: 0.82291667 | BB6: 0.83333333 | BC6: 0.84375 | BD6: 0.85416667 | BE6: 0.86458333 | BF6: 0.875 | BG6: 0.88541667 | BH6: 0.89583333 | BI6: 0.90625
B8: 0.375 | C8: 0.58333333 | D8: 0.375 | E8: 0.58333333 | F8: 0.33333333 | G8: 0.34375 | H8: 0.35416667 | I8: 0.36458333 | J8: 0.375 | K8: 0.38541667 | L8: 0.39583333 | M8: 0.40625 | N8: 0.41666667 | O8: 0.42708333 | P8: 0.4375 | Q8: 0.44791667 | R8: 0.45833333 | S8: 0.46875 | T8: 0.47916667 | U8: 0.48958333 | V8: 0.5 | W8: 0.51041667 | X8: 0.52083333 | Y8: 0.53125 | Z8: 0.54166667 | AA8: 0.55208333 | AB8: 0.5625 | AC8: 0.57291667 | AD8: 0.58333333 | AE8: 0.59375 | AF8: 0.60416667 | AG8: 0.61458333 | AH8: 0.625 | AI8: 0.63541667 | AJ8: 0.64583333 | AK8: 0.65625 | AL8: 0.66666667 | AM8: 0.67708333 | AN8: 0.6875 | AO8: 0.69791667 | AP8: 0.70833333 | AQ8: 0.71875 | AR8: 0.72916667 | AS8: 0.73958333 | AT8: 0.75 | AU8: 0.76041667 | AV8: 0.77083333 | AW8: 0.78125 | AX8: 0.79166667 | AY8: 0.80208333 | AZ8: 0.8125 | BA8: 0.82291667 | BB8: 0.83333333 | BC8: 0.84375 | BD8: 0.85416667 | BE8: 0.86458333 | BF8: 0.875 | BG8: 0.88541667 | BH8: 0.89583333 | BI8: 0.90625

Sheet semaine
A1: Semaine 50 | B1: =Lundi!L1 -> 42716 | F1: au | G1: =B1+5 -> 42721 | J1: Total heure hebdomadaire
A2: HOTESSE | B2: CTT | C2: INFO | D2: LUNDI | E2: MARDI | F2: MERCREDI | G2: JEUDI | H2: VENDREDI | I2: SAMEDI | K2: Heures Supp
A3: Martin romain | B3: 22.5 | C3: Mat | D3: =IF(COUNTIF(INDIRECT(D$2&"!$A$5:$A$96"),OFFSET($A3,MOD(ROW(),2)-1,))=0,0,CHOOSE(MOD(ROW(),2)+1,TEXT(SUMPRODUCT((INDIRECT(D$2&"!$A$5:$A$96")=OFFSET($A3,-1,))*(INDIRECT(D$2&"!D$5:D$96")<>""),INDIRECT(D$2&"!D$5:D$96")),"hh:mm")&CHAR(32)&CHAR(45)&CHAR(32)&TEXT(SUMPRODUCT((INDIRECT(D$2&"!$A$5:$A$96")=OFFSET($A3,-1,))*(INDIRECT(D$2&"!E$5:E$96")<>""),INDIRECT(D$2&"!E$5:E$96")),"hh:mm"),TEXT(SUMPRODUCT((INDIRECT(D$2&"!$A$5:$A$96")=$A3)*(INDIRECT(D$2&"!B$5:B$96")<>""),INDIRECT(D$2&"!B$5:B$96")),"hh:mm")&CHAR(32)&CHAR(45)&CHAR(32)&TEXT(SUMPRODUCT((INDIRECT(D$2&"!$A$5:$A$96")=$A3)*(INDIRECT(D$2&"!C$5:C$96")<>""),INDIRECT(D$2&"!C$5:C$96")),"hh:mm"))) -> 10:30 - 15:00 | E3: =IF(COUNTIF(INDIRECT(E$2&"!$A$5:$A$96"),OFFSET($A3,MOD(ROW(),2)-1,))=0,0,CHOOSE(MOD(ROW(),2)+1,TEXT(SUMPRODUCT((INDIRECT(E$2&"!$A$5:$A$96")=OFFSET($A3,-1,))*(INDIRECT(E$2&"!D$5:D$96")<>""),INDIRECT(E$2&"!D$5:D$96")),"hh:mm")&CHAR(32)&CHAR(45)&CHAR(32)&TEXT(SUMPRODUCT((INDIRECT(E$2&"!$A$5:$A$96")=OFFSET($A3,-1,))*(INDIRECT(E$2&"!E$5:E$96")<>""),INDIRECT(E$2&"!E$5:E$96")),"hh:mm"),TEXT(SUMPRODUCT((INDIRECT(E$2&"!$A$5:$A$96")=$A3)*(INDIRECT(E$2&"!B$5:B$96")<>""),INDIRECT(E$2&"!B$5:B$96")),"hh:mm")&CHAR(32)&CHAR(45)&CHAR(32)&TEXT(SUMPRODUCT((INDIRECT(E$2&"!$A$5:$A$96")=$A3)*(INDIRECT(E$2&"!C$5:C$96")<>""),INDIRECT(E$2&"!C$5:C$96")),"hh:mm"))) -> 10:45 - 14:00 | F3: =IF(COUNTIF(INDIRECT(F$2&"!$A$5:$A$96"),OFFSET($A3,MOD(ROW(),2)-1,))=0,0,CHOOSE(MOD(ROW(),2)+1,TEXT(SUMPRODUCT((INDIRECT(F$2&"!$A$5:$A$96")=OFFSET($A3,-1,))*(INDIRECT(F$2&"!D$5:D$96")<>""),INDIRECT(F$2&"!D$5:D$96")),"hh:mm")&CHAR(32)&CHAR(45)&CHAR(32)&TEXT(SUMPRODUCT((INDIRECT(F$2&"!$A$5:$A$96")=OFFSET($A3,-1,))*(INDIRECT(F$2&"!E$5:E$96")<>""),INDIRECT(F$2&"!E$5:E$96")),"hh:mm"),TEXT(SUMPRODUCT((INDIRECT(F$2&"!$A$5:$A$96")=$A3)*(INDIRECT(F$2&"!B$5:B$96")<>""),INDIRECT(F$2&"!B$5:B$96")),"hh:mm")&CHAR(32)&CHAR(45)&CHAR(32)&TEXT(SUMPRODUCT((INDIRECT(F$2&"!$A$5:$A$96")=$A3)*(INDIRECT(F$2&"!C$5:C$96")<>""),INDIRECT(F$2&"!C$5:C$96")),"hh:mm"))) -> 00:00 - 00:00 | G3: =IF(COUNTIF(INDIRECT(G$2&"!$A$5:$A$96"),OFFSET($A3,MOD(ROW(),2)-1,))=0,0,CHOOSE(MOD(ROW(),2)+1,TEXT(SUMPRODUCT((INDIRECT(G$2&"!$A$5:$A$96")=OFFSET($A3,-1,))*(INDIRECT(G$2&"!D$5:D$96")<>""),INDIRECT(G$2&"!D$5:D$96")),"hh:mm")&CHAR(32)&CHAR(45)&CHAR(32)&TEXT(SUMPRODUCT((INDIRECT(G$2&"!$A$5:$A$96")=OFFSET($A3,-1,))*(INDIRECT(G$2&"!E$5:E$96")<>""),INDIRECT(G$2&"!E$5:E$96")),"hh:mm"),TEXT(SUMPRODUCT((INDIRECT(G$2&"!$A$5:$A$96")=$A3)*(INDIRECT(G$2&"!B$5:B$96")<>""),INDIRECT(G$2&"!B$5:B$96")),"hh:mm")&CHAR(32)&CHAR(45)&CHAR(32)&TEXT(SUMPRODUCT((INDIRECT(G$2&"!$A$5:$A$96")=$A3)*(INDIRECT(G$2&"!C$5:C$96")<>""),INDIRECT(G$2&"!C$5:C$96")),"hh:mm"))) -> 14:00 - 16:30 | H3: =IF(COUNTIF(INDIRECT(H$2&"!$A$5:$A$96"),OFFSET($A3,MOD(ROW(),2)-1,))=0,0,CHOOSE(MOD(ROW(),2)+1,TEXT(SUMPRODUCT((INDIRECT(H$2&"!$A$5:$A$96")=OFFSET($A3,-1,))*(INDIRECT(H$2&"!D$5:D$96")<>""),INDIRECT(H$2&"!D$5:D$96")),"hh:mm")&CHAR(32)&CHAR(45)&CHAR(32)&TEXT(SUMPRODUCT((INDIRECT(H$2&"!$A$5:$A$96")=OFFSET($A3,-1,))*(INDIRECT(H$2&"!E$5:E$96")<>""),INDIRECT(H$2&"!E$5:E$96")),"hh:mm"),TEXT(SUMPRODUCT((INDIRECT(H$2&"!$A$5:$A$96")=$A3)*(INDIRECT(H$2&"!B$5:B$96")<>""),INDIRECT(H$2&"!B$5:B$96")),"hh:mm")&CHAR(32)&CHAR(45)&CHAR(32)&TEXT(SUMPRODUCT((INDIRECT(H$2&"!$A$5:$A$96")=$A3)*(INDIRECT(H$2&"!C$5:C$96")<>""),INDIRECT(H$2&"!C$5:C$96")),"hh:mm"))) -> 11:30 - 15:00 | I3: =IF(COUNTIF(INDIRECT(I$2&"!$A$5:$A$96"),OFFSET($A3,MOD(ROW(),2)-1,))=0,0,CHOOSE(MOD(ROW(),2)+1,TEXT(SUMPRODUCT((INDIRECT(I$2&"!$A$5:$A$96")=OFFSET($A3,-1,))*(INDIRECT(I$2&"!D$5:D$96")<>""),INDIRECT(I$2&"!D$5:D$96")),"hh:mm")&CHAR(32)&CHAR(45)&CHAR(32)&TEXT(SUMPRODUCT((INDIRECT(I$2&"!$A$5:$A$96")=OFFSET($A3,-1,))*(INDIRECT(I$2&"!E$5:E$96")<>""),INDIRECT(I$2&"!E$5:E$96")),"hh:mm"),TEXT(SUMPRODUCT((INDIRECT(I$2&"!$A$5:$A$96")=$A3)*(INDIRECT(I$2&"!B$5:B$96")<>""),INDIRECT(I$2&"!B$5:B$96")),"hh:mm")&CHAR(32)&CHAR(45)&CHAR(32)&TEXT(SUMPRODUCT((INDIRECT(I$2&"!$A$5:$A$96")=$A3)*(INDIRECT(I$2&"!C$5:C$96")<>""),INDIRECT(I$2&"!C$5:C$96")),"hh:mm"))) -> 14:00 - 16:30 | J3: =SUMPRODUCT(((RIGHT($D3:$I3,5)*1)-(LEFT($D3:$I3,5)*1))+((RIGHT($D4:$I4,5)*1)-(LEFT($D4:$I4,5)*1))) -> 1.2395833
C4: A-M | D4: =IF(COUNTIF(INDIRECT(D$2&"!$A$5:$A$96"),OFFSET($A4,MOD(ROW(),2)-1,))=0,0,CHOOSE(MOD(ROW(),2)+1,TEXT(SUMPRODUCT((INDIRECT(D$2&"!$A$5:$A$96")=OFFSET($A4,-1,))*(INDIRECT(D$2&"!D$5:D$96")<>""),INDIRECT(D$2&"!D$5:D$96")),"hh:mm")&CHAR(32)&CHAR(45)&CHAR(32)&TEXT(SUMPRODUCT((INDIRECT(D$2&"!$A$5:$A$96")=OFFSET($A4,-1,))*(INDIRECT(D$2&"!E$5:E$96")<>""),INDIRECT(D$2&"!E$5:E$96")),"hh:mm"),TEXT(SUMPRODUCT((INDIRECT(D$2&"!$A$5:$A$96")=$A4)*(INDIRECT(D$2&"!B$5:B$96")<>""),INDIRECT(D$2&"!B$5:B$96")),"hh:mm")&CHAR(32)&CHAR(45)&CHAR(32)&TEXT(SUMPRODUCT((INDIRECT(D$2&"!$A$5:$A$96")=$A4)*(INDIRECT(D$2&"!C$5:C$96")<>""),INDIRECT(D$2&"!C$5:C$96")),"hh:mm"))) -> 00:00 - 00:00 | E4: =IF(COUNTIF(INDIRECT(E$2&"!$A$5:$A$96"),OFFSET($A4,MOD(ROW(),2)-1,))=0,0,CHOOSE(MOD(ROW(),2)+1,TEXT(SUMPRODUCT((INDIRECT(E$2&"!$A$5:$A$96")=OFFSET($A4,-1,))*(INDIRECT(E$2&"!D$5:D$96")<>""),INDIRECT(E$2&"!D$5:D$96")),"hh:mm")&CHAR(32)&CHAR(45)&CHAR(32)&TEXT(SUMPRODUCT((INDIRECT(E$2&"!$A$5:$A$96")=OFFSET($A4,-1,))*(INDIRECT(E$2&"!E$5:E$96")<>""),INDIRECT(E$2&"!E$5:E$96")),"hh:mm"),TEXT(SUMPRODUCT((INDIRECT(E$2&"!$A$5:$A$96")=$A4)*(INDIRECT(E$2&"!B$5:B$96")<>""),INDIRECT(E$2&"!B$5:B$96")),"hh:mm")&CHAR(32)&CHAR(45)&CHAR(32)&TEXT(SUMPRODUCT((INDIRECT(E$2&"!$A$5:$A$96")=$A4)*(INDIRECT(E$2&"!C$5:C$96")<>""),INDIRECT(E$2&"!C$5:C$96")),"hh:mm"))) -> 18:30 - 22:30 | F4: =IF(COUNTIF(INDIRECT(F$2&"!$A$5:$A$96"),OFFSET($A4,MOD(ROW(),2)-1,))=0,0,CHOOSE(MOD(ROW(),2)+1,TEXT(SUMPRODUCT((INDIRECT(F$2&"!$A$5:$A$96")=OFFSET($A4,-1,))*(INDIRECT(F$2&"!D$5:D$96")<>""),INDIRECT(F$2&"!D$5:D$96")),"hh:mm")&CHAR(32)&CHAR(45)&CHAR(32)&TEXT(SUMPRODUCT((INDIRECT(F$2&"!$A$5:$A$96")=OFFSET($A4,-1,))*(INDIRECT(F$2&"!E$5:E$96")<>""),INDIRECT(F$2&"!E$5:E$96")),"hh:mm"),TEXT(SUMPRODUCT((INDIRECT(F$2&"!$A$5:$A$96")=$A4)*(INDIRECT(F$2&"!B$5:B$96")<>""),INDIRECT(F$2&"!B$5:B$96")),"hh:mm")&CHAR(32)&CHAR(45)&CHAR(32)&TEXT(SUMPRODUCT((INDIRECT(F$2&"!$A$5:$A$96")=$A4)*(INDIRECT(F$2&"!C$5:C$96")<>""),INDIRECT(F$2&"!C$5:C$96")),"hh:mm"))) -> 00:00 - 00:00 | G4: =IF(COUNTIF(INDIRECT(G$2&"!$A$5:$A$96"),OFFSET($A4,MOD(ROW(),2)-1,))=0,0,CHOOSE(MOD(ROW(),2)+1,TEXT(SUMPRODUCT((INDIRECT(G$2&"!$A$5:$A$96")=OFFSET($A4,-1,))*(INDIRECT(G$2&"!D$5:D$96")<>""),INDIRECT(G$2&"!D$5:D$96")),"hh:mm")&CHAR(32)&CHAR(45)&CHAR(32)&TEXT(SUMPRODUCT((INDIRECT(G$2&"!$A$5:$A$96")=OFFSET($A4,-1,))*(INDIRECT(G$2&"!E$5:E$96")<>""),INDIRECT(G$2&"!E$5:E$96")),"hh:mm"),TEXT(SUMPRODUCT((INDIRECT(G$2&"!$A$5:$A$96")=$A4)*(INDIRECT(G$2&"!B$5:B$96")<>""),INDIRECT(G$2&"!B$5:B$96")),"hh:mm")&CHAR(32)&CHAR(45)&CHAR(32)&TEXT(SUMPRODUCT((INDIRECT(G$2&"!$A$5:$A$96")=$A4)*(INDIRECT(G$2&"!C$5:C$96")<>""),INDIRECT(G$2&"!C$5:C$96")),"hh:mm"))) -> 18:00 - 21:15 | H4: =IF(COUNTIF(INDIRECT(H$2&"!$A$5:$A$96"),OFFSET($A4,MOD(ROW(),2)-1,))=0,0,CHOOSE(MOD(ROW(),2)+1,TEXT(SUMPRODUCT((INDIRECT(H$2&"!$A$5:$A$96")=OFFSET($A4,-1,))*(INDIRECT(H$2&"!D$5:D$96")<>""),INDIRECT(H$2&"!D$5:D$96")),"hh:mm")&CHAR(32)&CHAR(45)&CHAR(32)&TEXT(SUMPRODUCT((INDIRECT(H$2&"!$A$5:$A$96")=OFFSET($A4,-1,))*(INDIRECT(H$2&"!E$5:E$96")<>""),INDIRECT(H$2&"!E$5:E$96")),"hh:mm"),TEXT(SUMPRODUCT((INDIRECT(H$2&"!$A$5:$A$96")=$A4)*(INDIRECT(H$2&"!B$5:B$96")<>""),INDIRECT(H$2&"!B$5:B$96")),"hh:mm")&CHAR(32)&CHAR(45)&CHAR(32)&TEXT(SUMPRODUCT((INDIRECT(H$2&"!$A$5:$A$96")=$A4)*(INDIRECT(H$2&"!C$5:C$96")<>""),INDIRECT(H$2&"!C$5:C$96")),"hh:mm"))) -> 18:00 - 21:15 | I4: =IF(COUNTIF(INDIRECT(I$2&"!$A$5:$A$96"),OFFSET($A4,MOD(ROW(),2)-1,))=0,0,CHOOSE(MOD(ROW(),2)+1,TEXT(SUMPRODUCT((INDIRECT(I$2&"!$A$5:$A$96")=OFFSET($A4,-1,))*(INDIRECT(I$2&"!D$5:D$96")<>""),INDIRECT(I$2&"!D$5:D$96")),"hh:mm")&CHAR(32)&CHAR(45)&CHAR(32)&TEXT(SUMPRODUCT((INDIRECT(I$2&"!$A$5:$A$96")=OFFSET($A4,-1,))*(INDIRECT(I$2&"!E$5:E$96")<>""),INDIRECT(I$2&"!E$5:E$96")),"hh:mm"),TEXT(SUMPRODUCT((INDIRECT(I$2&"!$A$5:$A$96")=$A4)*(INDIRECT(I$2&"!B$5:B$96")<>""),INDIRECT(I$2&"!B$5:B$96")),"hh:mm")&CHAR(32)&CHAR(45)&CHAR(32)&TEXT(SUMPRODUCT((INDIRECT(I$2&"!$A$5:$A$96")=$A4)*(INDIRECT(I$2&"!C$5:C$96")<>""),INDIRECT(I$2&"!C$5:C$96")),"hh:mm"))) -> 18:00 - 21:00

Sheet matrice
A1: =semaine!A37 -> 0
A2: =semaine!A41 -> 0
A3: =semaine!A11 -> 0
A4: =semaine!A7 -> 0
A5: =semaine!A13 -> 0
A6: =semaine!A49 -> 0
A7: =semaine!A55 -> 0
A8: =semaine!A45 -> 0
A9: =semaine!A57 -> 0
A10: =semaine!A25 -> 0
A11: =semaine!A3 -> Martin romain
A12: =semaine!A19 -> 0
A13: =semaine!A5 -> 0
A14: =semaine!A27 -> 0
A15: =semaine!A15 -> 0
A16: =semaine!A9 -> 0
A17: =semaine!A47 -> 0
A18: =semaine!A29 -> 0
A19: =semaine!A43 -> 0
A20: =semaine!A21 -> 0
A21: =semaine!A39 -> 0
A22: =semaine!A35 -> 0
A23: =semaine!A23 -> 0
A24: =semaine!A53 -> 0
A25: =semaine!A33 -> 0
A26: =semaine!A31 -> 0
A27: =semaine!A51 -> 0
A28: =semaine!A17 -> 0
