Workbook

Sheet Template
A1: Numéro de compagnie | B1: Organisation | C1: Nom | D1: Adresse | E1: Ville | F1: Province | G1: Pays | H1: Code Postal | I1: Téléphone | J1: courriel | K1: Région | L1: 1.1.1 | M1: 1.1.2 | N1: 1.2 | O1: 1.3 | P1: 1.4 | Q1: 1.5 | R1: 1.6 | S1: 1.7 | T1: 1.8 | U1: 1.9 | V1: 1.10 | W1: 2.1 | X1: 2.2 | Y1: 2.3 | Z1: 2.4 | AA1: 2.5 | AB1: 2.6 | AC1: 2.7 | AD1: 2.8 | AE1: 3.1 | AF1: 3.2 | AG1: 4.1 | AH1: 4.2 | AI1: 5.1 | AJ1: 5.2 | AK1: 6.1 | AL1: 6.2 | AM1: 7 | AN1: 8 | AO1: 9 | AP1: 10 | AQ1: 11.1 | AR1: 11.2 | AS1: 12 | AT1: 13.1 | AU1: 13.2 | AV1: 13.3 | AW1: 13.4 | AX1: 13.5 | AY1: 14.1 | AZ1: 14.2 | BA1: 14.3 | BB1: 15.1 | BC1: 15.1.1 | BD1: 15.2 | BE1: 15.2.1 | BF1: 15.3 | BG1: 15.3.1 | BH1: 15.4 | BI1: 15.4.1 | BJ1: 15.5 | BK1: 15.5.1 | BL1: 15.6 | BM1: 15.7 | BN1: 15.8 | BO1: 15.9 | BP1: 15.10 | BQ1: 16 | BR1: 17.1 | BS1: 17.2
A2: =Data!J4 -> 805 qc | B2: =Data!J5 -> x construction | C2: =Data!J14 -> Turgeon, Jacques | D2: =Data!K6 -> 281 | E2: =LEFT(Data!K7,LEN(Data!K7)-3) -> Otterburn Park | F2: QC | G2: =LEFT(Data!K8,6) -> Canada | H2: =RIGHT(Data!K8,7) -> J3H 1R5 | I2: =Data!K11 -> 450-555-5555 | J2: =Data!K10 -> info@blabla.com | K2: Montérégie | L2: =COUNTIF(Data!$J$26:$J$100,Template!L1) -> 0 | M2: =COUNTIF(Data!$J$26:$J$100,Template!M1) -> 0 | N2: =COUNTIF(Data!$J$26:$J$100,Template!N1) -> 0 | O2: =COUNTIF(Data!$J$26:$J$100,Template!O1) -> 0 | P2: =COUNTIF(Data!$J$26:$J$100,Template!P1) -> 0 | Q2: =COUNTIF(Data!$J$26:$J$100,Template!Q1) -> 0 | R2: =COUNTIF(Data!$J$26:$J$100,Template!R1) -> 0 | S2: =COUNTIF(Data!$J$26:$J$100,Template!S1) -> 0 | ... BS2: =COUNTIF(Data!$J$26:$J$100,Template!BS1) -> 1
A3: =Data!N4 -> 731 Québec Inc. | B3: =Data!N5 -> MBF
A4: =Data!R4 -> 0096 Quebec Inc.
A5: =Data!V4 -> 6467 Québec inc.
A6: …
A7: …
A8: …
A9: …
A10: …
A11: …
A12: …
A13: …
A14: …
A15: …
A16: …
A17: …
... A21: …

Sheet Data
B1: Numéro CIE à la main | C1: Numéro CIE DÉCALER | D1: Organisation DÉC | E1: Nom DÉC | F1: Nom à la main | H1: CP | I1: Ville | J1: Numéro de licence | K1: Émise le : | L1: 32575 | N1: Numéro de licence : 2636-2731-89 | O1: Émise le : | P1: 32638 | R1: Numéro de licence : 2753-0096-69 | S1: Émise le : | T1: 40806 | V1: Numéro de licence : 2967-6467-88 | W1: Émise le : | X1: 34129 | Z1: Numéro de licence : 5637-1172-01 | AA1: Émise le : | AB1: 41179 | AD1: Numéro de licence | AE1: Émise le : | AF1: 41179 | AH1: Numéro de licence | AI1: Émise le : | AJ1: 36374 | AL1: Numéro de licence | AM1: Émise le : | AN1: 35928 | AP1: Numéro de licence | AQ1: Émise le : | AR1: 38372 | AT1: Numéro de licence | AU1: Émise le : | AV1: 35929 | AX1: Numéro de licence | AY1: Émise le : | AZ1: 36046 | BB1: Numéro de licence | BC1: Émise le : | BD1: 39386 | BF1: Numéro de licence | BG1: Émise le : | BH1: 37524 | BJ1: Numéro de licence | BK1: Émise le : | BL1: 37964 | BN1: Numéro de licence | BO1: Émise le : | BP1: 37722
B2: =($J$4) -> 805 qc | C2: =OFFSET($J$4,,(ROW()-2)*4,,) -> 805 qc | D2: =OFFSET($J$5,,(ROW()-2)*4,,) -> x construction | E2: =OFFSET($J$14,,(ROW()-2)*4,,) -> Turgeon, Jacques | F2: =J4 -> 805 qc | H2: =RIGHT(K8,7) -> J3H 1R5 | I2: =LEFT(K7,LEN(K7)-3) -> Otterburn Park | K2: Échéance annuelle de paiement : | L2: 42665 | O2: Échéance annuelle de paiement : | P2: 42505 | S2: Échéance annuelle de paiement : | T2: 42633 | W2: Échéance annuelle de paiement : | X2: 42613 | AA2: Échéance annuelle de paiement : | AB2: 42640 | AE2: Échéance annuelle de paiement : | AF2: 42640 | AI2: Échéance annuelle de paiement : | AJ2: 42559 | AM2: Échéance annuelle de paiement : | AN2: 42508 | AQ2: Échéance annuelle de paiement : | AR2: 42388 | AU2: Échéance annuelle de paiement : | AV2: 42503 | AY2: Échéance annuelle de paiement : | AZ2: 42620 | BC2: Échéance annuelle de paiement : | BD2: 42673 | BG2: Échéance annuelle de paiement : | BH2: 42637 | BK2: Échéance annuelle de paiement : | BL2: 42712 | BO2: Échéance annuelle de paiement : | BP2: 42470
B3: =OFFSET($J$4,,4,,) -> 731 Québec Inc. | C3: =OFFSET($J$4,,(ROW()-2)*4,,) -> 731 Québec Inc. | D3: =OFFSET($J$5,,(ROW()-2)*4,,) -> MBF | E3: =OFFSET($J$14,,(ROW()-2)*4,,) -> Boucher, Daniel | F3: =#REF! -> #REF! | J3: TITULAIRE DE LA LICENCE | N3: TITULAIRE DE LA LICENCE | R3: TITULAIRE DE LA LICENCE | V3: TITULAIRE DE LA LICENCE | Z3: TITULAIRE DE LA LICENCE | AD3: TITULAIRE DE LA LICENCE | AH3: TITULAIRE DE LA LICENCE | AL3: TITULAIRE DE LA LICENCE | AP3: TITULAIRE DE LA LICENCE | AT3: TITULAIRE DE LA LICENCE | AX3: TITULAIRE DE LA LICENCE | BB3: TITULAIRE DE LA LICENCE | BF3: TITULAIRE DE LA LICENCE | BJ3: TITULAIRE DE LA LICENCE | BN3: TITULAIRE DE LA LICENCE
A4: Numéro Compagnie | B4: =OFFSET($J$4,,8,,) -> 0096 Quebec Inc. | C4: =OFFSET($J$4,,(ROW()-2)*4,,) -> 0096 Quebec Inc. | D4: =OFFSET($J$5,,(ROW()-2)*4,,) -> n Gendron | E4: =OFFSET($J$14,,(ROW()-2)*4,,) -> Gendron, Rejean | J4: 805 qc | N4: 731 Québec Inc. | R4: 0096 Quebec Inc. | V4: 6467 Québec inc. | Z4: 1281 Canada inc | AD4: 81 WW | AH4: 910 qc | AL4: 8785 Qc | AP4: 861 Qué | AT4: 119 Qué | AX4: 320 Québec Inc. | BB4: 6791 Québec inc. | BF4: 4220 Québec Inc. | BJ4: 4146 Québec Inc. | BN4: 0181 Québec Inc.
A5: Nom Compagnie | B5: =OFFSET($J$4,,12,,) -> 6467 Québec inc. | C5: =OFFSET($J$4,,(ROW()-2)*4,,) -> 6467 Québec inc. | D5: =OFFSET($J$5,,(ROW()-2)*4,,) -> J. électrique | E5: =OFFSET($J$14,,(ROW()-2)*4,,) -> Jalbert, Monique | J5: x construction | N5: MBF | R5: n Gendron | V5: J. électrique | Z5: Adresse : | AA5: 168 rue Highfield | AL5: Construction Ron | AP5: Les maisons M. | AT5: G.P.R. | AX5: J.R.C. | BB5: F.C. | BF5: Richelois | BN5: Systèmes Intérieurs S. M.
A6: Adresse # | B6: =OFFSET($J$4,,16,,) -> 1281 Canada inc | C6: =OFFSET($J$4,,(ROW()-2)*4,,) -> 1281 Canada inc | D6: =OFFSET($J$5,,(ROW()-2)*4,,) -> Adresse : | E6: =OFFSET($J$14,,(ROW()-2)*4,,) -> 0 | J6: Adresse : | K6: 281 | N6: Adresse : | O6: 259 | P6: =OFFSET(Data!J5,,4,,) -> MBF | R6: Adresse : | S6: 430 | V6: Adresse : | W6: 469 | AA6: Mont-Saint-Hilaire QC | AD6: Adresse : | AE6: 168 | AH6: Clôture Aérée | AI6: 980 | AL6: Adresse : | AM6: 584 | AP6: Adresse : | AQ6: 133 | AT6: Adresse : | AU6: 150 | AX6: Adresse : | AY6: 860 | BB6: Adresse : | BC6: 129 | BF6: Adresse : | BG6: 1056 | BJ6: Adresse : | BK6: 207 | BN6: Adresse : | BO6: 611
A7: Adresse Ville | B7: =OFFSET($J$4,,20,,) -> 81 WW | C7: =OFFSET($J$4,,(ROW()-2)*4,,) -> 81 WW | D7: =OFFSET($J$5,,(ROW()-2)*4,,) -> 0 | E7: =OFFSET($J$14,,(ROW()-2)*4,,) -> Sylvain, Denis | K7: Otterburn Park QC | O7: Otterburn Park QC | S7: Otterburn Park QC | W7: Otterburn Park QC | AA7: Canada J3H 3W4 | AE7: Mont-Saint-Hilaire QC | AH7: Adresse : | AI7: Mont-Saint-Hilaire QC | AM7: Mont-Saint-Hilaire QC | AQ7: Mont-Saint-Hilaire QC | AU7: Mont-Saint-Hilaire QC | AY7: Mont-Saint-Hilaire QC | BC7: Mont-Saint-Hilaire QC | BG7: Otterburn Park QC | BK7: Mont-Saint-Hilaire QC | BO7: Mont-Saint-Hilaire QC
A8: Adresse CP | B8: =OFFSET($J$4,,24,,) -> 910 qc | C8: =OFFSET($J$4,,(ROW()-2)*4,,) -> 910 qc | D8: =OFFSET($J$5,,(ROW()-2)*4,,) -> 0 | E8: =OFFSET($J$14,,(ROW()-2)*4,,) -> Nom | K8: Canada J3H 1R5 | O8: Canada J3H 5P4 | S8: Canada J3H 4J5 | W8: Canada J3H 5R2 | AE8: Canada J3H 3W4 | AI8: Canada J3H 0N6 | AM8: Canada J3H 0M8 | AQ8: Canada J3H 6L9 | AU8: Canada J3H 3R3 | AY8: Canada J3H 5M4 | BC8: Canada J3H 6L9 | BG8: Canada J3H 5S2 | BK8: Canada J3H 0B3 | BO8: Canada J3H 3E6
B9: =OFFSET($J$4,,28,,) -> 8785 Qc | C9: =OFFSET($J$4,,(ROW()-2)*4,,) -> 8785 Qc | D9: =OFFSET($J$5,,(ROW()-2)*4,,) -> Construction Ron | E9: =OFFSET($J$14,,(ROW()-2)*4,,) -> Quilliam, Ronny | AA9: denisylvain@videotron.ca
A10: Courriel | B10: =OFFSET($J$4,,32,) -> 861 Qué | C10: =OFFSET($J$4,,(ROW()-2)*4,,) -> 861 Qué | D10: =OFFSET($J$5,,(ROW()-2)*4,,) -> Les maisons M. | E10: =OFFSET($J$14,,(ROW()-2)*4,,) -> Poitras Beaudoin, Steve | K10: info@blabla.com | O10: alain@groupebbc.com | S10: escaliers@videotron.ca | W10: rmjelectrique@gmail.com | AA10: 514 294-5445 | AE10: info@aaa.com | AM10: ro@hotmail.com | AU10: gprelec@videotron.ca | AY10: jrconstrucinc@outlook.com | BC10: info@coffragefc.ca | BK10: info@444.com | BO10: info@eee.com
A11: Compagnie Tél | B11: =OFFSET($J$4,,36,) -> 119 Qué | C11: =OFFSET($J$4,,(ROW()-2)*4,,) -> 119 Qué | D11: =OFFSET($J$5,,(ROW()-2)*4,,) -> G.P.R. | E11: =OFFSET($J$14,,(ROW()-2)*4,,) -> Rossignol, Patrick | K11: 450-555-5555 | O11: 450 464-3238 | S11: 514 953-5476 | W11: 450 464-1111 | Z11: RÉPONDANT | AE11: 514-555-5555 | AI11: 450 555-2222 | AM11: 514 238-5555 | AQ11: 514 444-4444 | AU11: 450 555-5555 | AY11: 450 555-5555 | BC11: 450 555-5555 | BG11: 450 555-5555 | BK11: 450 555-5555 | BO11: 450 555-5555
B12: =OFFSET($J$4,,40,) -> 320 Québec Inc. | C12: =OFFSET($J$4,,(ROW()-2)*4,,) -> 320 Québec Inc. | D12: =OFFSET($J$5,,(ROW()-2)*4,,) -> J.R.C. | E12: =OFFSET($J$14,,(ROW()-2)*4,,) -> Bergeron, Alexandre | J12: RÉPONDANT | N12: RÉPONDANT | R12: RÉPONDANT | V12: RÉPONDANT | Z12: Nom | AA12: Adresse | AB12: Domaine de qualification A=Administration, S=Gestion de la sécurité, G=Gestion de projets et de chantiers, C=Exécution de travaux de construction | AD12: RÉPONDANT | AL12: RÉPONDANT | AP12: RÉPONDANT | AT12: RÉPONDANT | AX12: RÉPONDANT | BB12: RÉPONDANT | BF12: RÉPONDANT | BJ12: RÉPONDANT | BN12: RÉPONDANT
B13: =OFFSET($J$4,,44,) -> 6791 Québec inc. | C13: =OFFSET($J$4,,(ROW()-2)*4,,) -> 6791 Québec inc. | D13: =OFFSET($J$5,,(ROW()-2)*4,,) -> F.C. | E13: =OFFSET($J$14,,(ROW()-2)*4,,) -> Constant, François | J13: Nom | K13: Adresse | L13: Domaine de qualification A=Administration, S=Gestion de la sécurité, G=Gestion de projets et de chantiers, C=Exécution de travaux de construction | N13: Nom | O13: Adresse | P13: Domaine de qualification A=Administration, S=Gestion de la sécurité, G=Gestion de projets et de chantiers, C=Exécution de travaux de construction | R13: Nom | S13: Adresse | T13: Domaine de qualification A=Administration, S=Gestion de la sécurité, G=Gestion de projets et de chantiers, C=Exécution de travaux de construction | V13: Nom | W13: Adresse | X13: Domaine de qualification A=Administration, S=Gestion de la sécurité, G=Gestion de projets et de chantiers, C=Exécution de travaux de construction | Z13: Sylvain, Denis | AA13: 168 rue Highfield | AB13: A/S/G | AD13: Nom | AE13: Adresse | AF13: Domaine de qualification A=Administration, S=Gestion de la sécurité, G=Gestion de projets et de chantiers, C=Exécution de travaux de construction | AH13: RÉPONDANT | AL13: Nom | AM13: Adresse | AN13: Domaine de qualification A=Administration, S=Gestion de la sécurité, G=Gestion de projets et de chantiers, C=Exécution de travaux de construction | AP13: Nom | AQ13: Adresse | AR13: Domaine de qualificationA=Administration, S=Gestion de la sécurité, G=Gestion de projets et de chantiers, C=Exécution de travaux de construction | AT13: Nom | AU13: Adresse | AV13: Domaine de qualification A=Administration, S=Gestion de la sécurité, G=Gestion de projets et de chantiers, C=Exécution de travaux de construction | AX13: Nom | AY13: Adresse | AZ13: Domaine de qualification A=Administration, S=Gestion de la sécurité, G=Gestion de projets et de chantiers, C=Exécution de travaux de construction | BB13: Nom | BC13: Adresse | BD13: Domaine de qualification A=Administration, S=Gestion de la sécurité, G=Gestion de projets et de chantiers, C=Exécution de travaux de construction | BF13: Nom | BG13: Adresse | BH13: Domaine de qualification A=Administration, S=Gestion de la sécurité, G=Gestion de projets et de chantiers, C=Exécution de travaux de construction | BJ13: Nom | BL13: Domaine de qualification A=Administration, S=Gestion de la sécurité, G=Gestion de projets et de chantiers, C=Exécution de travaux de construction | BN13: Nom | BO13: Adresse | BP13: Domaine de qualification A=Administration, S=Gestion de la sécurité, G=Gestion de projets et de chantiers, C=Exécution de travaux de construction
A14: Nom Contact | B14: =OFFSET($J$4,,48,) -> 4220 Québec Inc. | C14: =OFFSET($J$4,,(ROW()-1)*4,,) -> 4146 Québec Inc. | E14: =OFFSET($J$14,,(ROW()-2)*4,,) -> Larivière, Louise | J14: Turgeon, Jacques | K14: 799 rue Lionel-Groulx | L14: A/S/G | N14: Boucher, Daniel | O14: 429 rue des Plateaux | P14: A/S/G/C | R14: Gendron, Rejean | S14: 430 rue Bousquet | T14: A/S/G/C | V14: Jalbert, Monique | W14: 6065 rue Bernard-Racicot App 4 | X14: A | AA14: Mont-Saint-Hilaire QC | AD14: Sylvain, Denis | AE14: 168 rue Highfield | AF14: A/S/G | AH14: Nom | AI14: Adresse | AJ14: Domaine de qualification A=Administration, S=Gestion de la sécurité, G=Gestion de projets et de chantiers, C=Exécution de travaux de construction | AL14: Quilliam, Ronny | AM14: 584 Grande Allée | AN14: A/S/G/C | AP14: Poitras Beaudoin, Steve | AQ14: 133 rue Forbin-Janson | AR14: A/S/G/C | AT14: Rossignol, Patrick | AU14: 150 rue Michel | AV14: A/S/G/C | AX14: Bergeron, Alexandre | AY14: 860 rue Roquebrune | AZ14: A/S/G/C | BB14: Constant, François | BC14: 129 rue Forbin-Janson | BD14: A/S/G/C | BF14: Larivière, Louise | BG14: 1056 rue des Perdrix | BH14: A/S/G/C | BJ14: Masson, Bruno | BK14: Adresse | BL14: A/S/G/C | BN14: Duquette, Steve | BO14: 611 rue De Beaujeu | BP14: S/G
B15: =OFFSET($J$4,,52,) -> 4146 Québec Inc. | C15: =OFFSET($J$4,,(ROW()-1)*4,,) -> 0181 Québec Inc. | K15: Sainte-Julie QC | O15: Mont-Saint-Hilaire QC | S15: Otterburn Park QC | W15: Longueuil QC | AA15: Canada J3H 3W4 | AE15: Mont-Saint-Hilaire QC | AH15: Richer, Patric | AI15: 1403 chemin Ozias-Leduc | AJ15: S/G | AM15: Mont-Saint-Hilaire QC | AQ15: Mont-Saint-Hilaire QC | AU15: Mont-Saint-Hilaire QC | AY15: Mont-Saint-Hilaire QC | BC15: Mont-Saint-Hilaire QC | BG15: Otterburn Park QC | BK15: 207 rue des Français | BO15: Mont-Saint-Hilaire QC
C16: =OFFSET($J$4,,(ROW()-1)*4,,) -> 0 | K16: Canada J3E 1N2 | O16: Canada J3H 6E6 | S16: Canada J3H 4J5 | W16: Canada J3Y 0B8 | Z16: 1 répondant(s) autorisé(s) | AE16: Canada J3H 3W4 | AI16: Otterburn Park QC | AM16: Canada J3H 0M8 | AQ16: Canada J3H 6L9 | AU16: Canada J3H 3R3 | AY16: Canada J3H 5M4 | BC16: Canada J3H 6L9 | BG16: Canada J3H 5S2 | BK16: Mont-Saint-Hilaire QC | BO16: Canada J3H 3E6
C17: =OFFSET($J$4,,(ROW()-1)*4,,) -> 0 | J17: Turgeon, Alexandre | K17: 281 rue Helen | L17: A/S/G | N17: 1 répondant(s) autorisé(s) | R17: 1 répondant(s) autorisé(s) | V17: Jalbert, Réjean | W17: 469 rue du Prince-Albert | X17: S/G/C | AD17: 1 répondant(s) autorisé(s) | AI17: Canada J3G 4S6 | AL17: 1 répondant(s) autorisé(s) | AP17: 1 répondant(s) autorisé(s) | AT17: 1 répondant(s) autorisé(s) | AX17: 1 répondant(s) autorisé(s) | BB17: 1 répondant(s) autorisé(s) | BF17: 1 répondant(s) autorisé(s) | BJ17: 1 répondant(s) autorisé(s) | BK17: Canada J3H 0B3 | BN17: Leduc, Martine | BO17: 611 rue De Beaujeu | BP17: A
C18: =OFFSET($J$4,,(ROW()-1)*4,,) -> 0 | K18: Otterburn Park QC | W18: Otterburn Park QC | AH18: Richer, Roger | AI18: 980 chemin des Patriotes Nord | AJ18: A/S/G | BO18: Mont-Saint-Hilaire QC
C19: =OFFSET($J$4,,(ROW()-1)*4,,) -> 0 | K19: Canada J3H 1R5 | N19: Sous-catégorie 1.3 limitée à : 4041-Bâtiments résidentiels Classe I 4043- Entretien, rénovation, réparation et modification de bâtiments résidentiels En savoir plus au sujet des limitations de cette sous-catégorie. | W19: Canada J3H 5R2 | Z19: CATÉGORIE(S) ET SOUS-CATÉGORIE(S) DE L'ENTREPRENEUR | AI19: Mont-Saint-Hilaire QC | BJ19: Sous-catégorie 1.3 limitée à : 4041-Bâtiments résidentiels Classe I En savoir plus au sujet des limitations de cette sous-catégorie. | BO19: Canada J3H 3E6
J20: 2 répondant(s) autorisé(s) | M20: =SUBSTITUTE(J20:J100, "2.5","2,5") -> 2 répondant(s) autorisé(s) | N20: CATÉGORIE(S) ET SOUS-CATÉGORIE(S) DE L'ENTREPRENEUR | R20: CATÉGORIE(S) ET SOUS-CATÉGORIE(S) DE L'ENTREPRENEUR | V20: Jalbert, Michel | W20: 6065 rue Bernard-Racicot App 4 | X20: G/C | Z20: La présente atteste que le titulaire est autorisé à soumissionner, organiser, coordonner, exécuter et faire exécuter les travaux de construction inclus dans les catégories et sous-catégories mentionnées ci-dessous. | AD20: CATÉGORIE(S) ET SOUS-CATÉGORIE(S) DE L'ENTREPRENEUR | AI20: Canada J3H 0N6 | AL20: CATÉGORIE(S) ET SOUS-CATÉGORIE(S) DE L'ENTREPRENEUR | AP20: CATÉGORIE(S) ET SOUS-CATÉGORIE(S) DE L'ENTREPRENEUR | AT20: CATÉGORIE(S) ET SOUS-CATÉGORIE(S) DE L'ENTREPRENEUR | AX20: CATÉGORIE(S) ET SOUS-CATÉGORIE(S) DE L'ENTREPRENEUR | BB20: CATÉGORIE(S) ET SOUS-CATÉGORIE(S) DE L'ENTREPRENEUR | BF20: CATÉGORIE(S) ET SOUS-CATÉGORIE(S) DE L'ENTREPRENEUR | BJ20: CATÉGORIE(S) ET SOUS-CATÉGORIE(S) DE L'ENTREPRENEUR | BN20: 2 répondant(s) autorisé(s)
N21: La présente atteste que le titulaire est autorisé à soumissionner, organiser, coordonner, exécuter et faire exécuter les travaux de construction inclus dans les catégories et sous-catégories mentionnées ci-dessous. | R21: La présente atteste que le titulaire est autorisé à soumissionner, organiser, coordonner, exécuter et faire exécuter les travaux de construction inclus dans les catégories et sous-catégories mentionnées ci-dessous. | W21: Longueuil QC | Z21: Catégorie entrepreneur spécialisé | AD21: La présente atteste que le titulaire est autorisé à soumissionner, organiser, coordonner, exécuter et faire exécuter les travaux de construction inclus dans les catégories et sous-catégories mentionnées ci-dessous. | AH21: 2 répondant(s) autorisé(s) | AL21: La présente atteste que le titulaire est autorisé à soumissionner, organiser, coordonner, exécuter et faire exécuter les travaux de construction inclus dans les catégories et sous-catégories mentionnées ci-dessous. | AP21: La présente atteste que le titulaire est autorisé à soumissionner, organiser, coordonner, exécuter et faire exécuter les travaux de construction inclus dans les catégories et sous-catégories mentionnées ci-dessous. | AT21: La présente atteste que le titulaire est autorisé à soumissionner, organiser, coordonner, exécuter et faire exécuter les travaux de construction inclus dans les catégories et sous-catégories mentionnées ci-dessous. | AX21: La présente atteste que le titulaire est autorisé à soumissionner, organiser, coordonner, exécuter et faire exécuter les travaux de construction inclus dans les catégories et sous-catégories mentionnées ci-dessous. | BB21: La présente atteste que le titulaire est autorisé à soumissionner, organiser, coordonner, exécuter et faire exécuter les travaux de construction inclus dans les catégories et sous-catégories mentionnées ci-dessous. | BF21: La présente atteste que le titulaire est autorisé à soumissionner, organiser, coordonner, exécuter et faire exécuter les travaux de construction inclus dans les catégories et sous-catégories mentionnées ci-dessous. | BJ21: La présente atteste que le titulaire est autorisé à soumissionner, organiser, coordonner, exécuter et faire exécuter les travaux de construction inclus dans les catégories et sous-catégories mentionnées ci-dessous.
A22: Nombre si écrit en ROUGE | N22: Catégorie entrepreneur général | R22: Catégorie entrepreneur spécialisé | W22: Canada J3Y 0B8 | Z22: 2.5 | AA22: Excavation et terrassement | AD22: Catégorie entrepreneur spécialisé | AL22: Catégorie entrepreneur général | AP22: Catégorie entrepreneur général | AT22: Catégorie entrepreneur général | AX22: Catégorie entrepreneur général | BB22: Catégorie entrepreneur spécialisé | BF22: Catégorie entrepreneur spécialisé | BJ22: Catégorie entrepreneur général
A23: Nombre si écrit en ROUGE | J23: CATÉGORIE(S) ET SOUS-CATÉGORIE(S) DE L'ENTREPRENEUR | N23: 1.2 | O23: Petits bâtiments | R23: 2.5 | S23: Excavation et terrassement | V23: 3 répondant(s) autorisé(s) | Z23: 2.7 | AA23: Travaux d'emplacement | AD23: 2.5 | AE23: Excavation et terrassement | AL23: 1.2 | AM23: Petits bâtiments | AP23: 1.1.1 | AQ23: Bâtiments résidentiels neufs visés à un plan de garantie classe I | AT23: 1.3 | AU23: Bâtiments de tout genre | AX23: 1.3 | AY23: Bâtiments de tout genre | BB23: 3.1 | BC23: Structures de béton | BF23: 15.5 | BG23: Plomberie | BJ23: 1.2 | BN23: CATÉGORIE(S) ET SOUS-CATÉGORIE(S) DE L'ENTREPRENEUR
A24: Nombre si écrit en ROUGE | J24: La présente atteste que le titulaire est autorisé à soumissionner, organiser, coordonner, exécuter et faire exécuter les travaux de construction inclus dans les catégories et sous-catégories mentionnées ci-dessous. | N24: 1.3 | O24: Bâtiments de tout genre | R24: 2.7 | S24: Travaux d'emplacement | Z24: 3.2 | AA24: Petits ouvrages de béton | AD24: 2.7 | AE24: Travaux d'emplacement | AH24: CATÉGORIE(S) ET SOUS-CATÉGORIE(S) DE L'ENTREPRENEUR | AL24: 1.3 | AM24: Bâtiments de tout genre | AP24: 1.1.2 | AQ24: Bâtiments résidentiels neufs visés à un plan de garantie classe II | AT24: Catégorie entrepreneur spécialisé | AX24: Catégorie entrepreneur spécialisé | BB24: 3.2 | BC24: Petits ouvrages de béton | BJ24: 1.3 | BK24: Petits bâtiments | BN24: La présente atteste que le titulaire est autorisé à soumissionner, organiser, coordonner, exécuter et faire exécuter les travaux de construction inclus dans les catégories et sous-catégories mentionnées ci-dessous.
A25: Nombre si écrit en ROUGE | J25: Catégorie entrepreneur spécialisé | N25: 1.10 | O25: Remontées mécaniques | R25: 3.2 | S25: Petits ouvrages de béton | Z25: 4.2 | AA25: Travaux de maçonnerie non structurale marbre et céramique | AD25: 3.2 | AE25: Petits ouvrages de béton | AH25: La présente atteste que le titulaire est autorisé à soumissionner, organiser, coordonner, exécuter et faire exécuter les travaux de construction inclus dans les catégories et sous-catégories mentionnées ci-dessous. | AL25: Catégorie entrepreneur spécialisé | AP25: 1.3 | AQ25: Bâtiments de tout genre | AT25: 2.5 | AU25: Excavation et terrassement | AX25: 5.2 | AY25: Ouvrages métalliques | BJ25: Catégorie entrepreneur spécialisé | BK25: Bâtiments de tout genre | BN25: Catégorie entrepreneur spécialisé
A26: Nombre si écrit en ROUGE | J26: 2.5 | K26: Excavation et terrassement | N26: Catégorie entrepreneur spécialisé | R26: 4.2 | S26: Travaux de maçonnerie non structurale marbre et céramique | V26: CATÉGORIE(S) ET SOUS-CATÉGORIE(S) DE L'ENTREPRENEUR | Z26: 5.2 | AA26: Ouvrages métalliques | AD26: 4.2 | AE26: Travaux de maçonnerie non structurale marbre et céramique | AH26: Catégorie entrepreneur spécialisé | AL26: 10 | AM26: Systèmes de chauffage localisé à combustible solide | AT26: 2.7 | AU26: Travaux d'emplacement | AX26: 6.2 | AY26: Travaux de bois et plastique | BJ26: 10 | BN26: 5.2 | BO26: Ouvrages métalliques
A27: Nombre si écrit en ROUGE | J27: 2.7 | K27: Travaux d'emplacement | N27: 5.2 | O27: Ouvrages métalliques | R27: 5.2 | S27: Ouvrages métalliques | V27: La présente atteste que le titulaire est autorisé à soumissionner, organiser, coordonner, exécuter et faire exécuter les travaux de construction inclus dans les catégories et sous-catégories mentionnées ci-dessous. | Z27: 6.2 | AA27: Travaux de bois et plastique | AD27: 5.2 | AE27: Ouvrages métalliques | AH27: 5.2 | AI27: Ouvrages métalliques | AL27: 15.7 | AM27: Ventilation résidentielle | AT27: 3.2 | AU27: Petits ouvrages de béton | AX27: 7 | AY27: Isolation étanchéité couvertures et revêtement extérieur | BJ27: 15.7 | BK27: Systèmes de chauffage localisé à combustible solide | BN27: 9 | BO27: Travaux de finition
A28: Nombre si écrit en ROUGE | J28: 3.2 | K28: Petits ouvrages de béton | N28: 6.1 | O28: Charpentes de bois | R28: 6.1 | S28: Charpentes de bois | V28: Catégorie entrepreneur spécialisé | Z28: 7 | AA28: Isolation étanchéité couvertures et revêtement extérieur | AD28: 6.2 | AE28: Travaux de bois et plastique | AH28: 8 | AI28: Portes et fenêtres | AT28: 4.2 | AU28: Travaux de maçonnerie non structurale marbre et céramique | AX28: 8 | AY28: Portes et fenêtres | BK28: Ventilation résidentielle
A29: Nombre si écrit en ROUGE | J29: 4.2 | K29: Travaux de maçonnerie non structurale marbre et céramique | N29: 6.2 | O29: Travaux de bois et plastique | R29: 6.2 | S29: Travaux de bois et plastique | V29: 16 | W29: Électricité | Z29: 8 | AA29: Portes et fenêtres | AD29: 7 | AE29: Isolation étanchéité couvertures et revêtement extérieur | AH29: 11.2 | AI29: Équipements et produits spéciaux | AT29: 5.2 | AU29: Ouvrages métalliques | AX29: 9 | AY29: Travaux de finition
A30: Nombre si écrit en ROUGE | J30: 5.2 | K30: Ouvrages métalliques | N30: 7 | O30: Isolation étanchéité couvertures et revêtement extérieur | R30: 7 | S30: Isolation étanchéité couvertures et revêtement extérieur | Z30: 9 | AA30: Travaux de finition | AD30: 8 | AE30: Portes et fenêtres | AT30: 6.2 | AU30: Travaux de bois et plastique | AX30: 11.2 | AY30: Équipements et produits spéciaux
A31: Nombre si écrit en ROUGE | J31: 6.2 | K31: Travaux de bois et plastique | N31: 8 | O31: Portes et fenêtres | R31: 8 | S31: Portes et fenêtres | Z31: 11.2 | AA31: Équipements et produits spéciaux | AD31: 9 | AE31: Travaux de finition | AT31: 7 | AU31: Isolation étanchéité couvertures et revêtement extérieur | AX31: 12 | AY31: Armoires et comptoirs usinés
A32: Nombre si écrit en ROUGE | J32: 7 | K32: Isolation étanchéité couvertures et revêtement extérieur | N32: 9 | O32: Travaux de finition | R32: 9 | S32: Travaux de finition | Z32: 12 | AA32: Armoires et comptoirs usinés | AD32: 11.2 | AE32: Équipements et produits spéciaux | AT32: 8 | AU32: Portes et fenêtres
A33: Nombre si écrit en ROUGE | J33: 8 | K33: Portes et fenêtres | N33: 10 | O33: Systèmes de chauffage localisé à combustible solide | R33: 10 | S33: Systèmes de chauffage localisé à combustible solide | Z33: 13.5 | AA33: Installations spéciales ou préfabriquées | AD33: 12 | AE33: Armoires et comptoirs usinés | AT33: 9 | AU33: Travaux de finition
A34: Nombre si écrit en ROUGE | J34: 9 | K34: Travaux de finition | N34: 11.2 | O34: Équipements et produits spéciaux | R34: 11.2 | S34: Équipements et produits spéciaux | AD34: 13.5 | AE34: Installations spéciales ou préfabriquées | AT34: 11.2 | AU34: Équipements et produits spéciaux
A35: Nombre si écrit en ROUGE | J35: 11.2 | K35: Équipements et produits spéciaux | N35: 12 | O35: Armoires et comptoirs usinés | R35: 12 | S35: Armoires et comptoirs usinés | AT35: 12 | AU35: Armoires et comptoirs usinés
A36: Nombre si écrit en ROUGE | J36: 12 | K36: Armoires et comptoirs usinés | N36: 14.1 | O36: Ascenseurs et monte-charges | R36: 13.5 | S36: Installations spéciales ou préfabriquées | AT36: 13.5 | AU36: Installations spéciales ou préfabriquées
A37: Nombre si écrit en ROUGE | J37: 13.5 | K37: Installations spéciales ou préfabriquées | N37: 14.2 | O37: Appareils élévateurs pour personnes handicapées | R37: 15.7 | S37: Ventilation résidentielle | AT37: 16 | AU37: Électricité
A38: Nombre si écrit en ROUGE | J38: 17.2 | K38: Intercommunication téléphonie et surveillance | N38: 14.3 | O38: Autres types d'appareils élévateurs | R38: 17.2 | S38: Intercommunication téléphonie et surveillance | AT38: 17.2 | AU38: Intercommunication téléphonie et surveillance
A39: Nombre si écrit en ROUGE | N39: 15.7 | O39: Ventilation résidentielle
A40: Nombre si écrit en ROUGE
A41: Nombre si écrit en ROUGE
A42: Nombre si écrit en ROUGE
A43: Nombre si écrit en ROUGE
A44: Nombre si écrit en ROUGE
A45: Nombre si écrit en ROUGE
A46: Nombre si écrit en ROUGE
A47: Nombre si écrit en ROUGE
A48: Nombre si écrit en ROUGE
A49: Nombre si écrit en ROUGE
A50: Nombre si écrit en ROUGE
A51: Nombre si écrit en ROUGE
... A89: Nombre si écrit en ROUGE
BW267: TEMPLATE VIDE POUR 500 ENTRÉES DE COMPAGNIES

Sheet Notes
A1: Contexte :
A2: Je vise à automatiser la saisie d'information dans l'onglet Template. Ce dernier tire ses informations de l'onglet Data. Les informations de Data sont des cellules copiées à partir d'un formulaire externe et collées dans une colonne indépendante (J1, N1, R1, V1, etc.)
A3: Parmi les informations collées dans l'onglet Data, nous avons seulement besoin du texte mis en rouge (également mis en valeur par les lignes débutant par une cellule rouge dans la colonne A)
A4: Le résultat souhaité est ce qui est compilé à la ligne 2 de l'onglet Template (soit une compagnie par ligne avec toutes ses informations qui nous sont pertinentes)
A6: Problématique :
A7: Le format des cellules collées n'est pas exactement identique mais peut être édité manuellement à chaque collage (ex.: en insérant une cellule vers le bas), si nécessaire (voir colonne Z:AB de l'onglet Data)
A8: La fonction DECALER semble appropriée, mais elle ne s'applique que sur le même onglet
A9: De plus, le fait d'insérer manuellement une cellule (pour mettre l'information similaire sur la même ligne) semble bousiller les tests que j'ai faits avec la fonction DECALER (voir cellules en gris au début de l'onglet Data)
A11: But souhaité:
A12: Incrémenter les info dans l'onglet Template pour que la 3è ligne comporte les info de la seconde compagnie entrée, etc.
A13: En gros, après avoir édité manuellement le contenu collé dans Data pour que le format soit assez similaire, comment décaler automatiquement les calculs de Template sur des informations séparés de 4 colonnes? (voir ex. Ci-bas)
A14: Autrement dit, comment faire que Template!A2 (qui est en fait Data!J4) devienne, en Template!A3, le contenu de Data!N4 ? Etc.
A15: Autre exemple, que la fonction NB.SI de Template!L2, devienne, en Template!L3 un calcul sur la plage $N$26:$N$100 (au lieu $J$26:$J$100) ? Etc.
