Workbook

Sheet Données
A1: Comment calculer la régularisation progressive des tranches sur les salaires (base des cotisations) sachant que :
A4: Le plafond sécurité sociale (PSS) s'élève à : | E4: 3218
A6: Chaque mois, la tranche A s'élève à une fois le PSS. Ce qui n'est pas utilisé sur le mois en cours est conservé pour les mois suivants si besoin et ce qui excède 3218 glisse en tranche B.
A8: Chaque mois, la tranche B s'élève à 4 fois le PSS. Ce qui n'est pas utilisé sur le mois en cours est conservé pour les mois suivants si besoin et ce qui excède 4 PSS glisse en tranche C.
A10: Chaque mois, la tranche C s'élève à 8 fois le PSS. La tranche C est plafonnée à 8 PSS même si les salaires sont plus élevés.
A13: D'un mois sur l'autre, il peut y avoir glissement d'une tranche à l'autre en fonction des plafonds théoriques cumulés.
A16: J'essaie de mettre au point un système de calcul par onglet (un onglet par mois et une colonne par agent), cf onglets suivants
A19: Pouvez-vous m'aider à rédiger les formules ? Merci

Sheet Janvier
A1: SALAIRE | E1: PSS : | F1: 3218
A2: mois | B2: 3000
A3: cumul année | B3: =B2 -> 3000
A5: TRANCHE A
A6: plafond cumulé | B6: =B7*$F$1 -> 3218
A7: NB MOIS | B7: 1
A8: Utilisé mois | B8: =B9 -> 3000
A9: cumul année | B9: =IF(B3<=B6,B3,B6) -> 3000
A11: TRANCHE B
A12: plafond cumulé | B12: =4*$F$1 -> 12872
A13: NB MOIS | B13: 1
A14: Utilisé mois | B14: =B15 -> 9872 | D14: ça devrait être zéro
A15: cumul année | B15: =IF(AND(B3>B6,B3<=B12),B3,B12-B9) -> 9872 | D15: ça devrait être zéro
A19: TRANCHE C
A20: plafond cumulé | B20: =8*$F$1 -> 25744
A21: NB MOIS | B21: 1
A22: Utilisé mois | B22: =B23 -> -9872 | D22: Comment avoir zéro et non un chiffre négatif ?
A23: cumul année | B23: =IF(B3>B12+B9,B3,B3-B9-B15) -> -9872 | D23: Comment avoir zéro et non un chiffre négatif ?
A26: CONTRÔLE | B26: =IF(B9+B15+B23=B3,"OK","ERREUR") -> OK

Sheet Février
A1: SALAIRE | E1: PSS : | F1: 3218
A2: mois | B2: 15000
A3: cumul année | B3: =Janvier!B3+Février!B2 -> 18000
A5: TRANCHE A
A6: plafond cumulé | B6: =B7*$F$1 -> 6436
A7: NB MOIS | B7: 2
A8: Utilisé mois | B8: =B9-Janvier!B9 -> 3436
A9: cumul année | B9: =IF(B3<=B6,B3,B6) -> 6436
A11: TRANCHE B
A12: plafond cumulé | B12: =(4*$F$1)*B13 -> 25744
A13: NB MOIS | B13: 2
A14: Utilisé mois | B14: =B15-Janvier!B14 -> 8128
A15: cumul année | B15: =IF(AND(B3>B6,B3<=B12),B3,B12) -> 18000
A19: TRANCHE C
A20: plafond cumulé | B20: =(8*$F$1)*B21 -> 51488
A21: NB MOIS | B21: 2
A22: Utilisé mois | B22: =B23-Janvier!B22 -> 3436 | D22: ça devrait être zéro
A23: cumul année | B23: =IF(B3>B12+B9,B3,B3-B9-B15) -> -6436 | D23: Comment avoir zéro et non un chiffre négatif ?
A26: CONTRÔLE | B26: =IF(B9+B15+B23=B3,"OK","ERREUR") -> OK

Sheet Mars
A1: SALAIRE | E1: PSS : | F1: 3218
A2: mois | B2: 15000
A3: cumul année | B3: =B2+Février!B3 -> 33000
A5: TRANCHE A
A6: plafond cumulé | B6: =B7*$F$1 -> 9654
A7: NB MOIS | B7: 3
A8: Utilisé mois | B8: =B9-Février!B9 -> 3218
A9: cumul année | B9: =IF(B3<=B6,B3,B6) -> 9654
A11: TRANCHE B
A12: plafond cumulé | B12: =(4*$F$1)*B13 -> 38616
A13: NB MOIS | B13: 3
A14: Utilisé mois | B14: =B15-Février!B14 -> 24872
A15: cumul année | B15: =IF(AND(B3>B6,B3<=B12),B3,B12) -> 33000
A19: TRANCHE C
A20: plafond cumulé | B20: =(8*$F$1)*B21 -> 77232
A21: NB MOIS | B21: 3
A22: Utilisé mois | B22: =B23-Février!B22 -> -13090 | D22: Comment avoir zéro et non un chiffre négatif ?
A23: cumul année | B23: =IF(B3>B12,B3,B3-B9-B15) -> -9654 | D23: Comment avoir zéro et non un chiffre négatif ?
A26: CONTRÔLE | B26: =IF(B9+B15+B23=B3,"OK","ERREUR") -> OK
