Workbook

Sheet Stock
A1: NOM DU PRODUIT | B1: QTE | C1: PU PPH | D1: PT PPH | E1: TVA | F1: PPV | G1: QTE DISPONIBLE | H1: DATE PER | I1: FOURNISSEURS
A2: AUGMENTIN 500MG | B2: 1 | C2: 60 | D2: 60 | E2: 7 | F2: 79 | G2: 1 | H2: 43405 | I2: SOPHA
A3: CELESTENE | B3: 1 | C3: 25 | D3: 25 | E3: 0 | F3: 30 | G3: 1 | H3: 43221 | I3: SOPHA
A4: O-PLASTINE | B4: 1 | C4: 20 | D4: 20 | E4: 20 | F4: 28 | G4: 1 | H4: 43556 | I4: SOPHA

Sheet Ventes
A1: NOM DU PRODUIT | B1: QTE | C1: TVA | D1: PPV | E1: REMISE(%) | F1: PPV REMISE | G1: DATE PER
A2: =(Stock!A2) -> AUGMENTIN 500MG | B2: =Stock!B2 -> 1 | C2: =Stock!E2 -> 7 | D2: =Stock!F2 -> 79 | E2: =D2*C2/100 -> 5.53 | F2: =D2-E2 -> 73.47 | G2: =Stock!H2 -> 43405
A3: =(Stock!A3) -> CELESTENE | B3: =Stock!B3 -> 1 | C3: =Stock!E3 -> 0 | D3: =Stock!F3 -> 30 | E3: =D3*C3/100 -> 0 | F3: =D3-E3 -> 30 | G3: =Stock!H3 -> 43221
A4: =(Stock!A4) -> O-PLASTINE | B4: =Stock!B4 -> 1 | C4: =Stock!E4 -> 20 | D4: =Stock!F4 -> 28 | E4: =D4*C4/100 -> 5.6 | F4: =D4-E4 -> 22.4 | G4: =Stock!H4 -> 43556
