Workbook
Name Week: [1]Menu!$A$2:$A$53

Sheet Pirelli Synthèse
H1: KPI Overall Dashboard Pirelli CH | K1: Week | L1: 1
B2: Pirelli CH | O2: garage fermé | P2: 1
O3: crevaison | P3: 2
B4: KPI Dashboard | D4: XPO Performance | H4: Reviews | O4: contrôle routier | P4: 3 | S4: =IF(OR(L1=1,L1=2,L1=3,L1=4,L1=5,L1=6),"",+IF(L1=7,AVERAGE('Données Pirelli'!E63:E68))+IF(L1=8,AVERAGE('Données Pirelli'!E64:E69))+IF(L1=9,AVERAGE('Données Pirelli'!E65:E70))+IF(L1=10,AVERAGE('Données Pirelli'!E66:E71))+IF(L1=11,AVERAGE('Données Pirelli'!E67:E72))+IF(L1=12,AVERAGE('Données Pirelli'!E68:E73))+IF(L1=13,AVERAGE('Données Pirelli'!E69:E74))+IF(L1=14,AVERAGE('Données Pirelli'!E70:E75))+IF(L1=15,AVERAGE('Données Pirelli'!E71:E76))+IF(L1=16,AVERAGE('Données Pirelli'!E72:E77))+IF(L1=17,AVERAGE('Données Pirelli'!E73:E78))+IF(L1=18,AVERAGE('Données Pirelli'!E74:E79))+IF(L1=19,AVERAGE('Données Pirelli'!E75:E80))+IF(L1=20,AVERAGE('Données Pirelli'!E76:E81))+IF(L1=21,AVERAGE('Données Pirelli'!E77:E82))+IF(L1=22,AVERAGE('Données Pirelli'!E78:E83))+IF(L1=23,AVERAGE('Données Pirelli'!E79:E84))+IF(L1=24,AVERAGE('Données Pirelli'!E80:E85))+IF(L1=25,AVERAGE('Données Pirelli'!E81:E86))+IF(L1=26,AVERAGE('Données Pirelli'!E82:E87))+IF(L1=27,AVERAGE('Données Pirelli'!E83:E88))+IF(L1=28,AVERAGE('Données Pirelli'!E84:E89))+IF(L1=29,AVERAGE('Données Pirelli'!E85:E90))+IF(L1=30,AVERAGE('Données Pirelli'!E86:E91))+IF(L1=31,AVERAGE('Données Pirelli'!E87:E92))+IF(L1=32,AVERAGE('Données Pirelli'!E88:E93))+IF(L1=33,AVERAGE('Données Pirelli'!E89:E94))+IF(L1=34,AVERAGE('Données Pirelli'!E90:E95))+IF(L1=35,AVERAGE('Données Pirelli'!E91:E96))+IF(L1=36,AVERAGE('Données Pirelli'!E92:E97))+IF(L1=37,AVERAGE('Données Pirelli'!E93:E98))+IF(L1=38,AVERAGE('Données Pirelli'!E94:E99))+IF(L1=39,AVERAGE('Données Pirelli'!E95:E100))+IF(L1=40,AVERAGE('Données Pirelli'!E96:E101))+IF(L1=41,AVERAGE('Données Pirelli'!E97:E102))+IF(L1=42,AVERAGE('Données Pirelli'!E98:E103))+IF(L1=43,AVERAGE('Données Pirelli'!E99:E104))+IF(L1=44,AVERAGE('Données Pirelli'!E100:E105))+IF(L1=45,AVERAGE('Données Pirelli'!E101:E106))+IF(L1=46,AVERAGE('Données Pirelli'!E102:E107))+IF(L1=47,AVERAGE('Données Pirelli'!E103:E108))+IF(L1=48,AVERAGE('Données Pirelli'!E104:E109))+IF(L1=49,AVERAGE('Données Pirelli'!E105:E110))+IF(L1=50,AVERAGE('Données Pirelli'!E106:E111))+IF(L1=51,AVERAGE('Données Pirelli'!E107:E112))+IF(L1=52,AVERAGE('Données Pirelli'!E108:E113)))
B5: Name | C5: Required | D5: Last week | F5: Average of last 6 weeks | G5: Trend | H5: Cause of failure to reach target | O5: pas de code barre | P5: 4
A6: 1 | B6: Delivery on time | C6: 0.995 | D6: =IF(L1=1,'Données Pirelli'!E63)+IF(L1=2,'Données Pirelli'!E64)+IF(L1=3,'Données Pirelli'!E65)+IF(L1=4,'Données Pirelli'!E66)+IF(L1=5,'Données Pirelli'!E67)+IF(L1=6,'Données Pirelli'!E68)+IF(L1=7,'Données Pirelli'!E69)+IF(L1=8,'Données Pirelli'!E70)+IF(L1=9,'Données Pirelli'!E71)+IF(L1=10,'Données Pirelli'!E72)+IF(L1=11,'Données Pirelli'!E73)+IF(L1=12,'Données Pirelli'!E74)+IF(L1=13,'Données Pirelli'!E75)+IF(L1=14,'Données Pirelli'!E76)+IF(L1=15,'Données Pirelli'!E77)+IF(L1=16,'Données Pirelli'!E78)+IF(L1=17,'Données Pirelli'!E79)+IF(L1=18,'Données Pirelli'!E80)+IF(L1=19,'Données Pirelli'!E81)+IF(L1=20,'Données Pirelli'!E82)+IF(L1=21,'Données Pirelli'!E83)+IF(L1=22,'Données Pirelli'!E84)+IF(L1=23,'Données Pirelli'!E85)+IF(L1=24,'Données Pirelli'!E86)+IF(L1=25,'Données Pirelli'!E87)+IF(L1=26,'Données Pirelli'!E88)+IF(L1=27,'Données Pirelli'!E89)+IF(L1=28,'Données Pirelli'!E90)+IF(L1=29,'Données Pirelli'!E91)+IF(L1=30,'Données Pirelli'!E92)+IF(L1=31,'Données Pirelli'!E93)+IF(L1=32,'Données Pirelli'!E94)+IF(L1=33,'Données Pirelli'!E95)+IF(L1=34,'Données Pirelli'!E96)+IF(L1=35,'Données Pirelli'!E97)+IF(L1=36,'Données Pirelli'!E98)+IF(L1=37,'Données Pirelli'!E99)+IF(L1=38,'Données Pirelli'!E100)+IF(L1=39,'Données Pirelli'!E101)+IF(L1=40,'Données Pirelli'!E102)+IF(L1=41,'Données Pirelli'!E103)+IF(L1=42,'Données Pirelli'!E104)+IF(L1=43,'Données Pirelli'!E105)+IF(L1=44,'Données Pirelli'!E106)+IF(L1=45,'Données Pirelli'!E107)+IF(L1=46,'Données Pirelli'!E108)+IF(L1=47,'Données Pirelli'!E109)+IF(L1=48,'Données Pirelli'!E110)+IF(L1=49,'Données Pirelli'!E111)+IF(L1=50,'Données Pirelli'!E112)+IF(L1=51,'Données Pirelli'!E113)+IF(L1=52,'Données Pirelli'!E114) -> 0.99314271 | E6: =IF(OR(D6=0,D6=" ")," ",IF($D6>=$C6,1,2)) -> 2 | F6: =IF(L1=1,"")+IF(L1=2,"")+IF(L1=3,"")+IF(L1=4,"")+IF(L1=5,"")+IF(L1=6,"")+IF(L1=7,AVERAGE('Données Pirelli'!E63:E68))+IF(L1=8,AVERAGE('Données Pirelli'!E64:E69))+IF(L1=9,AVERAGE('Données Pirelli'!E65:E70))+IF(L1=10,AVERAGE('Données Pirelli'!E66:E71))+IF(L1=11,AVERAGE('Données Pirelli'!E67:E72))+IF(L1=12,AVERAGE('Données Pirelli'!E68:E73))+IF(L1=13,AVERAGE('Données Pirelli'!E69:E74))+IF(L1=14,AVERAGE('Données Pirelli'!E70:E75))+IF(L1=15,AVERAGE('Données Pirelli'!E71:E76))+IF(L1=16,AVERAGE('Données Pirelli'!E72:E77))+IF(L1=17,AVERAGE('Données Pirelli'!E73:E78))+IF(L1=18,AVERAGE('Données Pirelli'!E74:E79))+IF(L1=19,AVERAGE('Données Pirelli'!E75:E80))+IF(L1=20,AVERAGE('Données Pirelli'!E76:E81))+IF(L1=21,AVERAGE('Données Pirelli'!E77:E82))+IF(L1=22,AVERAGE('Données Pirelli'!E78:E83))+IF(L1=23,AVERAGE('Données Pirelli'!E79:E84))+IF(L1=24,AVERAGE('Données Pirelli'!E80:E85))+IF(L1=25,AVERAGE('Données Pirelli'!E81:E86))+IF(L1=26,AVERAGE('Données Pirelli'!E82:E87))+IF(L1=27,AVERAGE('Données Pirelli'!E83:E88))+IF(L1=28,AVERAGE('Données Pirelli'!E84:E89))+IF(L1=29,AVERAGE('Données Pirelli'!E85:E90))+IF(L1=30,AVERAGE('Données Pirelli'!E86:E91))+IF(L1=31,AVERAGE('Données Pirelli'!E87:E92))+IF(L1=32,AVERAGE('Données Pirelli'!E88:E93))+IF(L1=33,AVERAGE('Données Pirelli'!E89:E94))+IF(L1=34,AVERAGE('Données Pirelli'!E90:E95))+IF(L1=35,AVERAGE('Données Pirelli'!E91:E96))+IF(L1=36,AVERAGE('Données Pirelli'!E92:E97))+IF(L1=37,AVERAGE('Données Pirelli'!E93:E98))+IF(L1=38,AVERAGE('Données Pirelli'!E94:E99))+IF(L1=39,AVERAGE('Données Pirelli'!E95:E100))+IF(L1=40,AVERAGE('Données Pirelli'!E96:E101))+IF(L1=41,AVERAGE('Données Pirelli'!E97:E102))+IF(L1=42,AVERAGE('Données Pirelli'!E98:E103))+IF(L1=43,AVERAGE('Données Pirelli'!E99:E104))+IF(L1=44,AVERAGE('Données Pirelli'!E100:E105))+IF(L1=45,AVERAGE('Données Pirelli'!E101:E106))+IF(L1=46,AVERAGE('Données Pirelli'!E102:E107))+IF(L1=47,AVERAGE('Données Pirelli'!E103:E108))+IF(L1=48,AVERAGE('Données Pirelli'!E104:E109))+IF(L1=49,AVERAGE('Données Pirelli'!E105:E110))+IF(L1=50,AVERAGE('Données Pirelli'!E106:E111))+IF(L1=51,AVERAGE('Données Pirelli'!E107:E112))+IF(L1=52,AVERAGE('Données Pirelli'!E108:E113)) -> #VALUE! | G6: =IF(OR(F6=0,F6=" ")," ",IF($F6>=$C6,1,2)) -> #VALUE! | H6: =IF(L1=1,O2,IF(D6<C6,O2," ")) -> garage fermé | O6: pas d'étiquette | P6: 5
A7: 5 | B7: Not conformities | C7: 0.0012 | D7: =IF(L1=1,'Données Pirelli'!I63)+IF(L1=2,'Données Pirelli'!I64)+IF(L1=3,'Données Pirelli'!I65)+IF(L1=4,'Données Pirelli'!I66)+IF(L1=5,'Données Pirelli'!I67)+IF(L1=6,'Données Pirelli'!I68)+IF(L1=7,'Données Pirelli'!I69)+IF(L1=8,'Données Pirelli'!I70)+IF(L1=9,'Données Pirelli'!I71)+IF(L1=10,'Données Pirelli'!I72)+IF(L1=11,'Données Pirelli'!I73)+IF(L1=12,'Données Pirelli'!I74)+IF(L1=13,'Données Pirelli'!I75)+IF(L1=14,'Données Pirelli'!I76)+IF(L1=15,'Données Pirelli'!I77)+IF(L1=16,'Données Pirelli'!I78)+IF(L1=17,'Données Pirelli'!I79)+IF(L1=18,'Données Pirelli'!I80)+IF(L1=19,'Données Pirelli'!I81)+IF(L1=20,'Données Pirelli'!I82)+IF(L1=21,'Données Pirelli'!I83)+IF(L1=22,'Données Pirelli'!I84)+IF(L1=23,'Données Pirelli'!I85)+IF(L1=24,'Données Pirelli'!I86)+IF(L1=25,'Données Pirelli'!I87)+IF(L1=26,'Données Pirelli'!I88)+IF(L1=27,'Données Pirelli'!I89)+IF(L1=28,'Données Pirelli'!I90)+IF(L1=29,'Données Pirelli'!I91)+IF(L1=30,'Données Pirelli'!I92)+IF(L1=31,'Données Pirelli'!I93)+IF(L1=32,'Données Pirelli'!I94)+IF(L1=33,'Données Pirelli'!I95)+IF(L1=34,'Données Pirelli'!I96)+IF(L1=35,'Données Pirelli'!I97)+IF(L1=36,'Données Pirelli'!I98)+IF(L1=37,'Données Pirelli'!I99)+IF(L1=38,'Données Pirelli'!I100)+IF(L1=39,'Données Pirelli'!I101)+IF(L1=40,'Données Pirelli'!I102)+IF(L1=41,'Données Pirelli'!I103)+IF(L1=42,'Données Pirelli'!I104)+IF(L1=43,'Données Pirelli'!I105)+IF(L1=44,'Données Pirelli'!I106)+IF(L1=45,'Données Pirelli'!I107)+IF(L1=46,'Données Pirelli'!I108)+IF(L1=47,'Données Pirelli'!I109)+IF(L1=48,'Données Pirelli'!I110)+IF(L1=49,'Données Pirelli'!I111)+IF(L1=50,'Données Pirelli'!I112)+IF(L1=51,'Données Pirelli'!I113)+IF(L1=52,'Données Pirelli'!I114) -> 0 | E7: =IF($D7>$C7,2,1) -> 1 | F7: =IF(L1=1,"")+IF(L1=2,"")+IF(L1=3,"")+IF(L1=4,"")+IF(L1=5,"")+IF(L1=6,"")+IF(L1=7,AVERAGE('Données Pirelli'!I63:I68))+IF(L1=8,AVERAGE('Données Pirelli'!I64:I69))+IF(L1=9,AVERAGE('Données Pirelli'!I65:I70))+IF(L1=10,AVERAGE('Données Pirelli'!I66:I71))+IF(L1=11,AVERAGE('Données Pirelli'!I67:I72))+IF(L1=12,AVERAGE('Données Pirelli'!I68:I73))+IF(L1=13,AVERAGE('Données Pirelli'!I69:I74))+IF(L1=14,AVERAGE('Données Pirelli'!I70:I75))+IF(L1=15,AVERAGE('Données Pirelli'!I71:I76))+IF(L1=16,AVERAGE('Données Pirelli'!I72:I77))+IF(L1=17,AVERAGE('Données Pirelli'!I73:I78))+IF(L1=18,AVERAGE('Données Pirelli'!I74:I79))+IF(L1=19,AVERAGE('Données Pirelli'!I75:I80))+IF(L1=20,AVERAGE('Données Pirelli'!I76:I81))+IF(L1=21,AVERAGE('Données Pirelli'!I77:I82))+IF(L1=22,AVERAGE('Données Pirelli'!I78:I83))+IF(L1=23,AVERAGE('Données Pirelli'!I79:I84))+IF(L1=24,AVERAGE('Données Pirelli'!I80:I85))+IF(L1=25,AVERAGE('Données Pirelli'!I81:I86))+IF(L1=26,AVERAGE('Données Pirelli'!I82:I87))+IF(L1=27,AVERAGE('Données Pirelli'!I83:I88))+IF(L1=28,AVERAGE('Données Pirelli'!I84:I89))+IF(L1=29,AVERAGE('Données Pirelli'!I85:I90))+IF(L1=30,AVERAGE('Données Pirelli'!I86:I91))+IF(L1=31,AVERAGE('Données Pirelli'!I87:I92))+IF(L1=32,AVERAGE('Données Pirelli'!I88:I93))+IF(L1=33,AVERAGE('Données Pirelli'!I89:I94))+IF(L1=34,AVERAGE('Données Pirelli'!I90:I95))+IF(L1=35,AVERAGE('Données Pirelli'!I91:I96))+IF(L1=36,AVERAGE('Données Pirelli'!I92:I97))+IF(L1=37,AVERAGE('Données Pirelli'!I93:I98))+IF(L1=38,AVERAGE('Données Pirelli'!I94:I99))+IF(L1=39,AVERAGE('Données Pirelli'!I95:I100))+IF(L1=40,AVERAGE('Données Pirelli'!I96:I101))+IF(L1=41,AVERAGE('Données Pirelli'!I97:Q102))+IF(L1=42,AVERAGE('Données Pirelli'!I98:I103))+IF(L1=43,AVERAGE('Données Pirelli'!I99:I104))+IF(L1=44,AVERAGE('Données Pirelli'!I100:I105))+IF(L1=45,AVERAGE('Données Pirelli'!I101:I106))+IF(L1=46,AVERAGE('Données Pirelli'!I102:I107))+IF(L1=47,AVERAGE('Données Pirelli'!I103:I108))+IF(L1=48,AVERAGE('Données Pirelli'!I104:I109))+IF(L1=49,AVERAGE('Données Pirelli'!I105:I110))+IF(L1=50,AVERAGE('Données Pirelli'!I106:I111))+IF(L1=51,AVERAGE('Données Pirelli'!I107:I112))+IF(L1=52,AVERAGE('Données Pirelli'!I108:I113)) -> #VALUE! | G7: =IF($F7>$C7,2,1) -> #VALUE! | O7: garage fermé | P7: 6
A8: 10 | B8: Outbound quantitative scan rate | C8: 0.995 | D8: =IF(L1=1,'Données Pirelli'!M63)+IF(L1=2,'Données Pirelli'!M64)+IF(L1=3,'Données Pirelli'!M65)+IF(L1=4,'Données Pirelli'!M66)+IF(L1=5,'Données Pirelli'!M67)+IF(L1=6,'Données Pirelli'!M68)+IF(L1=7,'Données Pirelli'!M69)+IF(L1=8,'Données Pirelli'!M70)+IF(L1=9,'Données Pirelli'!M71)+IF(L1=10,'Données Pirelli'!M72)+IF(L1=11,'Données Pirelli'!M73)+IF(L1=12,'Données Pirelli'!M74)+IF(L1=13,'Données Pirelli'!M75)+IF(L1=14,'Données Pirelli'!M76)+IF(L1=15,'Données Pirelli'!M77)+IF(L1=16,'Données Pirelli'!M78)+IF(L1=17,'Données Pirelli'!M79)+IF(L1=18,'Données Pirelli'!M80)+IF(L1=19,'Données Pirelli'!M81)+IF(L1=20,'Données Pirelli'!M82)+IF(L1=21,'Données Pirelli'!M83)+IF(L1=22,'Données Pirelli'!M84)+IF(L1=23,'Données Pirelli'!M85)+IF(L1=24,'Données Pirelli'!M86)+IF(L1=25,'Données Pirelli'!M87)+IF(L1=26,'Données Pirelli'!M88)+IF(L1=27,'Données Pirelli'!M89)+IF(L1=28,'Données Pirelli'!M90)+IF(L1=29,'Données Pirelli'!M91)+IF(L1=30,'Données Pirelli'!M92)+IF(L1=31,'Données Pirelli'!M93)+IF(L1=32,'Données Pirelli'!M94)+IF(L1=33,'Données Pirelli'!M95)+IF(L1=34,'Données Pirelli'!M96)+IF(L1=35,'Données Pirelli'!M97)+IF(L1=36,'Données Pirelli'!M98)+IF(L1=37,'Données Pirelli'!M99)+IF(L1=38,'Données Pirelli'!M100)+IF(L1=39,'Données Pirelli'!M101)+IF(L1=40,'Données Pirelli'!M102)+IF(L1=41,'Données Pirelli'!M103)+IF(L1=42,'Données Pirelli'!M104)+IF(L1=43,'Données Pirelli'!M105)+IF(L1=44,'Données Pirelli'!M106)+IF(L1=45,'Données Pirelli'!M107)+IF(L1=46,'Données Pirelli'!M108)+IF(L1=47,'Données Pirelli'!M109)+IF(L1=48,'Données Pirelli'!M110)+IF(L1=49,'Données Pirelli'!M111)+IF(L1=50,'Données Pirelli'!M112)+IF(L1=51,'Données Pirelli'!M113)+IF(L1=52,'Données Pirelli'!M114) -> 1 | E8: =IF(OR(D8=0,D8=" ")," ",IF($D8>=$C8,1,2)) -> 1 | F8: =IF(L1=1,"")+IF(L1=2,"")+IF(L1=3,"")+IF(L1=4,"")+IF(L1=5,"")+IF(L1=6,"")+IF(L1=7,AVERAGE('Données Pirelli'!M63:M68))+IF(L1=8,AVERAGE('Données Pirelli'!M64:M69))+IF(L1=9,AVERAGE('Données Pirelli'!M65:M70))+IF(L1=10,AVERAGE('Données Pirelli'!M66:M71))+IF(L1=11,AVERAGE('Données Pirelli'!M67:M72))+IF(L1=12,AVERAGE('Données Pirelli'!M68:M73))+IF(L1=13,AVERAGE('Données Pirelli'!M69:M74))+IF(L1=14,AVERAGE('Données Pirelli'!M70:M75))+IF(L1=15,AVERAGE('Données Pirelli'!M71:M76))+IF(L1=16,AVERAGE('Données Pirelli'!M72:M77))+IF(L1=17,AVERAGE('Données Pirelli'!M73:M78))+IF(L1=18,AVERAGE('Données Pirelli'!M74:M79))+IF(L1=19,AVERAGE('Données Pirelli'!M75:M80))+IF(L1=20,AVERAGE('Données Pirelli'!M76:M81))+IF(L1=21,AVERAGE('Données Pirelli'!M77:M82))+IF(L1=22,AVERAGE('Données Pirelli'!M78:M83))+IF(L1=23,AVERAGE('Données Pirelli'!M79:M84))+IF(L1=24,AVERAGE('Données Pirelli'!M80:M85))+IF(L1=25,AVERAGE('Données Pirelli'!M81:M86))+IF(L1=26,AVERAGE('Données Pirelli'!M82:M87))+IF(L1=27,AVERAGE('Données Pirelli'!M83:M88))+IF(L1=28,AVERAGE('Données Pirelli'!M84:M89))+IF(L1=29,AVERAGE('Données Pirelli'!M85:M90))+IF(L1=30,AVERAGE('Données Pirelli'!M86:M91))+IF(L1=31,AVERAGE('Données Pirelli'!M87:M92))+IF(L1=32,AVERAGE('Données Pirelli'!M88:M93))+IF(L1=33,AVERAGE('Données Pirelli'!M89:M94))+IF(L1=34,AVERAGE('Données Pirelli'!M90:M95))+IF(L1=35,AVERAGE('Données Pirelli'!M91:M96))+IF(L1=36,AVERAGE('Données Pirelli'!M92:M97))+IF(L1=37,AVERAGE('Données Pirelli'!M93:M98))+IF(L1=38,AVERAGE('Données Pirelli'!M94:M99))+IF(L1=39,AVERAGE('Données Pirelli'!M95:M100))+IF(L1=40,AVERAGE('Données Pirelli'!M96:M101))+IF(L1=41,AVERAGE('Données Pirelli'!M97:M102))+IF(L1=42,AVERAGE('Données Pirelli'!M98:M103))+IF(L1=43,AVERAGE('Données Pirelli'!M99:M104))+IF(L1=44,AVERAGE('Données Pirelli'!M100:M105))+IF(L1=45,AVERAGE('Données Pirelli'!M101:M106))+IF(L1=46,AVERAGE('Données Pirelli'!M102:M107))+IF(L1=47,AVERAGE('Données Pirelli'!M103:M108))+IF(L1=48,AVERAGE('Données Pirelli'!M104:M109))+IF(L1=49,AVERAGE('Données Pirelli'!M105:M110))+IF(L1=50,AVERAGE('Données Pirelli'!M106:M111))+IF(L1=51,AVERAGE('Données Pirelli'!M107:M112))+IF(L1=52,AVERAGE('Données Pirelli'!M108:M113)) -> #VALUE! | G8: =IF(OR(F8=0,F8=" "),"",IF($F8>=$C8,1,2)) -> #VALUE! | H8: =IF(AND(L1=1,D8<C8),O8,"") | O8: crevaison | P8: 7
A9: 11 | B9: Inbound quantitative scan rate | C9: 0.995 | D9: =IF(L1=1,'Données Pirelli'!Q63)+IF(L1=2,'Données Pirelli'!Q64)+IF(L1=3,'Données Pirelli'!Q65)+IF(L1=4,'Données Pirelli'!Q66)+IF(L1=5,'Données Pirelli'!Q67)+IF(L1=6,'Données Pirelli'!Q68)+IF(L1=7,'Données Pirelli'!Q69)+IF(L1=8,'Données Pirelli'!Q70)+IF(L1=9,'Données Pirelli'!Q71)+IF(L1=10,'Données Pirelli'!Q72)+IF(L1=11,'Données Pirelli'!Q73)+IF(L1=12,'Données Pirelli'!Q74)+IF(L1=13,'Données Pirelli'!Q75)+IF(L1=14,'Données Pirelli'!Q76)+IF(L1=15,'Données Pirelli'!Q77)+IF(L1=16,'Données Pirelli'!Q78)+IF(L1=17,'Données Pirelli'!Q79)+IF(L1=18,'Données Pirelli'!Q80)+IF(L1=19,'Données Pirelli'!Q81)+IF(L1=20,'Données Pirelli'!Q82)+IF(L1=21,'Données Pirelli'!Q83)+IF(L1=22,'Données Pirelli'!Q84)+IF(L1=23,'Données Pirelli'!Q85)+IF(L1=24,'Données Pirelli'!Q86)+IF(L1=25,'Données Pirelli'!Q87)+IF(L1=26,'Données Pirelli'!Q88)+IF(L1=27,'Données Pirelli'!Q89)+IF(L1=28,'Données Pirelli'!Q90)+IF(L1=29,'Données Pirelli'!Q91)+IF(L1=30,'Données Pirelli'!Q92)+IF(L1=31,'Données Pirelli'!Q93)+IF(L1=32,'Données Pirelli'!Q94)+IF(L1=33,'Données Pirelli'!Q95)+IF(L1=34,'Données Pirelli'!Q96)+IF(L1=35,'Données Pirelli'!Q97)+IF(L1=36,'Données Pirelli'!Q98)+IF(L1=37,'Données Pirelli'!Q99)+IF(L1=38,'Données Pirelli'!Q100)+IF(L1=39,'Données Pirelli'!Q101)+IF(L1=40,'Données Pirelli'!Q102)+IF(L1=41,'Données Pirelli'!Q103)+IF(L1=42,'Données Pirelli'!Q104)+IF(L1=43,'Données Pirelli'!Q105)+IF(L1=44,'Données Pirelli'!Q106)+IF(L1=45,'Données Pirelli'!Q107)+IF(L1=46,'Données Pirelli'!Q108)+IF(L1=47,'Données Pirelli'!Q109)+IF(L1=48,'Données Pirelli'!Q110)+IF(L1=49,'Données Pirelli'!Q111)+IF(L1=50,'Données Pirelli'!Q112)+IF(L1=51,'Données Pirelli'!Q113)+IF(L1=52,'Données Pirelli'!Q114) -> 0.9998759 | E9: =IF(OR(D9=0,D9=" ")," ",IF($D9>=$C9,1,2)) -> 1 | F9: =IF(L1=1,"")+IF(L1=2,"")+IF(L1=3,"")+IF(L1=4,"")+IF(L1=5,"")+IF(L1=6,"")+IF(L1=7,AVERAGE('Données Pirelli'!Q63:Q68))+IF(L1=8,AVERAGE('Données Pirelli'!Q64:Q69))+IF(L1=9,AVERAGE('Données Pirelli'!Q65:Q70))+IF(L1=10,AVERAGE('Données Pirelli'!Q66:Q71))+IF(L1=11,AVERAGE('Données Pirelli'!Q67:Q72))+IF(L1=12,AVERAGE('Données Pirelli'!Q68:Q73))+IF(L1=13,AVERAGE('Données Pirelli'!Q69:Q74))+IF(L1=14,AVERAGE('Données Pirelli'!Q70:Q75))+IF(L1=15,AVERAGE('Données Pirelli'!Q71:Q76))+IF(L1=16,AVERAGE('Données Pirelli'!Q72:Q77))+IF(L1=17,AVERAGE('Données Pirelli'!Q73:Q78))+IF(L1=18,AVERAGE('Données Pirelli'!Q74:Q79))+IF(L1=19,AVERAGE('Données Pirelli'!Q75:Q80))+IF(L1=20,AVERAGE('Données Pirelli'!Q76:Q81))+IF(L1=21,AVERAGE('Données Pirelli'!Q77:Q82))+IF(L1=22,AVERAGE('Données Pirelli'!Q78:Q83))+IF(L1=23,AVERAGE('Données Pirelli'!Q79:Q84))+IF(L1=24,AVERAGE('Données Pirelli'!Q80:Q85))+IF(L1=25,AVERAGE('Données Pirelli'!Q81:Q86))+IF(L1=26,AVERAGE('Données Pirelli'!Q82:Q87))+IF(L1=27,AVERAGE('Données Pirelli'!Q83:Q88))+IF(L1=28,AVERAGE('Données Pirelli'!Q84:Q89))+IF(L1=29,AVERAGE('Données Pirelli'!Q85:Q90))+IF(L1=30,AVERAGE('Données Pirelli'!Q86:Q91))+IF(L1=31,AVERAGE('Données Pirelli'!Q87:Q92))+IF(L1=32,AVERAGE('Données Pirelli'!Q88:Q93))+IF(L1=33,AVERAGE('Données Pirelli'!Q89:Q94))+IF(L1=34,AVERAGE('Données Pirelli'!Q90:Q95))+IF(L1=35,AVERAGE('Données Pirelli'!Q91:Q96))+IF(L1=36,AVERAGE('Données Pirelli'!Q92:Q97))+IF(L1=37,AVERAGE('Données Pirelli'!Q93:Q98))+IF(L1=38,AVERAGE('Données Pirelli'!Q94:Q99))+IF(L1=39,AVERAGE('Données Pirelli'!Q95:Q100))+IF(L1=40,AVERAGE('Données Pirelli'!Q96:Q101))+IF(L1=41,AVERAGE('Données Pirelli'!Q97:Q102))+IF(L1=42,AVERAGE('Données Pirelli'!Q98:Q103))+IF(L1=43,AVERAGE('Données Pirelli'!Q99:Q104))+IF(L1=44,AVERAGE('Données Pirelli'!Q100:Q105))+IF(L1=45,AVERAGE('Données Pirelli'!Q101:Q106))+IF(L1=46,AVERAGE('Données Pirelli'!Q102:Q107))+IF(L1=47,AVERAGE('Données Pirelli'!Q103:Q108))+IF(L1=48,AVERAGE('Données Pirelli'!Q104:Q109))+IF(L1=49,AVERAGE('Données Pirelli'!Q105:Q110))+IF(L1=50,AVERAGE('Données Pirelli'!Q106:Q111))+IF(L1=51,AVERAGE('Données Pirelli'!Q107:Q112))+IF(L1=52,AVERAGE('Données Pirelli'!Q108:Q113)) -> #VALUE! | G9: =IF(OR(F9=0,F9=" ")," ",IF($F9>=$C9,1,2)) -> #VALUE! | O9: contrôle routier | P9: 8
O10: pas de code barre | P10: 9
O11: pas d'étiquette | P11: 10
O12: garage fermé | P12: 11
O13: crevaison | P13: 12
O14: contrôle routier | P14: 13
O15: pas de code barre | P15: 14
O16: pas d'étiquette | P16: 15
O17: garage fermé | P17: 16
O18: crevaison | P18: 17
O19: contrôle routier | P19: 18
O20: pas de code barre | P20: 19
O21: pas d'étiquette | P21: 20
... O53: pas d'étiquette | P53: 52

Sheet KPI 1
H1: KPI Overall Dashboard Pirelli CH | K1: Week | L1: ='Pirelli Synthèse'!L1 -> 1
B2: Pirelli CH | P2: 1 | Q2: ↑
P3: 2 | Q3: →
B4: ="KPI "&'Pirelli Synthèse'!A6 -> KPI 1 | D4: XPO Performance | H4: Reviews | P4: 3 | Q4: ↓
B5: Name | C5: Required | D5: Last Week | F5: Average of last 6 weeks | G5: Trend | H5: Cause of failure to reach target | P5: 4
A6: 1 | B6: ='Pirelli Synthèse'!B6 -> Delivery on time | C6: ='Pirelli Synthèse'!C6 -> 0.995 | D6: =IF(L1=1,'Données Pirelli'!E63)+IF(L1=2,'Données Pirelli'!E64)+IF(L1=3,'Données Pirelli'!E65)+IF(L1=4,'Données Pirelli'!E66)+IF(L1=5,'Données Pirelli'!E67)+IF(L1=6,'Données Pirelli'!E68)+IF(L1=7,'Données Pirelli'!E69)+IF(L1=8,'Données Pirelli'!E70)+IF(L1=9,'Données Pirelli'!E71)+IF(L1=10,'Données Pirelli'!E72)+IF(L1=11,'Données Pirelli'!E73)+IF(L1=12,'Données Pirelli'!E74)+IF(L1=13,'Données Pirelli'!E75)+IF(L1=14,'Données Pirelli'!E76)+IF(L1=15,'Données Pirelli'!E77)+IF(L1=16,'Données Pirelli'!E78)+IF(L1=17,'Données Pirelli'!E79)+IF(L1=18,'Données Pirelli'!E80)+IF(L1=19,'Données Pirelli'!E81)+IF(L1=20,'Données Pirelli'!E82)+IF(L1=21,'Données Pirelli'!E83)+IF(L1=22,'Données Pirelli'!E84)+IF(L1=23,'Données Pirelli'!E85)+IF(L1=24,'Données Pirelli'!E86)+IF(L1=25,'Données Pirelli'!E87)+IF(L1=26,'Données Pirelli'!E88)+IF(L1=27,'Données Pirelli'!E89)+IF(L1=28,'Données Pirelli'!E90)+IF(L1=29,'Données Pirelli'!E91)+IF(L1=30,'Données Pirelli'!E92)+IF(L1=31,'Données Pirelli'!E93)+IF(L1=32,'Données Pirelli'!E94)+IF(L1=33,'Données Pirelli'!E95)+IF(L1=34,'Données Pirelli'!E96)+IF(L1=35,'Données Pirelli'!E97)+IF(L1=36,'Données Pirelli'!E98)+IF(L1=37,'Données Pirelli'!E99)+IF(L1=38,'Données Pirelli'!E100)+IF(L1=39,'Données Pirelli'!E101)+IF(L1=40,'Données Pirelli'!E102)+IF(L1=41,'Données Pirelli'!E103)+IF(L1=42,'Données Pirelli'!E104)+IF(L1=43,'Données Pirelli'!E105)+IF(L1=44,'Données Pirelli'!E106)+IF(L1=45,'Données Pirelli'!E107)+IF(L1=46,'Données Pirelli'!E108)+IF(L1=47,'Données Pirelli'!E109)+IF(L1=48,'Données Pirelli'!E110)+IF(L1=49,'Données Pirelli'!E111)+IF(L1=50,'Données Pirelli'!E112)+IF(L1=51,'Données Pirelli'!E113)+IF(L1=52,'Données Pirelli'!E114) -> 0.99314271 | E6: =IF(OR(D6=0,D6=" ")," ",IF($F6>=$C6,1,2)) -> #VALUE! | F6: =IF(L1=1,"")+IF(L1=2,"")+IF(L1=3,"")+IF(L1=4,"")+IF(L1=5,"")+IF(L1=6,"")+IF(L1=7,AVERAGE('Données Pirelli'!E63:E68))+IF(L1=8,AVERAGE('Données Pirelli'!E64:E69))+IF(L1=9,AVERAGE('Données Pirelli'!E65:E70))+IF(L1=10,AVERAGE('Données Pirelli'!E66:E71))+IF(L1=11,AVERAGE('Données Pirelli'!E67:E72))+IF(L1=12,AVERAGE('Données Pirelli'!E68:E73))+IF(L1=13,AVERAGE('Données Pirelli'!E69:E74))+IF(L1=14,AVERAGE('Données Pirelli'!E70:E75))+IF(L1=15,AVERAGE('Données Pirelli'!E71:E76))+IF(L1=16,AVERAGE('Données Pirelli'!E72:E77))+IF(L1=17,AVERAGE('Données Pirelli'!E73:E78))+IF(L1=18,AVERAGE('Données Pirelli'!E74:E79))+IF(L1=19,AVERAGE('Données Pirelli'!E75:E80))+IF(L1=20,AVERAGE('Données Pirelli'!E76:E81))+IF(L1=21,AVERAGE('Données Pirelli'!E77:E82))+IF(L1=22,AVERAGE('Données Pirelli'!E78:E83))+IF(L1=23,AVERAGE('Données Pirelli'!E79:E84))+IF(L1=24,AVERAGE('Données Pirelli'!E80:E85))+IF(L1=25,AVERAGE('Données Pirelli'!E81:E86))+IF(L1=26,AVERAGE('Données Pirelli'!E82:E87))+IF(L1=27,AVERAGE('Données Pirelli'!E83:E88))+IF(L1=28,AVERAGE('Données Pirelli'!E84:E89))+IF(L1=29,AVERAGE('Données Pirelli'!E85:E90))+IF(L1=30,AVERAGE('Données Pirelli'!E86:E91))+IF(L1=31,AVERAGE('Données Pirelli'!E87:E92))+IF(L1=32,AVERAGE('Données Pirelli'!E88:E93))+IF(L1=33,AVERAGE('Données Pirelli'!E89:E94))+IF(L1=34,AVERAGE('Données Pirelli'!E90:E95))+IF(L1=35,AVERAGE('Données Pirelli'!E91:E96))+IF(L1=36,AVERAGE('Données Pirelli'!E92:E97))+IF(L1=37,AVERAGE('Données Pirelli'!E93:E98))+IF(L1=38,AVERAGE('Données Pirelli'!E94:E99))+IF(L1=39,AVERAGE('Données Pirelli'!E95:E100))+IF(L1=40,AVERAGE('Données Pirelli'!E96:E101))+IF(L1=41,AVERAGE('Données Pirelli'!E97:E102))+IF(L1=42,AVERAGE('Données Pirelli'!E98:E103))+IF(L1=43,AVERAGE('Données Pirelli'!E99:E104))+IF(L1=44,AVERAGE('Données Pirelli'!E100:E105))+IF(L1=45,AVERAGE('Données Pirelli'!E101:E106))+IF(L1=46,AVERAGE('Données Pirelli'!E102:E107))+IF(L1=47,AVERAGE('Données Pirelli'!E103:E108))+IF(L1=48,AVERAGE('Données Pirelli'!E104:E109))+IF(L1=49,AVERAGE('Données Pirelli'!E105:E110))+IF(L1=50,AVERAGE('Données Pirelli'!E106:E111))+IF(L1=51,AVERAGE('Données Pirelli'!E107:E112))+IF(L1=52,AVERAGE('Données Pirelli'!E108:E113)) -> #VALUE! | G6: =IF(OR(F6=0,F6=" ")," ",IF($F6>=$C6,1,2)) -> #VALUE! | H6: ='Pirelli Synthèse'!H6 -> garage fermé | P6: 5
P7: 7
P8: 8
P9: 9
P10: 11
P11: 12
P12: 13
P13: 14
P14: 15
P15: 16
P16: 17
P17: 18
P18: 19
... P51: 52

Sheet KPI 5
H1: KPI Overall Dashboard Pirelli CH | K1: Week | L1: ='Pirelli Synthèse'!L1 -> 1
B2: Pirelli CH | P2: 1
P3: 2
B4: ="KPI "&'Pirelli Synthèse'!A7 -> KPI 5 | D4: XPO Performance | H4: Reviews | P4: 3
B5: Name | C5: Required | D5: Last Week | F5: Average of last 6 weeks | H5: Cause of failure to reach target | P5: 4
A6: 5 | B6: ='Pirelli Synthèse'!B7 -> Not conformities | C6: ='Pirelli Synthèse'!C7 -> 0.0012 | D6: =IF(L1=1,'Données Pirelli'!I63)+IF(L1=2,'Données Pirelli'!I64)+IF(L1=3,'Données Pirelli'!I65)+IF(L1=4,'Données Pirelli'!I66)+IF(L1=5,'Données Pirelli'!I67)+IF(L1=6,'Données Pirelli'!I68)+IF(L1=7,'Données Pirelli'!I69)+IF(L1=8,'Données Pirelli'!I70)+IF(L1=9,'Données Pirelli'!I71)+IF(L1=10,'Données Pirelli'!I72)+IF(L1=11,'Données Pirelli'!I73)+IF(L1=12,'Données Pirelli'!I74)+IF(L1=13,'Données Pirelli'!I75)+IF(L1=14,'Données Pirelli'!I76)+IF(L1=15,'Données Pirelli'!I77)+IF(L1=16,'Données Pirelli'!I78)+IF(L1=17,'Données Pirelli'!I79)+IF(L1=18,'Données Pirelli'!I80)+IF(L1=19,'Données Pirelli'!I81)+IF(L1=20,'Données Pirelli'!I82)+IF(L1=21,'Données Pirelli'!I83)+IF(L1=22,'Données Pirelli'!I84)+IF(L1=23,'Données Pirelli'!I85)+IF(L1=24,'Données Pirelli'!I86)+IF(L1=25,'Données Pirelli'!I87)+IF(L1=26,'Données Pirelli'!I88)+IF(L1=27,'Données Pirelli'!I89)+IF(L1=28,'Données Pirelli'!I90)+IF(L1=29,'Données Pirelli'!I91)+IF(L1=30,'Données Pirelli'!I92)+IF(L1=31,'Données Pirelli'!I93)+IF(L1=32,'Données Pirelli'!I94)+IF(L1=33,'Données Pirelli'!I95)+IF(L1=34,'Données Pirelli'!I96)+IF(L1=35,'Données Pirelli'!I97)+IF(L1=36,'Données Pirelli'!I98)+IF(L1=37,'Données Pirelli'!I99)+IF(L1=38,'Données Pirelli'!I100)+IF(L1=39,'Données Pirelli'!I101)+IF(L1=40,'Données Pirelli'!I102)+IF(L1=41,'Données Pirelli'!I103)+IF(L1=42,'Données Pirelli'!I104)+IF(L1=43,'Données Pirelli'!I105)+IF(L1=44,'Données Pirelli'!I106)+IF(L1=45,'Données Pirelli'!I107)+IF(L1=46,'Données Pirelli'!I108)+IF(L1=47,'Données Pirelli'!I109)+IF(L1=48,'Données Pirelli'!I110)+IF(L1=49,'Données Pirelli'!I111)+IF(L1=50,'Données Pirelli'!I112)+IF(L1=51,'Données Pirelli'!I113)+IF(L1=52,'Données Pirelli'!I114) -> 0 | E6: =IF(D6<C6,1,2) -> 1 | F6: =IF(L1=1,"")+IF(L1=2,"")+IF(L1=3,"")+IF(L1=4,"")+IF(L1=5,"")+IF(L1=6,"")+IF(L1=7,AVERAGE('Données Pirelli'!I63:I68))+IF(L1=8,AVERAGE('Données Pirelli'!I64:I69))+IF(L1=9,AVERAGE('Données Pirelli'!I65:I70))+IF(L1=10,AVERAGE('Données Pirelli'!I66:I71))+IF(L1=11,AVERAGE('Données Pirelli'!I67:I72))+IF(L1=12,AVERAGE('Données Pirelli'!I68:I73))+IF(L1=13,AVERAGE('Données Pirelli'!I69:I74))+IF(L1=14,AVERAGE('Données Pirelli'!I70:I75))+IF(L1=15,AVERAGE('Données Pirelli'!I71:I76))+IF(L1=16,AVERAGE('Données Pirelli'!I72:I77))+IF(L1=17,AVERAGE('Données Pirelli'!I73:I78))+IF(L1=18,AVERAGE('Données Pirelli'!I74:I79))+IF(L1=19,AVERAGE('Données Pirelli'!I75:I80))+IF(L1=20,AVERAGE('Données Pirelli'!I76:I81))+IF(L1=21,AVERAGE('Données Pirelli'!I77:I82))+IF(L1=22,AVERAGE('Données Pirelli'!I78:I83))+IF(L1=23,AVERAGE('Données Pirelli'!I79:I84))+IF(L1=24,AVERAGE('Données Pirelli'!I80:I85))+IF(L1=25,AVERAGE('Données Pirelli'!I81:I86))+IF(L1=26,AVERAGE('Données Pirelli'!I82:I87))+IF(L1=27,AVERAGE('Données Pirelli'!I83:I88))+IF(L1=28,AVERAGE('Données Pirelli'!I84:I89))+IF(L1=29,AVERAGE('Données Pirelli'!I85:I90))+IF(L1=30,AVERAGE('Données Pirelli'!I86:I91))+IF(L1=31,AVERAGE('Données Pirelli'!I87:I92))+IF(L1=32,AVERAGE('Données Pirelli'!I88:I93))+IF(L1=33,AVERAGE('Données Pirelli'!I89:I94))+IF(L1=34,AVERAGE('Données Pirelli'!I90:I95))+IF(L1=35,AVERAGE('Données Pirelli'!I91:I96))+IF(L1=36,AVERAGE('Données Pirelli'!I92:I97))+IF(L1=37,AVERAGE('Données Pirelli'!I93:I98))+IF(L1=38,AVERAGE('Données Pirelli'!I94:I99))+IF(L1=39,AVERAGE('Données Pirelli'!I95:I100))+IF(L1=40,AVERAGE('Données Pirelli'!I96:I101))+IF(L1=41,AVERAGE('Données Pirelli'!I97:Q102))+IF(L1=42,AVERAGE('Données Pirelli'!I98:I103))+IF(L1=43,AVERAGE('Données Pirelli'!I99:I104))+IF(L1=44,AVERAGE('Données Pirelli'!I100:I105))+IF(L1=45,AVERAGE('Données Pirelli'!I101:I106))+IF(L1=46,AVERAGE('Données Pirelli'!I102:I107))+IF(L1=47,AVERAGE('Données Pirelli'!I103:I108))+IF(L1=48,AVERAGE('Données Pirelli'!I104:I109))+IF(L1=49,AVERAGE('Données Pirelli'!I105:I110))+IF(L1=50,AVERAGE('Données Pirelli'!I106:I111))+IF(L1=51,AVERAGE('Données Pirelli'!I107:I112))+IF(L1=52,AVERAGE('Données Pirelli'!I108:I113)) -> #VALUE! | G6: =IF(F6<C6,1,2) -> #VALUE! | H6: ='Pirelli Synthèse'!H7 -> 0 | P6: 5
P7: 7
P8: 8
P9: 10
P10: 11
P11: 12
P12: 13
P13: 14
P14: 15
P15: 16
P16: 17
P17: 18
P18: 19
... P51: 52

Sheet KPI 10
H1: KPI Overall Dashboard Pirelli CH | K1: Week | L1: ='Pirelli Synthèse'!L1 -> 1
B2: Pirelli CH | P2: 1
P3: 2
B4: ="KPI "&'Pirelli Synthèse'!A8 -> KPI 10 | D4: XPO Performance | H4: Reviews | P4: 3
B5: Name | C5: Required | D5: Last Week | F5: Average of last 6 weeks | H5: Cause of failure to reach target | P5: 4
A6: 10 | B6: ='Pirelli Synthèse'!B8 -> Outbound quantitative scan rate | C6: ='Pirelli Synthèse'!C8 -> 0.995 | D6: =IF(L1=1,'Données Pirelli'!M63)+IF(L1=2,'Données Pirelli'!M64)+IF(L1=3,'Données Pirelli'!M65)+IF(L1=4,'Données Pirelli'!M66)+IF(L1=5,'Données Pirelli'!M67)+IF(L1=6,'Données Pirelli'!M68)+IF(L1=7,'Données Pirelli'!M69)+IF(L1=8,'Données Pirelli'!M70)+IF(L1=9,'Données Pirelli'!M71)+IF(L1=10,'Données Pirelli'!M72)+IF(L1=11,'Données Pirelli'!M73)+IF(L1=12,'Données Pirelli'!M74)+IF(L1=13,'Données Pirelli'!M75)+IF(L1=14,'Données Pirelli'!M76)+IF(L1=15,'Données Pirelli'!M77)+IF(L1=16,'Données Pirelli'!M78)+IF(L1=17,'Données Pirelli'!M79)+IF(L1=18,'Données Pirelli'!M80)+IF(L1=19,'Données Pirelli'!M81)+IF(L1=20,'Données Pirelli'!M82)+IF(L1=21,'Données Pirelli'!M83)+IF(L1=22,'Données Pirelli'!M84)+IF(L1=23,'Données Pirelli'!M85)+IF(L1=24,'Données Pirelli'!M86)+IF(L1=25,'Données Pirelli'!M87)+IF(L1=26,'Données Pirelli'!M88)+IF(L1=27,'Données Pirelli'!M89)+IF(L1=28,'Données Pirelli'!M90)+IF(L1=29,'Données Pirelli'!M91)+IF(L1=30,'Données Pirelli'!M92)+IF(L1=31,'Données Pirelli'!M93)+IF(L1=32,'Données Pirelli'!M94)+IF(L1=33,'Données Pirelli'!M95)+IF(L1=34,'Données Pirelli'!M96)+IF(L1=35,'Données Pirelli'!M97)+IF(L1=36,'Données Pirelli'!M98)+IF(L1=37,'Données Pirelli'!M99)+IF(L1=38,'Données Pirelli'!M100)+IF(L1=39,'Données Pirelli'!M101)+IF(L1=40,'Données Pirelli'!M102)+IF(L1=41,'Données Pirelli'!M103)+IF(L1=42,'Données Pirelli'!M104)+IF(L1=43,'Données Pirelli'!M105)+IF(L1=44,'Données Pirelli'!M106)+IF(L1=45,'Données Pirelli'!M107)+IF(L1=46,'Données Pirelli'!M108)+IF(L1=47,'Données Pirelli'!M109)+IF(L1=48,'Données Pirelli'!M110)+IF(L1=49,'Données Pirelli'!M111)+IF(L1=50,'Données Pirelli'!M112)+IF(L1=51,'Données Pirelli'!M113)+IF(L1=52,'Données Pirelli'!M114) -> 1 | E6: =IF(D6>C6,1,2) -> 1 | F6: =IF(L1=1,"")+IF(L1=2,"")+IF(L1=3,"")+IF(L1=4,"")+IF(L1=5,"")+IF(L1=6,"")+IF(L1=7,AVERAGE('Données Pirelli'!M63:M68))+IF(L1=8,AVERAGE('Données Pirelli'!M64:M69))+IF(L1=9,AVERAGE('Données Pirelli'!M65:M70))+IF(L1=10,AVERAGE('Données Pirelli'!M66:M71))+IF(L1=11,AVERAGE('Données Pirelli'!M67:M72))+IF(L1=12,AVERAGE('Données Pirelli'!M68:M73))+IF(L1=13,AVERAGE('Données Pirelli'!M69:M74))+IF(L1=14,AVERAGE('Données Pirelli'!M70:M75))+IF(L1=15,AVERAGE('Données Pirelli'!M71:M76))+IF(L1=16,AVERAGE('Données Pirelli'!M72:M77))+IF(L1=17,AVERAGE('Données Pirelli'!M73:M78))+IF(L1=18,AVERAGE('Données Pirelli'!M74:M79))+IF(L1=19,AVERAGE('Données Pirelli'!M75:M80))+IF(L1=20,AVERAGE('Données Pirelli'!M76:M81))+IF(L1=21,AVERAGE('Données Pirelli'!M77:M82))+IF(L1=22,AVERAGE('Données Pirelli'!M78:M83))+IF(L1=23,AVERAGE('Données Pirelli'!M79:M84))+IF(L1=24,AVERAGE('Données Pirelli'!M80:M85))+IF(L1=25,AVERAGE('Données Pirelli'!M81:M86))+IF(L1=26,AVERAGE('Données Pirelli'!M82:M87))+IF(L1=27,AVERAGE('Données Pirelli'!M83:M88))+IF(L1=28,AVERAGE('Données Pirelli'!M84:M89))+IF(L1=29,AVERAGE('Données Pirelli'!M85:M90))+IF(L1=30,AVERAGE('Données Pirelli'!M86:M91))+IF(L1=31,AVERAGE('Données Pirelli'!M87:M92))+IF(L1=32,AVERAGE('Données Pirelli'!M88:M93))+IF(L1=33,AVERAGE('Données Pirelli'!M89:M94))+IF(L1=34,AVERAGE('Données Pirelli'!M90:M95))+IF(L1=35,AVERAGE('Données Pirelli'!M91:M96))+IF(L1=36,AVERAGE('Données Pirelli'!M92:M97))+IF(L1=37,AVERAGE('Données Pirelli'!M93:M98))+IF(L1=38,AVERAGE('Données Pirelli'!M94:M99))+IF(L1=39,AVERAGE('Données Pirelli'!M95:M100))+IF(L1=40,AVERAGE('Données Pirelli'!M96:M101))+IF(L1=41,AVERAGE('Données Pirelli'!M97:M102))+IF(L1=42,AVERAGE('Données Pirelli'!M98:M103))+IF(L1=43,AVERAGE('Données Pirelli'!M99:M104))+IF(L1=44,AVERAGE('Données Pirelli'!M100:M105))+IF(L1=45,AVERAGE('Données Pirelli'!M101:M106))+IF(L1=46,AVERAGE('Données Pirelli'!M102:M107))+IF(L1=47,AVERAGE('Données Pirelli'!M103:M108))+IF(L1=48,AVERAGE('Données Pirelli'!M104:M109))+IF(L1=49,AVERAGE('Données Pirelli'!M105:M110))+IF(L1=50,AVERAGE('Données Pirelli'!M106:M111))+IF(L1=51,AVERAGE('Données Pirelli'!M107:M112))+IF(L1=52,AVERAGE('Données Pirelli'!M108:M113)) -> #VALUE! | G6: =IF(F6>C6,1,2) -> #VALUE! | H6: ='Pirelli Synthèse'!H8 | P6: 5
P7: 7
P8: 8
P9: 9
P10: 10
P11: 11
P12: 12
P13: 13
P14: 14
P15: 15
P16: 16
P17: 17
P18: 18
... P52: 52

Sheet KPI 11
H1: KPI Overall Dashboard Pirelli CH | K1: Week | L1: ='Pirelli Synthèse'!L1 -> 1
B2: Pirelli CH | P2: 1
P3: 2
B4: ="KPI "&'Pirelli Synthèse'!A9 -> KPI 11 | D4: XPO Performance | H4: Reviews | P4: 3
B5: Name | C5: Required | D5: Last Week | F5: Average of last 6 weeks | H5: Cause of failure to reach target | P5: 4
A6: 11 | B6: ='Pirelli Synthèse'!B9 -> Inbound quantitative scan rate | C6: ='Pirelli Synthèse'!C9 -> 0.995 | D6: =IF(L1=1,'Données Pirelli'!Q63)+IF(L1=2,'Données Pirelli'!Q64)+IF(L1=3,'Données Pirelli'!Q65)+IF(L1=4,'Données Pirelli'!Q66)+IF(L1=5,'Données Pirelli'!Q67)+IF(L1=6,'Données Pirelli'!Q68)+IF(L1=7,'Données Pirelli'!Q69)+IF(L1=8,'Données Pirelli'!Q70)+IF(L1=9,'Données Pirelli'!Q71)+IF(L1=10,'Données Pirelli'!Q72)+IF(L1=11,'Données Pirelli'!Q73)+IF(L1=12,'Données Pirelli'!Q74)+IF(L1=13,'Données Pirelli'!Q75)+IF(L1=14,'Données Pirelli'!Q76)+IF(L1=15,'Données Pirelli'!Q77)+IF(L1=16,'Données Pirelli'!Q78)+IF(L1=17,'Données Pirelli'!Q79)+IF(L1=18,'Données Pirelli'!Q80)+IF(L1=19,'Données Pirelli'!Q81)+IF(L1=20,'Données Pirelli'!Q82)+IF(L1=21,'Données Pirelli'!Q83)+IF(L1=22,'Données Pirelli'!Q84)+IF(L1=23,'Données Pirelli'!Q85)+IF(L1=24,'Données Pirelli'!Q86)+IF(L1=25,'Données Pirelli'!Q87)+IF(L1=26,'Données Pirelli'!Q88)+IF(L1=27,'Données Pirelli'!Q89)+IF(L1=28,'Données Pirelli'!Q90)+IF(L1=29,'Données Pirelli'!Q91)+IF(L1=30,'Données Pirelli'!Q92)+IF(L1=31,'Données Pirelli'!Q93)+IF(L1=32,'Données Pirelli'!Q94)+IF(L1=33,'Données Pirelli'!Q95)+IF(L1=34,'Données Pirelli'!Q96)+IF(L1=35,'Données Pirelli'!Q97)+IF(L1=36,'Données Pirelli'!Q98)+IF(L1=37,'Données Pirelli'!Q99)+IF(L1=38,'Données Pirelli'!Q100)+IF(L1=39,'Données Pirelli'!Q101)+IF(L1=40,'Données Pirelli'!Q102)+IF(L1=41,'Données Pirelli'!Q103)+IF(L1=42,'Données Pirelli'!Q104)+IF(L1=43,'Données Pirelli'!Q105)+IF(L1=44,'Données Pirelli'!Q106)+IF(L1=45,'Données Pirelli'!Q107)+IF(L1=46,'Données Pirelli'!Q108)+IF(L1=47,'Données Pirelli'!Q109)+IF(L1=48,'Données Pirelli'!Q110)+IF(L1=49,'Données Pirelli'!Q111)+IF(L1=50,'Données Pirelli'!Q112)+IF(L1=51,'Données Pirelli'!Q113)+IF(L1=52,'Données Pirelli'!Q114) -> 0.9998759 | E6: =IF(OR(D6=0,D6=" ")," ",IF($D6>=$C6,1,2)) -> 1 | F6: =IF(L1=1,"")+IF(L1=2,"")+IF(L1=3,"")+IF(L1=4,"")+IF(L1=5,"")+IF(L1=6,"")+IF(L1=7,AVERAGE('Données Pirelli'!Q63:Q68))+IF(L1=8,AVERAGE('Données Pirelli'!Q64:Q69))+IF(L1=9,AVERAGE('Données Pirelli'!Q65:Q70))+IF(L1=10,AVERAGE('Données Pirelli'!Q66:Q71))+IF(L1=11,AVERAGE('Données Pirelli'!Q67:Q72))+IF(L1=12,AVERAGE('Données Pirelli'!Q68:Q73))+IF(L1=13,AVERAGE('Données Pirelli'!Q69:Q74))+IF(L1=14,AVERAGE('Données Pirelli'!Q70:Q75))+IF(L1=15,AVERAGE('Données Pirelli'!Q71:Q76))+IF(L1=16,AVERAGE('Données Pirelli'!Q72:Q77))+IF(L1=17,AVERAGE('Données Pirelli'!Q73:Q78))+IF(L1=18,AVERAGE('Données Pirelli'!Q74:Q79))+IF(L1=19,AVERAGE('Données Pirelli'!Q75:Q80))+IF(L1=20,AVERAGE('Données Pirelli'!Q76:Q81))+IF(L1=21,AVERAGE('Données Pirelli'!Q77:Q82))+IF(L1=22,AVERAGE('Données Pirelli'!Q78:Q83))+IF(L1=23,AVERAGE('Données Pirelli'!Q79:Q84))+IF(L1=24,AVERAGE('Données Pirelli'!Q80:Q85))+IF(L1=25,AVERAGE('Données Pirelli'!Q81:Q86))+IF(L1=26,AVERAGE('Données Pirelli'!Q82:Q87))+IF(L1=27,AVERAGE('Données Pirelli'!Q83:Q88))+IF(L1=28,AVERAGE('Données Pirelli'!Q84:Q89))+IF(L1=29,AVERAGE('Données Pirelli'!Q85:Q90))+IF(L1=30,AVERAGE('Données Pirelli'!Q86:Q91))+IF(L1=31,AVERAGE('Données Pirelli'!Q87:Q92))+IF(L1=32,AVERAGE('Données Pirelli'!Q88:Q93))+IF(L1=33,AVERAGE('Données Pirelli'!Q89:Q94))+IF(L1=34,AVERAGE('Données Pirelli'!Q90:Q95))+IF(L1=35,AVERAGE('Données Pirelli'!Q91:Q96))+IF(L1=36,AVERAGE('Données Pirelli'!Q92:Q97))+IF(L1=37,AVERAGE('Données Pirelli'!Q93:Q98))+IF(L1=38,AVERAGE('Données Pirelli'!Q94:Q99))+IF(L1=39,AVERAGE('Données Pirelli'!Q95:Q100))+IF(L1=40,AVERAGE('Données Pirelli'!Q96:Q101))+IF(L1=41,AVERAGE('Données Pirelli'!Q97:Q102))+IF(L1=42,AVERAGE('Données Pirelli'!Q98:Q103))+IF(L1=43,AVERAGE('Données Pirelli'!Q99:Q104))+IF(L1=44,AVERAGE('Données Pirelli'!Q100:Q105))+IF(L1=45,AVERAGE('Données Pirelli'!Q101:Q106))+IF(L1=46,AVERAGE('Données Pirelli'!Q102:Q107))+IF(L1=47,AVERAGE('Données Pirelli'!Q103:Q108))+IF(L1=48,AVERAGE('Données Pirelli'!Q104:Q109))+IF(L1=49,AVERAGE('Données Pirelli'!Q105:Q110))+IF(L1=50,AVERAGE('Données Pirelli'!Q106:Q111))+IF(L1=51,AVERAGE('Données Pirelli'!Q107:Q112))+IF(L1=52,AVERAGE('Données Pirelli'!Q108:Q113)) -> #VALUE! | G6: =IF(OR(F6=0,F6=" ")," ",IF($D6>=$C6,1,2)) -> #VALUE! | H6: ='Pirelli Synthèse'!H9 -> 0 | P6: 5
P7: 7
P8: 8
P9: 9
P10: 10
P11: 11
P12: 12
P13: 13
P14: 14
P15: 15
P16: 16
P17: 17
P18: 18
... P52: 52

Sheet Données Pirelli
D1: KPI 1: Taux livraison avant 12h00 (Nbre totale de LS / nbre total de LS livrés en retard) | H1: KPI 5: Taux de non conformités (Nombre de lignes de cdes en erreur par rapport au BL/Nombre total de lignes de cdes expédiées) | L1: KPI 10: Taux de scannage en sortie (Nb de N° de série de pneus lu en sortie /Nbre total de pneus expédiés) Nb camions-conteneurs planifiés) | P1: KPI 11: Taux de scannage en entrées (Nb de N° de série de pneus lu en entrée /Nbre total de pneus reçus) Nb camions-conteneurs planifiés)
A2: Semaine | B2: Mois | C2: Nbre de jours de travail | D2: Taux de livraison avant 12h00 | E2: Nbre total de LS | F2: Nbre de LS livrés en retard | G2: Cible | H2: Taux de non conformités | I2: Nbre total de lignes cdes expédiées | J2: Nbre de lignes de cdes en erreur | K2: Cible | L2: Taux de scannage en sortie | M2: Nbre total de pneus expédiés | N2: Nbre total de pneus scannés | O2: Cible | P2: Taux de scannage en entrée | Q2: Nbre total de pneus réceptionnés | R2: Nbre total de pneus scannés | S2: Cible | V2: Nbre de livraison total | W2: Nbre de livraison en retard | X2: Taux de %
A3: 1 | B3: 1 | C3: 5 | D3: =AVERAGE('[2]Scorecard 1 quarter '!$F$91:$I$91) -> 0.99314271 | E3: ='[2]Scorecard 1 quarter '!$F$92+'[2]Scorecard 1 quarter '!$G$92+'[2]Scorecard 1 quarter '!$H$92+'[2]Scorecard 1 quarter '!$I$92 -> 438 | F3: ='[2]Scorecard 1 quarter '!$F$93+'[2]Scorecard 1 quarter '!$G$93+'[2]Scorecard 1 quarter '!$H$93+'[2]Scorecard 1 quarter '!$I$93 -> 4 | G3: 0.995 | H3: =J3/I3 -> 0 | I3: ='[2]Scorecard 1 quarter '!$F$102+'[2]Scorecard 1 quarter '!$G$102+'[2]Scorecard 1 quarter '!$H$102+'[2]Scorecard 1 quarter '!$I$102 -> 492 | J3: ='[2]Scorecard 1 quarter '!$F$103+'[2]Scorecard 1 quarter '!$G$103+'[2]Scorecard 1 quarter '!$H$103+'[2]Scorecard 1 quarter '!$I$103 -> 0 | K3: 0.0012 | L3: =AVERAGE('[2]Scorecard 1 quarter '!$F$120:$I$120) -> 1 | M3: ='[2]Scorecard 1 quarter '!$F$121+'[2]Scorecard 1 quarter '!$G$121+'[2]Scorecard 1 quarter '!$H$121+'[2]Scorecard 1 quarter '!$I$121 -> 2007 | N3: ='[2]Scorecard 1 quarter '!$F$122+'[2]Scorecard 1 quarter '!$G$122+'[2]Scorecard 1 quarter '!$H$122+'[2]Scorecard 1 quarter '!$I$122 -> 2007 | O3: 0.995 | P3: =AVERAGE('[2]Scorecard 1 quarter '!$F$130:$I$130) -> 0.9998759 | Q3: ='[2]Scorecard 1 quarter '!$F$131+'[2]Scorecard 1 quarter '!$H$131+'[2]Scorecard 1 quarter '!$I$131 -> 5315 | R3: ='[2]Scorecard 1 quarter '!$F$132+'[2]Scorecard 1 quarter '!$H$132+'[2]Scorecard 1 quarter '!$I$132 -> 5314 | S3: 0.995 | V3: Taux de livraison avant 12:00 | AA3: Non conformités
A4: 2 | B4: 1 | C4: 5 | D4: =AVERAGE('[2]Scorecard 1 quarter '!$L$91:$P$91) -> 0.9965558 | E4: ='[2]Scorecard 1 quarter '!$L$92+'[2]Scorecard 1 quarter '!$M$92+'[2]Scorecard 1 quarter '!$N$92+'[2]Scorecard 1 quarter '!$O$92+'[2]Scorecard 1 quarter '!$P$92 -> 681 | F4: ='[2]Scorecard 1 quarter '!$L$93+'[2]Scorecard 1 quarter '!$M$93+'[2]Scorecard 1 quarter '!$N$93+'[2]Scorecard 1 quarter '!$O$93+'[2]Scorecard 1 quarter '!$P$93 -> 2 | G4: 0.995 | H4: =J4/I4 -> 0 | I4: ='[2]Scorecard 1 quarter '!$L$102+'[2]Scorecard 1 quarter '!$M$102+'[2]Scorecard 1 quarter '!$N$102+'[2]Scorecard 1 quarter '!$O$102+'[2]Scorecard 1 quarter '!$P$102 -> 872 | J4: ='[2]Scorecard 1 quarter '!$L$103+'[2]Scorecard 1 quarter '!$M$103+'[2]Scorecard 1 quarter '!$N$103+'[2]Scorecard 1 quarter '!$O$103+'[2]Scorecard 1 quarter '!$P$103 -> 0 | K4: 0.0012 | L4: =AVERAGE('[2]Scorecard 1 quarter '!$L$120:$P$120) -> 1 | M4: ='[2]Scorecard 1 quarter '!$L$121+'[2]Scorecard 1 quarter '!$M$121+'[2]Scorecard 1 quarter '!$N$121+'[2]Scorecard 1 quarter '!$O$121+'[2]Scorecard 1 quarter '!$P$121 -> 3682 | N4: ='[2]Scorecard 1 quarter '!$L$122+'[2]Scorecard 1 quarter '!$M$122+'[2]Scorecard 1 quarter '!$N$122+'[2]Scorecard 1 quarter '!$O$122+'[2]Scorecard 1 quarter '!$P$122 -> 3682 | O4: 0.995 | P4: =AVERAGE('[2]Scorecard 1 quarter '!$L$130:$P$130) -> 1 | Q4: ='[2]Scorecard 1 quarter '!$L$131+'[2]Scorecard 1 quarter '!$M$131+'[2]Scorecard 1 quarter '!$N$131+'[2]Scorecard 1 quarter '!$O$131+'[2]Scorecard 1 quarter '!$P$131 -> 7220 | R4: ='[2]Scorecard 1 quarter '!$L$132+'[2]Scorecard 1 quarter '!$M$132+'[2]Scorecard 1 quarter '!$N$132+'[2]Scorecard 1 quarter '!$O$132+'[2]Scorecard 1 quarter '!$P$132 -> 7220 | S4: 0.995 | U4: Janvier | V4: =SUM(E3:E7) -> 2457 | W4: =SUM(F3:F7) -> 8 | X4: =1-(W4/V4) -> 0.996744 | Z4: Janvier | AA4: =SUM(I3:I7) -> 3417 | AB4: =SUM(J3:J7) -> 0 | AC4: =AB4/AA4 -> 0
A5: 3 | B5: 1 | C5: 5 | D5: =AVERAGE('[2]Scorecard 1 quarter '!$S$91:$W$91) -> 0.9954023 | E5: ='[2]Scorecard 1 quarter '!$S$92+'[2]Scorecard 1 quarter '!$T$92+'[2]Scorecard 1 quarter '!$U$92+'[2]Scorecard 1 quarter '!$V$92+'[2]Scorecard 1 quarter '!$W$92 -> 605 | F5: ='[2]Scorecard 1 quarter '!$S$93+'[2]Scorecard 1 quarter '!$T$93+'[2]Scorecard 1 quarter '!$U$93+'[2]Scorecard 1 quarter '!$V$93+'[2]Scorecard 1 quarter '!$W$93 -> 2 | G5: 0.995 | H5: =J5/I5 -> 0 | I5: ='[2]Scorecard 1 quarter '!$S$102+'[2]Scorecard 1 quarter '!$T$102+'[2]Scorecard 1 quarter '!$U$102+'[2]Scorecard 1 quarter '!$V$102+'[2]Scorecard 1 quarter '!$W$102 -> 781 | J5: ='[2]Scorecard 1 quarter '!$S$103+'[2]Scorecard 1 quarter '!$T$103+'[2]Scorecard 1 quarter '!$U$103+'[2]Scorecard 1 quarter '!$V$103+'[2]Scorecard 1 quarter '!$W$103 -> 0 | K5: 0.0012 | L5: =AVERAGE('[2]Scorecard 1 quarter '!$S$120:$W$120) -> 1 | M5: ='[2]Scorecard 1 quarter '!$S$121+'[2]Scorecard 1 quarter '!$T$121+'[2]Scorecard 1 quarter '!$U$121+'[2]Scorecard 1 quarter '!$V$121+'[2]Scorecard 1 quarter '!$W$121 -> 4470 | N5: ='[2]Scorecard 1 quarter '!$S$122+'[2]Scorecard 1 quarter '!$T$122+'[2]Scorecard 1 quarter '!$U$122+'[2]Scorecard 1 quarter '!$V$122+'[2]Scorecard 1 quarter '!$W$122 -> 4470 | O5: 0.995 | P5: =AVERAGE('[2]Scorecard 1 quarter '!$S$130:$W$130) -> 0.99981541 | Q5: ='[2]Scorecard 1 quarter '!$S$131+'[2]Scorecard 1 quarter '!$T$131+'[2]Scorecard 1 quarter '!$U$131+'[2]Scorecard 1 quarter '!$V$131+'[2]Scorecard 1 quarter '!$W$131 -> 12330 | R5: ='[2]Scorecard 1 quarter '!$S$132+'[2]Scorecard 1 quarter '!$T$132+'[2]Scorecard 1 quarter '!$U$132+'[2]Scorecard 1 quarter '!$V$132+'[2]Scorecard 1 quarter '!$W$132 -> 12328 | S5: 0.995 | U5: Février | V5: =SUM(E8:E12) -> 2251 | W5: =SUM(F8:F12) -> 3 | X5: =1-(W5/V5) -> 0.99866726 | Z5: Février | AA5: =SUM(I8:I12) -> 5131 | AB5: =SUM(J8:J12) -> 2 | AC5: =AB5/AA5 -> 0.00038978757
A6: 4 | B6: 1 | C6: 5 | D6: =AVERAGE('[2]Scorecard 1 quarter '!$Z$91:$AD$91) -> 1 | E6: =SUM('[2]Scorecard 1 quarter '!$Z$92:$AD$92) -> 515 | F6: =SUM('[2]Scorecard 1 quarter '!$Z$93:$AD$93) -> 0 | G6: 0.995 | H6: =J6/I6 -> 0 | I6: =SUM('[2]Scorecard 1 quarter '!$Z$102:$AD$102) -> 827 | J6: =SUM('[2]Scorecard 1 quarter '!$Z$103:$AD$103) -> 0 | K6: 0.0012 | L6: =AVERAGE('[2]Scorecard 1 quarter '!$Z$120:$AD$120) -> 1 | M6: =SUM('[2]Scorecard 1 quarter '!$Z$121:$AD$121) -> 7056 | N6: =SUM('[2]Scorecard 1 quarter '!$Z$122:$AD$122) -> 7056 | O6: 0.995 | P6: =AVERAGE('[2]Scorecard 1 quarter '!$Z$130:$AD$130) -> 0.99983111 | Q6: =SUM('[2]Scorecard 1 quarter '!$Z$131:$AD$131) -> 10273 | R6: =SUM('[2]Scorecard 1 quarter '!$Z$132:$AD$132) -> 10271 | S6: 0.995 | U6: Mars | V6: =SUM(E13:E17) -> 6935 | W6: =SUM(F13:F17) -> 16 | X6: =1-(W6/V6) -> 0.99769286 | Z6: Mars | AA6: =SUM(I13:I17) -> 12572 | AB6: =SUM(J13:J17) -> 7 | AC6: =AB6/AA6 -> 0.00055679287
A7: 5 | B7: 1 | C7: 2 | D7: =AVERAGE('[2]Scorecard 1 quarter '!$AG$91:$AH$91) -> 1 | E7: =SUM('[2]Scorecard 1 quarter '!$AG$92:$AH$92) -> 218 | F7: =SUM('[2]Scorecard 1 quarter '!$AG$93:$AH$93) -> 0 | G7: 0.995 | H7: =J7/I7 -> 0 | I7: =SUM('[2]Scorecard 1 quarter '!$AG$102:$AH$102) -> 445 | J7: =SUM('[2]Scorecard 1 quarter '!$AG$103:$AH$103) -> 0 | K7: 0.0012 | L7: =AVERAGE('[2]Scorecard 1 quarter '!$AG$120:$AH$120) -> 1 | M7: =SUM('[2]Scorecard 1 quarter '!$AG$121:$AH$121) -> 4170 | N7: =SUM('[2]Scorecard 1 quarter '!$AG$122:$AH$122) -> 4170 | O7: 0.995 | P7: =AVERAGE('[2]Scorecard 1 quarter '!$AG$130:$AH$130) -> 1 | Q7: =SUM('[2]Scorecard 1 quarter '!$AG$131:$AH$131) -> 3128 | R7: =SUM('[2]Scorecard 1 quarter '!$AG$132:$AH$132) -> 3128 | S7: 0.995 | U7: Avril | V7: =SUM(E18:E21) -> 5856 | W7: =SUM(F18:F21) -> 9 | X7: =1-(W7/V7) -> 0.99846311 | Z7: Avril | AA7: =SUM(I18:I21) -> 7255 | AB7: =SUM(J18:J21) -> 3 | AC7: =AB7/AA7 -> 0.00041350793
A8: 5 | B8: 2 | C8: 3 | D8: =AVERAGE('[2]Scorecard 1 quarter '!$AJ$91:$AL$91) -> 0.9964539 | E8: =SUM('[2]Scorecard 1 quarter '!$AJ$92:$AL$92) -> 260 | F8: =SUM('[2]Scorecard 1 quarter '!$AJ$93:$AL$93) -> 1 | G8: 0.995 | H8: =J8/I8 -> 0 | I8: =SUM('[2]Scorecard 1 quarter '!$AJ$102:$AL$102) -> 314 | J8: =SUM('[2]Scorecard 1 quarter '!$AJ$103:$AL$103) -> 0 | K8: 0.0012 | L8: =AVERAGE('[2]Scorecard 1 quarter '!$AJ$120:$AL$120) -> 1 | M8: =SUM('[2]Scorecard 1 quarter '!$AJ$121:$AL$121) -> 2092 | N8: =SUM('[2]Scorecard 1 quarter '!$AJ$122:$AL$122) -> 2092 | O8: 0.995 | P8: =AVERAGE('[2]Scorecard 1 quarter '!$AJ$130:$AL$130) -> 0.99979009 | Q8: =SUM('[2]Scorecard 1 quarter '!$AJ$131+'[2]Scorecard 1 quarter '!$AL$131) -> 4059 | R8: =SUM('[2]Scorecard 1 quarter '!$AJ$132:$AL$132) -> 4058 | S8: 0.995 | U8: Mai | V8: =SUM(E22:E26) -> 0 | W8: =SUM(F22:F26) -> 0 | X8: =1-(W8/V8) -> #DIV/0! | Z8: Mai | AA8: =SUM(I22:I26) -> 0 | AB8: =SUM(J22:J26) -> 0 | AC8: =AB8/AA8 -> #DIV/0!
A9: 6 | B9: 2 | C9: 5 | D9: =AVERAGE('[2]Scorecard 1 quarter '!$AO$91:$AS$91) -> 1 | E9: =SUM('[2]Scorecard 1 quarter '!$AO$92:$AS$92) -> 498 | F9: =SUM('[2]Scorecard 1 quarter '!$AO$93:$AS$93) -> 0 | G9: 0.995 | H9: =J9/I9 -> 0.00089206066 | I9: =SUM('[2]Scorecard 1 quarter '!$AO$102:$AS$102) -> 1121 | J9: =SUM('[2]Scorecard 1 quarter '!$AO$103:$AS$103) -> 1 | K9: 0.0012 | L9: =AVERAGE('[2]Scorecard 1 quarter '!$AO$120:$AS$120) -> 1 | M9: =SUM('[2]Scorecard 1 quarter '!$AO$121:$AS$121) -> 9873 | N9: =SUM('[2]Scorecard 1 quarter '!$AO$122:$AS$122) -> 9873 | O9: 0.995 | P9: =AVERAGE('[2]Scorecard 1 quarter '!$AO$130:$AS$130) -> 0.99959058 | Q9: =SUM('[2]Scorecard 1 quarter '!$AO$131:$AS$131) -> 8304 | R9: =SUM('[2]Scorecard 1 quarter '!$AO$132:$AS$132) -> 8302 | S9: 0.995 | U9: Juin | V9: =SUM(E27:E31) -> 0 | W9: =SUM(F27:F31) -> 0 | X9: =1-(W9/V9) -> #DIV/0! | Z9: Juin | AA9: =SUM(I27:I31) -> 0 | AB9: =SUM(J27:J31) -> 0 | AC9: =AB9/AA9 -> #DIV/0!
A10: 7 | B10: 2 | C10: 5 | D10: =AVERAGE('[2]Scorecard 1 quarter '!$AV$91:$AZ$91) -> 1 | E10: =SUM('[2]Scorecard 1 quarter '!$AV$92:$AZ$92) -> 544 | F10: =SUM('[2]Scorecard 1 quarter '!$AV$93:$AZ$93) -> 0 | G10: 0.995 | H10: =J10/I10 -> 0 | I10: =SUM('[2]Scorecard 1 quarter '!$AV$102:$AZ$102) -> 1139 | J10: =SUM('[2]Scorecard 1 quarter '!$AV$103:$AZ$103) -> 0 | K10: 0.0012 | L10: =AVERAGE('[2]Scorecard 1 quarter '!$AV$120:$AZ$120) -> 1 | M10: =SUM('[2]Scorecard 1 quarter '!$AV$121:$AZ$121) -> 9774 | N10: =SUM('[2]Scorecard 1 quarter '!$AV$122:$AZ$122) -> 9774 | O10: 0.995 | P10: =AVERAGE('[2]Scorecard 1 quarter '!$AV$130:$AZ$130) -> 0.99981885 | Q10: =SUM('[2]Scorecard 1 quarter '!$AV$131:$AZ$131) -> 10166 | R10: =SUM('[2]Scorecard 1 quarter '!$AV$132:$AZ$132) -> 10164 | S10: 0.995 | U10: Juillet | V10: =SUM(E32:E36) -> 0 | W10: =SUM(F32:F36) -> 0 | X10: =1-(W10/V10) -> #DIV/0! | Z10: Juillet | AA10: =SUM(I32:I36) -> 0 | AB10: =SUM(J32:J36) -> 0 | AC10: =AB10/AA10 -> #DIV/0!
A11: 8 | B11: 2 | C11: 5 | D11: =AVERAGE('[2]Scorecard 1 quarter '!$BC$91:$BG$91) -> 1 | E11: =SUM('[2]Scorecard 1 quarter '!$BC$92:$BG$92) -> 595 | F11: =SUM('[2]Scorecard 1 quarter '!$BC$93:$BG$93) -> 0 | G11: 0.995 | H11: =J11/I11 -> 0 | I11: =SUM('[2]Scorecard 1 quarter '!$BC$102:$BG$102) -> 1329 | J11: =SUM('[2]Scorecard 1 quarter '!$BC$103:$BG$103) -> 0 | K11: 0.0012 | L11: =AVERAGE('[2]Scorecard 1 quarter '!$BC$120:$BG$120) -> 1 | M11: =SUM('[2]Scorecard 1 quarter '!$BC$121:$BG$121) -> 12985 | N11: =SUM('[2]Scorecard 1 quarter '!$BC$122:$BG$122) -> 12985 | O11: 0.995 | P11: =AVERAGE('[2]Scorecard 1 quarter '!$BC$130:$BG$130) -> 0.99974611 | Q11: =SUM('[2]Scorecard 1 quarter '!$BC$131:$BG$131) -> 11921 | R11: =SUM('[2]Scorecard 1 quarter '!$BC$132:$BG$132) -> 11917 | S11: 0.995 | U11: Août | V11: =SUM(E37:E41) -> 0 | W11: =SUM(F37:F41) -> 0 | X11: =1-(W11/V11) -> #DIV/0! | Z11: Août | AA11: =SUM(I37:I41) -> 0 | AB11: =SUM(J37:J41) -> 0 | AC11: =AB11/AA11 -> #DIV/0!
A12: 9 | B12: 2 | C12: 2 | D12: =AVERAGE('[2]Scorecard 1 quarter '!$BJ$91:$BK$91) -> 0.99310345 | E12: =SUM('[2]Scorecard 1 quarter '!$BJ$92:$BK$92) -> 354 | F12: =SUM('[2]Scorecard 1 quarter '!$BJ$93:$BK$93) -> 2 | G12: 0.995 | H12: =J12/I12 -> 0.00081433225 | I12: =SUM('[2]Scorecard 1 quarter '!$BJ$102:$BK$102) -> 1228 | J12: =SUM('[2]Scorecard 1 quarter '!$BJ$103:$BK$103) -> 1 | K12: 0.0012 | L12: =AVERAGE('[2]Scorecard 1 quarter '!$BJ$120:$BK$120) -> 1 | M12: =SUM('[2]Scorecard 1 quarter '!$BJ$121:$BK$121) -> 7965 | N12: =SUM('[2]Scorecard 1 quarter '!$BJ$122:$BK$122) -> 7965 | O12: 0.995 | P12: =AVERAGE('[2]Scorecard 1 quarter '!$BJ$130:$BK$130) -> 0.99922943 | Q12: =SUM('[2]Scorecard 1 quarter '!$BJ$131:$BK$131) -> 6130 | R12: =SUM('[2]Scorecard 1 quarter '!$BJ$132:$BK$132) -> 6126 | S12: 0.995 | U12: Septembre | V12: =SUM(E42:E46) -> 0 | W12: =SUM(F42:F46) -> 0 | X12: =1-(W12/V12) -> #DIV/0! | Z12: Septembre | AA12: =SUM(I42:I46) -> 0 | AB12: =SUM(J42:J46) -> 0 | AC12: =AB12/AA12 -> #DIV/0!
A13: 9 | B13: 3 | C13: 3 | D13: =AVERAGE('[2]Scorecard 1 quarter '!$BM$91:$BO$91) -> 1 | E13: =SUM('[2]Scorecard 1 quarter '!$BM$92:$BO$92) -> 555 | F13: =SUM('[2]Scorecard 1 quarter '!$BM$93:$BO$93) -> 0 | G13: 0.995 | H13: =J13/I13 -> 0 | I13: =SUM('[2]Scorecard 1 quarter '!$BM$102:$BO$102) -> 1102 | J13: =SUM('[2]Scorecard 1 quarter '!$BM$103:$BO$103) -> 0 | K13: 0.0012 | L13: =AVERAGE('[2]Scorecard 1 quarter '!$BM$120:$BO$120) -> 1 | M13: =SUM('[2]Scorecard 1 quarter '!$BM$121:$BO$121) -> 7887 | N13: =SUM('[2]Scorecard 1 quarter '!$BM$122:$BO$122) -> 7887 | O13: 0.995 | P13: =AVERAGE('[2]Scorecard 1 quarter '!$BM$130:$BO$130) -> 0.99989828 | Q13: =SUM('[2]Scorecard 1 quarter '!$BM$131:$BO$131) -> 7197 | R13: =SUM('[2]Scorecard 1 quarter '!$BM$132:$BO$132) -> 7196 | S13: 0.995 | U13: Octobre | V13: =SUM(E47:E51) -> 0 | W13: =SUM(F47:F51) -> 0 | X13: =1-(W13/V13) -> #DIV/0! | Z13: Octobre | AA13: =SUM(I47:I51) -> 0 | AB13: =SUM(J47:J51) -> 0 | AC13: =AB13/AA13 -> #DIV/0!
A14: 10 | B14: 3 | C14: 5 | D14: =AVERAGE('[2]Scorecard 1 quarter '!$BR$91:$BV$91) -> 0.9989899 | E14: =SUM('[2]Scorecard 1 quarter '!$BR$92:$BV$92) -> 979 | F14: =SUM('[2]Scorecard 1 quarter '!$BR$93:$BV$93) -> 1 | G14: 0.995 | H14: =J14/I14 -> 0.0004014452 | I14: =SUM('[2]Scorecard 1 quarter '!$BR$102:$BV$102) -> 2491 | J14: =SUM('[2]Scorecard 1 quarter '!$BR$103:$BV$103) -> 1 | K14: 0.0012 | L14: =AVERAGE('[2]Scorecard 1 quarter '!$BR$120:$BV$120) -> 1 | M14: =SUM('[2]Scorecard 1 quarter '!$BR$121:$BV$121) -> 16497 | N14: =SUM('[2]Scorecard 1 quarter '!$BR$122:$BV$122) -> 16497 | O14: 0.995 | P14: =AVERAGE('[2]Scorecard 1 quarter '!$BR$130:$BV$130) -> 0.99966555 | Q14: =SUM('[2]Scorecard 1 quarter '!$BR$131:$BV$131) -> 7642 | R14: =SUM('[2]Scorecard 1 quarter '!$BR$132:$BV$132) -> 7638 | S14: 0.995 | U14: Novembre | V14: =SUM(E52:E56) -> 0 | W14: =SUM(F52:F56) -> 0 | X14: =1-(W14/V14) -> #DIV/0! | Z14: Novembre | AA14: =SUM(I52:I56) -> 0 | AB14: =SUM(J52:J56) -> 0 | AC14: =AB14/AA14 -> #DIV/0!
A15: 11 | B15: 3 | C15: 5 | D15: =AVERAGE('[2]Scorecard 1 quarter '!$BY$91:$CC$91) -> 0.99199198 | E15: =SUM('[2]Scorecard 1 quarter '!$BY$92:$CC$92) -> 1227 | F15: =SUM('[2]Scorecard 1 quarter '!$BY$93:$CC$93) -> 9 | G15: 0.995 | H15: =J15/I15 -> 0.0004599816 | I15: =SUM('[2]Scorecard 1 quarter '!$BY$102:$CC$102) -> 2174 | J15: =SUM('[2]Scorecard 1 quarter '!$BY$103:$CC$103) -> 1 | K15: 0.0012 | L15: =AVERAGE('[2]Scorecard 1 quarter '!$BY$120:$CC$120) -> 1 | M15: =SUM('[2]Scorecard 1 quarter '!$BY$121:$CC$121) -> 11651 | N15: =SUM('[2]Scorecard 1 quarter '!$BY$122:$CC$122) -> 11651 | O15: 0.995 | P15: =AVERAGE('[2]Scorecard 1 quarter '!$BY$130:$CC$130) -> 0.99925438 | Q15: =SUM('[2]Scorecard 1 quarter '!$BY$131:$CC$131) -> 9193 | R15: =SUM('[2]Scorecard 1 quarter '!$BY$132:$CC$132) -> 9188 | S15: 0.995 | U15: Décembre | V15: =SUM(E57:E61) -> 0 | W15: =SUM(F57:F61) -> 0 | X15: =1-(W15/V15) -> #DIV/0! | Z15: Décembre | AA15: =SUM(I57:I61) -> 0 | AB15: =SUM(J57:J61) -> 0 | AC15: =AB15/AA15 -> #DIV/0!
A16: 12 | B16: 3 | C16: 5 | D16: =AVERAGE('[2]Scorecard 1 quarter '!$CF$91:$CJ$91) -> 0.99824846 | E16: =SUM('[2]Scorecard 1 quarter '!$CF$92:$CJ$92) -> 1733 | F16: =SUM('[2]Scorecard 1 quarter '!$CF$93:$CJ$93) -> 3 | G16: 0.995 | H16: =J16/I16 -> 0.0016789792 | I16: =SUM('[2]Scorecard 1 quarter '!$CF$102:$CJ$102) -> 2978 | J16: =SUM('[2]Scorecard 1 quarter '!$CF$103:$CJ$103) -> 5 | K16: 0.0012 | L16: =AVERAGE('[2]Scorecard 1 quarter '!$CF$120:$CJ$120) -> 1 | M16: =SUM('[2]Scorecard 1 quarter '!$CF$121:$CJ$121) -> 18202 | N16: =SUM('[2]Scorecard 1 quarter '!$CF$122:$CJ$122) -> 18202 | O16: 0.995 | P16: =AVERAGE('[2]Scorecard 1 quarter '!$CF$130:$CJ$130) -> 0.99973622 | Q16: =SUM('[2]Scorecard 1 quarter '!$CF$131:$CJ$131) -> 11183 | R16: =SUM('[2]Scorecard 1 quarter '!$CF$132:$CJ$132) -> 11179 | S16: 0.995
A17: 13 | B17: 3 | C17: 5 | D17: =AVERAGE('[2]Scorecard 1 quarter '!$CM$91:$CQ$91) -> 0.99887367 | E17: =SUM('[2]Scorecard 1 quarter '!$CM$92:$CQ$92) -> 2441 | F17: =SUM('[2]Scorecard 1 quarter '!$CM$93:$CQ$93) -> 3 | G17: 0.995 | H17: =J17/I17 -> 0 | I17: =SUM('[2]Scorecard 1 quarter '!$CM$102:$CQ$102) -> 3827 | J17: =SUM('[2]Scorecard 1 quarter '!$CM$103:$CQ$103) -> 0 | K17: 0.0012 | L17: =AVERAGE('[2]Scorecard 1 quarter '!$CM$120:$CQ$120) -> 1 | M17: =SUM('[2]Scorecard 1 quarter '!$CM$121:$CQ$121) -> 18996 | N17: =SUM('[2]Scorecard 1 quarter '!$CM$122:$CQ$122) -> 18996 | O17: 0.995 | P17: =AVERAGE('[2]Scorecard 1 quarter '!$CM$130:$CQ$130) -> 0.99965035 | Q17: =SUM('[2]Scorecard 1 quarter '!$CM$131:$CQ$131) -> 21263 | R17: =SUM('[2]Scorecard 1 quarter '!$CM$132:$CQ$132) -> 21256 | S17: 0.995
A18: 14 | B18: 4 | C18: 5 | D18: =AVERAGE('[2]Scorecard 1 quarter '!$CU$91:$CY$91) -> 1 | E18: =SUM('[2]Scorecard 1 quarter '!$CU$92:$CY$92) -> 1765 | F18: =SUM('[2]Scorecard 1 quarter '!$CU$93:$CY$93) -> 0 | G18: 0.995 | H18: =J18/I18 -> 0.0010621349 | I18: =SUM('[2]Scorecard 1 quarter '!$CU$102:$CY$102) -> 1883 | J18: =SUM('[2]Scorecard 1 quarter '!$CU$103:$CY$103) -> 2 | K18: 0.0012 | L18: =AVERAGE('[2]Scorecard 1 quarter '!$CU$120:$CY$120) -> 1 | M18: =SUM('[2]Scorecard 1 quarter '!$CU$121:$CY$121) -> 9455 | N18: =SUM('[2]Scorecard 1 quarter '!$CU$122:$CY$122) -> 9455 | O18: 0.995 | P18: =AVERAGE('[2]Scorecard 1 quarter '!$CU$130:$CY$130) -> 0.9993118 | Q18: =SUM('[2]Scorecard 1 quarter '!$CU$131:$CY$131) -> 8281 | R18: =SUM('[2]Scorecard 1 quarter '!$CU$132:$CY$132) -> 8276 | S18: 0.995 | V18: Taux de scannag en sortie | AA18: Taux de scannage en entrée
A19: 15 | B19: 4 | C19: 5 | D19: =AVERAGE('[2]Scorecard 1 quarter '!$DB$91:$DE$91) -> 1 | E19: =SUM('[2]Scorecard 1 quarter '!$DB$92:$DF$92) -> 1310 | F19: =SUM('[2]Scorecard 1 quarter '!$DB$93:$DF$93) -> 0 | G19: 0.995 | H19: =J19/I19 -> 0 | I19: =SUM('[2]Scorecard 1 quarter '!$DB$102:$DF$102) -> 1659 | J19: =SUM('[2]Scorecard 1 quarter '!$DB$103:$DF$103) -> 0 | K19: 0.0012 | L19: =AVERAGE('[2]Scorecard 1 quarter '!$DB$120:$DE$120) -> 1 | M19: =SUM('[2]Scorecard 1 quarter '!$DB$121:$DF$121) -> 7284 | N19: =SUM('[2]Scorecard 1 quarter '!$DB$122:$DF$122) -> 7284 | O19: 0.995 | P19: =AVERAGE('[2]Scorecard 1 quarter '!$DB$130:$DE$130) -> 1 | Q19: =SUM('[2]Scorecard 1 quarter '!$DB$131:$DF$131) -> 9777 | R19: =SUM('[2]Scorecard 1 quarter '!$DB$132:$DF$132) -> 9777 | S19: 0.995 | U19: Janvier | V19: =SUM(M3:M7) -> 21385 | W19: =SUM(N3:N7) -> 21385 | X19: =(W19/V19) -> 1 | Z19: Janvier | AA19: =SUM(Q3:Q7) -> 38266 | AB19: =SUM(R3:R7) -> 38261 | AC19: =(AB19/AA19) -> 0.99986934
A20: 16 | B20: 4 | C20: 5 | D20: =AVERAGE('[2]Scorecard 1 quarter '!$DJ$91:$DM$91) -> 1 | E20: =SUM('[2]Scorecard 1 quarter '!$DI$92:$DM$92) -> 1308 | F20: =SUM('[2]Scorecard 1 quarter '!$DI$93:$DM$93) -> 0 | G20: 0.995 | H20: =J20/I20 -> 0 | I20: =SUM('[2]Scorecard 1 quarter '!$DI$102:$DM$102) -> 1564 | J20: =SUM('[2]Scorecard 1 quarter '!$DI$103:$DM$103) -> 0 | K20: 0.0012 | L20: =AVERAGE('[2]Scorecard 1 quarter '!$DJ$120:$DM$120) -> 1 | M20: =SUM('[2]Scorecard 1 quarter '!$DI$121:$DM$121) -> 7717 | N20: =SUM('[2]Scorecard 1 quarter '!$DI$122:$DM$122) -> 7717 | O20: 0.995 | P20: =AVERAGE('[2]Scorecard 1 quarter '!$DJ$130:$DM$130) -> 0.99981189 | Q20: =SUM('[2]Scorecard 1 quarter '!$DI$131:$DM$131) -> 10056 | R20: =SUM('[2]Scorecard 1 quarter '!$DI$132:$DM$132) -> 10054 | S20: 0.995 | U20: Février | V20: =SUM(M8:M12) -> 42689 | W20: =SUM(N8:N12) -> 42689 | X20: =(W20/V20) -> 1 | Z20: Février | AA20: =SUM(Q8:Q12) -> 40580 | AB20: =SUM(R8:R12) -> 40567 | AC20: =(AB20/AA20) -> 0.99967965
A21: 17 | B21: 4 | C21: 5 | D21: =AVERAGE('[2]Scorecard 1 quarter '!$DP$91:$DT$91) -> 0.99274308 | E21: =SUM('[2]Scorecard 1 quarter '!$DP$92:$DT$92) -> 1473 | F21: =SUM('[2]Scorecard 1 quarter '!$DP$93:$DT$93) -> 9 | G21: 0.995 | H21: =J21/I21 -> 0.00046533271 | I21: =SUM('[2]Scorecard 1 quarter '!$DP$102:$DT$102) -> 2149 | J21: =SUM('[2]Scorecard 1 quarter '!$DP$103:$DT$103) -> 1 | K21: 0.0012 | L21: =AVERAGE('[2]Scorecard 1 quarter '!$DP$120:$DT$120) -> 1 | M21: =SUM('[2]Scorecard 1 quarter '!$DP$121:$DT$121) -> 11737 | N21: =SUM('[2]Scorecard 1 quarter '!$DP$122:$DT$122) -> 11737 | O21: 0.995 | P21: =AVERAGE('[2]Scorecard 1 quarter '!$DP$130:$DT$130) -> 0.99945627 | Q21: =SUM('[2]Scorecard 1 quarter '!$DP$131:$DT$131) -> 15100 | R21: =SUM('[2]Scorecard 1 quarter '!$DP$132:$DT$132) -> 15093 | S21: 0.995 | U21: Mars | V21: =SUM(M13:M17) -> 73233 | W21: =SUM(N13:N17) -> 73233 | X21: =(W21/V21) -> 1 | Z21: Mars | AA21: =SUM(Q13:Q17) -> 56478 | AB21: =SUM(R13:R17) -> 56457 | AC21: =(AB21/AA21) -> 0.99962817
