Workbook
Name Week: [1]Menu!$A$2:$A$53

Sheet Pirelli Synthèse
H1: KPI Overall Dashboard Pirelli CH | K1: Week | L1: 1
B2: Pirelli CH | O2: garage fermé | P2: 1
O3: crevaison | P3: 2
B4: KPI Dashboard | D4: XPO Performance | H4: Reviews | O4: contrôle routier | P4: 3 | S4: =IF(OR(L1=1,L1=2,L1=3,L1=4,L1=5,L1=6),"",+IF(L1=7,AVERAGE('Données Pirelli'!E63:E68))+IF(L1=8,AVERAGE('Données Pirelli'!E64:E69))+IF(L1=9,AVERAGE('Données Pirelli'!E65:E70))+IF(L1=10,AVERAGE('Données Pirelli'!E66:E71))+IF(L1=11,AVERAGE('Données Pirelli'!E67:E72))+IF(L1=12,AVERAGE('Données Pirelli'!E68:E73))+IF(L1=13,AVERAGE('Données Pirelli'!E69:E74))+IF(L1=14,AVERAGE('Données Pirelli'!E70:E75))+IF(L1=15,AVERAGE('Données Pirelli'!E71:E76))+IF(L1=16,AVERAGE('Données Pirelli'!E72:E77))+IF(L1=17,AVERAGE('Données Pirelli'!E73:E78))+IF(L1=18,AVERAGE('Données Pirelli'!E74:E79))+IF(L1=19,AVERAGE('Données Pirelli'!E75:E80))+IF(L1=20,AVERAGE('Données Pirelli'!E76:E81))+IF(L1=21,AVERAGE('Données Pirelli'!E77:E82))+IF(L1=22,AVERAGE('Données Pirelli'!E78:E83))+IF(L1=23,AVERAGE('Données Pirelli'!E79:E84))+IF(L1=24,AVERAGE('Données Pirelli'!E80:E85))+IF(L1=25,AVERAGE('Données Pirelli'!E81:E86))+IF(L1=26,AVERAGE('Données Pirelli'!E82:E87))+IF(L1=27,AVERAGE('Données Pirelli'!E83:E88))+IF(L1=28,AVERAGE('Données Pirelli'!E84:E89))+IF(L1=29,AVERAGE('Données Pirelli'!E85:E90))+IF(L1=30,AVERAGE('Données Pirelli'!E86:E91))+IF(L1=31,AVERAGE('Données Pirelli'!E87:E92))+IF(L1=32,AVERAGE('Données Pirelli'!E88:E93))+IF(L1=33,AVERAGE('Données Pirelli'!E89:E94))+IF(L1=34,AVERAGE('Données Pirelli'!E90:E95))+IF(L1=35,AVERAGE('Données Pirelli'!E91:E96))+IF(L1=36,AVERAGE('Données Pirelli'!E92:E97))+IF(L1=37,AVERAGE('Données Pirelli'!E93:E98))+IF(L1=38,AVERAGE('Données Pirelli'!E94:E99))+IF(L1=39,AVERAGE('Données Pirelli'!E95:E100))+IF(L1=40,AVERAGE('Données Pirelli'!E96:E101))+IF(L1=41,AVERAGE('Données Pirelli'!E97:E102))+IF(L1=42,AVERAGE('Données Pirelli'!E98:E103))+IF(L1=43,AVERAGE('Données Pirelli'!E99:E104))+IF(L1=44,AVERAGE('Données Pirelli'!E100:E105))+IF(L1=45,AVERAGE('Données Pirelli'!E101:E106))+IF(L1=46,AVERAGE('Données Pirelli'!E102:E107))+IF(L1=47,AVERAGE('Données Pirelli'!E103:E108))+IF(L1=48,AVERAGE('Données Pirelli'!E104:E109))+IF(L1=49,AVERAGE('Données Pirelli'!E105:E110))+IF(L1=50,AVERAGE('Données Pirelli'!E106:E111))+IF(L1=51,AVERAGE('Données Pirelli'!E107:E112))+IF(L1=52,AVERAGE('Données Pirelli'!E108:E113)))
B5: Name | C5: Required | D5: Last week | F5: Average of last 6 weeks | G5: Trend | H5: Cause of failure to reach target | O5: pas de code barre | P5: 4
A6: 1 | B6: Delivery on time | C6: 0.995 | D6: =IF(L1=1,'Données Pirelli'!E63)+IF(L1=2,'Données Pirelli'!E64)+IF(L1=3,'Données Pirelli'!E65)+IF(L1=4,'Données Pirelli'!E66)+IF(L1=5,'Données Pirelli'!E67)+IF(L1=6,'Données Pirelli'!E68)+IF(L1=7,'Données Pirelli'!E69)+IF(L1=8,'Données Pirelli'!E70)+IF(L1=9,'Données Pirelli'!E71)+IF(L1=10,'Données Pirelli'!E72)+IF(L1=11,'Données Pirelli'!E73)+IF(L1=12,'Données Pirelli'!E74)+IF(L1=13,'Données Pirelli'!E75)+IF(L1=14,'Données Pirelli'!E76)+IF(L1=15,'Données Pirelli'!E77)+IF(L1=16,'Données Pirelli'!E78)+IF(L1=17,'Données Pirelli'!E79)+IF(L1=18,'Données Pirelli'!E80)+IF(L1=19,'Données Pirelli'!E81)+IF(L1=20,'Données Pirelli'!E82)+IF(L1=21,'Données Pirelli'!E83)+IF(L1=22,'Données Pirelli'!E84)+IF(L1=23,'Données Pirelli'!E85)+IF(L1=24,'Données Pirelli'!E86)+IF(L1=25,'Données Pirelli'!E87)+IF(L1=26,'Données Pirelli'!E88)+IF(L1=27,'Données Pirelli'!E89)+IF(L1=28,'Données Pirelli'!E90)+IF(L1=29,'Données Pirelli'!E91)+IF(L1=30,'Données Pirelli'!E92)+IF(L1=31,'Données Pirelli'!E93)+IF(L1=32,'Données Pirelli'!E94)+IF(L1=33,'Données Pirelli'!E95)+IF(L1=34,'Données Pirelli'!E96)+IF(L1=35,'Données Pirelli'!E97)+IF(L1=36,'Données Pirelli'!E98)+IF(L1=37,'Données Pirelli'!E99)+IF(L1=38,'Données Pirelli'!E100)+IF(L1=39,'Données Pirelli'!E101)+IF(L1=40,'Données Pirelli'!E102)+IF(L1=41,'Données Pirelli'!E103)+IF(L1=42,'Données Pirelli'!E104)+IF(L1=43,'Données Pirelli'!E105)+IF(L1=44,'Données Pirelli'!E106)+IF(L1=45,'Données Pirelli'!E107)+IF(L1=46,'Données Pirelli'!E108)+IF(L1=47,'Données Pirelli'!E109)+IF(L1=48,'Données Pirelli'!E110)+IF(L1=49,'Données Pirelli'!E111)+IF(L1=50,'Données Pirelli'!E112)+IF(L1=51,'Données Pirelli'!E113)+IF(L1=52,'Données Pirelli'!E114) -> 0.99314271 | E6: =IF(OR(D6=0,D6=" ")," ",IF($D6>=$C6,1,2)) -> 2 | F6: =IF(L1=1,"")+IF(L1=2,"")+IF(L1=3,"")+IF(L1=4,"")+IF(L1=5,"")+IF(L1=6,"")+IF(L1=7,AVERAGE('Données Pirelli'!E63:E68))+IF(L1=8,AVERAGE('Données Pirelli'!E64:E69))+IF(L1=9,AVERAGE('Données Pirelli'!E65:E70))+IF(L1=10,AVERAGE('Données Pirelli'!E66:E71))+IF(L1=11,AVERAGE('Données Pirelli'!E67:E72))+IF(L1=12,AVERAGE('Données Pirelli'!E68:E73))+IF(L1=13,AVERAGE('Données Pirelli'!E69:E74))+IF(L1=14,AVERAGE('Données Pirelli'!E70:E75))+IF(L1=15,AVERAGE('Données Pirelli'!E71:E76))+IF(L1=16,AVERAGE('Données Pirelli'!E72:E77))+IF(L1=17,AVERAGE('Données Pirelli'!E73:E78))+IF(L1=18,AVERAGE('Données Pirelli'!E74:E79))+IF(L1=19,AVERAGE('Données Pirelli'!E75:E80))+IF(L1=20,AVERAGE('Données Pirelli'!E76:E81))+IF(L1=21,AVERAGE('Données Pirelli'!E77:E82))+IF(L1=22,AVERAGE('Données Pirelli'!E78:E83))+IF(L1=23,AVERAGE('Données Pirelli'!E79:E84))+IF(L1=24,AVERAGE('Données Pirelli'!E80:E85))+IF(L1=25,AVERAGE('Données Pirelli'!E81:E86))+IF(L1=26,AVERAGE('Données Pirelli'!E82:E87))+IF(L1=27,AVERAGE('Données Pirelli'!E83:E88))+IF(L1=28,AVERAGE('Données Pirelli'!E84:E89))+IF(L1=29,AVERAGE('Données Pirelli'!E85:E90))+IF(L1=30,AVERAGE('Données Pirelli'!E86:E91))+IF(L1=31,AVERAGE('Données Pirelli'!E87:E92))+IF(L1=32,AVERAGE('Données Pirelli'!E88:E93))+IF(L1=33,AVERAGE('Données Pirelli'!E89:E94))+IF(L1=34,AVERAGE('Données Pirelli'!E90:E95))+IF(L1=35,AVERAGE('Données Pirelli'!E91:E96))+IF(L1=36,AVERAGE('Données Pirelli'!E92:E97))+IF(L1=37,AVERAGE('Données Pirelli'!E93:E98))+IF(L1=38,AVERAGE('Données Pirelli'!E94:E99))+IF(L1=39,AVERAGE('Données Pirelli'!E95:E100))+IF(L1=40,AVERAGE('Données Pirelli'!E96:E101))+IF(L1=41,AVERAGE('Données Pirelli'!E97:E102))+IF(L1=42,AVERAGE('Données Pirelli'!E98:E103))+IF(L1=43,AVERAGE('Données Pirelli'!E99:E104))+IF(L1=44,AVERAGE('Données Pirelli'!E100:E105))+IF(L1=45,AVERAGE('Données Pirelli'!E101:E106))+IF(L1=46,AVERAGE('Données Pirelli'!E102:E107))+IF(L1=47,AVERAGE('Données Pirelli'!E103:E108))+IF(L1=48,AVERAGE('Données Pirelli'!E104:E109))+IF(L1=49,AVERAGE('Données Pirelli'!E105:E110))+IF(L1=50,AVERAGE('Données Pirelli'!E106:E111))+IF(L1=51,AVERAGE('Données Pirelli'!E107:E112))+IF(L1=52,AVERAGE('Données Pirelli'!E108:E113)) -> #VALUE! | G6: =IF(OR(F6=0,F6=" ")," ",IF($F6>=$C6,1,2)) -> #VALUE! | H6: =IF(L1=1,O2,IF(D6<C6,O2," ")) -> garage fermé | O6: pas d'étiquette | P6: 5
A7: 5 | B7: Not conformities | C7: 0.0012 | D7: =IF(L1=1,'Données Pirelli'!I63)+IF(L1=2,'Données Pirelli'!I64)+IF(L1=3,'Données Pirelli'!I65)+IF(L1=4,'Données Pirelli'!I66)+IF(L1=5,'Données Pirelli'!I67)+IF(L1=6,'Données Pirelli'!I68)+IF(L1=7,'Données Pirelli'!I69)+IF(L1=8,'Données Pirelli'!I70)+IF(L1=9,'Données Pirelli'!I71)+IF(L1=10,'Données Pirelli'!I72)+IF(L1=11,'Données Pirelli'!I73)+IF(L1=12,'Données Pirelli'!I74)+IF(L1=13,'Données Pirelli'!I75)+IF(L1=14,'Données Pirelli'!I76)+IF(L1=15,'Données Pirelli'!I77)+IF(L1=16,'Données Pirelli'!I78)+IF(L1=17,'Données Pirelli'!I79)+IF(L1=18,'Données Pirelli'!I80)+IF(L1=19,'Données Pirelli'!I81)+IF(L1=20,'Données Pirelli'!I82)+IF(L1=21,'Données Pirelli'!I83)+IF(L1=22,'Données Pirelli'!I84)+IF(L1=23,'Données Pirelli'!I85)+IF(L1=24,'Données Pirelli'!I86)+IF(L1=25,'Données Pirelli'!I87)+IF(L1=26,'Données Pirelli'!I88)+IF(L1=27,'Données Pirelli'!I89)+IF(L1=28,'Données Pirelli'!I90)+IF(L1=29,'Données Pirelli'!I91)+IF(L1=30,'Données Pirelli'!I92)+IF(L1=31,'Données Pirelli'!I93)+IF(L1=32,'Données Pirelli'!I94)+IF(L1=33,'Données Pirelli'!I95)+IF(L1=34,'Données Pirelli'!I96)+IF(L1=35,'Données Pirelli'!I97)+IF(L1=36,'Données Pirelli'!I98)+IF(L1=37,'Données Pirelli'!I99)+IF(L1=38,'Données Pirelli'!I100)+IF(L1=39,'Données Pirelli'!I101)+IF(L1=40,'Données Pirelli'!I102)+IF(L1=41,'Données Pirelli'!I103)+IF(L1=42,'Données Pirelli'!I104)+IF(L1=43,'Données Pirelli'!I105)+IF(L1=44,'Données Pirelli'!I106)+IF(L1=45,'Données Pirelli'!I107)+IF(L1=46,'Données Pirelli'!I108)+IF(L1=47,'Données Pirelli'!I109)+IF(L1=48,'Données Pirelli'!I110)+IF(L1=49,'Données Pirelli'!I111)+IF(L1=50,'Données Pirelli'!I112)+IF(L1=51,'Données Pirelli'!I113)+IF(L1=52,'Données Pirelli'!I114) -> 0 | E7: =IF($D7>$C7,2,1) -> 1 | F7: =IF(L1=1,"")+IF(L1=2,"")+IF(L1=3,"")+IF(L1=4,"")+IF(L1=5,"")+IF(L1=6,"")+IF(L1=7,AVERAGE('Données Pirelli'!I63:I68))+IF(L1=8,AVERAGE('Données Pirelli'!I64:I69))+IF(L1=9,AVERAGE('Données Pirelli'!I65:I70))+IF(L1=10,AVERAGE('Données Pirelli'!I66:I71))+IF(L1=11,AVERAGE('Données Pirelli'!I67:I72))+IF(L1=12,AVERAGE('Données Pirelli'!I68:I73))+IF(L1=13,AVERAGE('Données Pirelli'!I69:I74))+IF(L1=14,AVERAGE('Données Pirelli'!I70:I75))+IF(L1=15,AVERAGE('Données Pirelli'!I71:I76))+IF(L1=16,AVERAGE('Données Pirelli'!I72:I77))+IF(L1=17,AVERAGE('Données Pirelli'!I73:I78))+IF(L1=18,AVERAGE('Données Pirelli'!I74:I79))+IF(L1=19,AVERAGE('Données Pirelli'!I75:I80))+IF(L1=20,AVERAGE('Données Pirelli'!I76:I81))+IF(L1=21,AVERAGE('Données Pirelli'!I77:I82))+IF(L1=22,AVERAGE('Données Pirelli'!I78:I83))+IF(L1=23,AVERAGE('Données Pirelli'!I79:I84))+IF(L1=24,AVERAGE('Données Pirelli'!I80:I85))+IF(L1=25,AVERAGE('Données Pirelli'!I81:I86))+IF(L1=26,AVERAGE('Données Pirelli'!I82:I87))+IF(L1=27,AVERAGE('Données Pirelli'!I83:I88))+IF(L1=28,AVERAGE('Données Pirelli'!I84:I89))+IF(L1=29,AVERAGE('Données Pirelli'!I85:I90))+IF(L1=30,AVERAGE('Données Pirelli'!I86:I91))+IF(L1=31,AVERAGE('Données Pirelli'!I87:I92))+IF(L1=32,AVERAGE('Données Pirelli'!I88:I93))+IF(L1=33,AVERAGE('Données Pirelli'!I89:I94))+IF(L1=34,AVERAGE('Données Pirelli'!I90:I95))+IF(L1=35,AVERAGE('Données Pirelli'!I91:I96))+IF(L1=36,AVERAGE('Données Pirelli'!I92:I97))+IF(L1=37,AVERAGE('Données Pirelli'!I93:I98))+IF(L1=38,AVERAGE('Données Pirelli'!I94:I99))+IF(L1=39,AVERAGE('Données Pirelli'!I95:I100))+IF(L1=40,AVERAGE('Données Pirelli'!I96:I101))+IF(L1=41,AVERAGE('Données Pirelli'!I97:Q102))+IF(L1=42,AVERAGE('Données Pirelli'!I98:I103))+IF(L1=43,AVERAGE('Données Pirelli'!I99:I104))+IF(L1=44,AVERAGE('Données Pirelli'!I100:I105))+IF(L1=45,AVERAGE('Données Pirelli'!I101:I106))+IF(L1=46,AVERAGE('Données Pirelli'!I102:I107))+IF(L1=47,AVERAGE('Données Pirelli'!I103:I108))+IF(L1=48,AVERAGE('Données Pirelli'!I104:I109))+IF(L1=49,AVERAGE('Données Pirelli'!I105:I110))+IF(L1=50,AVERAGE('Données Pirelli'!I106:I111))+IF(L1=51,AVERAGE('Données Pirelli'!I107:I112))+IF(L1=52,AVERAGE('Données Pirelli'!I108:I113)) -> #VALUE! | G7: =IF($F7>$C7,2,1) -> #VALUE! | O7: garage fermé | P7: 6
A8: 10 | B8: Outbound quantitative scan rate | C8: 0.995 | D8: =IF(L1=1,'Données Pirelli'!M63)+IF(L1=2,'Données Pirelli'!M64)+IF(L1=3,'Données Pirelli'!M65)+IF(L1=4,'Données Pirelli'!M66)+IF(L1=5,'Données Pirelli'!M67)+IF(L1=6,'Données Pirelli'!M68)+IF(L1=7,'Données Pirelli'!M69)+IF(L1=8,'Données Pirelli'!M70)+IF(L1=9,'Données Pirelli'!M71)+IF(L1=10,'Données Pirelli'!M72)+IF(L1=11,'Données Pirelli'!M73)+IF(L1=12,'Données Pirelli'!M74)+IF(L1=13,'Données Pirelli'!M75)+IF(L1=14,'Données Pirelli'!M76)+IF(L1=15,'Données Pirelli'!M77)+IF(L1=16,'Données Pirelli'!M78)+IF(L1=17,'Données Pirelli'!M79)+IF(L1=18,'Données Pirelli'!M80)+IF(L1=19,'Données Pirelli'!M81)+IF(L1=20,'Données Pirelli'!M82)+IF(L1=21,'Données Pirelli'!M83)+IF(L1=22,'Données Pirelli'!M84)+IF(L1=23,'Données Pirelli'!M85)+IF(L1=24,'Données Pirelli'!M86)+IF(L1=25,'Données Pirelli'!M87)+IF(L1=26,'Données Pirelli'!M88)+IF(L1=27,'Données Pirelli'!M89)+IF(L1=28,'Données Pirelli'!M90)+IF(L1=29,'Données Pirelli'!M91)+IF(L1=30,'Données Pirelli'!M92)+IF(L1=31,'Données Pirelli'!M93)+IF(L1=32,'Données Pirelli'!M94)+IF(L1=33,'Données Pirelli'!M95)+IF(L1=34,'Données Pirelli'!M96)+IF(L1=35,'Données Pirelli'!M97)+IF(L1=36,'Données Pirelli'!M98)+IF(L1=37,'Données Pirelli'!M99)+IF(L1=38,'Données Pirelli'!M100)+IF(L1=39,'Données Pirelli'!M101)+IF(L1=40,'Données Pirelli'!M102)+IF(L1=41,'Données Pirelli'!M103)+IF(L1=42,'Données Pirelli'!M104)+IF(L1=43,'Données Pirelli'!M105)+IF(L1=44,'Données Pirelli'!M106)+IF(L1=45,'Données Pirelli'!M107)+IF(L1=46,'Données Pirelli'!M108)+IF(L1=47,'Données Pirelli'!M109)+IF(L1=48,'Données Pirelli'!M110)+IF(L1=49,'Données Pirelli'!M111)+IF(L1=50,'Données Pirelli'!M112)+IF(L1=51,'Données Pirelli'!M113)+IF(L1=52,'Données Pirelli'!M114) -> 1 | E8: =IF(OR(D8=0,D8=" ")," ",IF($D8>=$C8,1,2)) -> 1 | F8: =IF(L1=1,"")+IF(L1=2,"")+IF(L1=3,"")+IF(L1=4,"")+IF(L1=5,"")+IF(L1=6,"")+IF(L1=7,AVERAGE('Données Pirelli'!M63:M68))+IF(L1=8,AVERAGE('Données Pirelli'!M64:M69))+IF(L1=9,AVERAGE('Données Pirelli'!M65:M70))+IF(L1=10,AVERAGE('Données Pirelli'!M66:M71))+IF(L1=11,AVERAGE('Données Pirelli'!M67:M72))+IF(L1=12,AVERAGE('Données Pirelli'!M68:M73))+IF(L1=13,AVERAGE('Données Pirelli'!M69:M74))+IF(L1=14,AVERAGE('Données Pirelli'!M70:M75))+IF(L1=15,AVERAGE('Données Pirelli'!M71:M76))+IF(L1=16,AVERAGE('Données Pirelli'!M72:M77))+IF(L1=17,AVERAGE('Données Pirelli'!M73:M78))+IF(L1=18,AVERAGE('Données Pirelli'!M74:M79))+IF(L1=19,AVERAGE('Données Pirelli'!M75:M80))+IF(L1=20,AVERAGE('Données Pirelli'!M76:M81))+IF(L1=21,AVERAGE('Données Pirelli'!M77:M82))+IF(L1=22,AVERAGE('Données Pirelli'!M78:M83))+IF(L1=23,AVERAGE('Données Pirelli'!M79:M84))+IF(L1=24,AVERAGE('Données Pirelli'!M80:M85))+IF(L1=25,AVERAGE('Données Pirelli'!M81:M86))+IF(L1=26,AVERAGE('Données Pirelli'!M82:M87))+IF(L1=27,AVERAGE('Données Pirelli'!M83:M88))+IF(L1=28,AVERAGE('Données Pirelli'!M84:M89))+IF(L1=29,AVERAGE('Données Pirelli'!M85:M90))+IF(L1=30,AVERAGE('Données Pirelli'!M86:M91))+IF(L1=31,AVERAGE('Données Pirelli'!M87:M92))+IF(L1=32,AVERAGE('Données Pirelli'!M88:M93))+IF(L1=33,AVERAGE('Données Pirelli'!M89:M94))+IF(L1=34,AVERAGE('Données Pirelli'!M90:M95))+IF(L1=35,AVERAGE('Données Pirelli'!M91:M96))+IF(L1=36,AVERAGE('Données Pirelli'!M92:M97))+IF(L1=37,AVERAGE('Données Pirelli'!M93:M98))+IF(L1=38,AVERAGE('Données Pirelli'!M94:M99))+IF(L1=39,AVERAGE('Données Pirelli'!M95:M100))+IF(L1=40,AVERAGE('Données Pirelli'!M96:M101))+IF(L1=41,AVERAGE('Données Pirelli'!M97:M102))+IF(L1=42,AVERAGE('Données Pirelli'!M98:M103))+IF(L1=43,AVERAGE('Données Pirelli'!M99:M104))+IF(L1=44,AVERAGE('Données Pirelli'!M100:M105))+IF(L1=45,AVERAGE('Données Pirelli'!M101:M106))+IF(L1=46,AVERAGE('Données Pirelli'!M102:M107))+IF(L1=47,AVERAGE('Données Pirelli'!M103:M108))+IF(L1=48,AVERAGE('Données Pirelli'!M104:M109))+IF(L1=49,AVERAGE('Données Pirelli'!M105:M110))+IF(L1=50,AVERAGE('Données Pirelli'!M106:M111))+IF(L1=51,AVERAGE('Données Pirelli'!M107:M112))+IF(L1=52,AVERAGE('Données Pirelli'!M108:M113)) -> #VALUE! | G8: =IF(OR(F8=0,F8=" "),"",IF($F8>=$C8,1,2)) -> #VALUE! | H8: =IF(AND(L1=1,D8<C8),O8,"") | O8: crevaison | P8: 7
A9: 11 | B9: Inbound quantitative scan rate | C9: 0.995 | D9: =IF(L1=1,'Données Pirelli'!Q63)+IF(L1=2,'Données Pirelli'!Q64)+IF(L1=3,'Données Pirelli'!Q65)+IF(L1=4,'Données Pirelli'!Q66)+IF(L1=5,'Données Pirelli'!Q67)+IF(L1=6,'Données Pirelli'!Q68)+IF(L1=7,'Données Pirelli'!Q69)+IF(L1=8,'Données Pirelli'!Q70)+IF(L1=9,'Données Pirelli'!Q71)+IF(L1=10,'Données Pirelli'!Q72)+IF(L1=11,'Données Pirelli'!Q73)+IF(L1=12,'Données Pirelli'!Q74)+IF(L1=13,'Données Pirelli'!Q75)+IF(L1=14,'Données Pirelli'!Q76)+IF(L1=15,'Données Pirelli'!Q77)+IF(L1=16,'Données Pirelli'!Q78)+IF(L1=17,'Données Pirelli'!Q79)+IF(L1=18,'Données Pirelli'!Q80)+IF(L1=19,'Données Pirelli'!Q81)+IF(L1=20,'Données Pirelli'!Q82)+IF(L1=21,'Données Pirelli'!Q83)+IF(L1=22,'Données Pirelli'!Q84)+IF(L1=23,'Données Pirelli'!Q85)+IF(L1=24,'Données Pirelli'!Q86)+IF(L1=25,'Données Pirelli'!Q87)+IF(L1=26,'Données Pirelli'!Q88)+IF(L1=27,'Données Pirelli'!Q89)+IF(L1=28,'Données Pirelli'!Q90)+IF(L1=29,'Données Pirelli'!Q91)+IF(L1=30,'Données Pirelli'!Q92)+IF(L1=31,'Données Pirelli'!Q93)+IF(L1=32,'Données Pirelli'!Q94)+IF(L1=33,'Données Pirelli'!Q95)+IF(L1=34,'Données Pirelli'!Q96)+IF(L1=35,'Données Pirelli'!Q97)+IF(L1=36,'Données Pirelli'!Q98)+IF(L1=37,'Données Pirelli'!Q99)+IF(L1=38,'Données Pirelli'!Q100)+IF(L1=39,'Données Pirelli'!Q101)+IF(L1=40,'Données Pirelli'!Q102)+IF(L1=41,'Données Pirelli'!Q103)+IF(L1=42,'Données Pirelli'!Q104)+IF(L1=43,'Données Pirelli'!Q105)+IF(L1=44,'Données Pirelli'!Q106)+IF(L1=45,'Données Pirelli'!Q107)+IF(L1=46,'Données Pirelli'!Q108)+IF(L1=47,'Données Pirelli'!Q109)+IF(L1=48,'Données Pirelli'!Q110)+IF(L1=49,'Données Pirelli'!Q111)+IF(L1=50,'Données Pirelli'!Q112)+IF(L1=51,'Données Pirelli'!Q113)+IF(L1=52,'Données Pirelli'!Q114) -> 0.9998759 | E9: =IF(OR(D9=0,D9=" ")," ",IF($D9>=$C9,1,2)) -> 1 | F9: =IF(L1=1,"")+IF(L1=2,"")+IF(L1=3,"")+IF(L1=4,"")+IF(L1=5,"")+IF(L1=6,"")+IF(L1=7,AVERAGE('Données Pirelli'!Q63:Q68))+IF(L1=8,AVERAGE('Données Pirelli'!Q64:Q69))+IF(L1=9,AVERAGE('Données Pirelli'!Q65:Q70))+IF(L1=10,AVERAGE('Données Pirelli'!Q66:Q71))+IF(L1=11,AVERAGE('Données Pirelli'!Q67:Q72))+IF(L1=12,AVERAGE('Données Pirelli'!Q68:Q73))+IF(L1=13,AVERAGE('Données Pirelli'!Q69:Q74))+IF(L1=14,AVERAGE('Données Pirelli'!Q70:Q75))+IF(L1=15,AVERAGE('Données Pirelli'!Q71:Q76))+IF(L1=16,AVERAGE('Données Pirelli'!Q72:Q77))+IF(L1=17,AVERAGE('Données Pirelli'!Q73:Q78))+IF(L1=18,AVERAGE('Données Pirelli'!Q74:Q79))+IF(L1=19,AVERAGE('Données Pirelli'!Q75:Q80))+IF(L1=20,AVERAGE('Données Pirelli'!Q76:Q81))+IF(L1=21,AVERAGE('Données Pirelli'!Q77:Q82))+IF(L1=22,AVERAGE('Données Pirelli'!Q78:Q83))+IF(L1=23,AVERAGE('Données Pirelli'!Q79:Q84))+IF(L1=24,AVERAGE('Données Pirelli'!Q80:Q85))+IF(L1=25,AVERAGE('Données Pirelli'!Q81:Q86))+IF(L1=26,AVERAGE('Données Pirelli'!Q82:Q87))+IF(L1=27,AVERAGE('Données Pirelli'!Q83:Q88))+IF(L1=28,AVERAGE('Données Pirelli'!Q84:Q89))+IF(L1=29,AVERAGE('Données Pirelli'!Q85:Q90))+IF(L1=30,AVERAGE('Données Pirelli'!Q86:Q91))+IF(L1=31,AVERAGE('Données Pirelli'!Q87:Q92))+IF(L1=32,AVERAGE('Données Pirelli'!Q88:Q93))+IF(L1=33,AVERAGE('Données Pirelli'!Q89:Q94))+IF(L1=34,AVERAGE('Données Pirelli'!Q90:Q95))+IF(L1=35,AVERAGE('Données Pirelli'!Q91:Q96))+IF(L1=36,AVERAGE('Données Pirelli'!Q92:Q97))+IF(L1=37,AVERAGE('Données Pirelli'!Q93:Q98))+IF(L1=38,AVERAGE('Données Pirelli'!Q94:Q99))+IF(L1=39,AVERAGE('Données Pirelli'!Q95:Q100))+IF(L1=40,AVERAGE('Données Pirelli'!Q96:Q101))+IF(L1=41,AVERAGE('Données Pirelli'!Q97:Q102))+IF(L1=42,AVERAGE('Données Pirelli'!Q98:Q103))+IF(L1=43,AVERAGE('Données Pirelli'!Q99:Q104))+IF(L1=44,AVERAGE('Données Pirelli'!Q100:Q105))+IF(L1=45,AVERAGE('Données Pirelli'!Q101:Q106))+IF(L1=46,AVERAGE('Données Pirelli'!Q102:Q107))+IF(L1=47,AVERAGE('Données Pirelli'!Q103:Q108))+IF(L1=48,AVERAGE('Données Pirelli'!Q104:Q109))+IF(L1=49,AVERAGE('Données Pirelli'!Q105:Q110))+IF(L1=50,AVERAGE('Données Pirelli'!Q106:Q111))+IF(L1=51,AVERAGE('Données Pirelli'!Q107:Q112))+IF(L1=52,AVERAGE('Données Pirelli'!Q108:Q113)) -> #VALUE! | G9: =IF(OR(F9=0,F9=" ")," ",IF($F9>=$C9,1,2)) -> #VALUE! | O9: contrôle routier | P9: 8
O10: pas de code barre | P10: 9
O11: pas d'étiquette | P11: 10
O12: garage fermé | P12: 11
O13: crevaison | P13: 12
O14: contrôle routier | P14: 13
O15: pas de code barre | P15: 14
O16: pas d'étiquette | P16: 15
O17: garage fermé | P17: 16
O18: crevaison | P18: 17
O19: contrôle routier | P19: 18
O20: pas de code barre | P20: 19
O21: pas d'étiquette | P21: 20
... O53: pas d'étiquette | P53: 52

Sheet KPI 1
H1: KPI Overall Dashboard Pirelli CH | K1: Week | L1: ='Pirelli Synthèse'!L1 -> 1
B2: Pirelli CH | P2: 1 | Q2: ↑
P3: 2 | Q3: →
B4: ="KPI "&'Pirelli Synthèse'!A6 -> KPI 1 | D4: XPO Performance | H4: Reviews | P4: 3 | Q4: ↓
B5: Name | C5: Required | D5: Last Week | F5: Average of last 6 weeks | G5: Trend | H5: Cause of failure to reach target | P5: 4
A6: 1 | B6: ='Pirelli Synthèse'!B6 -> Delivery on time | C6: ='Pirelli Synthèse'!C6 -> 0.995 | D6: =IF(L1=1,'Données Pirelli'!E63)+IF(L1=2,'Données Pirelli'!E64)+IF(L1=3,'Données Pirelli'!E65)+IF(L1=4,'Données Pirelli'!E66)+IF(L1=5,'Données Pirelli'!E67)+IF(L1=6,'Données Pirelli'!E68)+IF(L1=7,'Données Pirelli'!E69)+IF(L1=8,'Données Pirelli'!E70)+IF(L1=9,'Données Pirelli'!E71)+IF(L1=10,'Données Pirelli'!E72)+IF(L1=11,'Données Pirelli'!E73)+IF(L1=12,'Données Pirelli'!E74)+IF(L1=13,'Données Pirelli'!E75)+IF(L1=14,'Données Pirelli'!E76)+IF(L1=15,'Données Pirelli'!E77)+IF(L1=16,'Données Pirelli'!E78)+IF(L1=17,'Données Pirelli'!E79)+IF(L1=18,'Données Pirelli'!E80)+IF(L1=19,'Données Pirelli'!E81)+IF(L1=20,'Données Pirelli'!E82)+IF(L1=21,'Données Pirelli'!E83)+IF(L1=22,'Données Pirelli'!E84)+IF(L1=23,'Données Pirelli'!E85)+IF(L1=24,'Données Pirelli'!E86)+IF(L1=25,'Données Pirelli'!E87)+IF(L1=26,'Données Pirelli'!E88)+IF(L1=27,'Données Pirelli'!E89)+IF(L1=28,'Données Pirelli'!E90)+IF(L1=29,'Données Pirelli'!E91)+IF(L1=30,'Données Pirelli'!E92)+IF(L1=31,'Données Pirelli'!E93)+IF(L1=32,'Données Pirelli'!E94)+IF(L1=33,'Données Pirelli'!E95)+IF(L1=34,'Données Pirelli'!E96)+IF(L1=35,'Données Pirelli'!E97)+IF(L1=36,'Données Pirelli'!E98)+IF(L1=37,'Données Pirelli'!E99)+IF(L1=38,'Données Pirelli'!E100)+IF(L1=39,'Données Pirelli'!E101)+IF(L1=40,'Données Pirelli'!E102)+IF(L1=41,'Données Pirelli'!E103)+IF(L1=42,'Données Pirelli'!E104)+IF(L1=43,'Données Pirelli'!E105)+IF(L1=44,'Données Pirelli'!E106)+IF(L1=45,'Données Pirelli'!E107)+IF(L1=46,'Données Pirelli'!E108)+IF(L1=47,'Données Pirelli'!E109)+IF(L1=48,'Données Pirelli'!E110)+IF(L1=49,'Données Pirelli'!E111)+IF(L1=50,'Données Pirelli'!E112)+IF(L1=51,'Données Pirelli'!E113)+IF(L1=52,'Données Pirelli'!E114) -> 0.99314271 | E6: =IF(OR(D6=0,D6=" ")," ",IF($F6>=$C6,1,2)) -> #VALUE! | F6: =IF(L1=1,"")+IF(L1=2,"")+IF(L1=3,"")+IF(L1=4,"")+IF(L1=5,"")+IF(L1=6,"")+IF(L1=7,AVERAGE('Données Pirelli'!E63:E68))+IF(L1=8,AVERAGE('Données Pirelli'!E64:E69))+IF(L1=9,AVERAGE('Données Pirelli'!E65:E70))+IF(L1=10,AVERAGE('Données Pirelli'!E66:E71))+IF(L1=11,AVERAGE('Données Pirelli'!E67:E72))+IF(L1=12,AVERAGE('Données Pirelli'!E68:E73))+IF(L1=13,AVERAGE('Données Pirelli'!E69:E74))+IF(L1=14,AVERAGE('Données Pirelli'!E70:E75))+IF(L1=15,AVERAGE('Données Pirelli'!E71:E76))+IF(L1=16,AVERAGE('Données Pirelli'!E72:E77))+IF(L1=17,AVERAGE('Données Pirelli'!E73:E78))+IF(L1=18,AVERAGE('Données Pirelli'!E74:E79))+IF(L1=19,AVERAGE('Données Pirelli'!E75:E80))+IF(L1=20,AVERAGE('Données Pirelli'!E76:E81))+IF(L1=21,AVERAGE('Données Pirelli'!E77:E82))+IF(L1=22,AVERAGE('Données Pirelli'!E78:E83))+IF(L1=23,AVERAGE('Données Pirelli'!E79:E84))+IF(L1=24,AVERAGE('Données Pirelli'!E80:E85))+IF(L1=25,AVERAGE('Données Pirelli'!E81:E86))+IF(L1=26,AVERAGE('Données Pirelli'!E82:E87))+IF(L1=27,AVERAGE('Données Pirelli'!E83:E88))+IF(L1=28,AVERAGE('Données Pirelli'!E84:E89))+IF(L1=29,AVERAGE('Données Pirelli'!E85:E90))+IF(L1=30,AVERAGE('Données Pirelli'!E86:E91))+IF(L1=31,AVERAGE('Données Pirelli'!E87:E92))+IF(L1=32,AVERAGE('Données Pirelli'!E88:E93))+IF(L1=33,AVERAGE('Données Pirelli'!E89:E94))+IF(L1=34,AVERAGE('Données Pirelli'!E90:E95))+IF(L1=35,AVERAGE('Données Pirelli'!E91:E96))+IF(L1=36,AVERAGE('Données Pirelli'!E92:E97))+IF(L1=37,AVERAGE('Données Pirelli'!E93:E98))+IF(L1=38,AVERAGE('Données Pirelli'!E94:E99))+IF(L1=39,AVERAGE('Données Pirelli'!E95:E100))+IF(L1=40,AVERAGE('Données Pirelli'!E96:E101))+IF(L1=41,AVERAGE('Données Pirelli'!E97:E102))+IF(L1=42,AVERAGE('Données Pirelli'!E98:E103))+IF(L1=43,AVERAGE('Données Pirelli'!E99:E104))+IF(L1=44,AVERAGE('Données Pirelli'!E100:E105))+IF(L1=45,AVERAGE('Données Pirelli'!E101:E106))+IF(L1=46,AVERAGE('Données Pirelli'!E102:E107))+IF(L1=47,AVERAGE('Données Pirelli'!E103:E108))+IF(L1=48,AVERAGE('Données Pirelli'!E104:E109))+IF(L1=49,AVERAGE('Données Pirelli'!E105:E110))+IF(L1=50,AVERAGE('Données Pirelli'!E106:E111))+IF(L1=51,AVERAGE('Données Pirelli'!E107:E112))+IF(L1=52,AVERAGE('Données Pirelli'!E108:E113)) -> #VALUE! | G6: =IF(OR(F6=0,F6=" ")," ",IF($F6>=$C6,1,2)) -> #VALUE! | H6: ='Pirelli Synthèse'!H6 -> garage fermé | P6: 5
P7: 7
P8: 8
P9: 9
P10: 11
P11: 12
P12: 13
P13: 14
P14: 15
P15: 16
P16: 17
P17: 18
P18: 19
... P51: 52

Sheet KPI 5
H1: KPI Overall Dashboard Pirelli CH | K1: Week | L1: ='Pirelli Synthèse'!L1 -> 1
B2: Pirelli CH | P2: 1
P3: 2
B4: ="KPI "&'Pirelli Synthèse'!A7 -> KPI 5 | D4: XPO Performance | H4: Reviews | P4: 3
B5: Name | C5: Required | D5: Last Week | F5: Average of last 6 weeks | H5: Cause of failure to reach target | P5: 4
A6: 5 | B6: ='Pirelli Synthèse'!B7 -> Not conformities | C6: ='Pirelli Synthèse'!C7 -> 0.0012 | D6: =IF(L1=1,'Données Pirelli'!I63)+IF(L1=2,'Données Pirelli'!I64)+IF(L1=3,'Données Pirelli'!I65)+IF(L1=4,'Données Pirelli'!I66)+IF(L1=5,'Données Pirelli'!I67)+IF(L1=6,'Données Pirelli'!I68)+IF(L1=7,'Données Pirelli'!I69)+IF(L1=8,'Données Pirelli'!I70)+IF(L1=9,'Données Pirelli'!I71)+IF(L1=10,'Données Pirelli'!I72)+IF(L1=11,'Données Pirelli'!I73)+IF(L1=12,'Données Pirelli'!I74)+IF(L1=13,'Données Pirelli'!I75)+IF(L1=14,'Données Pirelli'!I76)+IF(L1=15,'Données Pirelli'!I77)+IF(L1=16,'Données Pirelli'!I78)+IF(L1=17,'Données Pirelli'!I79)+IF(L1=18,'Données Pirelli'!I80)+IF(L1=19,'Données Pirelli'!I81)+IF(L1=20,'Données Pirelli'!I82)+IF(L1=21,'Données Pirelli'!I83)+IF(L1=22,'Données Pirelli'!I84)+IF(L1=23,'Données Pirelli'!I85)+IF(L1=24,'Données Pirelli'!I86)+IF(L1=25,'Données Pirelli'!I87)+IF(L1=26,'Données Pirelli'!I88)+IF(L1=27,'Données Pirelli'!I89)+IF(L1=28,'Données Pirelli'!I90)+IF(L1=29,'Données Pirelli'!I91)+IF(L1=30,'Données Pirelli'!I92)+IF(L1=31,'Données Pirelli'!I93)+IF(L1=32,'Données Pirelli'!I94)+IF(L1=33,'Données Pirelli'!I95)+IF(L1=34,'Données Pirelli'!I96)+IF(L1=35,'Données Pirelli'!I97)+IF(L1=36,'Données Pirelli'!I98)+IF(L1=37,'Données Pirelli'!I99)+IF(L1=38,'Données Pirelli'!I100)+IF(L1=39,'Données Pirelli'!I101)+IF(L1=40,'Données Pirelli'!I102)+IF(L1=41,'Données Pirelli'!I103)+IF(L1=42,'Données Pirelli'!I104)+IF(L1=43,'Données Pirelli'!I105)+IF(L1=44,'Données Pirelli'!I106)+IF(L1=45,'Données Pirelli'!I107)+IF(L1=46,'Données Pirelli'!I108)+IF(L1=47,'Données Pirelli'!I109)+IF(L1=48,'Données Pirelli'!I110)+IF(L1=49,'Données Pirelli'!I111)+IF(L1=50,'Données Pirelli'!I112)+IF(L1=51,'Données Pirelli'!I113)+IF(L1=52,'Données Pirelli'!I114) -> 0 | E6: =IF(D6<C6,1,2) -> 1 | F6: =IF(L1=1,"")+IF(L1=2,"")+IF(L1=3,"")+IF(L1=4,"")+IF(L1=5,"")+IF(L1=6,"")+IF(L1=7,AVERAGE('Données Pirelli'!I63:I68))+IF(L1=8,AVERAGE('Données Pirelli'!I64:I69))+IF(L1=9,AVERAGE('Données Pirelli'!I65:I70))+IF(L1=10,AVERAGE('Données Pirelli'!I66:I71))+IF(L1=11,AVERAGE('Données Pirelli'!I67:I72))+IF(L1=12,AVERAGE('Données Pirelli'!I68:I73))+IF(L1=13,AVERAGE('Données Pirelli'!I69:I74))+IF(L1=14,AVERAGE('Données Pirelli'!I70:I75))+IF(L1=15,AVERAGE('Données Pirelli'!I71:I76))+IF(L1=16,AVERAGE('Données Pirelli'!I72:I77))+IF(L1=17,AVERAGE('Données Pirelli'!I73:I78))+IF(L1=18,AVERAGE('Données Pirelli'!I74:I79))+IF(L1=19,AVERAGE('Données Pirelli'!I75:I80))+IF(L1=20,AVERAGE('Données Pirelli'!I76:I81))+IF(L1=21,AVERAGE('Données Pirelli'!I77:I82))+IF(L1=22,AVERAGE('Données Pirelli'!I78:I83))+IF(L1=23,AVERAGE('Données Pirelli'!I79:I84))+IF(L1=24,AVERAGE('Données Pirelli'!I80:I85))+IF(L1=25,AVERAGE('Données Pirelli'!I81:I86))+IF(L1=26,AVERAGE('Données Pirelli'!I82:I87))+IF(L1=27,AVERAGE('Données Pirelli'!I83:I88))+IF(L1=28,AVERAGE('Données Pirelli'!I84:I89))+IF(L1=29,AVERAGE('Données Pirelli'!I85:I90))+IF(L1=30,AVERAGE('Données Pirelli'!I86:I91))+IF(L1=31,AVERAGE('Données Pirelli'!I87:I92))+IF(L1=32,AVERAGE('Données Pirelli'!I88:I93))+IF(L1=33,AVERAGE('Données Pirelli'!I89:I94))+IF(L1=34,AVERAGE('Données Pirelli'!I90:I95))+IF(L1=35,AVERAGE('Données Pirelli'!I91:I96))+IF(L1=36,AVERAGE('Données Pirelli'!I92:I97))+IF(L1=37,AVERAGE('Données Pirelli'!I93:I98))+IF(L1=38,AVERAGE('Données Pirelli'!I94:I99))+IF(L1=39,AVERAGE('Données Pirelli'!I95:I100))+IF(L1=40,AVERAGE('Données Pirelli'!I96:I101))+IF(L1=41,AVERAGE('Données Pirelli'!I97:Q102))+IF(L1=42,AVERAGE('Données Pirelli'!I98:I103))+IF(L1=43,AVERAGE('Données Pirelli'!I99:I104))+IF(L1=44,AVERAGE('Données Pirelli'!I100:I105))+IF(L1=45,AVERAGE('Données Pirelli'!I101:I106))+IF(L1=46,AVERAGE('Données Pirelli'!I102:I107))+IF(L1=47,AVERAGE('Données Pirelli'!I103:I108))+IF(L1=48,AVERAGE('Données Pirelli'!I104:I109))+IF(L1=49,AVERAGE('Données Pirelli'!I105:I110))+IF(L1=50,AVERAGE('Données Pirelli'!I106:I111))+IF(L1=51,AVERAGE('Données Pirelli'!I107:I112))+IF(L1=52,AVERAGE('Données Pirelli'!I108:I113)) -> #VALUE! | G6: =IF(F6<C6,1,2) -> #VALUE! | H6: ='Pirelli Synthèse'!H7 -> 0 | P6: 5
P7: 7
P8: 8
P9: 10
P10: 11
P11: 12
P12: 13
P13: 14
P14: 15
P15: 16
P16: 17
P17: 18
P18: 19
... P51: 52

Sheet KPI 10
H1: KPI Overall Dashboard Pirelli CH | K1: Week | L1: ='Pirelli Synthèse'!L1 -> 1
B2: Pirelli CH | P2: 1
P3: 2
B4: ="KPI "&'Pirelli Synthèse'!A8 -> KPI 10 | D4: XPO Performance | H4: Reviews | P4: 3
B5: Name | C5: Required | D5: Last Week | F5: Average of last 6 weeks | H5: Cause of failure to reach target | P5: 4
A6: 10 | B6: ='Pirelli Synthèse'!B8 -> Outbound quantitative scan rate | C6: ='Pirelli Synthèse'!C8 -> 0.995 | D6: =IF(L1=1,'Données Pirelli'!M63)+IF(L1=2,'Données Pirelli'!M64)+IF(L1=3,'Données Pirelli'!M65)+IF(L1=4,'Données Pirelli'!M66)+IF(L1=5,'Données Pirelli'!M67)+IF(L1=6,'Données Pirelli'!M68)+IF(L1=7,'Données Pirelli'!M69)+IF(L1=8,'Données Pirelli'!M70)+IF(L1=9,'Données Pirelli'!M71)+IF(L1=10,'Données Pirelli'!M72)+IF(L1=11,'Données Pirelli'!M73)+IF(L1=12,'Données Pirelli'!M74)+IF(L1=13,'Données Pirelli'!M75)+IF(L1=14,'Données Pirelli'!M76)+IF(L1=15,'Données Pirelli'!M77)+IF(L1=16,'Données Pirelli'!M78)+IF(L1=17,'Données Pirelli'!M79)+IF(L1=18,'Données Pirelli'!M80)+IF(L1=19,'Données Pirelli'!M81)+IF(L1=20,'Données Pirelli'!M82)+IF(L1=21,'Données Pirelli'!M83)+IF(L1=22,'Données Pirelli'!M84)+IF(L1=23,'Données Pirelli'!M85)+IF(L1=24,'Données Pirelli'!M86)+IF(L1=25,'Données Pirelli'!M87)+IF(L1=26,'Données Pirelli'!M88)+IF(L1=27,'Données Pirelli'!M89)+IF(L1=28,'Données Pirelli'!M90)+IF(L1=29,'Données Pirelli'!M91)+IF(L1=30,'Données Pirelli'!M92)+IF(L1=31,'Données Pirelli'!M93)+IF(L1=32,'Données Pirelli'!M94)+IF(L1=33,'Données Pirelli'!M95)+IF(L1=34,'Données Pirelli'!M96)+IF(L1=35,'Données Pirelli'!M97)+IF(L1=36,'Données Pirelli'!M98)+IF(L1=37,'Données Pirelli'!M99)+IF(L1=38,'Données Pirelli'!M100)+IF(L1=39,'Données Pirelli'!M101)+IF(L1=40,'Données Pirelli'!M102)+IF(L1=41,'Données Pirelli'!M103)+IF(L1=42,'Données Pirelli'!M104)+IF(L1=43,'Données Pirelli'!M105)+IF(L1=44,'Données Pirelli'!M106)+IF(L1=45,'Données Pirelli'!M107)+IF(L1=46,'Données Pirelli'!M108)+IF(L1=47,'Données Pirelli'!M109)+IF(L1=48,'Données Pirelli'!M110)+IF(L1=49,'Données Pirelli'!M111)+IF(L1=50,'Données Pirelli'!M112)+IF(L1=51,'Données Pirelli'!M113)+IF(L1=52,'Données Pirelli'!M114) -> 1 | E6: =IF(D6>C6,1,2) -> 1 | F6: =IF(L1=1,"")+IF(L1=2,"")+IF(L1=3,"")+IF(L1=4,"")+IF(L1=5,"")+IF(L1=6,"")+IF(L1=7,AVERAGE('Données Pirelli'!M63:M68))+IF(L1=8,AVERAGE('Données Pirelli'!M64:M69))+IF(L1=9,AVERAGE('Données Pirelli'!M65:M70))+IF(L1=10,AVERAGE('Données Pirelli'!M66:M71))+IF(L1=11,AVERAGE('Données Pirelli'!M67:M72))+IF(L1=12,AVERAGE('Données Pirelli'!M68:M73))+IF(L1=13,AVERAGE('Données Pirelli'!M69:M74))+IF(L1=14,AVERAGE('Données Pirelli'!M70:M75))+IF(L1=15,AVERAGE('Données Pirelli'!M71:M76))+IF(L1=16,AVERAGE('Données Pirelli'!M72:M77))+IF(L1=17,AVERAGE('Données Pirelli'!M73:M78))+IF(L1=18,AVERAGE('Données Pirelli'!M74:M79))+IF(L1=19,AVERAGE('Données Pirelli'!M75:M80))+IF(L1=20,AVERAGE('Données Pirelli'!M76:M81))+IF(L1=21,AVERAGE('Données Pirelli'!M77:M82))+IF(L1=22,AVERAGE('Données Pirelli'!M78:M83))+IF(L1=23,AVERAGE('Données Pirelli'!M79:M84))+IF(L1=24,AVERAGE('Données Pirelli'!M80:M85))+IF(L1=25,AVERAGE('Données Pirelli'!M81:M86))+IF(L1=26,AVERAGE('Données Pirelli'!M82:M87))+IF(L1=27,AVERAGE('Données Pirelli'!M83:M88))+IF(L1=28,AVERAGE('Données Pirelli'!M84:M89))+IF(L1=29,AVERAGE('Données Pirelli'!M85:M90))+IF(L1=30,AVERAGE('Données Pirelli'!M86:M91))+IF(L1=31,AVERAGE('Données Pirelli'!M87:M92))+IF(L1=32,AVERAGE('Données Pirelli'!M88:M93))+IF(L1=33,AVERAGE('Données Pirelli'!M89:M94))+IF(L1=34,AVERAGE('Données Pirelli'!M90:M95))+IF(L1=35,AVERAGE('Données Pirelli'!M91:M96))+IF(L1=36,AVERAGE('Données Pirelli'!M92:M97))+IF(L1=37,AVERAGE('Données Pirelli'!M93:M98))+IF(L1=38,AVERAGE('Données Pirelli'!M94:M99))+IF(L1=39,AVERAGE('Données Pirelli'!M95:M100))+IF(L1=40,AVERAGE('Données Pirelli'!M96:M101))+IF(L1=41,AVERAGE('Données Pirelli'!M97:M102))+IF(L1=42,AVERAGE('Données Pirelli'!M98:M103))+IF(L1=43,AVERAGE('Données Pirelli'!M99:M104))+IF(L1=44,AVERAGE('Données Pirelli'!M100:M105))+IF(L1=45,AVERAGE('Données Pirelli'!M101:M106))+IF(L1=46,AVERAGE('Données Pirelli'!M102:M107))+IF(L1=47,AVERAGE('Données Pirelli'!M103:M108))+IF(L1=48,AVERAGE('Données Pirelli'!M104:M109))+IF(L1=49,AVERAGE('Données Pirelli'!M105:M110))+IF(L1=50,AVERAGE('Données Pirelli'!M106:M111))+IF(L1=51,AVERAGE('Données Pirelli'!M107:M112))+IF(L1=52,AVERAGE('Données Pirelli'!M108:M113)) -> #VALUE! | G6: =IF(F6>C6,1,2) -> #VALUE! | H6: ='Pirelli Synthèse'!H8 | P6: 5
P7: 7
P8: 8
P9: 9
P10: 10
P11: 11
P12: 12
P13: 13
P14: 14
P15: 15
P16: 16
P17: 17
P18: 18
... P52: 52

Sheet KPI 11
H1: KPI Overall Dashboard Pirelli CH | K1: Week | L1: ='Pirelli Synthèse'!L1 -> 1
B2: Pirelli CH | P2: 1
P3: 2
B4: ="KPI "&'Pirelli Synthèse'!A9 -> KPI 11 | D4: XPO Performance | H4: Reviews | P4: 3
B5: Name | C5: Required | D5: Last Week | F5: Average of last 6 weeks | H5: Cause of failure to reach target | P5: 4
A6: 11 | B6: ='Pirelli Synthèse'!B9 -> Inbound quantitative scan rate | C6: ='Pirelli Synthèse'!C9 -> 0.995 | D6: =IF(L1=1,'Données Pirelli'!Q63)+IF(L1=2,'Données Pirelli'!Q64)+IF(L1=3,'Données Pirelli'!Q65)+IF(L1=4,'Données Pirelli'!Q66)+IF(L1=5,'Données Pirelli'!Q67)+IF(L1=6,'Données Pirelli'!Q68)+IF(L1=7,'Données Pirelli'!Q69)+IF(L1=8,'Données Pirelli'!Q70)+IF(L1=9,'Données Pirelli'!Q71)+IF(L1=10,'Données Pirelli'!Q72)+IF(L1=11,'Données Pirelli'!Q73)+IF(L1=12,'Données Pirelli'!Q74)+IF(L1=13,'Données Pirelli'!Q75)+IF(L1=14,'Données Pirelli'!Q76)+IF(L1=15,'Données Pirelli'!Q77)+IF(L1=16,'Données Pirelli'!Q78)+IF(L1=17,'Données Pirelli'!Q79)+IF(L1=18,'Données Pirelli'!Q80)+IF(L1=19,'Données Pirelli'!Q81)+IF(L1=20,'Données Pirelli'!Q82)+IF(L1=21,'Données Pirelli'!Q83)+IF(L1=22,'Données Pirelli'!Q84)+IF(L1=23,'Données Pirelli'!Q85)+IF(L1=24,'Données Pirelli'!Q86)+IF(L1=25,'Données Pirelli'!Q87)+IF(L1=26,'Données Pirelli'!Q88)+IF(L1=27,'Données Pirelli'!Q89)+IF(L1=28,'Données Pirelli'!Q90)+IF(L1=29,'Données Pirelli'!Q91)+IF(L1=30,'Données Pirelli'!Q92)+IF(L1=31,'Données Pirelli'!Q93)+IF(L1=32,'Données Pirelli'!Q94)+IF(L1=33,'Données Pirelli'!Q95)+IF(L1=34,'Données Pirelli'!Q96)+IF(L1=35,'Données Pirelli'!Q97)+IF(L1=36,'Données Pirelli'!Q98)+IF(L1=37,'Données Pirelli'!Q99)+IF(L1=38,'Données Pirelli'!Q100)+IF(L1=39,'Données Pirelli'!Q101)+IF(L1=40,'Données Pirelli'!Q102)+IF(L1=41,'Données Pirelli'!Q103)+IF(L1=42,'Données Pirelli'!Q104)+IF(L1=43,'Données Pirelli'!Q105)+IF(L1=44,'Données Pirelli'!Q106)+IF(L1=45,'Données Pirelli'!Q107)+IF(L1=46,'Données Pirelli'!Q108)+IF(L1=47,'Données Pirelli'!Q109)+IF(L1=48,'Données Pirelli'!Q110)+IF(L1=49,'Données Pirelli'!Q111)+IF(L1=50,'Données Pirelli'!Q112)+IF(L1=51,'Données Pirelli'!Q113)+IF(L1=52,'Données Pirelli'!Q114) -> 0.9998759 | E6: =IF(OR(D6=0,D6=" ")," ",IF($D6>=$C6,1,2)) -> 1 | F6: =IF(L1=1,"")+IF(L1=2,"")+IF(L1=3,"")+IF(L1=4,"")+IF(L1=5,"")+IF(L1=6,"")+IF(L1=7,AVERAGE('Données Pirelli'!Q63:Q68))+IF(L1=8,AVERAGE('Données Pirelli'!Q64:Q69))+IF(L1=9,AVERAGE('Données Pirelli'!Q65:Q70))+IF(L1=10,AVERAGE('Données Pirelli'!Q66:Q71))+IF(L1=11,AVERAGE('Données Pirelli'!Q67:Q72))+IF(L1=12,AVERAGE('Données Pirelli'!Q68:Q73))+IF(L1=13,AVERAGE('Données Pirelli'!Q69:Q74))+IF(L1=14,AVERAGE('Données Pirelli'!Q70:Q75))+IF(L1=15,AVERAGE('Données Pirelli'!Q71:Q76))+IF(L1=16,AVERAGE('Données Pirelli'!Q72:Q77))+IF(L1=17,AVERAGE('Données Pirelli'!Q73:Q78))+IF(L1=18,AVERAGE('Données Pirelli'!Q74:Q79))+IF(L1=19,AVERAGE('Données Pirelli'!Q75:Q80))+IF(L1=20,AVERAGE('Données Pirelli'!Q76:Q81))+IF(L1=21,AVERAGE('Données Pirelli'!Q77:Q82))+IF(L1=22,AVERAGE('Données Pirelli'!Q78:Q83))+IF(L1=23,AVERAGE('Données Pirelli'!Q79:Q84))+IF(L1=24,AVERAGE('Données Pirelli'!Q80:Q85))+IF(L1=25,AVERAGE('Données Pirelli'!Q81:Q86))+IF(L1=26,AVERAGE('Données Pirelli'!Q82:Q87))+IF(L1=27,AVERAGE('Données Pirelli'!Q83:Q88))+IF(L1=28,AVERAGE('Données Pirelli'!Q84:Q89))+IF(L1=29,AVERAGE('Données Pirelli'!Q85:Q90))+IF(L1=30,AVERAGE('Données Pirelli'!Q86:Q91))+IF(L1=31,AVERAGE('Données Pirelli'!Q87:Q92))+IF(L1=32,AVERAGE('Données Pirelli'!Q88:Q93))+IF(L1=33,AVERAGE('Données Pirelli'!Q89:Q94))+IF(L1=34,AVERAGE('Données Pirelli'!Q90:Q95))+IF(L1=35,AVERAGE('Données Pirelli'!Q91:Q96))+IF(L1=36,AVERAGE('Données Pirelli'!Q92:Q97))+IF(L1=37,AVERAGE('Données Pirelli'!Q93:Q98))+IF(L1=38,AVERAGE('Données Pirelli'!Q94:Q99))+IF(L1=39,AVERAGE('Données Pirelli'!Q95:Q100))+IF(L1=40,AVERAGE('Données Pirelli'!Q96:Q101))+IF(L1=41,AVERAGE('Données Pirelli'!Q97:Q102))+IF(L1=42,AVERAGE('Données Pirelli'!Q98:Q103))+IF(L1=43,AVERAGE('Données Pirelli'!Q99:Q104))+IF(L1=44,AVERAGE('Données Pirelli'!Q100:Q105))+IF(L1=45,AVERAGE('Données Pirelli'!Q101:Q106))+IF(L1=46,AVERAGE('Données Pirelli'!Q102:Q107))+IF(L1=47,AVERAGE('Données Pirelli'!Q103:Q108))+IF(L1=48,AVERAGE('Données Pirelli'!Q104:Q109))+IF(L1=49,AVERAGE('Données Pirelli'!Q105:Q110))+IF(L1=50,AVERAGE('Données Pirelli'!Q106:Q111))+IF(L1=51,AVERAGE('Données Pirelli'!Q107:Q112))+IF(L1=52,AVERAGE('Données Pirelli'!Q108:Q113)) -> #VALUE! | G6: =IF(OR(F6=0,F6=" ")," ",IF($D6>=$C6,1,2)) -> #VALUE! | H6: ='Pirelli Synthèse'!H9 -> 0 | P6: 5
P7: 7
P8: 8
P9: 9
P10: 10
P11: 11
P12: 12
P13: 13
P14: 14
P15: 15
P16: 16
P17: 17
P18: 18
... P52: 52

Sheet Données Pirelli
D1: KPI 1: Taux livraison avant 12h00 (Nbre totale de LS / nbre total de LS livrés en retard) | H1: KPI 5: Taux de non conformités (Nombre de lignes de cdes en erreur par rapport au BL/Nombre total de lignes de cdes expédiées) | L1: KPI 10: Taux de scannage en sortie (Nb de N° de série de pneus lu en sortie /Nbre total de pneus expédiés) Nb camions-conteneurs planifiés) | P1: KPI 11: Taux de scannage en entrées (Nb de N° de série de pneus lu en entrée /Nbre total de pneus reçus) Nb camions-conteneurs planifiés)
A2: Semaine | B2: Mois | C2: Nbre de jours de travail | D2: Taux de livraison avant 12h00 | E2: Nbre total de LS | F2: Nbre de LS livrés en retard | G2: Cible | H2: Taux de non conformités | I2: Nbre total de lignes cdes expédiées | J2: Nbre de lignes de cdes en erreur | K2: Cible | L2: Taux de scannage en sortie | M2: Nbre total de pneus expédiés | N2: Nbre total de pneus scannés | O2: Cible | P2: Taux de scannage en entrée | Q2: Nbre total de pneus réceptionnés | R2: Nbre total de pneus scannés | S2: Cible | V2: Nbre de livraison total | W2: Nbre de livraison en retard | X2: Taux de %
A3: 1 | B3: 1 | C3: 5 | D3: =AVERAGE('[2]Scorecard 1 quarter '!$F$91:$I$91) -> 0.99314271 | E3: ='[2]Scorecard 1 quarter '!$F$92+'[2]Scorecard 1 quarter '!$G$92+'[2]Scorecard 1 quarter '!$H$92+'[2]Scorecard 1 quarter '!$I$92 -> 438 | F3: ='[2]Scorecard 1 quarter '!$F$93+'[2]Scorecard 1 quarter '!$G$93+'[2]Scorecard 1 quarter '!$H$93+'[2]Scorecard 1 quarter '!$I$93 -> 4 | G3: 0.995 | H3: =J3/I3 -> 0 | I3: ='[2]Scorecard 1 quarter '!$F$102+'[2]Scorecard 1 quarter '!$G$102+'[2]Scorecard 1 quarter '!$H$102+'[2]Scorecard 1 quarter '!$I$102 -> 492 | J3: ='[2]Scorecard 1 quarter '!$F$103+'[2]Scorecard 1 quarter '!$G$103+'[2]Scorecard 1 quarter '!$H$103+'[2]Scorecard 1 quarter '!$I$103 -> 0 | K3: 0.0012 | L3: =AVERAGE('[2]Scorecard 1 quarter '!$F$120:$I$120) -> 1 | M3: ='[2]Scorecard 1 quarter '!$F$121+'[2]Scorecard 1 quarter '!$G$121+'[2]Scorecard 1 quarter '!$H$121+'[2]Scorecard 1 quarter '!$I$121 -> 2007 | N3: ='[2]Scorecard 1 quarter '!$F$122+'[2]Scorecard 1 quarter '!$G$122+'[2]Scorecard 1 quarter '!$H$122+'[2]Scorecard 1 quarter '!$I$122 -> 2007 | O3: 0.995 | P3: =AVERAGE('[2]Scorecard 1 quarter '!$F$130:$I$130) -> 0.9998759 | Q3: ='[2]Scorecard 1 quarter '!$F$131+'[2]Scorecard 1 quarter '!$H$131+'[2]Scorecard 1 quarter '!$I$131 -> 5315 | R3: ='[2]Scorecard 1 quarter '!$F$132+'[2]Scorecard 1 quarter '!$H$132+'[2]Scorecard 1 quarter '!$I$132 -> 5314 | S3: 0.995 | V3: Taux de livraison avant 12:00 | AA3: Non conformités
A4: 2 | B4: 1 | C4: 5 | D4: =AVERAGE('[2]Scorecard 1 quarter '!$L$91:$P$91) -> 0.9965558 | E4: ='[2]Scorecard 1 quarter '!$L$92+'[2]Scorecard 1 quarter '!$M$92+'[2]Scorecard 1 quarter '!$N$92+'[2]Scorecard 1 quarter '!$O$92+'[2]Scorecard 1 quarter '!$P$92 -> 681 | F4: ='[2]Scorecard 1 quarter '!$L$93+'[2]Scorecard 1 quarter '!$M$93+'[2]Scorecard 1 quarter '!$N$93+'[2]Scorecard 1 quarter '!$O$93+'[2]Scorecard 1 quarter '!$P$93 -> 2 | G4: 0.995 | H4: =J4/I4 -> 0 | I4: ='[2]Scorecard 1 quarter '!$L$102+'[2]Scorecard 1 quarter '!$M$102+'[2]Scorecard 1 quarter '!$N$102+'[2]Scorecard 1 quarter '!$O$102+'[2]Scorecard 1 quarter '!$P$102 -> 872 | J4: ='[2]Scorecard 1 quarter '!$L$103+'[2]Scorecard 1 quarter '!$M$103+'[2]Scorecard 1 quarter '!$N$103+'[2]Scorecard 1 quarter '!$O$103+'[2]Scorecard 1 quarter '!$P$103 -> 0 | K4: 0.0012 | L4: =AVERAGE('[2]Scorecard 1 quarter '!$L$120:$P$120) -> 1 | M4: ='[2]Scorecard 1 quarter '!$L$121+'[2]Scorecard 1 quarter '!$M$121+'[2]Scorecard 1 quarter '!$N$121+'[2]Scorecard 1 quarter '!$O$121+'[2]Scorecard 1 quarter '!$P$121 -> 3682 | N4: ='[2]Scorecard 1 quarter '!$L$122+'[2]Scorecard 1 quarter '!$M$122+'[2]Scorecard 1 quarter '!$N$122+'[2]Scorecard 1 quarter '!$O$122+'[2]Scorecard 1 quarter '!$P$122 -> 3682 | O4: 0.995 | P4: =AVERAGE('[2]Scorecard 1 quarter '!$L$130:$P$130) -> 1 | Q4: ='[2]Scorecard 1 quarter '!$L$131+'[2]Scorecard 1 quarter '!$M$131+'[2]Scorecard 1 quarter '!$N$131+'[2]Scorecard 1 quarter '!$O$131+'[2]Scorecard 1 quarter '!$P$131 -> 7220 | R4: ='[2]Scorecard 1 quarter '!$L$132+'[2]Scorecard 1 quarter '!$M$132+'[2]Scorecard 1 quarter '!$N$132+'[2]Scorecard 1 quarter '!$O$132+'[2]Scorecard 1 quarter '!$P$132 -> 7220 | S4: 0.995 | U4: Janvier | V4: =SUM(E3:E7) -> 2457 | W4: =SUM(F3:F7) -> 8 | X4: =1-(W4/V4) -> 0.996744 | Z4: Janvier | AA4: =SUM(I3:I7) -> 3417 | AB4: =SUM(J3:J7) -> 0 | AC4: =AB4/AA4 -> 0
A5: 3 | B5: 1 | C5: 5 | D5: =AVERAGE('[2]Scorecard 1 quarter '!$S$91:$W$91) -> 0.9954023 | E5: ='[2]Scorecard 1 quarter '!$S$92+'[2]Scorecard 1 quarter '!$T$92+'[2]Scorecard 1 quarter '!$U$92+'[2]Scorecard 1 quarter '!$V$92+'[2]Scorecard 1 quarter '!$W$92 -> 605 | F5: ='[2]Scorecard 1 quarter '!$S$93+'[2]Scorecard 1 quarter '!$T$93+'[2]Scorecard 1 quarter '!$U$93+'[2]Scorecard 1 quarter '!$V$93+'[2]Scorecard 1 quarter '!$W$93 -> 2 | G5: 0.995 | H5: =J5/I5 -> 0 | I5: ='[2]Scorecard 1 quarter '!$S$102+'[2]Scorecard 1 quarter '!$T$102+'[2]Scorecard 1 quarter '!$U$102+'[2]Scorecard 1 quarter '!$V$102+'[2]Scorecard 1 quarter '!$W$102 -> 781 | J5: ='[2]Scorecard 1 quarter '!$S$103+'[2]Scorecard 1 quarter '!$T$103+'[2]Scorecard 1 quarter '!$U$103+'[2]Scorecard 1 quarter '!$V$103+'[2]Scorecard 1 quarter '!$W$103 -> 0 | K5: 0.0012 | L5: =AVERAGE('[2]Scorecard 1 quarter '!$S$120:$W$120) -> 1 | M5: ='[2]Scorecard 1 quarter '!$S$121+'[2]Scorecard 1 quarter '!$T$121+'[2]Scorecard 1 quarter '!$U$121+'[2]Scorecard 1 quarter '!$V$121+'[2]Scorecard 1 quarter '!$W$121 -> 4470 | N5: ='[2]Scorecard 1 quarter '!$S$122+'[2]Scorecard 1 quarter '!$T$122+'[2]Scorecard 1 quarter '!$U$122+'[2]Scorecard 1 quarter '!$V$122+'[2]Scorecard 1 quarter '!$W$122 -> 4470 | O5: 0.995 | P5: =AVERAGE('[2]Scorecard 1 quarter '!$S$130:$W$130) -> 0.99981541 | Q5: ='[2]Scorecard 1 quarter '!$S$131+'[2]Scorecard 1 quarter '!$T$131+'[2]Scorecard 1 quarter '!$U$131+'[2]Scorecard 1 quarter '!$V$131+'[2]Scorecard 1 quarter '!$W$131 -> 12330 | R5: ='[2]Scorecard 1 quarter '!$S$132+'[2]Scorecard 1 quarter '!$T$132+'[2]Scorecard 1 quarter '!$U$132+'[2]Scorecard 1 quarter '!$V$132+'[2]Scorecard 1 quarter '!$W$132 -> 12328 | S5: 0.995 | U5: Février | V5: =SUM(E8:E12) -> 2251 | W5: =SUM(F8:F12) -> 3 | X5: =1-(W5/V5) -> 0.99866726 | Z5: Février | AA5: =SUM(I8:I12) -> 5131 | AB5: =SUM(J8:J12) -> 2 | AC5: =AB5/AA5 -> 0.00038978757
A6: 4 | B6: 1 | C6: 5 | D6: =AVERAGE('[2]Scorecard 1 quarter '!$Z$91:$AD$91) -> 1 | E6: =SUM('[2]Scorecard 1 quarter '!$Z$92:$AD$92) -> 515 | F6: =SUM('[2]Scorecard 1 quarter '!$Z$93:$AD$93) -> 0 | G6: 0.995 | H6: =J6/I6 -> 0 | I6: =SUM('[2]Scorecard 1 quarter '!$Z$102:$AD$102) -> 827 | J6: =SUM('[2]Scorecard 1 quarter '!$Z$103:$AD$103) -> 0 | K6: 0.0012 | L6: =AVERAGE('[2]Scorecard 1 quarter '!$Z$120:$AD$120) -> 1 | M6: =SUM('[2]Scorecard 1 quarter '!$Z$121:$AD$121) -> 7056 | N6: =SUM('[2]Scorecard 1 quarter '!$Z$122:$AD$122) -> 7056 | O6: 0.995 | P6: =AVERAGE('[2]Scorecard 1 quarter '!$Z$130:$AD$130) -> 0.99983111 | Q6: =SUM('[2]Scorecard 1 quarter '!$Z$131:$AD$131) -> 10273 | R6: =SUM('[2]Scorecard 1 quarter '!$Z$132:$AD$132) -> 10271 | S6: 0.995 | U6: Mars | V6: =SUM(E13:E17) -> 6935 | W6: =SUM(F13:F17) -> 16 | X6: =1-(W6/V6) -> 0.99769286 | Z6: Mars | AA6: =SUM(I13:I17) -> 12572 | AB6: =SUM(J13:J17) -> 7 | AC6: =AB6/AA6 -> 0.00055679287
A7: 5 | B7: 1 | C7: 2 | D7: =AVERAGE('[2]Scorecard 1 quarter '!$AG$91:$AH$91) -> 1 | E7: =SUM('[2]Scorecard 1 quarter '!$AG$92:$AH$92) -> 218 | F7: =SUM('[2]Scorecard 1 quarter '!$AG$93:$AH$93) -> 0 | G7: 0.995 | H7: =J7/I7 -> 0 | I7: =SUM('[2]Scorecard 1 quarter '!$AG$102:$AH$102) -> 445 | J7: =SUM('[2]Scorecard 1 quarter '!$AG$103:$AH$103) -> 0 | K7: 0.0012 | L7: =AVERAGE('[2]Scorecard 1 quarter '!$AG$120:$AH$120) -> 1 | M7: =SUM('[2]Scorecard 1 quarter '!$AG$121:$AH$121) -> 4170 | N7: =SUM('[2]Scorecard 1 quarter '!$AG$122:$AH$122) -> 4170 | O7: 0.995 | P7: =AVERAGE('[2]Scorecard 1 quarter '!$AG$130:$AH$130) -> 1 | Q7: =SUM('[2]Scorecard 1 quarter '!$AG$131:$AH$131) -> 3128 | R7: =SUM('[2]Scorecard 1 quarter '!$AG$132:$AH$132) -> 3128 | S7: 0.995 | U7: Avril | V7: =SUM(E18:E21) -> 5856 | W7: =SUM(F18:F21) -> 9 | X7: =1-(W7/V7) -> 0.99846311 | Z7: Avril | AA7: =SUM(I18:I21) -> 7255 | AB7: =SUM(J18:J21) -> 3 | AC7: =AB7/AA7 -> 0.00041350793
A8: 5 | B8: 2 | C8: 3 | D8: =AVERAGE('[2]Scorecard 1 quarter '!$AJ$91:$AL$91) -> 0.9964539 | E8: =SUM('[2]Scorecard 1 quarter '!$AJ$92:$AL$92) -> 260 | F8: =SUM('[2]Scorecard 1 quarter '!$AJ$93:$AL$93) -> 1 | G8: 0.995 | H8: =J8/I8 -> 0 | I8: =SUM('[2]Scorecard 1 quarter '!$AJ$102:$AL$102) -> 314 | J8: =SUM('[2]Scorecard 1 quarter '!$AJ$103:$AL$103) -> 0 | K8: 0.0012 | L8: =AVERAGE('[2]Scorecard 1 quarter '!$AJ$120:$AL$120) -> 1 | M8: =SUM('[2]Scorecard 1 quarter '!$AJ$121:$AL$121) -> 2092 | N8: =SUM('[2]Scorecard 1 quarter '!$AJ$122:$AL$122) -> 2092 | O8: 0.995 | P8: =AVERAGE('[2]Scorecard 1 quarter '!$AJ$130:$AL$130) -> 0.99979009 | Q8: =SUM('[2]Scorecard 1 quarter '!$AJ$131+'[2]Scorecard 1 quarter '!$AL$131) -> 4059 | R8: =SUM('[2]Scorecard 1 quarter '!$AJ$132:$AL$132) -> 4058 | S8: 0.995 | U8: Mai | V8: =SUM(E22:E26) -> 0 | W8: =SUM(F22:F26) -> 0 | X8: =1-(W8/V8) -> #DIV/0! | Z8: Mai | AA8: =SUM(I22:I26) -> 0 | AB8: =SUM(J22:J26) -> 0 | AC8: =AB8/AA8 -> #DIV/0!
A9: 6 | B9: 2 | C9: 5 | D9: =AVERAGE('[2]Scorecard 1 quarter '!$AO$91:$AS$91) -> 1 | E9: =SUM('[2]Scorecard 1 quarter '!$AO$92:$AS$92) -> 498 | F9: =SUM('[2]Scorecard 1 quarter '!$AO$93:$AS$93) -> 0 | G9: 0.995 | H9: =J9/I9 -> 0.00089206066 | I9: =SUM('[2]Scorecard 1 quarter '!$AO$102:$AS$102) -> 1121 | J9: =SUM('[2]Scorecard 1 quarter '!$AO$103:$AS$103) -> 1 | K9: 0.0012 | L9: =AVERAGE('[2]Scorecard 1 quarter '!$AO$120:$AS$120) -> 1 | M9: =SUM('[2]Scorecard 1 quarter '!$AO$121:$AS$121) -> 9873 | N9: =SUM('[2]Scorecard 1 quarter '!$AO$122:$AS$122) -> 9873 | O9: 0.995 | P9: =AVERAGE('[2]Scorecard 1 quarter '!$AO$130:$AS$130) -> 0.99959058 | Q9: =SUM('[2]Scorecard 1 quarter '!$AO$131:$AS$131) -> 8304 | R9: =SUM('[2]Scorecard 1 quarter '!$AO$132:$AS$132) -> 8302 | S9: 0.995 | U9: Juin | V9: =SUM(E27:E31) -> 0 | W9: =SUM(F27:F31) -> 0 | X9: =1-(W9/V9) -> #DIV/0! | Z9: Juin | AA9: =SUM(I27:I31) -> 0 | AB9: =SUM(J27:J31) -> 0 | AC9: =AB9/AA9 -> #DIV/0!
A10: 7 | B10: 2 | C10: 5 | D10: =AVERAGE('[2]Scorecard 1 quarter '!$AV$91:$AZ$91) -> 1 | E10: =SUM('[2]Scorecard 1 quarter '!$AV$92:$AZ$92) -> 544 | F10: =SUM('[2]Scorecard 1 quarter '!$AV$93:$AZ$93) -> 0 | G10: 0.995 | H10: =J10/I10 -> 0 | I10: =SUM('[2]Scorecard 1 quarter '!$AV$102:$AZ$102) -> 1139 | J10: =SUM('[2]Scorecard 1 quarter '!$AV$103:$AZ$103) -> 0 | K10: 0.0012 | L10: =AVERAGE('[2]Scorecard 1 quarter '!$AV$120:$AZ$120) -> 1 | M10: =SUM('[2]Scorecard 1 quarter '!$AV$121:$AZ$121) -> 9774 | N10: =SUM('[2]Scorecard 1 quarter '!$AV$122:$AZ$122) -> 9774 | O10: 0.995 | P10: =AVERAGE('[2]Scorecard 1 quarter '!$AV$130:$AZ$130) -> 0.99981885 | Q10: =SUM('[2]Scorecard 1 quarter '!$AV$131:$AZ$131) -> 10166 | R10: =SUM('[2]Scorecard 1 quarter '!$AV$132:$AZ$132) -> 10164 | S10: 0.995 | U10: Juillet | V10: =SUM(E32:E36) -> 0 | W10: =SUM(F32:F36) -> 0 | X10: =1-(W10/V10) -> #DIV/0! | Z10: Juillet | AA10: =SUM(I32:I36) -> 0 | AB10: =SUM(J32:J36) -> 0 | AC10: =AB10/AA10 -> #DIV/0!
A11: 8 | B11: 2 | C11: 5 | D11: =AVERAGE('[2]Scorecard 1 quarter '!$BC$91:$BG$91) -> 1 | E11: =SUM('[2]Scorecard 1 quarter '!$BC$92:$BG$92) -> 595 | F11: =SUM('[2]Scorecard 1 quarter '!$BC$93:$BG$93) -> 0 | G11: 0.995 | H11: =J11/I11 -> 0 | I11: =SUM('[2]Scorecard 1 quarter '!$BC$102:$BG$102) -> 1329 | J11: =SUM('[2]Scorecard 1 quarter '!$BC$103:$BG$103) -> 0 | K11: 0.0012 | L11: =AVERAGE('[2]Scorecard 1 quarter '!$BC$120:$BG$120) -> 1 | M11: =SUM('[2]Scorecard 1 quarter '!$BC$121:$BG$121) -> 12985 | N11: =SUM('[2]Scorecard 1 quarter '!$BC$122:$BG$122) -> 12985 | O11: 0.995 | P11: =AVERAGE('[2]Scorecard 1 quarter '!$BC$130:$BG$130) -> 0.99974611 | Q11: =SUM('[2]Scorecard 1 quarter '!$BC$131:$BG$131) -> 11921 | R11: =SUM('[2]Scorecard 1 quarter '!$BC$132:$BG$132) -> 11917 | S11: 0.995 | U11: Août | V11: =SUM(E37:E41) -> 0 | W11: =SUM(F37:F41) -> 0 | X11: =1-(W11/V11) -> #DIV/0! | Z11: Août | AA11: =SUM(I37:I41) -> 0 | AB11: =SUM(J37:J41) -> 0 | AC11: =AB11/AA11 -> #DIV/0!
A12: 9 | B12: 2 | C12: 2 | D12: =AVERAGE('[2]Scorecard 1 quarter '!$BJ$91:$BK$91) -> 0.99310345 | E12: =SUM('[2]Scorecard 1 quarter '!$BJ$92:$BK$92) -> 354 | F12: =SUM('[2]Scorecard 1 quarter '!$BJ$93:$BK$93) -> 2 | G12: 0.995 | H12: =J12/I12 -> 0.00081433225 | I12: =SUM('[2]Scorecard 1 quarter '!$BJ$102:$BK$102) -> 1228 | J12: =SUM('[2]Scorecard 1 quarter '!$BJ$103:$BK$103) -> 1 | K12: 0.0012 | L12: =AVERAGE('[2]Scorecard 1 quarter '!$BJ$120:$BK$120) -> 1 | M12: =SUM('[2]Scorecard 1 quarter '!$BJ$121:$BK$121) -> 7965 | N12: =SUM('[2]Scorecard 1 quarter '!$BJ$122:$BK$122) -> 7965 | O12: 0.995 | P12: =AVERAGE('[2]Scorecard 1 quarter '!$BJ$130:$BK$130) -> 0.99922943 | Q12: =SUM('[2]Scorecard 1 quarter '!$BJ$131:$BK$131) -> 6130 | R12: =SUM('[2]Scorecard 1 quarter '!$BJ$132:$BK$132) -> 6126 | S12: 0.995 | U12: Septembre | V12: =SUM(E42:E46) -> 0 | W12: =SUM(F42:F46) -> 0 | X12: =1-(W12/V12) -> #DIV/0! | Z12: Septembre | AA12: =SUM(I42:I46) -> 0 | AB12: =SUM(J42:J46) -> 0 | AC12: =AB12/AA12 -> #DIV/0!
A13: 9 | B13: 3 | C13: 3 | D13: =AVERAGE('[2]Scorecard 1 quarter '!$BM$91:$BO$91) -> 1 | E13: =SUM('[2]Scorecard 1 quarter '!$BM$92:$BO$92) -> 555 | F13: =SUM('[2]Scorecard 1 quarter '!$BM$93:$BO$93) -> 0 | G13: 0.995 | H13: =J13/I13 -> 0 | I13: =SUM('[2]Scorecard 1 quarter '!$BM$102:$BO$102) -> 1102 | J13: =SUM('[2]Scorecard 1 quarter '!$BM$103:$BO$103) -> 0 | K13: 0.0012 | L13: =AVERAGE('[2]Scorecard 1 quarter '!$BM$120:$BO$120) -> 1 | M13: =SUM('[2]Scorecard 1 quarter '!$BM$121:$BO$121) -> 7887 | N13: =SUM('[2]Scorecard 1 quarter '!$BM$122:$BO$122) -> 7887 | O13: 0.995 | P13: =AVERAGE('[2]Scorecard 1 quarter '!$BM$130:$BO$130) -> 0.99989828 | Q13: =SUM('[2]Scorecard 1 quarter '!$BM$131:$BO$131) -> 7197 | R13: =SUM('[2]Scorecard 1 quarter '!$BM$132:$BO$132) -> 7196 | S13: 0.995 | U13: Octobre | V13: =SUM(E47:E51) -> 0 | W13: =SUM(F47:F51) -> 0 | X13: =1-(W13/V13) -> #DIV/0! | Z13: Octobre | AA13: =SUM(I47:I51) -> 0 | AB13: =SUM(J47:J51) -> 0 | AC13: =AB13/AA13 -> #DIV/0!
A14: 10 | B14: 3 | C14: 5 | D14: =AVERAGE('[2]Scorecard 1 quarter '!$BR$91:$BV$91) -> 0.9989899 | E14: =SUM('[2]Scorecard 1 quarter '!$BR$92:$BV$92) -> 979 | F14: =SUM('[2]Scorecard 1 quarter '!$BR$93:$BV$93) -> 1 | G14: 0.995 | H14: =J14/I14 -> 0.0004014452 | I14: =SUM('[2]Scorecard 1 quarter '!$BR$102:$BV$102) -> 2491 | J14: =SUM('[2]Scorecard 1 quarter '!$BR$103:$BV$103) -> 1 | K14: 0.0012 | L14: =AVERAGE('[2]Scorecard 1 quarter '!$BR$120:$BV$120) -> 1 | M14: =SUM('[2]Scorecard 1 quarter '!$BR$121:$BV$121) -> 16497 | N14: =SUM('[2]Scorecard 1 quarter '!$BR$122:$BV$122) -> 16497 | O14: 0.995 | P14: =AVERAGE('[2]Scorecard 1 quarter '!$BR$130:$BV$130) -> 0.99966555 | Q14: =SUM('[2]Scorecard 1 quarter '!$BR$131:$BV$131) -> 7642 | R14: =SUM('[2]Scorecard 1 quarter '!$BR$132:$BV$132) -> 7638 | S14: 0.995 | U14: Novembre | V14: =SUM(E52:E56) -> 0 | W14: =SUM(F52:F56) -> 0 | X14: =1-(W14/V14) -> #DIV/0! | Z14: Novembre | AA14: =SUM(I52:I56) -> 0 | AB14: =SUM(J52:J56) -> 0 | AC14: =AB14/AA14 -> #DIV/0!
A15: 11 | B15: 3 | C15: 5 | D15: =AVERAGE('[2]Scorecard 1 quarter '!$BY$91:$CC$91) -> 0.99199198 | E15: =SUM('[2]Scorecard 1 quarter '!$BY$92:$CC$92) -> 1227 | F15: =SUM('[2]Scorecard 1 quarter '!$BY$93:$CC$93) -> 9 | G15: 0.995 | H15: =J15/I15 -> 0.0004599816 | I15: =SUM('[2]Scorecard 1 quarter '!$BY$102:$CC$102) -> 2174 | J15: =SUM('[2]Scorecard 1 quarter '!$BY$103:$CC$103) -> 1 | K15: 0.0012 | L15: =AVERAGE('[2]Scorecard 1 quarter '!$BY$120:$CC$120) -> 1 | M15: =SUM('[2]Scorecard 1 quarter '!$BY$121:$CC$121) -> 11651 | N15: =SUM('[2]Scorecard 1 quarter '!$BY$122:$CC$122) -> 11651 | O15: 0.995 | P15: =AVERAGE('[2]Scorecard 1 quarter '!$BY$130:$CC$130) -> 0.99925438 | Q15: =SUM('[2]Scorecard 1 quarter '!$BY$131:$CC$131) -> 9193 | R15: =SUM('[2]Scorecard 1 quarter '!$BY$132:$CC$132) -> 9188 | S15: 0.995 | U15: Décembre | V15: =SUM(E57:E61) -> 0 | W15: =SUM(F57:F61) -> 0 | X15: =1-(W15/V15) -> #DIV/0! | Z15: Décembre | AA15: =SUM(I57:I61) -> 0 | AB15: =SUM(J57:J61) -> 0 | AC15: =AB15/AA15 -> #DIV/0!
A16: 12 | B16: 3 | C16: 5 | D16: =AVERAGE('[2]Scorecard 1 quarter '!$CF$91:$CJ$91) -> 0.99824846 | E16: =SUM('[2]Scorecard 1 quarter '!$CF$92:$CJ$92) -> 1733 | F16: =SUM('[2]Scorecard 1 quarter '!$CF$93:$CJ$93) -> 3 | G16: 0.995 | H16: =J16/I16 -> 0.0016789792 | I16: =SUM('[2]Scorecard 1 quarter '!$CF$102:$CJ$102) -> 2978 | J16: =SUM('[2]Scorecard 1 quarter '!$CF$103:$CJ$103) -> 5 | K16: 0.0012 | L16: =AVERAGE('[2]Scorecard 1 quarter '!$CF$120:$CJ$120) -> 1 | M16: =SUM('[2]Scorecard 1 quarter '!$CF$121:$CJ$121) -> 18202 | N16: =SUM('[2]Scorecard 1 quarter '!$CF$122:$CJ$122) -> 18202 | O16: 0.995 | P16: =AVERAGE('[2]Scorecard 1 quarter '!$CF$130:$CJ$130) -> 0.99973622 | Q16: =SUM('[2]Scorecard 1 quarter '!$CF$131:$CJ$131) -> 11183 | R16: =SUM('[2]Scorecard 1 quarter '!$CF$132:$CJ$132) -> 11179 | S16: 0.995
A17: 13 | B17: 3 | C17: 5 | D17: =AVERAGE('[2]Scorecard 1 quarter '!$CM$91:$CQ$91) -> 0.99887367 | E17: =SUM('[2]Scorecard 1 quarter '!$CM$92:$CQ$92) -> 2441 | F17: =SUM('[2]Scorecard 1 quarter '!$CM$93:$CQ$93) -> 3 | G17: 0.995 | H17: =J17/I17 -> 0 | I17: =SUM('[2]Scorecard 1 quarter '!$CM$102:$CQ$102) -> 3827 | J17: =SUM('[2]Scorecard 1 quarter '!$CM$103:$CQ$103) -> 0 | K17: 0.0012 | L17: =AVERAGE('[2]Scorecard 1 quarter '!$CM$120:$CQ$120) -> 1 | M17: =SUM('[2]Scorecard 1 quarter '!$CM$121:$CQ$121) -> 18996 | N17: =SUM('[2]Scorecard 1 quarter '!$CM$122:$CQ$122) -> 18996 | O17: 0.995 | P17: =AVERAGE('[2]Scorecard 1 quarter '!$CM$130:$CQ$130) -> 0.99965035 | Q17: =SUM('[2]Scorecard 1 quarter '!$CM$131:$CQ$131) -> 21263 | R17: =SUM('[2]Scorecard 1 quarter '!$CM$132:$CQ$132) -> 21256 | S17: 0.995
A18: 14 | B18: 4 | C18: 5 | D18: =AVERAGE('[2]Scorecard 1 quarter '!$CU$91:$CY$91) -> 1 | E18: =SUM('[2]Scorecard 1 quarter '!$CU$92:$CY$92) -> 1765 | F18: =SUM('[2]Scorecard 1 quarter '!$CU$93:$CY$93) -> 0 | G18: 0.995 | H18: =J18/I18 -> 0.0010621349 | I18: =SUM('[2]Scorecard 1 quarter '!$CU$102:$CY$102) -> 1883 | J18: =SUM('[2]Scorecard 1 quarter '!$CU$103:$CY$103) -> 2 | K18: 0.0012 | L18: =AVERAGE('[2]Scorecard 1 quarter '!$CU$120:$CY$120) -> 1 | M18: =SUM('[2]Scorecard 1 quarter '!$CU$121:$CY$121) -> 9455 | N18: =SUM('[2]Scorecard 1 quarter '!$CU$122:$CY$122) -> 9455 | O18: 0.995 | P18: =AVERAGE('[2]Scorecard 1 quarter '!$CU$130:$CY$130) -> 0.9993118 | Q18: =SUM('[2]Scorecard 1 quarter '!$CU$131:$CY$131) -> 8281 | R18: =SUM('[2]Scorecard 1 quarter '!$CU$132:$CY$132) -> 8276 | S18: 0.995 | V18: Taux de scannag en sortie | AA18: Taux de scannage en entrée
A19: 15 | B19: 4 | C19: 5 | D19: =AVERAGE('[2]Scorecard 1 quarter '!$DB$91:$DE$91) -> 1 | E19: =SUM('[2]Scorecard 1 quarter '!$DB$92:$DF$92) -> 1310 | F19: =SUM('[2]Scorecard 1 quarter '!$DB$93:$DF$93) -> 0 | G19: 0.995 | H19: =J19/I19 -> 0 | I19: =SUM('[2]Scorecard 1 quarter '!$DB$102:$DF$102) -> 1659 | J19: =SUM('[2]Scorecard 1 quarter '!$DB$103:$DF$103) -> 0 | K19: 0.0012 | L19: =AVERAGE('[2]Scorecard 1 quarter '!$DB$120:$DE$120) -> 1 | M19: =SUM('[2]Scorecard 1 quarter '!$DB$121:$DF$121) -> 7284 | N19: =SUM('[2]Scorecard 1 quarter '!$DB$122:$DF$122) -> 7284 | O19: 0.995 | P19: =AVERAGE('[2]Scorecard 1 quarter '!$DB$130:$DE$130) -> 1 | Q19: =SUM('[2]Scorecard 1 quarter '!$DB$131:$DF$131) -> 9777 | R19: =SUM('[2]Scorecard 1 quarter '!$DB$132:$DF$132) -> 9777 | S19: 0.995 | U19: Janvier | V19: =SUM(M3:M7) -> 21385 | W19: =SUM(N3:N7) -> 21385 | X19: =(W19/V19) -> 1 | Z19: Janvier | AA19: =SUM(Q3:Q7) -> 38266 | AB19: =SUM(R3:R7) -> 38261 | AC19: =(AB19/AA19) -> 0.99986934
A20: 16 | B20: 4 | C20: 5 | D20: =AVERAGE('[2]Scorecard 1 quarter '!$DJ$91:$DM$91) -> 1 | E20: =SUM('[2]Scorecard 1 quarter '!$DI$92:$DM$92) -> 1308 | F20: =SUM('[2]Scorecard 1 quarter '!$DI$93:$DM$93) -> 0 | G20: 0.995 | H20: =J20/I20 -> 0 | I20: =SUM('[2]Scorecard 1 quarter '!$DI$102:$DM$102) -> 1564 | J20: =SUM('[2]Scorecard 1 quarter '!$DI$103:$DM$103) -> 0 | K20: 0.0012 | L20: =AVERAGE('[2]Scorecard 1 quarter '!$DJ$120:$DM$120) -> 1 | M20: =SUM('[2]Scorecard 1 quarter '!$DI$121:$DM$121) -> 7717 | N20: =SUM('[2]Scorecard 1 quarter '!$DI$122:$DM$122) -> 7717 | O20: 0.995 | P20: =AVERAGE('[2]Scorecard 1 quarter '!$DJ$130:$DM$130) -> 0.99981189 | Q20: =SUM('[2]Scorecard 1 quarter '!$DI$131:$DM$131) -> 10056 | R20: =SUM('[2]Scorecard 1 quarter '!$DI$132:$DM$132) -> 10054 | S20: 0.995 | U20: Février | V20: =SUM(M8:M12) -> 42689 | W20: =SUM(N8:N12) -> 42689 | X20: =(W20/V20) -> 1 | Z20: Février | AA20: =SUM(Q8:Q12) -> 40580 | AB20: =SUM(R8:R12) -> 40567 | AC20: =(AB20/AA20) -> 0.99967965
A21: 17 | B21: 4 | C21: 5 | D21: =AVERAGE('[2]Scorecard 1 quarter '!$DP$91:$DT$91) -> 0.99274308 | E21: =SUM('[2]Scorecard 1 quarter '!$DP$92:$DT$92) -> 1473 | F21: =SUM('[2]Scorecard 1 quarter '!$DP$93:$DT$93) -> 9 | G21: 0.995 | H21: =J21/I21 -> 0.00046533271 | I21: =SUM('[2]Scorecard 1 quarter '!$DP$102:$DT$102) -> 2149 | J21: =SUM('[2]Scorecard 1 quarter '!$DP$103:$DT$103) -> 1 | K21: 0.0012 | L21: =AVERAGE('[2]Scorecard 1 quarter '!$DP$120:$DT$120) -> 1 | M21: =SUM('[2]Scorecard 1 quarter '!$DP$121:$DT$121) -> 11737 | N21: =SUM('[2]Scorecard 1 quarter '!$DP$122:$DT$122) -> 11737 | O21: 0.995 | P21: =AVERAGE('[2]Scorecard 1 quarter '!$DP$130:$DT$130) -> 0.99945627 | Q21: =SUM('[2]Scorecard 1 quarter '!$DP$131:$DT$131) -> 15100 | R21: =SUM('[2]Scorecard 1 quarter '!$DP$132:$DT$132) -> 15093 | S21: 0.995 | U21: Mars | V21: =SUM(M13:M17) -> 73233 | W21: =SUM(N13:N17) -> 73233 | X21: =(W21/V21) -> 1 | Z21: Mars | AA21: =SUM(Q13:Q17) -> 56478 | AB21: =SUM(R13:R17) -> 56457 | AC21: =(AB21/AA21) -> 0.99962817
A22: 18 | B22: 5 | C22: 5 | D22: =AVERAGE('[2]Scorecard 1 quarter '!$DX$91:$EB$91) -> #DIV/0! | E22: =SUM('[2]Scorecard 1 quarter '!$DX$92:$EB$92) -> 0 | F22: =SUM('[2]Scorecard 1 quarter '!$DX$93:$EB$93) -> 0 | G22: 0.995 | H22: =J22/I22 -> #DIV/0! | I22: =SUM('[2]Scorecard 1 quarter '!$DX$102:$EB$102) -> 0 | J22: =SUM('[2]Scorecard 1 quarter '!$DX$103:$EB$103) -> 0 | K22: 0.0012 | L22: =AVERAGE('[2]Scorecard 1 quarter '!$DX$120:$EB$120) -> #DIV/0! | M22: =SUM('[2]Scorecard 1 quarter '!$DX$121:$EB$121) -> 0 | N22: =SUM('[2]Scorecard 1 quarter '!$DX$122:$EB$122) -> 0 | O22: 0.995 | P22: =AVERAGE('[2]Scorecard 1 quarter '!$DX$130:$EB$130) -> #DIV/0! | Q22: =SUM('[2]Scorecard 1 quarter '!$EE$131:$EI$131) -> 0 | R22: =SUM('[2]Scorecard 1 quarter '!$DX$132:$EB$132) -> 0 | S22: 0.995 | U22: Avril | V22: =SUM(M18:M21) -> 36193 | W22: =SUM(N18:N21) -> 36193 | X22: =(W22/V22) -> 1 | Z22: Avril | AA22: =SUM(Q18:Q21) -> 43214 | AB22: =SUM(R18:R21) -> 43200 | AC22: =(AB22/AA22) -> 0.99967603
A23: 19 | B23: 5 | C23: 5 | D23: =AVERAGE('[2]Scorecard 1 quarter '!$EE$91:$EI$91) -> #DIV/0! | E23: =SUM('[2]Scorecard 1 quarter '!$EE$92:$EI$92) -> 0 | F23: =SUM('[2]Scorecard 1 quarter '!$EE$93:$EI$93) -> 0 | G23: 0.995 | H23: =J23/I23 -> #DIV/0! | I23: =SUM('[2]Scorecard 1 quarter '!$EE$102:$EI$102) -> 0 | J23: =SUM('[2]Scorecard 1 quarter '!$EE$103:$EI$103) -> 0 | K23: 0.0012 | L23: =AVERAGE('[2]Scorecard 1 quarter '!$EE$120:$EI$120) -> #DIV/0! | M23: =SUM('[2]Scorecard 1 quarter '!$EE$121:$EI$121) -> 0 | N23: =SUM('[2]Scorecard 1 quarter '!$EE$122:$EI$122) -> 0 | O23: 0.995 | P23: =AVERAGE('[2]Scorecard 1 quarter '!$EE$130:$EI$130) -> #DIV/0! | Q23: =SUM('[2]Scorecard 1 quarter '!$EE$131:$EI$131) -> 0 | R23: =SUM('[2]Scorecard 1 quarter '!$EE$132:$EI$132) -> 0 | S23: 0.995 | U23: Mai | V23: =SUM(M22:M26) -> 0 | W23: =SUM(N22:N26) -> 0 | X23: =(W23/V23) -> #DIV/0! | Z23: Mai | AA23: =SUM(Q22:Q26) -> 0 | AB23: =SUM(R22:R26) -> 0 | AC23: =(AB23/AA23) -> #DIV/0!
A24: 20 | B24: 5 | C24: 5 | D24: =AVERAGE('[2]Scorecard 1 quarter '!$EL$91:$EP$91) -> #DIV/0! | E24: =SUM('[2]Scorecard 1 quarter '!$EL$92:$EP$92) -> 0 | F24: =SUM('[2]Scorecard 1 quarter '!$EL$93:$EP$93) -> 0 | G24: 0.995 | H24: =J24/I24 -> #DIV/0! | I24: =SUM('[2]Scorecard 1 quarter '!$EL$102:$EP$102) -> 0 | J24: =SUM('[2]Scorecard 1 quarter '!$EL$103:$EP$103) -> 0 | K24: 0.0012 | L24: =AVERAGE('[2]Scorecard 1 quarter '!$EL$120:$EP$120) -> #DIV/0! | M24: =SUM('[2]Scorecard 1 quarter '!$EL$121:$EP$121) -> 0 | N24: =SUM('[2]Scorecard 1 quarter '!$EL$122:$EP$122) -> 0 | O24: 0.995 | P24: =AVERAGE('[2]Scorecard 1 quarter '!$EL$130:$EP$130) -> #DIV/0! | Q24: =SUM('[2]Scorecard 1 quarter '!$EL$131:$EP$131) -> 0 | R24: =SUM('[2]Scorecard 1 quarter '!$EL$132:$EP$132) -> 0 | S24: 0.995 | U24: Juin | V24: =SUM(M27:M31) -> 0 | W24: =SUM(N27:N31) -> 0 | X24: =(W24/V24) -> #DIV/0! | Z24: Juin | AA24: =SUM(Q27:Q31) -> 0 | AB24: =SUM(R27:R31) -> 0 | AC24: =(AB24/AA24) -> #DIV/0!
A25: 21 | B25: 5 | C25: 5 | D25: =AVERAGE('[2]Scorecard 1 quarter '!$ES$91:$EW$91) -> #DIV/0! | E25: =SUM('[2]Scorecard 1 quarter '!$ES$92:$EW$92) -> 0 | F25: =SUM('[2]Scorecard 1 quarter '!$ES$93:$EW$93) -> 0 | G25: 0.995 | H25: =J25/I25 -> #DIV/0! | I25: =SUM('[2]Scorecard 1 quarter '!$ES$102:$EW$102) -> 0 | J25: =SUM('[2]Scorecard 1 quarter '!$ES$103:$EW$103) -> 0 | K25: 0.0012 | L25: =AVERAGE('[2]Scorecard 1 quarter '!$ES$120:$EW$120) -> #DIV/0! | M25: =SUM('[2]Scorecard 1 quarter '!$ES$121:$EW$121) -> 0 | N25: =SUM('[2]Scorecard 1 quarter '!$ES$122:$EW$122) -> 0 | O25: 0.995 | P25: =AVERAGE('[2]Scorecard 1 quarter '!$ES$130:$EW$130) -> #DIV/0! | Q25: =SUM('[2]Scorecard 1 quarter '!$ES$131:$EW$131) -> 0 | R25: =SUM('[2]Scorecard 1 quarter '!$ES$132:$EW$132) -> 0 | S25: 0.995 | U25: Juillet | V25: =SUM(M32:M36) -> 0 | W25: =SUM(N32:N36) -> 0 | X25: =(W25/V25) -> #DIV/0! | Z25: Juillet | AA25: =SUM(Q32:Q36) -> 0 | AB25: =SUM(R32:R36) -> 0 | AC25: =(AB25/AA25) -> #DIV/0!
A26: 22 | B26: 5 | C26: 3 | D26: =AVERAGE('[2]Scorecard 1 quarter '!$EZ$91:$FB$91) -> #DIV/0! | E26: =SUM('[2]Scorecard 1 quarter '!$EZ$92:$FB$92) -> 0 | F26: =SUM('[2]Scorecard 1 quarter '!$EZ$93:$FB$93) -> 0 | G26: 0.995 | H26: =J26/I26 -> #DIV/0! | I26: =SUM('[2]Scorecard 1 quarter '!$EZ$102:$FB$102) -> 0 | J26: =SUM('[2]Scorecard 1 quarter '!$EZ$103:$FB$103) -> 0 | K26: 0.0012 | L26: =AVERAGE('[2]Scorecard 1 quarter '!$EZ$120:$FB$120) -> #DIV/0! | M26: =SUM('[2]Scorecard 1 quarter '!$EZ$121:$FB$121) -> 0 | N26: =SUM('[2]Scorecard 1 quarter '!$EZ$122:$FB$122) -> 0 | O26: 0.995 | P26: =AVERAGE('[2]Scorecard 1 quarter '!$EZ$130:$FB$130) -> #DIV/0! | Q26: =SUM('[2]Scorecard 1 quarter '!$EZ$131:$FB$131) -> 0 | R26: =SUM('[2]Scorecard 1 quarter '!$EZ$132:$FB$132) -> 0 | S26: 0.995 | U26: Août | V26: =SUM(M37:M41) -> 0 | W26: =SUM(N37:N41) -> 0 | X26: =(W26/V26) -> #DIV/0! | Z26: Août | AA26: =SUM(Q37:Q41) -> 0 | AB26: =SUM(R37:R41) -> 0 | AC26: =(AB26/AA26) -> #DIV/0!
A27: 22 | B27: 6 | C27: 2 | D27: =AVERAGE('[2]Scorecard 1 quarter '!$FD$91:$FE$91) -> #DIV/0! | E27: =SUM('[2]Scorecard 1 quarter '!$FD$92+'[2]Scorecard 1 quarter '!$FE$92) -> 0 | F27: =SUM('[2]Scorecard 1 quarter '!$FD$93+'[2]Scorecard 1 quarter '!$FE$93) -> 0 | G27: 0.995 | H27: =J27/I27 -> #DIV/0! | I27: =SUM('[2]Scorecard 1 quarter '!$FD$102+'[2]Scorecard 1 quarter '!$FE$102) -> 0 | J27: =SUM('[2]Scorecard 1 quarter '!$FD$103+'[2]Scorecard 1 quarter '!$FE$103) -> 0 | K27: 0.0012 | L27: =AVERAGE('[2]Scorecard 1 quarter '!$FD$120:$FE$120) -> #DIV/0! | M27: =SUM('[2]Scorecard 1 quarter '!$FD$121+'[2]Scorecard 1 quarter '!$FE$121) -> 0 | N27: =SUM('[2]Scorecard 1 quarter '!$FD$122+'[2]Scorecard 1 quarter '!$FE$122) -> 0 | O27: 0.995 | P27: =AVERAGE('[2]Scorecard 1 quarter '!$FD$130:$FE$130) -> #DIV/0! | Q27: =SUM('[2]Scorecard 1 quarter '!$FD$131+'[2]Scorecard 1 quarter '!$FE$131) -> 0 | R27: =SUM('[2]Scorecard 1 quarter '!$FD$132+'[2]Scorecard 1 quarter '!$FE$132) -> 0 | S27: 0.995 | U27: Septembre | V27: =SUM(M42:M46) -> 0 | W27: =SUM(N42:N46) -> 0 | X27: =(W27/V27) -> #DIV/0! | Z27: Septembre | AA27: =SUM(Q42:Q46) -> 0 | AB27: =SUM(R42:R46) -> 0 | AC27: =(AB27/AA27) -> #DIV/0!
A28: 23 | B28: 6 | C28: 5 | D28: =AVERAGE('[2]Scorecard 1 quarter '!$FH$91:$FL$91) -> #DIV/0! | E28: =SUM('[2]Scorecard 1 quarter '!$FH$92:$FL$92) -> 0 | F28: =SUM('[2]Scorecard 1 quarter '!$FH$93:$FL$93) -> 0 | G28: 0.995 | H28: =J28/I28 -> #DIV/0! | I28: =SUM('[2]Scorecard 1 quarter '!$FH$102:$FL$102) -> 0 | J28: =SUM('[2]Scorecard 1 quarter '!$FH$103:$FL$103) -> 0 | K28: 0.0012 | L28: =AVERAGE('[2]Scorecard 1 quarter '!$FH$120:$FL$120) -> #DIV/0! | M28: =SUM('[2]Scorecard 1 quarter '!$FH$121:$FL$121) -> 0 | N28: =SUM('[2]Scorecard 1 quarter '!$FH$122:$FL$122) -> 0 | O28: 0.995 | P28: =AVERAGE('[2]Scorecard 1 quarter '!$FH$130:$FL$130) -> #DIV/0! | Q28: =SUM('[2]Scorecard 1 quarter '!$FH$131:$FL$131) -> 0 | R28: =SUM('[2]Scorecard 1 quarter '!$FH$132:$FL$132) -> 0 | S28: 0.995 | U28: Octobre | V28: =SUM(M47:M51) -> 0 | W28: =SUM(N47:N51) -> 0 | X28: =(W28/V28) -> #DIV/0! | Z28: Octobre | AA28: =SUM(Q47:Q51) -> 0 | AB28: =SUM(R47:R51) -> 0 | AC28: =(AB28/AA28) -> #DIV/0!
A29: 24 | B29: 6 | C29: 5 | D29: =AVERAGE('[2]Scorecard 1 quarter '!$FO$91:$FS$91) -> #DIV/0! | E29: =SUM('[2]Scorecard 1 quarter '!$FO$92:$FS$92) -> 0 | F29: =SUM('[2]Scorecard 1 quarter '!$FO$93:$FS$93) -> 0 | G29: 0.995 | H29: =J29/I29 -> #DIV/0! | I29: =SUM('[2]Scorecard 1 quarter '!$FO$102:$FS$102) -> 0 | J29: =SUM('[2]Scorecard 1 quarter '!$FO$103:$FS$103) -> 0 | K29: 0.0012 | L29: =AVERAGE('[2]Scorecard 1 quarter '!$FO$120:$FS$120) -> #DIV/0! | M29: =SUM('[2]Scorecard 1 quarter '!$FO$121:$FS$121) -> 0 | N29: =SUM('[2]Scorecard 1 quarter '!$FO$122:$FS$122) -> 0 | O29: 0.995 | P29: =AVERAGE('[2]Scorecard 1 quarter '!$FO$130:$FS$130) -> #DIV/0! | Q29: =SUM('[2]Scorecard 1 quarter '!$FO$131:$FS$131) -> 0 | R29: =SUM('[2]Scorecard 1 quarter '!$FO$132:$FS$132) -> 0 | S29: 0.995 | U29: Novembre | V29: =SUM(M52:M56) -> 0 | W29: =SUM(N52:N56) -> 0 | X29: =(W29/V29) -> #DIV/0! | Z29: Novembre | AA29: =SUM(Q52:Q56) -> 0 | AB29: =SUM(R52:R56) -> 0 | AC29: =(AB29/AA29) -> #DIV/0!
A30: 25 | B30: 6 | C30: 5 | D30: =AVERAGE('[2]Scorecard 1 quarter '!$FV$91:$FZ$91) -> #DIV/0! | E30: =SUM('[2]Scorecard 1 quarter '!$FV$92:$FZ$92) -> 0 | F30: =SUM('[2]Scorecard 1 quarter '!$FV$93:$FZ$93) -> 0 | G30: 0.995 | H30: =J30/I30 -> #DIV/0! | I30: =SUM('[2]Scorecard 1 quarter '!$FV$102:$FZ$102) -> 0 | J30: =SUM('[2]Scorecard 1 quarter '!$FV$103:$FZ$103) -> 0 | K30: 0.0012 | L30: =AVERAGE('[2]Scorecard 1 quarter '!$FV$120:$FZ$120) -> #DIV/0! | M30: =SUM('[2]Scorecard 1 quarter '!$FV$121:$FZ$121) -> 0 | N30: =SUM('[2]Scorecard 1 quarter '!$FV$122:$FZ$122) -> 0 | O30: 0.995 | P30: =AVERAGE('[2]Scorecard 1 quarter '!$FV$130:$FZ$130) -> #DIV/0! | Q30: =SUM('[2]Scorecard 1 quarter '!$FV$131:$FZ$131) -> 0 | R30: =SUM('[2]Scorecard 1 quarter '!$FV$132:$FZ$132) -> 0 | S30: 0.995 | U30: Décembre | V30: =SUM(M57:M61) -> 0 | W30: =SUM(N57:N61) -> 0 | X30: =(W30/V30) -> #DIV/0! | Z30: Décembre | AA30: =SUM(Q57:Q61) -> 0 | AB30: =SUM(R57:R61) -> 0 | AC30: =(AB30/AA30) -> #DIV/0!
A31: 26 | B31: 6 | C31: 5 | D31: =AVERAGE('[2]Scorecard 1 quarter '!$GC$91:$GG$91) -> #DIV/0! | E31: =SUM('[2]Scorecard 1 quarter '!$GC$92:$GG$92) -> 0 | F31: =SUM('[2]Scorecard 1 quarter '!$GC$93:$GG$93) -> 0 | G31: 0.995 | H31: =J31/I31 -> #DIV/0! | I31: =SUM('[2]Scorecard 1 quarter '!$GC$102:$GG$102) -> 0 | J31: =SUM('[2]Scorecard 1 quarter '!$GC$103:$GG$103) -> 0 | K31: 0.0012 | L31: =AVERAGE('[2]Scorecard 1 quarter '!$GC$120:$GG$120) -> #DIV/0! | M31: =SUM('[2]Scorecard 1 quarter '!$GC$121:$GG$121) -> 0 | N31: =SUM('[2]Scorecard 1 quarter '!$GC$122:$GG$122) -> 0 | O31: 0.995 | P31: =AVERAGE('[2]Scorecard 1 quarter '!$GC$130:$GG$130) -> #DIV/0! | Q31: =SUM('[2]Scorecard 1 quarter '!$GC$131:$GG$131) -> 0 | R31: =SUM('[2]Scorecard 1 quarter '!$GC$132:$GG$132) -> 0 | S31: 0.995
A32: 27 | B32: 7 | C32: 5 | D32: =AVERAGE('[2]Scorecard 1 quarter '!$GK$91:$GO$91) -> #DIV/0! | E32: =SUM('[2]Scorecard 1 quarter '!$GK$92:$GO$92) -> 0 | F32: =SUM('[2]Scorecard 1 quarter '!$GK$93:$GO$93) -> 0 | G32: 0.995 | H32: =J32/I32 -> #DIV/0! | I32: =SUM('[2]Scorecard 1 quarter '!$GK$102:$GO$102) -> 0 | J32: =SUM('[2]Scorecard 1 quarter '!$GK$103:$GO$103) -> 0 | K32: 0.0012 | L32: =AVERAGE('[2]Scorecard 1 quarter '!$GK$120:$GO$120) -> #DIV/0! | M32: =SUM('[2]Scorecard 1 quarter '!$GK$121:$GO$121) -> 0 | N32: =SUM('[2]Scorecard 1 quarter '!$GK$122:$GO$122) -> 0 | O32: 0.995 | P32: =AVERAGE('[2]Scorecard 1 quarter '!$GK$130:$GO$130) -> #DIV/0! | Q32: =SUM('[2]Scorecard 1 quarter '!$GK$131:$GO$131) -> 0 | R32: =SUM('[2]Scorecard 1 quarter '!$GK$132:$GO$132) -> 0 | S32: 0.995
A33: 28 | B33: 7 | C33: 5 | D33: =AVERAGE('[2]Scorecard 1 quarter '!$GR$91:$GV$91) -> #DIV/0! | E33: =SUM('[2]Scorecard 1 quarter '!$GR$92:$GV$92) -> 0 | F33: =SUM('[2]Scorecard 1 quarter '!$GR$93:$GV$93) -> 0 | G33: 0.995 | H33: =J33/I33 -> #DIV/0! | I33: =SUM('[2]Scorecard 1 quarter '!$GR$102:$GV$102) -> 0 | J33: =SUM('[2]Scorecard 1 quarter '!$GR$103:$GV$103) -> 0 | K33: 0.0012 | L33: =AVERAGE('[2]Scorecard 1 quarter '!$GR$120:$GV$120) -> #DIV/0! | M33: =SUM('[2]Scorecard 1 quarter '!$GR$121:$GV$121) -> 0 | N33: =SUM('[2]Scorecard 1 quarter '!$GR$122:$GV$122) -> 0 | O33: 0.995 | P33: =AVERAGE('[2]Scorecard 1 quarter '!$GR$130:$GV$130) -> #DIV/0! | Q33: =SUM('[2]Scorecard 1 quarter '!$GR$131:$GV$131) -> 0 | R33: =SUM('[2]Scorecard 1 quarter '!$GR$132:$GV$132) -> 0 | S33: 0.995
A34: 29 | B34: 7 | C34: 5 | D34: =AVERAGE('[2]Scorecard 1 quarter '!$GY$91:$HC$91) -> #DIV/0! | E34: =SUM('[2]Scorecard 1 quarter '!$GY$92:$HC$92) -> 0 | F34: =SUM('[2]Scorecard 1 quarter '!$GY$93:$HC$93) -> 0 | G34: 0.995 | H34: =J34/I34 -> #DIV/0! | I34: =SUM('[2]Scorecard 1 quarter '!$GY$102:$HC$102) -> 0 | J34: =SUM('[2]Scorecard 1 quarter '!$GY$103:$HC$103) -> 0 | K34: 0.0012 | L34: =AVERAGE('[2]Scorecard 1 quarter '!$GY$120:$HC$120) -> #DIV/0! | M34: =SUM('[2]Scorecard 1 quarter '!$GY$121:$HC$121) -> 0 | N34: =SUM('[2]Scorecard 1 quarter '!$GY$122:$HC$122) -> 0 | O34: 0.995 | P34: =AVERAGE('[2]Scorecard 1 quarter '!$GY$130:$HC$130) -> #DIV/0! | Q34: =SUM('[2]Scorecard 1 quarter '!$GY$131:$HC$131) -> 0 | R34: =SUM('[2]Scorecard 1 quarter '!$GY$132:$HC$132) -> 0 | S34: 0.995
A35: 30 | B35: 7 | C35: 5 | D35: =AVERAGE('[2]Scorecard 1 quarter '!$HF$91:$HJ$91) -> #DIV/0! | E35: =SUM('[2]Scorecard 1 quarter '!$HF$92:$HJ$92) -> 0 | F35: =SUM('[2]Scorecard 1 quarter '!$HF$93:$HJ$93) -> 0 | G35: 0.995 | H35: =J35/I35 -> #DIV/0! | I35: =SUM('[2]Scorecard 1 quarter '!$HF$102:$HJ$102) -> 0 | J35: =SUM('[2]Scorecard 1 quarter '!$HF$103:$HJ$103) -> 0 | K35: 0.0012 | L35: =AVERAGE('[2]Scorecard 1 quarter '!$HF$120:$HJ$120) -> #DIV/0! | M35: =SUM('[2]Scorecard 1 quarter '!$HF$121:$HJ$121) -> 0 | N35: =SUM('[2]Scorecard 1 quarter '!$HF$122:$HJ$122) -> 0 | O35: 0.995 | P35: =AVERAGE('[2]Scorecard 1 quarter '!$HF$130:$HJ$130) -> #DIV/0! | Q35: =SUM('[2]Scorecard 1 quarter '!$HF$131:$HJ$131) -> 0 | R35: =SUM('[2]Scorecard 1 quarter '!$HF$132:$HJ$132) -> 0 | S35: 0.995
A36: 31 | B36: 7 | C36: 1 | D36: =AVERAGE('[2]Scorecard 1 quarter '!$HM$91) -> #DIV/0! | E36: =SUM('[2]Scorecard 1 quarter '!$HM$92) -> 0 | F36: =SUM('[2]Scorecard 1 quarter '!$HM$93) -> 0 | G36: 0.995 | H36: =J36/I36 -> #DIV/0! | I36: =SUM('[2]Scorecard 1 quarter '!$HM$102) -> 0 | J36: =SUM('[2]Scorecard 1 quarter '!$HM$103) -> 0 | K36: 0.0012 | L36: =AVERAGE('[2]Scorecard 1 quarter '!$HM$120) -> #DIV/0! | M36: =SUM('[2]Scorecard 1 quarter '!$HM$121) -> 0 | N36: =SUM('[2]Scorecard 1 quarter '!$HM$122) -> 0 | O36: 0.995 | P36: =AVERAGE('[2]Scorecard 1 quarter '!$HM$130) -> #DIV/0! | Q36: =SUM('[2]Scorecard 1 quarter '!$HM$131) -> 0 | R36: =SUM('[2]Scorecard 1 quarter '!$HM$132) -> 0 | S36: 0.995
A37: 31 | B37: 8 | C37: 4 | D37: =AVERAGE('[2]Scorecard 1 quarter '!$HO$91:$HR$91) -> #DIV/0! | E37: =SUM('[2]Scorecard 1 quarter '!$HO$92:$HR$92) -> 0 | F37: =SUM('[2]Scorecard 1 quarter '!$HO$93:$HR$93) -> 0 | G37: 0.995 | H37: =J37/I37 -> #DIV/0! | I37: =SUM('[2]Scorecard 1 quarter '!$HO$102:$HR$102) -> 0 | J37: =SUM('[2]Scorecard 1 quarter '!$HO$103:$HR$103) -> 0 | K37: 0.0012 | L37: =AVERAGE('[2]Scorecard 1 quarter '!$HO$120:$HR$120) -> #DIV/0! | M37: =SUM('[2]Scorecard 1 quarter '!$HO$121:$HR$121) -> 0 | N37: =SUM('[2]Scorecard 1 quarter '!$HO$122:$HR$122) -> 0 | O37: 0.995 | P37: =AVERAGE('[2]Scorecard 1 quarter '!$HO$130:$HR$130) -> #DIV/0! | Q37: =SUM('[2]Scorecard 1 quarter '!$HO$131:$HR$131) -> 0 | R37: =SUM('[2]Scorecard 1 quarter '!$HO$132:$HR$132) -> 0 | S37: 0.995
A38: 32 | B38: 8 | C38: 5 | D38: =AVERAGE('[2]Scorecard 1 quarter '!$HU$91:$HY$91) -> #DIV/0! | E38: =SUM('[2]Scorecard 1 quarter '!$HU$92:$HY$92) -> 0 | F38: =SUM('[2]Scorecard 1 quarter '!$HU$93:$HY$93) -> 0 | G38: 0.995 | H38: =J38/I38 -> #DIV/0! | I38: =SUM('[2]Scorecard 1 quarter '!$HU$102:$HY$102) -> 0 | J38: =SUM('[2]Scorecard 1 quarter '!$HU$103:$HY$103) -> 0 | K38: 0.0012 | L38: =AVERAGE('[2]Scorecard 1 quarter '!$HU$120:$HY$120) -> #DIV/0! | M38: =SUM('[2]Scorecard 1 quarter '!$HU$121:$HY$121) -> 0 | N38: =SUM('[2]Scorecard 1 quarter '!$HU$122:$HY$122) -> 0 | O38: 0.995 | P38: =AVERAGE('[2]Scorecard 1 quarter '!$HU$130:$HY$130) -> #DIV/0! | Q38: =SUM('[2]Scorecard 1 quarter '!$HU$131:$HY$131) -> 0 | R38: =SUM('[2]Scorecard 1 quarter '!$HU$132:$HY$132) -> 0 | S38: 0.995
A39: 33 | B39: 8 | C39: 5 | D39: =AVERAGE('[2]Scorecard 1 quarter '!$IB$91:$IF$91) -> #DIV/0! | E39: =SUM('[2]Scorecard 1 quarter '!$IB$92:$IF$92) -> 0 | F39: =SUM('[2]Scorecard 1 quarter '!$IB$93:$IF$93) -> 0 | G39: 0.995 | H39: =J39/I39 -> #DIV/0! | I39: =SUM('[2]Scorecard 1 quarter '!$IB$102:$IF$102) -> 0 | J39: =SUM('[2]Scorecard 1 quarter '!$IB$103:$IF$103) -> 0 | K39: 0.0012 | L39: =AVERAGE('[2]Scorecard 1 quarter '!$IB$120:$IF$120) -> #DIV/0! | M39: =SUM('[2]Scorecard 1 quarter '!$IB$121:$IF$121) -> 0 | N39: =SUM('[2]Scorecard 1 quarter '!$IB$122:$IF$122) -> 0 | O39: 0.995 | P39: =AVERAGE('[2]Scorecard 1 quarter '!$IB$130:$IF$130) -> #DIV/0! | Q39: =SUM('[2]Scorecard 1 quarter '!$IB$131:$IF$131) -> 0 | R39: =SUM('[2]Scorecard 1 quarter '!$IB$132:$IF$132) -> 0 | S39: 0.995
A40: 34 | B40: 8 | C40: 5 | D40: =AVERAGE('[2]Scorecard 1 quarter '!$II$91:$IM$91) -> #DIV/0! | E40: =SUM('[2]Scorecard 1 quarter '!$II$92:$IM$92) -> 0 | F40: =SUM('[2]Scorecard 1 quarter '!$II$93:$IM$93) -> 0 | G40: 0.995 | H40: =J40/I40 -> #DIV/0! | I40: =SUM('[2]Scorecard 1 quarter '!$II$102:$IM$102) -> 0 | J40: =SUM('[2]Scorecard 1 quarter '!$II$103:$IM$103) -> 0 | K40: 0.0012 | L40: =AVERAGE('[2]Scorecard 1 quarter '!$II$120:$IM$120) -> #DIV/0! | M40: =SUM('[2]Scorecard 1 quarter '!$II$121:$IM$121) -> 0 | N40: =SUM('[2]Scorecard 1 quarter '!$II$122:$IM$122) -> 0 | O40: 0.995 | P40: =AVERAGE('[2]Scorecard 1 quarter '!$II$130:$IM$130) -> #DIV/0! | Q40: =SUM('[2]Scorecard 1 quarter '!$II$131:$IM$131) -> 0 | R40: =SUM('[2]Scorecard 1 quarter '!$II$132:$IM$132) -> 0 | S40: 0.995
A41: 35 | B41: 8 | C41: 4 | D41: =AVERAGE('[2]Scorecard 1 quarter '!$IP$91:$IS$91) -> #DIV/0! | E41: =SUM('[2]Scorecard 1 quarter '!$IP$92:$IS$92) -> 0 | F41: =SUM('[2]Scorecard 1 quarter '!$IP$93:$IS$93) -> 0 | G41: 0.995 | H41: =J41/I41 -> #DIV/0! | I41: =SUM('[2]Scorecard 1 quarter '!$IP$102:$IS$102) -> 0 | J41: =SUM('[2]Scorecard 1 quarter '!$IP$103:$IS$103) -> 0 | K41: 0.0012 | L41: =AVERAGE('[2]Scorecard 1 quarter '!$IP$120:$IS$120) -> #DIV/0! | M41: =SUM('[2]Scorecard 1 quarter '!$IP$121:$IS$121) -> 0 | N41: =SUM('[2]Scorecard 1 quarter '!$IP$122:$IS$122) -> 0 | O41: 0.995 | P41: =AVERAGE('[2]Scorecard 1 quarter '!$IP$130:$IS$130) -> #DIV/0! | Q41: =SUM('[2]Scorecard 1 quarter '!$IP$131:$IS$131) -> 0 | R41: =SUM('[2]Scorecard 1 quarter '!$IP$132:$IS$132) -> 0 | S41: 0.995
A42: 35 | B42: 9 | C42: 1 | D42: =AVERAGE('[2]Scorecard 1 quarter (2)'!$D$91) -> #DIV/0! | E42: =SUM('[2]Scorecard 1 quarter (2)'!$D$92) -> 0 | F42: =SUM('[2]Scorecard 1 quarter (2)'!$D$93) -> 0 | G42: 0.995 | H42: =J42/I42 -> #DIV/0! | I42: =SUM('[2]Scorecard 1 quarter (2)'!$D$102) -> 0 | J42: =SUM('[2]Scorecard 1 quarter (2)'!$D$103) -> 0 | K42: 0.0012 | L42: =AVERAGE('[2]Scorecard 1 quarter (2)'!$D$120) -> #DIV/0! | M42: =SUM('[2]Scorecard 1 quarter (2)'!$D$121) -> 0 | N42: =SUM('[2]Scorecard 1 quarter (2)'!$D$122) -> 0 | O42: 0.995 | P42: =AVERAGE('[2]Scorecard 1 quarter (2)'!$D$130) -> #DIV/0! | Q42: =SUM('[2]Scorecard 1 quarter (2)'!$D$131) -> 0 | R42: =SUM('[2]Scorecard 1 quarter (2)'!$D$132) -> 0 | S42: 0.995
A43: 36 | B43: 9 | C43: 5 | D43: =AVERAGE('[2]Scorecard 1 quarter (2)'!$G$91:$K$91) -> #DIV/0! | E43: =SUM('[2]Scorecard 1 quarter (2)'!$G$92:$K$92) -> 0 | F43: =SUM('[2]Scorecard 1 quarter (2)'!$G$93:$K$93) -> 0 | G43: 0.995 | H43: =J43/I43 -> #DIV/0! | I43: =SUM('[2]Scorecard 1 quarter (2)'!$G$102:$K$102) -> 0 | J43: =SUM('[2]Scorecard 1 quarter (2)'!$G$103:$K$103) -> 0 | K43: 0.0012 | L43: =AVERAGE('[2]Scorecard 1 quarter (2)'!$G$120:$K$120) -> #DIV/0! | M43: =SUM('[2]Scorecard 1 quarter (2)'!$G$121:$K$121) -> 0 | N43: =SUM('[2]Scorecard 1 quarter (2)'!$G$122:$K$122) -> 0 | O43: 0.995 | P43: =AVERAGE('[2]Scorecard 1 quarter (2)'!$G$130:$K$130) -> #DIV/0! | Q43: =SUM('[2]Scorecard 1 quarter (2)'!$G$131:$K$131) -> 0 | R43: =SUM('[2]Scorecard 1 quarter (2)'!$G$132:$K$132) -> 0 | S43: 0.995
A44: 37 | B44: 9 | C44: 5 | D44: =AVERAGE('[2]Scorecard 1 quarter (2)'!$N$91:$R$91) -> #DIV/0! | E44: =SUM('[2]Scorecard 1 quarter (2)'!$N$92:$R$92) -> 0 | F44: =SUM('[2]Scorecard 1 quarter (2)'!$N$93:$R$93) -> 0 | G44: 0.995 | H44: =J44/I44 -> #DIV/0! | I44: =SUM('[2]Scorecard 1 quarter (2)'!$N$102:$R$102) -> 0 | J44: =SUM('[2]Scorecard 1 quarter (2)'!$N$103:$R$103) -> 0 | K44: 0.0012 | L44: =AVERAGE('[2]Scorecard 1 quarter (2)'!$N$120:$R$120) -> #DIV/0! | M44: =SUM('[2]Scorecard 1 quarter (2)'!$N$121:$R$121) -> 0 | N44: =SUM('[2]Scorecard 1 quarter (2)'!$N$122:$R$122) -> 0 | O44: 0.995 | P44: =AVERAGE('[2]Scorecard 1 quarter (2)'!$N$130:$R$130) -> #DIV/0! | Q44: =SUM('[2]Scorecard 1 quarter (2)'!$N$131:$R$131) -> 0 | R44: =SUM('[2]Scorecard 1 quarter (2)'!$N$132:$R$132) -> 0 | S44: 0.995
A45: 38 | B45: 9 | C45: 5 | D45: =AVERAGE('[2]Scorecard 1 quarter (2)'!$U$91:$Y$91) -> #DIV/0! | E45: =SUM('[2]Scorecard 1 quarter (2)'!$U$92:$Y$92) -> 0 | F45: =SUM('[2]Scorecard 1 quarter (2)'!$U$93:$Y$93) -> 0 | G45: 0.995 | H45: =J45/I45 -> #DIV/0! | I45: =SUM('[2]Scorecard 1 quarter (2)'!$U$102:$Y$102) -> 0 | J45: =SUM('[2]Scorecard 1 quarter (2)'!$U$103:$Y$103) -> 0 | K45: 0.0012 | L45: =AVERAGE('[2]Scorecard 1 quarter (2)'!$U$120:$Y$120) -> #DIV/0! | M45: =SUM('[2]Scorecard 1 quarter (2)'!$U$121:$Y$121) -> 0 | N45: =SUM('[2]Scorecard 1 quarter (2)'!$U$122:$Y$122) -> 0 | O45: 0.995 | P45: =AVERAGE('[2]Scorecard 1 quarter (2)'!$U$130:$Y$130) -> #DIV/0! | Q45: =SUM('[2]Scorecard 1 quarter (2)'!$U$131:$Y$131) -> 0 | R45: =SUM('[2]Scorecard 1 quarter (2)'!$U$132:$Y$132) -> 0 | S45: 0.995
A46: 39 | B46: 9 | C46: 5 | D46: =AVERAGE('[2]Scorecard 1 quarter (2)'!$AB$91:$AG$91) -> #DIV/0! | E46: =SUM('[2]Scorecard 1 quarter (2)'!$AB$92:$AF$92) -> 0 | F46: =SUM('[2]Scorecard 1 quarter (2)'!$AB$93:$AG$93) -> 0 | G46: 0.995 | H46: =J46/I46 -> #DIV/0! | I46: =SUM('[2]Scorecard 1 quarter (2)'!$AB$102:$AF$102) -> 0 | J46: =SUM('[2]Scorecard 1 quarter (2)'!$AB$103:$AG$103) -> 0 | K46: 0.0012 | L46: =AVERAGE('[2]Scorecard 1 quarter (2)'!$AB$120:$AG$120) -> #DIV/0! | M46: =SUM('[2]Scorecard 1 quarter (2)'!$AB$121:$AF$121) -> 0 | N46: =SUM('[2]Scorecard 1 quarter (2)'!$AB$122:$AG$122) -> 0 | O46: 0.995 | P46: =AVERAGE('[2]Scorecard 1 quarter (2)'!$AB$130:$AG$130) -> #DIV/0! | Q46: =SUM('[2]Scorecard 1 quarter (2)'!$AB$131:$AF$131) -> 0 | R46: =SUM('[2]Scorecard 1 quarter (2)'!$AB$132:$AG$132) -> 0 | S46: 0.995
A47: 40 | B47: 10 | C47: 5 | D47: =AVERAGE('[2]Scorecard 1 quarter (2)'!$AJ$91:$AN$91) -> #DIV/0! | E47: =SUM('[2]Scorecard 1 quarter (2)'!$AJ$92:$AN$92) -> 0 | F47: =SUM('[2]Scorecard 1 quarter (2)'!$AJ$93:$AN$93) -> 0 | G47: 0.995 | H47: =J47/I47 -> #DIV/0! | I47: =SUM('[2]Scorecard 1 quarter (2)'!$AJ$102:$AN$102) -> 0 | J47: =SUM('[2]Scorecard 1 quarter (2)'!$AJ$103:$AN$103) -> 0 | K47: 0.0012 | L47: =AVERAGE('[2]Scorecard 1 quarter (2)'!$AJ$120:$AN$120) -> #DIV/0! | M47: =SUM('[2]Scorecard 1 quarter (2)'!$AJ$121:$AN$121) -> 0 | N47: =SUM('[2]Scorecard 1 quarter (2)'!$AJ$122:$AN$122) -> 0 | O47: 0.995 | P47: =AVERAGE('[2]Scorecard 1 quarter (2)'!$AJ$130:$AN$130) -> #DIV/0! | Q47: =SUM('[2]Scorecard 1 quarter (2)'!$AJ$131:$AN$131) -> 0 | R47: =SUM('[2]Scorecard 1 quarter (2)'!$AJ$132:$AN$132) -> 0 | S47: 0.995
A48: 41 | B48: 10 | C48: 5 | D48: =AVERAGE('[2]Scorecard 1 quarter (2)'!$AQ$91:$AU$91) -> #DIV/0! | E48: =SUM('[2]Scorecard 1 quarter (2)'!$AQ$92:$AU$92) -> 0 | F48: =SUM('[2]Scorecard 1 quarter (2)'!$AQ$93:$AU$93) -> 0 | G48: 0.995 | H48: =J48/I48 -> #DIV/0! | I48: =SUM('[2]Scorecard 1 quarter (2)'!$AQ$102:$AU$102) -> 0 | J48: =SUM('[2]Scorecard 1 quarter (2)'!$AQ$103:$AU$103) -> 0 | K48: 0.0012 | L48: =AVERAGE('[2]Scorecard 1 quarter (2)'!$AQ$120:$AU$120) -> #DIV/0! | M48: =SUM('[2]Scorecard 1 quarter (2)'!$AQ$121:$AU$121) -> 0 | N48: =SUM('[2]Scorecard 1 quarter (2)'!$AQ$122:$AU$122) -> 0 | O48: 0.995 | P48: =AVERAGE('[2]Scorecard 1 quarter (2)'!$AQ$130:$AU$130) -> #DIV/0! | Q48: =SUM('[2]Scorecard 1 quarter (2)'!$AQ$131:$AU$131) -> 0 | R48: =SUM('[2]Scorecard 1 quarter (2)'!$AQ$132:$AU$132) -> 0 | S48: 0.995
A49: 42 | B49: 10 | C49: 5 | D49: =AVERAGE('[2]Scorecard 1 quarter (2)'!$AX$91:$BB$91) -> #DIV/0! | E49: =SUM('[2]Scorecard 1 quarter (2)'!$AX$92:$BB$92) -> 0 | F49: =SUM('[2]Scorecard 1 quarter (2)'!$AX$93:$BB$93) -> 0 | G49: 0.995 | H49: =J49/I49 -> #DIV/0! | I49: =SUM('[2]Scorecard 1 quarter (2)'!$AX$102:$BB$102) -> 0 | J49: =SUM('[2]Scorecard 1 quarter (2)'!$AX$103:$BB$103) -> 0 | K49: 0.0012 | L49: =AVERAGE('[2]Scorecard 1 quarter (2)'!$AX$120:$BB$120) -> #DIV/0! | M49: =SUM('[2]Scorecard 1 quarter (2)'!$AX$121:$BB$121) -> 0 | N49: =SUM('[2]Scorecard 1 quarter (2)'!$AX$122:$BB$122) -> 0 | O49: 0.995 | P49: =AVERAGE('[2]Scorecard 1 quarter (2)'!$AX$130:$BB$130) -> #DIV/0! | Q49: =SUM('[2]Scorecard 1 quarter (2)'!$AX$131:$BB$131) -> 0 | R49: =SUM('[2]Scorecard 1 quarter (2)'!$AX$132:$BB$132) -> 0 | S49: 0.995
A50: 43 | B50: 10 | C50: 5 | D50: =AVERAGE('[2]Scorecard 1 quarter (2)'!$BE$91:$BI$91) -> #DIV/0! | E50: =SUM('[2]Scorecard 1 quarter (2)'!$BE$92:$BI$92) -> 0 | F50: =SUM('[2]Scorecard 1 quarter (2)'!$BE$93:$BI$93) -> 0 | G50: 0.995 | H50: =J50/I50 -> #DIV/0! | I50: =SUM('[2]Scorecard 1 quarter (2)'!$BE$102:$BI$102) -> 0 | J50: =SUM('[2]Scorecard 1 quarter (2)'!$BE$103:$BI$103) -> 0 | K50: 0.0012 | L50: =AVERAGE('[2]Scorecard 1 quarter (2)'!$BE$120:$BI$120) -> #DIV/0! | M50: =SUM('[2]Scorecard 1 quarter (2)'!$BE$121:$BI$121) -> 0 | N50: =SUM('[2]Scorecard 1 quarter (2)'!$BE$122:$BI$122) -> 0 | O50: 0.995 | P50: =AVERAGE('[2]Scorecard 1 quarter (2)'!$BE$130:$BI$130) -> #DIV/0! | Q50: =SUM('[2]Scorecard 1 quarter (2)'!$BE$131:$BI$131) -> 0 | R50: =SUM('[2]Scorecard 1 quarter (2)'!$BE$132:$BI$132) -> 0 | S50: 0.995
A51: 44 | B51: 10 | C51: 2 | D51: =AVERAGE('[2]Scorecard 1 quarter (2)'!$BL$91:$BM$91) -> #DIV/0! | E51: =SUM('[2]Scorecard 1 quarter (2)'!$BL$92:$BM$92) -> 0 | F51: =SUM('[2]Scorecard 1 quarter (2)'!$BL$93:$BM$93) -> 0 | G51: 0.995 | H51: =J51/I51 -> #DIV/0! | I51: =SUM('[2]Scorecard 1 quarter (2)'!$BL$102:$BM$102) -> 0 | J51: =SUM('[2]Scorecard 1 quarter (2)'!$BL$103:$BM$103) -> 0 | K51: 0.0012 | L51: =AVERAGE('[2]Scorecard 1 quarter (2)'!$BL$120:$BM$120) -> #DIV/0! | M51: =SUM('[2]Scorecard 1 quarter (2)'!$BL$121:$BM$121) -> 0 | N51: =SUM('[2]Scorecard 1 quarter (2)'!$BL$122:$BM$122) -> 0 | O51: 0.995 | P51: =AVERAGE('[2]Scorecard 1 quarter (2)'!$BL$130:$BM$130) -> #DIV/0! | Q51: =SUM('[2]Scorecard 1 quarter (2)'!$BL$131:$BM$131) -> 0 | R51: =SUM('[2]Scorecard 1 quarter (2)'!$BL$132:$BM$132) -> 0 | S51: 0.995
A52: 44 | B52: 11 | C52: 3 | D52: =AVERAGE('[2]Scorecard 1 quarter (2)'!$BO$91:$BQ$91) -> #DIV/0! | E52: =SUM('[2]Scorecard 1 quarter (2)'!$BO$92:$BQ$92) -> 0 | F52: =SUM('[2]Scorecard 1 quarter (2)'!$BO$93:$BQ$93) -> 0 | G52: 0.995 | H52: =J52/I52 -> #DIV/0! | I52: =SUM('[2]Scorecard 1 quarter (2)'!$BO$102:$BQ$102) -> 0 | J52: =SUM('[2]Scorecard 1 quarter (2)'!$BO$103:$BQ$103) -> 0 | K52: 0.0012 | L52: =AVERAGE('[2]Scorecard 1 quarter (2)'!$BO$120:$BQ$120) -> #DIV/0! | M52: =SUM('[2]Scorecard 1 quarter (2)'!$BO$121:$BQ$121) -> 0 | N52: =SUM('[2]Scorecard 1 quarter (2)'!$BO$122:$BQ$122) -> 0 | O52: 0.995 | P52: =AVERAGE('[2]Scorecard 1 quarter (2)'!$BO$130:$BQ$130) -> #DIV/0! | Q52: =SUM('[2]Scorecard 1 quarter (2)'!$BO$131:$BQ$131) -> 0 | R52: =SUM('[2]Scorecard 1 quarter (2)'!$BO$132:$BQ$132) -> 0 | S52: 0.995
A53: 45 | B53: 11 | C53: 5 | D53: =AVERAGE('[2]Scorecard 1 quarter (2)'!$BT$91:$BX$91) -> #DIV/0! | E53: =SUM('[2]Scorecard 1 quarter (2)'!$BT$92:$BX$92) -> 0 | F53: =SUM('[2]Scorecard 1 quarter (2)'!$BT$93:$BX$93) -> 0 | G53: 0.995 | H53: =J53/I53 -> #DIV/0! | I53: =SUM('[2]Scorecard 1 quarter (2)'!$BT$102:$BX$102) -> 0 | J53: =SUM('[2]Scorecard 1 quarter (2)'!$BT$103:$BX$103) -> 0 | K53: 0.0012 | L53: =AVERAGE('[2]Scorecard 1 quarter (2)'!$BT$120:$BX$120) -> #DIV/0! | M53: =SUM('[2]Scorecard 1 quarter (2)'!$BT$121:$BX$121) -> 0 | N53: =SUM('[2]Scorecard 1 quarter (2)'!$BT$122:$BX$122) -> 0 | O53: 0.995 | P53: =AVERAGE('[2]Scorecard 1 quarter (2)'!$BT$130:$BX$130) -> #DIV/0! | Q53: =SUM('[2]Scorecard 1 quarter (2)'!$BT$131:$BX$131) -> 0 | R53: =SUM('[2]Scorecard 1 quarter (2)'!$BT$132:$BX$132) -> 0 | S53: 0.995
A54: 46 | B54: 11 | C54: 5 | D54: =AVERAGE('[2]Scorecard 1 quarter (2)'!$CA$91:$CE$91) -> #DIV/0! | E54: =SUM('[2]Scorecard 1 quarter (2)'!$CA$92:$CE$92) -> 0 | F54: =SUM('[2]Scorecard 1 quarter (2)'!$CA$93:$CE$93) -> 0 | G54: 0.995 | H54: =J54/I54 -> #DIV/0! | I54: =SUM('[2]Scorecard 1 quarter (2)'!$CA$102:$CE$102) -> 0 | J54: =SUM('[2]Scorecard 1 quarter (2)'!$CA$103:$CE$103) -> 0 | K54: 0.0012 | L54: =AVERAGE('[2]Scorecard 1 quarter (2)'!$CA$120:$CE$120) -> #DIV/0! | M54: =SUM('[2]Scorecard 1 quarter (2)'!$CA$121:$CE$121) -> 0 | N54: =SUM('[2]Scorecard 1 quarter (2)'!$CA$122:$CE$122) -> 0 | O54: 0.995 | P54: =AVERAGE('[2]Scorecard 1 quarter (2)'!$CA$130:$CE$130) -> #DIV/0! | Q54: =SUM('[2]Scorecard 1 quarter (2)'!$CA$131:$CE$131) -> 0 | R54: =SUM('[2]Scorecard 1 quarter (2)'!$CA$132:$CE$132) -> 0 | S54: 0.995
A55: 47 | B55: 11 | C55: 5 | D55: =AVERAGE('[2]Scorecard 1 quarter (2)'!$CH$91:$CL$91) -> #DIV/0! | E55: =SUM('[2]Scorecard 1 quarter (2)'!$CH$92:$CL$92) -> 0 | F55: =SUM('[2]Scorecard 1 quarter (2)'!$CH$93:$CL$93) -> 0 | G55: 0.995 | H55: =J55/I55 -> #DIV/0! | I55: =SUM('[2]Scorecard 1 quarter (2)'!$CH$102:$CL$102) -> 0 | J55: =SUM('[2]Scorecard 1 quarter (2)'!$CH$103:$CL$103) -> 0 | K55: 0.0012 | L55: =AVERAGE('[2]Scorecard 1 quarter (2)'!$CH$120:$CL$120) -> #DIV/0! | M55: =SUM('[2]Scorecard 1 quarter (2)'!$CH$121:$CL$121) -> 0 | N55: =SUM('[2]Scorecard 1 quarter (2)'!$CH$122:$CL$122) -> 0 | O55: 0.995 | P55: =AVERAGE('[2]Scorecard 1 quarter (2)'!$CH$130:$CL$130) -> #DIV/0! | Q55: =SUM('[2]Scorecard 1 quarter (2)'!$CH$131:$CL$131) -> 0 | R55: =SUM('[2]Scorecard 1 quarter (2)'!$CH$132:$CL$132) -> 0 | S55: 0.995
A56: 48 | B56: 11 | C56: 4 | D56: =AVERAGE('[2]Scorecard 1 quarter (2)'!$CO$91:$CR$91) -> #DIV/0! | E56: =SUM('[2]Scorecard 1 quarter (2)'!$CO$92:$CR$92) -> 0 | F56: =SUM('[2]Scorecard 1 quarter (2)'!$CO$93:$CR$93) -> 0 | G56: 0.995 | H56: =J56/I56 -> #DIV/0! | I56: =SUM('[2]Scorecard 1 quarter (2)'!$CO$102:$CR$102) -> 0 | J56: =SUM('[2]Scorecard 1 quarter (2)'!$CO$103:$CR$103) -> 0 | K56: 0.0012 | L56: =AVERAGE('[2]Scorecard 1 quarter (2)'!$CO$120:$CR$120) -> #DIV/0! | M56: =SUM('[2]Scorecard 1 quarter (2)'!$CO$121:$CR$121) -> 0 | N56: =SUM('[2]Scorecard 1 quarter (2)'!$CO$122:$CR$122) -> 0 | O56: 0.995 | P56: =AVERAGE('[2]Scorecard 1 quarter (2)'!$CO$130:$CR$130) -> #DIV/0! | Q56: =SUM('[2]Scorecard 1 quarter (2)'!$CO$131:$CR$131) -> 0 | R56: =SUM('[2]Scorecard 1 quarter (2)'!$CO$132:$CR$132) -> 0 | S56: 0.995
A57: 48 | B57: 12 | C57: 1 | D57: =AVERAGE('[2]Scorecard 1 quarter (2)'!$CT$91) -> #DIV/0! | E57: =SUM('[2]Scorecard 1 quarter (2)'!$CT$92) -> 0 | F57: =SUM('[2]Scorecard 1 quarter (2)'!$CT$93) -> 0 | G57: 0.995 | H57: =J57/I57 -> #DIV/0! | I57: =SUM('[2]Scorecard 1 quarter (2)'!$CT$102) -> 0 | J57: =SUM('[2]Scorecard 1 quarter (2)'!$CT$103) -> 0 | K57: 0.0012 | L57: =AVERAGE('[2]Scorecard 1 quarter (2)'!$CT$120) -> #DIV/0! | M57: =SUM('[2]Scorecard 1 quarter (2)'!$CT$121) -> 0 | N57: =SUM('[2]Scorecard 1 quarter (2)'!$CT$122) -> 0 | O57: 0.995 | P57: =AVERAGE('[2]Scorecard 1 quarter (2)'!$CT$130) -> #DIV/0! | Q57: =SUM('[2]Scorecard 1 quarter (2)'!$CT$131) -> 0 | R57: =SUM('[2]Scorecard 1 quarter (2)'!$CT$132) -> 0 | S57: 0.995
A58: 49 | B58: 12 | C58: 5 | D58: =AVERAGE('[2]Scorecard 1 quarter (2)'!$CW$91:$DA$91) -> #DIV/0! | E58: =SUM('[2]Scorecard 1 quarter (2)'!$CW$92:$DA$92) -> 0 | F58: =SUM('[2]Scorecard 1 quarter (2)'!$CW$93:$DA$93) -> 0 | G58: 0.995 | H58: =J58/I58 -> #DIV/0! | I58: =SUM('[2]Scorecard 1 quarter (2)'!$CW$102:$DA$102) -> 0 | J58: =SUM('[2]Scorecard 1 quarter (2)'!$CW$103:$DA$103) -> 0 | K58: 0.0012 | L58: =AVERAGE('[2]Scorecard 1 quarter (2)'!$CW$120:$DA$120) -> #DIV/0! | M58: =SUM('[2]Scorecard 1 quarter (2)'!$CW$121:$DA$121) -> 0 | N58: =SUM('[2]Scorecard 1 quarter (2)'!$CW$122:$DA$122) -> 0 | O58: 0.995 | P58: =AVERAGE('[2]Scorecard 1 quarter (2)'!$CW$130:$DA$130) -> #DIV/0! | Q58: =SUM('[2]Scorecard 1 quarter (2)'!$CW$131:$DA$131) -> 0 | R58: =SUM('[2]Scorecard 1 quarter (2)'!$CW$132:$DA$132) -> 0 | S58: 0.995
A59: 50 | B59: 12 | C59: 5 | D59: =AVERAGE('[2]Scorecard 1 quarter (2)'!$DD$91:$DH$91) -> #DIV/0! | E59: =SUM('[2]Scorecard 1 quarter (2)'!$DD$92:$DH$92) -> 0 | F59: =SUM('[2]Scorecard 1 quarter (2)'!$DD$93:$DH$93) -> 0 | G59: 0.995 | H59: =J59/I59 -> #DIV/0! | I59: =SUM('[2]Scorecard 1 quarter (2)'!$DD$102:$DH$102) -> 0 | J59: =SUM('[2]Scorecard 1 quarter (2)'!$DD$103:$DH$103) -> 0 | K59: 0.0012 | L59: =AVERAGE('[2]Scorecard 1 quarter (2)'!$DD$120:$DH$120) -> #DIV/0! | M59: =SUM('[2]Scorecard 1 quarter (2)'!$DD$121:$DH$121) -> 0 | N59: =SUM('[2]Scorecard 1 quarter (2)'!$DD$122:$DH$122) -> 0 | O59: 0.995 | P59: =AVERAGE('[2]Scorecard 1 quarter (2)'!$DD$130:$DH$130) -> #DIV/0! | Q59: =SUM('[2]Scorecard 1 quarter (2)'!$DD$131:$DH$131) -> 0 | R59: =SUM('[2]Scorecard 1 quarter (2)'!$DD$132:$DH$132) -> 0 | S59: 0.995
A60: 51 | B60: 12 | C60: 5 | D60: =AVERAGE('[2]Scorecard 1 quarter (2)'!$DK$91:$DO$91) -> #DIV/0! | E60: =SUM('[2]Scorecard 1 quarter (2)'!$DK$92:$DO$92) -> 0 | F60: =SUM('[2]Scorecard 1 quarter (2)'!$DO$93) -> 0 | G60: 0.995 | H60: =J60/I60 -> #DIV/0! | I60: =SUM('[2]Scorecard 1 quarter (2)'!$DK$102:$DO$102) -> 0 | J60: =SUM('[2]Scorecard 1 quarter (2)'!$DO$103) -> 0 | K60: 0.0012 | L60: =AVERAGE('[2]Scorecard 1 quarter (2)'!$DK$120:$DO$120) -> #DIV/0! | M60: =SUM('[2]Scorecard 1 quarter (2)'!$DK$121:$DO$121) -> 0 | N60: =SUM('[2]Scorecard 1 quarter (2)'!$DO$122) -> 0 | O60: 0.995 | P60: =AVERAGE('[2]Scorecard 1 quarter (2)'!$DK$130:$DO$130) -> #DIV/0! | Q60: =SUM('[2]Scorecard 1 quarter (2)'!$DK$131:$DO$131) -> 0 | R60: =SUM('[2]Scorecard 1 quarter (2)'!$DO$132) -> 0 | S60: 0.995
A61: 52 | B61: 12 | C61: 5 | D61: =AVERAGE('[2]Scorecard 1 quarter (2)'!$DR$91:$DV$91) -> #DIV/0! | E61: =SUM('[2]Scorecard 1 quarter (2)'!$DR$92:$DV$92) -> 0 | F61: =SUM('[2]Scorecard 1 quarter (2)'!$DR$93:$DV$93) -> 0 | G61: 0.995 | H61: =J61/I61 -> #DIV/0! | I61: =SUM('[2]Scorecard 1 quarter (2)'!$DR$102:$DV$102) -> 0 | J61: =SUM('[2]Scorecard 1 quarter (2)'!$DR$103:$DV$103) -> 0 | K61: 0.0012 | L61: =AVERAGE('[2]Scorecard 1 quarter (2)'!$DR$120:$DV$120) -> #DIV/0! | M61: =SUM('[2]Scorecard 1 quarter (2)'!$DR$121:$DV$121) -> 0 | N61: =SUM('[2]Scorecard 1 quarter (2)'!$DR$122:$DV$122) -> 0 | O61: 0.995 | P61: =AVERAGE('[2]Scorecard 1 quarter (2)'!$DR$130:$DV$130) -> #DIV/0! | Q61: =SUM('[2]Scorecard 1 quarter (2)'!$DR$131:$DV$131) -> 0 | R61: =SUM('[2]Scorecard 1 quarter (2)'!$DR$132:$DV$132) -> 0 | S61: 0.995
C63: Janv. | D63: 1 | E63: =D3 -> 0.99314271 | G63: Janv. | H63: 1 | I63: =H3 -> 0 | K63: Janv. | L63: 1 | M63: =L3 -> 1 | O63: Janv. | P63: 1 | Q63: =P3 -> 0.9998759
D64: 2 | E64: =D4 -> 0.9965558 | H64: 2 | I64: =H4 -> 0 | L64: 2 | M64: =L4 -> 1 | P64: 2 | Q64: =P4 -> 1
D65: 3 | E65: =D5 -> 0.9954023 | H65: 3 | I65: =H5 -> 0 | L65: 3 | M65: =L5 -> 1 | P65: 3 | Q65: =P5 -> 0.99981541
D66: 4 | E66: =D6 -> 1 | H66: 4 | I66: =H6 -> 0 | L66: 4 | M66: =L6 -> 1 | P66: 4 | Q66: =P6 -> 0.99983111
C67: Janv.+ Févr. | D67: 5 | E67: =AVERAGE(D7:D8) -> 0.99822695 | G67: Janv.+ Févr. | H67: 5 | I67: =AVERAGE(H7:H8) -> 0 | K67: Janv.+ Févr. | L67: 5 | M67: =AVERAGE(L7:L8) -> 1 | O67: Janv.+ Févr. | P67: 5 | Q67: =AVERAGE(P7:P8) -> 0.99989505
C68: Février | D68: 6 | E68: =D9 -> 1 | G68: Février | H68: 6 | I68: =H9 -> 0.00089206066 | K68: Février | L68: 6 | M68: =L9 -> 1 | O68: Février | P68: 6 | Q68: =P9 -> 0.99959058
D69: 7 | E69: =D10 -> 1 | H69: 7 | I69: =H10 -> 0 | L69: 7 | M69: =L10 -> 1 | P69: 7 | Q69: =P10 -> 0.99981885
D70: 8 | E70: =D11 -> 1 | H70: 8 | I70: =H11 -> 0 | L70: 8 | M70: =L11 -> 1 | P70: 8 | Q70: =P11 -> 0.99974611
C71: Févr. + Mars | D71: 9 | E71: =AVERAGE(D12:D13) -> 0.99655172 | G71: Févr. + Mars | H71: 9 | I71: =AVERAGE(H12:H13) -> 0.00040716612 | K71: Févr. + Mars | L71: 9 | M71: =AVERAGE(L12:L13) -> 1 | O71: Févr. + Mars | P71: 9 | Q71: =AVERAGE(P12:P13) -> 0.99956385
C72: Mars | D72: 10 | E72: =D14 -> 0.9989899 | G72: Mars | H72: 10 | I72: =H14 -> 0.0004014452 | K72: Mars | L72: 10 | M72: =L14 -> 1 | O72: Mars | P72: 10 | Q72: =P14 -> 0.99966555
D73: 11 | E73: =D15 -> 0.99199198 | H73: 11 | I73: =H15 -> 0.0004599816 | L73: 11 | M73: =L15 -> 1 | P73: 11 | Q73: =P15 -> 0.99925438
D74: 12 | E74: =D16 -> 0.99824846 | H74: 12 | I74: =H16 -> 0.0016789792 | L74: 12 | M74: =L16 -> 1 | P74: 12 | Q74: =P16 -> 0.99973622
D75: 13 | E75: =D17 -> 0.99887367 | H75: 13 | I75: =H17 -> 0 | L75: 13 | M75: =L17 -> 1 | P75: 13 | Q75: =P17 -> 0.99965035
C76: Avril | D76: 14 | E76: =D18 -> 1 | G76: Avril | H76: 14 | I76: =H18 -> 0.0010621349 | K76: Avril | L76: 14 | M76: =L18 -> 1 | O76: Avril | P76: 14 | Q76: =P18 -> 0.9993118
D77: 15 | E77: =D19 -> 1 | H77: 15 | I77: =H19 -> 0 | L77: 15 | M77: =L19 -> 1 | P77: 15 | Q77: =P19 -> 1
D78: 16 | E78: =D20 -> 1 | H78: 16 | I78: =H20 -> 0 | L78: 16 | M78: =L20 -> 1 | P78: 16 | Q78: =P20 -> 0.99981189
D79: 17 | E79: =D21 -> 0.99274308 | H79: 17 | I79: =H21 -> 0.00046533271 | L79: 17 | M79: =L21 -> 1 | P79: 17 | Q79: =P21 -> 0.99945627
C80: Mai | D80: 18 | E80: =D22 -> #DIV/0! | G80: Mai | H80: 18 | I80: =H22 -> #DIV/0! | K80: Mai | L80: 18 | M80: =L22 -> #DIV/0! | O80: Mai | P80: 18 | Q80: =P22 -> #DIV/0!
D81: 19 | E81: =D23 -> #DIV/0! | H81: 19 | I81: =H23 -> #DIV/0! | L81: 19 | M81: =L23 -> #DIV/0! | P81: 19 | Q81: =P23 -> #DIV/0!
D82: 20 | E82: =D24 -> #DIV/0! | H82: 20 | I82: =H24 -> #DIV/0! | L82: 20 | M82: =L24 -> #DIV/0! | P82: 20 | Q82: =P24 -> #DIV/0!
D83: 21 | E83: =D25 -> #DIV/0! | H83: 21 | I83: =H25 -> #DIV/0! | L83: 21 | M83: =L25 -> #DIV/0! | P83: 21 | Q83: =P25 -> #DIV/0!
C84: Mai + Juin | D84: 22 | E84: =AVERAGE(D26:D27) -> #DIV/0! | G84: Mai + Juin | H84: 22 | I84: =AVERAGE(H26:H27) -> #DIV/0! | K84: Mai + Juin | L84: 22 | M84: =AVERAGE(L26:L27) -> #DIV/0! | O84: Mai + Juin | P84: 22 | Q84: =AVERAGE(P26:P27) -> #DIV/0!
C85: Juin | D85: 23 | E85: =D28 -> #DIV/0! | G85: Juin | H85: 23 | I85: =H28 -> #DIV/0! | K85: Juin | L85: 23 | M85: =L28 -> #DIV/0! | O85: Juin | P85: 23 | Q85: =P28 -> #DIV/0!
D86: 24 | E86: =D29 -> #DIV/0! | H86: 24 | I86: =H29 -> #DIV/0! | L86: 24 | M86: =L29 -> #DIV/0! | P86: 24 | Q86: =P29 -> #DIV/0!
D87: 25 | E87: =D30 -> #DIV/0! | H87: 25 | I87: =H30 -> #DIV/0! | L87: 25 | M87: =L30 -> #DIV/0! | P87: 25 | Q87: =P30 -> #DIV/0!
D88: 26 | E88: =D31 -> #DIV/0! | H88: 26 | I88: =H31 -> #DIV/0! | L88: 26 | M88: =L31 -> #DIV/0! | P88: 26 | Q88: =P31 -> #DIV/0!
C89: Juillet | D89: 27 | E89: =D32 -> #DIV/0! | G89: Juillet | H89: 27 | I89: =H32 -> #DIV/0! | K89: Juillet | L89: 27 | M89: =L32 -> #DIV/0! | O89: Juillet | P89: 27 | Q89: =P32 -> #DIV/0!
D90: 28 | E90: =D33 -> #DIV/0! | H90: 28 | I90: =H33 -> #DIV/0! | L90: 28 | M90: =L33 -> #DIV/0! | P90: 28 | Q90: =P33 -> #DIV/0!
D91: 29 | E91: =D34 -> #DIV/0! | H91: 29 | I91: =H34 -> #DIV/0! | L91: 29 | M91: =L34 -> #DIV/0! | P91: 29 | Q91: =P34 -> #DIV/0!
D92: 30 | E92: =D35 -> #DIV/0! | H92: 30 | I92: =H35 -> #DIV/0! | L92: 30 | M92: =L35 -> #DIV/0! | P92: 30 | Q92: =P35 -> #DIV/0!
C93: Juill. + Août | D93: 31 | E93: =AVERAGE(D36:D37) -> #DIV/0! | G93: Juill. + Août | H93: 31 | I93: =AVERAGE(H36:H37) -> #DIV/0! | K93: Juill. + Août | L93: 31 | M93: =AVERAGE(L36:L37) -> #DIV/0! | O93: Juill. + Août | P93: 31 | Q93: =AVERAGE(P36:P37) -> #DIV/0!
C94: Août | D94: 32 | E94: =D38 -> #DIV/0! | G94: Août | H94: 32 | I94: =H38 -> #DIV/0! | K94: Août | L94: 32 | M94: =L38 -> #DIV/0! | O94: Août | P94: 32 | Q94: =P38 -> #DIV/0!
D95: 33 | E95: =D39 -> #DIV/0! | H95: 33 | I95: =H39 -> #DIV/0! | L95: 33 | M95: =L39 -> #DIV/0! | P95: 33 | Q95: =P39 -> #DIV/0!
D96: 34 | E96: =D40 -> #DIV/0! | H96: 34 | I96: =H40 -> #DIV/0! | L96: 34 | M96: =L40 -> #DIV/0! | P96: 34 | Q96: =P40 -> #DIV/0!
C97: Août + Sept. | D97: 35 | E97: =AVERAGE(D41:D42) -> #DIV/0! | G97: Août + Sept. | H97: 35 | I97: =AVERAGE(H41:H42) -> #DIV/0! | K97: Août + Sept. | L97: 35 | M97: =AVERAGE(L41:L42) -> #DIV/0! | O97: Août + Sept. | P97: 35 | Q97: =AVERAGE(P41:P42) -> #DIV/0!
C98: Septembre | D98: 36 | E98: =D43 -> #DIV/0! | G98: Septembre | H98: 36 | I98: =H43 -> #DIV/0! | K98: Septembre | L98: 36 | M98: =L43 -> #DIV/0! | O98: Septembre | P98: 36 | Q98: =P43 -> #DIV/0!
D99: 37 | E99: =D44 -> #DIV/0! | H99: 37 | I99: =H44 -> #DIV/0! | L99: 37 | M99: =L44 -> #DIV/0! | P99: 37 | Q99: =P44 -> #DIV/0!
D100: 38 | E100: =D45 -> #DIV/0! | H100: 38 | I100: =H45 -> #DIV/0! | L100: 38 | M100: =L45 -> #DIV/0! | P100: 38 | Q100: =P45 -> #DIV/0!
D101: 39 | E101: =D46 -> #DIV/0! | H101: 39 | I101: =H46 -> #DIV/0! | L101: 39 | M101: =L46 -> #DIV/0! | P101: 39 | Q101: =P46 -> #DIV/0!
...
