Workbook
Name An: '[1]JOURS FERIES'!$G$9
Name BRUT: STOCK2016[BRUT]
Name dates: [2]Tables!$B$2:$B$13
Name DEBUT: FLUX_2016[SOLDE 2015]
Name ETAT: FLUX_2016[ETAT]
Name FINAL: FLUX_2016[STOCK]
Name FINI: STOCK2016[FINI]
Name NoAn: [3]Année!$B$4
Name Pâques: '[1]JOURS FERIES'!$G$11
Name REF: FLUX_2016[REF]
Name TOTAL: FLUX_2016[TOTAL 2016]

Sheet FLUX 2016
B2: ARTICLES | C2: REF | D2: ETAT | E2: SOLDE 2015 | F2: 01/16 | G2: 02/16 | H2: 03/16 | I2: 04/16 | J2: 05/16 | K2: 06/16 | L2: 07/16 | M2: 08/16 | N2: 09/16 | O2: 10/16 | P2: 11/16 | Q2: 12/16 | R2: TOTAL 2016 | S2: STOCK
B3: 032320B | C3: =MID(B3,1,6) -> 032320 | D3: Brut | E3: 230 | F3: 0 | G3: 0 | H3: 305 | I3: 0 | J3: 0 | K3: 0 | L3: 0 | M3: 0 | N3: 0 | O3: 0 | P3: 0 | R3: =SUM(OFFSET(FLUX_2016[[#This Row],[SOLDE 2015]],0,1,1,12)) -> 305 | S3: =IF(FLUX_2016[[#This Row],[ETAT]]="Brut",FLUX_2016[[#This Row],[TOTAL 2016]]+FLUX_2016[[#This Row],[SOLDE 2015]]-SUM(OFFSET(FLUX_2016[[#This Row],[SOLDE 2015]],SUMPRODUCT((FLUX_2016[REF]=FLUX_2016[[#This Row],[REF]])*(FLUX_2016[ETAT]="brut")),1,COUNTIFS(FLUX_2016[ETAT],"Fini",FLUX_2016[REF],C3),12)),"") -> 372 | T3: <=JUSTE
B4: 032320F0001 | C4: =MID(B4,1,6) -> 032320 | D4: Fini | E4: 0 | F4: 21 | G4: 0 | H4: 11 | I4: 0 | J4: 26 | K4: 8 | L4: 0 | M4: 0 | N4: 23 | O4: 0 | P4: 0 | R4: =SUM(OFFSET(FLUX_2016[[#This Row],[SOLDE 2015]],0,1,1,12)) -> 89 | S4: =IF(FLUX_2016[[#This Row],[ETAT]]="Brut",FLUX_2016[[#This Row],[TOTAL 2016]]+FLUX_2016[[#This Row],[SOLDE 2015]]-SUM(OFFSET(FLUX_2016[[#This Row],[SOLDE 2015]],SUMPRODUCT((FLUX_2016[REF]=FLUX_2016[[#This Row],[REF]])*(FLUX_2016[ETAT]="brut")),1,COUNTIFS(FLUX_2016[ETAT],"Fini",FLUX_2016[REF],C4),12)),"")
B5: 032320F0002 | C5: =MID(B5,1,6) -> 032320 | D5: Fini | E5: 0 | F5: 0 | G5: 0 | H5: 0 | I5: 0 | J5: 0 | K5: 0 | L5: 0 | M5: 0 | N5: 0 | O5: 0 | P5: 0 | R5: =SUM(OFFSET(FLUX_2016[[#This Row],[SOLDE 2015]],0,1,1,12)) -> 0 | S5: =IF(FLUX_2016[[#This Row],[ETAT]]="Brut",FLUX_2016[[#This Row],[TOTAL 2016]]+FLUX_2016[[#This Row],[SOLDE 2015]]-SUM(OFFSET(FLUX_2016[[#This Row],[SOLDE 2015]],SUMPRODUCT((FLUX_2016[REF]=FLUX_2016[[#This Row],[REF]])*(FLUX_2016[ETAT]="brut")),1,COUNTIFS(FLUX_2016[ETAT],"Fini",FLUX_2016[REF],C5),12)),"")
B6: 032320F0041 | C6: =MID(B6,1,6) -> 032320 | D6: Fini | E6: 0 | F6: 0 | G6: 0 | H6: 25 | I6: 0 | J6: 0 | K6: 0 | L6: 0 | M6: 0 | N6: 0 | O6: 0 | P6: 0 | R6: =SUM(OFFSET(FLUX_2016[[#This Row],[SOLDE 2015]],0,1,1,12)) -> 25 | S6: =IF(FLUX_2016[[#This Row],[ETAT]]="Brut",FLUX_2016[[#This Row],[TOTAL 2016]]+FLUX_2016[[#This Row],[SOLDE 2015]]-SUM(OFFSET(FLUX_2016[[#This Row],[SOLDE 2015]],SUMPRODUCT((FLUX_2016[REF]=FLUX_2016[[#This Row],[REF]])*(FLUX_2016[ETAT]="brut")),1,COUNTIFS(FLUX_2016[ETAT],"Fini",FLUX_2016[REF],C6),12)),"")
B7: 032320F0042 | C7: =MID(B7,1,6) -> 032320 | D7: Fini | E7: 0 | F7: 22 | G7: 0 | H7: 0 | I7: 0 | J7: 0 | K7: 27 | L7: 0 | M7: 0 | N7: 0 | O7: 0 | P7: 0 | R7: =SUM(OFFSET(FLUX_2016[[#This Row],[SOLDE 2015]],0,1,1,12)) -> 49 | S7: =IF(FLUX_2016[[#This Row],[ETAT]]="Brut",FLUX_2016[[#This Row],[TOTAL 2016]]+FLUX_2016[[#This Row],[SOLDE 2015]]-SUM(OFFSET(FLUX_2016[[#This Row],[SOLDE 2015]],SUMPRODUCT((FLUX_2016[REF]=FLUX_2016[[#This Row],[REF]])*(FLUX_2016[ETAT]="brut")),1,COUNTIFS(FLUX_2016[ETAT],"Fini",FLUX_2016[REF],C7),12)),"")
B8: 032320F0050 | C8: =MID(B8,1,6) -> 032320 | D8: Fini | E8: 0 | F8: 0 | G8: 0 | H8: 0 | I8: 0 | J8: 0 | K8: 0 | L8: 0 | M8: 0 | N8: 0 | O8: 0 | P8: 0 | R8: =SUM(OFFSET(FLUX_2016[[#This Row],[SOLDE 2015]],0,1,1,12)) -> 0 | S8: =IF(FLUX_2016[[#This Row],[ETAT]]="Brut",FLUX_2016[[#This Row],[TOTAL 2016]]+FLUX_2016[[#This Row],[SOLDE 2015]]-SUM(OFFSET(FLUX_2016[[#This Row],[SOLDE 2015]],SUMPRODUCT((FLUX_2016[REF]=FLUX_2016[[#This Row],[REF]])*(FLUX_2016[ETAT]="brut")),1,COUNTIFS(FLUX_2016[ETAT],"Fini",FLUX_2016[REF],C8),12)),"")
B9: 032330B | C9: =MID(B9,1,6) -> 032330 | D9: Brut | E9: 60 | F9: 100 | G9: 0 | H9: 100 | I9: 0 | J9: 100 | K9: 0 | L9: 100 | M9: 0 | N9: 100 | O9: 0 | P9: 100 | R9: =SUM(OFFSET(FLUX_2016[[#This Row],[SOLDE 2015]],0,1,1,12)) -> 600 | S9: =IF(FLUX_2016[[#This Row],[ETAT]]="Brut",FLUX_2016[[#This Row],[TOTAL 2016]]+FLUX_2016[[#This Row],[SOLDE 2015]]-SUM(OFFSET(FLUX_2016[[#This Row],[SOLDE 2015]],SUMPRODUCT((FLUX_2016[REF]=FLUX_2016[[#This Row],[REF]])*(FLUX_2016[ETAT]="brut")),1,COUNTIFS(FLUX_2016[ETAT],"Fini",FLUX_2016[REF],C9),12)),"") -> 137 | T9: <= JUSTE Ici je trouve bien : (Solde 2015 + Total 2016)-Total "fini" soit 60 + 600 -523= Stock à 137
B10: 032330B HC | C10: =MID(B10,1,6) -> 032330 | D10: Brut | E10: 50 | F10: 200 | G10: 0 | H10: 0 | I10: 0 | J10: 200 | K10: 0 | L10: 0 | M10: 0 | N10: 0 | O10: 0 | P10: 150 | R10: =SUM(OFFSET(FLUX_2016[[#This Row],[SOLDE 2015]],0,1,1,12)) -> 550 | S10: =IF(FLUX_2016[[#This Row],[ETAT]]="Brut",FLUX_2016[[#This Row],[TOTAL 2016]]+FLUX_2016[[#This Row],[SOLDE 2015]]-SUM(OFFSET(FLUX_2016[[#This Row],[SOLDE 2015]],SUMPRODUCT((FLUX_2016[REF]=FLUX_2016[[#This Row],[REF]])*(FLUX_2016[ETAT]="brut")),1,COUNTIFS(FLUX_2016[ETAT],"Fini",FLUX_2016[REF],C10),12)),"") -> -23 | T10: <= FAUX : Ici je devrais trouver : (Solde 2015 + Total 2016)-Total "fini" soit 50 + 550 -523= Stock à 77
B11: 032330F0002 | C11: =MID(B11,1,6) -> 032330 | D11: Fini | E11: 0 | F11: 0 | G11: 0 | H11: 0 | I11: 0 | J11: 0 | K11: 0 | L11: 0 | M11: 0 | N11: 0 | O11: 0 | P11: 0 | R11: =SUM(OFFSET(FLUX_2016[[#This Row],[SOLDE 2015]],0,1,1,12)) -> 0 | S11: =IF(FLUX_2016[[#This Row],[ETAT]]="Brut",FLUX_2016[[#This Row],[TOTAL 2016]]+FLUX_2016[[#This Row],[SOLDE 2015]]-SUM(OFFSET(FLUX_2016[[#This Row],[SOLDE 2015]],SUMPRODUCT((FLUX_2016[REF]=FLUX_2016[[#This Row],[REF]])*(FLUX_2016[ETAT]="brut")),1,COUNTIFS(FLUX_2016[ETAT],"Fini",FLUX_2016[REF],C11),12)),"")
B12: 032330F0006 | C12: =MID(B12,1,6) -> 032330 | D12: Fini | E12: 0 | F12: 0 | G12: 37 | H12: 44 | I12: 15 | J12: 0 | K12: 55 | L12: 0 | M12: 0 | N12: 0 | O12: 0 | P12: 0 | R12: =SUM(OFFSET(FLUX_2016[[#This Row],[SOLDE 2015]],0,1,1,12)) -> 151 | S12: =IF(FLUX_2016[[#This Row],[ETAT]]="Brut",FLUX_2016[[#This Row],[TOTAL 2016]]+FLUX_2016[[#This Row],[SOLDE 2015]]-SUM(OFFSET(FLUX_2016[[#This Row],[SOLDE 2015]],SUMPRODUCT((FLUX_2016[REF]=FLUX_2016[[#This Row],[REF]])*(FLUX_2016[ETAT]="brut")),1,COUNTIFS(FLUX_2016[ETAT],"Fini",FLUX_2016[REF],C12),12)),"")
B13: 032330F0043 | C13: =MID(B13,1,6) -> 032330 | D13: Fini | E13: 0 | F13: 50 | G13: 46 | H13: 79 | I13: 0 | J13: 0 | K13: 57 | L13: 0 | M13: 0 | N13: 0 | O13: 0 | P13: 0 | R13: =SUM(OFFSET(FLUX_2016[[#This Row],[SOLDE 2015]],0,1,1,12)) -> 232 | S13: =IF(FLUX_2016[[#This Row],[ETAT]]="Brut",FLUX_2016[[#This Row],[TOTAL 2016]]+FLUX_2016[[#This Row],[SOLDE 2015]]-SUM(OFFSET(FLUX_2016[[#This Row],[SOLDE 2015]],SUMPRODUCT((FLUX_2016[REF]=FLUX_2016[[#This Row],[REF]])*(FLUX_2016[ETAT]="brut")),1,COUNTIFS(FLUX_2016[ETAT],"Fini",FLUX_2016[REF],C13),12)),"")
B14: 032330F0050 | C14: =MID(B14,1,6) -> 032330 | D14: Fini | E14: 0 | F14: 15 | G14: 4 | H14: 30 | I14: 31 | J14: 0 | K14: 40 | L14: 0 | M14: 10 | N14: 0 | O14: 0 | P14: 0 | R14: =SUM(OFFSET(FLUX_2016[[#This Row],[SOLDE 2015]],0,1,1,12)) -> 130 | S14: =IF(FLUX_2016[[#This Row],[ETAT]]="Brut",FLUX_2016[[#This Row],[TOTAL 2016]]+FLUX_2016[[#This Row],[SOLDE 2015]]-SUM(OFFSET(FLUX_2016[[#This Row],[SOLDE 2015]],SUMPRODUCT((FLUX_2016[REF]=FLUX_2016[[#This Row],[REF]])*(FLUX_2016[ETAT]="brut")),1,COUNTIFS(FLUX_2016[ETAT],"Fini",FLUX_2016[REF],C14),12)),"")
B15: 032330F0053 | C15: =MID(B15,1,6) -> 032330 | D15: Fini | E15: 0 | F15: 0 | G15: 0 | H15: 0 | I15: 0 | J15: 0 | K15: 0 | L15: 0 | M15: 0 | N15: 0 | O15: 10 | P15: 0 | R15: =SUM(OFFSET(FLUX_2016[[#This Row],[SOLDE 2015]],0,1,1,12)) -> 10 | S15: =IF(FLUX_2016[[#This Row],[ETAT]]="Brut",FLUX_2016[[#This Row],[TOTAL 2016]]+FLUX_2016[[#This Row],[SOLDE 2015]]-SUM(OFFSET(FLUX_2016[[#This Row],[SOLDE 2015]],SUMPRODUCT((FLUX_2016[REF]=FLUX_2016[[#This Row],[REF]])*(FLUX_2016[ETAT]="brut")),1,COUNTIFS(FLUX_2016[ETAT],"Fini",FLUX_2016[REF],C15),12)),"")
B16: 032340B | C16: =MID(B16,1,6) -> 032340 | D16: Brut | E16: 20 | F16: 0 | G16: 0 | H16: 0 | I16: 0 | J16: 0 | K16: 0 | L16: 0 | M16: 0 | N16: 0 | O16: 0 | P16: 100 | R16: =SUM(OFFSET(FLUX_2016[[#This Row],[SOLDE 2015]],0,1,1,12)) -> 100 | S16: =IF(FLUX_2016[[#This Row],[ETAT]]="Brut",FLUX_2016[[#This Row],[TOTAL 2016]]+FLUX_2016[[#This Row],[SOLDE 2015]]-SUM(OFFSET(FLUX_2016[[#This Row],[SOLDE 2015]],SUMPRODUCT((FLUX_2016[REF]=FLUX_2016[[#This Row],[REF]])*(FLUX_2016[ETAT]="brut")),1,COUNTIFS(FLUX_2016[ETAT],"Fini",FLUX_2016[REF],C16),12)),"") -> 70 | T16: <= JUSTE Ici je trouve bien : (Solde 2015 + Total 2016)-Total "fini" soit 20 + 100 -50 = Stock à 70
B17: 032340TB D | C17: =MID(B17,1,6) -> 032340 | D17: Brut | E17: 50 | F17: 0 | G17: 0 | H17: 0 | I17: 0 | J17: 0 | K17: 0 | L17: 0 | M17: 0 | N17: 0 | O17: 0 | P17: 100 | R17: =SUM(OFFSET(FLUX_2016[[#This Row],[SOLDE 2015]],0,1,1,12)) -> 100 | S17: =IF(FLUX_2016[[#This Row],[ETAT]]="Brut",FLUX_2016[[#This Row],[TOTAL 2016]]+FLUX_2016[[#This Row],[SOLDE 2015]]-SUM(OFFSET(FLUX_2016[[#This Row],[SOLDE 2015]],SUMPRODUCT((FLUX_2016[REF]=FLUX_2016[[#This Row],[REF]])*(FLUX_2016[ETAT]="brut")),1,COUNTIFS(FLUX_2016[ETAT],"Fini",FLUX_2016[REF],C17),12)),"") -> 110 | T17: <= FAUX : Ici je devrais trouver : (Solde 2015 + Total 2016)-Total "fini" soit 50 + 100 -50= Stock à 100
B18: 032340TB G | C18: =MID(B18,1,6) -> 032340 | D18: Brut | E18: 5 | F18: 0 | G18: 0 | H18: 0 | I18: 0 | J18: 0 | K18: 0 | L18: 0 | M18: 0 | N18: 0 | O18: 0 | P18: 100 | R18: =SUM(OFFSET(FLUX_2016[[#This Row],[SOLDE 2015]],0,1,1,12)) -> 100 | S18: =IF(FLUX_2016[[#This Row],[ETAT]]="Brut",FLUX_2016[[#This Row],[TOTAL 2016]]+FLUX_2016[[#This Row],[SOLDE 2015]]-SUM(OFFSET(FLUX_2016[[#This Row],[SOLDE 2015]],SUMPRODUCT((FLUX_2016[REF]=FLUX_2016[[#This Row],[REF]])*(FLUX_2016[ETAT]="brut")),1,COUNTIFS(FLUX_2016[ETAT],"Fini",FLUX_2016[REF],C18),12)),"") -> 75 | T18: <= FAUX : Ici je devrais trouver : (Solde 2015 + Total 2016)-Total "fini" soit 5 + 100 -50= Stock à 55
B19: 032340F0001 | C19: =MID(B19,1,6) -> 032340 | D19: Fini | E19: 0 | F19: 0 | G19: 0 | H19: 0 | I19: 0 | J19: 0 | K19: 0 | L19: 0 | M19: 0 | N19: 0 | O19: 0 | P19: 0 | Q19: 10 | R19: =SUM(OFFSET(FLUX_2016[[#This Row],[SOLDE 2015]],0,1,1,12)) -> 10 | S19: =IF(FLUX_2016[[#This Row],[ETAT]]="Brut",FLUX_2016[[#This Row],[TOTAL 2016]]+FLUX_2016[[#This Row],[SOLDE 2015]]-SUM(OFFSET(FLUX_2016[[#This Row],[SOLDE 2015]],SUMPRODUCT((FLUX_2016[REF]=FLUX_2016[[#This Row],[REF]])*(FLUX_2016[ETAT]="brut")),1,COUNTIFS(FLUX_2016[ETAT],"Fini",FLUX_2016[REF],C19),12)),"")
B20: 032340F0002 | C20: =MID(B20,1,6) -> 032340 | D20: Fini | E20: 0 | F20: 0 | G20: 0 | H20: 0 | I20: 0 | J20: 0 | K20: 0 | L20: 0 | M20: 0 | N20: 0 | O20: 0 | P20: 0 | Q20: 10 | R20: =SUM(OFFSET(FLUX_2016[[#This Row],[SOLDE 2015]],0,1,1,12)) -> 10 | S20: =IF(FLUX_2016[[#This Row],[ETAT]]="Brut",FLUX_2016[[#This Row],[TOTAL 2016]]+FLUX_2016[[#This Row],[SOLDE 2015]]-SUM(OFFSET(FLUX_2016[[#This Row],[SOLDE 2015]],SUMPRODUCT((FLUX_2016[REF]=FLUX_2016[[#This Row],[REF]])*(FLUX_2016[ETAT]="brut")),1,COUNTIFS(FLUX_2016[ETAT],"Fini",FLUX_2016[REF],C20),12)),"")
B21: 032340F0006 | C21: =MID(B21,1,6) -> 032340 | D21: Fini | E21: 0 | F21: 0 | G21: 0 | H21: 0 | I21: 0 | J21: 0 | K21: 0 | L21: 0 | M21: 0 | N21: 0 | O21: 0 | P21: 0 | Q21: 10 | R21: =SUM(OFFSET(FLUX_2016[[#This Row],[SOLDE 2015]],0,1,1,12)) -> 10 | S21: =IF(FLUX_2016[[#This Row],[ETAT]]="Brut",FLUX_2016[[#This Row],[TOTAL 2016]]+FLUX_2016[[#This Row],[SOLDE 2015]]-SUM(OFFSET(FLUX_2016[[#This Row],[SOLDE 2015]],SUMPRODUCT((FLUX_2016[REF]=FLUX_2016[[#This Row],[REF]])*(FLUX_2016[ETAT]="brut")),1,COUNTIFS(FLUX_2016[ETAT],"Fini",FLUX_2016[REF],C21),12)),"")
B22: 032340F0041 | C22: =MID(B22,1,6) -> 032340 | D22: Fini | E22: 0 | F22: 0 | G22: 0 | H22: 0 | I22: 0 | J22: 0 | K22: 0 | L22: 0 | M22: 0 | N22: 0 | O22: 0 | P22: 0 | Q22: 10 | R22: =SUM(OFFSET(FLUX_2016[[#This Row],[SOLDE 2015]],0,1,1,12)) -> 10 | S22: =IF(FLUX_2016[[#This Row],[ETAT]]="Brut",FLUX_2016[[#This Row],[TOTAL 2016]]+FLUX_2016[[#This Row],[SOLDE 2015]]-SUM(OFFSET(FLUX_2016[[#This Row],[SOLDE 2015]],SUMPRODUCT((FLUX_2016[REF]=FLUX_2016[[#This Row],[REF]])*(FLUX_2016[ETAT]="brut")),1,COUNTIFS(FLUX_2016[ETAT],"Fini",FLUX_2016[REF],C22),12)),"")
B23: 032340F0051 | C23: =MID(B23,1,6) -> 032340 | D23: Fini | E23: 0 | F23: 0 | G23: 0 | H23: 0 | I23: 0 | J23: 0 | K23: 0 | L23: 0 | M23: 0 | N23: 0 | O23: 0 | P23: 0 | R23: =SUM(OFFSET(FLUX_2016[[#This Row],[SOLDE 2015]],0,1,1,12)) -> 0 | S23: =IF(FLUX_2016[[#This Row],[ETAT]]="Brut",FLUX_2016[[#This Row],[TOTAL 2016]]+FLUX_2016[[#This Row],[SOLDE 2015]]-SUM(OFFSET(FLUX_2016[[#This Row],[SOLDE 2015]],SUMPRODUCT((FLUX_2016[REF]=FLUX_2016[[#This Row],[REF]])*(FLUX_2016[ETAT]="brut")),1,COUNTIFS(FLUX_2016[ETAT],"Fini",FLUX_2016[REF],C23),12)),"")
B24: 032340F0062 | C24: =MID(B24,1,6) -> 032340 | D24: Fini | E24: 0 | F24: 0 | G24: 0 | H24: 0 | I24: 0 | J24: 0 | K24: 0 | L24: 0 | M24: 0 | N24: 0 | O24: 0 | P24: 0 | Q24: 10 | R24: =SUM(OFFSET(FLUX_2016[[#This Row],[SOLDE 2015]],0,1,1,12)) -> 10 | S24: =IF(FLUX_2016[[#This Row],[ETAT]]="Brut",FLUX_2016[[#This Row],[TOTAL 2016]]+FLUX_2016[[#This Row],[SOLDE 2015]]-SUM(OFFSET(FLUX_2016[[#This Row],[SOLDE 2015]],SUMPRODUCT((FLUX_2016[REF]=FLUX_2016[[#This Row],[REF]])*(FLUX_2016[ETAT]="brut")),1,COUNTIFS(FLUX_2016[ETAT],"Fini",FLUX_2016[REF],C24),12)),"")
C25: =MID(B25,1,6) | R25: =SUM(OFFSET(FLUX_2016[[#This Row],[SOLDE 2015]],0,1,1,12)) -> 0 | S25: =IF(FLUX_2016[[#This Row],[ETAT]]="Brut",FLUX_2016[[#This Row],[TOTAL 2016]]+FLUX_2016[[#This Row],[SOLDE 2015]]-SUM(OFFSET(FLUX_2016[[#This Row],[SOLDE 2015]],SUMPRODUCT((FLUX_2016[REF]=FLUX_2016[[#This Row],[REF]])*(FLUX_2016[ETAT]="brut")),1,COUNTIFS(FLUX_2016[ETAT],"Fini",FLUX_2016[REF],C25),12)),"")

Sheet STOCK 2016
B2: 2016 STOCK Brut
B3: REF. | C3: DEBUT | D3: BRUT | E3: FINI | F3: STOCK
B4: 032320 | C4: =SUMIFS(DEBUT,REF,$B4,ETAT,STOCK2016[[#Headers],[BRUT]]) -> 230 | D4: =SUMIFS('FLUX 2016'!$R$3:$R$25,'FLUX 2016'!$C$3:$C$25,$B4,'FLUX 2016'!$D$3:$D$25,$D$3) -> 305 | E4: =SUMIFS('FLUX 2016'!$R$3:$R$23,'FLUX 2016'!$C$3:$C$23,$B4,'FLUX 2016'!$D$3:$D$23,$E$3) -> 163 | F4: =C4+D4-E4 -> 372
B5: 032330 | C5: =SUMIFS(DEBUT,REF,$B5,ETAT,STOCK2016[[#Headers],[BRUT]]) -> 110 | D5: =SUMIFS('FLUX 2016'!$R$3:$R$25,'FLUX 2016'!$C$3:$C$25,$B5,'FLUX 2016'!$D$3:$D$25,$D$3) -> 1150 | E5: =SUMIFS('FLUX 2016'!$R$3:$R$25,'FLUX 2016'!$C$3:$C$25,$B5,'FLUX 2016'!$D$3:$D$25,$E$3) -> 523 | F5: =C5+D5-E5 -> 737
B6: 032340 | C6: =SUMIFS(DEBUT,REF,$B6,ETAT,STOCK2016[[#Headers],[BRUT]]) -> 75 | D6: =SUMIFS('FLUX 2016'!$R$3:$R$25,'FLUX 2016'!$C$3:$C$25,$B6,'FLUX 2016'!$D$3:$D$25,$D$3) -> 300 | E6: =SUMIFS('FLUX 2016'!$R$3:$R$23,'FLUX 2016'!$C$3:$C$23,$B6,'FLUX 2016'!$D$3:$D$23,$E$3) -> 40 | F6: =C6+D6-E6 -> 335
B7: 145206 | C7: =SUMIFS(DEBUT,REF,$B7,ETAT,STOCK2016[[#Headers],[BRUT]]) -> 0 | D7: =SUMIFS('FLUX 2016'!$R$3:$R$25,'FLUX 2016'!$C$3:$C$25,$B7,'FLUX 2016'!$D$3:$D$25,$D$3) -> 0 | E7: =SUMIFS('FLUX 2016'!$R$3:$R$25,'FLUX 2016'!$C$3:$C$25,$B7,'FLUX 2016'!$D$3:$D$25,$E$3) -> 0 | F7: =C7+D7-E7 -> 0
C8: =SUMIFS(DEBUT,REF,$B8,ETAT,STOCK2016[[#Headers],[BRUT]]) -> 0 | D8: =SUMIFS('FLUX 2016'!$R$3:$R$25,'FLUX 2016'!$C$3:$C$25,$B8,'FLUX 2016'!$D$3:$D$25,$D$3) -> 0 | E8: =SUMIFS('FLUX 2016'!$R$3:$R$25,'FLUX 2016'!$C$3:$C$25,$B8,'FLUX 2016'!$D$3:$D$25,$E$3) -> 0 | F8: =C8+D8-E8 -> 0
