Workbook
Name bdd: OFFSET(Clients!$C$2:$G$2,,,ROWS(dates))
Name dates: OFFSET(Clients!$A$2,,,COUNT(Clients!$A:$A))
Name dept: Clients!$B$1
Name heure: OFFSET(dates,,1,)
Name listedates: OFFSET('rendez-vous'!$Q$2,,,COUNT('rendez-vous'!$Q:$Q))

Sheet Clients
A1: Date RDV | B1: Heure | C1: n° Client | D1: Nom | E1: Adresse | F1: Type | G1: Localisation
A2: 42744 | B2: 9H | C2: 26005 | D2: Assiette champenoise | E2: 14 rue du clochet | F2: R | G2: ANGERS
A3: 42744 | B3: 10H | C3: 25934 | D3: Au Congrès | E3: 26 Bd Lavoisier | F3: R | G3: ANGERS | I3: Légende
A4: 42744 | B4: 11H | C4: 25957 | D4: Au cul de Poule | E4: 34 av/ de la République | F4: R | G4: ANGERS | I4: C | J4: Caviste
A5: 42744 | B5: 14H | C5: 4488 | D5: Aux Bons Amis | E5: 26 pl. Armoricaine | F5: R | G5: ANGERS | I5: H | J5: Hôtel Vins
A6: 42744 | B6: 15H | C6: 23948 | D6: Bar à Huitres | E6: 6 rue du grand soldat | F6: R | G6: ANGERS | I6: R | J6: Restaurant Vins
A7: 42745 | B7: 10H | C7: 26371 | D7: Bistrot du Forum | E7: 9 Boulevard du cher ami | F7: R | G7: ANGERS
A8: 42745 | B8: 19H | C8: 25890 | D8: La Vinocave | E8: 45 rue montagne de lure | F8: C | G8: ANGERS
A9: 42745 | B9: 10H | C9: 25944 | D9: Le verre de l'Ange | E9: 18 place du moulin | F9: C | G9: NANTES
A10: 42746 | B10: 11H | C10: 26588 | D10: Millésimes et Saveurs | E10: 84 avenue de la diagonale | F10: C | G10: NANTES
A11: 42746 | B11: 14H | C11: 24113 | D11: La Grande boutique du Vin | E11: 17 rue de la gare Pietonne | F11: C | G11: NANTES
A12: 42746 | B12: 15H | C12: 25662 | D12: Caves des Sacres | E12: 36 boulevard Lamiche | F12: C | G12: NANTES
A13: 42746 | B13: 16H | C13: 2190 | D13: La cave à Jules | E13: 56 rue de la clementine | F13: C | G13: NANTES
A14: 42747 | B14: 17H | C14: 507 | D14: Autogrill Côté France | E14: 25 rue du poirier | F14: C | G14: NANTES
A15: 42747 | B15: 9H | C15: 26523 | D15: Autogrill Le Mirabellier | E15: 13 av de la cathédrale | F15: H | G15: REIMS
A16: 42747 | B16: 10H | C16: 26557 | D16: Restaurant l'Arche | E16: 35 boulevard de chapone | F16: H | G16: REIMS
A17: 42748 | B17: 11H | C17: 26435 | D17: Le Bodegon | E17: 24 pl. du ravitaillement | F17: H | G17: REIMS
A18: 42748 | B18: 14H | C18: 360 | D18: Autogrill du Tardenois | E18: 58 bd de la patte | F18: H | G18: REIMS
A19: 42748 | B19: 15H | C19: 5503 | D19: Autogrill Valmy | E19: 76 avenue de la clairette | F19: H | G19: REIMS

Sheet Stocks
A1: Type | B1: Appellation | C1: Stock restant
A2: Rouge
A3: Rouge
A4: Blanc sec
A5: Blanc sec
A6: Rosé
A7: Effervescent
A8: Blanc demi
A9: Blanc demi

Sheet rendez-vous
B2: 1) choix de date | D2: 42746 | Q2: {=OFFSET(Clients!A$1,MATCH(0,COUNTIF(Q$1:Q1,dates),0),)} -> 42744
Q3: {=OFFSET(Clients!A$1,MATCH(0,COUNTIF(Q$1:Q2,dates),0),)} -> 42745
Q4: {=OFFSET(Clients!A$1,MATCH(0,COUNTIF(Q$1:Q3,dates),0),)} -> 42746
B5: 2)choix de l'heure | D5: 15H | Q5: {=OFFSET(Clients!A$1,MATCH(0,COUNTIF(Q$1:Q4,dates),0),)} -> 42747
Q6: {=OFFSET(Clients!A$1,MATCH(0,COUNTIF(Q$1:Q5,dates),0),)} -> 42748
Q7: {=OFFSET(Clients!A$1,MATCH(0,COUNTIF(Q$1:Q6,dates),0),)} -> #N/A
D8: {=IFERROR(INDEX(bdd,SMALL(IF(dates&heure=$D$2&$D$5,ROW(dates)),ROW($A1)),COLUMN(A:A)),"")} -> 2190 | E8: {=IFERROR(INDEX(bdd,SMALL(IF(dates&heure=$D$2&$D$5,ROW(dates)),ROW($A1)),COLUMN(B:B)),"")} -> La cave à Jules | F8: {=IFERROR(INDEX(bdd,SMALL(IF(dates&heure=$D$2&$D$5,ROW(dates)),ROW($A1)),COLUMN(C:C)),"")} -> 56 rue de la clementine | G8: {=IFERROR(INDEX(bdd,SMALL(IF(dates&heure=$D$2&$D$5,ROW(dates)),ROW($A1)),COLUMN(D:D)),"")} -> C | H8: {=IFERROR(INDEX(bdd,SMALL(IF(dates&heure=$D$2&$D$5,ROW(dates)),ROW($A1)),COLUMN(E:E)),"")} -> NANTES | Q8: {=OFFSET(Clients!A$1,MATCH(0,COUNTIF(Q$1:Q7,dates),0),)} -> #N/A
D9: {=IFERROR(INDEX(bdd,SMALL(IF(dates&heure=$D$2&$D$5,ROW(dates)),ROW($A2)),COLUMN(A:A)),"")} | E9: {=IFERROR(INDEX(bdd,SMALL(IF(dates&heure=$D$2&$D$5,ROW(dates)),ROW($A2)),COLUMN(B:B)),"")} | F9: {=IFERROR(INDEX(bdd,SMALL(IF(dates&heure=$D$2&$D$5,ROW(dates)),ROW($A2)),COLUMN(C:C)),"")} | G9: {=IFERROR(INDEX(bdd,SMALL(IF(dates&heure=$D$2&$D$5,ROW(dates)),ROW($A2)),COLUMN(D:D)),"")} | H9: {=IFERROR(INDEX(bdd,SMALL(IF(dates&heure=$D$2&$D$5,ROW(dates)),ROW($A2)),COLUMN(E:E)),"")} | Q9: {=OFFSET(Clients!A$1,MATCH(0,COUNTIF(Q$1:Q8,dates),0),)} -> #N/A
D10: {=IFERROR(INDEX(bdd,SMALL(IF(dates&heure=$D$2&$D$5,ROW(dates)),ROW($A3)),COLUMN(A:A)),"")} | E10: {=IFERROR(INDEX(bdd,SMALL(IF(dates&heure=$D$2&$D$5,ROW(dates)),ROW($A3)),COLUMN(B:B)),"")} | F10: {=IFERROR(INDEX(bdd,SMALL(IF(dates&heure=$D$2&$D$5,ROW(dates)),ROW($A3)),COLUMN(C:C)),"")} | G10: {=IFERROR(INDEX(bdd,SMALL(IF(dates&heure=$D$2&$D$5,ROW(dates)),ROW($A3)),COLUMN(D:D)),"")} | H10: {=IFERROR(INDEX(bdd,SMALL(IF(dates&heure=$D$2&$D$5,ROW(dates)),ROW($A3)),COLUMN(E:E)),"")} | Q10: {=OFFSET(Clients!A$1,MATCH(0,COUNTIF(Q$1:Q9,dates),0),)} -> #N/A
D11: {=IFERROR(INDEX(bdd,SMALL(IF(dates&heure=$D$2&$D$5,ROW(dates)),ROW($A4)),COLUMN(A:A)),"")} | E11: {=IFERROR(INDEX(bdd,SMALL(IF(dates&heure=$D$2&$D$5,ROW(dates)),ROW($A4)),COLUMN(B:B)),"")} | F11: {=IFERROR(INDEX(bdd,SMALL(IF(dates&heure=$D$2&$D$5,ROW(dates)),ROW($A4)),COLUMN(C:C)),"")} | G11: {=IFERROR(INDEX(bdd,SMALL(IF(dates&heure=$D$2&$D$5,ROW(dates)),ROW($A4)),COLUMN(D:D)),"")} | H11: {=IFERROR(INDEX(bdd,SMALL(IF(dates&heure=$D$2&$D$5,ROW(dates)),ROW($A4)),COLUMN(E:E)),"")} | Q11: {=OFFSET(Clients!A$1,MATCH(0,COUNTIF(Q$1:Q10,dates),0),)} -> #N/A
D12: {=IFERROR(INDEX(bdd,SMALL(IF(dates&heure=$D$2&$D$5,ROW(dates)),ROW($A5)),COLUMN(A:A)),"")} | E12: {=IFERROR(INDEX(bdd,SMALL(IF(dates&heure=$D$2&$D$5,ROW(dates)),ROW($A5)),COLUMN(B:B)),"")} | F12: {=IFERROR(INDEX(bdd,SMALL(IF(dates&heure=$D$2&$D$5,ROW(dates)),ROW($A5)),COLUMN(C:C)),"")} | G12: {=IFERROR(INDEX(bdd,SMALL(IF(dates&heure=$D$2&$D$5,ROW(dates)),ROW($A5)),COLUMN(D:D)),"")} | H12: {=IFERROR(INDEX(bdd,SMALL(IF(dates&heure=$D$2&$D$5,ROW(dates)),ROW($A5)),COLUMN(E:E)),"")} | Q12: {=OFFSET(Clients!A$1,MATCH(0,COUNTIF(Q$1:Q11,dates),0),)} -> #N/A
D13: {=IFERROR(INDEX(bdd,SMALL(IF(dates&heure=$D$2&$D$5,ROW(dates)),ROW($A6)),COLUMN(A:A)),"")} | E13: {=IFERROR(INDEX(bdd,SMALL(IF(dates&heure=$D$2&$D$5,ROW(dates)),ROW($A6)),COLUMN(B:B)),"")} | F13: {=IFERROR(INDEX(bdd,SMALL(IF(dates&heure=$D$2&$D$5,ROW(dates)),ROW($A6)),COLUMN(C:C)),"")} | G13: {=IFERROR(INDEX(bdd,SMALL(IF(dates&heure=$D$2&$D$5,ROW(dates)),ROW($A6)),COLUMN(D:D)),"")} | H13: {=IFERROR(INDEX(bdd,SMALL(IF(dates&heure=$D$2&$D$5,ROW(dates)),ROW($A6)),COLUMN(E:E)),"")} | Q13: {=OFFSET(Clients!A$1,MATCH(0,COUNTIF(Q$1:Q12,dates),0),)} -> #N/A
D14: {=IFERROR(INDEX(bdd,SMALL(IF(dates&heure=$D$2&$D$5,ROW(dates)),ROW($A7)),COLUMN(A:A)),"")} | E14: {=IFERROR(INDEX(bdd,SMALL(IF(dates&heure=$D$2&$D$5,ROW(dates)),ROW($A7)),COLUMN(B:B)),"")} | F14: {=IFERROR(INDEX(bdd,SMALL(IF(dates&heure=$D$2&$D$5,ROW(dates)),ROW($A7)),COLUMN(C:C)),"")} | G14: {=IFERROR(INDEX(bdd,SMALL(IF(dates&heure=$D$2&$D$5,ROW(dates)),ROW($A7)),COLUMN(D:D)),"")} | H14: {=IFERROR(INDEX(bdd,SMALL(IF(dates&heure=$D$2&$D$5,ROW(dates)),ROW($A7)),COLUMN(E:E)),"")} | Q14: {=OFFSET(Clients!A$1,MATCH(0,COUNTIF(Q$1:Q13,dates),0),)} -> #N/A
D15: {=IFERROR(INDEX(bdd,SMALL(IF(dates&heure=$D$2&$D$5,ROW(dates)),ROW($A8)),COLUMN(A:A)),"")} | E15: {=IFERROR(INDEX(bdd,SMALL(IF(dates&heure=$D$2&$D$5,ROW(dates)),ROW($A8)),COLUMN(B:B)),"")} | F15: {=IFERROR(INDEX(bdd,SMALL(IF(dates&heure=$D$2&$D$5,ROW(dates)),ROW($A8)),COLUMN(C:C)),"")} | G15: {=IFERROR(INDEX(bdd,SMALL(IF(dates&heure=$D$2&$D$5,ROW(dates)),ROW($A8)),COLUMN(D:D)),"")} | H15: {=IFERROR(INDEX(bdd,SMALL(IF(dates&heure=$D$2&$D$5,ROW(dates)),ROW($A8)),COLUMN(E:E)),"")} | Q15: {=OFFSET(Clients!A$1,MATCH(0,COUNTIF(Q$1:Q14,dates),0),)} -> #N/A
D16: {=IFERROR(INDEX(bdd,SMALL(IF(dates&heure=$D$2&$D$5,ROW(dates)),ROW($A9)),COLUMN(A:A)),"")} | E16: {=IFERROR(INDEX(bdd,SMALL(IF(dates&heure=$D$2&$D$5,ROW(dates)),ROW($A9)),COLUMN(B:B)),"")} | F16: {=IFERROR(INDEX(bdd,SMALL(IF(dates&heure=$D$2&$D$5,ROW(dates)),ROW($A9)),COLUMN(C:C)),"")} | G16: {=IFERROR(INDEX(bdd,SMALL(IF(dates&heure=$D$2&$D$5,ROW(dates)),ROW($A9)),COLUMN(D:D)),"")} | H16: {=IFERROR(INDEX(bdd,SMALL(IF(dates&heure=$D$2&$D$5,ROW(dates)),ROW($A9)),COLUMN(E:E)),"")} | Q16: {=OFFSET(Clients!A$1,MATCH(0,COUNTIF(Q$1:Q15,dates),0),)} -> #N/A
D17: {=IFERROR(INDEX(bdd,SMALL(IF(dates&heure=$D$2&$D$5,ROW(dates)),ROW($A10)),COLUMN(A:A)),"")} | E17: {=IFERROR(INDEX(bdd,SMALL(IF(dates&heure=$D$2&$D$5,ROW(dates)),ROW($A10)),COLUMN(B:B)),"")} | F17: {=IFERROR(INDEX(bdd,SMALL(IF(dates&heure=$D$2&$D$5,ROW(dates)),ROW($A10)),COLUMN(C:C)),"")} | G17: {=IFERROR(INDEX(bdd,SMALL(IF(dates&heure=$D$2&$D$5,ROW(dates)),ROW($A10)),COLUMN(D:D)),"")} | H17: {=IFERROR(INDEX(bdd,SMALL(IF(dates&heure=$D$2&$D$5,ROW(dates)),ROW($A10)),COLUMN(E:E)),"")} | Q17: {=OFFSET(Clients!A$1,MATCH(0,COUNTIF(Q$1:Q16,dates),0),)} -> #N/A
Q18: {=OFFSET(Clients!A$1,MATCH(0,COUNTIF(Q$1:Q17,dates),0),)} -> #N/A
Q19: {=OFFSET(Clients!A$1,MATCH(0,COUNTIF(Q$1:Q18,dates),0),)} -> #N/A
Q20: {=OFFSET(Clients!A$1,MATCH(0,COUNTIF(Q$1:Q19,dates),0),)} -> #N/A
Q21: {=OFFSET(Clients!A$1,MATCH(0,COUNTIF(Q$1:Q20,dates),0),)} -> #N/A
Q22: {=OFFSET(Clients!A$1,MATCH(0,COUNTIF(Q$1:Q21,dates),0),)} -> #N/A
Q23: {=OFFSET(Clients!A$1,MATCH(0,COUNTIF(Q$1:Q22,dates),0),)} -> #N/A
Q24: {=OFFSET(Clients!A$1,MATCH(0,COUNTIF(Q$1:Q23,dates),0),)} -> #N/A
Q25: {=OFFSET(Clients!A$1,MATCH(0,COUNTIF(Q$1:Q24,dates),0),)} -> #N/A
Q26: {=OFFSET(Clients!A$1,MATCH(0,COUNTIF(Q$1:Q25,dates),0),)} -> #N/A
Q27: {=OFFSET(Clients!A$1,MATCH(0,COUNTIF(Q$1:Q26,dates),0),)} -> #N/A
Q28: {=OFFSET(Clients!A$1,MATCH(0,COUNTIF(Q$1:Q27,dates),0),)} -> #N/A
Q29: {=OFFSET(Clients!A$1,MATCH(0,COUNTIF(Q$1:Q28,dates),0),)} -> #N/A
... Q39: {=OFFSET(Clients!A$1,MATCH(0,COUNTIF(Q$1:Q38,dates),0),)} -> #N/A
