Workbook

Sheet résumé
A1: Résumé d'analyse de condition physique
A6: Laurent Dombrowicz
A7: =TODAY() -> 43430
A9: =IFERROR("La moyenne des onze indicateurs de la condition physique est "&IF(coach!X15>2,"très bonne, bien au-dessus ",IF(coach!X15>1.1,"bonne, au-dessus ",IF(coach!X15>0.9,"correcte, proche ",IF(coach!X15<0.9,"en-dessous ",))))&"des références, à "&ROUND(coach!X15*100,0)&"% des valeurs normatives"&IF(AND(coach!X15>coach!X16,coach!X16<>0),", en progrès depuis le premier test",IF(AND(coach!X15<coach!X16,coach!X16<>0),", en replis depuis le premier test",""))&". Les performances mesurés pour les différentes qualités physiques sont "&IF(coach!Z15/coach!X15>0.75,"très hétérogènes",IF(coach!Z15/coach!X15>0.75,"hétérogènes",IF(coach!Z15/coach!X15>0.5,"plutôt hétérogènes",IF(coach!Z15/coach!X15>0.25,"plutôt équilibrées",IF(coach!Z15/coach!X15<0.25,"équilibrées",)))))&" avec un écart moyen de plus ou moins "&ROUND(coach!Z15*100,0)&"%.","") -> La moyenne des onze indicateurs de la condition physique est en-dessous des références, à 60% des valeurs normatives. Les performances mesurés pour les différentes qualités physiques sont plutôt hétérogènes avec un écart moyen de plus ou moins 36%.
A14: Les aspects de la condition physique les moins bien adaptés sont par ordre de priorité:
A15: ="- "&HLOOKUP(SMALL(coach!C22:Q22,1),coach!C22:Q23,2,) -> - La force du haut du corps et plus particulièrement des bras
A16: ="- "&HLOOKUP(SMALL(coach!C22:O22,2),coach!C22:O23,2,) -> - La souplesse de l'épaule et de la cage thoracique
A17: ="- "&HLOOKUP(SMALL(coach!C22:O22,3),coach!C22:O23,2,) -> - La souplesse des jambes et du bas du dos
A18: ="- "&HLOOKUP(SMALL(coach!C22:O22,4),coach!C22:O23,2,) -> - L'équilibre sur la jambe gauche
A25: Ratio performance sur valeur de référence:
A36: =IFERROR(IF(OR(coach!C15="",coach!D15="",coach!F15="",coach!G15="",coach!I15="",coach!J15="",coach!L15="",coach!M15=""),"","L'analyse de l'emploi du temps hebdomadaire fait apparître un temps maximum immobile "&IF(coach!R15>1," trop long par rapport aux recommandations ",IF(coach!R15<1,"qui correspond aux recommandations",))&". La quantité hebdomadaire d'activité physique "&IF(coach!T15>1.75,"correspond à la plage haute",IF(coach!T15>1,"correspond à la plage basse des recommandations",IF(coach!T15<1,"est en dessous des recommandations",)))&". Les sessions d'activités au cours de la semaine"&IF(coach!S15<2," sont suffisamment fréquentes",IF(coach!S15>=2," ne sont pas assez fréquentes",))&IF(coach!S15=0," car l'emploi du temps ne fait apparaître aucun"," car l'emploi du temps fait apparaître jusqu'à "&coach!S15)&" jour"&IF(coach!S15<2,"","s")&" sans session d'au moins 10 minutes d'effort continu."&" L'intensité des activités pratiquées "&IF(AND(coach!V15/SUM(coach!U15:W15)>0.2,coach!W15/SUM(coach!U15:W15)>0.2),"est bien diversifiée. ",IF(coach!W15/SUM(coach!U15:W15)<0.2,"est peu diversifée, car les activités intenses sont trop peu représentées. ",IF(coach!V15/SUM(coach!U15:W15)<0.2,"est peu diversifée, car les activités modérées sont trop peu représentées. ")))),"")&"Les pages suivantes font le détail de ces analyses." -> L'analyse de l'emploi du temps hebdomadaire fait apparître un temps maximum immobile qui correspond aux recommandations. La quantité hebdomadaire d'activité physique est en dessous des recommandations. Les sessions d'activités au cours de la semaine sont suffisamment fréquentes car l'emploi du temps fait apparaître jusqu'à 1 jour sans session d'au moins 10 minutes d'effort continu. L'intensité des activités pratiquées est peu diversifée, car les activités intenses sont trop peu représentées. Les pages suivantes font le détail de ces analyses.
A44: L'endurance, aussi appelée la capacité cardio-pulmonaire
F72: référence | I72: =IF(coach!AR4="","",coach!AR4) | L72: =coach!AR3 -> 43425
E73: consommation maximale d'oxygène | G73: =coach!O2 -> 33 | J73: =IF(LARGE(coach!A3:A12,1)=SMALL(coach!A3:A12,1),"",IF(VLOOKUP(SMALL(coach!A3:A12,1),coach!A3:W12,15,)="","NC",VLOOKUP(SMALL(coach!A3:A12,1),coach!A3:W12,15,))) | L73: =IF(VLOOKUP(LARGE(coach!A3:A12,1),coach!A3:W12,15,)="","NC",VLOOKUP(LARGE(coach!A3:A12,1),coach!A3:W12,15,)) -> 31.5 | M73: =VLOOKUP(LARGE(coach!A3:A12,1),coach!A3:W12,15,) -> 31.5
E74: indice d'endurance | G74: =coach!Q2 -> -8 | J74: =IF(LARGE(coach!A3:A12,1)=SMALL(coach!A3:A12,1),"",IF(VLOOKUP(SMALL(coach!A3:A12,1),coach!A3:W12,17,)="","NC",VLOOKUP(SMALL(coach!A3:A12,1),coach!A3:W12,17,))) | L74: =IF(VLOOKUP(LARGE(coach!A3:A12,1),coach!A3:W12,17,)="","NC",VLOOKUP(LARGE(coach!A3:A12,1),coach!A3:W12,17,)) -> -10
A77: =IF(coach!O18="","- L'estimation du VO2max, c'est à dire la quantité maximale d'oxygène consommée lors d'un effort intense, ne peux pas être calculée car les tests cardio n'ont pas été réalisés.","- Le VO2max, c'est à dire la quantité maximale d'oxygène consommée lors d'un effort intense, est estimé à "&coach!O18&"ml/min/kg. Il est "&IF(coach!O15>1.1,"supérieur ",IF(coach!O15>0.9,"similaire ","inférieur "))&"aux valeurs normatives"&IF(coach!O17="","",IF(coach!O17=0,", stable, ",IF(coach!O17>0,", en progrès de "&ROUND(coach!O17*100,0)&"% ",IF(coach!O17<0,", en recul de "&-ROUND(coach!O17*100,0)&"% ",))))&IF(coach!O17="","","comparé à la première évaluation")&".") -> - Le VO2max, c'est à dire la quantité maximale d'oxygène consommée lors d'un effort intense, est estimé à 31,5ml/min/kg. Il est similaire aux valeurs normatives.
A81: =IF(coach!Q18="","- L'indice d'endurance ne peut être mesuré car les tests cardio qu'il nécessite n'ont pas été réalisés.","- L'indice d'endurance à "&coach!Q18&" révèle "&IF(coach!Q18<coach!Q2,"la difficulté significative ","la bonne aptitude ")&"à matenir un niveau d'intensité relative élevé dans la durée. Il est "&IF(coach!Q18=coach!Q2,"égal à ",IF(coach!Q18>coach!Q2,"meilleur que ","inferieur "))&"la valeur de référence"&IF(coach!Q17="","",IF(coach!Q17=0,", stable ",IF(coach!Q17>0,", en progrès de "&ROUND(coach!Q17*100,0)&"% ",IF(coach!Q17<0,", en recul de "&-ROUND(coach!Q17*100,0)&"% ",))))&IF(coach!Q17<>"","comparé au premier test","")&".") -> - L'indice d'endurance à -10 révèle la difficulté significative à matenir un niveau d'intensité relative élevé dans la durée. Il est inferieur la valeur de référence.
A88: L'équilibre et la souplesse
F109: référence | I109: =IF(coach!AR4="","",coach!AR4) | L109: =coach!AR3 -> 43425
E110: équilibre de la jambe droite | F110: =coach!F2 -> 60 | I110: =IF(LARGE(coach!A3:A12,1)=SMALL(coach!A3:A12,1),"",IF(VLOOKUP(SMALL(coach!A3:A12,1),coach!A3:W12,6,)="","NC",VLOOKUP(SMALL(coach!A3:A12,1),coach!A3:W12,6,))) | L110: =IF(VLOOKUP(LARGE(coach!A3:A12,1),coach!A3:W12,6,)="","NC",VLOOKUP(LARGE(coach!A3:A12,1),coach!A3:W12,6,)) -> 35
E111: équilibre de la jambe gauche | F111: =coach!G2 -> 60 | I111: =IF(LARGE(coach!A3:A12,1)=SMALL(coach!A3:A12,1),"",IF(VLOOKUP(SMALL(coach!A3:A12,1),coach!A3:W12,7,)="","NC",VLOOKUP(SMALL(coach!A3:A12,1),coach!A3:W12,7,))) | L111: =IF(VLOOKUP(LARGE(coach!A3:A12,1),coach!A3:W12,7,)="","NC",VLOOKUP(LARGE(coach!A3:A12,1),coach!A3:W12,7,)) -> 34
E112: souplesse des épaules et du thorax | F112: =coach!C2 -> 0.01 | I112: =IF(LARGE(coach!A3:A12,1)=SMALL(coach!A3:A12,1),"",IF(VLOOKUP(SMALL(coach!A3:A12,1),coach!A3:W12,3,)="","NC",VLOOKUP(SMALL(coach!A3:A12,1),coach!A3:W12,3,))) | L112: =IF(VLOOKUP(LARGE(coach!A3:A12,1),coach!A3:W12,3,)="","NC",VLOOKUP(LARGE(coach!A3:A12,1),coach!A3:W12,3,)) -> -20
E113: souplesse des jambes et du dos | F113: =coach!D2 -> -5 | I113: =IF(LARGE(coach!A3:A12,1)=SMALL(coach!A3:A12,1),"",IF(VLOOKUP(SMALL(coach!A3:A12,1),coach!A3:W12,4,)="","NC",VLOOKUP(SMALL(coach!A3:A12,1),coach!A3:W12,4,))) | L113: =IF(VLOOKUP(LARGE(coach!A3:A12,1),coach!A3:W12,4,)="","NC",VLOOKUP(LARGE(coach!A3:A12,1),coach!A3:W12,4,)) -> -22
A116: =IF(OR(coach!F18="",coach!G18=""),"- Les capacités proprioceptives n'ont pas pu être mesurées car les tests n'ont pas été réalisés.","- L'équilibre est maintenu "&coach!F18&" secondes en appui sur le pied droit"&IF(coach!F17="","",IF(coach!F17=0,". Cette performance est identique au ",IF(coach!F17>0,". C'est "&ROUND((coach!F17)*100,0)&"% de plus qu'au",IF(coach!F17<0,". C'est "&-ROUND((coach!F17)*100,0)&"% de moins qu'au",))))&IF(coach!F17="",""," premier test")&". Le pied gauche tient l'équilibre "&coach!G18&" secondes. "&IF(coach!G17="","",IF(coach!G17=0," Ce résultat est stable ",IF(coach!G17>0," Cela représente "&ROUND((coach!G17)*100,0)&"% de plus",IF(coach!G17<0,"Cela représente "&-ROUND((coach!G17)*100,0)&"% de moins",))))&IF(coach!G17="",""," par rapport au premier test. ")&IF(OR(AND(coach!F15>1.1,coach!G15>1.1),AND(coach!F15<1.1,coach!G15<1.1)),"La capacité proprioceptive, plutôt symétrique","La capacité proprioceptive, plutôt asymétrique")&IF(AND(coach!F15>1.1,coach!G15>1.1),", est supérieure à la norme pour les deux côtés",IF(coach!F15>1.1,", est supérieure à la norme pour le côté droit",IF(coach!G15>1.1,", est supérieure à la norme pour le côté gauche",IF(AND(coach!F15>0.9,coach!G15>0.9),", correspond à la norme pour les deux côtés",IF(coach!F15>0.9,", correspond à la norme pour le côté droit",IF(coach!G15>0.9,", correspond à la norme pour le côté gauche",IF(AND(coach!F15<0.9,coach!G15<0.9),", est inférieur à la norme pour les deux côtés","")))))))&".") -> - L'équilibre est maintenu 35 secondes en appui sur le pied droit. Le pied gauche tient l'équilibre 34 secondes. La capacité proprioceptive, plutôt symétrique, est inférieur à la norme pour les deux côtés.
A121: =IF(coach!C18="","- La souplesse des membres superieurs n'a pu être évaluée car les tests n'ont pas pu être effectués.","- La souplesse des membres supérieurs"&IF(coach!C17="","",IF(coach!C17>0.02,", en progrès de "&ROUND(coach!C17,1)&"cm ",IF(coach!C17>-0.02,", stable ",IF(coach!C17<-0.02,", en repli de "&-ROUND(coach!C17,1)&"cm "))))&IF(coach!C17="","","depuis le début,")&IF(coach!C15="","",IF(coach!C15>0.2+coach!C2," est meilleure que la moyenne.",IF(coach!C15<coach!C2-0.2," est moins bonne que la moyenne."," correspond à la moyenne.")))&" Le moins bon des deux côtés permet "&IF(coach!C18=0,"aux deux mains de se toucher",IF(coach!C18>0,"aux deux mains de se chevaucher de "&coach!C18&"cm.",IF(coach!C18<0,"aux extrémités des deux mains de s'approcher à "&-coach!C18&"cm l'une de l'autre.")))) -> - La souplesse des membres supérieurs est moins bonne que la moyenne. Le moins bon des deux côtés permet aux extrémités des deux mains de s'approcher à 20cm l'une de l'autre.
A125: =IF(coach!D18="","- La souplesse des membres inférieurs n'a pu être calculée car les tests n'ont pas été réalisés.","- Au test de souplesse des membres inférieurs, l'extrémité des doigts "&IF(coach!D18=0," touche les orteils.",IF(coach!D18>0,"dépasse les orteils de "&coach!D18&"cm.",IF(coach!D18<0,"s'approche à "&-coach!D18&"cm des orteils.")))&IF(coach!D18>coach!D2," C'est mieux que la moyenne.",IF(coach!D15<coach!D2," C'est moins que la moyenne.",))&IF(coach!D17="","",IF(coach!D17>0.2," Ce résultat s'est amélioré de "&ROUND(coach!D17,1)&"cm depuis la première évaluation. ",IF(coach!D17<-0.2," Ce résultat s'est déterioré de "&-ROUND(coach!D17,1)&"cm depuis la première évaluation. "," Ce résultat est identique à la première évaluation. ")))) -> - Au test de souplesse des membres inférieurs, l'extrémité des doigts s'approche à 22cm des orteils. C'est moins que la moyenne.
A132: La force
F152: référence | I152: =IF(coach!AR4="","",coach!AR4) | L152: =coach!AR3 -> 43425
E153: force des membres supérieurs | F153: =coach!M2 -> 6 | I153: =IF(LARGE(coach!A3:A12,1)=SMALL(coach!A3:A12,1),"",IF(VLOOKUP(SMALL(coach!A3:A12,1),coach!A3:W12,13,)="","NC",VLOOKUP(SMALL(coach!A3:A12,1),coach!A3:W12,13,))) | L153: =IF(VLOOKUP(LARGE(coach!A3:A12,1),coach!A3:W12,13,)="","NC",VLOOKUP(LARGE(coach!A3:A12,1),coach!A3:W12,13,)) -> 0.6
E154: force des membres inférieurs | F154: =coach!I2 -> 19 | I154: =IF(LARGE(coach!A3:A12,1)=SMALL(coach!A3:A12,1),"",IF(VLOOKUP(SMALL(coach!A3:A12,1),coach!A3:W12,9,)="","NC",VLOOKUP(SMALL(coach!A3:A12,1),coach!A3:W12,9,))) | L154: =IF(VLOOKUP(LARGE(coach!A3:A12,1),coach!A3:W12,9,)="","NC",VLOOKUP(LARGE(coach!A3:A12,1),coach!A3:W12,9,)) -> 16
E155: force de la région abdominale | F155: =coach!L2 -> 120 | I155: =IF(LARGE(coach!A3:A12,1)=SMALL(coach!A3:A12,1),"",IF(VLOOKUP(SMALL(coach!A3:A12,1),coach!A3:W12,12,)="","NC",VLOOKUP(SMALL(coach!A3:A12,1),coach!A3:W12,12,))) | L155: =IF(VLOOKUP(LARGE(coach!A3:A12,1),coach!A3:W12,12,)="","NC",VLOOKUP(LARGE(coach!A3:A12,1),coach!A3:W12,12,)) -> 98
E156: force de la région lombaire | F156: =coach!J2 -> 90 | I156: =IF(LARGE(coach!A3:A12,1)=SMALL(coach!A3:A12,1),"",IF(VLOOKUP(SMALL(coach!A3:A12,1),coach!A3:W12,10,)="","NC",VLOOKUP(SMALL(coach!A3:A12,1),coach!A3:W12,10,))) | L156: =IF(VLOOKUP(LARGE(coach!A3:A12,1),coach!A3:W12,10,)="","NC",VLOOKUP(LARGE(coach!A3:A12,1),coach!A3:W12,10,)) -> 79
A159: =IF(coach!M18="","- La mesure de la force des membres supérieurs n'a pu être effectuée car les évaluations n'ont pas été conduites.","- Le nombre maximum de pompes réalisées en 30 secondes est "&coach!M18&". Le niveau de force des membres supérieurs qu'il reflète "&IF(coach!M15<0.9,"est inférieur",IF(coach!M15>1.1,"est supérieur","correspond"))&" à la moyenne"&IF(coach!M17="","",". Il est "&IF(coach!M17=0,"stable",IF(coach!M17>0,"en progrès de "&ROUND(coach!M17*100,0)&"%",IF(coach!M17,"en recul de "&-ROUND(coach!M17*100,0)&"%",))))&IF(coach!M17="",""," comparé au premier score")&".") -> - Le nombre maximum de pompes réalisées en 30 secondes est 0,6. Le niveau de force des membres supérieurs qu'il reflète est inférieur à la moyenne.
A163: =IF(coach!I18="","- Le calcul de la force des membres inférieurs n'a pu être réalisée car les mesures n'ont pas été effectuées","- La mesure de la force des membres inférieurs, avec "&coach!I18&" levers en 30 secondes"&IF(OR(AND(coach!I15>1.1,coach!M15>1.1),AND(coach!I15<0.9,coach!M15<0.9)),", est elle aussi",", est")&IF(coach!I15<0.9," inférieure",IF(coach!I15>1.1," supérieure"," similaire"))&" à la moyenne"&IF(coach!I17="","",IF(coach!I17=0,". Elle est stable",IF(coach!I17>0,". Elle est en progrès de "&ROUND(coach!I17*100,0)&"%",IF(coach!I17<0,". Elle est en recul de "&-ROUND(coach!I17*100,0)&"%",))))&IF(coach!I17="",""," par rapport au premier test")&".") -> - La mesure de la force des membres inférieurs, avec 16 levers en 30 secondes, est elle aussi inférieure à la moyenne.
A166: =IF(OR(coach!J18="",coach!L18=""),"- L'estimation du rapport de forces entre les muscles de la région lombaire et ceux de la sangle abdominale n'a pu être calculée car les tests n'ont pas été réalisés.","- Les tests réalisés sur la capacité abdominale et lombaire traduisent un "&IF(OR(AND(coach!J15>1,coach!L15>1),AND(coach!J15<1,coach!L15<1)),"niveau de force plutôt équilibré","niveau de force déséquilibré")&" entre les deux régions.") -> - Les tests réalisés sur la capacité abdominale et lombaire traduisent un niveau de force plutôt équilibré entre les deux régions.
A169: =IF(coach!L18="","- L'estimation de la force de la sangle abdominale n'est pas possible car les tests n'ont pas été réalisés.","- La sangle abdominale a permis le maintien de la flexion du tronc pendant "&coach!L18&" secondes, c'est "&IF(coach!L15>1.1,"plus que",IF(coach!L15<0.9,"moins que","proche de"))&" la moyenne"&IF(coach!L17="","",IF(coach!L17=0,". Son score est stable",IF(coach!L17>0,". Ce score est en progrès de "&ROUND(coach!L17*100,0)&"%",IF(coach!L17<0,". Ce score est en recul de "&-ROUND(coach!L17*100,0)&"%",))))&IF(coach!L17="",""," depuis le début")&".") -> - La sangle abdominale a permis le maintien de la flexion du tronc pendant 98 secondes, c'est moins que la moyenne.
A172: =IF(coach!J18="","- L'estimation de la force de la région lombaire n'est pas possible car les tests n'ont pas été réalisés.","- La force du dos a permis le maintien de l'extension dorsale pendant "&coach!J18&" secondes, c'est "&IF(coach!J15>1.1,"plus que",IF(coach!J15<0.9,"moins que","proche de"))&" la moyenne"&IF(coach!J17="","",IF(coach!J17=0,". Ce résultat est stable",IF(coach!J17>0,". Ce résultat est en progrès de "&ROUND(coach!J17*100,0)&"%",IF(coach!J17<0,". Ce résultat est en inferieur de "&-ROUND(coach!J17*100,0)&"%",))))&IF(coach!J17="",""," par rapport à la première évaluation")&".") -> - La force du dos a permis le maintien de l'extension dorsale pendant 79 secondes, c'est moins que la moyenne.
A176: Emploi du temps hebdomadaire d'activités physiques
A178: Durée maximum d'immobilité ininterrompue (heures)
A181: ="Lorsqu'il est sédentaire, assis par exemple, le corps dépense aussi peu d'énergie qu'au repos. Cette immobilité, lorsqu'elle est prolongée, favorise les douleurs, le diabète, l'obésité, l'hypertension, certains cancers et d'autres maladies chroniques."&" Même une activité physique régulière ne suffit pas à en compenser les effets néfastes. Selon l'OMS, être assis plus de 3 heures par jour serait responsable de 400000 décès par an. "&IF(coach!R18="","Votre temps maximum immobile n'a pu être comparé aux recommandations car l'estimation a pu être réalisée.","Vous passez chaque jour jusqu'à "&coach!R18&" heures assis. Il est recommandé de se lever dès que possible, même quand ce n'est pas nécessaire, au moins une minute toutes les heures.") -> Lorsqu'il est sédentaire, assis par exemple, le corps dépense aussi peu d'énergie qu'au repos. Cette immobilité, lorsqu'elle est prolongée, favorise les douleurs, le diabète, l'obésité, l'hypertension, certains cancers et d'autres maladies chroniques. Même une activité physique régulière ne suffit pas à en compenser les effets néfastes. Selon l'OMS, être assis plus de 3 heures par jour serait responsable de 400000 décès par an. Vous passez chaque jour jusqu'à 1 heures assis. Il est recommandé de se lever dès que possible, même quand ce n'est pas nécessaire, au moins une minute toutes les heures.
...

Sheet Listes
A1: SEX | B1: Intensité | C1: durée (mn) | D1: Prénom Nom
A3: Homme | B3: immobile | C3: 5 | D3: Chantal Istolainen
A4: Femme | B4: facile | C4: 10 | D4: Eric Giuily
B5: modéré | C5: 15 | D5: François Pinatel
B6: intense | C6: 20 | D6: Isabelle Mouronval
B7: maximum | C7: 25 | D7: Julien Ondedieu
C8: 30 | D8: Karine Lapeyre
C9: 35 | D9: Karine Maujean
C10: 40 | D10: Laurent Dombrowicz
C11: 45 | D11: Marie-Christine Joubeaud
C12: 50 | D12: Nicole Prud'homme
C13: 55 | D13: Onel Lavandier
C14: 60 | D14: Pascale Giuily
C15: 70 | D15: Pascale Krief
C16: 80 | D16: Philippe Lafolie
C17: 90 | D17: Sandra Lieven
C18: 105 | D18: Yves Joubeaud
C19: 120
C20: 135
C21: 150
C22: 165
C23: 180
C24: 240
C25: 300
C26: 360

Sheet tests
A1: prénom nom | B1: ddn | C1: genre | D1: date de test | E1: CR | F1: souplesse épaule | G1: souplesse jambes + dos | H1: équilibre sur droite | I1: équilibre sur gauche | J1: force jambes | K1: force dos | L1: force abdos | M1: force bras | N1: Pmax cardio | O1: t lim Pmax cardio | P1: IE | Q1: moyenne immobilité max | R1: periode max inactif | S1: recos | T1: - | U1: ≈ | V1: +
A2: Yves Joubeaud | B2: 16394 | C2: homme | D2: 42374 | E2: Yves Joubeaud : Relations familiales apaisée, charge de travail +++ Histoire récente : Bilan sanguin soulignant une faiblesse en HDL (0,47g/l contre >0,6 attendue). Dernier test d’efforts : Pas d’arythmie, décalages de segments, stenose soignée par un stent IVA distale . Traitement : cardegic 75mg, crestor 5mg, Triatec 5mg, plavix, hyperten. Test d’effort V30 30w/2min plafonné à 150w. Attente : santé. Force membres inf : faiblesse jambes droites – 13 levers de chaise en 30s Abdos : 24s mains sur les genoux. Dorso-lombaire 1mn Tronc/membres sup : 5 pompes Epaules/cage thoracique : Bonne souplesse latérale, moins bonne verticalement Flexion de tronc/hanche : mains à 14cm coté droit, 17cm coté gauche Chevilles raides Périnée présentant un manque de force et d’endurance Habitudes sportives : 1golf/45mn de course hebdo. 2x15mn de marche rapide par jours Divers : S’endort rapidement, se réveil dans la nuit fréquemment. | G2: -17 | J2: 13 | K2: 60 | L2: 24 | M2: 5 | N2: =9*3.5 -> 31.5 | O2: 4 | P2: -11.7
A3: François Pinatel | B3: 26867 | C3: homme | D3: 42858 | E3: Course à pieds : 2 fois le marathon de Paris. > 4h20 Projet 1 : apprendre à mieux m’entrainer. Retrouver la forme Projet 2 : Compétition Habitudes beaucoup d’entrainement cardio. Moyen : s’entrainer 3 fois par semaines Prefere courir avec du fractionné. Antécédants : Insuffisance veineuses. Tendinite au fessier syndrome sciatalgique ou pyramidale. Entorse de cheville surtout à gauche régulière. Releveur externe. Douleurs aux mollets surtout à droite aorès les entrainements long/intenses qui durent plus de 48h dans la region des gastronemiens. Affaissement de l’arche interne coté gauge Endurance lombaire 1’58s Endurance abdos 3 mn bras croisés main sur la poitrine Force des membres inferieurs 20mvts en 30s Equilibre pied droit 30s yeux ouverts. 28s yeux ouverts droite Yeux fermés 2s à gauche 5s à droite Souplesse chaine posterieur 8cm au dessus des pieds après 30s immobile Bonne souplesse des quadriceps (paume des mains au sol) Très bonne souplesse thoracique (au sol) | G3: -8 | H3: 28 | I3: 30 | J3: 20 | K3: 118 | L3: 180 | M3: 0 | N3: 47.25 | O3: 4 | P3: -7.7
A4: Karine Maujean | B4: 25606 | C4: femme | D4: 42907 | E4: Karine Maujean 7/2/1970 • Raison n°1 diagnostiquée HTA probable • Raison n°2 Etre en forme pour stabiliser la composition corporelle, pour être moins essouffler • Antécédant • Risques : douleurs articulaires aux genoux et chevilles (particulièrement lors de la marche ou en état de fatigue). Antécédants douleurs régulières aux trapèzes • Habitude : parfois gym+stretching samedi et marche active en dessous du SV1 plus d’1h le dimanche • +2x8mn marche chaque jours de la semaine en dessous du SV1 • Divers : petite à bien aimé faire de la natation. • Attente cardio Test dorso-lombaire 1’39 Test abdos 2’18 Quadri 14 limite 15 Droit 5s gauche 9s yeux fermé, 10s yeux ouverts. Souplesse ischio 2emes phalanges au sol Epaule mains au sol | G4: 2 | H4: 10 | I4: 10 | J4: 14 | K4: 90 | L4: 138 | N4: =11*3.5 -> 38.5 | O4: 2 | P4: -8.3 | Q4: 2 | R4: 0 | S4: 125 | T4: 160 | U4: 45 | V4: 0 | W4: 0
A5: Karine Lapeyre | B5: 21916 | C5: femme | D5: 43089 | F5: -4 | G5: -0.5 | H5: 120 | I5: 120 | J5: 15 | K5: 90 | L5: 183 | M5: 0 | N5: 38.5 | O5: 1.5 | P5: -16 | Q5: 6 | R5: 2 | S5: 200 | T5: 10 | U5: 100 | V5: 1 | W5: 0
A6: Julien Ondedieu | B6: 30348 | C6: homme | D6: 43101 | F6: 3 | G6: 3 | H6: 3 | I6: 3 | J6: 3 | K6: 3 | L6: 3 | M6: 3 | N6: 3 | O6: 3 | P6: 3 | Q6: 1 | R6: 2 | S6: 200 | T6: 0 | U6: 200 | V6: 0 | W6: 0
A7: Nicole Prud'homme | B7: 19360 | C7: femme | D7: 43110 | E7: Nicole Prud’homme 64 an apprendre à courir respirer les freins la perceverance, à cause du travail, la crainte pas de douleurs articulaires acti pratiqués golf, randonné, yoga, gym antécédents médicaux: hyperthyroïdie non symptômes 176 avenue Charles degaulle, 11h45 Équilibre gauche 3mn Équilibre droit 3mn 13s gauche 4s droit 20 levers de chaise 1:50 dos 1:40 abdos 0 pompes 2h Max immobile du lundi au vendredi Lundi et mardi 15 minutes de marche, jeudi et vendredi une heure de marche Deux heures de marche les samedis et dimanches Une heure de golf le dimanche Teste sur plastron: 5,5 cm après les orteils Coude droit en haut land ex dépasse de 200 pris 2,5 cm l’autre Coude gauche en haut 5 cm entre les deux index | F7: -5 | G7: 5.5 | H7: 180 | I7: 180 | J7: 19 | K7: 110 | L7: 100 | M7: 0 | N7: =9.5*3.5 -> 33.25 | O7: 3 | P7: -10.2 | Q7: 2 | R7: 0 | S7: 292.5 | T7: 450 | U7: 0 | V7: 45 | W7: 0
A8: Pascale Giuily | B8: 19445 | C8: femme | D8: 43110 | E8: Pascale Giuily Abdos 3:06 Lombaire 1:22 Équilibre gauche yeux ouvert 1:29 Yeux fermés 6s Équilibre droit yeux ouvert 2:00 Yeux fermés 8s 20 levers de chaise en 30s 1 pompe 2cm après les orteils 2cm à droite en haut -5cm à gauche en haut | F8: -5 | G8: 2 | H8: 120 | I8: 89 | J8: 20 | K8: 82 | L8: 186 | M8: 1 | Q8: 2 | R8: 0 | S8: 277.5 | T8: 420 | U8: 0 | V8: 45 | W8: 0
A9: Eric Giuily | B9: 19034 | C9: homme | D9: 43112 | E9: Eric giuilly 12/01/18 1:54 s sur gauche 2:00 s sur droite 2:03 abdo 1:55 dos 12 levers de chaise 3 pompes limite par le triceps côté gauche 22 cm derrière les orteils Coude gauche en haut 1 cm entre les deux mains Coude droit en haut 6 cm entre les index, la main gauche ne monte pas | F9: -6 | G9: -22 | H9: 120 | I9: 114 | J9: 12 | K9: 115 | L9: 123 | M9: 3 | Q9: 1 | R9: 0 | S9: 367.5 | T9: 420 | U9: 90 | V9: 45
A10: François Pinatel | B10: 26867 | C10: homme | D10: 43112 | E10: Objectif marathon 2019 Avec réduction des douleurs et du poids Et dessiner le tronc Diversifier les entraînements 4 séances par semaine Rigueur dans l’entraînement, j’ai apprécié le programme puis je ne savais plus ou j’en été et j’ai laché. Avoir le programme sur le téléphone 4 séances hebdo, 1 elliptique au cardio, 1 sur piste ensemble contenant du renforcement, 1 à 2 cardio Circuit training en salle pendant 30mn, Souplesse ischios et fessier 5mn par jours 30mn de circuit training en salle Force des membres inferieur 20 en 30 s 1 :35 pied droit par terre 57s pied gauche 1 :51s dos 4 :00s abdos -9cm au dessos coude droit en haut l’index dépasse de 6cm l’autre main coude gauche en haut l’index dépasse de 5cm l’autre main 9 pompes Rigueur dans l’entraînement, j’ai apprécié le programme puis je ne savais plus ou j’en été et j’ai laché. Avoir le programme sur le téléphone | F10: 5 | G10: -9 | H10: 95 | I10: 57 | J10: 20 | K10: 111 | L10: 240 | M10: 9 | N10: 50.75 | O10: 1.5 | P10: -20
A11: Karine Maujean | B11: 25606 | C11: femme | D11: 43118 | E11: Karine Maujean Teste sur place Dutronc 5 cm après les orteils. Cours de droit en haut 4 cm après l’index Coude gauche en haut 2 cm avant l’index 40 secondes teste abdo 1 33 sur le dos 21 enlevé de chaise 27 secondes pied gauche parterre Une minute 10 piédroit Karine : Commencer en renforcement par trois séries des deux exercices rotateurs internes et externes de l’humérus débuté par huit répétitions trois séries de fois par semaine. En cardio cinq fois par semaine avec comme indicateur le cardio fréquencemètre 10 minutes par session d’exercice quatre fois par semaine, 30 minutes une fois par semaine Tenir compte de l’état de forme possible selon les fluctuations et des symptômes d’anémie Chaise 2 × 10 secondes à hauteur intermédiaire, contraction allongé 10 × 3 secondes avec autant de récupération, à reproduire chaque jour. | F11: -2 | G11: 5 | H11: 70 | I11: 27 | J11: 20 | K11: 93 | L11: 40 | M11: 0 | N11: =12*3.5 -> 42 | O11: 2.5 | P11: -7.9 | Q11: 2 | R11: 0 | S11: 192.5 | T11: 160 | U11: 45 | V11: 45 | W11: 0
A12: Yves Joubeaud | B12: 16394 | C12: homme | D12: 43118 | E12: Yves Joubeaud 16 cm avant les orteils Coude gauche en haut 10 cm entre les deux index 18 cm coude droit en haut 43 secondes pied droit au sol 27 secondes pied gauche au sol Deux minutes 42 secondes abdos une minute 10 secondes dorsaux. 9,5 km heures comme vitesse Max aérobie 15 montée sur le teste chaise 10 pompes en 30 secondes | F12: -18 | G12: -16 | H12: 43 | I12: 27 | J12: 15 | K12: 70 | L12: 162 | M12: 10 | N12: =9.5*3.5 -> 33.25 | O12: 4 | P12: -9.3
A13: Onel Lavandier | B13: 32800 | C13: femme | D13: 43130 | E13: Ce qui est nouveau, c’est se lever toutes les heures : tentative, Ce qui est plus régulier c’est marcher davantage, pas facile quand on est fatigué ou à cause de la météo. 14 lever de chaise en 30 secondes Zéro pompe Une minute 10 sur le pied droit Une minute17 sur le pied gauche Souplesse du tronc, 20 cm avant les orteils 13 cm coude gauche en haut 20 cm coude droit en haut Dorso-lombaires 50 secondes Sur le teste des abdos 1mn 07 Vitesse Max aérobie : 8 km heures Une minute 30 à 8 km heures 7H-9= Préparation de Noa pour la crèche+ train et metro pour aller au boulot 20 mn sans phases de 10mn d’affilée. 9h-13h= Devant mon ordi interrompu par quelques allez retours au toilettes. 13-14 = Pause déjeuner (marche pour aller au RIE) 14H-18H= Devant mon bureau interrompu par quelques allez-retours au toilettes 18H-20H (ça dépend de l’heure à laquelle je finis) : je prends le métro et le train, ensuite je prends le bus et je marche 5 min. 2oi -Continuer de faire 10 minutes de marche en descendant une station avant tous les deux jours -Continuer de limiter la sédentarité l’immobilité prolongée à 1h -Traiter le mollet tous les jours 30 secondes par étirements, 30 secondes par compression deux une à trois fois sur chaque | F13: -20 | G13: -20 | H13: 70 | I13: 77 | J13: 14 | K13: 50 | L13: 67 | M13: 0 | N13: 28 | O13: 1.5 | P13: -21.6 | Q13: 2 | R13: 2 | S13: 62.5 | T13: 125 | U13: 0 | V13: 0 | W13: 0
A14: Karine Lapeyre | B14: 21916 | C14: femme | D14: 43199 | E14: Test cardio 12 km heures, dorso-lombaires deux minutes 12 secondes Droit 1:50 Gauche 1:30 1,5 cm après les orteils Coude droit en haut 0cm Abdos 2:30 17 levers de chaise Commencer en renforcement par trois séries des deux exercices rotateurs internes et externes de l’humérus débuté par huit répétitions trois séries de fois par semaine. En cardio cinq fois par semaine avec comme indicateur le cardio fréquencemètre 10 minutes par session d’exercice quatre fois par semaine, 30 minutes une fois par semaine Tenir compte de l’état de forme possible selon les fluctuations et des symptômes d’anémie | F14: -2 | G14: 1.5 | H14: 120 | I14: 120 | J14: 17 | K14: 132 | L14: 180 | M14: 0.3 | N14: =12*3.5 -> 42 | O14: 1.5 | P14: -14 | Q14: 1 | R14: 1 | S14: 290 | T14: 200 | U14: 50 | V14: 40 | W14: 0
A15: Philippe Lafolie | B15: 14977 | C15: homme | D15: 43255 | E15: Philippe Lafolie, 77 ans, prothèse des genoux des deux côtés posée en 2005 et 2008, légère cyphose cervicale, pas de lordose marquée. Pas d’autres antécédents déclarés. Des sensations douloureuses apparaissent côté gauche lorsque le genou est en mouvement d’extension, en appui sur sa face avant, pendant des pompes à genoux. Une douleur est décrite à l’identique lors de la montée des escaliers. Test d’effort de sécurité à demander. Tests: 10 levers de chaise en 30s 4 secondes maximum en équilibre sur le pied gauche 3 secondes maximum en équilibre sur le pied droit souplesse des membres inférieurs 23,5 cm avant les orteils souplesse du membre supérieur coude droit en haut 9,5 cm souplesse du membre supérieur gauche en haut 22 cm 2 minutes en gainage lombaire 45 secondes en gainage abdominal VMA estimée à 8 km/h. Analyse des habitudes : marche quotidienne environ 20 minutes par jour par morceaux de plus de 10 minutes. Projet ancien de marcher davantage dans le quartier qui n’a pas encore eu l’occasion d’être mis en oeuvre. Le niveau de force de la région abdominale et lombaire est approprié, en cohérence avec la force des membres inférieurs. Ces aspects ne paressent pas prioritaires dans le développement des qualité physiques. En revanche le manque de souplesse globale révélé par les deux tests sur les membres inférieurs et supérieurs révèle le caractère prioritaire de l’assouplissement de ces zones. Cette analyse correspond précisément aux besoins exprimés par Monsieur Lafolie lors d’un premier entretien téléphonique. La dyspnée est forte lors d’efforts modérés. Elle devrait être réduite grâce à une accélération volontaire de la vitesse de marche au quotidien. Le programme négocié comporte 3 étirements des chaines postérieurs inférieurs et du tronc raisin qu’une accélération de la vitesse de marche au quotidien. Il est prévu d’augmenter la quantité et la difficulté des exercices du programme progressivement si l’observance est suffisante pour faire apparaître des progrès. | F15: -22 | G15: -22 | H15: 3 | I15: 4 | J15: 10 | K15: 120 | L15: 45 | M15: 0.3
A16: Isabelle Mouronval | B16: 26867 | C16: femme | D16: 43257 | E16: 11 secondes Max sur le pied droit 20 secondes Max sur le pied gauche Flexion Dutronc sur le fémur 19 cm après les orteils. Coude droit en haut 10 cm après la main Gauche en haut 0 cm après la main 14 levers de chaise41 secondes gainage dorsale Une minute 45 en gainage abdominal Zéro pompe Aucun jour avec une immobilité maintenu plus d’une heure en dehors des faces de sommeil. 30mn le lundi 10mn modéré le lundi 30mn le mardi 10mn modéré le mercredi 30mn le jeudi 10mn modéré le variété 30mn le samedi 30mn le dimanche 10mn le mardi | F16: 0 | G16: 19 | H16: 11 | I16: 20 | J16: 14 | K16: 41 | L16: 45 | M16: 0.1
A17: Onel Lavandier | B17: 32800 | C17: femme | D17: 43263 | F17: -15 | H17: 29 | I17: 37 | J17: 18
A18: Chantal Istolainen | B18: 19725 | C18: femme | D18: 43427 | E18: Madame I est adressée par le docteur uturiague afin de reprendre une activité physique dans un contexte de dépression favorisée par des acouphènes puissants. Antécédents d’anorexie identifiés à l’âge de 17 ans puis 54. Évoque des idées noires, une perte totale d’appétit depuis 18 mois ainsi qu’une grande souffrance psychologique due aux angoisses et à la culpabilité apparue avec ses acouphènes. 43 kg pour 1,68 m, masse grasse autour de 10 %. Niveau de force rapportée au poids légèrement en dessous de la norme, mais très faible en valeur absolue. Accepte de ne pas reprendre des activités cardiaux en comprenant que l’effet anorexigènes serait délétère. Souhaite dédier 45 minutes par jour à de la gym douce. | F18: 4 | G18: 8 | H18: 34 | I18: 22 | J18: 12 | K18: 98 | L18: 89 | M18: 0.3 | N18: NC | O18: NC | P18: NC
A19: Laurent Dombrowicz | B19: 24113 | C19: homme | D19: 43425 | E19: 2/3 du temps passé à paris, 1/5 à sa maison de campagne, ¼ du temps en déplacement en Europe. Evite l’AP et le sport parce que ça ne lui plait pas, vécu comme une contrainte. Pourquoi en faire : la santé, et je me sens pas bien dans mon corps. Antécédent: Tympan perforé, lombalgie chronique, spondilarthite/ fracture en 2014 à hauteur de la cheville Prends les escaliers 3 étage 3 fois par jours, les courses 300 m autour de la maison, Aime se balader en villes inconnues mais manque d’occasion. Toujours en mouvement dans la journée. En surpoids depuis toujours, nombreux régimes encadrés, bon niveau de connaissance. En echec en société, ou à l’étranger. Souhaite : au quotidien une routine quel qu’elle soit, + une activité hebdomadaire flexible + adaptée aux douleur + 16 relevé de chaise 1 :38 gainage ventrale 1 :19 gainage dorsale équilibre gauche 34s équilibre droite 35s Souplesse membre inf 22cm avant les orteils Coude gauche en haut 20 cm entre | F19: -20 | G19: -22 | H19: 35 | I19: 34 | J19: 16 | K19: 79 | L19: 98 | M19: 0.6 | N19: 31.5 | O19: 1 | P19: -10 | Q19: 1 | R19: 1 | S19: 30 | T19: 30 | U19: 0 | V19: 0 | W19: 0

Sheet coach
A1: {=INDEX(tests!$C$2:$C$9999,SMALL(IF((tests!$A$2:$A$9999=résumé!A6),ROW($1:$9998)),ROWS($1:1)))} -> homme | B1: {=IF(ROUNDDOWN(INT((TODAY()-INDEX(tests!B$2:B$9999,SMALL(IF((tests!$A$2:$A$9999=résumé!A6),ROW($1:$9998)),1)))/365.25)/10,0)*10<30,30,IF(ROUNDDOWN(INT((TODAY()-INDEX(tests!B$2:B$9999,SMALL(IF((tests!$A$2:$A$9999=résumé!A6),ROW($1:$9998)),1)))/365.25)/10,0)*10>69,61,ROUNDDOWN(INT((TODAY()-INDEX(tests!B$2:B$9999,SMALL(IF((tests!$A$2:$A$9999=résumé!A6),ROW($1:$9998)),1)))/365.25)/10,0)*10))} -> 50 | C1: La souplesse de l'épaule et de la cage thoracique | D1: La souplesse des jambes et du bas du dos | F1: L'équilibre sur la jambe droite | G1: L'équilibre sur la jambe gauche | I1: La force des jambes, des cuisses et des fessiers | J1: La force du dos dans sa partie basse | L1: La force des muscles de l'abdomen | M1: La force du haut du corps et plus particulièrement des bras | O1: La capacité cardio-pulmonaire maximale | P1: Le temps maximum à intensité maximale | Q1: L'endurance de la capacité cardio-pulmonaire | R1: Le temps moyen immobile | S1: La période maximale resté inactif | T1: recos | U1: - | V1: ≈ | W1: + | X1: Moyenne Condition Physique | Y1: Moyenne habitude | Z1: Ecart type Moyenne condition physique | AH1: Tmax courbe | AI1: =plus petite VO2 | AJ1: GRAPHIQUES CARDIO | AS1: souplesse de l'épaule | AT1: souplesse jambes | AU1: équilibre droit | AV1: équilibre gauche | AX1: force membres inférieurs | AY1: force dorsaux-lombaire | AZ1: force abdominaux | BA1: force membres supérieurs | BB1: VO2 max | BC1: Tlim imax | BD1: IE | BE1: temps moyen immobile | BF1: période max inactif | BG1: % recos | BH1: % tps facile | BI1: % tps modéré | BJ1: % tps intense | BK1: % tps extrême | BZ1: REFERENCES CALCULS & FORMULES
A2: moyenne | C2: =VLOOKUP(B1,IF(A1="Homme",B26:J30,B31:J35),2,) -> 0.01 | D2: =VLOOKUP(B1,IF(A1="Homme",B26:J30,B31:J35),3,) -> -5 | F2: =VLOOKUP(B1,IF(A1="Homme",B26:J30,B31:J35),4,) -> 60 | G2: =VLOOKUP(B1,IF(A1="Homme",B26:J30,B31:J35),5,) -> 60 | I2: =VLOOKUP(B1,IF(A1="Homme",B26:J30,B31:J35),6,) -> 19 | J2: =VLOOKUP(B1,IF(A1="Homme",B26:J30,B31:J35),7,) -> 90 | L2: =VLOOKUP(B1,IF(A1="Homme",B26:J30,B31:J35),8,) -> 120 | M2: =VLOOKUP(B1,IF(A1="Homme",B26:K30,B31:K35),9,) -> 6 | O2: =VLOOKUP(B1,IF(A1="Homme",B26:K30,B31:K35),10,) -> 33 | P2: 3 | Q2: -8 | R2: 1.5 | S2: 1 | T2: 150 | U2: 20 | V2: 50 | W2: 10 | AH2: 120 | AI2: =SMALL(O2:O4,1) -> 31.5 | AJ2: =LARGE(P2:P4,1) -> 3 | AK2: =AJ2+(AN2-AJ2)*0.1 -> 7.8 | AL2: =AJ2+(AN2-AJ2)*0.2 -> 12.6 | AM2: =AJ2+(AN2-AJ2)*0.3 -> 17.4 | AN2: =AJ2+(AO2-AJ2)*0.4 -> 51 | AO2: =AH2+AJ2 -> 123 | AQ2: résultat grande date | AR2: =LARGE(A3:A12,1) -> 43425 | AS2: =VLOOKUP(AR2,A3:Q12,3,) -> -20 | AT2: =VLOOKUP(AR2,A3:Q12,4,) -> -22 | AU2: =VLOOKUP(AR2,A3:Q12,5,) -> 0 | AV2: =VLOOKUP(AR2,A3:Q12,6,) -> 35 | AX2: =VLOOKUP(AR2,A3:Q12,8,) -> 0 | AY2: =VLOOKUP(AR2,A3:Q12,9,) -> 16 | AZ2: =VLOOKUP(AR2,A3:Q12,10,) -> 79 | BA2: =VLOOKUP(AR2,A3:Q12,11,) -> 0 | BB2: =VLOOKUP(AR2,A3:Q12,12,) -> 98 | BC2: =VLOOKUP(AR2,A3:Q12,13,) -> 0.6 | BD2: =VLOOKUP(AR2,A3:Q12,14,) -> 0 | BE2: =VLOOKUP(AR2,A3:X12,15,) -> 31.5 | BF2: =VLOOKUP(AR2,A3:X12,16,) -> 1 | BG2: =VLOOKUP(AR2,A3:X12,17,) -> -10 | BH2: =VLOOKUP(AR2,A3:X12,18,) -> 1 | BI2: =VLOOKUP(AR2,A3:X12,19,) -> 1 | BJ2: =VLOOKUP(AR2,A3:X12,20,) -> 30 | BK2: =VLOOKUP(AR2,A3:X12,21,) -> 30
A3: {=IFERROR(INDEX(tests!$D$2:$D$9999,LARGE(IF((tests!$A$2:$A$9999=résumé!$A$6),ROW($1:$9998)),1)),"")} -> 43425 | B3: {=IFERROR(IF(INDEX(tests!E$2:E$9999,SMALL(IF((tests!$A$2:$A$9999=résumé!$A$6)*(tests!$D$2:$D$9999=$A3),ROW($1:$9998)),1))="","",INDEX(tests!E$2:E$9999,SMALL(IF((tests!$A$2:$A$9999=résumé!$A$6)*(tests!$D$2:$D$9999=$A3),ROW($1:$9998)),1))),"")} -> 2/3 du temps passé à paris, 1/5 à sa maison de campagne, ¼ du temps en déplacement en Europe. _x000D_Evite l’AP et le sport parce que ça ne lui plait pas, vécu comme une contrainte._x000D_Pourquoi en faire : la santé, et je me sens pas bien dans mon corps._x000D_Antécédent: Tympan perforé, lombalgie chronique, spondilarthite/ fracture en 2014 à hauteur de la cheville _x000D_Prends les escaliers 3 étage 3 fois par jours, les courses 300 m autour de la maison, _x000D_Aime se balader en villes inconnues mais manque d’occasion. Toujours en mouvement dans la journée._x000D__x000D_En surpoids depuis toujours, nombreux régimes encadrés, bon niveau de connaissance._x000D_En echec en société, ou à l’étranger._x000D__x000D_Souhaite : au quotidien une routine quel qu’elle soit, + une activité hebdomadaire flexible + adaptée aux douleur +_x000D__x000D_16 relevé de chaise_x000D_1 :38 gainage ventrale_x000D_1 :19 gainage dorsale_x000D_équilibre gauche 34s_x000D_équilibre droite 35s_x000D_Souplesse membre inf 22cm avant les orteils_x000D_Coude gauche en haut 20 cm entre _x000D_ | C3: {=IFERROR(IF(INDEX(tests!F$2:F$9999,SMALL(IF((tests!$A$2:$A$9999=résumé!$A$6)*(tests!$D$2:$D$9999=$A3),ROW($1:$9998)),1))="","",INDEX(tests!F$2:F$9999,SMALL(IF((tests!$A$2:$A$9999=résumé!$A$6)*(tests!$D$2:$D$9999=$A3),ROW($1:$9998)),1))),"")} -> -20 | D3: {=IFERROR(IF(INDEX(tests!G$2:G$9999,SMALL(IF((tests!$A$2:$A$9999=résumé!$A$6)*(tests!$D$2:$D$9999=$A3),ROW($1:$9998)),1))="","",INDEX(tests!G$2:G$9999,SMALL(IF((tests!$A$2:$A$9999=résumé!$A$6)*(tests!$D$2:$D$9999=$A3),ROW($1:$9998)),1))),"")} -> -22 | F3: {=IFERROR(IF(INDEX(tests!H$2:H$9999,SMALL(IF((tests!$A$2:$A$9999=résumé!$A$6)*(tests!$D$2:$D$9999=$A3),ROW($1:$9998)),1))="","",INDEX(tests!H$2:H$9999,SMALL(IF((tests!$A$2:$A$9999=résumé!$A$6)*(tests!$D$2:$D$9999=$A3),ROW($1:$9998)),1))),"")} -> 35 | G3: {=IFERROR(IF(INDEX(tests!I$2:I$9999,SMALL(IF((tests!$A$2:$A$9999=résumé!$A$6)*(tests!$D$2:$D$9999=$A3),ROW($1:$9998)),1))="","",INDEX(tests!I$2:I$9999,SMALL(IF((tests!$A$2:$A$9999=résumé!$A$6)*(tests!$D$2:$D$9999=$A3),ROW($1:$9998)),1))),"")} -> 34 | I3: {=IFERROR(IF(INDEX(tests!J$2:J$9999,SMALL(IF((tests!$A$2:$A$9999=résumé!$A$6)*(tests!$D$2:$D$9999=$A3),ROW($1:$9998)),1))="","",INDEX(tests!J$2:J$9999,SMALL(IF((tests!$A$2:$A$9999=résumé!$A$6)*(tests!$D$2:$D$9999=$A3),ROW($1:$9998)),1))),"")} -> 16 | J3: {=IFERROR(IF(INDEX(tests!K$2:K$9999,SMALL(IF((tests!$A$2:$A$9999=résumé!$A$6)*(tests!$D$2:$D$9999=$A3),ROW($1:$9998)),1))="","",INDEX(tests!K$2:K$9999,SMALL(IF((tests!$A$2:$A$9999=résumé!$A$6)*(tests!$D$2:$D$9999=$A3),ROW($1:$9998)),1))),"")} -> 79 | L3: {=IFERROR(IF(INDEX(tests!L$2:L$9999,SMALL(IF((tests!$A$2:$A$9999=résumé!$A$6)*(tests!$D$2:$D$9999=$A3),ROW($1:$9998)),1))="","",INDEX(tests!L$2:L$9999,SMALL(IF((tests!$A$2:$A$9999=résumé!$A$6)*(tests!$D$2:$D$9999=$A3),ROW($1:$9998)),1))),"")} -> 98 | M3: {=IFERROR(IF(INDEX(tests!M$2:M$9999,SMALL(IF((tests!$A$2:$A$9999=résumé!$A$6)*(tests!$D$2:$D$9999=$A3),ROW($1:$9998)),1))="","",INDEX(tests!M$2:M$9999,SMALL(IF((tests!$A$2:$A$9999=résumé!$A$6)*(tests!$D$2:$D$9999=$A3),ROW($1:$9998)),1))),"")} -> 0.6 | O3: {=IFERROR(IF(INDEX(tests!N$2:N$9999,SMALL(IF((tests!$A$2:$A$9999=résumé!$A$6)*(tests!$D$2:$D$9999=$A3),ROW($1:$9998)),1))="","",INDEX(tests!N$2:N$9999,SMALL(IF((tests!$A$2:$A$9999=résumé!$A$6)*(tests!$D$2:$D$9999=$A3),ROW($1:$9998)),1))),"")} -> 31.5 | P3: {=IFERROR(IF(INDEX(tests!O$2:O$9999,SMALL(IF((tests!$A$2:$A$9999=résumé!$A$6)*(tests!$D$2:$D$9999=$A3),ROW($1:$9998)),1))="","",INDEX(tests!O$2:O$9999,SMALL(IF((tests!$A$2:$A$9999=résumé!$A$6)*(tests!$D$2:$D$9999=$A3),ROW($1:$9998)),1))),"")} -> 1 | Q3: {=IFERROR(IF(INDEX(tests!P$2:P$9999,SMALL(IF((tests!$A$2:$A$9999=résumé!$A$6)*(tests!$D$2:$D$9999=$A3),ROW($1:$9998)),1))="","",INDEX(tests!P$2:P$9999,SMALL(IF((tests!$A$2:$A$9999=résumé!$A$6)*(tests!$D$2:$D$9999=$A3),ROW($1:$9998)),1))),"")} -> -10 | R3: {=IFERROR(IF(INDEX(tests!Q$2:Q$9999,SMALL(IF((tests!$A$2:$A$9999=résumé!$A$6)*(tests!$D$2:$D$9999=$A3),ROW($1:$9998)),1))="","",INDEX(tests!Q$2:Q$9999,SMALL(IF((tests!$A$2:$A$9999=résumé!$A$6)*(tests!$D$2:$D$9999=$A3),ROW($1:$9998)),1))),"")} -> 1 | S3: {=IFERROR(IF(INDEX(tests!R$2:R$9999,SMALL(IF((tests!$A$2:$A$9999=résumé!$A$6)*(tests!$D$2:$D$9999=$A3),ROW($1:$9998)),1))="","",INDEX(tests!R$2:R$9999,SMALL(IF((tests!$A$2:$A$9999=résumé!$A$6)*(tests!$D$2:$D$9999=$A3),ROW($1:$9998)),1))),"")} -> 1 | T3: {=IFERROR(IF(INDEX(tests!S$2:S$9999,SMALL(IF((tests!$A$2:$A$9999=résumé!$A$6)*(tests!$D$2:$D$9999=$A3),ROW($1:$9998)),1))="","",INDEX(tests!S$2:S$9999,SMALL(IF((tests!$A$2:$A$9999=résumé!$A$6)*(tests!$D$2:$D$9999=$A3),ROW($1:$9998)),1))),"")} -> 30 | U3: {=IFERROR(IF(INDEX(tests!T$2:T$9999,SMALL(IF((tests!$A$2:$A$9999=résumé!$A$6)*(tests!$D$2:$D$9999=$A3),ROW($1:$9998)),1))="","",INDEX(tests!T$2:T$9999,SMALL(IF((tests!$A$2:$A$9999=résumé!$A$6)*(tests!$D$2:$D$9999=$A3),ROW($1:$9998)),1))),"")} -> 30 | V3: {=IFERROR(IF(INDEX(tests!U$2:U$9999,SMALL(IF((tests!$A$2:$A$9999=résumé!$A$6)*(tests!$D$2:$D$9999=$A3),ROW($1:$9998)),1))="","",INDEX(tests!U$2:U$9999,SMALL(IF((tests!$A$2:$A$9999=résumé!$A$6)*(tests!$D$2:$D$9999=$A3),ROW($1:$9998)),1))),"")} -> 0 | W3: {=IFERROR(IF(INDEX(tests!V$2:V$9999,SMALL(IF((tests!$A$2:$A$9999=résumé!$A$6)*(tests!$D$2:$D$9999=$A3),ROW($1:$9998)),1))="","",INDEX(tests!V$2:V$9999,SMALL(IF((tests!$A$2:$A$9999=résumé!$A$6)*(tests!$D$2:$D$9999=$A3),ROW($1:$9998)),1))),"")} -> 0 | X3: {=IFERROR(IF(INDEX(tests!X$2:X$9999,SMALL(IF((tests!$A$2:$A$9999=résumé!$A$6)*(tests!$D$2:$D$9999=$A3),ROW($1:$9998)),1))="","",INDEX(tests!X$2:X$9999,SMALL(IF((tests!$A$2:$A$9999=résumé!$A$6)*(tests!$D$2:$D$9999=$A3),ROW($1:$9998)),1))),"")} | Y3: {=IFERROR(IF(INDEX(tests!Y$2:Y$9999,SMALL(IF((tests!$A$2:$A$9999=résumé!$A$6)*(tests!$D$2:$D$9999=$A3),ROW($1:$9998)),1))="","",INDEX(tests!Y$2:Y$9999,SMALL(IF((tests!$A$2:$A$9999=résumé!$A$6)*(tests!$D$2:$D$9999=$A3),ROW($1:$9998)),1))),"")} | Z3: ondedieu | AI3: refe | AJ3: =-(-100+(LN(P2)-LN(AJ2))*(Q2))*O2/100 -> 33 | AK3: =-(-100+(LN(P2)-LN(AK2))*(Q2))*O2/100 -> 30.47745 | AL3: =-(-100+(LN(P2)-LN(AL2))*(Q2))*O2/100 -> 29.211377 | AM3: =-(-100+(LN(P2)-LN(AM2))*(Q2))*O2/100 -> 28.359255 | AN3: =-(-100+(LN(P2)-LN(AN2))*(Q2))*O2/100 -> 25.520317 | AO3: =-(-100+(LN(P2)-LN(AO2))*(Q2))*O2/100 -> 23.19617 | AQ3: score grande date | AR3: =LARGE(A3:A12,1) -> 43425 | AS3: =VLOOKUP(AR3,A15:Q24,3,) -> -20 | AT3: =VLOOKUP(AR3,A15:Q24,4,) -> -22 | AU3: =VLOOKUP(AR3,A15:Q24,5,) -> 0 | AV3: =VLOOKUP(AR3,A15:Q24,6,) -> 0.58333333 | AX3: =VLOOKUP(AR3,A15:Q24,8,) -> 0 | AY3: =VLOOKUP(AR3,A15:Q24,9,) -> 0.84210526 | AZ3: =VLOOKUP(AR3,A15:Q24,10,) -> 0.87777778 | BA3: =VLOOKUP(AR3,A15:Q24,11,) -> 0 | BB3: =VLOOKUP(AR3,A15:Q24,12,) -> 0.81666667 | BC3: =VLOOKUP(AR3,A15:Q24,13,) -> 0.1 | BD3: =VLOOKUP(AR3,A15:Q24,14,) -> 0 | BZ3: Souplesse épaule
A4: {=IFERROR(INDEX(tests!$D$2:$D$9999,LARGE(IF((tests!$A$2:$A$9999=résumé!$A$6),ROW($1:$9998)),2)),"")} | B4: {=IFERROR(IF(INDEX(tests!E$2:E$9999,SMALL(IF((tests!$A$2:$A$9999=résumé!$A$6)*(tests!$D$2:$D$9999=$A4),ROW($1:$9998)),1))="","",INDEX(tests!E$2:E$9999,SMALL(IF((tests!$A$2:$A$9999=résumé!$A$6)*(tests!$D$2:$D$9999=$A4),ROW($1:$9998)),1))),"")} | C4: {=IFERROR(IF(INDEX(tests!F$2:F$9999,SMALL(IF((tests!$A$2:$A$9999=résumé!$A$6)*(tests!$D$2:$D$9999=$A4),ROW($1:$9998)),1))="","",INDEX(tests!F$2:F$9999,SMALL(IF((tests!$A$2:$A$9999=résumé!$A$6)*(tests!$D$2:$D$9999=$A4),ROW($1:$9998)),1))),"")} | D4: {=IFERROR(IF(INDEX(tests!G$2:G$9999,SMALL(IF((tests!$A$2:$A$9999=résumé!$A$6)*(tests!$D$2:$D$9999=$A4),ROW($1:$9998)),1))="","",INDEX(tests!G$2:G$9999,SMALL(IF((tests!$A$2:$A$9999=résumé!$A$6)*(tests!$D$2:$D$9999=$A4),ROW($1:$9998)),1))),"")} | F4: {=IFERROR(IF(INDEX(tests!H$2:H$9999,SMALL(IF((tests!$A$2:$A$9999=résumé!$A$6)*(tests!$D$2:$D$9999=$A4),ROW($1:$9998)),1))="","",INDEX(tests!H$2:H$9999,SMALL(IF((tests!$A$2:$A$9999=résumé!$A$6)*(tests!$D$2:$D$9999=$A4),ROW($1:$9998)),1))),"")} | G4: {=IFERROR(IF(INDEX(tests!I$2:I$9999,SMALL(IF((tests!$A$2:$A$9999=résumé!$A$6)*(tests!$D$2:$D$9999=$A4),ROW($1:$9998)),1))="","",INDEX(tests!I$2:I$9999,SMALL(IF((tests!$A$2:$A$9999=résumé!$A$6)*(tests!$D$2:$D$9999=$A4),ROW($1:$9998)),1))),"")} | I4: {=IFERROR(IF(INDEX(tests!J$2:J$9999,SMALL(IF((tests!$A$2:$A$9999=résumé!$A$6)*(tests!$D$2:$D$9999=$A4),ROW($1:$9998)),1))="","",INDEX(tests!J$2:J$9999,SMALL(IF((tests!$A$2:$A$9999=résumé!$A$6)*(tests!$D$2:$D$9999=$A4),ROW($1:$9998)),1))),"")} | J4: {=IFERROR(IF(INDEX(tests!K$2:K$9999,SMALL(IF((tests!$A$2:$A$9999=résumé!$A$6)*(tests!$D$2:$D$9999=$A4),ROW($1:$9998)),1))="","",INDEX(tests!K$2:K$9999,SMALL(IF((tests!$A$2:$A$9999=résumé!$A$6)*(tests!$D$2:$D$9999=$A4),ROW($1:$9998)),1))),"")} | L4: {=IFERROR(IF(INDEX(tests!L$2:L$9999,SMALL(IF((tests!$A$2:$A$9999=résumé!$A$6)*(tests!$D$2:$D$9999=$A4),ROW($1:$9998)),1))="","",INDEX(tests!L$2:L$9999,SMALL(IF((tests!$A$2:$A$9999=résumé!$A$6)*(tests!$D$2:$D$9999=$A4),ROW($1:$9998)),1))),"")} | M4: {=IFERROR(IF(INDEX(tests!M$2:M$9999,SMALL(IF((tests!$A$2:$A$9999=résumé!$A$6)*(tests!$D$2:$D$9999=$A4),ROW($1:$9998)),1))="","",INDEX(tests!M$2:M$9999,SMALL(IF((tests!$A$2:$A$9999=résumé!$A$6)*(tests!$D$2:$D$9999=$A4),ROW($1:$9998)),1))),"")} | O4: {=IFERROR(IF(INDEX(tests!N$2:N$9999,SMALL(IF((tests!$A$2:$A$9999=résumé!$A$6)*(tests!$D$2:$D$9999=$A4),ROW($1:$9998)),1))="","",INDEX(tests!N$2:N$9999,SMALL(IF((tests!$A$2:$A$9999=résumé!$A$6)*(tests!$D$2:$D$9999=$A4),ROW($1:$9998)),1))),"")} | P4: {=IFERROR(IF(INDEX(tests!O$2:O$9999,SMALL(IF((tests!$A$2:$A$9999=résumé!$A$6)*(tests!$D$2:$D$9999=$A4),ROW($1:$9998)),1))="","",INDEX(tests!O$2:O$9999,SMALL(IF((tests!$A$2:$A$9999=résumé!$A$6)*(tests!$D$2:$D$9999=$A4),ROW($1:$9998)),1))),"")} | Q4: {=IFERROR(IF(INDEX(tests!P$2:P$9999,SMALL(IF((tests!$A$2:$A$9999=résumé!$A$6)*(tests!$D$2:$D$9999=$A4),ROW($1:$9998)),1))="","",INDEX(tests!P$2:P$9999,SMALL(IF((tests!$A$2:$A$9999=résumé!$A$6)*(tests!$D$2:$D$9999=$A4),ROW($1:$9998)),1))),"")} | R4: {=IFERROR(IF(INDEX(tests!Q$2:Q$9999,SMALL(IF((tests!$A$2:$A$9999=résumé!$A$6)*(tests!$D$2:$D$9999=$A4),ROW($1:$9998)),1))="","",INDEX(tests!Q$2:Q$9999,SMALL(IF((tests!$A$2:$A$9999=résumé!$A$6)*(tests!$D$2:$D$9999=$A4),ROW($1:$9998)),1))),"")} | S4: {=IFERROR(IF(INDEX(tests!R$2:R$9999,SMALL(IF((tests!$A$2:$A$9999=résumé!$A$6)*(tests!$D$2:$D$9999=$A4),ROW($1:$9998)),1))="","",INDEX(tests!R$2:R$9999,SMALL(IF((tests!$A$2:$A$9999=résumé!$A$6)*(tests!$D$2:$D$9999=$A4),ROW($1:$9998)),1))),"")} | T4: {=IFERROR(IF(INDEX(tests!S$2:S$9999,SMALL(IF((tests!$A$2:$A$9999=résumé!$A$6)*(tests!$D$2:$D$9999=$A4),ROW($1:$9998)),1))="","",INDEX(tests!S$2:S$9999,SMALL(IF((tests!$A$2:$A$9999=résumé!$A$6)*(tests!$D$2:$D$9999=$A4),ROW($1:$9998)),1))),"")} | U4: {=IFERROR(IF(INDEX(tests!T$2:T$9999,SMALL(IF((tests!$A$2:$A$9999=résumé!$A$6)*(tests!$D$2:$D$9999=$A4),ROW($1:$9998)),1))="","",INDEX(tests!T$2:T$9999,SMALL(IF((tests!$A$2:$A$9999=résumé!$A$6)*(tests!$D$2:$D$9999=$A4),ROW($1:$9998)),1))),"")} | V4: {=IFERROR(IF(INDEX(tests!U$2:U$9999,SMALL(IF((tests!$A$2:$A$9999=résumé!$A$6)*(tests!$D$2:$D$9999=$A4),ROW($1:$9998)),1))="","",INDEX(tests!U$2:U$9999,SMALL(IF((tests!$A$2:$A$9999=résumé!$A$6)*(tests!$D$2:$D$9999=$A4),ROW($1:$9998)),1))),"")} | W4: {=IFERROR(IF(INDEX(tests!V$2:V$9999,SMALL(IF((tests!$A$2:$A$9999=résumé!$A$6)*(tests!$D$2:$D$9999=$A4),ROW($1:$9998)),1))="","",INDEX(tests!V$2:V$9999,SMALL(IF((tests!$A$2:$A$9999=résumé!$A$6)*(tests!$D$2:$D$9999=$A4),ROW($1:$9998)),1))),"")} | Z4: julien | AI4: D0 | AJ4: =-(-100+(LN(P3)-LN(AJ2))*(Q3))*O3/100 -> 28.039371 | AK4: =-(-100+(LN(P3)-LN(AK2))*(Q3))*O3/100 -> 25.02951 | AL4: =-(-100+(LN(P3)-LN(AL2))*(Q3))*O3/100 -> 23.518855 | AM4: =-(-100+(LN(P3)-LN(AM2))*(Q3))*O3/100 -> 22.502119 | AN4: =-(-100+(LN(P3)-LN(AN2))*(Q3))*O3/100 -> 19.114749 | AO4: =-(-100+(LN(P3)-LN(AO2))*(Q3))*O3/100 -> 16.341619 | AQ4: score petite date | AR4: =IF(SMALL(A3:A12,1)=LARGE(A3:A12,1),"",SMALL(A3:A12,1)) | AS4: =IF(SMALL(A3:A12,1)=LARGE(A3:A12,1),"",VLOOKUP(AR4,A15:Q24,3,)) | AT4: =IF(SMALL(A3:A12,1)=LARGE(A3:A12,1),"",VLOOKUP(AR4,A15:Q24,4,)) | AU4: =IF(SMALL(A3:A12,1)=LARGE(A3:A12,1),"",VLOOKUP(AR4,A15:Q24,5,)) | AV4: =IF(SMALL(A3:A12,1)=LARGE(A3:A12,1),"",VLOOKUP(AR4,A15:Q24,6,)) | AX4: =IF(SMALL(A3:A12,1)=LARGE(A3:A12,1),"",VLOOKUP(AR4,A15:Q24,8,)) | AY4: =IF(SMALL(A3:A12,1)=LARGE(A3:A12,1),"",VLOOKUP(AR4,A15:Q24,9,)) | AZ4: =IF(SMALL(A3:A12,1)=LARGE(A3:A12,1),"",VLOOKUP(AR4,A15:Q24,10,)) | BA4: =IF(SMALL(A3:A12,1)=LARGE(A3:A12,1),"",VLOOKUP(AR4,A15:Q24,11,)) | BB4: =IF(SMALL(A3:A12,1)=LARGE(A3:A12,1),"",VLOOKUP(AR4,A15:Q24,12,)) | BC4: =IF(SMALL(A3:A12,1)=LARGE(A3:A12,1),"",VLOOKUP(AR4,A15:Q24,13,)) | BD4: =IF(SMALL(A3:A12,1)=LARGE(A3:A12,1),"",VLOOKUP(AR4,A15:Q24,14,)) | BZ4: Catégorie: | CA4: 30 | CB4: 40 | CC4: 50 | CD4: 30F | CE4: 40F | CF4: 50F
A5: {=IFERROR(INDEX(tests!$D$2:$D$9999,LARGE(IF((tests!$A$2:$A$9999=résumé!$A$6),ROW($1:$9998)),3)),"")} | B5: {=IFERROR(IF(INDEX(tests!E$2:E$9999,SMALL(IF((tests!$A$2:$A$9999=résumé!$A$6)*(tests!$D$2:$D$9999=$A5),ROW($1:$9998)),1))="","",INDEX(tests!E$2:E$9999,SMALL(IF((tests!$A$2:$A$9999=résumé!$A$6)*(tests!$D$2:$D$9999=$A5),ROW($1:$9998)),1))),"")} | C5: {=IFERROR(IF(INDEX(tests!F$2:F$9999,SMALL(IF((tests!$A$2:$A$9999=résumé!$A$6)*(tests!$D$2:$D$9999=$A5),ROW($1:$9998)),1))="","",INDEX(tests!F$2:F$9999,SMALL(IF((tests!$A$2:$A$9999=résumé!$A$6)*(tests!$D$2:$D$9999=$A5),ROW($1:$9998)),1))),"")} | D5: {=IFERROR(IF(INDEX(tests!G$2:G$9999,SMALL(IF((tests!$A$2:$A$9999=résumé!$A$6)*(tests!$D$2:$D$9999=$A5),ROW($1:$9998)),1))="","",INDEX(tests!G$2:G$9999,SMALL(IF((tests!$A$2:$A$9999=résumé!$A$6)*(tests!$D$2:$D$9999=$A5),ROW($1:$9998)),1))),"")} | F5: {=IFERROR(IF(INDEX(tests!H$2:H$9999,SMALL(IF((tests!$A$2:$A$9999=résumé!$A$6)*(tests!$D$2:$D$9999=$A5),ROW($1:$9998)),1))="","",INDEX(tests!H$2:H$9999,SMALL(IF((tests!$A$2:$A$9999=résumé!$A$6)*(tests!$D$2:$D$9999=$A5),ROW($1:$9998)),1))),"")} | G5: {=IFERROR(IF(INDEX(tests!I$2:I$9999,SMALL(IF((tests!$A$2:$A$9999=résumé!$A$6)*(tests!$D$2:$D$9999=$A5),ROW($1:$9998)),1))="","",INDEX(tests!I$2:I$9999,SMALL(IF((tests!$A$2:$A$9999=résumé!$A$6)*(tests!$D$2:$D$9999=$A5),ROW($1:$9998)),1))),"")} | I5: {=IFERROR(IF(INDEX(tests!J$2:J$9999,SMALL(IF((tests!$A$2:$A$9999=résumé!$A$6)*(tests!$D$2:$D$9999=$A5),ROW($1:$9998)),1))="","",INDEX(tests!J$2:J$9999,SMALL(IF((tests!$A$2:$A$9999=résumé!$A$6)*(tests!$D$2:$D$9999=$A5),ROW($1:$9998)),1))),"")} | J5: {=IFERROR(IF(INDEX(tests!K$2:K$9999,SMALL(IF((tests!$A$2:$A$9999=résumé!$A$6)*(tests!$D$2:$D$9999=$A5),ROW($1:$9998)),1))="","",INDEX(tests!K$2:K$9999,SMALL(IF((tests!$A$2:$A$9999=résumé!$A$6)*(tests!$D$2:$D$9999=$A5),ROW($1:$9998)),1))),"")} | L5: {=IFERROR(IF(INDEX(tests!L$2:L$9999,SMALL(IF((tests!$A$2:$A$9999=résumé!$A$6)*(tests!$D$2:$D$9999=$A5),ROW($1:$9998)),1))="","",INDEX(tests!L$2:L$9999,SMALL(IF((tests!$A$2:$A$9999=résumé!$A$6)*(tests!$D$2:$D$9999=$A5),ROW($1:$9998)),1))),"")} | M5: {=IFERROR(IF(INDEX(tests!M$2:M$9999,SMALL(IF((tests!$A$2:$A$9999=résumé!$A$6)*(tests!$D$2:$D$9999=$A5),ROW($1:$9998)),1))="","",INDEX(tests!M$2:M$9999,SMALL(IF((tests!$A$2:$A$9999=résumé!$A$6)*(tests!$D$2:$D$9999=$A5),ROW($1:$9998)),1))),"")} | O5: {=IFERROR(IF(INDEX(tests!N$2:N$9999,SMALL(IF((tests!$A$2:$A$9999=résumé!$A$6)*(tests!$D$2:$D$9999=$A5),ROW($1:$9998)),1))="","",INDEX(tests!N$2:N$9999,SMALL(IF((tests!$A$2:$A$9999=résumé!$A$6)*(tests!$D$2:$D$9999=$A5),ROW($1:$9998)),1))),"")} | P5: {=IFERROR(IF(INDEX(tests!O$2:O$9999,SMALL(IF((tests!$A$2:$A$9999=résumé!$A$6)*(tests!$D$2:$D$9999=$A5),ROW($1:$9998)),1))="","",INDEX(tests!O$2:O$9999,SMALL(IF((tests!$A$2:$A$9999=résumé!$A$6)*(tests!$D$2:$D$9999=$A5),ROW($1:$9998)),1))),"")} | Q5: {=IFERROR(IF(INDEX(tests!P$2:P$9999,SMALL(IF((tests!$A$2:$A$9999=résumé!$A$6)*(tests!$D$2:$D$9999=$A5),ROW($1:$9998)),1))="","",INDEX(tests!P$2:P$9999,SMALL(IF((tests!$A$2:$A$9999=résumé!$A$6)*(tests!$D$2:$D$9999=$A5),ROW($1:$9998)),1))),"")} | R5: {=IFERROR(IF(INDEX(tests!Q$2:Q$9999,SMALL(IF((tests!$A$2:$A$9999=résumé!$A$6)*(tests!$D$2:$D$9999=$A5),ROW($1:$9998)),1))="","",INDEX(tests!Q$2:Q$9999,SMALL(IF((tests!$A$2:$A$9999=résumé!$A$6)*(tests!$D$2:$D$9999=$A5),ROW($1:$9998)),1))),"")} | S5: {=IFERROR(IF(INDEX(tests!R$2:R$9999,SMALL(IF((tests!$A$2:$A$9999=résumé!$A$6)*(tests!$D$2:$D$9999=$A5),ROW($1:$9998)),1))="","",INDEX(tests!R$2:R$9999,SMALL(IF((tests!$A$2:$A$9999=résumé!$A$6)*(tests!$D$2:$D$9999=$A5),ROW($1:$9998)),1))),"")} | T5: {=IFERROR(IF(INDEX(tests!S$2:S$9999,SMALL(IF((tests!$A$2:$A$9999=résumé!$A$6)*(tests!$D$2:$D$9999=$A5),ROW($1:$9998)),1))="","",INDEX(tests!S$2:S$9999,SMALL(IF((tests!$A$2:$A$9999=résumé!$A$6)*(tests!$D$2:$D$9999=$A5),ROW($1:$9998)),1))),"")} | U5: {=IFERROR(IF(INDEX(tests!T$2:T$9999,SMALL(IF((tests!$A$2:$A$9999=résumé!$A$6)*(tests!$D$2:$D$9999=$A5),ROW($1:$9998)),1))="","",INDEX(tests!T$2:T$9999,SMALL(IF((tests!$A$2:$A$9999=résumé!$A$6)*(tests!$D$2:$D$9999=$A5),ROW($1:$9998)),1))),"")} | V5: {=IFERROR(IF(INDEX(tests!U$2:U$9999,SMALL(IF((tests!$A$2:$A$9999=résumé!$A$6)*(tests!$D$2:$D$9999=$A5),ROW($1:$9998)),1))="","",INDEX(tests!U$2:U$9999,SMALL(IF((tests!$A$2:$A$9999=résumé!$A$6)*(tests!$D$2:$D$9999=$A5),ROW($1:$9998)),1))),"")} | W5: {=IFERROR(IF(INDEX(tests!V$2:V$9999,SMALL(IF((tests!$A$2:$A$9999=résumé!$A$6)*(tests!$D$2:$D$9999=$A5),ROW($1:$9998)),1))="","",INDEX(tests!V$2:V$9999,SMALL(IF((tests!$A$2:$A$9999=résumé!$A$6)*(tests!$D$2:$D$9999=$A5),ROW($1:$9998)),1))),"")} | AI5: D | AJ5: =-(-100+(LN(P4)-LN(AJ2))*(Q4))*O4/100 -> #VALUE! | AK5: =-(-100+(LN(P4)-LN(AK2))*(Q4))*O4/100 -> #VALUE! | AL5: =-(-100+(LN(P4)-LN(AL2))*(Q4))*O4/100 -> #VALUE! | AM5: =-(-100+(LN(P4)-LN(AM2))*(Q4))*O4/100 -> #VALUE! | AN5: =-(-100+(LN(P4)-LN(AN2))*(Q4))*O4/100 -> #VALUE! | AO5: =-(-100+(LN(P4)-LN(AO2))*(Q4))*O4/100 -> #VALUE! | AQ5: ratio grande/petite | AS5: =IFERROR(AS3/AS4-1,"") | AT5: =IFERROR(AT3/AT4-1,"") | AU5: =IFERROR(AU3/AU4-1,"") | AV5: =IFERROR(AV3/AV4-1,"") | AW5: =IFERROR(AW3/AW4-1,"") | AX5: =IFERROR(AX3/AX4-1,"") | AY5: =IFERROR(AY3/AY4-1,"") | AZ5: =IFERROR(AZ3/AZ4-1,"") | ... BD5: =IFERROR(BD3/BD4-1,"") | BZ5: -2 | CA5: 0.5 | CB5: =CA5+0.125 -> 0.625 | CC5: 0.75 | CD5: 0.25 | CE5: =CD5+0.125 -> 0.375 | CF5: 0.5
