Workbook
Name CATTC: EXPORT!$C:$C
Name MARGE: EXPORT!$D:$D
Name POURCENT: EXPORT!$E:$E
Name QTE: EXPORT!$B:$B
Name RAYON: EXPORT!$A:$A
Name ù: EXPORT!$E:$E

Sheet TABLEAU MARGE
B1: SEMAINE 1 | F1: SEMAINE 2
A2: R A Y O N C A I S S E | B2: QTE | C2: CA TTC | D2: Marge globale | E2: % | F2: QTE | G2: CA TTC | H2: Marge globale | I2: %
A3: 1110 PRODUITS MATERNISES | B3: =INDEX([0]!QTE,MATCH('TABLEAU MARGE'!A3,[0]!RAYON,0)) -> 3 | C3: =INDEX([0]!CATTC,MATCH('TABLEAU MARGE'!A3,[0]!RAYON,0)) -> 100 | D3: =INDEX([0]!MARGE,MATCH('TABLEAU MARGE'!A3,[0]!RAYON,0)) -> 23 | E3: =INDEX([0]!POURCENT,MATCH('TABLEAU MARGE'!A3,[0]!RAYON,0)) -> 1
A4: 1112 SAISONNIERS (chocolats) | B4: =INDEX([0]!QTE,MATCH('TABLEAU MARGE'!A4,[0]!RAYON,0)) -> 5 | C4: =INDEX([0]!CATTC,MATCH('TABLEAU MARGE'!A4,[0]!RAYON,0)) -> 120 | D4: =INDEX([0]!MARGE,MATCH('TABLEAU MARGE'!A4,[0]!RAYON,0)) -> 12 | E4: =INDEX([0]!POURCENT,MATCH('TABLEAU MARGE'!A4,[0]!RAYON,0)) -> 2
A5: 1114 CHOCOLATS TAB. CONFISERIE | B5: =INDEX([0]!QTE,MATCH('TABLEAU MARGE'!A5,[0]!RAYON,0)) -> 8 | C5: =INDEX([0]!CATTC,MATCH('TABLEAU MARGE'!A5,[0]!RAYON,0)) -> 150 | D5: =INDEX([0]!MARGE,MATCH('TABLEAU MARGE'!A5,[0]!RAYON,0)) -> 30 | E5: =INDEX([0]!POURCENT,MATCH('TABLEAU MARGE'!A5,[0]!RAYON,0)) -> 3
A6: 1116 GATEAUX & BISCUITS | B6: =INDEX([0]!QTE,MATCH('TABLEAU MARGE'!A6,[0]!RAYON,0)) -> 9 | C6: =INDEX([0]!CATTC,MATCH('TABLEAU MARGE'!A6,[0]!RAYON,0)) -> 160 | D6: =INDEX([0]!MARGE,MATCH('TABLEAU MARGE'!A6,[0]!RAYON,0)) -> 60 | E6: =INDEX([0]!POURCENT,MATCH('TABLEAU MARGE'!A6,[0]!RAYON,0)) -> 4
A7: 1118 BISCOTTES & PAINS GRILLES | B7: =INDEX([0]!QTE,MATCH('TABLEAU MARGE'!A7,[0]!RAYON,0)) -> 6 | C7: =INDEX([0]!CATTC,MATCH('TABLEAU MARGE'!A7,[0]!RAYON,0)) -> 180 | D7: =INDEX([0]!MARGE,MATCH('TABLEAU MARGE'!A7,[0]!RAYON,0)) -> 8 | E7: =INDEX([0]!POURCENT,MATCH('TABLEAU MARGE'!A7,[0]!RAYON,0)) -> 5
A8: 1120 PATISSERIE & VIENOIS. INDU | B8: =IF(INDEX([0]!QTE,MATCH('TABLEAU MARGE'!A8,[0]!RAYON,0)),"",INDEX([0]!QTE,MATCH('TABLEAU MARGE'!A8,[0]!RAYON,0))) -> #N/A | C8: =INDEX([0]!CATTC,MATCH('TABLEAU MARGE'!A8,[0]!RAYON,0)) -> #N/A | D8: =INDEX([0]!MARGE,MATCH('TABLEAU MARGE'!A8,[0]!RAYON,0)) -> #N/A | E8: =INDEX([0]!POURCENT,MATCH('TABLEAU MARGE'!A8,[0]!RAYON,0)) -> #N/A
A9: 1122 PETIT DEJ. POUDRE DE LAIT | B9: =INDEX([0]!QTE,MATCH('TABLEAU MARGE'!A9,[0]!RAYON,0)) -> 8 | C9: =INDEX([0]!CATTC,MATCH('TABLEAU MARGE'!A9,[0]!RAYON,0)) -> 100 | D9: =INDEX([0]!MARGE,MATCH('TABLEAU MARGE'!A9,[0]!RAYON,0)) -> 5 | E9: =INDEX([0]!POURCENT,MATCH('TABLEAU MARGE'!A9,[0]!RAYON,0)) -> 6
A10: 1124 SUCRES | B10: =INDEX([0]!QTE,MATCH('TABLEAU MARGE'!A10,[0]!RAYON,0)) -> 7 | C10: =INDEX([0]!CATTC,MATCH('TABLEAU MARGE'!A10,[0]!RAYON,0)) -> 102 | D10: =INDEX([0]!MARGE,MATCH('TABLEAU MARGE'!A10,[0]!RAYON,0)) -> 21 | E10: =INDEX([0]!POURCENT,MATCH('TABLEAU MARGE'!A10,[0]!RAYON,0)) -> 7
A11: 1126 CAFES THES & INFUSIONS | B11: =INDEX([0]!QTE,MATCH('TABLEAU MARGE'!A11,[0]!RAYON,0)) -> 9 | C11: =INDEX([0]!CATTC,MATCH('TABLEAU MARGE'!A11,[0]!RAYON,0)) -> 320 | D11: =INDEX([0]!MARGE,MATCH('TABLEAU MARGE'!A11,[0]!RAYON,0)) -> 30 | E11: =INDEX([0]!POURCENT,MATCH('TABLEAU MARGE'!A11,[0]!RAYON,0)) -> 8
A12: 1128 CEREALES | B12: =INDEX([0]!QTE,MATCH('TABLEAU MARGE'!A12,[0]!RAYON,0)) -> 6 | C12: =INDEX([0]!CATTC,MATCH('TABLEAU MARGE'!A12,[0]!RAYON,0)) -> 580 | D12: =INDEX([0]!MARGE,MATCH('TABLEAU MARGE'!A12,[0]!RAYON,0)) -> 20 | E12: =INDEX([0]!POURCENT,MATCH('TABLEAU MARGE'!A12,[0]!RAYON,0)) -> 9
A13: 1130 BISCUITS APERITIFS & CHIPS | B13: =INDEX([0]!QTE,MATCH('TABLEAU MARGE'!A13,[0]!RAYON,0)) -> #N/A | C13: =INDEX([0]!CATTC,MATCH('TABLEAU MARGE'!A13,[0]!RAYON,0)) -> #N/A | D13: =INDEX([0]!MARGE,MATCH('TABLEAU MARGE'!A13,[0]!RAYON,0)) -> #N/A | E13: =INDEX([0]!POURCENT,MATCH('TABLEAU MARGE'!A13,[0]!RAYON,0)) -> #N/A
A14: 1132 DESSERTS CONFITURES MIEL | B14: =INDEX([0]!QTE,MATCH('TABLEAU MARGE'!A14,[0]!RAYON,0)) -> 3 | C14: =INDEX([0]!CATTC,MATCH('TABLEAU MARGE'!A14,[0]!RAYON,0)) -> 100 | D14: =INDEX([0]!MARGE,MATCH('TABLEAU MARGE'!A14,[0]!RAYON,0)) -> 90 | E14: =INDEX([0]!POURCENT,MATCH('TABLEAU MARGE'!A14,[0]!RAYON,0)) -> 10
A15: 1148 BIO & EQUITABLE | B15: =INDEX([0]!QTE,MATCH('TABLEAU MARGE'!A15,[0]!RAYON,0)) -> 1 | C15: =INDEX([0]!CATTC,MATCH('TABLEAU MARGE'!A15,[0]!RAYON,0)) -> 900 | D15: =INDEX([0]!MARGE,MATCH('TABLEAU MARGE'!A15,[0]!RAYON,0)) -> 80 | E15: =INDEX([0]!POURCENT,MATCH('TABLEAU MARGE'!A15,[0]!RAYON,0)) -> 11
A16: * TOTAL 01 EPICERIE SUCREE | B16: =SUM(B3:B15) -> #N/A | C16: =SUM(C3:C15) -> #N/A | D16: =SUM(D3:D15) -> #N/A | E16: =SUM(E3:E15) -> #N/A

Sheet EXPORT
A1: R A Y O N C A I S S E | B1: QTE | C1: CA TTC | D1: Marge globale | E1: %
A2: 1110 PRODUITS MATERNISES | B2: 3 | C2: 100 | D2: 23 | E2: 1
A3: 1112 SAISONNIERS (chocolats) | B3: 5 | C3: 120 | D3: 12 | E3: 2
A4: 1114 CHOCOLATS TAB. CONFISERIE | B4: 8 | C4: 150 | D4: 30 | E4: 3
A5: 1116 GATEAUX & BISCUITS | B5: 9 | C5: 160 | D5: 60 | E5: 4
A6: 1118 BISCOTTES & PAINS GRILLES | B6: 6 | C6: 180 | D6: 8 | E6: 5
A7: 1122 PETIT DEJ. POUDRE DE LAIT | B7: 8 | C7: 100 | D7: 5 | E7: 6
A8: 1124 SUCRES | B8: 7 | C8: 102 | D8: 21 | E8: 7
A9: 1126 CAFES THES & INFUSIONS | B9: 9 | C9: 320 | D9: 30 | E9: 8
A10: 1128 CEREALES | B10: 6 | C10: 580 | D10: 20 | E10: 9
A11: 1132 DESSERTS CONFITURES MIEL | B11: 3 | C11: 100 | D11: 90 | E11: 10
A12: 1148 BIO & EQUITABLE | B12: 1 | C12: 900 | D12: 80 | E12: 11
