Workbook
Name \0: #REF!
Name \B: #REF!
Name \C: #REF!
Name \D: #REF!
Name \F: #REF!
Name \X: #REF!
Name CASE: #REF!
Name CELLULE: #REF!
Name CHOIX: #REF!
Name CODE: #REF!
Name COMP: #REF!
Name COMPAGNIE: #REF!
Name COMPTEUR: #REF!
Name INIT: #REF!
Name ME: #REF!
Name MODIF: #REF!
Name MOIS: #REF!
Name PARAM: #REF!
Name SOC: #REF!
Name SOCIE: #REF!
Name SOCIES: #REF!
Name STRCASE: #REF!
Name TABLEAU: #REF!
Name TABLUT: #REF!

Sheet Reserves
A1: 0.89
C3: 1989 | D3: 1990 | E3: 1991 | F3: 1992 | G3: 1993 | H3: 1994 | I3: 1995 | J3: 1996 | K3: 1997 | L3: 1998 | M3: 1999 | N3: 2000 | O3: 2001 | P3: 2002 | Q3: 2003 | R3: 2004 | S3: 2005 | T3: 2006 | U3: 2007 | V3: 2008 | W3: 2009 | X3: 2010 | Y3: 2011 | Z3: 2012 | AA3: 2013 | AB3: 2014 | AC3: 2015 | AD3: 2016 | AE3: 2017 | AF3: 2018 | AG3: 2019 | AH3: 2020 | AI3: 2021 | AJ3: 2022 | AK3: 2023 | AL3: 2024 | AM3: 2025 | AN3: 2026 | AO3: 2027 | AP3: 2028 | AQ3: 2029 | AR3: 2030
A4: 1 | B4: 1989
A5: 2 | B5: 1989
A6: 3 | B6: 1989
A7: 4 | B7: 1989
A8: 5 | B8: 1989
A9: 6 | B9: 1989
A10: 7 | B10: 1989
A11: 8 | B11: 1989
A12: 9 | B12: 1989
A13: 10 | B13: 1989
A14: 11 | B14: 1989
A15: 12 | B15: 1989
... A134: 11 | B134: 1999
A135: 12 | B135: 1999 | C135: 17506.182 | D135: 1892.1226 | E135: 2907.3067 | F135: 4450.073 | G135: 7301.7324 | H135: 8342.0569 | I135: 12399.056 | J135: 10087.223 | K135: 26227.663 | L135: 23078.105 | M135: 17330.871 | N135: 0 | O135: 0 | P135: 0 | Q135: 0 | R135: 0 | S135: 0 | T135: 0 | U135: 0 | V135: 0 | W135: 0 | X135: 0 | Y135: 0 | Z135: 0 | AA135: 0 | AB135: 0 | AC135: 0 | AD135: 0 | AE135: 0 | AF135: 0 | AG135: 0 | AH135: 0 | AI135: 0 | AJ135: 0 | AK135: 0 | AL135: 0 | AM135: 0 | AN135: 0 | AO135: 0 | AP135: 0 | AQ135: 0 | AR135: 0
A136: 1 | B136: 2000 | C136: 17632.451 | D136: 1759.9984 | E136: 3336.8377 | F136: 4360.582 | G136: 7937.0686 | H136: 8281.522 | I136: 11798.741 | J136: 9889.8386 | K136: 26372.01 | L136: 23708.961 | M136: 17398.662 | N136: 0 | O136: 0 | P136: 0 | Q136: 0 | R136: 0 | S136: 0 | T136: 0 | U136: 0 | V136: 0 | W136: 0 | X136: 0 | Y136: 0 | Z136: 0 | AA136: 0 | AB136: 0 | AC136: 0 | AD136: 0 | AE136: 0 | AF136: 0 | AG136: 0 | AH136: 0 | AI136: 0 | AJ136: 0 | AK136: 0 | AL136: 0 | AM136: 0 | AN136: 0 | AO136: 0 | AP136: 0 | AQ136: 0 | AR136: 0
A137: 2 | B137: 2000 | C137: 17588.602 | D137: 1759.9984 | E137: 3304.5624 | F137: 4329.5313 | G137: 7742.1454 | H137: 8293.3662 | I137: 11629.625 | J137: 8930.7071 | K137: 26238.744 | L137: 23711.632 | M137: 18594.046 | N137: 128.28508 | O137: 0 | P137: 0 | Q137: 0 | R137: 0 | S137: 0 | T137: 0 | U137: 0 | V137: 0 | W137: 0 | X137: 0 | Y137: 0 | Z137: 0 | AA137: 0 | AB137: 0 | AC137: 0 | AD137: 0 | AE137: 0 | AF137: 0 | AG137: 0 | AH137: 0 | AI137: 0 | AJ137: 0 | AK137: 0 | AL137: 0 | AM137: 0 | AN137: 0 | AO137: 0 | AP137: 0 | AQ137: 0 | AR137: 0
A138: 3 | B138: 2000 | C138: 17068.715 | D138: 1704.4855 | E138: 3193.6406 | F138: 4325.1643 | G138: 6985.8112 | H138: 9052.3704 | I138: 11569.991 | J138: 8740.7958 | K138: 25853.931 | L138: 24141.618 | M138: 19178.422 | N138: 1741.182 | O138: 0 | P138: 0 | Q138: 0 | R138: 0 | S138: 0 | T138: 0 | U138: 0 | V138: 0 | W138: 0 | X138: 0 | Y138: 0 | Z138: 0 | AA138: 0 | AB138: 0 | AC138: 0 | AD138: 0 | AE138: 0 | AF138: 0 | AG138: 0 | AH138: 0 | AI138: 0 | AJ138: 0 | AK138: 0 | AL138: 0 | AM138: 0 | AN138: 0 | AO138: 0 | AP138: 0 | AQ138: 0 | AR138: 0
A139: 4 | B139: 2000 | C139: 17063.392 | D139: 1691.4011 | E139: 3194.6794 | F139: 4334.1093 | G139: 7231.406 | H139: 8899.4366 | I139: 11802.822 | J139: 11279.216 | K139: 25934.69 | L139: 24353.848 | M139: 21274.949 | N139: 2184.712 | O139: 0 | P139: 0 | Q139: 0 | R139: 0 | S139: 0 | T139: 0 | U139: 0 | V139: 0 | W139: 0 | X139: 0 | Y139: 0 | Z139: 0 | AA139: 0 | AB139: 0 | AC139: 0 | AD139: 0 | AE139: 0 | AF139: 0 | AG139: 0 | AH139: 0 | AI139: 0 | AJ139: 0 | AK139: 0 | AL139: 0 | AM139: 0 | AN139: 0 | AO139: 0 | AP139: 0 | AQ139: 0 | AR139: 0
A140: 5 | B140: 2000 | C140: 16916.987 | D140: 1675.7821 | E140: 3175.5828 | F140: 4335.429 | G140: 6518.8167 | H140: 8768.4694 | I140: 12217.188 | J140: 11856.677 | K140: 25259.615 | L140: 23702.996 | M140: 20972.589 | N140: 4874.527 | O140: 0 | P140: 0 | Q140: 0 | R140: 0 | S140: 0 | T140: 0 | U140: 0 | V140: 0 | W140: 0 | X140: 0 | Y140: 0 | Z140: 0 | AA140: 0 | AB140: 0 | AC140: 0 | AD140: 0 | AE140: 0 | AF140: 0 | AG140: 0 | AH140: 0 | AI140: 0 | AJ140: 0 | AK140: 0 | AL140: 0 | AM140: 0 | AN140: 0 | AO140: 0 | AP140: 0 | AQ140: 0 | AR140: 0
A141: 6 | B141: 2000 | C141: 16774.006 | D141: 1677.267 | E141: 3117.3388 | F141: 4164.8236 | G141: 6349.694 | H141: 8775.9711 | I141: 11687.727 | J141: 11837.657 | K141: 25233.424 | L141: 24336.075 | M141: 20794.702 | N141: 9116.0248 | O141: 0 | P141: 0 | Q141: 0 | R141: 0 | S141: 0 | T141: 0 | U141: 0 | V141: 0 | W141: 0 | X141: 0 | Y141: 0 | Z141: 0 | AA141: 0 | AB141: 0 | AC141: 0 | AD141: 0 | AE141: 0 | AF141: 0 | AG141: 0 | AH141: 0 | AI141: 0 | AJ141: 0 | AK141: 0 | AL141: 0 | AM141: 0 | AN141: 0 | AO141: 0 | AP141: 0 | AQ141: 0 | AR141: 0
A142: 7 | B142: 2000 | C142: 17333.282 | D142: 1599.23 | E142: 3117.3388 | F142: 4022.8694 | G142: 6184.9763 | H142: 8542.2647 | I142: 11743.128 | J142: 11695.143 | K142: 25440.998 | L142: 23972.054 | M142: 22244.428 | N142: 11025.849 | O142: 0 | P142: 0 | Q142: 0 | R142: 0 | S142: 0 | T142: 0 | U142: 0 | V142: 0 | W142: 0 | X142: 0 | Y142: 0 | Z142: 0 | AA142: 0 | AB142: 0 | AC142: 0 | AD142: 0 | AE142: 0 | AF142: 0 | AG142: 0 | AH142: 0 | AI142: 0 | AJ142: 0 | AK142: 0 | AL142: 0 | AM142: 0 | AN142: 0 | AO142: 0 | AP142: 0 | AQ142: 0 | AR142: 0
A143: 8 | B143: 2000 | C143: 17218.868 | D143: 1579.5934 | E143: 3089.8293 | F143: 4005.1972 | G143: 6094.4256 | H143: 8734.543 | I143: 11742.8 | J143: 11280.486 | K143: 26020.058 | L143: 24045.251 | M143: 22210.65 | N143: 13232.135 | O143: 0 | P143: 0 | Q143: 0 | R143: 0 | S143: 0 | T143: 0 | U143: 0 | V143: 0 | W143: 0 | X143: 0 | Y143: 0 | Z143: 0 | AA143: 0 | AB143: 0 | AC143: 0 | AD143: 0 | AE143: 0 | AF143: 0 | AG143: 0 | AH143: 0 | AI143: 0 | AJ143: 0 | AK143: 0 | AL143: 0 | AM143: 0 | AN143: 0 | AO143: 0 | AP143: 0 | AQ143: 0 | AR143: 0
A144: 9 | B144: 2000 | C144: 17232.167 | D144: 1617.4892 | E144: 3087.8035 | F144: 3994.4954 | G144: 6076.976 | H144: 8842.0572 | I144: 11656.319 | J144: 11061.703 | K144: 25851.677 | L144: 24654.165 | M144: 22702.067 | N144: 9595.9888 | O144: 0 | P144: 0 | Q144: 0 | R144: 0 | S144: 0 | T144: 0 | U144: 0 | V144: 0 | W144: 0 | X144: 0 | Y144: 0 | Z144: 0 | AA144: 0 | AB144: 0 | AC144: 0 | AD144: 0 | AE144: 0 | AF144: 0 | AG144: 0 | AH144: 0 | AI144: 0 | AJ144: 0 | AK144: 0 | AL144: 0 | AM144: 0 | AN144: 0 | AO144: 0 | AP144: 0 | AQ144: 0 | AR144: 0
A145: 10 | B145: 2000 | C145: 17247.697 | D145: 1878.3064 | E145: 3107.8264 | F145: 4014.6063 | G145: 4998.3491 | H145: 8031.5914 | I145: 11526.162 | J145: 10955.613 | K145: 25502.569 | L145: 25342.785 | M145: 24631.619 | N145: 13691.962 | O145: 0 | P145: 0 | Q145: 0 | R145: 0 | S145: 0 | T145: 0 | U145: 0 | V145: 0 | W145: 0 | X145: 0 | Y145: 0 | Z145: 0 | AA145: 0 | AB145: 0 | AC145: 0 | AD145: 0 | AE145: 0 | AF145: 0 | AG145: 0 | AH145: 0 | AI145: 0 | AJ145: 0 | AK145: 0 | AL145: 0 | AM145: 0 | AN145: 0 | AO145: 0 | AP145: 0 | AQ145: 0 | AR145: 0
A146: 11 | B146: 2000 | C146: 16963.937 | D146: 1610.9558 | E146: 2841.8785 | F146: 4003.7485 | G146: 4992.8346 | H146: 8149.1107 | I146: 10766.312 | J146: 10832.3 | K146: 25287.43 | L146: 26087.675 | M146: 25617.171 | N146: 15050.806 | O146: 0 | P146: 0 | Q146: 0 | R146: 0 | S146: 0 | T146: 0 | U146: 0 | V146: 0 | W146: 0 | X146: 0 | Y146: 0 | Z146: 0 | AA146: 0 | AB146: 0 | AC146: 0 | AD146: 0 | AE146: 0 | AF146: 0 | AG146: 0 | AH146: 0 | AI146: 0 | AJ146: 0 | AK146: 0 | AL146: 0 | AM146: 0 | AN146: 0 | AO146: 0 | AP146: 0 | AQ146: 0 | AR146: 0
... A351: 12 | B351: 2017 | C351: 6017.8439 | D351: 255.04618 | E351: 527.37301 | F351: 2.1733266 | G351: 697.54048 | H351: 5.65603 | I351: 1610.9566 | J351: 0.2597902 | K351: 839.00396 | L351: 2084.6369 | M351: 8209.8245 | N351: 925.80231 | O351: 4444.2417 | P351: 1119.6298 | Q351: 789.7037 | R351: 1905.2901 | S351: 6332.3014 | T351: 4781.925 | U351: 8350.189 | V351: 8523.9206 | W351: 9795.6932 | X351: 19817.332 | Y351: 25158.891 | Z351: 27583.022 | AA351: 39867.486 | AB351: 48036.379 | AC351: 56949.462 | AD351: 31631.33 | AE351: 23250.484 | AF351: 0 | AG351: 0 | AH351: 0 | AI351: 0 | AJ351: 0 | AK351: 0 | AL351: 0 | AM351: 0 | AN351: 0 | AO351: 0 | AP351: 0 | AQ351: 0 | AR351: 0
A352: 1 | B352: 2018
A353: 2 | B353: 2018
A354: 3 | B354: 2018
A355: 4 | B355: 2018
A356: 5 | B356: 2018
A357: 6 | B357: 2018
A358: 7 | B358: 2018
A359: 8 | B359: 2018
A360: 9 | B360: 2018
A361: 10 | B361: 2018
A362: 11 | B362: 2018
A363: 12 | B363: 2018
...

Sheet Auto RC Corp-Graves
A2: Vision | I2: Réserves
B3: 2003 et ant | C3: 2004 | D3: 2005 | E3: 2006 | F3: 2007 | G3: 2008 | H3: 2009 | I3: 2010 | J3: 2011 | K3: 2012 | L3: 2013 | M3: 2014 | N3: 2015 | O3: 2016 | P3: 2017
A4: N | B4: 146940.94 | C4: 3773.2067 | D4: 5215.1566 | E4: 5124.5562 | F4: 9564.9043 | G4: 8440.5096 | H4: 1674.639 | I4: 7239.7146 | J4: 1862.9154 | K4: 7747.9631 | L4: 6790.2298 | M4: 9551.2533 | N4: 7993.1489 | O4: 5915.0615 | P4: 6533.4438
A5: N+1 | B5: 159618.29 | C5: 16855.708 | D5: 25630.013 | E5: 27614.396 | F5: 26060.116 | G5: 24400.36 | H5: 12645.113 | I5: 25085.455 | J5: 37482.12 | K5: 37042.029 | L5: 34005.091 | M5: 45309.465 | N5: 58904.439 | O5: 30311.715
A6: N+2 | B6: 138979.82 | C6: 17784.826 | D6: 30443.466 | E6: 26454.495 | F6: 31520.314 | G6: 23099.338 | H6: 13891.49 | I6: 31098.642 | J6: 37883.104 | K6: 35815.794 | L6: 43389.17 | M6: 57066.126 | N6: 59664.075
A7: N+3 | B7: 120892.82 | C7: 14350.348 | D7: 26970.053 | E7: 24021.284 | F7: 34379.866 | G7: 20837.161 | H7: 16863.97 | I7: 31272.502 | J7: 32601.867 | K7: 32798.83 | L7: 45798.994 | M7: 51717.091
A8: N+4 | B8: 99982.706 | C8: 13248.032 | D8: 22448.986 | E8: 22965.159 | F8: 29011.727 | G8: 18275.417 | H8: 15721.702 | I8: 25670.682 | J8: 31351.077 | K8: 31937.105 | L8: 42260.72
A9: N+5 | B9: 83740.415 | C9: 11982.893 | D9: 17310.169 | E9: 20721.498 | F9: 22048.195 | G9: 13083.868 | H9: 12999.501 | I9: 24192.943 | J9: 29221.096 | K9: 25459.09
A10: N+6 | B10: 64366.945 | C10: 10762.905 | D10: 13404.102 | E10: 15533.081 | F10: 16693.893 | G10: 11271.527 | H10: 12033.002 | I10: 20742.657 | J10: 25487.044
A11: N+7 | B11: 50942.354 | C11: 8799.6578 | D11: 14077.008 | E11: 8790.2559 | F11: 14722.789 | G11: 10966.977 | H11: 11632.598 | I11: 20491.964
A12: N+8 | B12: 42266.931 | C12: 6644.5668 | D12: 12666.893 | E12: 9643.525 | F12: 12245.849 | G12: 9373.7095 | H12: 10703.142
A13: N+9 | B13: 39242.049 | C13: 5628.7095 | D13: 13182.885 | E13: 7211.4707 | F13: 10140.981 | G13: 8430.0007
A14: N+10 | B14: 40708.062 | C14: 4926.2183 | D14: 10698.66 | E14: 5774.3495 | F14: 9320.5299
A15: N+11 | B15: 39801.88 | C15: 4163.6777 | D15: 8537.2028 | E15: 4148.8744
A16: N+12 | B16: 36112.357 | C16: 3390.176 | D16: 5128.2184
A17: N+13 | B17: 32194.743 | C17: 1889.0399
A18: N+14 | B18: 28827.939

Sheet Fichier de travail
B1: Reserve | C1: Auto RC Corp-graves | H1: 9 | I1: 2017
A2: 2017 | B2: =INDEX(Reserves!$C$4:$AR$507,MATCH($I$1,Reserves!$B$4:$B$507,0)+$H$1-1,MATCH(A2,Reserves!$C$3:$AR$3,0)) -> 7231.2512 | C2: =LOOKUP(9^9,OFFSET('Auto RC Corp-Graves'!$B$4:$B$18,,MATCH(A2,'Auto RC Corp-Graves'!$C$3:$P$3,0))) -> 6533.4438
A3: 2016 | B3: =INDEX(Reserves!$C$4:$AR$507,MATCH($I$1,Reserves!$B$4:$B$507,0)+$H$1-1,MATCH(A3,Reserves!$C$3:$AR$3,0)) -> 29815.751 | C3: =LOOKUP(9^9,OFFSET('Auto RC Corp-Graves'!$B$4:$B$18,,MATCH(A3,'Auto RC Corp-Graves'!$C$3:$P$3,0))) -> 30311.715
A4: 2015 | B4: =INDEX(Reserves!$C$4:$AR$507,MATCH($I$1,Reserves!$B$4:$B$507,0)+$H$1-1,MATCH(A4,Reserves!$C$3:$AR$3,0)) -> 59657.36 | C4: =LOOKUP(9^9,OFFSET('Auto RC Corp-Graves'!$B$4:$B$18,,MATCH(A4,'Auto RC Corp-Graves'!$C$3:$P$3,0))) -> 59664.075
A5: 2014 | B5: =INDEX(Reserves!$C$4:$AR$507,MATCH($I$1,Reserves!$B$4:$B$507,0)+$H$1-1,MATCH(A5,Reserves!$C$3:$AR$3,0)) -> 52083.741 | C5: =LOOKUP(9^9,OFFSET('Auto RC Corp-Graves'!$B$4:$B$18,,MATCH(A5,'Auto RC Corp-Graves'!$C$3:$P$3,0))) -> 51717.091
A6: 2013 | B6: =INDEX(Reserves!$C$4:$AR$507,MATCH($I$1,Reserves!$B$4:$B$507,0)+$H$1-1,MATCH(A6,Reserves!$C$3:$AR$3,0)) -> 41945.548 | C6: =LOOKUP(9^9,OFFSET('Auto RC Corp-Graves'!$B$4:$B$18,,MATCH(A6,'Auto RC Corp-Graves'!$C$3:$P$3,0))) -> 42260.72
A7: 2012 | B7: =INDEX(Reserves!$C$4:$AR$507,MATCH($I$1,Reserves!$B$4:$B$507,0)+$H$1-1,MATCH(A7,Reserves!$C$3:$AR$3,0)) -> 25184.17 | C7: =LOOKUP(9^9,OFFSET('Auto RC Corp-Graves'!$B$4:$B$18,,MATCH(A7,'Auto RC Corp-Graves'!$C$3:$P$3,0))) -> 25459.09
A8: 2011 | B8: =INDEX(Reserves!$C$4:$AR$507,MATCH($I$1,Reserves!$B$4:$B$507,0)+$H$1-1,MATCH(A8,Reserves!$C$3:$AR$3,0)) -> 25511.852 | C8: =LOOKUP(9^9,OFFSET('Auto RC Corp-Graves'!$B$4:$B$18,,MATCH(A8,'Auto RC Corp-Graves'!$C$3:$P$3,0))) -> 25487.044
A9: 2010 | B9: =INDEX(Reserves!$C$4:$AR$507,MATCH($I$1,Reserves!$B$4:$B$507,0)+$H$1-1,MATCH(A9,Reserves!$C$3:$AR$3,0)) -> 20488.565 | C9: =LOOKUP(9^9,OFFSET('Auto RC Corp-Graves'!$B$4:$B$18,,MATCH(A9,'Auto RC Corp-Graves'!$C$3:$P$3,0))) -> 20491.964
A10: 2009 | B10: =INDEX(Reserves!$C$4:$AR$507,MATCH($I$1,Reserves!$B$4:$B$507,0)+$H$1-1,MATCH(A10,Reserves!$C$3:$AR$3,0)) -> 11187.501 | C10: =LOOKUP(9^9,OFFSET('Auto RC Corp-Graves'!$B$4:$B$18,,MATCH(A10,'Auto RC Corp-Graves'!$C$3:$P$3,0))) -> 10703.142
A11: 2008 | B11: =INDEX(Reserves!$C$4:$AR$507,MATCH($I$1,Reserves!$B$4:$B$507,0)+$H$1-1,MATCH(A11,Reserves!$C$3:$AR$3,0)) -> 8457.3436 | C11: =LOOKUP(9^9,OFFSET('Auto RC Corp-Graves'!$B$4:$B$18,,MATCH(A11,'Auto RC Corp-Graves'!$C$3:$P$3,0))) -> 8430.0007
A12: 2007 | B12: =INDEX(Reserves!$C$4:$AR$507,MATCH($I$1,Reserves!$B$4:$B$507,0)+$H$1-1,MATCH(A12,Reserves!$C$3:$AR$3,0)) -> 9313.1496 | C12: =LOOKUP(9^9,OFFSET('Auto RC Corp-Graves'!$B$4:$B$18,,MATCH(A12,'Auto RC Corp-Graves'!$C$3:$P$3,0))) -> 9320.5299
A13: 2006 | B13: =INDEX(Reserves!$C$4:$AR$507,MATCH($I$1,Reserves!$B$4:$B$507,0)+$H$1-1,MATCH(A13,Reserves!$C$3:$AR$3,0)) -> 4167.4274 | C13: =LOOKUP(9^9,OFFSET('Auto RC Corp-Graves'!$B$4:$B$18,,MATCH(A13,'Auto RC Corp-Graves'!$C$3:$P$3,0))) -> 4148.8744
... A15: 2004 | B15: =INDEX(Reserves!$C$4:$AR$507,MATCH($I$1,Reserves!$B$4:$B$507,0)+$H$1-1,MATCH(A15,Reserves!$C$3:$AR$3,0)) -> 1890.0958 | C15: =LOOKUP(9^9,OFFSET('Auto RC Corp-Graves'!$B$4:$B$18,,MATCH(A15,'Auto RC Corp-Graves'!$C$3:$P$3,0))) -> 1889.0399
